Workbook

Sheet FDLSUBA-SA-MC-004-2025 1 al 13
C1: VERIFICACIÓN FINANCIERA Y CAPACIDAD ORGANIZACIONAL | U1: Código: GCO-GCI-F107 Versión: 03 Vigencia: 21 de diciembre de 2022 Caso HOLA: 282943
B6: SELECCIÓN ABREVIADA DE MENOR CUANTÍA FDLSUBA-SA-MC-004-2025 (133182)
B7: OBJETO: "PRESTAR SERVICIOS DE APOYO LOGÍSTICOS PARA LA REALIZACIÓN DE EVENTOS Y ACTIVIDADES QUE PROMUEVAN EL DESARROLLO ECONÓMICO QUE REQUIERA LA ALCALDÍA LOCAL DE SUBA EN EL MARCO DEL CUMPLIMIENTO DEL PLAN DE DESARROLLO LOCAL"
B8: CONCEPTO | C8: 4 CUARTOS SAS NIT: 830105695 1 | D8: CESAR AUGUSTO CALDERON RODRIGUEZ NIT: 1022323197 1 | E8: INNOVATIVE PROJECTS S A S NIT: 900803347 1 | F8: UT IPRO SWAT EVENTS | G8: INVERSIONES C F S S A S NIT: 900508201 0 | H8: CONSULTORES Y ASESORES TIC SAS NIT: 901360556 5 | I8: ORGANIZACIÓN SANANDANTE S.A.S NIT: 900209160 4 | J8: ORGANIZACION IGP SAS NIT: 900777884 3 | K8: UT SANIG SUBA 2025 | L8: FUNDACIÓN G3 NIT 900.843.188-8 | M8: SINERGY ON SAS NIT 900.890.436-1 | N8: CONSORCIO INTEGRAL G3 SINERGY | O8: SOA PROJECTS AND EVENTS SAS NIT: 901827332 9 | P8: DSV COMPANY SAS NIT: 900456900 6 | Q8: FUNXI NIT: 830123782 0 | R8: FUNDESCO NIT: 830133329 1 | S8: PEOPLE SECURITY SAS NIT: 900810120 6 | T8: MERCADEO EFECTIVO S A S NIT: 830135377 2 | U8: ALVAREZ FUENTES ANA LUCIA NIT:50891527-3 | W8: Datos para validación financiera
C9: 1 | D9: A | E9: B | F9: =+C9+1 -> 2 | G9: =+F9+1 -> 3 | H9: =+G9+1 -> 4 | I9: A | J9: B | K9: =+H9+1 -> 5 | L9: A | M9: B | N9: =+K9+1 -> 6 | O9: =+N9+1 -> 7 | P9: =+O9+1 -> 8 | Q9: =+P9+1 -> 9 | R9: =+Q9+1 -> 10 | S9: =+R9+1 -> 11 | T9: =+S9+1 -> 12 | U9: =+T9+1 -> 13
B10: BALANCE GENERAL CON CORTE A 31 DE DICIEMBRE DEL AÑO: 2024 | C10: 31-DIC.-2024 RUP | D10: 31-DIC.-2024 RUP | E10: 31-DIC.-2024 RUP | G10: 31-DIC.-2024 RUP | H10: 31-DIC.-2024 RUP | I10: 31-DIC.-2024 RUP | J10: 31-DIC.-2024 RUP | L10: 31-DIC.-2024 RUP | M10: 31-DIC.-2024 RUP | O10: 31-DIC.-2024 RUP | P10: 31-DIC.-2024 RUP | Q10: 31-DIC.-2024 RUP | R10: 31-DIC.-2024 RUP | S10: 31-DIC.-2024 RUP | T10: 31-DIC.-2024 RUP | U10: 31-DIC.-2024 RUP
B11: PRESENTACIÓN DE RUP VIGENTE | C11: =IF(C73<=$B$74,"VIGENTE","NO VIGENTE") -> VIGENTE | D11: =IF(D73<=$B$74,"VIGENTE","NO VIGENTE") -> VIGENTE | E11: =IF(E73<=$B$74,"VIGENTE","NO VIGENTE") -> VIGENTE | G11: =IF(G73<=$B$74,"VIGENTE","NO VIGENTE") -> VIGENTE | H11: =IF(H73<=$B$74,"VIGENTE","NO VIGENTE") -> VIGENTE | I11: =IF(I73<=$B$74,"VIGENTE","NO VIGENTE") -> VIGENTE | J11: =IF(J73<=$B$74,"VIGENTE","NO VIGENTE") -> VIGENTE | L11: =IF(L73<=$B$74,"VIGENTE","NO VIGENTE") -> VIGENTE | M11: =IF(M73<=$B$74,"VIGENTE","NO VIGENTE") -> VIGENTE | O11: =IF(O73<=$B$74,"VIGENTE","NO VIGENTE") -> VIGENTE | P11: =IF(P73<=$B$74,"VIGENTE","NO VIGENTE") -> VIGENTE | Q11: =IF(Q73<=$B$74,"VIGENTE","NO VIGENTE") -> VIGENTE | R11: =IF(R73<=$B$74,"VIGENTE","NO VIGENTE") -> VIGENTE | S11: =IF(S73<=$B$74,"VIGENTE","NO VIGENTE") -> VIGENTE | T11: =IF(T73<=$B$74,"VIGENTE","NO VIGENTE") -> VIGENTE | U11: =IF(U73<=$B$74,"VIGENTE","NO VIGENTE") -> VIGENTE
B12: INFORMACION TOMADA DEL RUP VIGENTE | C12: 1 | D12: 0.6 | E12: 0.4 | F12: =SUM(D12:E12) -> 1 | G12: 1 | H12: 1 | I12: 0.5 | J12: 0.5 | K12: =SUM(I12:J12) -> 1 | L12: 0.6 | M12: 0.4 | N12: =SUM(L12:M12) -> 1 | O12: 1 | P12: 1 | Q12: 1 | R12: 1 | S12: 1 | T12: 1 | U12: 1
B13: ACTIVO CORRIENTE | C13: 1319789743 | D13: 588156837 | E13: 573862444 | F13: =SUM((D13*D$12),(E13*E$12)) -> 5.8243908e+08 | G13: 1028580671 | H13: 1800753000 | I13: 2368044212 | J13: 107124093 | K13: =SUM((I13*I$12),(J13*J$12)) -> 1.2375842e+09 | L13: 1012028211 | M13: 87402145 | N13: =SUM((L13*L$12),(M13*M$12)) -> 6.4217778e+08 | O13: 761081000 | P13: 396731479 | Q13: 1459182877 | R13: 18702182000 | S13: 1407588552 | T13: 21349158101 | U13: 2860723187
B14: PASIVO CORRIENTE | C14: 18051100 | D14: 30736045 | E14: 41528399 | F14: =SUM((D14*D$12),(E14*E$12)) -> 35052987 | G14: 42111900 | H14: 137254000 | I14: 753172141 | J14: 6468542 | K14: =SUM((I14*I$12),(J14*J$12)) -> 3.7982034e+08 | L14: 322068748 | M14: 9554816 | N14: =SUM((L14*L$12),(M14*M$12)) -> 1.9706318e+08 | O14: 97513000 | P14: 96074061 | Q14: 40804334 | R14: 372376000 | S14: 406635678 | T14: 9005910594 | U14: 76322092
B15: ACTIVO TOTAL | C15: 1807244753 | D15: 1145061868 | E15: 613862444 | F15: =SUM((D15*D$12),(E15*E$12)) -> 9.325821e+08 | G15: 2307068176 | H15: 2171344000 | I15: 2615488582 | J15: 114558741 | K15: =SUM((I15*I$12),(J15*J$12)) -> 1.3650237e+09 | L15: 1148081739 | M15: 87471917 | N15: =SUM((L15*L$12),(M15*M$12)) -> 7.2383781e+08 | O15: 797175000 | P15: 551817794 | Q15: 1872933357 | R15: 18839678000 | S15: 1531238761 | T15: 23754746101 | U15: 3021122987
B16: PASIVO TOTAL | C16: 284142652 | D16: 99452921 | E16: 104528399 | F16: =SUM((D16*D$12),(E16*E$12)) -> 1.0148311e+08 | G16: 662513177 | H16: 137254000 | I16: 1456301787 | J16: 6468542 | K16: =SUM((I16*I$12),(J16*J$12)) -> 7.3138516e+08 | L16: 322068748 | M16: 25881502 | N16: =SUM((L16*L$12),(M16*M$12)) -> 2.0359385e+08 | O16: 97513000 | P16: 271074061 | Q16: 40804334 | R16: 5368372000 | S16: 502343678 | T16: 12385743648 | U16: 132572092
B17: PATRIMONIO | C17: 1523102101 | D17: 1045608947 | E17: 509334045 | F17: =SUM((D17*D$12),(E17*E$12)) -> 8.3109899e+08 | G17: 1644554999 | H17: 2034090000 | I17: 1159186795 | J17: 108090199 | K17: =SUM((I17*I$12),(J17*J$12)) -> 633638497 | L17: 826012991 | M17: 61590415 | N17: =SUM((L17*L$12),(M17*M$12)) -> 5.2024396e+08 | O17: 699662000 | P17: 280743733 | Q17: 1832129023 | R17: 13471306000 | S17: 1028895083 | T17: 11369002453 | U17: 2888550895
B18: Activo total-Pasivo total-Patrimonio | C18: =+C15-C16-C17 -> 0 | D18: =+D15-D16-D17 -> 0 | E18: =+E15-E16-E17 -> 0 | F18: =+F15-F16-F17 -> 0 | G18: =+G15-G16-G17 -> 0 | H18: =+H15-H16-H17 -> 0 | I18: =+I15-I16-I17 -> 0 | J18: =+J15-J16-J17 -> 0 | ... U18: =+U15-U16-U17 -> 0
B19: UTILIDAD OPERACIONAL | C19: 641223526 | D19: 107525877 | E19: 43327685 | F19: =SUM((D19*D$12),(E19*E$12)) -> 81846600 | G19: 800281670 | H19: 935766000 | I19: 377935800 | J19: 51244040 | K19: =SUM((I19*I$12),(J19*J$12)) -> 214589920 | L19: 785970101 | M19: 3635088 | N19: =SUM((L19*L$12),(M19*M$12)) -> 4.730361e+08 | O19: 199662000 | P19: 85760217 | Q19: 600838767 | R19: 6443596000 | S19: 652021227 | T19: 5108451873 | U19: 1825592113
B20: GASTOS DE INTERESES | C20: 22926119 | D20: 1954277 | E20: 0 | F20: =SUM((D20*D$12),(E20*E$12)) -> 1172566.2 | G20: 46194111 | H20: 0 | I20: 71000 | J20: 0 | K20: =SUM((I20*I$12),(J20*J$12)) -> 35500 | L20: 2869734 | M20: 0 | N20: =SUM((L20*L$12),(M20*M$12)) -> 1721840.4 | O20: 1500000 | P20: 0 | Q20: 1210000 | R20: 0 | S20: 10561800 | T20: 1473351880 | U20: 2549628
B21: Rentabilidad del Patrimonio = Utilidad Operacional / Patrimonio | C21: =+C19/C17 -> 0.42099839 | D21: =+D19/D17 -> 0.10283565 | E21: =+E19/E17 -> 0.085067326 | F21: =+F19/F17 -> 0.098479966 | G21: =+G19/G17 -> 0.48662506 | H21: =+H19/H17 -> 0.46004159 | I21: =+I19/I17 -> 0.32603529 | J21: =+J19/J17 -> 0.47408591 | ... U21: =+U19/U17 -> 0.63200968
B22: Rentabilidad del Activo = Utilidad Operacional / Activo Total | C22: =+C19/C16 -> 2.2566958 | D22: =+D19/D15 -> 0.093903989 | E22: =+E19/E15 -> 0.070582075 | F22: =+F19/F15 -> 0.087763426 | G22: =+G19/G16 -> 1.2079483 | H22: =+H19/H16 -> 6.8177685 | I22: =+I19/I15 -> 0.14449912 | J22: =+J19/J15 -> 0.44731672 | K22: =+K19/K15 -> 0.15720601 | L22: =+L19/L15 -> 0.6845942 | M22: =+M19/M15 -> 0.041557201 | N22: =+N19/N15 -> 0.65351117 | O22: =+O19/O16 -> 2.0475424 | P22: =+P19/P16 -> 0.3163719 | Q22: =+Q19/Q16 -> 14.724876 | R22: =+R19/R16 -> 1.2002887 | S22: =+S19/S16 -> 1.2979585 | T22: =+T19/T16 -> 0.41244612 | U22: =+U19/U15 -> 0.604276 | W22: MiPyME
B23: VALOR DEL PRESUPUESTO OFICIAL | C23: =IF(C12=1,$W$23,"") -> 398000000 | D23: =IF(D12=1,$U$23,"") | E23: =IF(E12=1,$U$23,"") | F23: =IF(F12=1,$O$23,"") -> 398000000 | G23: =IF(G12=1,$W$23,"") -> 398000000 | H23: =IF(H12=1,$W$23,"") -> 398000000 | I23: =IF(I12=1,$U$23,"") | J23: =IF(J12=1,$U$23,"") | K23: =IF(K12=1,$O$23,"") -> 398000000 | L23: =IF(L12=1,$U$23,"") | M23: =IF(M12=1,$U$23,"") | N23: =IF(N12=1,$O$23,"") -> 398000000 | O23: =IF(O12=1,$W$23,"") -> 398000000 | P23: =IF(P12=1,$W$23,"") -> 398000000 | Q23: =IF(Q12=1,$W$23,"") -> 398000000 | R23: =IF(R12=1,$W$23,"") -> 398000000 | S23: =IF(S12=1,$W$23,"") -> 398000000 | T23: =IF(T12=1,$W$23,"") -> 398000000 | U23: =IF(U12=1,$W$23,"") -> 398000000 | W23: 398000000
B24: CRITERIO DE VERIFICACIÓN FINANCIERA
B25: HÁBIL
B26: NO HÁBIL
B27: CRITERIO DE VERIFICACIÓN FINANCIERA
B28: =CONCATENATE("Índice de Liquidez: Mayor o Igual a ",W28) -> Índice de Liquidez: Mayor o Igual a 1,4 | C28: =IF(C75="MiPyME",IF(C29>=$W$28,$B$25,$B$26)) -> HÁBIL | F28: =IF(F75="MiPyME",IF(F29>=$W$28,$B$25,$B$26)) -> HÁBIL | G28: =IF(G75="MiPyME",IF(G29>=$W$28,$B$25,$B$26)) -> HÁBIL | H28: =IF(H75="MiPyME",IF(H29>=$W$28,$B$25,$B$26)) -> HÁBIL | K28: =IF(K75="MiPyME",IF(K29>=$W$28,$B$25,$B$26)) -> HÁBIL | N28: =IF(N75="MiPyME",IF(N29>=$W$28,$B$25,$B$26)) -> HÁBIL | O28: =IF(O75="MiPyME",IF(O29>=$W$28,$B$25,$B$26)) -> HÁBIL | P28: =IF(P75="MiPyME",IF(P29>=$W$28,$B$25,$B$26)) -> HÁBIL | Q28: =IF(Q75="MiPyME",IF(Q29>=$W$28,$B$25,$B$26)) -> HÁBIL | R28: =IF(R75="MiPyME",IF(R29>=$W$28,$B$25,$B$26)) -> HÁBIL | S28: =IF(S75="MiPyME",IF(S29>=$W$28,$B$25,$B$26)) -> HÁBIL | T28: =IF(T29>=$W$28,$B$25,$B$26) -> HÁBIL | U28: =IF(U75="MiPyME",IF(U29>=$W$28,$B$25,$B$26)) -> HÁBIL | W28: 1.4
B29: Activo corriente / Pasivo corriente | C29: =C13/C14 -> 73.11409 | F29: =F13/F14 -> 16.615962 | G29: =G13/G14 -> 24.424941 | H29: =H13/H14 -> 13.119858 | K29: =K13/K14 -> 3.2583409 | N29: =N13/N14 -> 3.2587407 | O29: =O13/O14 -> 7.8049183 | P29: =P13/P14 -> 4.1294338 | Q29: =Q13/Q14 -> 35.760488 | R29: =R13/R14 -> 50.223919 | S29: =S13/S14 -> 3.4615471 | T29: =T13/T14 -> 2.3705718 | U29: =U13/U14 -> 37.482243
B30: =CONCATENATE("Endeudamiento total: Menor o Igual a ",W30) -> Endeudamiento total: Menor o Igual a 0,6 | C30: =IF(C75="MiPyME",IF(C31<=$W$30,$B$25,$B$26)) -> HÁBIL | F30: =IF(F75="MiPyME",IF(F31<=$W$30,$B$25,$B$26)) -> HÁBIL | G30: =IF(G75="MiPyME",IF(G31<=$W$30,$B$25,$B$26)) -> HÁBIL | H30: =IF(H75="MiPyME",IF(H31<=$W$30,$B$25,$B$26)) -> HÁBIL | K30: =IF(K75="MiPyME",IF(K31<=$W$30,$B$25,$B$26)) -> HÁBIL | N30: =IF(N75="MiPyME",IF(N31<=$W$30,$B$25,$B$26)) -> HÁBIL | O30: =IF(O75="MiPyME",IF(O31<=$W$30,$B$25,$B$26)) -> HÁBIL | P30: =IF(P75="MiPyME",IF(P31<=$W$30,$B$25,$B$26)) -> HÁBIL | Q30: =IF(Q75="MiPyME",IF(Q31<=$W$30,$B$25,$B$26)) -> HÁBIL | R30: =IF(R75="MiPyME",IF(R31<=$W$30,$B$25,$B$26)) -> HÁBIL | S30: =IF(S75="MiPyME",IF(S31<=$W$30,$B$25,$B$26)) -> HÁBIL | T30: =IF(T31<=$W$30,$B$25,$B$26) -> HÁBIL | U30: =IF(U75="MiPyME",IF(U31<=$W$30,$B$25,$B$26)) -> HÁBIL | W30: 0.6
B31: (Pasivo total / Activo total)*100 | C31: =C16/C15 -> 0.15722422 | F31: =F16/F15 -> 0.10881949 | G31: =G16/G15 -> 0.28716671 | H31: =H16/H15 -> 0.063211541 | K31: =K16/K15 -> 0.53580402 | N31: =N16/N15 -> 0.28126998 | O31: =O16/O15 -> 0.1223232 | P31: =P16/P15 -> 0.49123835 | Q31: =Q16/Q15 -> 0.021786325 | R31: =R16/R15 -> 0.28495031 | S31: =S16/S15 -> 0.32806359 | T31: =T16/T15 -> 0.5214008 | U31: =U16/U15 -> 0.043881726
B32: =CONCATENATE("Razón de Cobertura de Intereses Mayor o Igual a ",W32," o Indeterminado") -> Razón de Cobertura de Intereses Mayor o Igual a 1,7 o Indeterminado | C32: =IF(C75="MiPyME",IF(AND(C33="Indeterminado",C19<=0),$B$26,IF(C33>=$W$32,$B$25,$B$26))) -> HÁBIL | F32: =IF(F75="MiPyME",IF(AND(F33="Indeterminado",F19<=0),$B$26,IF(F33>=$W$32,$B$25,$B$26))) -> HÁBIL | G32: =IF(G75="MiPyME",IF(AND(G33="Indeterminado",G19<=0),$B$26,IF(G33>=$W$32,$B$25,$B$26))) -> HÁBIL | H32: =IF(H75="MiPyME",IF(AND(H33="Indeterminado",H19<=0),$B$26,IF(H33>=$W$32,$B$25,$B$26))) -> HÁBIL | K32: =IF(K75="MiPyME",IF(AND(K33="Indeterminado",K19<=0),$B$26,IF(K33>=$W$32,$B$25,$B$26))) -> HÁBIL | N32: =IF(N75="MiPyME",IF(AND(N33="Indeterminado",N19<=0),$B$26,IF(N33>=$W$32,$B$25,$B$26))) -> HÁBIL | O32: =IF(O75="MiPyME",IF(AND(O33="Indeterminado",O19<=0),$B$26,IF(O33>=$W$32,$B$25,$B$26))) -> HÁBIL | P32: =IF(P75="MiPyME",IF(AND(P33="Indeterminado",P19<=0),$B$26,IF(P33>=$W$32,$B$25,$B$26))) -> HÁBIL | Q32: =IF(Q75="MiPyME",IF(AND(Q33="Indeterminado",Q19<=0),$B$26,IF(Q33>=$W$32,$B$25,$B$26))) -> HÁBIL | R32: =IF(R75="MiPyME",IF(AND(R33="Indeterminado",R19<=0),$B$26,IF(R33>=$W$32,$B$25,$B$26))) -> HÁBIL | S32: =IF(S75="MiPyME",IF(AND(S33="Indeterminado",S19<=0),$B$26,IF(S33>=$W$32,$B$25,$B$26))) -> HÁBIL | T32: =IF(AND(T33="Indeterminado",T19<=0),$B$26,IF(T33>=$W$32,$B$25,$B$26)) -> HÁBIL | U32: =IF(U75="MiPyME",IF(AND(U33="Indeterminado",U19<=0),$B$26,IF(U33>=$W$32,$B$25,$B$26))) -> HÁBIL | W32: 1.7
B33: RC= (Utilidad Operacional) / (Gastos de Intereses) | C33: =IFERROR(C19/C20,"Indeterminado") -> 27.969127 | F33: =IFERROR(F19/F20,"Indeterminado") -> 69.801262 | G33: =IFERROR(G19/G20,"Indeterminado") -> 17.324322 | H33: =IFERROR(H19/H20,"Indeterminado") -> Indeterminado | K33: =IFERROR(K19/K20,"Indeterminado") -> 6044.7865 | N33: =IFERROR(N19/N20,"Indeterminado") -> 274.72703 | O33: =IFERROR(O19/O20,"Indeterminado") -> 133.108 | P33: =IFERROR(P19/P20,"Indeterminado") -> Indeterminado | Q33: =IFERROR(Q19/Q20,"Indeterminado") -> 496.56096 | R33: =IFERROR(R19/R20,"Indeterminado") -> Indeterminado | S33: =IFERROR(S19/S20,"Indeterminado") -> 61.733912 | T33: =IFERROR(T19/T20,"Indeterminado") -> 3.4672314 | U33: =IFERROR(U19/U20,"Indeterminado") -> 716.02293
B34: =CONCATENATE("CAPITAL DE TRABAJO ≥ A ",TEXT(AB34,"50%")," DEL PPTO OFICIAL") -> CAPITAL DE TRABAJO ≥ A 50% DEL PPTO OFICIAL | C34: =IF(C35>(C23*$W$35),$B$25,$B$26) -> HÁBIL | F34: =IF(F35>(F23*$W$35),$B$25,$B$26) -> HÁBIL | G34: =IF(G35>(G23*$W$35),$B$25,$B$26) -> HÁBIL | H34: =IF(H35>(H23*$W$35),$B$25,$B$26) -> HÁBIL | K34: =IF(K35>(K23*$W$35),$B$25,$B$26) -> HÁBIL | N34: =IF(N35>(N23*$W$35),$B$25,$B$26) -> HÁBIL | O34: =IF(O35>(O23*$W$35),$B$25,$B$26) -> HÁBIL | P34: =IF(P35>(P23*$W$35),$B$25,$B$26) -> HÁBIL | Q34: =IF(Q35>(Q23*$W$35),$B$25,$B$26) -> HÁBIL | R34: =IF(R35>(R23*$W$35),$B$25,$B$26) -> HÁBIL | S34: =IF(S35>(S23*$W$35),$B$25,$B$26) -> HÁBIL | T34: =IF(T35>(T23*$W$35),$B$25,$B$26) -> HÁBIL | U34: =IF(U35>(U23*$W$35),$B$25,$B$26) -> HÁBIL | V34: Plazo requerido | W34: 12
B35: =CONCATENATE("CT = Activo Corriente - Pasivo Corriente ≥ ",TEXT((W23*W35),"$###.###.###.###")) -> CT = Activo Corriente - Pasivo Corriente ≥ $199.000.000 | C35: =+C13-C14 -> 1301738643 | F35: =(D13+E13)-(D14+E14) -> 1089754837 | G35: =+G13-G14 -> 986468771 | H35: =+H13-H14 -> 1663499000 | K35: =(I13+J13)-(I14+J14) -> 1715527622 | N35: =(L13+M13)-(L14+M14) -> 767806792 | O35: =+O13-O14 -> 663568000 | P35: =+P13-P14 -> 300657418 | Q35: =+Q13-Q14 -> 1418378543 | R35: =+R13-R14 -> 18329806000 | S35: =+S13-S14 -> 1000952874 | T35: =+T13-T14 -> 12343247507 | U35: =+U13-U14 -> 2784401095 | V35: Cap. Trab. Requerido | W35: 0.5
B36: CRITERIO DE VERIFICACIÓN CAPACIDAD ORGANIZACIONAL
B38: =CONCATENATE("Indicador Rentabilidad del Patrimonio",CHAR(10),"Mayor o Igual a ",W38) -> Indicador Rentabilidad del Patrimonio Mayor o Igual a 0,05 | C38: =IF(C75="MiPyME",IF(C39>=$W$38,$B$25,$B$26)) -> HÁBIL | F38: =IF(F75="MiPyME",IF(F39>=$W$38,$B$25,$B$26)) -> HÁBIL | G38: =IF(G75="MiPyME",IF(G39>=$W$38,$B$25,$B$26)) -> HÁBIL | H38: =IF(H75="MiPyME",IF(H39>=$W$38,$B$25,$B$26)) -> HÁBIL | K38: =IF(K75="MiPyME",IF(K39>=$W$38,$B$25,$B$26)) -> HÁBIL | N38: =IF(N75="MiPyME",IF(N39>=$W$38,$B$25,$B$26)) -> HÁBIL | O38: =IF(O75="MiPyME",IF(O39>=$W$38,$B$25,$B$26)) -> HÁBIL | P38: =IF(P75="MiPyME",IF(P39>=$W$38,$B$25,$B$26)) -> HÁBIL | Q38: =IF(Q75="MiPyME",IF(Q39>=$W$38,$B$25,$B$26)) -> HÁBIL | R38: =IF(R75="MiPyME",IF(R39>=$W$38,$B$25,$B$26)) -> HÁBIL | S38: =IF(S75="MiPyME",IF(S39>=$W$38,$B$25,$B$26)) -> HÁBIL | T38: =IF(T39>=$W$38,$B$25,$B$26) -> HÁBIL | U38: =IF(U75="MiPyME",IF(U39>=$W$38,$B$25,$B$26)) -> HÁBIL | W38: 0.05
B39: RP = (Utilidad Operacional / Patrimonio) | C39: =C19/C17 -> 0.42099839 | F39: =F19/F17 -> 0.098479966 | G39: =G19/G17 -> 0.48662506 | H39: =H19/H17 -> 0.46004159 | K39: =K19/K17 -> 0.33866301 | N39: =N19/N17 -> 0.90925822 | O39: =O19/O17 -> 0.28536922 | P39: =P19/P17 -> 0.30547509 | Q39: =Q19/Q17 -> 0.32794566 | R39: =R19/R17 -> 0.47832007 | S39: =S19/S17 -> 0.63371012 | T39: =T19/T17 -> 0.44933158 | U39: =U19/U17 -> 0.63200968
B40: =CONCATENATE("Indicador Rentabilidad del Activo",CHAR(10),"Mayor o Igual a ",W40) -> Indicador Rentabilidad del Activo Mayor o Igual a 0,02 | C40: =IF(C75="MiPyME",IF(C41>=$W$40,$B$25,$B$26)) -> HÁBIL | F40: =IF(F75="MiPyME",IF(F41>=$W$40,$B$25,$B$26)) -> HÁBIL | G40: =IF(G75="MiPyME",IF(G41>=$W$40,$B$25,$B$26)) -> HÁBIL | H40: =IF(H75="MiPyME",IF(H41>=$W$40,$B$25,$B$26)) -> HÁBIL | K40: =IF(K75="MiPyME",IF(K41>=$W$40,$B$25,$B$26)) -> HÁBIL | N40: =IF(N75="MiPyME",IF(N41>=$W$40,$B$25,$B$26)) -> HÁBIL | O40: =IF(O75="MiPyME",IF(O41>=$W$40,$B$25,$B$26)) -> HÁBIL | P40: =IF(P75="MiPyME",IF(P41>=$W$40,$B$25,$B$26)) -> HÁBIL | Q40: =IF(Q75="MiPyME",IF(Q41>=$W$40,$B$25,$B$26)) -> HÁBIL | R40: =IF(R75="MiPyME",IF(R41>=$W$40,$B$25,$B$26)) -> HÁBIL | S40: =IF(S75="MiPyME",IF(S41>=$W$40,$B$25,$B$26)) -> HÁBIL | T40: =IF(T41>=$W$40,$B$25,$B$26) -> HÁBIL | U40: =IF(U75="MiPyME",IF(U41>=$W$40,$B$25,$B$26)) -> HÁBIL | W40: 0.02
B41: RA = (Utilidad Operacional / Activo Total) | C41: =C19/C15 -> 0.35480724 | F41: =F19/F15 -> 0.087763426 | G41: =G19/G15 -> 0.34688254 | H41: =H19/H15 -> 0.43096165 | K41: =K19/K15 -> 0.15720601 | N41: =N19/N15 -> 0.65351117 | O41: =O19/O15 -> 0.25046194 | P41: =P19/P15 -> 0.15541401 | Q41: =Q19/Q15 -> 0.32080093 | R41: =R19/R15 -> 0.34202262 | S41: =S19/S15 -> 0.42581291 | T41: =T19/T15 -> 0.21504974 | U41: =U19/U15 -> 0.604276
B42: CUMPLIMIENTO REQUISITOS HABLITANTES | C42: =+IF(COUNTIF(C28:C41,"NO HÁBIL")>=1,"NO HABILITADO","HABILITADO") -> HABILITADO | F42: =+IF(COUNTIF(F28:F41,"NO HÁBIL")>=1,"NO HABILITADO","HABILITADO") -> HABILITADO | G42: =+IF(COUNTIF(G28:G41,"NO HÁBIL")>=1,"NO HABILITADO","HABILITADO") -> HABILITADO | H42: =+IF(COUNTIF(H28:H41,"NO HÁBIL")>=1,"NO HABILITADO","HABILITADO") -> HABILITADO | K42: =+IF(COUNTIF(K28:K41,"NO HÁBIL")>=1,"NO HABILITADO","HABILITADO") -> HABILITADO | N42: =+IF(COUNTIF(N28:N41,"NO HÁBIL")>=1,"NO HABILITADO","HABILITADO") -> HABILITADO | O42: =+IF(COUNTIF(O28:O41,"NO HÁBIL")>=1,"NO HABILITADO","HABILITADO") -> HABILITADO | P42: =+IF(COUNTIF(P28:P41,"NO HÁBIL")>=1,"NO HABILITADO","HABILITADO") -> HABILITADO | Q42: =+IF(COUNTIF(Q28:Q41,"NO HÁBIL")>=1,"NO HABILITADO","HABILITADO") -> HABILITADO | R42: =+IF(COUNTIF(R28:R41,"NO HÁBIL")>=1,"NO HABILITADO","HABILITADO") -> HABILITADO | S42: =+IF(COUNTIF(S28:S41,"NO HÁBIL")>=1,"NO HABILITADO","HABILITADO") -> HABILITADO | T42: =+IF(COUNTIF(T28:T41,"NO HÁBIL")>=1,"NO HABILITADO","HABILITADO") -> HABILITADO | U42: =+IF(COUNTIF(U28:U41,"NO HÁBIL")>=1,"NO HABILITADO","HABILITADO") -> HABILITADO
B44: NOTA: Una vez verificada la Información Financiera presentada por cada uno de los proponentes, se informa que las sociedades arriba descritas, que cumplen con lo solicitado en los pliegos de condiciones definitivos en cuanto a los Indicadores Financieros requeridos, se encuentran HABILITADAS.
B47: =B72 -> Fecha de cierre del proceso:
B48: 45848
...

Sheet Consolidado 1 al 13
B1: Alcaldía de Bogotá D.C.
B2: Secretaría Distrital de Gobierno
B3: Alcaldía Local de Suba
B5: ='FDLSUBA-SA-MC-004-2025 1 al 13'!B6 -> SELECCIÓN ABREVIADA DE MENOR CUANTÍA FDLSUBA-SA-MC-004-2025 (133182)
B6: ='FDLSUBA-SA-MC-004-2025 1 al 13'!B7 -> OBJETO: "PRESTAR SERVICIOS DE APOYO LOGÍSTICOS PARA LA REALIZACIÓN DE EVENTOS Y ACTIVIDADES QUE PROMUEVAN EL DESARROLLO ECONÓMICO QUE REQUIERA LA ALCALDÍA LOCAL DE SUBA EN EL MARCO DEL CUMPLIMIENTO DEL PLAN DE DESARROLLO LOCAL"
B7: Presupuesto Oficial del Proceso | C7: ='FDLSUBA-SA-MC-004-2025 1 al 13'!W23 -> 398000000
B8: Fecha corte Información Financiera | C8: 45657
B9: Fecha cierre del proceso de selección | C9: ='FDLSUBA-SA-MC-004-2025 1 al 13'!B48 -> 45848
B10: VERIFICACIóN DE LOS INDICADORES | I10: RUP | J10: RESULTADO FINANCIERO | K10: OBERVACIONES
B11: NOMBRE DEL PROPONENTE | C11: Índice de liquidez | D11: Índice de endeudamiento | E11: Razón de Cobertura de intereses | F11: Capital de trabajo | G11: Rentabilidad del patrimonio | H11: Rentabilidad del activo | I11: VIGENTE; EN FIRME Y 30 DÍAS ANTERIORES
A12: 1 | B12: ='FDLSUBA-SA-MC-004-2025 1 al 13'!C8 -> 4 CUARTOS SAS NIT: 830105695 1 | C12: CUMPLE | D12: CUMPLE | E12: CUMPLE | F12: CUMPLE | G12: CUMPLE | H12: CUMPLE | I12: CUMPLE | J12: HABILITADO
A13: 2 | B13: ='FDLSUBA-SA-MC-004-2025 1 al 13'!F8 -> UT IPRO SWAT EVENTS | C13: CUMPLE | D13: CUMPLE | E13: CUMPLE | F13: CUMPLE | G13: CUMPLE | H13: CUMPLE | I13: CUMPLE | J13: HABILITADO
A14: 3 | B14: ='FDLSUBA-SA-MC-004-2025 1 al 13'!G8 -> INVERSIONES C F S S A S NIT: 900508201 0 | C14: CUMPLE | D14: CUMPLE | E14: CUMPLE | F14: CUMPLE | G14: CUMPLE | H14: CUMPLE | I14: CUMPLE | J14: HABILITADO
A15: 4 | B15: ='FDLSUBA-SA-MC-004-2025 1 al 13'!H8 -> CONSULTORES Y ASESORES TIC SAS NIT: 901360556 5 | C15: CUMPLE | D15: CUMPLE | E15: CUMPLE | F15: CUMPLE | G15: CUMPLE | H15: CUMPLE | I15: CUMPLE | J15: HABILITADO
A16: 5 | B16: ='FDLSUBA-SA-MC-004-2025 1 al 13'!K8 -> UT SANIG SUBA 2025 | C16: CUMPLE | D16: CUMPLE | E16: CUMPLE | F16: CUMPLE | G16: CUMPLE | H16: CUMPLE | I16: CUMPLE | J16: HABILITADO
A17: 6 | B17: ='FDLSUBA-SA-MC-004-2025 1 al 13'!N8 -> CONSORCIO INTEGRAL G3 SINERGY | C17: CUMPLE | D17: CUMPLE | E17: CUMPLE | F17: CUMPLE | G17: CUMPLE | H17: CUMPLE | I17: CUMPLE | J17: HABILITADO
A18: 7 | B18: ='FDLSUBA-SA-MC-004-2025 1 al 13'!O8 -> SOA PROJECTS AND EVENTS SAS NIT: 901827332 9 | C18: CUMPLE | D18: CUMPLE | E18: CUMPLE | F18: CUMPLE | G18: CUMPLE | H18: CUMPLE | I18: CUMPLE | J18: HABILITADO
A19: 8 | B19: ='FDLSUBA-SA-MC-004-2025 1 al 13'!P8 -> DSV COMPANY SAS NIT: 900456900 6 | C19: CUMPLE | D19: CUMPLE | E19: CUMPLE | F19: CUMPLE | G19: CUMPLE | H19: CUMPLE | I19: CUMPLE | J19: HABILITADO
A20: 9 | B20: ='FDLSUBA-SA-MC-004-2025 1 al 13'!Q8 -> FUNXI NIT: 830123782 0 | C20: CUMPLE | D20: CUMPLE | E20: CUMPLE | F20: CUMPLE | G20: CUMPLE | H20: CUMPLE | I20: CUMPLE | J20: HABILITADO
A21: 10 | B21: ='FDLSUBA-SA-MC-004-2025 1 al 13'!R8 -> FUNDESCO NIT: 830133329 1 | C21: CUMPLE | D21: CUMPLE | E21: CUMPLE | F21: CUMPLE | G21: CUMPLE | H21: CUMPLE | I21: CUMPLE | J21: HABILITADO
A22: 11 | B22: ='FDLSUBA-SA-MC-004-2025 1 al 13'!S8 -> PEOPLE SECURITY SAS NIT: 900810120 6 | C22: CUMPLE | D22: CUMPLE | E22: CUMPLE | F22: CUMPLE | G22: CUMPLE | H22: CUMPLE | I22: CUMPLE | J22: HABILITADO
A23: 12 | B23: ='FDLSUBA-SA-MC-004-2025 1 al 13'!T8 -> MERCADEO EFECTIVO S A S NIT: 830135377 2 | C23: CUMPLE | D23: CUMPLE | E23: CUMPLE | F23: CUMPLE | G23: CUMPLE | H23: CUMPLE | I23: CUMPLE | J23: HABILITADO
A24: 13 | B24: ='FDLSUBA-SA-MC-004-2025 1 al 13'!U8 -> ALVAREZ FUENTES ANA LUCIA NIT:50891527-3 | C24: CUMPLE | D24: CUMPLE | E24: CUMPLE | F24: CUMPLE | G24: CUMPLE | H24: CUMPLE | I24: CUMPLE | J24: HABILITADO
A26: * Se realiza la Evaluación Financiera y Organizacional de acuerdo a lo establecido con el pliego de condiciones definitivo del proceso; la evaluación es puesta a disposición de la Oficina de Contratación y Despacho para que se continúe con el proceso de evaluación.
B28: =#REF! -> #REF!
E31: Magda C. Vargas Del Valle
E32: Profesional Área de Contratación - FDL Suba
E33: Comité Evaluador Financiero

Sheet FDLSUBA-SA-MC-004-2025 14 al 25
C1: VERIFICACIÓN FINANCIERA Y CAPACIDAD ORGANIZACIONAL | P1: Código: GCO-GCI-F107 Versión: 03 Vigencia: 21 de diciembre de 2022 Caso HOLA: 282943
B6: SELECCIÓN ABREVIADA DE MENOR CUANTÍA FDLSUBA-SA-MC-004-2025 (133182)
B7: OBJETO: "PRESTAR SERVICIOS DE APOYO LOGÍSTICOS PARA LA REALIZACIÓN DE EVENTOS Y ACTIVIDADES QUE PROMUEVAN EL DESARROLLO ECONÓMICO QUE REQUIERA LA ALCALDÍA LOCAL DE SUBA EN EL MARCO DEL CUMPLIMIENTO DEL PLAN DE DESARROLLO LOCAL"
B8: CONCEPTO | C8: GEMGAL S.A.S NIT: 901517484-1 | D8: COLOMBIANA DE SERVICIOS COMEDORES & SUMINISTROS S.A.S NIT: 900782536-5 | E8: CREIGHTIVE S.A.S. NIT:900894796-4 | F8: INDUHOTEL SAS NIT: 900300970 1 | G8: INVERSIONES PUIN S.A.S NIT: 900273896 8 | H8: UNIÓN TEMPORAL UT LOGÍSTICA IP | I8: GRUPO SOCIEDAD CAPITAL SAS NIT: 900565133 0 | J8: LOGISTICA Y GESTION DE NEGOCIOS SAS NIT: 900582854 4 | K8: LILLY HAIDY BALAGUERA RODRIGUEZ NIT: 52822142 4 | L8: ORGANIZACION TOTALL PRO S.A.S NIT: 900305935 6 | M8: INNOVA NOUS SAS NIT: 900864269 6 | N8: CARLOS ALBERTO PINZON MOLINA NIT: 79867234 5 | O8: FUNDACION NINOS ACORDEONEROS Y CANTORES DEL VALLENATO ANDRES TURCO GIL NIT:824003749-0 | P8: URBANO EXPRESS LOGISTICA Y MERCADEO S.A.S NIT: 900046728 6 | R8: Datos para validación financiera
C9: 14 | D9: =+C9+1 -> 15 | E9: =+D9+1 -> 16 | F9: A | G9: B | H9: =+E9+1 -> 17 | I9: =+H9+1 -> 18 | J9: =+I9+1 -> 19 | K9: =+J9+1 -> 20 | L9: =+K9+1 -> 21 | M9: =+L9+1 -> 22 | N9: =+M9+1 -> 23 | O9: =+N9+1 -> 24 | P9: =+O9+1 -> 25
B10: BALANCE GENERAL CON CORTE A 31 DE DICIEMBRE DEL AÑO: 2024 | C10: 31-DIC.-2024 RUP | D10: 31-DIC.-2024 RUP | E10: 31-DIC.-2024 RUP | F10: 31-DIC.-2024 RUP | G10: 31-DIC.-2024 RUP | I10: 31-DIC.-2024 RUP | J10: 31-DIC.-2024 RUP | K10: 31-DIC.-2024 RUP | L10: 31-DIC.-2024 RUP | M10: 31-DIC.-2024 RUP | N10: 31-DIC.-2024 RUP | O10: 31-DIC.-2024 RUP | P10: 31-DIC.-2024 RUP
B11: PRESENTACIÓN DE RUP VIGENTE | C11: =IF(C73<=$B$74,"VIGENTE","NO VIGENTE") -> VIGENTE | D11: =IF(D73<=$B$74,"VIGENTE","NO VIGENTE") -> VIGENTE | E11: =IF(E73<=$B$74,"VIGENTE","NO VIGENTE") -> VIGENTE | F11: =IF(F73<=$B$74,"VIGENTE","NO VIGENTE") -> VIGENTE | G11: =IF(G73<=$B$74,"VIGENTE","NO VIGENTE") -> VIGENTE | I11: =IF(I73<=$B$74,"VIGENTE","NO VIGENTE") -> VIGENTE | J11: =IF(J73<=$B$74,"VIGENTE","NO VIGENTE") -> VIGENTE | K11: =IF(K73<=$B$74,"VIGENTE","NO VIGENTE") -> VIGENTE | L11: =IF(L73<=$B$74,"VIGENTE","NO VIGENTE") -> VIGENTE | M11: =IF(M73<=$B$74,"VIGENTE","NO VIGENTE") -> VIGENTE | N11: =IF(N73<=$B$74,"VIGENTE","NO VIGENTE") -> VIGENTE | O11: =IF(O73<=$B$74,"VIGENTE","NO VIGENTE") -> VIGENTE | P11: =IF(P73<=$B$74,"VIGENTE","NO VIGENTE") -> VIGENTE
B12: INFORMACION TOMADA DEL RUP VIGENTE | C12: 1 | D12: 1 | E12: 1 | F12: 0.5 | G12: 0.5 | H12: =SUM(F12:G12) -> 1 | I12: 1 | J12: 1 | K12: 1 | L12: 1 | M12: 1 | N12: 1 | O12: 1 | P12: 1
B13: ACTIVO CORRIENTE | C13: 334707475 | D13: 3509192028 | E13: 4145881333 | F13: 5041258435 | G13: 2103538765 | H13: =SUM((F13*F$12),(G13*G$12)) -> 3572398600 | I13: 2450205610 | J13: 17991802509 | K13: 892254060 | L13: 542947000 | M13: 290893001 | N13: 3714699387 | O13: 1753220778 | P13: 14845568080
B14: PASIVO CORRIENTE | C14: 21048192 | D14: 236895263 | E14: 281406238 | F14: 124675982 | G14: 61485758 | H14: =SUM((F14*F$12),(G14*G$12)) -> 93080870 | I14: 1093465922 | J14: 2040972760 | K14: 80151901 | L14: 22568002 | M14: 16939197 | N14: 725859611 | O14: 160000000 | P14: 1458791048
B15: ACTIVO TOTAL | C15: 336968730 | D15: 5764315862 | E15: 4320448490 | F15: 16795077145 | G15: 12680542748 | H15: =SUM((F15*F$12),(G15*G$12)) -> 1.473781e+10 | I15: 2533005610 | J15: 18134929622 | K15: 1399137556 | L15: 1298502921 | M15: 292170197 | N15: 4901522377 | O15: 2900000000 | P15: 17368197305
B16: PASIVO TOTAL | C16: 21048192 | D16: 2135660763 | E16: 385442736 | F16: 480937947 | G16: 5490934074 | H16: =SUM((F16*F$12),(G16*G$12)) -> 2.985936e+09 | I16: 1093465922 | J16: 2040972760 | K16: 180846663 | L16: 22568002 | M16: 16939197 | N16: 736340184 | O16: 223000000 | P16: 3845755790
B17: PATRIMONIO | C17: 315920538 | D17: 3628655099 | E17: 3935005754 | F17: 16314139198 | G17: 7189608674 | H17: =SUM((F17*F$12),(G17*G$12)) -> 11751873936 | I17: 1439539688 | J17: 16093956862 | K17: 1218290893 | L17: 1275934919 | M17: 275231000 | N17: 4165182193 | O17: 2677000000 | P17: 13522441515
B18: Activo total-Pasivo total-Patrimonio | C18: =+C15-C16-C17 -> 0 | D18: =+D15-D16-D17 -> 0 | E18: =+E15-E16-E17 -> 0 | F18: =+F15-F16-F17 -> 0 | G18: =+G15-G16-G17 -> 0 | H18: =+H15-H16-H17 -> 0 | I18: =+I15-I16-I17 -> 0 | J18: =+J15-J16-J17 -> 0 | ... P18: =+P15-P16-P17 -> 0
B19: UTILIDAD OPERACIONAL | C19: 74552688 | D19: 1172729283 | E19: 6729101088 | F19: 2172507664 | G19: 176682528 | H19: =SUM((F19*F$12),(G19*G$12)) -> 1174595096 | I19: 365362658 | J19: 10873931285 | K19: 348783899 | L19: 1075975550 | M19: 42791166 | N19: 2069461498 | O19: 1199818607 | P19: 3314564374
B20: GASTOS DE INTERESES | C20: 5670872 | D20: 27456000 | E20: 72355926 | F20: 22966320 | G20: 16645002 | H20: =SUM((F20*F$12),(G20*G$12)) -> 19805661 | I20: 0 | J20: 0 | K20: 0 | L20: 0 | M20: 0 | N20: 6295549 | O20: 0 | P20: 88503994
B21: Rentabilidad del Patrimonio = Utilidad Operacional / Patrimonio | C21: =+C19/C17 -> 0.23598557 | D21: =+D19/D17 -> 0.32318566 | E21: =+E19/E17 -> 1.7100613 | F21: =+F19/F17 -> 0.13316716 | G21: =+G19/G17 -> 0.024574707 | H21: =+H19/H17 -> 0.0999496 | I21: =+I19/I17 -> 0.2538052 | J21: =+J19/J17 -> 0.67565307 | ... P21: =+P19/P17 -> 0.24511582
B22: Rentabilidad del Activo = Utilidad Operacional / Activo Total | C22: =+C19/C16 -> 3.5419996 | D22: =+D19/D16 -> 0.54911777 | E22: =+E19/E16 -> 17.458108 | F22: =+F19/F15 -> 0.12935384 | G22: =+G19/G15 -> 0.013933357 | H22: =+H19/H15 -> 0.079699433 | I22: =+I19/I16 -> 0.33413264 | J22: =+J19/J16 -> 5.3278179 | K22: =+K19/K16 -> 1.9286167 | L22: =+L19/L16 -> 47.677041 | M22: =+M19/M16 -> 2.5261626 | N22: =+N19/N16 -> 2.8104693 | O22: =+O19/O16 -> 5.3803525 | P22: =+P19/P15 -> 0.19084101 | R22: MiPyME
B23: VALOR DEL PRESUPUESTO OFICIAL | C23: =IF(C12=1,$R$23,"") -> 398000000 | D23: =IF(D12=1,$R$23,"") -> 398000000 | E23: =IF(E12=1,$R$23,"") -> 398000000 | F23: =IF(F12=1,$P$23,"") | G23: =IF(G12=1,$P$23,"") | H23: =IF(H12=1,$I$23,"") -> 398000000 | I23: =IF(I12=1,$R$23,"") -> 398000000 | J23: =IF(J12=1,$R$23,"") -> 398000000 | K23: =IF(K12=1,$R$23,"") -> 398000000 | L23: =IF(L12=1,$R$23,"") -> 398000000 | M23: =IF(M12=1,$R$23,"") -> 398000000 | N23: =IF(N12=1,$R$23,"") -> 398000000 | O23: =IF(O12=1,$R$23,"") -> 398000000 | P23: =IF(P12=1,$R$23,"") -> 398000000 | R23: 398000000
B24: CRITERIO DE VERIFICACIÓN FINANCIERA
B25: HÁBIL
B26: NO HÁBIL
B27: CRITERIO DE VERIFICACIÓN FINANCIERA
B28: =CONCATENATE("Índice de Liquidez: Mayor o Igual a ",R28) -> Índice de Liquidez: Mayor o Igual a 1,4 | C28: =IF(C75="MiPyME",IF(C29>=$R$28,$B$25,$B$26)) -> HÁBIL | D28: =IF(D75="MiPyME",IF(D29>=$R$28,$B$25,$B$26)) -> HÁBIL | E28: =IF(E75="MiPyME",IF(E29>=$R$28,$B$25,$B$26)) -> HÁBIL | H28: =IF(H75="MiPyME",IF(H29>=$R$28,$B$25,$B$26)) -> HÁBIL | I28: =IF(I75="MiPyME",IF(I29>=$R$28,$B$25,$B$26)) -> HÁBIL | J28: =IF(J29>=$R$28,$B$25,$B$26) -> HÁBIL | K28: =IF(K75="MiPyME",IF(K29>=$R$28,$B$25,$B$26)) -> HÁBIL | L28: =IF(L75="MiPyME",IF(L29>=$R$28,$B$25,$B$26)) -> HÁBIL | M28: =IF(M75="MiPyME",IF(M29>=$R$28,$B$25,$B$26)) -> HÁBIL | N28: =IF(N75="MiPyME",IF(N29>=$R$28,$B$25,$B$26)) -> HÁBIL | O28: =IF(O75="MiPyME",IF(O29>=$R$28,$B$25,$B$26)) -> HÁBIL | P28: =IF(P75="MiPyME",IF(P29>=$R$28,$B$25,$B$26)) -> HÁBIL | R28: 1.4
B29: Activo corriente / Pasivo corriente | C29: =C13/C14 -> 15.901958 | D29: =D13/D14 -> 14.813264 | E29: =E13/E14 -> 14.732727 | H29: =H13/H14 -> 38.379515 | I29: =I13/I14 -> 2.24077 | J29: =J13/J14 -> 8.8153075 | K29: =K13/K14 -> 11.132039 | L29: =L13/L14 -> 24.058266 | M29: =M13/M14 -> 17.172774 | N29: =N13/N14 -> 5.1176554 | O29: =O13/O14 -> 10.95763 | P29: =P13/P14 -> 10.176624
B30: =CONCATENATE("Endeudamiento total: Menor o Igual a ",R30) -> Endeudamiento total: Menor o Igual a 0,6 | C30: =IF(C75="MiPyME",IF(C31<=$R$30,$B$25,$B$26)) -> HÁBIL | D30: =IF(D75="MiPyME",IF(D31<=$R$30,$B$25,$B$26)) -> HÁBIL | E30: =IF(E75="MiPyME",IF(E31<=$R$30,$B$25,$B$26)) -> HÁBIL | H30: =IF(H75="MiPyME",IF(H31<=$R$30,$B$25,$B$26)) -> HÁBIL | I30: =IF(I75="MiPyME",IF(I31<=$R$30,$B$25,$B$26)) -> HÁBIL | J30: =IF(J31<=$R$30,$B$25,$B$26) -> HÁBIL | K30: =IF(K75="MiPyME",IF(K31<=$R$30,$B$25,$B$26)) -> HÁBIL | L30: =IF(L75="MiPyME",IF(L31<=$R$30,$B$25,$B$26)) -> HÁBIL | M30: =IF(M75="MiPyME",IF(M31<=$R$30,$B$25,$B$26)) -> HÁBIL | N30: =IF(N75="MiPyME",IF(N31<=$R$30,$B$25,$B$26)) -> HÁBIL | O30: =IF(O75="MiPyME",IF(O31<=$R$30,$B$25,$B$26)) -> HÁBIL | P30: =IF(P75="MiPyME",IF(P31<=$R$30,$B$25,$B$26)) -> HÁBIL | R30: 0.6
B31: (Pasivo total / Activo total)*100 | C31: =C16/C15 -> 0.062463339 | D31: =D16/D15 -> 0.37049683 | E31: =E16/E15 -> 0.089213594 | H31: =H16/H15 -> 0.20260378 | I31: =I16/I15 -> 0.43168713 | J31: =J16/J15 -> 0.11254374 | K31: =K16/K15 -> 0.12925581 | L31: =L16/L15 -> 0.017380016 | M31: =M16/M15 -> 0.057977156 | N31: =N16/N15 -> 0.15022683 | O31: =O16/O15 -> 0.076896552 | P31: =P16/P15 -> 0.22142516
B32: =CONCATENATE("Razón de Cobertura de Intereses Mayor o Igual a ",R32," o Indeterminado") -> Razón de Cobertura de Intereses Mayor o Igual a 1,7 o Indeterminado | C32: =IF(C75="MiPyME",IF(AND(C33="Indeterminado",C19<=0),$B$26,IF(C33>=$R$32,$B$25,$B$26))) -> HÁBIL | D32: =IF(D75="MiPyME",IF(AND(D33="Indeterminado",D19<=0),$B$26,IF(D33>=$R$32,$B$25,$B$26))) -> HÁBIL | E32: =IF(E75="MiPyME",IF(AND(E33="Indeterminado",E19<=0),$B$26,IF(E33>=$R$32,$B$25,$B$26))) -> HÁBIL | H32: =IF(H75="MiPyME",IF(AND(H33="Indeterminado",H19<=0),$B$26,IF(H33>=$R$32,$B$25,$B$26))) -> HÁBIL | I32: =IF(I75="MiPyME",IF(AND(I33="Indeterminado",I19<=0),$B$26,IF(I33>=$R$32,$B$25,$B$26))) -> HÁBIL | J32: =IF(AND(J33="Indeterminado",J19<=0),$B$26,IF(J33>=$R$32,$B$25,$B$26)) -> HÁBIL | K32: =IF(K75="MiPyME",IF(AND(K33="Indeterminado",K19<=0),$B$26,IF(K33>=$R$32,$B$25,$B$26))) -> HÁBIL | L32: =IF(L75="MiPyME",IF(AND(L33="Indeterminado",L19<=0),$B$26,IF(L33>=$R$32,$B$25,$B$26))) -> HÁBIL | M32: =IF(M75="MiPyME",IF(AND(M33="Indeterminado",M19<=0),$B$26,IF(M33>=$R$32,$B$25,$B$26))) -> HÁBIL | N32: =IF(N75="MiPyME",IF(AND(N33="Indeterminado",N19<=0),$B$26,IF(N33>=$R$32,$B$25,$B$26))) -> HÁBIL | O32: =IF(O75="MiPyME",IF(AND(O33="Indeterminado",O19<=0),$B$26,IF(O33>=$R$32,$B$25,$B$26))) -> HÁBIL | P32: =IF(P75="MiPyME",IF(AND(P33="Indeterminado",P19<=0),$B$26,IF(P33>=$R$32,$B$25,$B$26))) -> HÁBIL | R32: 1.7
B33: RC= (Utilidad Operacional) / (Gastos de Intereses) | C33: =IFERROR(C19/C20,"Indeterminado") -> 13.1466 | D33: =IFERROR(D19/D20,"Indeterminado") -> 42.713042 | E33: =IFERROR(E19/E20,"Indeterminado") -> 93 | H33: =IFERROR(H19/H20,"Indeterminado") -> 59.306029 | I33: =IFERROR(I19/I20,"Indeterminado") -> Indeterminado | J33: =IFERROR(J19/J20,"Indeterminado") -> Indeterminado | K33: =IFERROR(K19/K20,"Indeterminado") -> Indeterminado | L33: =IFERROR(L19/L20,"Indeterminado") -> Indeterminado | M33: =IFERROR(M19/M20,"Indeterminado") -> Indeterminado | N33: =IFERROR(N19/N20,"Indeterminado") -> 328.71819 | O33: =IFERROR(O19/O20,"Indeterminado") -> Indeterminado | P33: =IFERROR(P19/P20,"Indeterminado") -> 37.451015
B34: =CONCATENATE("CAPITAL DE TRABAJO ≥ A ",TEXT(W34,"50%")," DEL PPTO OFICIAL") -> CAPITAL DE TRABAJO ≥ A 50% DEL PPTO OFICIAL | C34: =IF(C35>(C23*$R$35),$B$25,$B$26) -> HÁBIL | D34: =IF(D35>(D23*$R$35),$B$25,$B$26) -> HÁBIL | E34: =IF(E35>(E23*$R$35),$B$25,$B$26) -> HÁBIL | H34: =IF(H35>(H23*$R$35),$B$25,$B$26) -> HÁBIL | I34: =IF(I35>(I23*$R$35),$B$25,$B$26) -> HÁBIL | J34: =IF(J35>(J23*$R$35),$B$25,$B$26) -> HÁBIL | K34: =IF(K35>(K23*$R$35),$B$25,$B$26) -> HÁBIL | L34: =IF(L35>(L23*$R$35),$B$25,$B$26) -> HÁBIL | M34: =IF(M35>(M23*$R$35),$B$25,$B$26) -> HÁBIL | N34: =IF(N35>(N23*$R$35),$B$25,$B$26) -> HÁBIL | O34: =IF(O35>(O23*$R$35),$B$25,$B$26) -> HÁBIL | P34: =IF(P35>(P23*$R$35),$B$25,$B$26) -> HÁBIL | Q34: Plazo requerido | R34: 12
B35: =CONCATENATE("CT = Activo Corriente - Pasivo Corriente ≥ ",TEXT((R23*R35),"$###.###.###.###")) -> CT = Activo Corriente - Pasivo Corriente ≥ $199.000.000 | C35: =+C13-C14 -> 313659283 | D35: =+D13-D14 -> 3272296765 | E35: =+E13-E14 -> 3864475095 | H35: =(F13+G13)-(F14+G14) -> 6958635460 | I35: =+I13-I14 -> 1356739688 | J35: =+J13-J14 -> 15950829749 | K35: =+K13-K14 -> 812102159 | L35: =+L13-L14 -> 520378998 | M35: =+M13-M14 -> 273953804 | N35: =+N13-N14 -> 2988839776 | O35: =+O13-O14 -> 1593220778 | P35: =+P13-P14 -> 13386777032 | Q35: Cap. Trab. Requerido | R35: 0.5
B36: CRITERIO DE VERIFICACIÓN CAPACIDAD ORGANIZACIONAL
B38: =CONCATENATE("Indicador Rentabilidad del Patrimonio",CHAR(10),"Mayor o Igual a ",R38) -> Indicador Rentabilidad del Patrimonio Mayor o Igual a 0,05 | C38: =IF(C75="MiPyME",IF(C39>=$R$38,$B$25,$B$26)) -> HÁBIL | D38: =IF(D75="MiPyME",IF(D39>=$R$38,$B$25,$B$26)) -> HÁBIL | E38: =IF(E75="MiPyME",IF(E39>=$R$38,$B$25,$B$26)) -> HÁBIL | H38: =IF(H75="MiPyME",IF(H39>=$R$38,$B$25,$B$26)) -> HÁBIL | I38: =IF(I75="MiPyME",IF(I39>=$R$38,$B$25,$B$26)) -> HÁBIL | J38: =IF(J39>=$Y$38,$B$25,$B$26) -> HÁBIL | K38: =IF(K75="MiPyME",IF(K39>=$R$38,$B$25,$B$26)) -> HÁBIL | L38: =IF(L75="MiPyME",IF(L39>=$R$38,$B$25,$B$26)) -> HÁBIL | M38: =IF(M75="MiPyME",IF(M39>=$R$38,$B$25,$B$26)) -> HÁBIL | N38: =IF(N75="MiPyME",IF(N39>=$R$38,$B$25,$B$26)) -> HÁBIL | O38: =IF(O75="MiPyME",IF(O39>=$R$38,$B$25,$B$26)) -> HÁBIL | P38: =IF(P75="MiPyME",IF(P39>=$R$38,$B$25,$B$26)) -> HÁBIL | R38: 0.05
B39: RP = (Utilidad Operacional / Patrimonio) | C39: =C19/C17 -> 0.23598557 | D39: =D19/D17 -> 0.32318566 | E39: =E19/E17 -> 1.7100613 | H39: =H19/H17 -> 0.0999496 | I39: =I19/I17 -> 0.2538052 | J39: =J19/J17 -> 0.67565307 | K39: =K19/K17 -> 0.28628951 | L39: =L19/L17 -> 0.84328404 | M39: =M19/M17 -> 0.15547364 | N39: =N19/N17 -> 0.49684777 | O39: =O19/O17 -> 0.44819522 | P39: =P19/P17 -> 0.24511582
B40: =CONCATENATE("Indicador Rentabilidad del Activo",CHAR(10),"Mayor o Igual a ",R40) -> Indicador Rentabilidad del Activo Mayor o Igual a 0,02 | C40: =IF(C75="MiPyME",IF(C41>=$R$40,$B$25,$B$26)) -> HÁBIL | D40: =IF(D75="MiPyME",IF(D41>=$R$40,$B$25,$B$26)) -> HÁBIL | E40: =IF(E75="MiPyME",IF(E41>=$R$40,$B$25,$B$26)) -> HÁBIL | H40: =IF(H75="MiPyME",IF(H41>=$R$40,$B$25,$B$26)) -> HÁBIL | I40: =IF(I75="MiPyME",IF(I41>=$R$40,$B$25,$B$26)) -> HÁBIL | J40: =IF(J41>=$Y$40,$B$25,$B$26) -> HÁBIL | K40: =IF(K75="MiPyME",IF(K41>=$R$40,$B$25,$B$26)) -> HÁBIL | L40: =IF(L75="MiPyME",IF(L41>=$R$40,$B$25,$B$26)) -> HÁBIL | M40: =IF(M75="MiPyME",IF(M41>=$R$40,$B$25,$B$26)) -> HÁBIL | N40: =IF(N75="MiPyME",IF(N41>=$R$40,$B$25,$B$26)) -> HÁBIL | O40: =IF(O75="MiPyME",IF(O41>=$R$40,$B$25,$B$26)) -> HÁBIL | P40: =IF(P75="MiPyME",IF(P41>=$R$40,$B$25,$B$26)) -> HÁBIL | R40: 0.02
B41: RA = (Utilidad Operacional / Activo Total) | C41: =C19/C15 -> 0.22124512 | D41: =D19/D15 -> 0.2034464 | E41: =E19/E15 -> 1.5575006 | H41: =H19/H15 -> 0.079699433 | I41: =I19/I15 -> 0.14424076 | J41: =J19/J15 -> 0.59961254 | K41: =K19/K15 -> 0.24928492 | L41: =L19/L15 -> 0.82862775 | M41: =M19/M15 -> 0.14645972 | N41: =N19/N15 -> 0.42220791 | O41: =O19/O15 -> 0.41373055 | P41: =P19/P15 -> 0.19084101
B42: CUMPLIMIENTO REQUISITOS HABLITANTES | C42: =+IF(COUNTIF(C28:C41,"NO HÁBIL")>=1,"NO HABILITADO","HABILITADO") -> HABILITADO | D42: =+IF(COUNTIF(D28:D41,"NO HÁBIL")>=1,"NO HABILITADO","HABILITADO") -> HABILITADO | E42: =+IF(COUNTIF(E28:E41,"NO HÁBIL")>=1,"NO HABILITADO","HABILITADO") -> HABILITADO | H42: =+IF(COUNTIF(H28:H41,"NO HÁBIL")>=1,"NO HABILITADO","HABILITADO") -> HABILITADO | I42: =+IF(COUNTIF(I28:I41,"NO HÁBIL")>=1,"NO HABILITADO","HABILITADO") -> HABILITADO | J42: =+IF(COUNTIF(J28:J41,"NO HÁBIL")>=1,"NO HABILITADO","HABILITADO") -> HABILITADO | K42: =+IF(COUNTIF(K28:K41,"NO HÁBIL")>=1,"NO HABILITADO","HABILITADO") -> HABILITADO | L42: =+IF(COUNTIF(L28:L41,"NO HÁBIL")>=1,"NO HABILITADO","HABILITADO") -> HABILITADO | M42: =+IF(COUNTIF(M28:M41,"NO HÁBIL")>=1,"NO HABILITADO","HABILITADO") -> HABILITADO | N42: =+IF(COUNTIF(N28:N41,"NO HÁBIL")>=1,"NO HABILITADO","HABILITADO") -> HABILITADO | O42: =+IF(COUNTIF(O28:O41,"NO HÁBIL")>=1,"NO HABILITADO","HABILITADO") -> HABILITADO | P42: =+IF(COUNTIF(P28:P41,"NO HÁBIL")>=1,"NO HABILITADO","HABILITADO") -> HABILITADO
B44: NOTA: Una vez verificada la Información Financiera presentada por cada uno de los proponentes, se informa que las sociedades arriba descritas, que cumplen con lo solicitado en los pliegos de condiciones definitivos en cuanto a los Indicadores Financieros requeridos, se encuentran HABILITADAS.
B47: =B72 -> Fecha de cierre del proceso:
B48: 45848
...

Sheet Consolidado 14 al 25
B1: Alcaldía de Bogotá D.C.
B2: Secretaría Distrital de Gobierno
B3: Alcaldía Local de Suba
B5: ='FDLSUBA-SA-MC-004-2025 14 al 25'!B6 -> SELECCIÓN ABREVIADA DE MENOR CUANTÍA FDLSUBA-SA-MC-004-2025 (133182)
B6: ='FDLSUBA-SA-MC-004-2025 14 al 25'!B7 -> OBJETO: "PRESTAR SERVICIOS DE APOYO LOGÍSTICOS PARA LA REALIZACIÓN DE EVENTOS Y ACTIVIDADES QUE PROMUEVAN EL DESARROLLO ECONÓMICO QUE REQUIERA LA ALCALDÍA LOCAL DE SUBA EN EL MARCO DEL CUMPLIMIENTO DEL PLAN DE DESARROLLO LOCAL"
B7: Presupuesto Oficial del Proceso | C7: ='FDLSUBA-SA-MC-004-2025 14 al 25'!R23 -> 398000000
B8: Fecha corte Información Financiera | C8: 45657
B9: Fecha cierre del proceso de selección | C9: ='FDLSUBA-SA-MC-004-2025 14 al 25'!B48 -> 45848
B10: VERIFICACIóN DE LOS INDICADORES | I10: RUP | J10: RESULTADO FINANCIERO | K10: OBERVACIONES
B11: NOMBRE DEL PROPONENTE | C11: Índice de liquidez | D11: Índice de endeudamiento | E11: Razón de Cobertura de intereses | F11: Capital de trabajo | G11: Rentabilidad del patrimonio | H11: Rentabilidad del activo | I11: VIGENTE; EN FIRME Y 30 DÍAS ANTERIORES
A12: 14 | B12: ='FDLSUBA-SA-MC-004-2025 14 al 25'!C8 -> GEMGAL S.A.S NIT: 901517484-1 | C12: CUMPLE | D12: CUMPLE | E12: CUMPLE | F12: CUMPLE | G12: CUMPLE | H12: CUMPLE | I12: CUMPLE | J12: HABILITADO
A13: 15 | B13: ='FDLSUBA-SA-MC-004-2025 14 al 25'!D8 -> COLOMBIANA DE SERVICIOS COMEDORES & SUMINISTROS S.A.S NIT: 900782536-5 | C13: CUMPLE | D13: CUMPLE | E13: CUMPLE | F13: CUMPLE | G13: CUMPLE | H13: CUMPLE | I13: CUMPLE | J13: HABILITADO
A14: 16 | B14: ='FDLSUBA-SA-MC-004-2025 14 al 25'!E8 -> CREIGHTIVE S.A.S. NIT:900894796-4 | C14: CUMPLE | D14: CUMPLE | E14: CUMPLE | F14: CUMPLE | G14: CUMPLE | H14: CUMPLE | I14: CUMPLE | J14: HABILITADO
A15: 17 | B15: ='FDLSUBA-SA-MC-004-2025 14 al 25'!H8 -> UNIÓN TEMPORAL UT LOGÍSTICA IP | C15: CUMPLE | D15: CUMPLE | E15: CUMPLE | F15: CUMPLE | G15: CUMPLE | H15: CUMPLE | I15: CUMPLE | J15: HABILITADO
A16: 18 | B16: ='FDLSUBA-SA-MC-004-2025 14 al 25'!I8 -> GRUPO SOCIEDAD CAPITAL SAS NIT: 900565133 0 | C16: CUMPLE | D16: CUMPLE | E16: CUMPLE | F16: CUMPLE | G16: CUMPLE | H16: CUMPLE | I16: CUMPLE | J16: HABILITADO
A17: 19 | B17: ='FDLSUBA-SA-MC-004-2025 14 al 25'!J8 -> LOGISTICA Y GESTION DE NEGOCIOS SAS NIT: 900582854 4 | C17: CUMPLE | D17: CUMPLE | E17: CUMPLE | F17: CUMPLE | G17: CUMPLE | H17: CUMPLE | I17: CUMPLE | J17: HABILITADO
A18: 20 | B18: ='FDLSUBA-SA-MC-004-2025 14 al 25'!K8 -> LILLY HAIDY BALAGUERA RODRIGUEZ NIT: 52822142 4 | C18: CUMPLE | D18: CUMPLE | E18: CUMPLE | F18: CUMPLE | G18: CUMPLE | H18: CUMPLE | I18: CUMPLE | J18: HABILITADO
A19: 21 | B19: ='FDLSUBA-SA-MC-004-2025 14 al 25'!L8 -> ORGANIZACION TOTALL PRO S.A.S NIT: 900305935 6 | C19: CUMPLE | D19: CUMPLE | E19: CUMPLE | F19: CUMPLE | G19: CUMPLE | H19: CUMPLE | I19: CUMPLE | J19: HABILITADO
A20: 22 | B20: ='FDLSUBA-SA-MC-004-2025 14 al 25'!M8 -> INNOVA NOUS SAS NIT: 900864269 6 | C20: CUMPLE | D20: CUMPLE | E20: CUMPLE | F20: CUMPLE | G20: CUMPLE | H20: CUMPLE | I20: CUMPLE | J20: HABILITADO
A21: 23 | B21: ='FDLSUBA-SA-MC-004-2025 14 al 25'!N8 -> CARLOS ALBERTO PINZON MOLINA NIT: 79867234 5 | C21: CUMPLE | D21: CUMPLE | E21: CUMPLE | F21: CUMPLE | G21: CUMPLE | H21: CUMPLE | I21: CUMPLE | J21: HABILITADO
A22: 24 | B22: ='FDLSUBA-SA-MC-004-2025 14 al 25'!O8 -> FUNDACION NINOS ACORDEONEROS Y CANTORES DEL VALLENATO ANDRES TURCO GIL NIT:824003749-0 | C22: CUMPLE | D22: CUMPLE | E22: CUMPLE | F22: CUMPLE | G22: CUMPLE | H22: CUMPLE | I22: CUMPLE | J22: HABILITADO
A23: 25 | B23: ='FDLSUBA-SA-MC-004-2025 14 al 25'!P8 -> URBANO EXPRESS LOGISTICA Y MERCADEO S.A.S NIT: 900046728 6 | C23: CUMPLE | D23: CUMPLE | E23: CUMPLE | F23: CUMPLE | G23: CUMPLE | H23: CUMPLE | I23: CUMPLE | J23: HABILITADO
A25: * Se realiza la Evaluación Financiera y Organizacional de acuerdo a lo establecido con el pliego de condiciones definitivo del proceso; la evaluación es puesta a disposición de la Oficina de Contratación y Despacho para que se continúe con el proceso de evaluación.
B27: =#REF! -> #REF!
E29: ORIGINAL FIRMADO
E30: Magda C. Vargas Del Valle
E31: Profesional Área de Contratación - FDL Suba
E32: Comité Evaluador Financiero
