Workbook

Sheet OF LOCAL CRAVO NORTE
A4: NOMBRE DE LA EDIFICACION: | B4: ICA SOLEDAD - ATLANTICO | E4: ID./ PLACA INMUEBLE:
A5: UBICACIÓN: | B5: Calle 18 No. 50-32 Soledad
A6: TIPO DE USO | B6: ADMINSITRATIVO | C6: LABORATORIO | D6: OTRO | E6: CUAL?
A7: OCUPACIÓN: | B7: PROPIA | C7: COMODATO
A9: PLANO DE LOCALIZACION | B9: PANORAMICA | C9: DESCRIPCION GENERAL
A13: DIAGNOSTICO DE LA INFRAESTRUCTURA
A15: ANALISIS INTERIOR Y EXTERIOR
A16: INSTALACIONES ELÉCTRICAS INTERNAS Y EXTERNAS SECCIONAL SOLEDAD
A17: ELEMENTO | B17: DIAGNOSTICO | C17: ACCIONES PREVENTIVAS/CORRECTIVAS | D17: REGISTRO FOTOGRAFICO
A18: CUBIERTA | B18: la totalidad de la ccubierta se enuentra en mal estado, tejas rotas | C18: Se require el cambio en laa totalidad del tendido de cubierta
A19: CIELO RAZO | B19: Se identifican los circuitos alimentadores en buen estado. | C19: Se debe hacer cambio del circuito para la puerta de entrada en tuberia metaliza IMC
A20: TOMACORRIENTES | B20: Se encuentran toma corrientes en muros que estan deteriodadas por el uso, llenas de hormigas, quemadas. Se encuentra una canalización con canaleta plastica la cual esta a una altura de 1,8m, las tomacorrientes de esta canalización no cumple norma por que no tienen puesta a tierra, ademas, la altura de las salidas no cumple para los puestos de trabajo. Se encuentran derevaciones para tomas en clavijas que no cumplen norma. | C20: Se debe realizar mantenimiento en conexiones y marcacion de fases a las salidas de los muros, cambio de tomacorrientes. Con respecto a las salidas en canaleta plastica estas deben acondicionarse a la altura de los puestos de trabajo, es decir a 0,3m de altura e instalar la puesta a tierra de cada una de ellas, marcar fases y la canaleta identificando la parte electrica y la parte de comunicaciones. Se deben retirar las conexiones que no cumplen norma y reemplazarlas por unas adecuadas. Derivaciones de tomas de muros con canaleta plastica.
A21: ILUMINACIÓN (INCLUIDAS LUMINARIAS E INTERRUPTORES) | B21: Se encuentra luminarias rotas, luminarias sin funcionar, interruptores que no accionan, salidas de iluminación sin cumplir norma con cables colgando. | C21: Es necesario renovar las luminarias a tecnologia led, los interruptores se necesita cambiar los que no funcionan, verificar y ajustar las salidas de iluminacion que cumplan norma. Se requiere realizar un estudio de iluminación para cumplir con las condiciones de RETILAP en los puestos de trabajo y en las diferentes áreas de la sede.
A22: UPS (REDES REGULADAS) | B22: No se encuentra UPS en las oficinas, por lo tanto no hay redes reguladas. | C22: Se requiere el suministro e instalación de una UPS para los equipos de computo de las instalaciones.
A23: PLANTA ELECTRICA | B23: No existe planta electrica en la seccional | C23: Se debe instalar una planta electrica para que soporte la carga de toda la sede, es decir una de 175 kVA
A24: ILUMINACION EXTERIOR | B24: Se identifica la falta de iluminación exterior la cual es necesaria para la seguridad de la sede. | C24: Se debe instalar la iluminación exterior para minimizar los riesgos de seguridad en la noche. Se requiere que los reflectores sean de tecnología led y de carga solar con detector de movimiento para su eficencia energética. Se deberan instalar 2 reflectores.
A25: ANALISIS INTERIOR
A26: ELEMENTO | B26: DIAGNOSTICO | C26: ACCIONES PREVENTIVAS/CORRECTIVAS | D26: REGISTRO FOTOGRAFICO
A27: PAREDES Y TECHOS | B27: Paredes con desprendimiento de pintura, y areas de desgate de la misma tanto en extriores como en interiores. | C27: pintura de muros, mantenimiento de aire acondicionado.
A28: PSG | B28: Falta de mantenimiento de PSG y falta de espacio, pintura en muros | C28: Se require desplazar division interna para tener mas espacio, asegurar división, mantenimiento de ventanal, cambio de chapa puerta circulación y baño mujeres, instalar puerta, brazo hidráulico para puerta de acceso.
B29: ARREGLO DE SALIDA Y SUMINISTRO DE AGUA PARA BAÑOS DEMUJER Y DE HOMBRE EN PSG PARA LA AMNOS Y SANITARIOS | C29: Se requirerealliazr la inspeccion y puestaen funcionamiento del suministaro y saida de agus de los puntos hidrosanitarios en baños de PSG
B30: Las chapas ded los maños de PSG no sirven | C30: Cambio de chapas en puertas para baños de hombres y mujeres en PSG
A31: PINTURA | B31: Paredes con desprendimiento de pintura, pañete | C31: RACK PRINCIPAL, JURIDICA, FINANCIERA, SANIDAD VEGETAL Y ANIMAL, resane de pared
B32: Presencia de humedad en muros y ventana deteriorada. | C32: FORESTAL, arreglo de humedad, cambio de ventana,
B33: Cielo raso deteriorado | C33: SANIDAD ANIMAL – TÉCNICOS, BODEGA INSUMOS PECUARIOS, OFICINA DE GERENCIA, cambio de cielo raso
B34: Falta de mantenimiento en Cafeteria, por aires acondicionados con falla en el funcionamiento, sifón deteriorado, enchape levantado, cerradura y cielo raso con daños. | C34: CAFETERIA, 2 aires acondicionados, extractor, cambio de sifón, cambio de enchape levantado, cerradura y cielo raso.
A35: BAÑOS | B35: Se requiere Mantenimiento en el baño de hombres por filtración, divisiones deterioradas, enchape suelto y cielo raso. | C35: Resane de de divisiones deterioradas, arreglo de 3 orinales, cambio de cielo raso y enchape desprendido.
A36: ELEMENTO | B36: DIAGNOSTICO | C36: ACCIONES PREVENTIVAS/CORRECTIVAS | D36: REGISTRO FOTOGRAFICO
A37: PISOS | B37: Piso en granito desgastado en toda la seccional | C37: desvastada, Pulida de piso y brillada
A38: ELEMENTO | B38: DIAGNOSTICO | C38: ACCIONES PREVENTIVAS/CORRECTIVAS | D38: REGISTRO FOTOGRAFICO
A39: PUERTAS | B39: Piuertas metalicas internas deterioradas en su pintura. Puertas del area de Rack, Auditorio, Gerencia , Archivo, Acceso calle 18,, puertas dde bañños de hombres y mujeres. | C39: Pintura nueva de puertas metalicas
A40: CAFETERIA | B40: No existenn muebles en la parte inferior de mesones | C40: Se requiere la fabricaccion e intalacion de puertas de mobiliario para mesones bajos ennn cocina
A41: OFICINA GERENCIA SECCIONAL | B41: Por solicctud del gerente seccional solita la instalacion de un nuevo baño para su oficina | C41: Intsalacion de un nuevo baño para la oficna ded la Gerncia Seccional
A42: CONCLUSIONES Y RECOMENDACIONES
A43: Las anteriores actividades estan sujetas a verificación legal de su viabilidad y disponibilidad presupuestal.
A46: INFORMACION ADICIONAL Y SOPORTES
A47: DOCUMENTO | B47: SOPORTE FISICO (SI/NO) | C47: OBSERVACIONES
A48: ACTAS DE REUNION | B48: Si
A49: PLANOS RECORD | B49: No
A50: LEVANTAMIENTO ARQUITECTONICO | B50: No | E50: AREA M2:
...

Sheet PRESUPUESTO
A2: FOR-ADM-005 | B2: PRESUPUESTOS DE OBRA
A3: Enero | 2021
A4: Versión 000
A6: Ciudad | C6: Municipio de Cravo Norte Arauca | H6: fecha
A7: Proyecto | C7: Adecuación oficina local ICA Cravo Norte - Arauca
A8: Contratante | C8: Instituto Colombiano Agropecuario
A9: Contratista
A10: ÍTEM | B10: CONDICIONES CONTRACTUALES
B11: DESCRIPCIÓN | D11: UNIDAD | E11: CANTIDAD | F11: VALOR UNIDAD | G11: VALOR TOTAL
A12: COMPONENTE 1. BLOQUE ADMINISTRATIVO GENERAL
A13: 1
A14: 1.1 | B14: DEMOLICION DE PISO TABLETA EN GRES EXISTENTE INCLUYE RETIRO Y DISPOSICION FINAL DE ESCOMBROS ,DEMOLICION HASTA 15 CENTIIMETROS | D14: M2 | E14: =+ROUND('1,1'!K38,2) -> 57.09 | F14: =+APU´s!F22 -> 14061 | G14: =ROUND(E14*F14,2) -> 802742.49 | J14: =+E14 -> 57.09 | K14: =+F14 -> 14061
A15: 1.2 | B15: PICADO, RASPADO Y ALISTADO DE BASE EN MURO PARA ENCHAPE DE BAÑOS INCLUYE RETIRO Y DISPOSICION FINAL DE ESCOMBROS. | D15: M2 | E15: =+ROUND('1,2'!K38,2) -> 55.55 | F15: =+APU´s!F35 -> 8309 | G15: =ROUND(E15*F15,2) -> 461564.95 | J15: =+E15 -> 55.55 | K15: =+F15 -> 8309
A16: 1.3 | B16: DEMOLICION DE DE MURO PARA PUERTA DE ACCESO NUEVO ENTRADA ALMACEN Y PLACA EN CONCRETO EXIISTENTE | D16: M2 | E16: =+'1,3'!K38 -> 18.08 | F16: =+APU´s!F50 -> 16761 | G16: =ROUND(E16*F16,2) -> 303038.88 | J16: =+E16 -> 18.08 | K16: =+F16 -> 16761
A17: 1.4 | B17: SUMINSTRO E INSTALACION DE PAÑETE 1:4 PARA RESANE DE VANO DE PUERTA INCLUYES FILOS Y DILATACIONES Y COMPLEMENTO EN MUROS COMPARTIDO DE BAÑOS | D17: M2 | E17: =+ROUND('1,4'!K38,2) -> 33.43 | F17: =+APU´s!F64 -> 33107 | G17: =ROUND(E17*F17,2) -> 1106767 | J17: =+E17 -> 33.43 | K17: =+F17 -> 33107
A18: 1.5 | B18: SUMINISTRO E INSTALACION DE MORTERO DE NIIVELACION DE 5 CMS EN PISO MORTERO 1:4 IMPERMEABILIZADO CON SIKA IMPERMEABILIZANTE INCLUYE MALLA DE REFUERZO ELECTROSOLADAD DE 4 MM HUECO 20X20 | D18: M2 | E18: =+ROUND('1,5'!K38,2) -> 104.46 | F18: =+APU´s!F81 -> 56281 | G18: =ROUND(E18*F18,2) -> 5879113.3 | J18: =+E18 -> 104.46 | K18: =+F18 -> 56281
A19: 1,5 A | B19: SUMINISTRO E INSTALACION DE CONCRETO DE 3000 PSI DE 15 CMS INCLUYE MALLA ELECTROSOLDA No 4 HUECO DE 15 X 15 PARA ANDEN COSTADO IZQUIERDOO DE LA EDIFICACION | D19: M2 | E19: =+'1,5 A'!K38 -> 17.73 | F19: =+APU´s!F98 -> 281095 | G19: =ROUND(E19*F19,2) -> 4983814.3 | J19: =+E19 -> 17.73 | K19: =+F19 -> 281095
A20: 1,5 B | B20: EXCAVACION PARA ANDEN EXTERIOR INCLUYE RETIRO DE MATERIAL DE LA OBRA | D20: M3 | E20: =+ROUND('1,5 B'!K38,2) -> 2.45 | F20: =+APU´s!F113 -> 38672 | G20: =ROUND(E20*F20,2) -> 94746.4 | J20: =+E20 -> 2.45 | K20: =+F20 -> 38672
A21: 1.6 | B21: SUMINISTRO E INSTALACION DE PISO ANKARA CAFE CARAS DIFERENCIADAS 60X60 Y PISO CERÁMICO BUNES GRIS 60X60CM INSTALACION A DOS TONOS DIFERENCIANDO AREAS DE TRABAJO. SEGÚN DISEÑO | D21: M2 | E21: =+ROUND('1,6'!K38,2) -> 92.22 | F21: =+APU´s!F133 -> 129089 | G21: =ROUND(E21*F21,2) -> 11904588 | I21: HOMCENTER | J21: =+E21 -> 92.22 | K21: =+F21 -> 129089
A22: 1.7 | B22: SUMINISTRO E INSTALCION DE PORCELANATO TRAFICO PESADO ANTIDESLIZANTE PISO CERÁMICO PISO PARED ARABIA BEIGE EN FORMATO 30X60, CORREDORES EXTERIORES | D22: M2 | E22: =+ROUND('1,7'!K38,2) -> 96.92 | F22: =+APU´s!F152 -> 92514 | G22: =ROUND(E22*F22,2) -> 8966456.9 | I22: CORONA | J22: =+E22 -> 96.92 | K22: =+F22 -> 92514
A23: 1.8 | B23: SUMINISTRO E INSTALACION DE ENCHAPE MURO PARA BAÑO FACHALETA JAEN BLANCO CARAS DIFERENCIADAS 25X41 INCLUYE Y MATERIAL DE PEGA Y BOQUILLA Y WIN PLASTICOPARA ESQUINAS | D23: M2 | E23: =+ROUND('1,8'!K38,2) -> 28.44 | F23: =+APU´s!F171 -> 115082 | G23: =ROUND(E23*F23,2) -> 3272932.1 | I23: HOMCENTER | J23: =+E23 -> 28.44 | K23: =+F23 -> 115082
A24: 1.9 | B24: SUMINISTRO E INSTALCION DE ENCHAPE PISO PARA BAÑOPISO CERÁMICO MARMOL GIOTA VENATO GREY 60X60 CM INCLUYE MATERIAL DE PEEGA Y BOQUILLA | D24: M2 | E24: =+ROUND('1,9'!K34,2) -> 4.15 | F24: =+APU´s!F191 -> 86794 | G24: =ROUND(E24*F24,2) -> 360195.1 | I24: HOMCENTER | J24: =+E24 -> 4.15 | K24: =+F24 -> 86794
A25: 1.1 | B25: APLICACIÓN DE PINTURA Y ESTUCO GENERAL PARA INTERIOR EN VINILO TIPO 1 EN MUROS. INCLUYE LIMPIEZA , RASPADO, RESANES, LIJADO FILOS EN ESCUADRAS DE MUROS DE VENTANA Y PUERTAS | D25: M2 | E25: =+ROUND('1,10'!K50,2) -> 215.78 | F25: =+APU´s!F207 -> 32107 | G25: =ROUND(E25*F25,2) -> 6928048.5 | J25: =+E25 -> 215.78 | K25: =+F25 -> 32107
A26: 1.11 | B26: DESMONTE DE CIELO FALSO EXISTENTE DE IMATERIAL DE ICOPOR , DESMONTE DE ESTRCUTURA SOPORTE , INCLUYE RETIRO Y DISPOSICION FINAL DE ESCOMBROS | D26: M2 | G26: =ROUND(E26*F26,2) -> 0 | J26: =+E26 -> 0 | K26: =+F26 -> 0
A27: 1.12 | B27: SUMINISTRO E INSTALACION DE TECHO EN DRY WALL YESO DE 1/2" INCLUYE ESTRUCTURA EN ALUMINIO (OMEGAS ) Y AISLANTE TERMICO FRESCASA FIBRA DE VIDRIO ECO 2-1/2PG 7.62X1.22 Y DE TODOS SUS ACCESORIOS PARA SU CORRECTA INSTALACION . | D27: M2 | E27: =+ROUND('1,12'!K38,2) -> 92.22 | F27: =+APU´s!F244 -> 97049 | G27: =ROUND(E27*F27,2) -> 8949858.8 | I27: HOMECENTER | J27: =+E27 -> 92.22 | K27: =+F27 -> 97049
A28: 1.13 | B28: APLICACIÓN DE PINTURA GENERAL PARA INTERIORES EN VINILO TIPO 1 PARA TECHOS . INCLUYE LIMPIEZA , RASPADO, RESANES, LIJADO FILOS INSTALACION DE SELLO DE JUNTAS | D28: M2 | E28: =+ROUND('1,13'!K38,2) -> 92.22 | F28: =+APU´s!F260 -> 33404 | G28: =ROUND(E28*F28,2) -> 3080516.9 | J28: =+E28 -> 92.22 | K28: =+F28 -> 33404
A29: 1.14 | B29: SUMINISTRO Y APLICACIÓN DE PINTURA PARA EXTERIOR TIPO KORAZA.NCLUYE LIMPIEZA , RASPADO, RESANES, LIJADO FILOS EN ESCUADRAS DE MUROS DE VENTANA Y PUERTAS | D29: M2 | E29: =+ROUND('1,14'!K55,2) -> 123.13 | F29: =+APU´s!F275 -> 38075 | G29: =ROUND(E29*F29,2) -> 4688174.8 | J29: =+E29 -> 123.13 | K29: =+F29 -> 38075
A30: 1.15 | B30: SUMINISTRO Y APLICACIÓN DE ANTICORROSIVO Y PINTURA ESMALTE PARA PUERTAS METALICAS .NCLUYE LIMPIEZA , LIJADO RASPADO, RESANES | D30: M2 | E30: =+'1,15'!K37 -> 19.68 | F30: =+APU´s!F290 -> 31214 | G30: =ROUND(E30*F30,2) -> 614291.52 | J30: =+E30 -> 19.68 | K30: =+F30 -> 31214
A31: 1.16 | B31: SUMINISTRO Y APLICACIÓN DE ANTICORROSIVOO Y PINTURA ESMALTE PARA REJAS DE VENTANAS METALICAS .NCLUYE LIMPIEZA , LIJADO RASPADO, RESANES | D31: M2 | E31: =+ROUND('1,16'!K37,2) -> 11.33 | F31: =+APU´s!F305 -> 31214 | G31: =ROUND(E31*F31,2) -> 353654.62 | J31: =+E31 -> 11.33 | K31: =+F31 -> 31214
A32: 1.17 | B32: DESMONTE DE TEJAS EXITENTES EN CUBIERTA INCLUYE RETIRO Y DISPOSICION FINAL | D32: M2 | E32: =+'1,17'!K37 -> 166.16 | F32: =+APU´s!F319 -> 9228 | G32: =ROUND(E32*F32,2) -> 1533324.5 | J32: =+E32 -> 166.16 | K32: =+F32 -> 9228
A33: 1.18 | B33: MANTENIMIENTO DE ESTRUCTURA DE CUBIERTA, INCLUYE LIMPIEZA, APLICACIÓN ANTICORROSIVO Y PIINTURA ESMALTE, REPARACION Y AJUSTE QUE SE REQUIERA | D33: M2 | E33: =+ROUND('1,18'!K37,2) -> 110.42 | F33: =+APU´s!F334 -> 31214 | G33: =ROUND(E33*F33,2) -> 3446649.9 | J33: =+E33 -> 110.42 | K33: =+F33 -> 31214
A34: 1.19 | B34: SUINISTRO E INSTALACCION DE TEJA DE FIBRO CEMENTO No 8 CON TODOS SUS ACCESORIOS DEE SUJECION | D34: M2 | E34: =+ROUND('1,19'!K37,2) -> 110.42 | F34: =+APU´s!F352 -> 87316 | G34: =ROUND(E34*F34,2) -> 9641432.7 | J34: =+E34 -> 110.42 | K34: =+F34 -> 87316
A35: 1.2 | B35: DESMONTE DE LAVAMANOS Y SANITARIOS | D35: UNIDAD | G35: =ROUND(E35*F35,2) -> 0 | J35: =+E35 -> 0 | K35: =+F35 -> 0
A36: 1.21 | B36: SUMINISTRO E INSTALACION DE SANITARIOS REFERENCIA SANITARIO SMART ALONGADO SINGLE BLANCO INCLUYE TODOS SU ACCESORIOS CON VALVULA AHORRADORA Y TODOS SUS ACCESORIOS PARA SU CORRECTO FUNCIONAMIENTO | D36: UNIDAD | E36: =+'1,21'!K35 -> 2 | F36: =+APU´s!F378 -> 787613 | G36: =ROUND(E36*F36,2) -> 1575226 | I36: HOMCENTER DE CORONA | J36: =+E36 -> 2 | K36: =+F36 -> 787613
A37: 1.22 | B37: SUMINISTRO E INSTALACION DE LAVAMANOS CON MUEBLE ALUVIA ELEVADO 60X45 CM MILAN CON LAVAMANOS CORONA CON SISTEMA AHORRADOR DE AGUA INSTITUCIONAL.INCLUYE TODOS SUS ACCESORIOS PARA SU CORRECTO FUNCIONAMIENTO | D37: UNIDAD | E37: =+'1,22'!K36 -> 2 | F37: =+APU´s!F392 -> 614952 | G37: =ROUND(E37*F37,2) -> 1229904 | I37: HOMCENTER DE CORONA | J37: =+E37 -> 2 | K37: =+F37 -> 614952
A38: 1.23 | B38: SUMINISTRO E INSTALACION DE PUERTA EN VIDRIO DE SEGURIDAD DE 2.00 DE ALTO X 0,0,8 DE 10 mm CON SANBLASTING INCLUYE BISAGRA DE PISO SPEEDY M60 , MANIJA DE ACERO INOXIDABLE. ESQUINERO SUPERIOR E INFERIOR. | D38: UNIDAD | E38: =+'1,23'!K36 -> 1 | F38: 1666000 | G38: =ROUND(E38*F38,2) -> 1666000 | I38: Americana de cristales | J38: =+E38 -> 1 | K38: =+F38 -> 1666000
A39: 1.24 | B39: ARREGLO DE PUERTAS Y VENTANERIA DE EXISTENTE EN ALUMINIO ADECUACION Y AJUSTE DE HOJAS Y MARCOS PARA SU CORRECTO FUNCIONAMMIENTO. | D39: M2 | E39: =+ROUND('1,24'!K37,2) -> 22.67 | F39: =+APU´s!F424 -> 28998 | G39: =ROUND(E39*F39,2) -> 657384.66 | J39: =+E39 -> 22.67 | K39: =+F39 -> 28998
A40: 1.25 | B40: ARREGLO Y AJUSTE SUMINISTRO DE AGUA PARA BAÑOS DE MUJER Y DE HOMBRE PARA LAVAMNOS Y SANITARIOS PARA SU CORRECTO FUNCIONAMIENTO | D40: UNIDAD | E40: =+'1,26'!K37 -> 5 | F40: =+APU´s!F435 -> 85674 | G40: =ROUND(E40*F40,2) -> 428370 | J40: =+E40 -> 5 | K40: =+F40 -> 85674
A41: 1.26 | B41: RETIRO DE MANIJAS DE PUERTA EXISTENTESY SUMINISTRO E INSTALCION DE CERRADURA DE INCRUSTRAR DE TRES BULONES EN PUERTAS EXISTENTES | D41: UNIDAD | E41: =+'1,27'!K38 -> 8 | F41: =+APU´s!F447 -> 302779 | G41: =ROUND(E41*F41,2) -> 2422232 | I41: HOMECENTER | J41: =+E41 -> 8 | K41: =+F41 -> 302779
A42: 1.27 | B42: RETIRO DE MANIJA DE PUERTA EXISTENTE DE ACCESO PRINCIPAL Y SUMINISTRO E INSTALCION DE MANIJA TIPO CERRADURA INCRUSTAR 4 BULONES ROSETA BARI EN PUERTA ACCESO PRINCIAPAL | D42: UNIDAD | E42: =+'1,27 A'!K38 -> 1 | F42: =+APU´s!F458 -> 538779 | G42: =ROUND(E42*F42,2) -> 538779 | J42: =+E42 -> 1 | K42: =+F42 -> 538779
...

Sheet APU´s
A1: INSTITUTO COLOMBIANO AGROPECUARIO ICA
A2: GRUPO GESTIÓN INFRAESTRUCTURA FISICA Y MANTENIMIENTO
A3: PRESUPUESTO DE OBRA 2024
B4: INSTITUTO COLOMBIANO AGROPECUARIO ICA
B5: GRUPO GESTIÓN INFRAESTRUCTURA FISICA Y MANTENIMIENTO
B6: PRESUPUESTO DE OBRA 2024
B8: ADECUACIÓN OFICINA SECIONAL ATLANTICO
B9: ANÁLISIS DE PRECIOS UNITARIOS
A10: =+PRESUPUESTO!A14 -> 1.1 | B10: =+PRESUPUESTO!B14 -> DEMOLICION DE PISO TABLETA EN GRES EXISTENTE INCLUYE RETIRO Y DISPOSICION FINAL DE ESCOMBROS ,DEMOLICION HASTA 15 CENTIIMETROS | F10: =+PRESUPUESTO!D14 -> M2
B11: DESCRIPCIÓN | C11: UNIDAD | D11: CANT/ REND | E11: VR UNITARIO | F11: VR PARCIAL
B12: MATERIALES:
H13: =+B13 -> 0 | M13: =+C13 -> 0 | N13: =+F13 -> 0
B14: EQUIPO y HERRAMIENTAS:
B15: ALMADENA 4 LB | C15: UNIDAD | D15: 0.0015 | E15: 55709 | F15: =+D15*E15 -> 83.5635
B16: CINCEL 3/4" ACERO TEMPLADO | C16: UNIDAD | D16: 0.0015 | E16: 34437 | F16: =+D16*E16 -> 51.6555
B17: BARRA AGRÍCOLA | C17: UNIDAD | D17: 0.0015 | E17: 120197 | F17: =+D17*E17 -> 180.2955
B18: TRANSPORTE
B20: MANO de OBRA:
B21: CUADRILLA 2 AYUDANTES | C21: Día | D21: 0.0765 | E21: 179680 | F21: =+E21*D21 -> 13745.52
E22: VR COSTO DIRECTO = | F22: =ROUND(SUM(F13:F21), 0) -> 14061
A23: =+PRESUPUESTO!A30 -> 1.15 | B23: =+PRESUPUESTO!B15 -> PICADO, RASPADO Y ALISTADO DE BASE EN MURO PARA ENCHAPE DE BAÑOS INCLUYE RETIRO Y DISPOSICION FINAL DE ESCOMBROS. | F23: =+PRESUPUESTO!D15 -> M2
B24: DESCRIPCIÓN | C24: UNIDAD | D24: CANT/ REND | E24: VR UNITARIO | F24: VR PARCIAL
B25: MATERIALES:
B27: EQUIPO y HERRAMIENTAS:
B28: ANDAMIO TUBULAR CON TIJERA 1.50x1.50 m | C28: DIA | D28: 0.2 | E28: 5246 | F28: =+E28*D28 -> 1049.2
B29: ALMADANA 4 lb | C29: UNIDAD | D29: 0.0008 | E29: 55709 | F29: =+E29*D29 -> 44.5672
B30: CINCEL 3/4" ACERO TEMPLADO | C30: UNIDAD | D30: 0.0008 | E30: 34437 | F30: =+E30*D30 -> 27.5496
B31: TRANSPORTE | F31: =+E31*D31 -> 0
B32: CAMIONETA
B33: MANO de OBRA: | F33: =+E33*D33 -> 0
B34: CUADRILLA 1 AYUDANTE | C34: Día | D34: 0.04 | E34: 179680 | F34: =+E34*D34 -> 7187.2
E35: VR COSTO DIRECTO = | F35: =ROUND(SUM(F26:F34), 0) -> 8309
A36: =+PRESUPUESTO!A44 -> 1.29 | B36: =+PRESUPUESTO!B16 -> DEMOLICION DE DE MURO PARA PUERTA DE ACCESO NUEVO ENTRADA ALMACEN Y PLACA EN CONCRETO EXIISTENTE | F36: =+PRESUPUESTO!D31 -> M2
B37: DESCRIPCIÓN | C37: UNIDAD | D37: CANT/ REND | E37: VR UNITARIO | F37: VR PARCIAL
B38: MATERIALES:
B40: EQUIPO y HERRAMIENTAS:
B41: ANDAMIO TUBULAR CON TIJERA 1.50x1.50 m | C41: DIA | D41: 0.15 | E41: 5246 | F41: =+E41*D41 -> 786.9
B42: ALMADANA 4 lb | C42: UNIDAD | D42: 0.0018 | E42: 55709 | F42: =+E42*D42 -> 100.2762
B43: CINCEL 3/4" ACERO TEMPLADO | C43: UNIDAD | D43: 0.0018 | E43: 34437 | F43: =+E43*D43 -> 61.9866
B44: BARRA AGRÍCOLA | C44: UNIDAD | D44: 0.001493 | E44: 120197 | F44: =+E44*D44 -> 179.45412
...

Sheet AIU
A11: GRUPO GESTION DE INFRAESTRUCUTRA FISICA Y MANTENIMIENTO
A12: CALCULO DE AIU
A13: Duración obra(meses) | G13: 3
A14: I. ADMINISTRACIÓN
A15: A. PERSONAL
A16: PERSONAL | B16: CANTIDAD DE PROFESIONALES | C16: SALARIO | D16: DEDIC. | E16: FACTOR PREST. | F16: SAL. + PREST (mes) | G16: MESES | H16: COSTO TOTAL
A17: RESIDENTE DE OBRA | B17: 1 | C17: 4797871 | D17: 1 | E17: 1.55 | F17: =+C17*E17*D17 -> 7436700 | G17: 3 | H17: =+F17*G17 -> 22310100 | I17: salarios tomados de CESOF
A18: INSPECTOR SISOMA | B18: 1 | C18: 2963580 | D18: 0.4 | E18: 1.55 | F18: =+C18*E18*D18 -> 1837419.6 | G18: 3 | H18: =+F18*G18 -> 5512258.8
A19: INGENIERO ELECTRICO | B19: 1 | C19: =3251120*1.052 -> 3420178.2 | D19: 0.4 | E19: 1.55 | F19: =+C19*E19*D19 -> 2120510.5 | G19: 3 | H19: =+F19*G19 -> 6361531.5
G20: SUBTOTAL | H20: =SUM(H17:H19) -> 34183890
A21: B. FUNCIONAMIENTO
A22: DETALLE | D22: VALOR MES
A23: Oficina | G23: 3 | H23: =+D23*G23 -> 0
A24: Informática | D24: 90000 | G24: 3 | H24: =+D24*G24 -> 270000
A25: Papelería y otros | D25: 90000 | G25: 3 | H25: =+D25*G25 -> 270000
G26: SUBTOTAL | H26: =SUM(H23:H25) -> 540000
A27: C. COSTOS LEGALES
A28: DETALLE | J28: COSTO DIRECTO
A29: POLIZAS | G29: =SUM(G30:G34) -> 0.00406 | J29: 223464232
A30: Garantía de Seriedad | G30: 0.00015 | H30: =+G30*J29 -> 33519.635
A31: Estabilidad de la Obra | G31: 0.00223 | H31: =+G31*J29 -> 498325.24
A32: Salarios, Prestaciones | G32: 0.00077 | H32: =+G32*J29 -> 172067.46
A33: Cumplimiento | G33: 0.00053 | H33: =+G33*J29 -> 118436.04
A34: Responsabilidad Civil | G34: 0.00038 | H34: =+G34*J29 -> 84916.408
A35: IMPUESTOS | G35: =SUM(G36:G39) -> 0.079
A36: Pro-Universidad nacional Ley 1697 de 2013 | G36: 0.005 | H36: =+G36*J29 -> 1117321.2
A37: Impuesto ley 1106-Contribucion Especial Sobre Contratos De Obra | G37: 0.05 | H37: =+G37*J29 -> 11173212
A38: Retención en la fuente | G38: 0.02 | H38: =+G38*J29 -> 4469284.6
A39: Impuesto de Industria y Comercio | G39: 0.004 | H39: =+G39*J29 -> 893856.93
G40: SUBTOTAL | H40: =SUM(H29:H39)/2 -> 9280469.6
A41: D. RESUMEN COSTOS DE ADMINISTRACIÓN
A42: PERSONAL | H42: =+H20 -> 34183890
A43: FUNCIONAMIENTO | H43: =+H26 -> 540000
A44: COSTOS DEL CONTRATO | H44: =+H40 -> 9280469.6
A45: TOTAL, COSTOS ADMINISTRACIÓN | H45: =SUM(H42:H44) -> 44004360
A46: TOTAL, COSTOS DIRECTO | H46: =+PRESUPUESTO!G77 -> 2.2346791e+08
A47: % COSTOS ADMINISTRACIÓN | H47: =+H45*1/H46 -> 0.19691579
A48: % DE ADMINISTRACION ASUMIDO | H48: 0.19
A49: II. IMPREVISTOS | H49: 0.05
A50: III. UTILIDADES | H50: 0.05
...

Sheet BIENES RELEVANTES
B1: DESCRIPCIÓN | C1: UNIDAD | D1: CANTIDAD | E1: VR UNITARIO | F1: DESCRIPCION en CVS | G1: BIEN RELEVANTE
B2: MORTERO 1:4 | C2: m3 | D2: =+F2 -> Bien 1 | E2: 425444 | F2: Bien 1
B3: MORTERO 1:4 | C3: M3 | D3: 104.46 | E3: 425444 | F3: Bien 2 | G3: SI HAY PARTIDA ARANCELARIA
B4: SIKA MORTERO IMPERMEABLE (Recubrimiento para impermeabiliz | C4: KL | D4: 104.46 | E4: =4678*1.0716 -> 5012.9448 | F4: Bien 3
B5: MALLA ELECTROSOLDADA 4.0 mm 20x20 cm | C5: M2 | D5: 104.46 | E5: 8070 | F5: Bien 4
B6: ALAMBRE NEGRO Cal. 18 | C6: KL | D6: 104.46 | E6: 8156 | F6: bien 5
B7: FORMALETA | C7: M2 | D7: 17.73 | E7: 84004 | F7: Bien 6
B8: ACPM | C8: GL | D8: 17.73 | E8: 16182 | F8: Bien 7
B9: CONCRETO 20.7 MPa | C9: M3 | D9: 17.73 | E9: 509960 | F9: Bien 8
B10: MALLA ELECTROSOLDADA 4.0 mm 20x20 cm | C10: M2 | D10: 17.73 | E10: 8070 | F10: Bien 9
B11: PEGACOR GRIS | C11: KL | D11: 92.22 | E11: =1360*1.0716 -> 1457.376 | F11: Bien 10
B12: AGUA | C12: LT | D12: 92.22 | E12: =64*1.0716 -> 68.5824 | F12: Bien 11
B13: PISO ANKARA CAFE CARAS DIFERENCIADAS 60X60 | C13: M2 | D13: 92.22 | E13: 41400 | F13: Bien 12
B14: PISO CERÁMICO BUNES GRIS 60X60CM | C14: M2 | D14: 92.22 | E14: 42400 | F14: Bien 13
B15: CRUCETA PLÁSTICA | C15: UNIDAD | D15: 92.22 | E15: =31*1.0716 -> 33.2196 | F15: Bien 14
B16: BLANCO DE ZINC | C16: LB | D16: 92.22 | E16: =3465*1.0716 -> 3713.094 | F16: Bien 15
B17: ESTOPA DE LIMPIEZA (Hilaza de Algodón) | C17: KL | D17: 92.22 | E17: =8220*1.0716 -> 8808.552 | F17: Bien 16
B18: PEGACOR GRIS | C18: KL | D18: 96.92 | E18: 1680 | F18: Bien 17
B19: AGUA | C19: LT | D19: 96.92 | E19: 78 | F19: Bien 18
B20: PISO PARED ARABIA BEIGE EN FORMATO 30X60, | C20: M2 | D20: 96.92 | E20: 43130 | F20: Bien 19
B21: CRUCETA PLÁSTICA | C21: UNIDAD | D21: 96.92 | E21: 39 | F21: Bien 20
B22: BLANCO DE ZINC | C22: LB | D22: 96.92 | E22: 4280 | F22: Bien 21
B23: ESTOPA DE LIMPIEZA (Hilaza de Algodón) | C23: KL | D23: 96.92 | E23: 10316 | F23: Bien 22
B24: PEGACOR GRIS | C24: KL | D24: 28.438 | E24: 1680 | F24: Bien 23
B25: AGUA | C25: LT | D25: 28.438 | E25: 78 | F25: Bien 24
B26: FACHALETA JAEN BLANCO CARAS DIFERENCIADAS 25X41 | C26: M2 | D26: 28.438 | E26: 61800 | F26: Bien 25
B27: CRUCETA PLÁSTICA | C27: UNIDAD | D27: 28.438 | E27: 39 | F27: Bien 26
B28: BLANCO DE ZINC | C28: LB | D28: 28.438 | E28: 4280 | F28: Bien 27
B29: ESTOPA DE LIMPIEZA (Hilaza de Algodón) | C29: KL | D29: 28.438 | E29: 10316 | F29: Bien 28
B30: WIN PLÁSTICO x 2.40 m | C30: UNIDAD | D30: 28.438 | E30: 6391 | F30: Bien 29
B31: PEGACOR GRIS | C31: KL | D31: 4.1548 | E31: =1360*1.0716 -> 1457.376 | F31: Bien 30
B32: AGUA | C32: LT | D32: 4.1548 | E32: =64*1.0716 -> 68.5824 | F32: Bien 31
B33: PISO CERÁMICO MARMOL GIOTA VENATO GREY 60X60 CM | C33: M2 | D33: 4.1548 | E33: 35900 | F33: Bien 32
B34: CRUCETA PLÁSTICA | C34: UNIDAD | D34: 4.1548 | E34: 39 | F34: Bien 33
B35: BLANCO DE ZINC | C35: LB | D35: 4.1548 | E35: 4280 | F35: Bien 34
B36: ESTOPA DE LIMPIEZA (Hilaza de Algodón) | C36: KL | D36: 4.1548 | E36: 10316 | F36: Bien 35
B37: WIN PLÁSTICO x 2.40 m | C37: UNIDAD | D37: 4.1548 | E37: 6391 | F37: Bien 36
B38: LIJA DE AGUA | C38: PLIEGO | D38: 215.7849 | E38: 2078 | F38: Bien 37
B39: ESTUCOR ESTUCO PLÁSTICO | C39: KL | D39: 215.7849 | E39: 4094 | F39: Bien 38
B40: PINTURA TIPO 1 | C40: GALON | D40: 215.7849 | E40: 91956 | F40: Bien 39 | G40: NO HAY PARTIDA ARANCELARIA
...

Sheet 1,1
A1: OFICINA LOCAL DE CRAVO NORTE | B1: MEMORIA DE CANTIDADES
A5: ENTIDAD | B5: =[1]Datos!B3 -> INSTITUTO COLOMBIANO AGROPECUARIO | K5: No. Contrato | M5: N/A
A6: CONTRATISTA | K6: Fecha | M6: 45439
A7: INTERVENTOR O SUPERVISOR | B7: Arq. Andres Otero
A9: Capitulo | B9: OFICINA LOCAL DE CRAVO NORTE | K9: Item: 1.1 | M9: =+PRESUPUESTO!B14 -> DEMOLICION DE PISO TABLETA EN GRES EXISTENTE INCLUYE RETIRO Y DISPOSICION FINAL DE ESCOMBROS ,DEMOLICION HASTA 15 CENTIIMETROS
A11: LOCALIZACION | B11: UBICACIÓN | C11: Dimensiones Elementos | F11: Vr. Parcial | G11: Dimensiones Vanos | J11: Vr. Parcial | K11: Vr. Total | L11: Unidad | M11: Detalle
C12: LARGO (ml) | D12: ALTO (m2) | E12: ANCHO (m3) | G12: LARGO (ml) | H12: ALTO (m2) | I12: ANCHO (m3) | W12: inicial
B13: ATENCION AL USUARIO | C13: 4.4 | E13: 4.87 | K13: =+C13*E13 -> 21.428 | L13: m2 | W13: =7.19+1.2 -> 8.39 | Y13: 4.69 | AE13: =+W13*Y13 -> 39.3491
B14: OFICINA PRINCIPAL | C14: 4.87 | E14: 4.4 | K14: =+C14*E14 -> 21.428 | W14: 4.69 | Y14: 3.81 | AE14: =+W14*Y14 -> 17.8689
B15: OFICIINA 2 | K15: =+C15*E15 -> 0 | W15: 3.04 | Y15: 3.81 | AE15: =+W15*Y15 -> 11.5824
B16: HALL BAÑOS | K16: =+C16*E16 -> 0 | W16: 3.21 | Y16: 1.37 | AE16: =+W16*Y16 -> 4.3977
B17: BAÑO 1 | K17: =+C17*E17 -> 0 | W17: 1.48 | Y17: 1.36 | AE17: =+W17*Y17 -> 2.0128
B18: BAÑO 2 | K18: =+C18*E18 -> 0 | W18: 1.4 | Y18: 1.53 | AE18: =+W18*Y18 -> 2.142
B19: ALMACEN ACCESO (anterior baño) | C19: 1.31 | E19: 2.92 | K19: =+C19*E19 -> 3.8252 | W19: 1.27 | Y19: 2.9 | AE19: =+W19*Y19 -> 3.683
B20: ALMACEN (anterior Closet 1) | C20: 0.6 | E20: 0.97 | K20: =+C20*E20 -> 0.582 | W20: 0.7 | Y20: 0.76 | AE20: =+W20*Y20 -> 0.532
B21: ALMACEN (anterior Closet 2) | C21: 0.6 | E21: 0.95 | K21: =+C21*E21 -> 0.57 | W21: 3.71 | Y21: 2.87 | AE21: =+W21*Y21 -> 10.6477
B22: ALMACEN (antereior acceso a baño desde habitacion) | C22: 0.68 | E22: 0.75 | K22: =+C22*E22 -> 0.51
B23: ALMACEN NUEVO (anterior habitacion) | C23: 2.85 | E23: 3.07 | K23: =+C23*E23 -> 8.7495
M27: Notas:
A38: TOTAL | J38: =SUM(J13:J37) -> 0 | K38: =SUM(K13:K37) -> 57.0927 | L38: =+'[2]PRESUPUESTO (en construccion)'!D18 -> M2
A40: Firma | J40: Interventor / Supervisor
A41: Contratista

Sheet 1,2
A1: OFICINA LOCAL DE CRAVO NORTE | B1: MEMORIA DE CANTIDADES
A5: ENTIDAD | B5: =[1]Datos!B3 -> INSTITUTO COLOMBIANO AGROPECUARIO | K5: No. Contrato | M5: N/A
A6: CONTRATISTA | K6: Fecha | M6: 45439
A7: INTERVENTOR O SUPERVISOR | B7: Arq. Andres Otero
A9: Capitulo | B9: OFICINA LOCAL DE CRAVO NORTE | K9: Item: 1.2 | M9: =+PRESUPUESTO!B15 -> PICADO, RASPADO Y ALISTADO DE BASE EN MURO PARA ENCHAPE DE BAÑOS INCLUYE RETIRO Y DISPOSICION FINAL DE ESCOMBROS.
A11: LOCALIZACION | B11: UBICACIÓN | C11: Dimensiones Elementos | F11: Vr. Parcial | G11: Dimensiones Vanos | J11: Vr. Parcial | K11: Vr. Total | L11: Unidad | M11: Detalle
C12: LARGO (ml) | D12: ALTO (m2) | E12: ANCHO (m3) | G12: LARGO (ml) | H12: ALTO (m2) | I12: ANCHO (m3)
B13: BAÑO 1 | C13: 1.39 | E13: 2.95 | K13: =+C13*E13 -> 4.1005 | L13: m2 | X13: 1.39 | Z13: 2.95 | AF13: =+X13*Z13 -> 4.1005
C14: 1.41 | E14: 2.95 | K14: =+C14*E14 -> 4.1595 | X14: 1.41 | Z14: 2.95 | AF14: =+X14*Z14 -> 4.1595
C15: 1.39 | E15: 2.95 | K15: =+C15*E15 -> 4.1005 | X15: 1.39 | Z15: 2.95 | AF15: =+X15*Z15 -> 4.1005
C16: 0.66 | E16: 2.95 | K16: =+C16*E16 -> 1.947 | X16: 0.66 | Z16: 2.95 | AF16: =+X16*Z16 -> 1.947
B17: BAÑO 2 | C17: 1.39 | E17: 2.95 | K17: =+C17*E17 -> 4.1005 | X17: 1.39 | Z17: 2.95 | AF17: =+X17*Z17 -> 4.1005
C18: 1.35 | E18: 2.95 | K18: =+C18*E18 -> 3.9825 | X18: 1.35 | Z18: 2.95 | AF18: =+X18*Z18 -> 3.9825
C19: 1.39 | E19: 2.95 | K19: =+C19*E19 -> 4.1005 | X19: 1.39 | Z19: 2.95 | AF19: =+X19*Z19 -> 4.1005
C20: 0.66 | E20: 2.95 | K20: =+C20*E20 -> 1.947 | X20: 0.66 | Z20: 2.95 | AF20: =+X20*Z20 -> 1.947
B21: BAÑO ALMACEN | C21: 2.9 | E21: 2.95 | K21: =+C21*E21 -> 8.555 | X21: 2.9 | Z21: 2.95 | AF21: =+X21*Z21 -> 8.555
C22: 1.27 | E22: 2.95 | K22: =+C22*E22 -> 3.7465 | X22: 1.27 | Z22: 2.95 | AF22: =+X22*Z22 -> 3.7465
C23: 1.15 | E23: 2.95 | K23: =+C23*E23 -> 3.3925 | X23: 1.15 | Z23: 2.95 | AF23: =+X23*Z23 -> 3.3925
C24: 0.76 | E24: 2.95 | K24: =+C24*E24 -> 2.242 | X24: 0.76 | Z24: 2.95 | AF24: =+X24*Z24 -> 2.242
C25: 0.76 | E25: 2.95 | K25: =+C25*E25 -> 2.242 | X25: 0.76 | Z25: 2.95 | AF25: =+X25*Z25 -> 2.242
C26: 1.08 | E26: 2.95 | K26: =+C26*E26 -> 3.186 | X26: 1.08 | Z26: 2.95 | AF26: =+X26*Z26 -> 3.186
C27: 1.27 | E27: 2.95 | K27: =+C27*E27 -> 3.7465 | M27: Notas: | X27: 1.27 | Z27: 2.95 | AF27: =+X27*Z27 -> 3.7465
A38: TOTAL | J38: =SUM(J13:J37) -> 0 | K38: =SUM(K13:K37) -> 55.5485 | L38: =+'[2]PRESUPUESTO (en construccion)'!D18 -> M2
A40: Firma | J40: Interventor / Supervisor
A41: Contratista

Sheet 1,3
A1: OFICINA LOCAL DE CRAVO NORTE | B1: MEMORIA DE CANTIDADES
A5: ENTIDAD | B5: =[1]Datos!B3 -> INSTITUTO COLOMBIANO AGROPECUARIO | K5: No. Contrato | M5: N/A
A6: CONTRATISTA | K6: Fecha | M6: 45439
A7: INTERVENTOR O SUPERVISOR | B7: Arq. Andres Otero
A9: Capitulo | B9: OFICINA LOCAL DE CRAVO NORTE | K9: Item: 1.3 | M9: =+PRESUPUESTO!B16 -> DEMOLICION DE DE MURO PARA PUERTA DE ACCESO NUEVO ENTRADA ALMACEN Y PLACA EN CONCRETO EXIISTENTE
A11: LOCALIZACION | B11: UBICACIÓN | C11: Dimensiones Elementos | F11: Vr. Parcial | G11: Dimensiones Vanos | J11: Vr. Parcial | K11: Vr. Total | L11: Unidad | M11: Detalle
C12: LARGO (ml) | D12: ALTO (m2) | E12: ANCHO (m3) | G12: LARGO (ml) | H12: ALTO (m2) | I12: ANCHO (m3)
B13: ALMACEN - ATENCION AL USUARIO | C13: 2 | E13: 0.8 | K13: =+C13*E13 -> 1.6 | L13: m2
B14: PLACA EN CONCRETO EXISTENTE | C14: 8.24 | E14: 2 | K14: =+C14*E14 -> 16.48
K15: =+C15*E15 -> 0
K16: =+C16*E16 -> 0
K17: =+C17*E17 -> 0
K18: =+C18*E18 -> 0
K19: =+C19*E19 -> 0
K20: =+C20*E20 -> 0
K21: =+C21*E21 -> 0
M27: Notas:
A38: TOTAL | J38: =SUM(J13:J37) -> 0 | K38: =SUM(K13:K37) -> 18.08 | L38: =+'[2]PRESUPUESTO (en construccion)'!D18 -> M2
A40: Firma | J40: Interventor / Supervisor
A41: Contratista

Sheet 1,4
A1: OFICINA LOCAL DE CRAVO NORTE | B1: MEMORIA DE CANTIDADES
A5: ENTIDAD | B5: =[1]Datos!B3 -> INSTITUTO COLOMBIANO AGROPECUARIO | K5: No. Contrato | M5: N/A
A6: CONTRATISTA | K6: Fecha | M6: 45439
A7: INTERVENTOR O SUPERVISOR | B7: Arq. Andres Otero
A9: Capitulo | B9: OFICINA LOCAL DE CRAVO NORTE | K9: Item: 1.4 | M9: =+PRESUPUESTO!B17 -> SUMINSTRO E INSTALACION DE PAÑETE 1:4 PARA RESANE DE VANO DE PUERTA INCLUYES FILOS Y DILATACIONES Y COMPLEMENTO EN MUROS COMPARTIDO DE BAÑOS
A11: LOCALIZACION | B11: UBICACIÓN | C11: Dimensiones Elementos | F11: Vr. Parcial | G11: Dimensiones Vanos | J11: Vr. Parcial | K11: Vr. Total | L11: Unidad | M11: Detalle
C12: LARGO (ml) | D12: ALTO (m2) | E12: ANCHO (m3) | G12: LARGO (ml) | H12: ALTO (m2) | I12: ANCHO (m3)
B13: ALMACEN - ATENCION AL USUARIO | C13: =2+2+0.8 -> 4.8 | E13: 1 | K13: =+C13*E13 -> 4.8 | L13: M2
B14: BAÑO ALMACEN | C14: 2.9 | E14: 2.95 | K14: =+C14*E14 -> 8.555
C15: 1.27 | E15: 2.95 | K15: =+C15*E15 -> 3.7465
C16: 1.15 | E16: 2.95 | K16: =+C16*E16 -> 3.3925
C17: 0.76 | E17: 2.95 | K17: =+C17*E17 -> 2.242
C18: 0.76 | E18: 2.95 | K18: =+C18*E18 -> 2.242
C19: 1.08 | E19: 2.95 | K19: =+C19*E19 -> 3.186
C20: 1.27 | E20: 2.95 | K20: =+C20*E20 -> 3.7465
B21: CUCHILLA DIVISORIA EN BAÑOS | C21: 2.9 | D21: 0.5 | E21: 2 | K21: =+C21*D21/E21 -> 0.725
B22: CMPLEMETO DE MURO EN BAÑO | C22: 1.39 | D22: 0.57 | K22: =+C22*D22 -> 0.7923
M27: Notas:
A38: TOTAL | J38: =SUM(J13:J37) -> 0 | K38: =SUM(K13:K37) -> 33.4278 | L38: M2
A40: Firma | J40: Interventor / Supervisor
A41: Contratista

Sheet 1,5
A1: OFICINA LOCAL DE CRAVO NORTE | B1: MEMORIA DE CANTIDADES
A5: ENTIDAD | B5: =[1]Datos!B3 -> INSTITUTO COLOMBIANO AGROPECUARIO | K5: No. Contrato | M5: N/A
A6: CONTRATISTA | K6: Fecha | M6: 45439
A7: INTERVENTOR O SUPERVISOR | B7: Arq. Andres Otero
A9: Capitulo | B9: OFICINA LOCAL DE CRAVO NORTE | K9: Item: 1.5 | M9: =+PRESUPUESTO!B18 -> SUMINISTRO E INSTALACION DE MORTERO DE NIIVELACION DE 5 CMS EN PISO MORTERO 1:4 IMPERMEABILIZADO CON SIKA IMPERMEABILIZANTE INCLUYE MALLA DE REFUERZO ELECTROSOLADAD DE 4 MM HUECO 20X20
A11: LOCALIZACION | B11: UBICACIÓN | C11: Dimensiones Elementos | F11: Vr. Parcial | G11: Dimensiones Vanos | J11: Vr. Parcial | K11: Vr. Total | L11: Unidad | M11: Detalle
C12: LARGO (ml) | D12: ALTO (m2) | E12: ANCHO (m3) | G12: LARGO (ml) | H12: ALTO (m2) | I12: ANCHO (m3)
B13: ATENCION AL USUARIO | C13: =7.19+1.2 -> 8.39 | E13: 4.69 | K13: =+C13*E13 -> 39.3491 | L13: M2
B14: OFICCNA PRINCIPAL | C14: 4.69 | E14: 3.81 | K14: =+C14*E14 -> 17.8689
B15: OFICIINA 2 | C15: 3.04 | E15: 3.81 | K15: =+C15*E15 -> 11.5824
B16: HALL BAÑOS | C16: 3.21 | E16: 1.37 | K16: =+C16*E16 -> 4.3977
B17: BAÑO 1 | C17: 1.48 | E17: 1.36 | K17: =+C17*E17 -> 2.0128
B18: BAÑO 2 | C18: 1.4 | E18: 1.53 | K18: =+C18*E18 -> 2.142
B19: ALMACEN 1 | C19: 1.27 | E19: 2.9 | K19: =+C19*E19 -> 3.683
B20: ACCESO ENTRE ALMACEN 1 Y 2 | C20: 0.7 | E20: 0.76 | K20: =+C20*E20 -> 0.532
B21: ALMACEN PRINCIPAL | C21: 3.71 | E21: 2.87 | K21: =+C21*E21 -> 10.6477
B22: ANDEN COSTADO IZQUIERDO | C22: =8.24+2+2 -> 12.24 | E22: 1 | K22: =+C22*E22 -> 12.24
M27: Notas:
A38: TOTAL | J38: =SUM(J13:J37) -> 0 | K38: =SUM(K13:K37) -> 104.4556 | L38: M2
A40: Firma | J40: Interventor / Supervisor
A41: Contratista

Sheet 1,5 A
A1: OFICINA LOCAL DE CRAVO NORTE | B1: MEMORIA DE CANTIDADES
A5: ENTIDAD | B5: =[1]Datos!B3 -> INSTITUTO COLOMBIANO AGROPECUARIO | K5: No. Contrato | M5: N/A
A6: CONTRATISTA | K6: Fecha | M6: 45439
A7: INTERVENTOR O SUPERVISOR | B7: Arq. Andres Otero
A9: Capitulo | B9: OFICINA LOCAL DE CRAVO NORTE | K9: Item: 1.5A | M9: =+PRESUPUESTO!B19 -> SUMINISTRO E INSTALACION DE CONCRETO DE 3000 PSI DE 15 CMS INCLUYE MALLA ELECTROSOLDA No 4 HUECO DE 15 X 15 PARA ANDEN COSTADO IZQUIERDOO DE LA EDIFICACION
A11: LOCALIZACION | B11: UBICACIÓN | C11: Dimensiones Elementos | F11: Vr. Parcial | G11: Dimensiones Vanos | J11: Vr. Parcial | K11: Vr. Total | L11: Unidad | M11: Detalle
C12: LARGO (ml) | D12: ALTO (m2) | E12: ANCHO (m3) | G12: LARGO (ml) | H12: ALTO (m2) | I12: ANCHO (m3)
L13: M2
B22: ANDEN COSTADO IZQUIERDO | C22: =8.24+2+2 -> 12.24 | E22: 1 | K22: =+C22*E22 -> 12.24
B23: RELLENO LATERAL DERECHO PLACA DE ACCESO | C23: 9.15 | E23: 0.3 | K23: =+C23*E23 -> 2.745
B24: RELLENO LATERAL IOZQUIERDO PLACA DE ACCESO | C24: 9.15 | E24: 0.3 | K24: =+C24*E24 -> 2.745
M27: Notas:
A38: TOTAL | J38: =SUM(J13:J37) -> 0 | K38: =SUM(K13:K37) -> 17.73 | L38: M2
A40: Firma | J40: Interventor / Supervisor
A41: Contratista

Sheet 1,5 B
A1: OFICINA LOCAL DE CRAVO NORTE | B1: MEMORIA DE CANTIDADES
A5: ENTIDAD | B5: =[1]Datos!B3 -> INSTITUTO COLOMBIANO AGROPECUARIO | K5: No. Contrato | M5: N/A
A6: CONTRATISTA | K6: Fecha | M6: 45439
A7: INTERVENTOR O SUPERVISOR | B7: Arq. Andres Otero
A9: Capitulo | B9: OFICINA LOCAL DE CRAVO NORTE | K9: Item: 1.5B | M9: =+PRESUPUESTO!B20 -> EXCAVACION PARA ANDEN EXTERIOR INCLUYE RETIRO DE MATERIAL DE LA OBRA
A11: LOCALIZACION | B11: UBICACIÓN | C11: Dimensiones Elementos | F11: Vr. Parcial | G11: Dimensiones Vanos | J11: Vr. Parcial | K11: Vr. Total | L11: Unidad | M11: Detalle
C12: LARGO (ml) | D12: ALTO (m2) | E12: ANCHO (m3) | G12: LARGO (ml) | H12: ALTO (m2) | I12: ANCHO (m3)
L13: M3
B22: ANDEN COSTADO IZQUIERDO | C22: =8.24+2+2 -> 12.24 | D22: 0.2 | E22: 1 | K22: =+C22*D22*E22 -> 2.448
M27: Notas:
A38: TOTAL | J38: =SUM(J13:J37) -> 0 | K38: =SUM(K13:K37) -> 2.448 | L38: M3
A40: Firma | J40: Interventor / Supervisor
A41: Contratista

Sheet 1,6
A1: OFICINA LOCAL DE CRAVO NORTE | B1: MEMORIA DE CANTIDADES
A5: ENTIDAD | B5: =[1]Datos!B3 -> INSTITUTO COLOMBIANO AGROPECUARIO | K5: No. Contrato | M5: N/A
A6: CONTRATISTA | K6: Fecha | M6: 45439
A7: INTERVENTOR O SUPERVISOR | B7: Arq. Andres Otero
A9: Capitulo | B9: OFICINA LOCAL DE CRAVO NORTE | K9: Item: 1.6 | M9: =+PRESUPUESTO!B21 -> SUMINISTRO E INSTALACION DE PISO ANKARA CAFE CARAS DIFERENCIADAS 60X60 Y PISO CERÁMICO BUNES GRIS 60X60CM INSTALACION A DOS TONOS DIFERENCIANDO AREAS DE TRABAJO. SEGÚN DISEÑO
A11: LOCALIZACION | B11: UBICACIÓN | C11: Dimensiones Elementos | F11: Vr. Parcial | G11: Dimensiones Vanos | J11: Vr. Parcial | K11: Vr. Total | L11: Unidad | M11: Detalle
C12: LARGO (ml) | D12: ALTO (m2) | E12: ANCHO (m3) | G12: LARGO (ml) | H12: ALTO (m2) | I12: ANCHO (m3)
B13: ATENCION AL USUARIO | C13: =7.19+1.2 -> 8.39 | E13: 4.69 | K13: =+C13*E13 -> 39.3491 | L13: M2
B14: OFICCNA PRINCIPAL | C14: 4.69 | E14: 3.81 | K14: =+C14*E14 -> 17.8689
B15: OFICIINA 2 | C15: 3.04 | E15: 3.81 | K15: =+C15*E15 -> 11.5824
B16: HALL BAÑOS | C16: 3.21 | E16: 1.37 | K16: =+C16*E16 -> 4.3977
B17: BAÑO 1 | C17: 1.48 | E17: 1.36 | K17: =+C17*E17 -> 2.0128
B18: BAÑO 2 | C18: 1.4 | E18: 1.53 | K18: =+C18*E18 -> 2.142
B19: ALMACEN 1 | C19: 1.27 | E19: 2.9 | K19: =+C19*E19 -> 3.683
B20: ACCESO ENTRE ALMACEN 1 Y 2 | C20: 0.7 | E20: 0.76 | K20: =+C20*E20 -> 0.532
B21: ALMACEN PRINCIPAL | C21: 3.71 | E21: 2.87 | K21: =+C21*E21 -> 10.6477
M27: Notas:
A38: TOTAL | J38: =SUM(J13:J37) -> 0 | K38: =SUM(K13:K37) -> 92.2156 | L38: M2
A40: Firma | J40: Interventor / Supervisor
A41: Contratista

Sheet 1,7
A1: OFICINA LOCAL DE CRAVO NORTE | B1: MEMORIA DE CANTIDADES
A5: ENTIDAD | B5: =[1]Datos!B3 -> INSTITUTO COLOMBIANO AGROPECUARIO | K5: No. Contrato | M5: N/A
A6: CONTRATISTA | K6: Fecha | M6: 45439
A7: INTERVENTOR O SUPERVISOR | B7: Arq. Andres Otero
A9: Capitulo | B9: OFICINA LOCAL DE CRAVO NORTE | K9: Item: 1.7 | M9: =+PRESUPUESTO!B22 -> SUMINISTRO E INSTALCION DE PORCELANATO TRAFICO PESADO ANTIDESLIZANTE PISO CERÁMICO PISO PARED ARABIA BEIGE EN FORMATO 30X60, CORREDORES EXTERIORES
A11: LOCALIZACION | B11: UBICACIÓN | C11: Dimensiones Elementos | F11: Vr. Parcial | G11: Dimensiones Vanos | J11: Vr. Parcial | K11: Vr. Total | L11: Unidad | M11: Detalle
C12: LARGO (ml) | D12: ALTO (m2) | E12: ANCHO (m3) | G12: LARGO (ml) | H12: ALTO (m2) | I12: ANCHO (m3)
B13: ANDEN FACHADA PRINCIPAL | C13: =1.08+13.34+1 -> 15.42 | E13: 2 | K13: =+C13*E13 -> 30.84 | L13: M2
B14: ANDEN FACHADA POSTERIOR | C14: =1.08+13.34+1 -> 15.42 | E14: 2.08 | K14: =+C14*E14 -> 32.0736
B15: COSTADO LATERAL DERECHO | C15: 8.24 | E15: 1 | K15: =+C15*E15 -> 8.24
B16: COSTADO LATERAL IZQUIERDO | C16: 8.24 | E16: 1.08 | K16: =+C16*E16 -> 8.8992
B17: ENTRADA ACCESO PPAL | C17: 9.12 | E17: 1.85 | K17: =+C17*E17 -> 16.872
K18: =+C18*E18 -> 0
K19: =+C19*E19 -> 0
K20: =+C20*E20 -> 0
K21: =+C21*E21 -> 0
M27: Notas:
A38: TOTAL | J38: =SUM(J13:J37) -> 0 | K38: =SUM(K13:K37) -> 96.9248 | L38: M2
A40: Firma | J40: Interventor / Supervisor
A41: Contratista

Sheet 1,8
A1: OFICINA LOCAL DE CRAVO NORTE | B1: MEMORIA DE CANTIDADES
A5: ENTIDAD | B5: =[1]Datos!B3 -> INSTITUTO COLOMBIANO AGROPECUARIO | K5: No. Contrato | M5: N/A
A6: CONTRATISTA | K6: Fecha | M6: 45439
A7: INTERVENTOR O SUPERVISOR | B7: Arq. Andres Otero
A9: Capitulo | B9: OFICINA LOCAL DE CRAVO NORTE | K9: Item: 1.8 | M9: =+PRESUPUESTO!B23 -> SUMINISTRO E INSTALACION DE ENCHAPE MURO PARA BAÑO FACHALETA JAEN BLANCO CARAS DIFERENCIADAS 25X41 INCLUYE Y MATERIAL DE PEGA Y BOQUILLA Y WIN PLASTICOPARA ESQUINAS
A11: LOCALIZACION | B11: UBICACIÓN | C11: Dimensiones Elementos | F11: Vr. Parcial | G11: Dimensiones Vanos | J11: Vr. Parcial | K11: Vr. Total | L11: Unidad | M11: Detalle
C12: LARGO (ml) | D12: ALTO (m2) | E12: ANCHO (m3) | G12: LARGO (ml) | H12: ALTO (m2) | I12: ANCHO (m3)
B13: BAÑO 1 | C13: 1.39 | E13: 2.95 | K13: =+C13*E13 -> 4.1005 | L13: m2
C14: 1.41 | E14: 2.95 | K14: =+C14*E14 -> 4.1595
C15: 1.39 | E15: 2.95 | K15: =+C15*E15 -> 4.1005
C16: 0.66 | E16: 2.95 | K16: =+C16*E16 -> 1.947
B17: BAÑO 2 | C17: 1.39 | E17: 2.95 | K17: =+C17*E17 -> 4.1005
C18: 1.35 | E18: 2.95 | K18: =+C18*E18 -> 3.9825
C19: 1.39 | E19: 2.95 | K19: =+C19*E19 -> 4.1005
C20: 0.66 | E20: 2.95 | K20: =+C20*E20 -> 1.947
K21: =+C21*E21 -> 0
M27: Notas:
A38: TOTAL | J38: =SUM(J13:J37) -> 0 | K38: =SUM(K13:K37) -> 28.438 | L38: =+'[2]PRESUPUESTO (en construccion)'!D18 -> M2
A40: Firma | J40: Interventor / Supervisor
A41: Contratista

Sheet 1,9
A1: OFICINA LOCAL DE CRAVO NORTE | B1: MEMORIA DE CANTIDADES
A5: ENTIDAD | B5: =[1]Datos!B3 -> INSTITUTO COLOMBIANO AGROPECUARIO | K5: No. Contrato | M5: N/A
A6: CONTRATISTA | K6: Fecha | M6: 45439
A7: INTERVENTOR O SUPERVISOR | B7: Arq. Andres Otero
A9: Capitulo | B9: OFICINA LOCAL DE CRAVO NORTE | K9: Item: 1.6 | M9: =+PRESUPUESTO!B21 -> SUMINISTRO E INSTALACION DE PISO ANKARA CAFE CARAS DIFERENCIADAS 60X60 Y PISO CERÁMICO BUNES GRIS 60X60CM INSTALACION A DOS TONOS DIFERENCIANDO AREAS DE TRABAJO. SEGÚN DISEÑO
A11: LOCALIZACION | B11: UBICACIÓN | C11: Dimensiones Elementos | F11: Vr. Parcial | G11: Dimensiones Vanos | J11: Vr. Parcial | K11: Vr. Total | L11: Unidad | M11: Detalle
C12: LARGO (ml) | D12: ALTO (m2) | E12: ANCHO (m3) | G12: LARGO (ml) | H12: ALTO (m2) | I12: ANCHO (m3)
B13: BAÑO 1 | C13: 1.48 | E13: 1.36 | K13: =+C13*E13 -> 2.0128
B14: BAÑO 2 | C14: 1.4 | E14: 1.53 | K14: =+C14*E14 -> 2.142
M23: Notas:
A34: TOTAL | J34: =SUM(J13:J33) -> 0 | K34: =SUM(K13:K33) -> 4.1548 | L34: M2
A36: Firma | J36: Interventor / Supervisor
A37: Contratista

Sheet 1,10
A1: OFICINA LOCAL DE CRAVO NORTE | B1: MEMORIA DE CANTIDADES
A5: ENTIDAD | B5: =[1]Datos!B3 -> INSTITUTO COLOMBIANO AGROPECUARIO | K5: No. Contrato | M5: N/A
A6: CONTRATISTA | K6: Fecha | M6: 45439
A7: INTERVENTOR O SUPERVISOR | B7: Arq. Andres Otero
A9: Capitulo | B9: OFICINA LOCAL DE CRAVO NORTE | K9: Item: 1.10 | M9: =+PRESUPUESTO!B25 -> APLICACIÓN DE PINTURA Y ESTUCO GENERAL PARA INTERIOR EN VINILO TIPO 1 EN MUROS. INCLUYE LIMPIEZA , RASPADO, RESANES, LIJADO FILOS EN ESCUADRAS DE MUROS DE VENTANA Y PUERTAS
A11: LOCALIZACION | B11: UBICACIÓN | C11: Dimensiones Elementos | F11: Vr. Parcial | G11: Dimensiones Vanos | J11: Vr. Parcial | K11: Vr. Total | L11: Unidad | M11: Detalle
C12: LARGO (ml) | D12: ALTO (m2) | E12: ANCHO (m3) | G12: LARGO (ml) | H12: ALTO (m2) | I12: ANCHO (m3)
B13: ATENCION AL USUARIO | L13: m2
B14: M1 | C14: 6.82 | D14: 3.33 | K14: =+C14*D14-J15 -> 21.1106
B15: M1 MENOS PUERTA | H15: 2 | I15: 0.8 | J15: =+H15*I15 -> 1.6 | K15: =+C15*E15 -> 0
B16: M2 | C16: 4.85 | D16: 2.95 | K16: =+C16*D16 -> 14.3075
B17: M3 | C17: =6.82+1.2 -> 8.02 | D17: 2.49 | K17: =+C17*D17-J18-J19-J20 -> 13.8977
B18: M3 MENOS VENTANA | H18: 1.95 | I18: 1.08 | J18: =+H18*I18 -> 2.106 | K18: =+C18*E18 -> 0
B19: M3 MENOS VENTANA | H19: 1.95 | I19: 1.08 | J19: =+H19*I19 -> 2.106 | K19: =+C19*E19 -> 0
B20: M3 MENOS PUERTA | H20: 2.09 | I20: 0.89 | J20: =+H20*I20 -> 1.8601 | K20: =+C20*E20 -> 0
B21: M4 | C21: 3.79 | D21: 2.95 | K21: =+C21*D21 -> 11.1805
B22: M5 | C22: 3.79 | D22: 2.95 | K22: =+C22*D22 -> 11.1805
B23: M6 | C23: 4.84 | D23: 2.53 | K23: =+C23*D23-J24 -> 10.0852
B24: M6 MENOS VENTANA | H24: 2 | I24: 1.08 | J24: =+H24*I24 -> 2.16
B25: M7 | C25: 4.7 | D25: 2.97 | K25: =+C25*D25 -> 13.959
B26: M8 | C26: 4.8 | D26: 3.35 | K26: =+C26*D26 -> 16.08
B27: M9 | C27: 4.8 | D27: 3.35 | K27: =+C27*D27 -> 16.08 | M27: Notas:
B28: M10 | C28: 3.06 | D28: 2.92 | K28: =+C28*D28 -> 8.9352
B29: M11 | C29: 4.8 | D29: 2.52 | K29: =+C29*D29-J30 -> 10.1196
B30: M11 MENOS VENTANA | H30: 1.83 | I30: 1.08 | J30: =+H30*I30 -> 1.9764
B31: M12 | C31: 1.97 | D31: 2.92 | K31: =+C31*D31 -> 5.7524
B32: M13 | C32: 1.2 | D32: 2.52 | K32: =+C32*D32-J33 -> 1.1012
B33: M13 MENOS PUERTA | H33: 2.09 | I33: 0.92 | J33: =+H33*I33 -> 1.9228
B34: M14 | C34: 1.97 | D34: 2.92 | K34: =+C34*D34 -> 5.7524
B35: M15 MURO BAÑOS | C35: 1.47 | D35: 2.95 | K35: =+C35*D35 -> 4.3365
B36: M16 | C36: 2.9 | D36: 2.95 | K36: =+C36*D36 -> 8.555
B37: M17 | C37: 1.27 | D37: 2.52 | K37: =+C37*D37-J38 -> 2.6204
B38: M17 MENOS VENTANA | H38: 1.16 | I38: 0.5 | J38: =+H38*I38 -> 0.58
B39: M18 | C39: 1.27 | D39: 2.52 | K39: =+C39*D39-J40 -> 1.6004
B40: M18 MENOS PUERTA | H40: 2 | I40: 0.8 | J40: =+H40*I40 -> 1.6
B41: M19 | C41: 3.71 | D41: 3.35 | K41: =+C41*D41 -> 12.4285
B42: M20 | C42: 3.69 | D42: 2.52 | K42: =+C42*D42-J43-J44 -> 5.5508
B43: M20 MENOS PUERTA | H43: 2.09 | I43: 0.92 | J43: =+H43*I43 -> 1.9228
B44: M20 MENOS VENTANA | H44: 1.69 | I44: 1.08 | J44: =+H44*I44 -> 1.8252
B45: CLOSET 1 | C45: =1.15+0.76+0.15+0.6+0.96 -> 3.62 | D45: 2.95 | K45: =+C45*D45 -> 10.679
...

Sheet 1,11
A1: OFICINA LOCAL DE CRAVO NORTE | B1: MEMORIA DE CANTIDADES
A5: ENTIDAD | B5: =[1]Datos!B3 -> INSTITUTO COLOMBIANO AGROPECUARIO | K5: No. Contrato | M5: N/A
A6: CONTRATISTA | K6: Fecha | M6: 45439
A7: INTERVENTOR O SUPERVISOR | B7: Arq. Andres Otero
A9: Capitulo | B9: OFICINA LOCAL DE CRAVO NORTE | K9: Item: 1.11 | M9: =+PRESUPUESTO!B26 -> DESMONTE DE CIELO FALSO EXISTENTE DE IMATERIAL DE ICOPOR , DESMONTE DE ESTRCUTURA SOPORTE , INCLUYE RETIRO Y DISPOSICION FINAL DE ESCOMBROS
A11: LOCALIZACION | B11: UBICACIÓN | C11: Dimensiones Elementos | F11: Vr. Parcial | G11: Dimensiones Vanos | J11: Vr. Parcial | K11: Vr. Total | L11: Unidad | M11: Detalle
C12: LARGO (ml) | D12: ALTO (m2) | E12: ANCHO (m3) | G12: LARGO (ml) | H12: ALTO (m2) | I12: ANCHO (m3)
B13: ATENCION AL USUARIO | C13: =7.19+1.2 -> 8.39 | E13: 4.69 | K13: =+C13*E13 -> 39.3491 | L13: M2 | W13: ATENCION AL USUARIO | X13: =7.19+1.2 -> 8.39 | Z13: 4.69 | AF13: =+X13*Z13 -> 39.3491
B14: OFICCNA PRINCIPAL | C14: 4.69 | E14: 3.81 | K14: =+C14*E14 -> 17.8689 | W14: OFICCNA PRINCIPAL | X14: 4.69 | Z14: 3.81 | AF14: =+X14*Z14 -> 17.8689
B15: OFICIINA 2 | C15: 3.04 | E15: 3.81 | K15: =+C15*E15 -> 11.5824 | W15: OFICIINA 2 | X15: 3.04 | Z15: 3.81 | AF15: =+X15*Z15 -> 11.5824
B16: HALL BAÑOS | C16: 3.21 | E16: 1.37 | K16: =+C16*E16 -> 4.3977 | W16: HALL BAÑOS | X16: 3.21 | Z16: 1.37 | AF16: =+X16*Z16 -> 4.3977
B17: BAÑO 1 | C17: 1.48 | E17: 1.36 | K17: =+C17*E17 -> 2.0128 | W17: BAÑO 1 | X17: 1.48 | Z17: 1.36 | AF17: =+X17*Z17 -> 2.0128
B18: BAÑO 2 | C18: 1.4 | E18: 1.53 | K18: =+C18*E18 -> 2.142 | W18: BAÑO 2 | X18: 1.4 | Z18: 1.53 | AF18: =+X18*Z18 -> 2.142
B19: ALMACEN 1 | C19: 1.27 | E19: 2.9 | K19: =+C19*E19 -> 3.683 | W19: ALMACEN 1 | X19: 1.27 | Z19: 2.9 | AF19: =+X19*Z19 -> 3.683
B20: ACCESO ENTRE ALMACEN 1 Y 2 | C20: 0.7 | E20: 0.76 | K20: =+C20*E20 -> 0.532 | W20: ACCESO ENTRE ALMACEN 1 Y 2 | X20: 0.7 | Z20: 0.76 | AF20: =+X20*Z20 -> 0.532
B21: ALMACEN PRINCIPAL | C21: 3.71 | E21: 2.87 | K21: =+C21*E21 -> 10.6477 | W21: ALMACEN PRINCIPAL | X21: 3.71 | Z21: 2.87 | AF21: =+X21*Z21 -> 10.6477
M27: Notas:
A38: TOTAL | J38: =SUM(J13:J37) -> 0 | K38: =SUM(K13:K37) -> 92.2156 | L38: M2
A40: Firma | J40: Interventor / Supervisor
A41: Contratista

Sheet 1,12
A1: OFICINA LOCAL DE CRAVO NORTE | B1: MEMORIA DE CANTIDADES
A5: ENTIDAD | B5: =[1]Datos!B3 -> INSTITUTO COLOMBIANO AGROPECUARIO | K5: No. Contrato | M5: N/A
A6: CONTRATISTA | K6: Fecha | M6: 45439
A7: INTERVENTOR O SUPERVISOR | B7: Arq. Andres Otero
A9: Capitulo | B9: OFICINA LOCAL DE CRAVO NORTE | K9: Item: 1.12 | M9: =+PRESUPUESTO!B27 -> SUMINISTRO E INSTALACION DE TECHO EN DRY WALL YESO DE 1/2" INCLUYE ESTRUCTURA EN ALUMINIO (OMEGAS ) Y AISLANTE TERMICO FRESCASA FIBRA DE VIDRIO ECO 2-1/2PG 7.62X1.22 Y DE TODOS SUS ACCESORIOS PARA SU CORRECTA INSTALACION .
A11: LOCALIZACION | B11: UBICACIÓN | C11: Dimensiones Elementos | F11: Vr. Parcial | G11: Dimensiones Vanos | J11: Vr. Parcial | K11: Vr. Total | L11: Unidad | M11: Detalle
C12: LARGO (ml) | D12: ALTO (m2) | E12: ANCHO (m3) | G12: LARGO (ml) | H12: ALTO (m2) | I12: ANCHO (m3)
B13: ATENCION AL USUARIO | C13: =7.19+1.2 -> 8.39 | E13: 4.69 | K13: =+C13*E13 -> 39.3491 | L13: M2
B14: OFICCNA PRINCIPAL | C14: 4.69 | E14: 3.81 | K14: =+C14*E14 -> 17.8689
B15: OFICIINA 2 | C15: 3.04 | E15: 3.81 | K15: =+C15*E15 -> 11.5824
B16: HALL BAÑOS | C16: 3.21 | E16: 1.37 | K16: =+C16*E16 -> 4.3977
B17: BAÑO 1 | C17: 1.48 | E17: 1.36 | K17: =+C17*E17 -> 2.0128
B18: BAÑO 2 | C18: 1.4 | E18: 1.53 | K18: =+C18*E18 -> 2.142
B19: ALMACEN 1 | C19: 1.27 | E19: 2.9 | K19: =+C19*E19 -> 3.683
B20: ACCESO ENTRE ALMACEN 1 Y 2 | C20: 0.7 | E20: 0.76 | K20: =+C20*E20 -> 0.532
B21: ALMACEN PRINCIPAL | C21: 3.71 | E21: 2.87 | K21: =+C21*E21 -> 10.6477
M27: Notas:
A38: TOTAL | J38: =SUM(J13:J37) -> 0 | K38: =SUM(K13:K37) -> 92.2156 | L38: M2
A40: Firma | J40: Interventor / Supervisor
A41: Contratista

Sheet 1,13
A1: OFICINA LOCAL DE CRAVO NORTE | B1: MEMORIA DE CANTIDADES
A5: ENTIDAD | B5: =[1]Datos!B3 -> INSTITUTO COLOMBIANO AGROPECUARIO | K5: No. Contrato | M5: N/A
A6: CONTRATISTA | K6: Fecha | M6: 45439
A7: INTERVENTOR O SUPERVISOR | B7: Arq. Andres Otero
A9: Capitulo | B9: OFICINA LOCAL DE CRAVO NORTE | K9: Item: 1.13 | M9: =+PRESUPUESTO!B28 -> APLICACIÓN DE PINTURA GENERAL PARA INTERIORES EN VINILO TIPO 1 PARA TECHOS . INCLUYE LIMPIEZA , RASPADO, RESANES, LIJADO FILOS INSTALACION DE SELLO DE JUNTAS
A11: LOCALIZACION | B11: UBICACIÓN | C11: Dimensiones Elementos | F11: Vr. Parcial | G11: Dimensiones Vanos | J11: Vr. Parcial | K11: Vr. Total | L11: Unidad | M11: Detalle
C12: LARGO (ml) | D12: ALTO (m2) | E12: ANCHO (m3) | G12: LARGO (ml) | H12: ALTO (m2) | I12: ANCHO (m3)
B13: ATENCION AL USUARIO | C13: =7.19+1.2 -> 8.39 | E13: 4.69 | K13: =+C13*E13 -> 39.3491 | L13: M2
B14: OFICCNA PRINCIPAL | C14: 4.69 | E14: 3.81 | K14: =+C14*E14 -> 17.8689
B15: OFICIINA 2 | C15: 3.04 | E15: 3.81 | K15: =+C15*E15 -> 11.5824
B16: HALL BAÑOS | C16: 3.21 | E16: 1.37 | K16: =+C16*E16 -> 4.3977
B17: BAÑO 1 | C17: 1.48 | E17: 1.36 | K17: =+C17*E17 -> 2.0128
B18: BAÑO 2 | C18: 1.4 | E18: 1.53 | K18: =+C18*E18 -> 2.142
B19: ALMACEN 1 | C19: 1.27 | E19: 2.9 | K19: =+C19*E19 -> 3.683
B20: ACCESO ENTRE ALMACEN 1 Y 2 | C20: 0.7 | E20: 0.76 | K20: =+C20*E20 -> 0.532
B21: ALMACEN PRINCIPAL | C21: 3.71 | E21: 2.87 | K21: =+C21*E21 -> 10.6477
M27: Notas:
A38: TOTAL | J38: =SUM(J13:J37) -> 0 | K38: =SUM(K13:K37) -> 92.2156 | L38: M2
A40: Firma | J40: Interventor / Supervisor
A41: Contratista

Sheet 1,14
A1: OFICINA LOCAL DE CRAVO NORTE | B1: MEMORIA DE CANTIDADES
A5: ENTIDAD | B5: =[1]Datos!B3 -> INSTITUTO COLOMBIANO AGROPECUARIO | K5: No. Contrato | M5: N/A
A6: CONTRATISTA | K6: Fecha | M6: 45439
A7: INTERVENTOR O SUPERVISOR | B7: Arq. Andres Otero
A9: Capitulo | B9: OFICINA LOCAL DE CRAVO NORTE | K9: Item: 1.14 | M9: =+PRESUPUESTO!B29 -> SUMINISTRO Y APLICACIÓN DE PINTURA PARA EXTERIOR TIPO KORAZA.NCLUYE LIMPIEZA , RASPADO, RESANES, LIJADO FILOS EN ESCUADRAS DE MUROS DE VENTANA Y PUERTAS
A11: LOCALIZACION | B11: UBICACIÓN | C11: Dimensiones Elementos | F11: Vr. Parcial | G11: Dimensiones Vanos | J11: Vr. Parcial | K11: Vr. Total | L11: Unidad | M11: Detalle
C12: LARGO (ml) | D12: ALTO (m2) | E12: ANCHO (m3) | G12: LARGO (ml) | H12: ALTO (m2) | I12: ANCHO (m3)
B13: FACHADA PRINCIPAL | C13: =1+1.95+1.4+1.95+0.72+0.89+1.73+2+1.68 -> 13.32 | D13: 3.1 | K13: =+C13*D13-J14-J15-J16-J17 -> 33.0599 | L13: M2
B14: MENOS VENTANA | G14: 1.95 | H14: 1.08 | J14: =+G14*H14 -> 2.106 | K14: =+C14*E14 -> 0
B15: MENOS VENTANA | G15: 1.95 | H15: 1.08 | J15: =+G15*H15 -> 2.106 | K15: =+C15*E15 -> 0
B16: MENOS PUERTA | G16: 0.89 | H16: 2.09 | J16: =+G16*H16 -> 1.8601 | K16: =+C16*E16 -> 0
B17: MENOS VENTANA | G17: 2 | H17: 1.08 | J17: =+G17*H17 -> 2.16 | K17: =+C17*E17 -> 0
B18: FACHADA POSTERIOR | C18: =1.57+1.83+1.84+2.08+0.34+1.16+0.37+1.16+0.89+1.69+0.33 -> 13.26 | D18: 3 | K18: =+C18*D18-J19-J20-J21-J22-J23-J24 -> 31.0654
B19: MENOS VENTANA | G19: 1.83 | H19: 1.08 | J19: =+G19*H19 -> 1.9764 | K19: =+C19*E19 -> 0
B20: MENOS PUERTA | G20: 0.9 | H20: 2.08 | J20: =+G20*H20 -> 1.872 | K20: =+C20*E20 -> 0
B21: MENOS VENTANA | G21: 1.16 | H21: 0.5 | J21: =+G21*H21 -> 0.58 | K21: =+C21*E21 -> 0
B22: MENOS VENTANA | G22: 1.16 | H22: 0.5 | J22: =+G22*H22 -> 0.58
B23: MENOS PPUERTA | G23: 0.9 | H23: 2.09 | J23: =+G23*H23 -> 1.881
B24: MENOS VENTANA | G24: 1.69 | H24: 1.08 | J24: =+G24*H24 -> 1.8252
B25: FACHADA LATERAL IZQUIIERDA | C25: 8.24 | D25: 4.16 | E25: 3 | K25: 29.5
B26: FACHADA LATERAL DERECHA | C26: 8.24 | D26: 4.16 | E26: 3 | K26: 29.5
M27: Notas:
A55: TOTAL | J55: =SUM(J13:J54) -> 16.9467 | K55: =SUM(K13:K54) -> 123.1253 | L55: M2
A57: Firma | J57: Interventor / Supervisor
A58: Contratista

Sheet 1,15
A1: OFICINA LOCAL DE CRAVO NORTE | B1: MEMORIA DE CANTIDADES
A5: ENTIDAD | B5: =[1]Datos!B3 -> INSTITUTO COLOMBIANO AGROPECUARIO | K5: No. Contrato | M5: N/A
A6: CONTRATISTA | K6: Fecha | M6: 45439
A7: INTERVENTOR O SUPERVISOR | B7: Arq. Andres Otero
A9: Capitulo | B9: OFICINA LOCAL DE CRAVO NORTE | K9: Item: 1.15 | M9: =+PRESUPUESTO!B30 -> SUMINISTRO Y APLICACIÓN DE ANTICORROSIVO Y PINTURA ESMALTE PARA PUERTAS METALICAS .NCLUYE LIMPIEZA , LIJADO RASPADO, RESANES
A11: LOCALIZACION | B11: UBICACIÓN | C11: Dimensiones Elementos | F11: Vr. Parcial | G11: Dimensiones Vanos | J11: Vr. Parcial | K11: Vr. Total | L11: Unidad | M11: Detalle
C12: LARGO (ml) | D12: ALTO (m2) | E12: ANCHO (m3) | G12: LARGO (ml) | H12: ALTO (m2) | I12: ANCHO (m3)
L13: M2
B14: PUERTA OFICNA PRINCIPAL | C14: 0.9 | D14: 2.05 | E14: 2 | K14: =+C14*D14*E14 -> 3.69
B15: PUERTA OFICINA 2 | C15: 0.9 | D15: 2.05 | E15: 2 | K15: =+C15*D15*E15 -> 3.69
B16: PUERTA BAÑO 1 | C16: 0.7 | D16: 2.05 | E16: 2 | K16: =+C16*D16*E16 -> 2.87
B17: PUERTA BAÑO 2 | C17: 0.7 | D17: 2.05 | E17: 2 | K17: =+C17*D17*E17 -> 2.87
B18: PUERTA INTERNA ALMACEN | C18: 0.7 | D18: 2.05 | E18: 2 | K18: =+C18*D18*E18 -> 2.87
B19: PUERTA ACCESO POSTERIOR | C19: 0.9 | D19: 2.05 | E19: 2 | K19: =+C19*D19*E19 -> 3.69
K20: =+C20*D20 -> 0
M26: Notas:
A37: TOTAL | J37: =SUM(J13:J36) -> 0 | K37: =SUM(K13:K36) -> 19.68 | L37: M2
A39: Firma | J39: Interventor / Supervisor
A40: Contratista

Sheet 1,16
A1: OFICINA LOCAL DE CRAVO NORTE | B1: MEMORIA DE CANTIDADES
A5: ENTIDAD | B5: =[1]Datos!B3 -> INSTITUTO COLOMBIANO AGROPECUARIO | K5: No. Contrato | M5: N/A
A6: CONTRATISTA | K6: Fecha | M6: 45439
A7: INTERVENTOR O SUPERVISOR | B7: Arq. Andres Otero
A9: Capitulo | B9: OFICINA LOCAL DE CRAVO NORTE | K9: Item: 1.16 | M9: =+PRESUPUESTO!B31 -> SUMINISTRO Y APLICACIÓN DE ANTICORROSIVOO Y PINTURA ESMALTE PARA REJAS DE VENTANAS METALICAS .NCLUYE LIMPIEZA , LIJADO RASPADO, RESANES
A11: LOCALIZACION | B11: UBICACIÓN | C11: Dimensiones Elementos | F11: Vr. Parcial | G11: Dimensiones Vanos | J11: Vr. Parcial | K11: Vr. Total | L11: Unidad | M11: Detalle
C12: LARGO (ml) | D12: ALTO (m2) | E12: ANCHO (m3) | G12: LARGO (ml) | H12: ALTO (m2) | I12: ANCHO (m3)
L13: M2
B14: VENTANA PUNTO DE AATENCION 1 | C14: 1.95 | D14: 1.08 | K14: =+C14*D14 -> 2.106
B15: VENTANA PUNTO DE AATENCION 2 | C15: 1.95 | D15: 1.08 | K15: =+C15*D15 -> 2.106
B16: OFICINA PRINCIPAL | C16: 2 | D16: 1.08 | K16: =+C16*D16 -> 2.16
B17: OFICINA 2 | C17: 1.83 | D17: 1.08 | K17: =+C17*D17 -> 1.9764
B18: BAÑO 1 | C18: 1.16 | D18: 0.5 | K18: =+C18*D18 -> 0.58
B19: ALMACEN 1 | C19: 1.16 | D19: 0.5 | K19: =+C19*D19 -> 0.58
B20: ALMACEN 2 | C20: 1.69 | D20: 1.08 | K20: =+C20*D20 -> 1.8252
M26: Notas:
A37: TOTAL | J37: =SUM(J13:J36) -> 0 | K37: =SUM(K13:K36) -> 11.3336 | L37: M2
A39: Firma | J39: Interventor / Supervisor
A40: Contratista

Sheet 1,17
A1: OFICINA LOCAL DE CRAVO NORTE | B1: MEMORIA DE CANTIDADES
A5: ENTIDAD | B5: =[1]Datos!B3 -> INSTITUTO COLOMBIANO AGROPECUARIO | K5: No. Contrato | M5: N/A
A6: CONTRATISTA | K6: Fecha | M6: 45439
A7: INTERVENTOR O SUPERVISOR | B7: Arq. Andres Otero
A9: Capitulo | B9: OFICINA LOCAL DE CRAVO NORTE | K9: Item: 1.17 | M9: =+PRESUPUESTO!B32 -> DESMONTE DE TEJAS EXITENTES EN CUBIERTA INCLUYE RETIRO Y DISPOSICION FINAL
A11: LOCALIZACION | B11: UBICACIÓN | C11: Dimensiones Elementos | F11: Vr. Parcial | G11: Dimensiones Vanos | J11: Vr. Parcial | K11: Vr. Total | L11: Unidad | M11: Detalle
C12: LARGO (ml) | D12: ALTO (m2) | E12: ANCHO (m3) | G12: LARGO (ml) | H12: ALTO (m2) | I12: ANCHO (m3)
L13: M2
B14: CUBIERTA | C14: 13.4 | E14: 12.4 | K14: =+C14*E14 -> 166.16
K15: =+C15*D15 -> 0
K16: =+C16*D16 -> 0
K17: =+C17*D17 -> 0
K18: =+C18*D18 -> 0
K19: =+C19*D19 -> 0
K20: =+C20*D20 -> 0
M26: Notas:
A37: TOTAL | J37: =SUM(J13:J36) -> 0 | K37: =SUM(K13:K36) -> 166.16 | L37: M2
A39: Firma | J39: Interventor / Supervisor
A40: Contratista

Sheet 1,18
A1: OFICINA LOCAL DE CRAVO NORTE | B1: MEMORIA DE CANTIDADES
A5: ENTIDAD | B5: =[1]Datos!B3 -> INSTITUTO COLOMBIANO AGROPECUARIO | K5: No. Contrato | M5: N/A
A6: CONTRATISTA | K6: Fecha | M6: 45439
A7: INTERVENTOR O SUPERVISOR | B7: Arq. Andres Otero
A9: Capitulo | B9: OFICINA LOCAL DE CRAVO NORTE | K9: Item: 1.18 | M9: =+PRESUPUESTO!B33 -> MANTENIMIENTO DE ESTRUCTURA DE CUBIERTA, INCLUYE LIMPIEZA, APLICACIÓN ANTICORROSIVO Y PIINTURA ESMALTE, REPARACION Y AJUSTE QUE SE REQUIERA
A11: LOCALIZACION | B11: UBICACIÓN | C11: Dimensiones Elementos | F11: Vr. Parcial | G11: Dimensiones Vanos | J11: Vr. Parcial | K11: Vr. Total | L11: Unidad | M11: Detalle
C12: LARGO (ml) | D12: ALTO (m2) | E12: ANCHO (m3) | G12: LARGO (ml) | H12: ALTO (m2) | I12: ANCHO (m3)
L13: M2
B14: CUBIERTA | C14: 13.4 | E14: 8.24 | K14: =+C14*E14 -> 110.416
K15: =+C15*D15 -> 0
K16: =+C16*D16 -> 0
K17: =+C17*D17 -> 0
K18: =+C18*D18 -> 0
K19: =+C19*D19 -> 0
K20: =+C20*D20 -> 0
M26: Notas:
A37: TOTAL | J37: =SUM(J13:J36) -> 0 | K37: =SUM(K13:K36) -> 110.416 | L37: M2
A39: Firma | J39: Interventor / Supervisor
A40: Contratista

Sheet 1,19
A1: OFICINA LOCAL DE CRAVO NORTE | B1: MEMORIA DE CANTIDADES
A5: ENTIDAD | B5: =[1]Datos!B3 -> INSTITUTO COLOMBIANO AGROPECUARIO | K5: No. Contrato | M5: N/A
A6: CONTRATISTA | K6: Fecha | M6: 45439
A7: INTERVENTOR O SUPERVISOR | B7: Arq. Andres Otero
A9: Capitulo | B9: OFICINA LOCAL DE CRAVO NORTE | K9: Item: 1.19 | M9: =+PRESUPUESTO!B34 -> SUINISTRO E INSTALACCION DE TEJA DE FIBRO CEMENTO No 8 CON TODOS SUS ACCESORIOS DEE SUJECION
A11: LOCALIZACION | B11: UBICACIÓN | C11: Dimensiones Elementos | F11: Vr. Parcial | G11: Dimensiones Vanos | J11: Vr. Parcial | K11: Vr. Total | L11: Unidad | M11: Detalle
C12: LARGO (ml) | D12: ALTO (m2) | E12: ANCHO (m3) | G12: LARGO (ml) | H12: ALTO (m2) | I12: ANCHO (m3)
L13: M2
B14: CUBIERTA | C14: 13.4 | E14: 8.24 | K14: =+C14*E14 -> 110.416
K15: =+C15*D15 -> 0
K16: =+C16*D16 -> 0
K17: =+C17*D17 -> 0
K18: =+C18*D18 -> 0
K19: =+C19*D19 -> 0
K20: =+C20*D20 -> 0
M26: Notas:
A37: TOTAL | J37: =SUM(J13:J36) -> 0 | K37: =SUM(K13:K36) -> 110.416 | L37: M2
A39: Firma | J39: Interventor / Supervisor
A40: Contratista

Sheet 1,20
A1: OFICINA LOCAL DE CRAVO NORTE | B1: MEMORIA DE CANTIDADES
A5: ENTIDAD | B5: =[1]Datos!B3 -> INSTITUTO COLOMBIANO AGROPECUARIO | K5: No. Contrato | M5: N/A
A6: CONTRATISTA | K6: Fecha | M6: 45439
A7: INTERVENTOR O SUPERVISOR | B7: Arq. Andres Otero
A9: Capitulo | B9: OFICINA LOCAL DE CRAVO NORTE | K9: Item: 1.20 | M9: =+PRESUPUESTO!B35 -> DESMONTE DE LAVAMANOS Y SANITARIOS
A11: LOCALIZACION | B11: UBICACIÓN | C11: Dimensiones Elementos | F11: Vr. Parcial | G11: Dimensiones Vanos | J11: Vr. Parcial | K11: Vr. Total | L11: Unidad | M11: Detalle
C12: LARGO (ml) | D12: ALTO (m2) | E12: ANCHO (m3) | G12: LARGO (ml) | H12: ALTO (m2) | I12: ANCHO (m3)
L13: Unidad
B14: BAÑO 1
B15: LAVAMANOS | F15: 1 | K15: =+F15 -> 1
B16: SANITARIO | F16: 1 | K16: =+F16 -> 1
B17: BAÑO 2 | K17: =+F17 -> 0
B18: LAVAMANOS | F18: 1 | K18: =+F18 -> 1
B19: SANITARIO | F19: 1 | K19: =+F19 -> 1
B20: BAÑO 3 ALMACEN | K20: =+F20 -> 0
B21: LAVAMANOS | F21: 1 | K21: =+F21 -> 1
B22: SANITARIO | F22: 1 | K22: =+F22 -> 1
B23: DUCHA | F23: 1 | K23: =+F23 -> 1
M26: Notas:
A37: TOTAL | J37: =SUM(J13:J36) -> 0 | K37: =SUM(K13:K36) -> 7 | L37: UN
A39: Firma | J39: Interventor / Supervisor
A40: Contratista

Sheet 1,21
A1: OFICINA LOCAL DE CRAVO NORTE | B1: MEMORIA DE CANTIDADES
