Workbook
Name \0: #REF!
Name \00: #REF!
Name \a: #REF!
Name \a: #REF!
Name \a: #REF!
Name \a: #REF!
Name \a: #REF!
Name \a: #REF!
Name \a: #REF!
Name \AA: [1]LIQUIDACION!#REF!
Name \b: [2]STRSUMM0!#REF!
Name \bb: [2]STRSUMM0!#REF!
Name \E: #REF!
Name \EE: #REF!
Name \G: #REF!
Name \k: '[3]7422CW00'!#REF!
Name \l: [4]STRSUMM0!#REF!
Name \M: #REF!
Name \ñ: '[5]7422CW00'!#REF!
Name \P: #REF!
Name \R: #REF!
Name \s: #REF!
Name \s: #REF!
Name \s: #REF!
Name \s: #REF!
Name \s: #REF!
Name \s: #REF!
Name \s: #REF!
Name \V: #REF!
Name \X: '1. TACHAS REFLECTIVAS'!ERR
Name \X: '2. RESALTOS VIRTUALES'!ERR
Name \X: '3. DEMARCACION'!ERR
Name \X: '4. SEÑAL VALLA REFLECTIVA'!ERR
Name \X: '5. VALLA DOBLE CARA'!ERR
Name \X: '6. PICTOGRAMA'!ERR
Name \X: [0]!ERR
Name \Z: '1. TACHAS REFLECTIVAS'!ERR
Name \Z: '2. RESALTOS VIRTUALES'!ERR
Name \Z: '3. DEMARCACION'!ERR
Name \Z: '4. SEÑAL VALLA REFLECTIVA'!ERR
Name \Z: '5. VALLA DOBLE CARA'!ERR
Name \Z: '6. PICTOGRAMA'!ERR
Name \Z: [0]!ERR
Name _________AFC1: [6]INV!$A$25:$D$28
Name _________AFC3: [6]INV!$F$25:$I$28
Name _________AFC5: [6]INV!$K$25:$N$28
Name _________BGC1: [6]INV!$A$5:$D$8
Name _________BGC3: [6]INV!$F$5:$I$8
Name _________BGC5: [6]INV!$K$5:$N$8
Name _________CAC1: [6]INV!$A$19:$D$22
Name _________CAC3: [6]INV!$F$19:$I$22
Name _________CAC5: [6]INV!$K$19:$N$22
Name _________PJ50: #REF!
Name _________PJ50: #REF!
Name _________PJ50: #REF!
Name _________PJ50: #REF!
Name _________PJ50: #REF!
Name _________PJ50: #REF!
Name _________PJ50: #REF!
Name _________SBC1: [6]INV!$A$12:$D$15

Sheet PROPUESTA ECONOMICA(Proponente)
C3: Formulario 1 - Propuesta económica - Documento tipo de mínima cuantía de obra pública de infraestructura de transporte - versión 2
C4: Código | D4: CCE-EICP-FM-32 | E4: Versión | F4: 2
C5: FORMULARIO 1
C6: PROPUESTA ECONÓMICA
C7: [ El Proponente puede usar el presente formulario de presentación para determinar su propuesta económica conforme al Formulario 1 - Presupuesto Oficial por la Entidad]
C9: Cuando el proceso de contratación es estructurado por Precios Unitarios, la Entidad debe aplicar las notas 1, 2 y 3 del presente formato y las casillas de "Descripción", "Porcentaje" de la Administración, Imprevisto, Utilidad y total A.I.U. resaltadas en color amarillo.
C11: Nº | D11: ÍTEM DE PAGO | E11: ESPECIFICACIONES | G11: DESCRIPCIÓN | H11: UND. | I11: CANTIDAD | J11: VALOR UNITARIO | K11: VALOR TOTAL
E12: GENERAL | F12: PARTICULAR
C15: Subtotal
C21: Subtotal
C31: Subtotal
C36: Subtotal
C39: Subtotal
C40: SUBTOTAL OBRAS
G45: SUBTOTAL OBRAS (INCLUYE IVA)
G49: VALOR TOTAL
C52: NOTA 1: Se debe tener en cuenta que el PRECIO UNITARIO incluye el valor de AIU. | H52: DESCRIPCIÓN | K52: PORCENTAJE
C53: NOTA 2: Cuando la fracción decimal del peso sea igual o superior a 5 se aproximara por exceso al número entero siguiente del peso y cuando la fracción decimal del peso sea inferior a 5 se aproximará por defecto al número entero del peso. | H53: ADMINISTRACIÓN | J53: A= | K53: [Ofrecimiento del Proponente]
C54: NOTA 3: El AIU y su discriminación deben estar en porcentaje (%). | H54: IMPREVISTO | J54: I= | K54: [Ofrecimiento del Proponente]
H55: UTILIDAD | J55: U= | K55: [Ofrecimiento del Proponente]
H56: TOTAL A.I.U | J56: A.I.U.= | K56: [Ofrecimiento del Proponente]
G59: Firma del Proponente o de su Representante Legal

Sheet 1. TACHAS REFLECTIVAS
C3: Formulario 1 - Propuesta económica - Documento tipo de mínima cuantía de obra pública de infraestructura de transporte - versión 2
C4: Código | D4: CCE-EICP-FM-32 | E4: Versión | F4: 2
C6: [La entidad podrá utilizar este formato para la presentación de los análisis de Precios Unitarios del Contratista en la oportunidad prevista en el numeral 8.2. de la invitación]
D9: [NOMBRE DE LA ENTIDAD]
L10: VERSIÓN
D11: [NÚMERO DEL PROCESO]
L12: PÁGINA | M12: 1 | N12: DE | O12: 1
D14: ANALISIS DE PRECIOS UNITARIOS
L16: FECHA | M16: DD | N16: MM | O16: AA
C18: ÍTEMS DE LA PROPUESTA ECONÓMICA | I18: ÍTEMS NO PREVISTOS
C22: DATOS ESPECÍFICOS
C24: ÍTEM | D24: DESCRIPCIÓN | M24: UNIDAD | O24: CANTIDAD
C25: ='PRESUPUESTO OFICIAL (Entidad)'!C14 -> 1 | D25: ='PRESUPUESTO OFICIAL (Entidad)'!G14 -> SUMINISTRO E INSTALACION DE TACHAS REFELCTIVAS PARA CRUCES ESCOLARES (12 X 12) | M25: ='PRESUPUESTO OFICIAL (Entidad)'!H14 -> UND | O25: ='PRESUPUESTO OFICIAL (Entidad)'!I14 -> 500
C26: I. EQUIPO
C29: DESCRIPCIÓN | H29: MARCA | J29: TIPO | L29: TARIFA/HORA | M29: RENDIMIENTO | O29: Vr. UNITARIO
C30: Camioneta de estacas 4x4 | L30: 54950 | M30: =1/60 -> 0.016666667 | O30: =+L30*M30 -> 915.83333
C31: herramienta menores (%) | M31: 0.01 | O31: =+M31*O58 -> 5.0106838
C32: Taladro Rotomartillo | L32: 101920 | M32: 0.05 | O32: =+L32*M32 -> 5096
C33: SUBTOTAL $ | O33: =SUM(O30:O32) -> 6016.844
C34: II. MATERIALES
C37: DESCRIPCIÓN | K37: UNIDAD | L37: CANTIDAD | M37: PRECIO UNIT. | O37: Vr. UNITARIO
C38: Reductor de Velocidad Trafico Mixto con Reflectivo 1 m x 35 cm x 5 cm | K38: Und | L38: 1 | M38: 25000 | O38: 24251.32
O39: =+L39*M39 -> 0
O40: =+L40*M40 -> 0
C42: SUBTOTAL $ | O42: =SUM(O38:O41) -> 24251.32
C43: III. TRANSPORTES
C46: MATERIAL | J46: VOL. o PESO | K46: DISTANCIA | L46: M3 o Ton/Km | M46: TARIFA | O46: Vr. UNITARIO
C49: SUBTOTAL $
C50: IV. MANO DE OBRA
C53: TRABAJADOR | J53: JORNAL | K53: PRESTACIONES | L53: JORNAL TOTAL | M53: RENDIMIENTO | O53: Vr. UNITARIO
C54: OBRERO (2) | J54: =+L54/K54*100 -> 53846.154 | K54: 195 | L54: 105000 | M54: 468 | O54: =+L54/M54 -> 224.35897
C55: OFICIAL (1) | J55: =+L55/K55*100 -> 66410.256 | K55: 195 | L55: 129500 | M55: 468 | O55: =+L55/M55 -> 276.7094
C58: SUBTOTAL $ | O58: =SUM(O54:O57) -> 501.06838
C60: TOTAL COSTO DIRECTO $ | O60: =+O33+O42+O58 -> 30769.232
C61: V. COSTOS INDIRECTOS
C64: Descripción | L64: Porcentaje | M64: Valor Total
C65: ADMINISTRACION | L65: =+'PRESUPUESTO OFICIAL (Entidad)'!K44 -> 0.2 | M65: =+L65*$O$60 -> 6153.8465
C66: IMPREVISTOS | L66: =+'PRESUPUESTO OFICIAL (Entidad)'!K45 -> 0.05 | M66: =+L66*$O$60 -> 1538.4616
C67: UTILIDAD | L67: =+'PRESUPUESTO OFICIAL (Entidad)'!K46 -> 0.05 | M67: =+L67*$O$60 -> 1538.4616
C68: SUBTOTAL $ | O68: =SUM(M65:N67) -> 9230.7697
...

Sheet 2. RESALTOS VIRTUALES
C3: Formulario 1 - Propuesta económica - Documento tipo de mínima cuantía de obra pública de infraestructura de transporte - versión 2
C4: Código | D4: CCE-EICP-FM-32 | E4: Versión | F4: 2
C6: [La entidad podrá utilizar este formato para la presentación de los análisis de Precios Unitarios del Contratista en la oportunidad prevista en el numeral 8.2. de la invitación]
D9: [NOMBRE DE LA ENTIDAD]
L10: VERSIÓN
D11: [NÚMERO DEL PROCESO]
L12: PÁGINA | M12: 1 | N12: DE | O12: 1
D14: ANALISIS DE PRECIOS UNITARIOS
L16: FECHA | M16: DD | N16: MM | O16: AA
C18: ÍTEMS DE LA PROPUESTA ECONÓMICA | I18: ÍTEMS NO PREVISTOS
C22: DATOS ESPECÍFICOS
C24: ÍTEM | D24: DESCRIPCIÓN | M24: UNIDAD | O24: CANTIDAD
C25: ='PRESUPUESTO OFICIAL (Entidad)'!C15 -> 2 | D25: ='PRESUPUESTO OFICIAL (Entidad)'!G15 -> SEÑALIZACIÓN HORIZONTAL RESALTO VIRTUAL (2 X 5 MTS) CON PINTURA TERMOPLASTICA REFLECTIVA DE ALTA RESISTENCIA AL IMPACTO | M25: ='PRESUPUESTO OFICIAL (Entidad)'!H15 -> M2 | O25: ='PRESUPUESTO OFICIAL (Entidad)'!I15 -> 300
C26: I. EQUIPO
C29: DESCRIPCIÓN | H29: MARCA | J29: TIPO | L29: TARIFA/HORA | M29: RENDIMIENTO | O29: Vr. UNITARIO
C30: Camioneta de estacas 4x4 | L30: 48028 | M30: =1/30 -> 0.033333333 | O30: =+L30*M30 -> 1600.9333
C31: Equipo de pintura (Compresor). Presión máxima de trabajo 7 HP | L31: 26618.6 | M31: =1/30 -> 0.033333333 | O31: =+L31*M31 -> 887.28667
C33: SUBTOTAL $ | O33: =SUM(O30:O32) -> 2488.22
C34: II. MATERIALES
C37: DESCRIPCIÓN | K37: UNIDAD | L37: CANTIDAD | M37: PRECIO UNIT. | O37: Vr. UNITARIO
C38: Microesferas reflectivas de vidrio | K38: Kg | L38: 0.2 | M38: 17649 | O38: =+L38*M38 -> 3529.8
C39: Disolvente para pintura de demarcacion vial (XILOL) | K39: Gl | L39: 0.0455 | M39: 84173 | O39: =+L39*M39 -> 3829.8715
C40: Pintura acrílica pura para demarcacion vial. | K40: Gl | L40: 0.111 | M40: 205732 | O40: =+L40*M40 -> 22836.252
C42: SUBTOTAL $ | O42: =SUM(O38:O41) -> 30195.924
C43: III. TRANSPORTES
C46: MATERIAL | J46: VOL. o PESO | K46: DISTANCIA | L46: M3 o Ton/Km | M46: TARIFA | O46: Vr. UNITARIO
C49: SUBTOTAL $
C50: IV. MANO DE OBRA
C53: TRABAJADOR | J53: JORNAL | K53: PRESTACIONES | L53: JORNAL TOTAL | M53: RENDIMIENTO | O53: Vr. UNITARIO
C54: OBRERO (2) | J54: =+L54/K54*100 -> 56756.757 | K54: 185 | L54: 105000 | M54: 180 | O54: =+L54/M54 -> 583.33333
C55: OFICIAL (1) | J55: =+L55/K55*100 -> 70000 | K55: 185 | L55: 129500 | M55: 180 | O55: =+L55/M55 -> 719.44444
C58: SUBTOTAL $ | O58: =SUM(O54:O57) -> 1302.7778
C60: TOTAL COSTO DIRECTO $ | O60: =+O33+O42+O58 -> 33986.921
C61: V. COSTOS INDIRECTOS
C64: Descripción | L64: Porcentaje | M64: Valor Total
C65: ADMINISTRACION | L65: =+'PRESUPUESTO OFICIAL (Entidad)'!K44 -> 0.2 | M65: =+L65*$O$60 -> 6797.3843
C66: IMPREVISTOS | L66: =+'PRESUPUESTO OFICIAL (Entidad)'!K45 -> 0.05 | M66: =+L66*$O$60 -> 1699.3461
C67: UTILIDAD | L67: =+'PRESUPUESTO OFICIAL (Entidad)'!K46 -> 0.05 | M67: =+L67*$O$60 -> 1699.3461
C68: SUBTOTAL $ | O68: =SUM(M65:N67) -> 10196.076
C70: Precio Unitario Total Aproximado al peso $ | O70: =+O60+O68 -> 44182.998
...

Sheet 3. DEMARCACION
C3: Formulario 1 - Propuesta económica - Documento tipo de mínima cuantía de obra pública de infraestructura de transporte - versión 2
C4: Código | D4: CCE-EICP-FM-32 | E4: Versión | F4: 2
C6: [La entidad podrá utilizar este formato para la presentación de los análisis de Precios Unitarios del Contratista en la oportunidad prevista en el numeral 8.2. de la invitación]
D9: [NOMBRE DE LA ENTIDAD]
L10: VERSIÓN
D11: [NÚMERO DEL PROCESO]
L12: PÁGINA | M12: 1 | N12: DE | O12: 1
D14: ANALISIS DE PRECIOS UNITARIOS
L16: FECHA | M16: DD | N16: MM | O16: AA
C18: ÍTEMS DE LA PROPUESTA ECONÓMICA | I18: ÍTEMS NO PREVISTOS
C22: DATOS ESPECÍFICOS
C24: ÍTEM | D24: DESCRIPCIÓN | M24: UNIDAD | O24: CANTIDAD
C25: ='PRESUPUESTO OFICIAL (Entidad)'!C16 -> 3 | D25: ='PRESUPUESTO OFICIAL (Entidad)'!G16 -> DEMARCACION LINEAS DE VIAS CENTRAL Y LATERAL EN ZONAS ESCOLARES CON PINTURA TERMOPLASTICA REFLECTIVA DE ALTA RESISTENCIA AL IMPACTO | M25: ='PRESUPUESTO OFICIAL (Entidad)'!H16 -> ML | O25: ='PRESUPUESTO OFICIAL (Entidad)'!I16 -> 64
C26: I. EQUIPO
C29: DESCRIPCIÓN | H29: MARCA | J29: TIPO | L29: TARIFA/HORA | M29: RENDIMIENTO | O29: Vr. UNITARIO
C30: Camioneta de estacas 4x4 | L30: 48028 | M30: 0.9 | O30: =+L30*M30 -> 43225.2
C31: Equipo de pintura (Compresor). Presión máxima de trabajo 7 HP | L31: 26618.6 | M31: 0.9 | O31: =+L31*M31 -> 23956.74
C33: SUBTOTAL $ | O33: =SUM(O30:O32) -> 67181.94
C34: II. MATERIALES
C37: DESCRIPCIÓN | K37: UNIDAD | L37: CANTIDAD | M37: PRECIO UNIT. | O37: Vr. UNITARIO
C38: Disolvente para pintura de demarcacion vial (XILOL) | K38: Gl | L38: 0.08 | M38: 84173 | O38: =+L38*M38 -> 6733.84
C39: Pintura acrílica pura para demarcacion vial. | K39: Gl | L39: 0.2003583 | M39: 205732 | O39: =+L39*M39 -> 41220.114
C41: SUBTOTAL $ | O41: =SUM(O38:O40) -> 47953.954
C42: III. TRANSPORTES
C45: MATERIAL | J45: VOL. o PESO | K45: DISTANCIA | L45: M3 o Ton/Km | M45: TARIFA | O45: Vr. UNITARIO
C48: SUBTOTAL $
C49: IV. MANO DE OBRA
C52: TRABAJADOR | J52: JORNAL | K52: PRESTACIONES | L52: JORNAL TOTAL | M52: RENDIMIENTO | O52: Vr. UNITARIO
C53: OBRERO (2) | J53: =+L53/K53*100 -> 56756.757 | K53: 185 | L53: 105000 | M53: 15 | O53: =+L53/M53 -> 7000
C54: OFICIAL (1) | J54: =+L54/K54*100 -> 70000 | K54: 185 | L54: 129500 | M54: 15 | O54: =+L54/M54 -> 8633.3333
C57: SUBTOTAL $ | O57: =SUM(O53:O56) -> 15633.333
C59: TOTAL COSTO DIRECTO $ | O59: =+O33+O41+O57 -> 130769.23
C60: V. COSTOS INDIRECTOS
C63: Descripción | L63: Porcentaje | M63: Valor Total
C64: ADMINISTRACION | L64: =+'PRESUPUESTO OFICIAL (Entidad)'!K44 -> 0.2 | M64: =+L64*$O$59 -> 26153.845
C65: IMPREVISTOS | L65: =+'PRESUPUESTO OFICIAL (Entidad)'!K45 -> 0.05 | M65: =+L65*$O$59 -> 6538.4614
C66: UTILIDAD | L66: =+'PRESUPUESTO OFICIAL (Entidad)'!K46 -> 0.05 | M66: =+L66*$O$59 -> 6538.4614
C67: SUBTOTAL $ | O67: =SUM(M64:N66) -> 39230.768
C69: Precio Unitario Total Aproximado al peso $ | O69: =+O59+O67 -> 170000
H73: Firma
...

Sheet 4. SEÑAL VALLA REFLECTIVA
C3: Formulario 1 - Propuesta económica - Documento tipo de mínima cuantía de obra pública de infraestructura de transporte - versión 2
C4: Código | D4: CCE-EICP-FM-32 | E4: Versión | F4: 2
C6: [La entidad podrá utilizar este formato para la presentación de los análisis de Precios Unitarios del Contratista en la oportunidad prevista en el numeral 8.2. de la invitación]
D9: [NOMBRE DE LA ENTIDAD]
L10: VERSIÓN
D11: [NÚMERO DEL PROCESO]
L12: PÁGINA | M12: 1 | N12: DE | O12: 1
D14: ANALISIS DE PRECIOS UNITARIOS
L16: FECHA | M16: DD | N16: MM | O16: AA
C18: ÍTEMS DE LA PROPUESTA ECONÓMICA | I18: ÍTEMS NO PREVISTOS
C22: DATOS ESPECÍFICOS
C24: ÍTEM | D24: DESCRIPCIÓN | M24: UNIDAD | O24: CANTIDAD
C25: ='PRESUPUESTO OFICIAL (Entidad)'!C17 -> 4 | D25: ='PRESUPUESTO OFICIAL (Entidad)'!G17 -> SEÑAL VALLA REFLECTIVA PRISMATICA REFLECTIVA DE ALTA INTENSIDAD 200 X 100 X 300 CMS | M25: =+'[115]PRESUPUESTO OFICIAL (Entidad)'!H18 -> UND | O25: ='PRESUPUESTO OFICIAL (Entidad)'!I17 -> 2
C26: I. EQUIPO
C29: DESCRIPCIÓN | H29: MARCA | J29: TIPO | L29: TARIFA/HORA | M29: RENDIMIENTO | O29: Vr. UNITARIO
C30: Camioneta de estacas 4x4 | L30: 43410.334 | M30: =1/4 -> 0.25 | O30: =+L30*M30 -> 10852.584
C31: Herramienta menor | M31: 0.05 | O31: 588.73
C32: SUBTOTAL $ | O32: =SUM(O30:O31) -> 11441.314
C33: II. MATERIALES
C36: DESCRIPCIÓN | K36: UNIDAD | L36: CANTIDAD | M36: PRECIO UNIT. | O36: Vr. UNITARIO
C37: Instalación | K37: UND | L37: 1 | M37: 154235.62 | O37: =+L37*M37 -> 154235.62
C38: Valla en lámina galvanizada con pintura prismatica reflectiva de alta intensidad 200 X 100 X 300 CMS | K38: UND | L38: 1 | M38: 726079.02 | O38: =+L38*M38 -> 726079.02
C39: Concreto resistencia 21 Mpa | K39: M3 | L39: 0.033 | M39: 590138.5 | O39: =+L39*M39 -> 19474.571
C41: SUBTOTAL $ | O41: =SUM(O37:O39) -> 899789.21
C42: III. TRANSPORTES
C45: MATERIAL | J45: VOL. o PESO | K45: DISTANCIA | L45: M3 o Ton/Km | M45: TARIFA | O45: Vr. UNITARIO
C46: Trasporte de Concreto | J46: 1 | K46: 1 | L46: =L39 -> 0.033 | M46: 2176 | O46: =M46*L46 -> 71.808
C48: SUBTOTAL $ | O48: =SUM(O46) -> 71.808
C49: IV. MANO DE OBRA
C52: TRABAJADOR | J52: JORNAL | K52: PRESTACIONES | L52: JORNAL TOTAL | M52: RENDIMIENTO | O52: Vr. UNITARIO
C53: OBRERO (3) | J53: =L53/K53*100 -> 73668.541 | K53: 185 | L53: 136286.8 | M53: 32 | O53: =+L53/M53 -> 4258.9625
C54: OFICIAL (1) | J54: =L54/K54*100 -> 130000 | K54: 185 | L54: 240500 | M54: 32 | O54: =+L54/M54 -> 7515.625
C57: SUBTOTAL $ | O57: =SUM(O53:O56) -> 11774.587
C59: TOTAL COSTO DIRECTO $ | O59: =+O32+O41+O57+O48 -> 923076.92
C60: V. COSTOS INDIRECTOS
C63: Descripción | L63: Porcentaje | M63: Valor Total
C64: ADMINISTRACION | L64: =+'[115]PRESUPUESTO OFICIAL (Entidad)'!K50 -> 0.2 | M64: =+L64*$O$59 -> 184615.38
C65: IMPREVISTOS | L65: =+'[115]PRESUPUESTO OFICIAL (Entidad)'!K51 -> 0.05 | M65: =+L65*$O$59 -> 46153.846
C66: UTILIDAD | L66: =+'[115]PRESUPUESTO OFICIAL (Entidad)'!K52 -> 0.05 | M66: =+L66*$O$59 -> 46153.846
C67: SUBTOTAL $ | O67: =SUM(M64:N66) -> 276923.08
...

Sheet 5. VALLA DOBLE CARA
C3: Formulario 1 - Propuesta económica - Documento tipo de mínima cuantía de obra pública de infraestructura de transporte - versión 2
C4: Código | D4: CCE-EICP-FM-32 | E4: Versión | F4: 2
C6: [La entidad podrá utilizar este formato para la presentación de los análisis de Precios Unitarios del Contratista en la oportunidad prevista en el numeral 8.2. de la invitación]
D9: [NOMBRE DE LA ENTIDAD]
L10: VERSIÓN
D11: [NÚMERO DEL PROCESO]
L12: PÁGINA | M12: 1 | N12: DE | O12: 1
D14: ANALISIS DE PRECIOS UNITARIOS
L16: FECHA | M16: DD | N16: MM | O16: AA
C18: ÍTEMS DE LA PROPUESTA ECONÓMICA | I18: ÍTEMS NO PREVISTOS
C22: DATOS ESPECÍFICOS
C24: ÍTEM | D24: DESCRIPCIÓN | M24: UNIDAD | O24: CANTIDAD
C25: ='PRESUPUESTO OFICIAL (Entidad)'!C18 -> 5 | D25: ='PRESUPUESTO OFICIAL (Entidad)'!G18 -> VALLAS DOBLE CARA MENSAJE INSTITUCIONAL LOGO DE LA GOBERNACION DE BOLIVAR 100 X 200 CMS | M25: =+'[115]PRESUPUESTO OFICIAL (Entidad)'!H18 -> UND | O25: ='PRESUPUESTO OFICIAL (Entidad)'!I18 -> 2
C26: I. EQUIPO
C29: DESCRIPCIÓN | H29: MARCA | J29: TIPO | L29: TARIFA/HORA | M29: RENDIMIENTO | O29: Vr. UNITARIO
C30: Camioneta de estacas 4x4 | L30: 43410.334 | M30: =1/4 -> 0.25 | O30: =+L30*M30 -> 10852.584
C31: Herramienta menor | M31: 0.05 | O31: 588.73
C32: SUBTOTAL $ | O32: =SUM(O30:O31) -> 11441.314
C33: II. MATERIALES
C36: DESCRIPCIÓN | K36: UNIDAD | L36: CANTIDAD | M36: PRECIO UNIT. | O36: Vr. UNITARIO
C37: Instalación | K37: UND | L37: 1 | M37: 154235.62 | O37: =+L37*M37 -> 154235.62
C38: Valla en lámina galvanizada con pintura prismatica reflectiva de alta intensidad 200 X 100 X 300 CMS | K38: UND | L38: 1 | M38: 956848.25 | O38: =+L38*M38 -> 956848.25
C39: Concreto resistencia 21 Mpa | K39: M3 | L39: 0.033 | M39: 590138.5 | O39: =+L39*M39 -> 19474.571
C41: SUBTOTAL $ | O41: =SUM(O37:O39) -> 1130558.4
C42: III. TRANSPORTES
C45: MATERIAL | J45: VOL. o PESO | K45: DISTANCIA | L45: M3 o Ton/Km | M45: TARIFA | O45: Vr. UNITARIO
C46: Trasporte de Concreto | J46: 1 | K46: 1 | L46: =L39 -> 0.033 | M46: 2176 | O46: =M46*L46 -> 71.808
C48: SUBTOTAL $ | O48: =SUM(O46) -> 71.808
C49: IV. MANO DE OBRA
C52: TRABAJADOR | J52: JORNAL | K52: PRESTACIONES | L52: JORNAL TOTAL | M52: RENDIMIENTO | O52: Vr. UNITARIO
C53: OBRERO (3) | J53: =L53/K53*100 -> 73668.541 | K53: 185 | L53: 136286.8 | M53: 32 | O53: =+L53/M53 -> 4258.9625
C54: OFICIAL (1) | J54: =L54/K54*100 -> 130000 | K54: 185 | L54: 240500 | M54: 32 | O54: =+L54/M54 -> 7515.625
C57: SUBTOTAL $ | O57: =SUM(O53:O56) -> 11774.587
C59: TOTAL COSTO DIRECTO $ | O59: =+O32+O41+O57+O48 -> 1153846.2
C60: V. COSTOS INDIRECTOS
C63: Descripción | L63: Porcentaje | M63: Valor Total
C64: ADMINISTRACION | L64: =+'[115]PRESUPUESTO OFICIAL (Entidad)'!K50 -> 0.2 | M64: =+L64*$O$59 -> 230769.23
C65: IMPREVISTOS | L65: =+'[115]PRESUPUESTO OFICIAL (Entidad)'!K51 -> 0.05 | M65: =+L65*$O$59 -> 57692.308
C66: UTILIDAD | L66: =+'[115]PRESUPUESTO OFICIAL (Entidad)'!K52 -> 0.05 | M66: =+L66*$O$59 -> 57692.308
C67: SUBTOTAL $ | O67: =SUM(M64:N66) -> 346153.85
...

Sheet 6. PICTOGRAMA
C3: Formulario 1 - Propuesta económica - Documento tipo de mínima cuantía de obra pública de infraestructura de transporte - versión 2
C4: Código | D4: CCE-EICP-FM-32 | E4: Versión | F4: 2
C6: [La entidad podrá utilizar este formato para la presentación de los análisis de Precios Unitarios del Contratista en la oportunidad prevista en el numeral 8.2. de la invitación]
D9: [NOMBRE DE LA ENTIDAD]
L10: VERSIÓN
D11: [NÚMERO DEL PROCESO]
L12: PÁGINA | M12: 1 | N12: DE | O12: 1
D14: ANALISIS DE PRECIOS UNITARIOS
L16: FECHA | M16: DD | N16: MM | O16: AA
C18: ÍTEMS DE LA PROPUESTA ECONÓMICA | I18: ÍTEMS NO PREVISTOS
C22: DATOS ESPECÍFICOS
C24: ÍTEM | D24: DESCRIPCIÓN | M24: UNIDAD | O24: CANTIDAD
C25: ='PRESUPUESTO OFICIAL (Entidad)'!C19 -> 6 | D25: ='PRESUPUESTO OFICIAL (Entidad)'!G19 -> PICTOGRAMA ZONA ESCOLAR (DOS PICTOGRAMA ESCOLAR DE 2 X 4 MTS) CON PINTURA TERMOPLASTICA REFLECTIVA DE ALTA RESISTENCIA AL IMPACTO | M25: ='PRESUPUESTO OFICIAL (Entidad)'!H15 -> M2 | O25: ='PRESUPUESTO OFICIAL (Entidad)'!I19 -> 128
C26: I. EQUIPO
C29: DESCRIPCIÓN | H29: MARCA | J29: TIPO | L29: TARIFA/HORA | M29: RENDIMIENTO | O29: Vr. UNITARIO
C30: Camioneta de estacas 4x4 | L30: 48028 | M30: =1/30 -> 0.033333333 | O30: =+L30*M30 -> 1600.9333
C31: Equipo de pintura (Compresor). Presión máxima de trabajo 7 HP | L31: 26618.6 | M31: =1/30 -> 0.033333333 | O31: =+L31*M31 -> 887.28667
C33: SUBTOTAL $ | O33: =SUM(O30:O32) -> 2488.22
C34: II. MATERIALES
C37: DESCRIPCIÓN | K37: UNIDAD | L37: CANTIDAD | M37: PRECIO UNIT. | O37: Vr. UNITARIO
C38: Microesferas reflectivas de vidrio | K38: Kg | L38: 0.2 | M38: 17649 | O38: =+L38*M38 -> 3529.8
C39: Disolvente para pintura de demarcacion vial (XILOL) | K39: Gl | L39: 0.0455 | M39: 84173 | O39: =+L39*M39 -> 3829.8715
C40: Pintura acrílica pura para demarcacion vial. | K40: Gl | L40: 0.111 | M40: 205732 | O40: =+L40*M40 -> 22836.252
C42: SUBTOTAL $ | O42: =SUM(O38:O41) -> 30195.924
C43: III. TRANSPORTES
C46: MATERIAL | J46: VOL. o PESO | K46: DISTANCIA | L46: M3 o Ton/Km | M46: TARIFA | O46: Vr. UNITARIO
C49: SUBTOTAL $
C50: IV. MANO DE OBRA
C53: TRABAJADOR | J53: JORNAL | K53: PRESTACIONES | L53: JORNAL TOTAL | M53: RENDIMIENTO | O53: Vr. UNITARIO
C54: OBRERO (2) | J54: =+L54/K54*100 -> 56756.757 | K54: 185 | L54: 105000 | M54: 180 | O54: =+L54/M54 -> 583.33333
C55: OFICIAL (1) | J55: =+L55/K55*100 -> 70000 | K55: 185 | L55: 129500 | M55: 180 | O55: =+L55/M55 -> 719.44444
C58: SUBTOTAL $ | O58: =SUM(O54:O57) -> 1302.7778
C60: TOTAL COSTO DIRECTO $ | O60: =+O33+O42+O58 -> 33986.921
C61: V. COSTOS INDIRECTOS
C64: Descripción | L64: Porcentaje | M64: Valor Total
C65: ADMINISTRACION | L65: =+'PRESUPUESTO OFICIAL (Entidad)'!K44 -> 0.2 | M65: =+L65*$O$60 -> 6797.3843
C66: IMPREVISTOS | L66: =+'PRESUPUESTO OFICIAL (Entidad)'!K45 -> 0.05 | M66: =+L66*$O$60 -> 1699.3461
C67: UTILIDAD | L67: =+'PRESUPUESTO OFICIAL (Entidad)'!K46 -> 0.05 | M67: =+L67*$O$60 -> 1699.3461
C68: SUBTOTAL $ | O68: =SUM(M65:N67) -> 10196.076
C70: Precio Unitario Total Aproximado al peso $ | O70: =+O60+O68 -> 44182.998
...

Sheet PRESUPUESTO OFICIAL (Entidad)
C3: Formulario 1 - Propuesta económica - Documento tipo de mínima cuantía de obra pública de infraestructura de transporte - versión 2
C4: Código | D4: CCE-EICP-FM-32 | E4: Versión | F4: 2
C5: FORMULARIO 1
C6: PRESUPUESTO ITEMS ADICIONALES
C7: [La Entidad puede utilizar este formulario de detalle del presupuesto oficial para determinar las condiciones bajo las cuales los Proponentes analizarán y presentarán su propuesta económica de forma detallada, sin perjuicio que la Entidad pueda modificarlo o establecer la presentación de la oferta económica con un formulario distinto al indicado.] [El presente Formulario aplica para los Procesos de Contratación que tengan como forma de pago precios unitarios. Tratándose de otras modalidades de pago, la Entidad debe ajustarlo cuando corresponde a: precio global, llave en mano, administración delegada, reembolso de gastos o cualquier otra forma de pago.]
C9: Adicionalmente, cuando el proceso de contratación es estructurado por precios unitarios, la Entidad debe aplicar las notas 1, 2 y 3 del presente formulario y las casillas de "Descripción", "Porcentaje" de la Administración, Imprevisto, Utilidad y total A.I.U. resaltadas en color amarillo. Tratándose de otras modalidades de precio, la Entidad puede o no configurar los mismos aspectos.
C11: Nº | D11: ÍTEM DE PAGO | E11: ESPECIFICACIONES | G11: DESCRIPCIÓN | H11: UND. | I11: CANTIDAD | J11: VALOR UNITARIO | K11: VALOR TOTAL
E12: GENERAL | F12: PARTICULAR
C13: OBRAS ADICIONALES
C14: 1 | G14: SUMINISTRO E INSTALACION DE TACHAS REFELCTIVAS PARA CRUCES ESCOLARES (12 X 12) | H14: UND | I14: 500 | J14: 40000 | K14: =I14*J14 -> 20000000
C15: 2 | G15: SEÑALIZACIÓN HORIZONTAL RESALTO VIRTUAL (2 X 5 MTS) CON PINTURA TERMOPLASTICA REFLECTIVA DE ALTA RESISTENCIA AL IMPACTO | H15: M2 | I15: 300 | J15: 44183 | K15: =I15*J15 -> 13254900
C16: 3 | G16: DEMARCACION LINEAS DE VIAS CENTRAL Y LATERAL EN ZONAS ESCOLARES CON PINTURA TERMOPLASTICA REFLECTIVA DE ALTA RESISTENCIA AL IMPACTO | H16: ML | I16: 64 | J16: 170000 | K16: =I16*J16 -> 10880000
C17: 4 | G17: SEÑAL VALLA REFLECTIVA PRISMATICA REFLECTIVA DE ALTA INTENSIDAD 200 X 100 X 300 CMS | H17: UND | I17: 2 | J17: 1200000 | K17: =I17*J17 -> 2400000
C18: 5 | G18: VALLAS DOBLE CARA MENSAJE INSTITUCIONAL LOGO DE LA GOBERNACION DE BOLIVAR 100 X 200 CMS | H18: UND | I18: 2 | J18: 1500000 | K18: =I18*J18 -> 3000000
C19: 6 | G19: PICTOGRAMA ZONA ESCOLAR (DOS PICTOGRAMA ESCOLAR DE 2 X 4 MTS) CON PINTURA TERMOPLASTICA REFLECTIVA DE ALTA RESISTENCIA AL IMPACTO | H19: M2 | I19: 128 | J19: 44183 | K19: =I19*J19 -> 5655424
C24: Subtotal
C29: Subtotal
C32: Subtotal
C33: SUBTOTAL OBRAS | K33: =SUM(K14:K19) -> 55190324
C43: NOTA 1: Se debe tener en cuenta que el PRECIO UNITARIO incluye el valor de AIU. | H43: DESCRIPCION | K43: PORCENTAJE
C44: NOTA 2: Cuando la fracción decimal del peso sea igual o superior a 5 se aproximará por exceso al número entero siguiente del peso y cuando la fracción decimal del peso sea inferior a 5 se aproximará por defecto al número entero del peso. | H44: ADMINISTRACIÓN | J44: A= | K44: 0.2
C45: NOTA 3: El AIU y su discriminación deben estar en porcentaje (%). | H45: IMPREVISTO | J45: I= | K45: 0.05
H46: UTILIDAD | J46: U= | K46: 0.05
H47: TOTAL A.I.U | J47: A.I.U.= | K47: 0.3
