Workbook

Sheet ESTADO DE CUENTA SENA CAUCA
A1: CLIENTE: SENA REGIONAL CAUCA NÚMERO DE CONTRATO: CO1.PCCNTR.8006159 DE 2025
A3: FACTURAR TIQUETES VIGENCIA DIANA
A4: REMISION | B4: FECHA | C4: PASAJERO | D4: RUTA | E4: AER | F4: TIQUETE | G4: TARIFA | H4: IVA | I4: TASA | J4: COMB | K4: OTROS | L4: PENALIDAD | M4: T.A. | N4: IVA T.A. | O4: TOTAL | P4: FECHA 1 | Q4: FECHA 2 | R4: RUBRO | S4: TKT ORIGINAL | T4: TKT ORIGINAL | U4: ESTADO DEL TKT | V4: ESTADO DE PAGO
A5: 276699 | B5: 45848 | C5: MORALES FERNANDEZ HENRY | D5: BOG/PPN | E5: 134 | F5: 9585-299625 | G5: 321200 | H5: 61030 | I5: 22600 | J5: 0 | K5: 0 | L5: 0 | M5: 43800 | N5: 8322 | O5: =SUM(G5:N5) -> 456952 | P5: 45848.662 | Q5: 45848.662 | U5: =VLOOKUP(F5,ESTADOS!F:R,13,0) -> ABIERTO | V5: =IF(ISERROR(VLOOKUP(F395,PAGOS!F:F,1,0)),"PENDIENTE DE PAGO", "FACTURA PAGA") -> PENDIENTE DE PAGO
A6: 276700 | B6: 45848 | C6: MUNOZ WILSON LEONARDO FABIO | D6: BOG/PPN | E6: 134 | F6: 9585-299626 | G6: 321200 | H6: 61030 | I6: 22600 | J6: 0 | K6: 0 | L6: 0 | M6: 43800 | N6: 8322 | O6: =SUM(G6:N6) -> 456952 | P6: 45848.662 | Q6: 45848.662 | U6: =VLOOKUP(F6,ESTADOS!F:R,13,0) -> REVISADO | V6: =IF(ISERROR(VLOOKUP(F396,PAGOS!F:F,1,0)),"PENDIENTE DE PAGO", "FACTURA PAGA") -> PENDIENTE DE PAGO
A7: 276701 | B7: 45848 | C7: NARVAEZ RODRIGUEZ YEISY | D7: BOG/PPN | E7: 134 | F7: 9585-299627 | G7: 321200 | H7: 61030 | I7: 22600 | J7: 0 | K7: 0 | L7: 0 | M7: 43800 | N7: 8322 | O7: =SUM(G7:N7) -> 456952 | P7: 45848.662 | Q7: 45848.662 | U7: =VLOOKUP(F7,ESTADOS!F:R,13,0) -> REVISADO | V7: =IF(ISERROR(VLOOKUP(F397,PAGOS!F:F,1,0)),"PENDIENTE DE PAGO", "FACTURA PAGA") -> PENDIENTE DE PAGO
A8: 276702 | B8: 45848 | C8: RIVERA FIERRO DAVID GUILLERMO | D8: BOG/PPN | E8: 134 | F8: 9585-299628 | G8: 321200 | H8: 61030 | I8: 22600 | J8: 0 | K8: 0 | L8: 0 | M8: 43800 | N8: 8322 | O8: =SUM(G8:N8) -> 456952 | P8: 45848.662 | Q8: 45848.662 | U8: =VLOOKUP(F8,ESTADOS!F:R,13,0) -> REVISADO | V8: =IF(ISERROR(VLOOKUP(F398,PAGOS!F:F,1,0)),"PENDIENTE DE PAGO", "FACTURA PAGA") -> PENDIENTE DE PAGO
A9: 276703 | B9: 45848 | C9: ROSERO TORRES ARIADNA | D9: BOG/PPN | E9: 134 | F9: 9585-299629 | G9: 321200 | H9: 61030 | I9: 22600 | J9: 0 | K9: 0 | L9: 0 | M9: 43800 | N9: 8322 | O9: =SUM(G9:N9) -> 456952 | P9: 45848.662 | Q9: 45848.662 | U9: =VLOOKUP(F9,ESTADOS!F:R,13,0) -> REVISADO | V9: =IF(ISERROR(VLOOKUP(F399,PAGOS!F:F,1,0)),"PENDIENTE DE PAGO", "FACTURA PAGA") -> PENDIENTE DE PAGO
A10: 276704 | B10: 45848 | C10: VARGAS VIVAS EDWARD | D10: BOG/PPN | E10: 134 | F10: 9585-299630 | G10: 321200 | H10: 61030 | I10: 22600 | J10: 0 | K10: 0 | L10: 0 | M10: 43800 | N10: 8322 | O10: =SUM(G10:N10) -> 456952 | P10: 45848.662 | Q10: 45848.662 | U10: =VLOOKUP(F10,ESTADOS!F:R,13,0) -> REVISADO | V10: =IF(ISERROR(VLOOKUP(F400,PAGOS!F:F,1,0)),"PENDIENTE DE PAGO", "FACTURA PAGA") -> PENDIENTE DE PAGO
B12: Factura Global | G12: =SUM(G5:G10) -> 1927200 | H12: =SUM(H5:H10) -> 366180 | I12: =SUM(I5:I10) -> 135600 | J12: =SUM(J5:J10) -> 0 | K12: =SUM(K5:K10) -> 0 | L12: =SUM(L5:L10) -> 0 | M12: =SUM(M5:M10) -> 262800 | N12: =SUM(N5:N10) -> 49932 | O12: TOTAL | P12: =SUM(O5:O10) -> 2741712
G14: =+G12+I12+M12 -> 2325600
A15: REMISION | B15: FECHA | C15: PASAJERO | D15: RUTA | E15: AER | F15: TIQUETE | G15: TARIFA | H15: IVA | I15: TASA | J15: COMB | K15: OTROS | L15: PENALIDAD | M15: T.A. | N15: IVA T.A. | O15: TOTAL | P15: FECHA 1 | Q15: FECHA 2 | R15: RUBRO | S15: TKT ORIGINAL | T15: TKT ORIGINAL | U15: ESTADO DEL TKT | V15: ESTADO DE PAGO
A16: 276706 | B16: 45848 | C16: VARGAS EDWARD MR | D16: PPN/BOG | E16: 246 | F16: 0332-745361 | G16: 350000 | H16: 66500 | I16: 24000 | J16: 0 | K16: 0 | L16: 0 | M16: 43800 | N16: 8322 | O16: =SUM(G16:N16) -> 492622 | P16: 45847.479 | Q16: 45847.479 | U16: =VLOOKUP(F16,ESTADOS!F:R,13,0) -> VOLADO | V16: =IF(ISERROR(VLOOKUP(F401,PAGOS!F:F,1,0)),"PENDIENTE DE PAGO", "FACTURA PAGA") -> PENDIENTE DE PAGO
A17: 276707 | B17: 45848 | C17: NARVAEZ YEISY MRS | D17: PPN/BOG | E17: 246 | F17: 0332-745362 | G17: 350000 | H17: 66500 | I17: 24000 | J17: 0 | K17: 0 | L17: 0 | M17: 43800 | N17: 8322 | O17: =SUM(G17:N17) -> 492622 | P17: 45847.479 | Q17: 45847.479 | U17: =VLOOKUP(F17,ESTADOS!F:R,13,0) -> VOLADO | V17: =IF(ISERROR(VLOOKUP(F402,PAGOS!F:F,1,0)),"PENDIENTE DE PAGO", "FACTURA PAGA") -> PENDIENTE DE PAGO
A18: 276708 | B18: 45848 | C18: RIVERA DAVID MR | D18: PPN/BOG | E18: 246 | F18: 0332-745363 | G18: 350000 | H18: 66500 | I18: 24000 | J18: 0 | K18: 0 | L18: 0 | M18: 43800 | N18: 8322 | O18: =SUM(G18:N18) -> 492622 | P18: 45847.479 | Q18: 45847.479 | U18: =VLOOKUP(F18,ESTADOS!F:R,13,0) -> VOLADO | V18: =IF(ISERROR(VLOOKUP(F403,PAGOS!F:F,1,0)),"PENDIENTE DE PAGO", "FACTURA PAGA") -> PENDIENTE DE PAGO
A19: 276709 | B19: 45848 | C19: TORRES ARIADNA MRS | D19: PPN/BOG | E19: 246 | F19: 0332-745364 | G19: 350000 | H19: 66500 | I19: 24000 | J19: 0 | K19: 0 | L19: 0 | M19: 43800 | N19: 8322 | O19: =SUM(G19:N19) -> 492622 | P19: 45847.479 | Q19: 45847.479 | U19: =VLOOKUP(F19,ESTADOS!F:R,13,0) -> VOLADO | V19: =IF(ISERROR(VLOOKUP(F404,PAGOS!F:F,1,0)),"PENDIENTE DE PAGO", "FACTURA PAGA") -> PENDIENTE DE PAGO
A20: 276710 | B20: 45848 | C20: MUNOZ LEONARDO MR | D20: PPN/BOG | E20: 246 | F20: 0332-745365 | G20: 350000 | H20: 66500 | I20: 24000 | J20: 0 | K20: 0 | L20: 0 | M20: 43800 | N20: 8322 | O20: =SUM(G20:N20) -> 492622 | P20: 45847.479 | Q20: 45847.479 | U20: =VLOOKUP(F20,ESTADOS!F:R,13,0) -> VOLADO | V20: =IF(ISERROR(VLOOKUP(F405,PAGOS!F:F,1,0)),"PENDIENTE DE PAGO", "FACTURA PAGA") -> PENDIENTE DE PAGO
A21: 276711 | B21: 45848 | C21: MORALES HENRY MR | D21: PPN/BOG | E21: 246 | F21: 0332-745366 | G21: 350000 | H21: 66500 | I21: 24000 | J21: 0 | K21: 0 | L21: 0 | M21: 43800 | N21: 8322 | O21: =SUM(G21:N21) -> 492622 | P21: 45847.479 | Q21: 45847.479 | U21: =VLOOKUP(F21,ESTADOS!F:R,13,0) -> VOLADO | V21: =IF(ISERROR(VLOOKUP(F406,PAGOS!F:F,1,0)),"PENDIENTE DE PAGO", "FACTURA PAGA") -> PENDIENTE DE PAGO
A22: 277016 | B22: 45849 | C22: MUNOZ WILSON LEONARDO FABIO | D22: BOG/PPN | E22: 134 | F22: 9585-311921 | G22: 0 | H22: 0 | I22: 0 | J22: 0 | K22: 0 | L22: 0 | M22: 43800 | N22: 8322 | O22: =SUM(G22:N22) -> 52122 | P22: 45849.662 | Q22: 45849.662 | U22: =VLOOKUP(F22,ESTADOS!F:R,13,0) -> VOLADO | V22: =IF(ISERROR(VLOOKUP(F407,PAGOS!F:F,1,0)),"PENDIENTE DE PAGO", "FACTURA PAGA") -> PENDIENTE DE PAGO
A23: 277018 | B23: 45849 | C23: NARVAEZ RODRIGUEZ YEISY | D23: BOG/PPN | E23: 134 | F23: 9585-311922 | G23: 0 | H23: 0 | I23: 0 | J23: 0 | K23: 0 | L23: 0 | M23: 43800 | N23: 8322 | O23: =SUM(G23:N23) -> 52122 | P23: 45849.662 | Q23: 45849.662 | U23: =VLOOKUP(F23,ESTADOS!F:R,13,0) -> VOLADO | V23: =IF(ISERROR(VLOOKUP(F408,PAGOS!F:F,1,0)),"PENDIENTE DE PAGO", "FACTURA PAGA") -> PENDIENTE DE PAGO
A24: 277020 | B24: 45849 | C24: RIVERA FIERRO DAVID GUILLERMO | D24: BOG/PPN | E24: 134 | F24: 9585-311923 | G24: 0 | H24: 0 | I24: 0 | J24: 0 | K24: 0 | L24: 0 | M24: 43800 | N24: 8322 | O24: =SUM(G24:N24) -> 52122 | P24: 45849.662 | Q24: 45849.662 | U24: =VLOOKUP(F24,ESTADOS!F:R,13,0) -> VOLADO | V24: =IF(ISERROR(VLOOKUP(F409,PAGOS!F:F,1,0)),"PENDIENTE DE PAGO", "FACTURA PAGA") -> PENDIENTE DE PAGO
A25: 277023 | B25: 45849 | C25: ROSERO TORRES ARIADNA | D25: BOG/PPN | E25: 134 | F25: 9585-311924 | G25: 0 | H25: 0 | I25: 0 | J25: 0 | K25: 0 | L25: 0 | M25: 43800 | N25: 8322 | O25: =SUM(G25:N25) -> 52122 | P25: 45849.662 | Q25: 45849.662 | U25: =VLOOKUP(F25,ESTADOS!F:R,13,0) -> VOLADO | V25: =IF(ISERROR(VLOOKUP(F410,PAGOS!F:F,1,0)),"PENDIENTE DE PAGO", "FACTURA PAGA") -> PENDIENTE DE PAGO
A26: 277026 | B26: 45849 | C26: VARGAS VIVAS EDWARD | D26: BOG/PPN | E26: 134 | F26: 9585-311925 | G26: 0 | H26: 0 | I26: 0 | J26: 0 | K26: 0 | L26: 0 | M26: 43800 | N26: 8322 | O26: =SUM(G26:N26) -> 52122 | P26: 45849.662 | Q26: 45849.662 | U26: =VLOOKUP(F26,ESTADOS!F:R,13,0) -> VOLADO | V26: =IF(ISERROR(VLOOKUP(F411,PAGOS!F:F,1,0)),"PENDIENTE DE PAGO", "FACTURA PAGA") -> PENDIENTE DE PAGO
B28: Factura Global | G28: =SUM(G16:G26) -> 2100000 | H28: =SUM(H16:H26) -> 399000 | I28: =SUM(I16:I26) -> 144000 | J28: =SUM(J16:J26) -> 0 | K28: =SUM(K16:K26) -> 0 | L28: =SUM(L16:L26) -> 0 | M28: =SUM(M16:M26) -> 481800 | N28: =SUM(N16:N26) -> 91542 | O28: TOTAL | P28: =SUM(O16:O26) -> 3216342
A30: REMISION | B30: FECHA | C30: PASAJERO | D30: RUTA | E30: AER | F30: TIQUETE | G30: TARIFA | H30: IVA | I30: TASA | J30: COMB | K30: OTROS | L30: PENALIDAD | M30: T.A. | N30: IVA T.A. | O30: TOTAL | P30: FECHA 1 | Q30: FECHA 2 | R30: RUBRO | S30: TKT ORIGINAL | T30: TKT ORIGINAL | U30: ESTADO DEL TKT | V30: ESTADO DE PAGO
A31: 280667 | B31: 45859 | C31: PAME PAZ LUIS MR | D31: BOG/PPN | E31: 134 | F31: 2767-520349 | G31: 287100 | H31: 54550 | I31: 22600 | J31: 0 | K31: 0 | L31: 0 | M31: 43800 | N31: 8322 | O31: =SUM(G31:N31) -> 416372 | P31: 45863.662 | Q31: 45863.662 | U31: =VLOOKUP(F31,ESTADOS!F:R,13,0) -> REVISADO | V31: =IF(ISERROR(VLOOKUP(F412,PAGOS!F:F,1,0)),"PENDIENTE DE PAGO", "FACTURA PAGA") -> PENDIENTE DE PAGO
A32: 280683 | B32: 45859 | C32: PAME PAZ LUIS MR | D32: PPN/BOG | E32: 246 | F32: 0332-765861 | G32: 380000 | H32: 72200 | I32: 24000 | J32: 0 | K32: 0 | L32: 0 | M32: 43800 | N32: 8322 | O32: =SUM(G32:N32) -> 528322 | P32: 45858.747 | Q32: 45858.747 | U32: =VLOOKUP(F32,ESTADOS!F:R,13,0) -> VOLADO | V32: =IF(ISERROR(VLOOKUP(F413,PAGOS!F:F,1,0)),"PENDIENTE DE PAGO", "FACTURA PAGA") -> PENDIENTE DE PAGO
A33: 281169 | B33: 45860 | C33: TULANDE AURA ELENA | D33: PPN/BOG/CTG/BOG/PPN | E33: 134 | F33: 2754-792698 | G33: 615400 | H33: 116930 | I33: 47500 | J33: 0 | K33: 0 | L33: 0 | M33: 45000 | N33: 8550 | O33: =SUM(G33:N33) -> 833380 | P33: 45868.452 | Q33: 45874.377 | U33: =VLOOKUP(F33,ESTADOS!F:R,13,0) -> X CONSULTAR | V33: =IF(ISERROR(VLOOKUP(F414,PAGOS!F:F,1,0)),"PENDIENTE DE PAGO", "FACTURA PAGA") -> PENDIENTE DE PAGO
A34: 281170 | B34: 45860 | C34: PABON ARIEL EDMUNDO | D34: PPN/BOG/CTG/BOG/PPN | E34: 134 | F34: 2754-792699 | G34: 615400 | H34: 116930 | I34: 47500 | J34: 0 | K34: 0 | L34: 0 | M34: 45000 | N34: 8550 | O34: =SUM(G34:N34) -> 833380 | P34: 45868.452 | Q34: 45874.377 | U34: =VLOOKUP(F34,ESTADOS!F:R,13,0) -> X CONSULTAR | V34: =IF(ISERROR(VLOOKUP(F415,PAGOS!F:F,1,0)),"PENDIENTE DE PAGO", "FACTURA PAGA") -> PENDIENTE DE PAGO
A35: 281172 | B35: 45860 | C35: MEDINA VILLANI ILEANA | D35: PPN/BOG/CTG/BOG/PPN | E35: 134 | F35: 2754-794400 | G35: 615400 | H35: 116930 | I35: 47500 | J35: 0 | K35: 0 | L35: 0 | M35: 45000 | N35: 8550 | O35: =SUM(G35:N35) -> 833380 | P35: 45868.452 | Q35: 45874.377 | U35: =VLOOKUP(F35,ESTADOS!F:R,13,0) -> X CONSULTAR | V35: =IF(ISERROR(VLOOKUP(F416,PAGOS!F:F,1,0)),"PENDIENTE DE PAGO", "FACTURA PAGA") -> PENDIENTE DE PAGO
A36: 281180 | B36: 45860 | C36: TORRES MARTINEZ YADDY ALEXANDRA | D36: PPN/BOG/CTG/BOG/PPN | E36: 134 | F36: 2754-794401 | G36: 615400 | H36: 116930 | I36: 47500 | J36: 0 | K36: 0 | L36: 0 | M36: 45000 | N36: 8550 | O36: =SUM(G36:N36) -> 833380 | P36: 45868.452 | Q36: 45874.377 | U36: =VLOOKUP(F36,ESTADOS!F:R,13,0) -> X CONSULTAR | V36: =IF(ISERROR(VLOOKUP(F417,PAGOS!F:F,1,0)),"PENDIENTE DE PAGO", "FACTURA PAGA") -> PENDIENTE DE PAGO
A37: 281183 | B37: 45860 | C37: ANAYA FLOREZ MARIA SOCORRO | D37: PPN/BOG/CTG/BOG/PPN | E37: 134 | F37: 2754-794402 | G37: 615400 | H37: 116930 | I37: 47500 | J37: 0 | K37: 0 | L37: 0 | M37: 45000 | N37: 8550 | O37: =SUM(G37:N37) -> 833380 | P37: 45868.452 | Q37: 45874.377 | U37: =VLOOKUP(F37,ESTADOS!F:R,13,0) -> X CONSULTAR | V37: =IF(ISERROR(VLOOKUP(F418,PAGOS!F:F,1,0)),"PENDIENTE DE PAGO", "FACTURA PAGA") -> PENDIENTE DE PAGO
A38: 281193 | B38: 45860 | C38: SANCHEZ NAILEN KARINA | D38: PPN/BOG/CTG/BOG/PPN | E38: 134 | F38: 2754-794403 | G38: 615400 | H38: 116930 | I38: 47500 | J38: 0 | K38: 0 | L38: 0 | M38: 45000 | N38: 8550 | O38: =SUM(G38:N38) -> 833380 | P38: 45868.452 | Q38: 45874.377 | U38: =VLOOKUP(F38,ESTADOS!F:R,13,0) -> X CONSULTAR | V38: =IF(ISERROR(VLOOKUP(F419,PAGOS!F:F,1,0)),"PENDIENTE DE PAGO", "FACTURA PAGA") -> PENDIENTE DE PAGO
A39: 281196 | B39: 45860 | C39: URREA CAMPO MARICEL | D39: PPN/BOG/CTG/BOG/PPN | E39: 134 | F39: 2754-794404 | G39: 615400 | H39: 116930 | I39: 47500 | J39: 0 | K39: 0 | L39: 0 | M39: 45000 | N39: 8550 | O39: =SUM(G39:N39) -> 833380 | P39: 45868.452 | Q39: 45874.377 | U39: =VLOOKUP(F39,ESTADOS!F:R,13,0) -> X CONSULTAR | V39: =IF(ISERROR(VLOOKUP(F420,PAGOS!F:F,1,0)),"PENDIENTE DE PAGO", "FACTURA PAGA") -> PENDIENTE DE PAGO
A40: 281202 | B40: 45860 | C40: CONCHA PALTA LILIANA | D40: PPN/BOG/CTG/BOG/PPN | E40: 134 | F40: 2754-794405 | G40: 615400 | H40: 116930 | I40: 47500 | J40: 0 | K40: 0 | L40: 0 | M40: 45000 | N40: 8550 | O40: =SUM(G40:N40) -> 833380 | P40: 45868.452 | Q40: 45874.377 | U40: =VLOOKUP(F40,ESTADOS!F:R,13,0) -> X CONSULTAR | V40: =IF(ISERROR(VLOOKUP(F421,PAGOS!F:F,1,0)),"PENDIENTE DE PAGO", "FACTURA PAGA") -> PENDIENTE DE PAGO
A41: 281208 | B41: 45860 | C41: GOMEZ ESCOBAR LALI MARIEN | D41: PPN/BOG/CTG/BOG/PPN | E41: 134 | F41: 2754-794406 | G41: 615400 | H41: 116930 | I41: 47500 | J41: 0 | K41: 0 | L41: 0 | M41: 45000 | N41: 8550 | O41: =SUM(G41:N41) -> 833380 | P41: 45868.452 | Q41: 45874.377 | U41: =VLOOKUP(F41,ESTADOS!F:R,13,0) -> X CONSULTAR | V41: =IF(ISERROR(VLOOKUP(F422,PAGOS!F:F,1,0)),"PENDIENTE DE PAGO", "FACTURA PAGA") -> PENDIENTE DE PAGO
A42: 281214 | B42: 45860 | C42: CASTRO GARZON VICTORIA ELENA | D42: PPN/BOG/CTG/BOG/PPN | E42: 134 | F42: 2754-794425 | G42: 615400 | H42: 116930 | I42: 47500 | J42: 0 | K42: 0 | L42: 0 | M42: 45000 | N42: 8550 | O42: =SUM(G42:N42) -> 833380 | P42: 45868.452 | Q42: 45874.377 | U42: =VLOOKUP(F42,ESTADOS!F:R,13,0) -> X CONSULTAR | V42: =IF(ISERROR(VLOOKUP(F423,PAGOS!F:F,1,0)),"PENDIENTE DE PAGO", "FACTURA PAGA") -> PENDIENTE DE PAGO
... A75: 283182 | B75: 45866 | C75: BASTIDAS ROSERO JULIETH | D75: PPN/GPI/PPN | E75: 19 | F75: 2463-020219 | G75: 75000 | H75: 0 | I75: 0 | J75: 0 | K75: 0 | L75: 60000 | M75: 0 | N75: 0 | O75: =SUM(G75:N75) -> 135000 | P75: 45868.375 | Q75: 45870.417 | U75: =VLOOKUP(F75,ESTADOS!F:R,13,0) -> X CONSULTAR | V75: =IF(ISERROR(VLOOKUP(F456,PAGOS!F:F,1,0)),"PENDIENTE DE PAGO", "FACTURA PAGA") -> PENDIENTE DE PAGO
A76: 284107 | B76: 45867 | C76: GARCES YULI SIDNEY | D76: NVA/BOG/CTG/BOG/NVA | E76: 134 | F76: 2754-817556 | G76: 1123300 | H76: 213430 | I76: 47500 | J76: 0 | K76: 0 | L76: 0 | M76: 45000 | N76: 8550 | O76: =SUM(G76:N76) -> 1437780 | P76: 45868.379 | Q76: 45874.549
B78: Factura Global | G78: =SUM(G31:G76) -> 26061400 | H78: =SUM(H31:H76) -> 4258260 | I78: =SUM(I31:I76) -> 1805200 | J78: =SUM(J31:J76) -> 0 | K78: =SUM(K31:K76) -> 0 | L78: =SUM(L31:L76) -> 240000 | M78: =SUM(M31:M76) -> 2021200 | N78: =SUM(N31:N76) -> 384028 | O78: TOTAL | P78: =SUM(O31:O76) -> 34770088
...

Sheet ESTADOS
A1: REMISION | B1: FECHA | C1: PASAJERO | D1: RUTA | E1: AER | F1: TIQUETE | G1: TARIFA | H1: IVA | I1: TASA | J1: COMB | K1: OTROS | L1: PENALIDAD | M1: T.A. | N1: IVA T.A. | O1: TOTAL | P1: FECHA 1 | Q1: FECHA 2 | R1: ESTADO
A2: 276699 | B2: 45848 | C2: MORALES FERNANDEZ HENRY | D2: BOG/PPN | E2: 134 | F2: 9585-299625 | G2: 321200 | H2: 61030 | I2: 22600 | J2: 0 | K2: 0 | L2: 0 | M2: 43800 | N2: 8322 | O2: =SUM(G2:N2) -> 456952 | P2: 45848.662 | Q2: 45848.662 | R2: ABIERTO
A3: 276700 | B3: 45848 | C3: MUNOZ WILSON LEONARDO FABIO | D3: BOG/PPN | E3: 134 | F3: 9585-299626 | G3: 321200 | H3: 61030 | I3: 22600 | J3: 0 | K3: 0 | L3: 0 | M3: 43800 | N3: 8322 | O3: =SUM(G3:N3) -> 456952 | P3: 45848.662 | Q3: 45848.662 | R3: REVISADO
A4: 276701 | B4: 45848 | C4: NARVAEZ RODRIGUEZ YEISY | D4: BOG/PPN | E4: 134 | F4: 9585-299627 | G4: 321200 | H4: 61030 | I4: 22600 | J4: 0 | K4: 0 | L4: 0 | M4: 43800 | N4: 8322 | O4: =SUM(G4:N4) -> 456952 | P4: 45848.662 | Q4: 45848.662 | R4: REVISADO
A5: 276702 | B5: 45848 | C5: RIVERA FIERRO DAVID GUILLERMO | D5: BOG/PPN | E5: 134 | F5: 9585-299628 | G5: 321200 | H5: 61030 | I5: 22600 | J5: 0 | K5: 0 | L5: 0 | M5: 43800 | N5: 8322 | O5: =SUM(G5:N5) -> 456952 | P5: 45848.662 | Q5: 45848.662 | R5: REVISADO
A6: 276703 | B6: 45848 | C6: ROSERO TORRES ARIADNA | D6: BOG/PPN | E6: 134 | F6: 9585-299629 | G6: 321200 | H6: 61030 | I6: 22600 | J6: 0 | K6: 0 | L6: 0 | M6: 43800 | N6: 8322 | O6: =SUM(G6:N6) -> 456952 | P6: 45848.662 | Q6: 45848.662 | R6: REVISADO
A7: 276704 | B7: 45848 | C7: VARGAS VIVAS EDWARD | D7: BOG/PPN | E7: 134 | F7: 9585-299630 | G7: 321200 | H7: 61030 | I7: 22600 | J7: 0 | K7: 0 | L7: 0 | M7: 43800 | N7: 8322 | O7: =SUM(G7:N7) -> 456952 | P7: 45848.662 | Q7: 45848.662 | R7: REVISADO
A8: 276706 | B8: 45848 | C8: VARGAS EDWARD MR | D8: PPN/BOG | E8: 246 | F8: 0332-745361 | G8: 350000 | H8: 66500 | I8: 24000 | J8: 0 | K8: 0 | L8: 0 | M8: 43800 | N8: 8322 | O8: =SUM(G8:N8) -> 492622 | P8: 45847.479 | Q8: 45847.479 | R8: VOLADO
A9: 276707 | B9: 45848 | C9: NARVAEZ YEISY MRS | D9: PPN/BOG | E9: 246 | F9: 0332-745362 | G9: 350000 | H9: 66500 | I9: 24000 | J9: 0 | K9: 0 | L9: 0 | M9: 43800 | N9: 8322 | O9: =SUM(G9:N9) -> 492622 | P9: 45847.479 | Q9: 45847.479 | R9: VOLADO
A10: 276708 | B10: 45848 | C10: RIVERA DAVID MR | D10: PPN/BOG | E10: 246 | F10: 0332-745363 | G10: 350000 | H10: 66500 | I10: 24000 | J10: 0 | K10: 0 | L10: 0 | M10: 43800 | N10: 8322 | O10: =SUM(G10:N10) -> 492622 | P10: 45847.479 | Q10: 45847.479 | R10: VOLADO
A11: 276709 | B11: 45848 | C11: TORRES ARIADNA MRS | D11: PPN/BOG | E11: 246 | F11: 0332-745364 | G11: 350000 | H11: 66500 | I11: 24000 | J11: 0 | K11: 0 | L11: 0 | M11: 43800 | N11: 8322 | O11: =SUM(G11:N11) -> 492622 | P11: 45847.479 | Q11: 45847.479 | R11: VOLADO
A12: 276710 | B12: 45848 | C12: MUNOZ LEONARDO MR | D12: PPN/BOG | E12: 246 | F12: 0332-745365 | G12: 350000 | H12: 66500 | I12: 24000 | J12: 0 | K12: 0 | L12: 0 | M12: 43800 | N12: 8322 | O12: =SUM(G12:N12) -> 492622 | P12: 45847.479 | Q12: 45847.479 | R12: VOLADO
A13: 276711 | B13: 45848 | C13: MORALES HENRY MR | D13: PPN/BOG | E13: 246 | F13: 0332-745366 | G13: 350000 | H13: 66500 | I13: 24000 | J13: 0 | K13: 0 | L13: 0 | M13: 43800 | N13: 8322 | O13: =SUM(G13:N13) -> 492622 | P13: 45847.479 | Q13: 45847.479 | R13: VOLADO
... A20: 280683 | B20: 45859 | C20: PAME PAZ LUIS MR | D20: PPN/BOG | E20: 246 | F20: 0332-765861 | G20: 380000 | H20: 72200 | I20: 24000 | J20: 0 | K20: 0 | L20: 0 | M20: 43800 | N20: 8322 | O20: =SUM(G20:N20) -> 528322 | P20: 45858.747 | Q20: 45858.747 | R20: VOLADO
A21: 281169 | B21: 45860 | C21: TULANDE AURA ELENA | D21: PPN/BOG/CTG/BOG/PPN | E21: 134 | F21: 2754-792698 | G21: 615400 | H21: 116930 | I21: 47500 | J21: 0 | K21: 0 | L21: 0 | M21: 45000 | N21: 8550 | O21: 833380 | P21: 45868.452 | Q21: 45874.377 | R21: X CONSULTAR
A22: 281170 | B22: 45860 | C22: PABON ARIEL EDMUNDO | D22: PPN/BOG/CTG/BOG/PPN | E22: 134 | F22: 2754-792699 | G22: 615400 | H22: 116930 | I22: 47500 | J22: 0 | K22: 0 | L22: 0 | M22: 45000 | N22: 8550 | O22: 833380 | P22: 45868.452 | Q22: 45874.377 | R22: X CONSULTAR
A23: 281172 | B23: 45860 | C23: MEDINA VILLANI ILEANA | D23: PPN/BOG/CTG/BOG/PPN | E23: 134 | F23: 2754-794400 | G23: 615400 | H23: 116930 | I23: 47500 | J23: 0 | K23: 0 | L23: 0 | M23: 45000 | N23: 8550 | O23: 833380 | P23: 45868.452 | Q23: 45874.377 | R23: X CONSULTAR
A24: 281180 | B24: 45860 | C24: TORRES MARTINEZ YADDY ALEXANDRA | D24: PPN/BOG/CTG/BOG/PPN | E24: 134 | F24: 2754-794401 | G24: 615400 | H24: 116930 | I24: 47500 | J24: 0 | K24: 0 | L24: 0 | M24: 45000 | N24: 8550 | O24: 833380 | P24: 45868.452 | Q24: 45874.377 | R24: X CONSULTAR
A25: 281183 | B25: 45860 | C25: ANAYA FLOREZ MARIA SOCORRO | D25: PPN/BOG/CTG/BOG/PPN | E25: 134 | F25: 2754-794402 | G25: 615400 | H25: 116930 | I25: 47500 | J25: 0 | K25: 0 | L25: 0 | M25: 45000 | N25: 8550 | O25: 833380 | P25: 45868.452 | Q25: 45874.377 | R25: X CONSULTAR
A26: 281193 | B26: 45860 | C26: SANCHEZ NAILEN KARINA | D26: PPN/BOG/CTG/BOG/PPN | E26: 134 | F26: 2754-794403 | G26: 615400 | H26: 116930 | I26: 47500 | J26: 0 | K26: 0 | L26: 0 | M26: 45000 | N26: 8550 | O26: 833380 | P26: 45868.452 | Q26: 45874.377 | R26: X CONSULTAR
A27: 281196 | B27: 45860 | C27: URREA CAMPO MARICEL | D27: PPN/BOG/CTG/BOG/PPN | E27: 134 | F27: 2754-794404 | G27: 615400 | H27: 116930 | I27: 47500 | J27: 0 | K27: 0 | L27: 0 | M27: 45000 | N27: 8550 | O27: 833380 | P27: 45868.452 | Q27: 45874.377 | R27: X CONSULTAR
A28: 281202 | B28: 45860 | C28: CONCHA PALTA LILIANA | D28: PPN/BOG/CTG/BOG/PPN | E28: 134 | F28: 2754-794405 | G28: 615400 | H28: 116930 | I28: 47500 | J28: 0 | K28: 0 | L28: 0 | M28: 45000 | N28: 8550 | O28: 833380 | P28: 45868.452 | Q28: 45874.377 | R28: X CONSULTAR
A29: 281208 | B29: 45860 | C29: GOMEZ ESCOBAR LALI MARIEN | D29: PPN/BOG/CTG/BOG/PPN | E29: 134 | F29: 2754-794406 | G29: 615400 | H29: 116930 | I29: 47500 | J29: 0 | K29: 0 | L29: 0 | M29: 45000 | N29: 8550 | O29: 833380 | P29: 45868.452 | Q29: 45874.377 | R29: X CONSULTAR
A30: 281214 | B30: 45860 | C30: CASTRO GARZON VICTORIA ELENA | D30: PPN/BOG/CTG/BOG/PPN | E30: 134 | F30: 2754-794425 | G30: 615400 | H30: 116930 | I30: 47500 | J30: 0 | K30: 0 | L30: 0 | M30: 45000 | N30: 8550 | O30: 833380 | P30: 45868.452 | Q30: 45874.377 | R30: X CONSULTAR
A31: 281215 | B31: 45860 | C31: TOBAR FERNANDEZ MAYCOL ESTIBEN | D31: PPN/BOG/CTG/BOG/PPN | E31: 134 | F31: 2754-794426 | G31: 615400 | H31: 116930 | I31: 47500 | J31: 0 | K31: 0 | L31: 0 | M31: 45000 | N31: 8550 | O31: 833380 | P31: 45868.452 | Q31: 45874.377 | R31: X CONSULTAR
A32: 281216 | B32: 45860 | C32: MUNOZ DAMARIS | D32: PPN/BOG/CTG/BOG/PPN | E32: 134 | F32: 2754-794427 | G32: 615400 | H32: 116930 | I32: 47500 | J32: 0 | K32: 0 | L32: 0 | M32: 45000 | N32: 8550 | O32: 833380 | P32: 45868.452 | Q32: 45874.377 | R32: X CONSULTAR
... A63: 283182 | B63: 45866 | C63: BASTIDAS ROSERO JULIETH | D63: PPN/GPI/PPN | E63: 19 | F63: 2463-020219 | G63: 75000 | H63: 0 | I63: 0 | J63: 0 | K63: 0 | L63: 60000 | M63: 79600 | N63: 15124 | O63: 229724 | P63: 45868.375 | Q63: 45870.417 | R63: X CONSULTAR

Sheet PAGOS
A1: REMISION | B1: FECHA | C1: PASAJERO | D1: RUTA | E1: AER | F1: TIQUETE | G1: TARIFA | H1: IVA | I1: TASA | J1: COMB | K1: OTROS | L1: PENALIDAD | M1: T.A. | N1: IVA T.A. | O1: DESCUENTO 3% | P1: TOTAL
B3: Factura Global
M6: Retenciones
M7: Rte Fuente | N7: 0.04 | O7: =+M3*N7 -> 0
M8: Rte ICA | N8: 0.005 | O8: =+M3*N8 -> 0
M9: Rte IVA | N9: 0.15 | O9: =+N3*N9 -> 0
M10: Pro-unv de la amazonia | N10: 0.0299 | O10: =+P10*N10 -> 0 | P10: =+P3-N3-H3 -> 0
M11: Pago | O11: =+P3-O7-O8-O9-O10 -> 0
M15: Diferencia | O15: =O11-O13-O14 -> 0
