Workbook
Name tdRepliesUniqueIdentifierCol_lnkRepliesUniqueIdentifierViewLink_0: 'VERIFICACION DE OFERTAS'!#REF!
Name tdRepliesUniqueIdentifierCol_lnkRepliesUniqueIdentifierViewLink_1: 'VERIFICACION DE OFERTAS'!#REF!
Name tdRepliesUniqueIdentifierCol_lnkRepliesUniqueIdentifierViewLink_10: 'VERIFICACION DE OFERTAS'!#REF!
Name tdRepliesUniqueIdentifierCol_lnkRepliesUniqueIdentifierViewLink_11: 'VERIFICACION DE OFERTAS'!#REF!
Name tdRepliesUniqueIdentifierCol_lnkRepliesUniqueIdentifierViewLink_12: 'VERIFICACION DE OFERTAS'!#REF!
Name tdRepliesUniqueIdentifierCol_lnkRepliesUniqueIdentifierViewLink_13: 'VERIFICACION DE OFERTAS'!#REF!
Name tdRepliesUniqueIdentifierCol_lnkRepliesUniqueIdentifierViewLink_14: 'VERIFICACION DE OFERTAS'!#REF!
Name tdRepliesUniqueIdentifierCol_lnkRepliesUniqueIdentifierViewLink_15: 'VERIFICACION DE OFERTAS'!#REF!
Name tdRepliesUniqueIdentifierCol_lnkRepliesUniqueIdentifierViewLink_16: 'VERIFICACION DE OFERTAS'!#REF!
Name tdRepliesUniqueIdentifierCol_lnkRepliesUniqueIdentifierViewLink_17: 'VERIFICACION DE OFERTAS'!#REF!
Name tdRepliesUniqueIdentifierCol_lnkRepliesUniqueIdentifierViewLink_18: 'VERIFICACION DE OFERTAS'!#REF!
Name tdRepliesUniqueIdentifierCol_lnkRepliesUniqueIdentifierViewLink_19: 'VERIFICACION DE OFERTAS'!#REF!
Name tdRepliesUniqueIdentifierCol_lnkRepliesUniqueIdentifierViewLink_2: 'VERIFICACION DE OFERTAS'!#REF!
Name tdRepliesUniqueIdentifierCol_lnkRepliesUniqueIdentifierViewLink_20: 'VERIFICACION DE OFERTAS'!#REF!
Name tdRepliesUniqueIdentifierCol_lnkRepliesUniqueIdentifierViewLink_21: 'VERIFICACION DE OFERTAS'!#REF!
Name tdRepliesUniqueIdentifierCol_lnkRepliesUniqueIdentifierViewLink_22: Hoja1!$A$25
Name tdRepliesUniqueIdentifierCol_lnkRepliesUniqueIdentifierViewLink_23: Hoja1!$A$26
Name tdRepliesUniqueIdentifierCol_lnkRepliesUniqueIdentifierViewLink_24: Hoja1!$A$27
Name tdRepliesUniqueIdentifierCol_lnkRepliesUniqueIdentifierViewLink_25: Hoja1!$A$28
Name tdRepliesUniqueIdentifierCol_lnkRepliesUniqueIdentifierViewLink_26: Hoja1!$A$29
Name tdRepliesUniqueIdentifierCol_lnkRepliesUniqueIdentifierViewLink_27: Hoja1!$A$30
Name tdRepliesUniqueIdentifierCol_lnkRepliesUniqueIdentifierViewLink_28: Hoja1!$A$31
Name tdRepliesUniqueIdentifierCol_lnkRepliesUniqueIdentifierViewLink_29: Hoja1!$A$32
Name tdRepliesUniqueIdentifierCol_lnkRepliesUniqueIdentifierViewLink_3: 'VERIFICACION DE OFERTAS'!#REF!
Name tdRepliesUniqueIdentifierCol_lnkRepliesUniqueIdentifierViewLink_30: Hoja1!$A$33
Name tdRepliesUniqueIdentifierCol_lnkRepliesUniqueIdentifierViewLink_31: Hoja1!$A$34
Name tdRepliesUniqueIdentifierCol_lnkRepliesUniqueIdentifierViewLink_32: Hoja1!$A$35
Name tdRepliesUniqueIdentifierCol_lnkRepliesUniqueIdentifierViewLink_33: Hoja1!$A$36
Name tdRepliesUniqueIdentifierCol_lnkRepliesUniqueIdentifierViewLink_34: Hoja1!$A$37
Name tdRepliesUniqueIdentifierCol_lnkRepliesUniqueIdentifierViewLink_35: Hoja1!$A$38
Name tdRepliesUniqueIdentifierCol_lnkRepliesUniqueIdentifierViewLink_36: Hoja1!$A$39
Name tdRepliesUniqueIdentifierCol_lnkRepliesUniqueIdentifierViewLink_37: Hoja1!$A$40
Name tdRepliesUniqueIdentifierCol_lnkRepliesUniqueIdentifierViewLink_38: Hoja1!$A$41
Name tdRepliesUniqueIdentifierCol_lnkRepliesUniqueIdentifierViewLink_39: Hoja1!$A$42
Name tdRepliesUniqueIdentifierCol_lnkRepliesUniqueIdentifierViewLink_4: 'VERIFICACION DE OFERTAS'!#REF!
Name tdRepliesUniqueIdentifierCol_lnkRepliesUniqueIdentifierViewLink_40: Hoja1!$A$43
Name tdRepliesUniqueIdentifierCol_lnkRepliesUniqueIdentifierViewLink_41: Hoja1!$A$44
Name tdRepliesUniqueIdentifierCol_lnkRepliesUniqueIdentifierViewLink_42: Hoja1!$A$45
Name tdRepliesUniqueIdentifierCol_lnkRepliesUniqueIdentifierViewLink_43: Hoja1!$A$46
Name tdRepliesUniqueIdentifierCol_lnkRepliesUniqueIdentifierViewLink_44: Hoja1!$A$47
Name tdRepliesUniqueIdentifierCol_lnkRepliesUniqueIdentifierViewLink_45: Hoja1!$A$48
Name tdRepliesUniqueIdentifierCol_lnkRepliesUniqueIdentifierViewLink_46: Hoja1!$A$49
Name tdRepliesUniqueIdentifierCol_lnkRepliesUniqueIdentifierViewLink_47: Hoja1!$A$50
Name tdRepliesUniqueIdentifierCol_lnkRepliesUniqueIdentifierViewLink_48: Hoja1!$A$51
Name tdRepliesUniqueIdentifierCol_lnkRepliesUniqueIdentifierViewLink_49: Hoja1!$A$52
Name tdRepliesUniqueIdentifierCol_lnkRepliesUniqueIdentifierViewLink_5: 'VERIFICACION DE OFERTAS'!#REF!
Name tdRepliesUniqueIdentifierCol_lnkRepliesUniqueIdentifierViewLink_50: Hoja1!$A$53
Name tdRepliesUniqueIdentifierCol_lnkRepliesUniqueIdentifierViewLink_51: Hoja1!$A$54
Name tdRepliesUniqueIdentifierCol_lnkRepliesUniqueIdentifierViewLink_52: Hoja1!$A$55
Name tdRepliesUniqueIdentifierCol_lnkRepliesUniqueIdentifierViewLink_53: Hoja1!$A$56
Name tdRepliesUniqueIdentifierCol_lnkRepliesUniqueIdentifierViewLink_54: Hoja1!$A$57
Name tdRepliesUniqueIdentifierCol_lnkRepliesUniqueIdentifierViewLink_55: Hoja1!$A$58
Name tdRepliesUniqueIdentifierCol_lnkRepliesUniqueIdentifierViewLink_56: Hoja1!$A$59
Name tdRepliesUniqueIdentifierCol_lnkRepliesUniqueIdentifierViewLink_57: Hoja1!$A$60
Name tdRepliesUniqueIdentifierCol_lnkRepliesUniqueIdentifierViewLink_58: Hoja1!$A$61
Name tdRepliesUniqueIdentifierCol_lnkRepliesUniqueIdentifierViewLink_59: Hoja1!$A$62
Name tdRepliesUniqueIdentifierCol_lnkRepliesUniqueIdentifierViewLink_6: 'VERIFICACION DE OFERTAS'!#REF!
Name tdRepliesUniqueIdentifierCol_lnkRepliesUniqueIdentifierViewLink_60: Hoja1!$A$63
Name tdRepliesUniqueIdentifierCol_lnkRepliesUniqueIdentifierViewLink_61: Hoja1!$A$64
Name tdRepliesUniqueIdentifierCol_lnkRepliesUniqueIdentifierViewLink_62: Hoja1!$A$65

Sheet Hoja1
A1: Lista de ofertas
A2: Referencia de oferta | B2: Entidad | C2: Evaluación | D2: Oferta
A3: CONSORCIO SERES SAN AGUSTIN | B3: CONSORCIO SERES SAN AGUSTIN | C3: Oferta rechazada | D3: 0
A4: SVLPOB0001-25 - San Agustin | B4: ARGECO | C4: Oferta rechazada | D4: 0
A5: SVLPOB0001-25ia | B5: CONSORCIO C&D 2025 | C5: Oferta rechazada | D5: 0
A6: CONSORCIO VIAL SA -H | B6: CONSORCIO VIAL SA-H | C6: Oferta aceptada | D6: 5112752361
A7: SVLPOB0001-25 | B7: CONSORCIO HUELLAS SAN AGUSTIN | C7: Oferta rechazada | D7: 0
A8: SAN AGUSTIN HUILA - TIKAL | B8: CONSORCIO TIKAL | C8: Oferta rechazada | D8: 0
A9: SILCONS SAS - SVLPOB0001-25 | B9: SILCONS SAS | C9: Oferta aceptada | D9: 5160303503
A10: SVLPOB0001-25 GOBERNACIÓN DEL HUILA (CONSORCIO ARQUEOLÓGICO SAN AGUSTIN) | B10: CONSORCIO ARQUEOLÓGICO SAN AGUSTIN | C10: Oferta aceptada | D10: 4.9869229e+09
A11: CONSORCIO REDBYG | B11: CONSORCIO REDBYG | C11: Oferta aceptada | D11: 5129845159
A12: CONSORCIO VIAS 2CP | B12: CONSORCIO VIAS 2CP | C12: Oferta aceptada | D12: 5164001589
A13: CONSORCIO SAN AGUSTIN I | B13: CONSORCIO SAN AGUSTIN I | C13: Oferta aceptada | D13: 5094261710
A14: CONSORCIO VIAS SAN AGUSTIN 2025 | B14: CONSORCIO VIAS SAN AGUSTIN 2025 | C14: Oferta rechazada | D14: 0
... A70: ARCA SVLPOB0001-25 HUILA | B70: Arca Megaproyectos SAS | C70: Oferta aceptada | D70: 5156303960

Sheet VERIFICACION DE OFERTAS
B2: PROPUESTAS | C2: PROPONENTES | D2: PROPUESTA ECONÓMICA | E2: OFERTA SECOP | F2: RECHAZOS OFERTA ECONOMICA | G2: VALOR PROPUESTA ECONÓMICA | H2: REQUERIMEINTO PRECIO ARTIFICIALMENTE BAJO | I2: OBSERVACION
B3: 81 | C3: CONSORCIO EDIFICIO CENTRAL | D3: 1.9215243e+09 | F3: RECHAZADO | H3: =IF(G3>$G$67,"OK","REQUERIR") -> REQUERIR
B4: 77 | C4: CONINCAG SAS | D4: 1.8637327e+09 | F4: RECHAZADO | H4: =IF(G4>$G$67,"OK","REQUERIR") -> REQUERIR
B5: 74 | C5: CONSORCIO MANASSA 28 | D5: 1.8675064e+09 | E5: =+D5 -> 1.8675064e+09 | G5: =+E5 -> 1.8675064e+09 | H5: =IF(G5>$G$67,"OK","REQUERIR") -> OK
B6: 73 | C6: CONSORCIO SANTANA 2025 | D6: 1.8631888e+09 | E6: =+D6 -> 1.8631888e+09 | G6: =+E6 -> 1.8631888e+09 | H6: =IF(G6>$G$67,"OK","REQUERIR") -> OK
B7: 72 | C7: Fundacion Espeletia | D7: 1.834841e+09 | E7: =+D7 -> 1.834841e+09 | G7: =+E7 -> 1.834841e+09 | H7: =IF(G7>$G$67,"OK","REQUERIR") -> REQUERIR
B8: 71 | C8: Consorcio CONSTRUCTOR CENTRAL | D8: 1.8579391e+09 | E8: =+D8 -> 1.8579391e+09 | G8: =+E8 -> 1.8579391e+09 | H8: =IF(G8>$G$67,"OK","REQUERIR") -> OK
B9: 69 | C9: CONSORCIO INGEGOBER | D9: 1.8651617e+09 | F9: RECHAZADO | H9: =IF(G9>$G$67,"OK","REQUERIR") -> REQUERIR
B10: 66 | C10: CONSORCIO ARCUM | D10: 1.8614113e+09 | E10: =+D10 -> 1.8614113e+09 | G10: =+E10 -> 1.8614113e+09 | H10: =IF(G10>$G$67,"OK","REQUERIR") -> OK
B11: 65 | C11: CONSORCIO SANTA RITA | D11: 1.893037e+09 | F11: RECHAZADO | H11: =IF(G11>$G$67,"OK","REQUERIR") -> REQUERIR
B12: 64 | C12: CONSORCIO OBRAS GMJ 2025 | D12: 1.8926652e+09 | E12: =+D12 -> 1.8926652e+09 | G12: =+E12 -> 1.8926652e+09 | H12: =IF(G12>$G$67,"OK","REQUERIR") -> OK
B13: 63 | C13: CONSORCIO INACAL NEIVA | D13: 1.8800857e+09 | E13: =+D13 -> 1.8800857e+09 | G13: =+E13 -> 1.8800857e+09 | H13: =IF(G13>$G$67,"OK","REQUERIR") -> OK
B14: 62 | C14: BRACO COMPANY S.A.S ZOMAC | D14: 1.9123188e+09 | E14: =+D14 -> 1.9123188e+09 | G14: =+E14 -> 1.9123188e+09 | H14: =IF(G14>$G$67,"OK","REQUERIR") -> OK
B15: 61 | C15: TELEACCESS LTDA | D15: 1.8873033e+09 | E15: =+D15 -> 1.8873033e+09 | G15: =+E15 -> 1.8873033e+09 | H15: =IF(G15>$G$67,"OK","REQUERIR") -> OK
B16: 60 | C16: 3G INGENERIA AVANZADA SAS | D16: 1.8467217e+09 | E16: =+D16 -> 1.8467217e+09 | G16: =+E16 -> 1.8467217e+09 | H16: =IF(G16>$G$67,"OK","REQUERIR") -> OK
B17: 59 | C17: CONSORCIO HUILA DUOVAL 324 | D17: 1.8540754e+09 | F17: RECHAZADO | H17: =IF(G17>$G$67,"OK","REQUERIR") -> REQUERIR
B18: 58 | C18: CONSORCIO GPIng | D18: 1.8371757e+09 | F18: RECHAZADO | H18: =IF(G18>$G$67,"OK","REQUERIR") -> REQUERIR
B19: 57 | C19: CONSORCIO SANLORENZO | D19: 1.8704546e+09 | E19: =+D19 -> 1.8704546e+09 | G19: =+E19 -> 1.8704546e+09 | H19: =IF(G19>$G$67,"OK","REQUERIR") -> OK
B20: 54 | C20: CONSORCIO OCIDAN HUILA-13 | D20: 1.8647464e+09 | E20: =+D20 -> 1.8647464e+09 | G20: =+E20 -> 1.8647464e+09 | H20: =IF(G20>$G$67,"OK","REQUERIR") -> OK
B21: 53 | C21: CONSORCIO PROHAL 2025 | D21: 1.8734265e+09 | F21: RECHAZADO | H21: =IF(G21>$G$67,"OK","REQUERIR") -> REQUERIR
B22: 52 | C22: ZION CONSTRUCCIONES SAS | D22: 1.8913215e+09 | E22: =+D22 -> 1.8913215e+09 | G22: =+E22 -> 1.8913215e+09 | H22: =IF(G22>$G$67,"OK","REQUERIR") -> OK
B23: 51 | C23: CONSORCIO E&C HUILA | D23: 1.904256e+09 | E23: =+D23 -> 1.904256e+09 | G23: =+E23 -> 1.904256e+09 | H23: =IF(G23>$G$67,"OK","REQUERIR") -> OK
B24: 50 | C24: MONVAL GROUP | D24: 1.8950456e+09 | E24: =+D24 -> 1.8950456e+09 | G24: =+E24 -> 1.8950456e+09 | H24: =IF(G24>$G$67,"OK","REQUERIR") -> OK
B25: 49 | C25: CONSORCIO CASTILLO | D25: 1.8671131e+09 | E25: =+D25 -> 1.8671131e+09 | G25: =+E25 -> 1.8671131e+09 | H25: =IF(G25>$G$67,"OK","REQUERIR") -> OK
B26: 48 | C26: CONSORCIO CENTRAL MIV | D26: 1.8508276e+09 | E26: =+D26 -> 1.8508276e+09 | G26: =+E26 -> 1.8508276e+09 | H26: =IF(G26>$G$67,"OK","REQUERIR") -> OK
B27: 46 | C27: UNION TEMPORAL INNOVA | D27: 1.8827596e+09 | F27: RECHAZADO | H27: =IF(G27>$G$67,"OK","REQUERIR") -> REQUERIR
B28: 45 | C28: Adecuaciones jeroca | D28: 1.8670212e+09 | E28: =+D28 -> 1.8670212e+09 | G28: =+E28 -> 1.8670212e+09 | H28: =IF(G28>$G$67,"OK","REQUERIR") -> OK
B29: 44 | C29: CONSORCIO HUILA 2025 | D29: 1.8651492e+09 | E29: =+D29 -> 1.8651492e+09 | G29: =+E29 -> 1.8651492e+09 | H29: =IF(G29>$G$67,"OK","REQUERIR") -> OK
B30: 43 | C30: INGENIERIA RH | D30: 1.8828356e+09 | E30: =+D30 -> 1.8828356e+09 | G30: =+E30 -> 1.8828356e+09 | H30: =IF(G30>$G$67,"OK","REQUERIR") -> OK
B31: 42 | C31: CONSORCIO CE OBRAS HUILA | D31: 1.8342918e+09 | E31: =+D31 -> 1.8342918e+09 | G31: =+E31 -> 1.8342918e+09 | H31: =IF(G31>$G$67,"OK","REQUERIR") -> REQUERIR
B32: 41 | C32: CONSORCIO HUILA 2D | D32: 1.8733439e+09 | E32: =+D32 -> 1.8733439e+09 | G32: =+E32 -> 1.8733439e+09 | H32: =IF(G32>$G$67,"OK","REQUERIR") -> OK
B33: 39 | C33: CONSORCIO MEGAHUILA | D33: 1.8603139e+09 | E33: =+D33 -> 1.8603139e+09 | G33: =+E33 -> 1.8603139e+09 | H33: =IF(G33>$G$67,"OK","REQUERIR") -> OK
B34: 38 | C34: CONSORCIO OBRAS BIENES | D34: 1.8540051e+09 | E34: =+D34 -> 1.8540051e+09 | G34: =+E34 -> 1.8540051e+09 | H34: =IF(G34>$G$67,"OK","REQUERIR") -> OK
B35: 37 | C35: CONSORCIO CENTRAL V&V | D35: 1.890015e+09 | E35: =+D35 -> 1.890015e+09 | G35: =+E35 -> 1.890015e+09 | H35: =IF(G35>$G$67,"OK","REQUERIR") -> OK
B36: 36 | C36: CONSORCIO ADECUACIONES 2CP | D36: 1.8625895e+09 | E36: =+D36 -> 1.8625895e+09 | G36: =+E36 -> 1.8625895e+09 | H36: =IF(G36>$G$67,"OK","REQUERIR") -> OK
B37: 35 | C37: CONSORCIO MEJORAMIENTO ARSAF | D37: 1.8376335e+09 | E37: =+D37 -> 1.8376335e+09 | G37: =+E37 -> 1.8376335e+09 | H37: =IF(G37>$G$67,"OK","REQUERIR") -> REQUERIR
B38: 33 | C38: CONSORCIO TURPIAL 2025 | D38: 1.8535522e+09 | E38: =+D38 -> 1.8535522e+09 | G38: =+E38 -> 1.8535522e+09 | H38: =IF(G38>$G$67,"OK","REQUERIR") -> OK
B39: 31 | C39: CONSORCIO ADECUACIONES HUILA 04 | D39: 1.8936516e+09 | E39: =+D39 -> 1.8936516e+09 | G39: =+E39 -> 1.8936516e+09 | H39: =IF(G39>$G$67,"OK","REQUERIR") -> OK
B40: 30 | C40: CONSORCIO OPITA 25 | D40: 1.8837952e+09 | F40: RECHAZADO | H40: =IF(G40>$G$67,"OK","REQUERIR") -> REQUERIR
B41: 29 | C41: DRV INGENIERIA SAS | D41: 1.811816e+09 | E41: =+D41 -> 1.811816e+09 | G41: =+E41 -> 1.811816e+09 | H41: =IF(G41>$G$67,"OK","REQUERIR") -> REQUERIR
B42: 26 | C42: CONSORCIO DANES-ML INGENIERIA | D42: 1.8665952e+09 | E42: =+D42 -> 1.8665952e+09 | G42: =+E42 -> 1.8665952e+09 | H42: =IF(G42>$G$67,"OK","REQUERIR") -> OK
B43: 25 | C43: INVERSIONES G Y S S.A.S. | D43: 1.888791e+09 | E43: =+D43 -> 1.888791e+09 | G43: =+E43 -> 1.888791e+09 | H43: =IF(G43>$G$67,"OK","REQUERIR") -> OK
B44: 24 | C44: RAELJA INGENIERIA S.A.S | D44: 1.8598421e+09 | E44: =+D44 -> 1.8598421e+09 | G44: =+E44 -> 1.8598421e+09 | H44: =IF(G44>$G$67,"OK","REQUERIR") -> OK
B45: 23 | C45: GMA Construcciones SAS | D45: 1.8605957e+09 | E45: =+D45 -> 1.8605957e+09 | G45: =+E45 -> 1.8605957e+09 | H45: =IF(G45>$G$67,"OK","REQUERIR") -> OK
B46: 22 | C46: CONSORCIO HUILA WR | D46: 1.8408957e+09 | F46: RECHAZADO | H46: =IF(G46>$G$67,"OK","REQUERIR") -> REQUERIR
B47: 21 | C47: UNION TEMPORAL OBRAS GTM | D47: 1.8698875e+09 | F47: RECHAZADO | H47: =IF(G47>$G$67,"OK","REQUERIR") -> REQUERIR
B48: 20 | C48: INGEVILL S.A.S | D48: 1.8958086e+09 | E48: =+D48 -> 1.8958086e+09 | G48: =+E48 -> 1.8958086e+09 | H48: =IF(G48>$G$67,"OK","REQUERIR") -> OK
B49: 19 | C49: PROCIVING SAS | D49: 1.8669742e+09 | F49: RECHAZADO | H49: =IF(G49>$G$67,"OK","REQUERIR") -> REQUERIR
B50: 17 | C50: CONSORCIO NOVA CENTRAL | D50: 1.8523041e+09 | E50: =+D50 -> 1.8523041e+09 | G50: =+E50 -> 1.8523041e+09 | H50: =IF(G50>$G$67,"OK","REQUERIR") -> OK
B51: 15 | C51: BRACOL GROUP SAS | D51: 1.8712405e+09 | E51: =+D51 -> 1.8712405e+09 | G51: =+E51 -> 1.8712405e+09 | H51: =IF(G51>$G$67,"OK","REQUERIR") -> OK
B52: 14 | C52: RAR CONSTRUCTORES SAS | D52: 1.8898033e+09 | E52: =+D52 -> 1.8898033e+09 | G52: =+E52 -> 1.8898033e+09 | H52: =IF(G52>$G$67,"OK","REQUERIR") -> OK
B53: 13 | C53: HyD S.A.S. | D53: 1874948880 | F53: RECHAZADO | H53: =IF(G53>$G$67,"OK","REQUERIR") -> REQUERIR
B54: 11 | C54: CONSORCIO ADECUACIONES HUILA 2025 | D54: 1.8690798e+09 | E54: =+D54 -> 1.8690798e+09 | G54: =+E54 -> 1.8690798e+09 | H54: =IF(G54>$G$67,"OK","REQUERIR") -> OK
B55: 10 | C55: CONSORCIO ADECUACIONES HUILA 2025 | D55: 1.8897156e+09 | E55: =+D55 -> 1.8897156e+09 | G55: =+E55 -> 1.8897156e+09 | H55: =IF(G55>$G$67,"OK","REQUERIR") -> OK
B56: 9 | C56: CONSORCIO CONSTRUCCIONES INGLAR | D56: 1.8379631e+09 | E56: =+D56 -> 1.8379631e+09 | F56: RECHAZADO | H56: =IF(G56>$G$67,"OK","REQUERIR") -> REQUERIR
B57: 8 | C57: CONSORCIO ADECUACIONES GOBERNACIÓN DEL HUILA 2025 | D57: 1.9260745e+09 | E57: =+D57 -> 1.9260745e+09 | G57: =+E57 -> 1.9260745e+09 | H57: =IF(G57>$G$67,"OK","REQUERIR") -> OK
B58: 7 | C58: CONSORCIO INGE-NEIVA 2025 | D58: 1.8644693e+09 | E58: =+D58 -> 1.8644693e+09 | G58: =+E58 -> 1.8644693e+09 | H58: =IF(G58>$G$67,"OK","REQUERIR") -> OK
B59: 6 | C59: CONSORCIO MEJORAMIENTO DT | D59: 1.883055e+09 | E59: =+D59 -> 1.883055e+09 | G59: =+E59 -> 1.883055e+09 | H59: =IF(G59>$G$67,"OK","REQUERIR") -> OK
B60: 5 | C60: CONSORCIO VENTURA | D60: 1.8496609e+09 | E60: =+D60 -> 1.8496609e+09 | G60: =+E60 -> 1.8496609e+09 | H60: =IF(G60>$G$67,"OK","REQUERIR") -> OK
B61: 3 | C61: CONSTRUCTORA DARJA SAS | D61: 1.8705124e+09 | E61: =+D61 -> 1.8705124e+09 | G61: =+E61 -> 1.8705124e+09 | H61: =IF(G61>$G$67,"OK","REQUERIR") -> OK
B62: 1 | C62: CONSORCIO LIESTRU | D62: 1.8710434e+09 | E62: =+D62 -> 1.8710434e+09 | G62: =+E62 -> 1.8710434e+09 | H62: =IF(G62>$G$67,"OK","REQUERIR") -> OK
G65: =MEDIAN(G3:G62) -> 1.8673098e+09
G66: =STDEVA(G3:G62) -> 21620103
G67: =+G65-G66 -> 1.8456897e+09

Sheet MAB 1-aceptando 72
B2: PROPUESTA | C2: PROPONENTE | D2: PROPUESTA ECONÓMICA | E2: SECOP | F2: CORRECCIÓN ARITMÉTICA | G2: VALOR PROPUESTA ECONÓMICA | H2: MAYOR O MENOR | I2: PUNTOS | J2: PUNTUACION INICIAL | K2: TOTAL PUNTUACIÓN
B3: =+'VERIFICACION DE OFERTAS'!B3 -> 81 | C3: ='VERIFICACION DE OFERTAS'!C3 -> CONSORCIO EDIFICIO CENTRAL | D3: ='VERIFICACION DE OFERTAS'!D3 -> 1.9215243e+09 | F3: ='VERIFICACION DE OFERTAS'!F3 -> RECHAZADO
B4: =+'VERIFICACION DE OFERTAS'!B4 -> 77 | C4: ='VERIFICACION DE OFERTAS'!C4 -> CONINCAG SAS | D4: ='VERIFICACION DE OFERTAS'!D4 -> 1.8637327e+09 | F4: ='VERIFICACION DE OFERTAS'!F4 -> RECHAZADO
B5: =+'VERIFICACION DE OFERTAS'!B5 -> 74 | C5: ='VERIFICACION DE OFERTAS'!C5 -> CONSORCIO MANASSA 28 | D5: ='VERIFICACION DE OFERTAS'!D5 -> 1.8675064e+09 | E5: ='VERIFICACION DE OFERTAS'!E5 -> 1.8675064e+09 | F5: ='VERIFICACION DE OFERTAS'!F5 -> 0 | G5: =+E5 -> 1.8675064e+09 | H5: =IF(G5>=$F$67,"MAYOR","MENOR") -> MAYOR | I5: =IF(H5="MAYOR",(((59.5*(1-((ABS($F$67-G5))/$F$67))))),(((59.5*(1-((($F$67-G5))/$F$67)))))) -> 59.071418 | J5: =+#REF! -> #REF! | K5: =I5+J5 -> #REF!
B6: =+'VERIFICACION DE OFERTAS'!B6 -> 73 | C6: ='VERIFICACION DE OFERTAS'!C6 -> CONSORCIO SANTANA 2025 | D6: ='VERIFICACION DE OFERTAS'!D6 -> 1.8631888e+09 | E6: ='VERIFICACION DE OFERTAS'!E6 -> 1.8631888e+09 | F6: ='VERIFICACION DE OFERTAS'!F6 -> 0 | G6: =+E6 -> 1.8631888e+09 | H6: =IF(G6>=$F$67,"MAYOR","MENOR") -> MAYOR | I6: =IF(H6="MAYOR",(((59.5*(1-((ABS($F$67-G6))/$F$67))))),(((59.5*(1-((($F$67-G6))/$F$67)))))) -> 59.209972 | J6: =+#REF! -> #REF! | K6: =I6+J6 -> #REF!
B7: =+'VERIFICACION DE OFERTAS'!B7 -> 72 | C7: ='VERIFICACION DE OFERTAS'!C7 -> Fundacion Espeletia | D7: ='VERIFICACION DE OFERTAS'!D7 -> 1.834841e+09 | E7: ='VERIFICACION DE OFERTAS'!E7 -> 1.834841e+09 | F7: ='VERIFICACION DE OFERTAS'!F7 -> 0 | G7: =+E7 -> 1.834841e+09 | H7: =IF(G7>=$F$67,"MAYOR","MENOR") -> MENOR | I7: =IF(H7="MAYOR",(((59.5*(1-((ABS($F$67-G7))/$F$67))))),(((59.5*(1-((($F$67-G7))/$F$67)))))) -> 58.880341 | J7: =+#REF! -> #REF! | K7: =I7+J7 -> #REF!
B8: =+'VERIFICACION DE OFERTAS'!B8 -> 71 | C8: ='VERIFICACION DE OFERTAS'!C8 -> Consorcio CONSTRUCTOR CENTRAL | D8: ='VERIFICACION DE OFERTAS'!D8 -> 1.8579391e+09 | E8: ='VERIFICACION DE OFERTAS'!E8 -> 1.8579391e+09 | F8: ='VERIFICACION DE OFERTAS'!F8 -> 0 | G8: =+E8 -> 1.8579391e+09 | H8: =IF(G8>=$F$67,"MAYOR","MENOR") -> MAYOR | I8: =IF(H8="MAYOR",(((59.5*(1-((ABS($F$67-G8))/$F$67))))),(((59.5*(1-((($F$67-G8))/$F$67)))))) -> 59.378434 | J8: =+#REF! -> #REF! | K8: =I8+J8 -> #REF!
B9: =+'VERIFICACION DE OFERTAS'!B9 -> 69 | C9: ='VERIFICACION DE OFERTAS'!C9 -> CONSORCIO INGEGOBER | D9: ='VERIFICACION DE OFERTAS'!D9 -> 1.8651617e+09 | F9: ='VERIFICACION DE OFERTAS'!F9 -> RECHAZADO
B10: =+'VERIFICACION DE OFERTAS'!B10 -> 66 | C10: ='VERIFICACION DE OFERTAS'!C10 -> CONSORCIO ARCUM | D10: ='VERIFICACION DE OFERTAS'!D10 -> 1.8614113e+09 | E10: ='VERIFICACION DE OFERTAS'!E10 -> 1.8614113e+09 | F10: ='VERIFICACION DE OFERTAS'!F10 -> 0 | G10: =+E10 -> 1.8614113e+09 | H10: =IF(G10>=$F$67,"MAYOR","MENOR") -> MAYOR | I10: =IF(H10="MAYOR",(((59.5*(1-((ABS($F$67-G10))/$F$67))))),(((59.5*(1-((($F$67-G10))/$F$67)))))) -> 59.267011 | J10: =+#REF! -> #REF! | K10: =I10+J10 -> #REF!
B11: =+'VERIFICACION DE OFERTAS'!B11 -> 65 | C11: ='VERIFICACION DE OFERTAS'!C11 -> CONSORCIO SANTA RITA | D11: ='VERIFICACION DE OFERTAS'!D11 -> 1.893037e+09 | F11: ='VERIFICACION DE OFERTAS'!F11 -> RECHAZADO
B12: =+'VERIFICACION DE OFERTAS'!B12 -> 64 | C12: ='VERIFICACION DE OFERTAS'!C12 -> CONSORCIO OBRAS GMJ 2025 | D12: ='VERIFICACION DE OFERTAS'!D12 -> 1.8926652e+09 | E12: ='VERIFICACION DE OFERTAS'!E12 -> 1.8926652e+09 | F12: ='VERIFICACION DE OFERTAS'!F12 -> 0 | G12: =+E12 -> 1.8926652e+09 | H12: =IF(G12>=$F$67,"MAYOR","MENOR") -> MAYOR | I12: =IF(H12="MAYOR",(((59.5*(1-((ABS($F$67-G12))/$F$67))))),(((59.5*(1-((($F$67-G12))/$F$67)))))) -> 58.26407 | J12: =+#REF! -> #REF! | K12: =I12+J12 -> #REF!
B13: =+'VERIFICACION DE OFERTAS'!B13 -> 63 | C13: ='VERIFICACION DE OFERTAS'!C13 -> CONSORCIO INACAL NEIVA | D13: ='VERIFICACION DE OFERTAS'!D13 -> 1.8800857e+09 | E13: ='VERIFICACION DE OFERTAS'!E13 -> 1.8800857e+09 | F13: ='VERIFICACION DE OFERTAS'!F13 -> 0 | G13: =+E13 -> 1.8800857e+09 | H13: =IF(G13>=$F$67,"MAYOR","MENOR") -> MAYOR | I13: =IF(H13="MAYOR",(((59.5*(1-((ABS($F$67-G13))/$F$67))))),(((59.5*(1-((($F$67-G13))/$F$67)))))) -> 58.667749 | J13: =+#REF! -> #REF! | K13: =I13+J13 -> #REF!
B14: =+'VERIFICACION DE OFERTAS'!B14 -> 62 | C14: ='VERIFICACION DE OFERTAS'!C14 -> BRACO COMPANY S.A.S ZOMAC | D14: ='VERIFICACION DE OFERTAS'!D14 -> 1.9123188e+09 | E14: ='VERIFICACION DE OFERTAS'!E14 -> 1.9123188e+09 | F14: ='VERIFICACION DE OFERTAS'!F14 -> 0 | G14: =+E14 -> 1.9123188e+09 | H14: =IF(G14>=$F$67,"MAYOR","MENOR") -> MAYOR | I14: =IF(H14="MAYOR",(((59.5*(1-((ABS($F$67-G14))/$F$67))))),(((59.5*(1-((($F$67-G14))/$F$67)))))) -> 57.633384 | J14: =+#REF! -> #REF! | K14: =I14+J14 -> #REF!
B15: =+'VERIFICACION DE OFERTAS'!B15 -> 61 | C15: ='VERIFICACION DE OFERTAS'!C15 -> TELEACCESS LTDA | D15: ='VERIFICACION DE OFERTAS'!D15 -> 1.8873033e+09 | E15: ='VERIFICACION DE OFERTAS'!E15 -> 1.8873033e+09 | F15: ='VERIFICACION DE OFERTAS'!F15 -> 0 | G15: =+E15 -> 1.8873033e+09 | H15: =IF(G15>=$F$67,"MAYOR","MENOR") -> MAYOR | I15: =IF(H15="MAYOR",(((59.5*(1-((ABS($F$67-G15))/$F$67))))),(((59.5*(1-((($F$67-G15))/$F$67)))))) -> 58.436135 | J15: =+#REF! -> #REF! | K15: =I15+J15 -> #REF!
B16: =+'VERIFICACION DE OFERTAS'!B16 -> 60 | C16: ='VERIFICACION DE OFERTAS'!C16 -> 3G INGENERIA AVANZADA SAS | D16: ='VERIFICACION DE OFERTAS'!D16 -> 1.8467217e+09 | E16: ='VERIFICACION DE OFERTAS'!E16 -> 1.8467217e+09 | F16: ='VERIFICACION DE OFERTAS'!F16 -> 0 | G16: =+E16 -> 1.8467217e+09 | H16: =IF(G16>=$F$67,"MAYOR","MENOR") -> MENOR | I16: =IF(H16="MAYOR",(((59.5*(1-((ABS($F$67-G16))/$F$67))))),(((59.5*(1-((($F$67-G16))/$F$67)))))) -> 59.261595 | J16: =+#REF! -> #REF! | K16: =I16+J16 -> #REF!
B17: =+'VERIFICACION DE OFERTAS'!B17 -> 59 | C17: ='VERIFICACION DE OFERTAS'!C17 -> CONSORCIO HUILA DUOVAL 324 | D17: ='VERIFICACION DE OFERTAS'!D17 -> 1.8540754e+09 | F17: ='VERIFICACION DE OFERTAS'!F17 -> RECHAZADO
B18: =+'VERIFICACION DE OFERTAS'!B18 -> 58 | C18: ='VERIFICACION DE OFERTAS'!C18 -> CONSORCIO GPIng | D18: ='VERIFICACION DE OFERTAS'!D18 -> 1.8371757e+09 | F18: ='VERIFICACION DE OFERTAS'!F18 -> RECHAZADO
B19: =+'VERIFICACION DE OFERTAS'!B19 -> 57 | C19: ='VERIFICACION DE OFERTAS'!C19 -> CONSORCIO SANLORENZO | D19: ='VERIFICACION DE OFERTAS'!D19 -> 1.8704546e+09 | E19: ='VERIFICACION DE OFERTAS'!E19 -> 1.8704546e+09 | F19: ='VERIFICACION DE OFERTAS'!F19 -> 0 | G19: =+E19 -> 1.8704546e+09 | H19: =IF(G19>=$F$67,"MAYOR","MENOR") -> MAYOR | I19: =IF(H19="MAYOR",(((59.5*(1-((ABS($F$67-G19))/$F$67))))),(((59.5*(1-((($F$67-G19))/$F$67)))))) -> 58.97681 | J19: =+#REF! -> #REF! | K19: =I19+J19 -> #REF!
B20: =+'VERIFICACION DE OFERTAS'!B20 -> 54 | C20: ='VERIFICACION DE OFERTAS'!C20 -> CONSORCIO OCIDAN HUILA-13 | D20: ='VERIFICACION DE OFERTAS'!D20 -> 1.8647464e+09 | E20: ='VERIFICACION DE OFERTAS'!E20 -> 1.8647464e+09 | F20: ='VERIFICACION DE OFERTAS'!F20 -> 0 | G20: =+E20 -> 1.8647464e+09 | H20: =IF(G20>=$F$67,"MAYOR","MENOR") -> MAYOR | I20: =IF(H20="MAYOR",(((59.5*(1-((ABS($F$67-G20))/$F$67))))),(((59.5*(1-((($F$67-G20))/$F$67)))))) -> 59.159987 | J20: =+#REF! -> #REF! | K20: =I20+J20 -> #REF!
B21: =+'VERIFICACION DE OFERTAS'!B21 -> 53 | C21: ='VERIFICACION DE OFERTAS'!C21 -> CONSORCIO PROHAL 2025 | D21: ='VERIFICACION DE OFERTAS'!D21 -> 1.8734265e+09 | F21: ='VERIFICACION DE OFERTAS'!F21 -> RECHAZADO
B22: =+'VERIFICACION DE OFERTAS'!B22 -> 52 | C22: ='VERIFICACION DE OFERTAS'!C22 -> ZION CONSTRUCCIONES SAS | D22: ='VERIFICACION DE OFERTAS'!D22 -> 1.8913215e+09 | E22: ='VERIFICACION DE OFERTAS'!E22 -> 1.8913215e+09 | F22: ='VERIFICACION DE OFERTAS'!F22 -> 0 | G22: =+E22 -> 1.8913215e+09 | H22: =IF(G22>=$F$67,"MAYOR","MENOR") -> MAYOR | I22: =IF(H22="MAYOR",(((59.5*(1-((ABS($F$67-G22))/$F$67))))),(((59.5*(1-((($F$67-G22))/$F$67)))))) -> 58.307189 | J22: =+#REF! -> #REF! | K22: =I22+J22 -> #REF!
B23: =+'VERIFICACION DE OFERTAS'!B23 -> 51 | C23: ='VERIFICACION DE OFERTAS'!C23 -> CONSORCIO E&C HUILA | D23: ='VERIFICACION DE OFERTAS'!D23 -> 1.904256e+09 | E23: ='VERIFICACION DE OFERTAS'!E23 -> 1.904256e+09 | F23: ='VERIFICACION DE OFERTAS'!F23 -> 0 | G23: =+E23 -> 1.904256e+09 | H23: =IF(G23>=$F$67,"MAYOR","MENOR") -> MAYOR | I23: =IF(H23="MAYOR",(((59.5*(1-((ABS($F$67-G23))/$F$67))))),(((59.5*(1-((($F$67-G23))/$F$67)))))) -> 57.892119 | J23: =+#REF! -> #REF! | K23: =I23+J23 -> #REF!
B24: =+'VERIFICACION DE OFERTAS'!B24 -> 50 | C24: ='VERIFICACION DE OFERTAS'!C24 -> MONVAL GROUP | D24: ='VERIFICACION DE OFERTAS'!D24 -> 1.8950456e+09 | E24: ='VERIFICACION DE OFERTAS'!E24 -> 1.8950456e+09 | F24: ='VERIFICACION DE OFERTAS'!F24 -> 0 | G24: =+E24 -> 1.8950456e+09 | H24: =IF(G24>=$F$67,"MAYOR","MENOR") -> MAYOR | I24: =IF(H24="MAYOR",(((59.5*(1-((ABS($F$67-G24))/$F$67))))),(((59.5*(1-((($F$67-G24))/$F$67)))))) -> 58.187682 | J24: =+#REF! -> #REF! | K24: =I24+J24 -> #REF!
B25: =+'VERIFICACION DE OFERTAS'!B25 -> 49 | C25: ='VERIFICACION DE OFERTAS'!C25 -> CONSORCIO CASTILLO | D25: ='VERIFICACION DE OFERTAS'!D25 -> 1.8671131e+09 | E25: ='VERIFICACION DE OFERTAS'!E25 -> 1.8671131e+09 | F25: ='VERIFICACION DE OFERTAS'!F25 -> 0 | G25: =+E25 -> 1.8671131e+09 | H25: =IF(G25>=$F$67,"MAYOR","MENOR") -> MAYOR | I25: =IF(H25="MAYOR",(((59.5*(1-((ABS($F$67-G25))/$F$67))))),(((59.5*(1-((($F$67-G25))/$F$67)))))) -> 59.084039 | J25: =+#REF! -> #REF! | K25: =I25+J25 -> #REF!
B26: =+'VERIFICACION DE OFERTAS'!B26 -> 48 | C26: ='VERIFICACION DE OFERTAS'!C26 -> CONSORCIO CENTRAL MIV | D26: ='VERIFICACION DE OFERTAS'!D26 -> 1.8508276e+09 | E26: ='VERIFICACION DE OFERTAS'!E26 -> 1.8508276e+09 | F26: ='VERIFICACION DE OFERTAS'!F26 -> 0 | G26: =+E26 -> 1.8508276e+09 | H26: =IF(G26>=$F$67,"MAYOR","MENOR") -> MENOR | I26: =IF(H26="MAYOR",(((59.5*(1-((ABS($F$67-G26))/$F$67))))),(((59.5*(1-((($F$67-G26))/$F$67)))))) -> 59.393357 | J26: =+#REF! -> #REF! | K26: =I26+J26 -> #REF!
B27: =+'VERIFICACION DE OFERTAS'!B27 -> 46 | C27: ='VERIFICACION DE OFERTAS'!C27 -> UNION TEMPORAL INNOVA | D27: ='VERIFICACION DE OFERTAS'!D27 -> 1.8827596e+09 | F27: ='VERIFICACION DE OFERTAS'!F27 -> RECHAZADO
B28: =+'VERIFICACION DE OFERTAS'!B28 -> 45 | C28: ='VERIFICACION DE OFERTAS'!C28 -> Adecuaciones jeroca | D28: ='VERIFICACION DE OFERTAS'!D28 -> 1.8670212e+09 | E28: ='VERIFICACION DE OFERTAS'!E28 -> 1.8670212e+09 | F28: ='VERIFICACION DE OFERTAS'!F28 -> 0 | G28: =+E28 -> 1.8670212e+09 | H28: =IF(G28>=$F$67,"MAYOR","MENOR") -> MAYOR | I28: =IF(H28="MAYOR",(((59.5*(1-((ABS($F$67-G28))/$F$67))))),(((59.5*(1-((($F$67-G28))/$F$67)))))) -> 59.086989 | J28: =+#REF! -> #REF! | K28: =I28+J28 -> #REF!
B29: =+'VERIFICACION DE OFERTAS'!B29 -> 44 | C29: ='VERIFICACION DE OFERTAS'!C29 -> CONSORCIO HUILA 2025 | D29: ='VERIFICACION DE OFERTAS'!D29 -> 1.8651492e+09 | E29: ='VERIFICACION DE OFERTAS'!E29 -> 1.8651492e+09 | F29: ='VERIFICACION DE OFERTAS'!F29 -> 0 | G29: =+E29 -> 1.8651492e+09 | H29: =IF(G29>=$F$67,"MAYOR","MENOR") -> MAYOR | I29: =IF(H29="MAYOR",(((59.5*(1-((ABS($F$67-G29))/$F$67))))),(((59.5*(1-((($F$67-G29))/$F$67)))))) -> 59.147061 | J29: =+#REF! -> #REF! | K29: =I29+J29 -> #REF!
B30: =+'VERIFICACION DE OFERTAS'!B30 -> 43 | C30: ='VERIFICACION DE OFERTAS'!C30 -> INGENIERIA RH | D30: ='VERIFICACION DE OFERTAS'!D30 -> 1.8828356e+09 | E30: ='VERIFICACION DE OFERTAS'!E30 -> 1.8828356e+09 | F30: ='VERIFICACION DE OFERTAS'!F30 -> 0 | G30: =+E30 -> 1.8828356e+09 | H30: =IF(G30>=$F$67,"MAYOR","MENOR") -> MAYOR | I30: =IF(H30="MAYOR",(((59.5*(1-((ABS($F$67-G30))/$F$67))))),(((59.5*(1-((($F$67-G30))/$F$67)))))) -> 58.579503 | J30: =+#REF! -> #REF! | K30: =I30+J30 -> #REF!
B31: =+'VERIFICACION DE OFERTAS'!B31 -> 42 | C31: ='VERIFICACION DE OFERTAS'!C31 -> CONSORCIO CE OBRAS HUILA | D31: ='VERIFICACION DE OFERTAS'!D31 -> 1.8342918e+09 | F31: RECHAZADO
B32: =+'VERIFICACION DE OFERTAS'!B32 -> 41 | C32: ='VERIFICACION DE OFERTAS'!C32 -> CONSORCIO HUILA 2D | D32: ='VERIFICACION DE OFERTAS'!D32 -> 1.8733439e+09 | E32: ='VERIFICACION DE OFERTAS'!E32 -> 1.8733439e+09 | F32: ='VERIFICACION DE OFERTAS'!F32 -> 0 | G32: =+E32 -> 1.8733439e+09 | H32: =IF(G32>=$F$67,"MAYOR","MENOR") -> MAYOR | I32: =IF(H32="MAYOR",(((59.5*(1-((ABS($F$67-G32))/$F$67))))),(((59.5*(1-((($F$67-G32))/$F$67)))))) -> 58.884094 | J32: =+#REF! -> #REF! | K32: =I32+J32 -> #REF!
B33: =+'VERIFICACION DE OFERTAS'!B33 -> 39 | C33: ='VERIFICACION DE OFERTAS'!C33 -> CONSORCIO MEGAHUILA | D33: ='VERIFICACION DE OFERTAS'!D33 -> 1.8603139e+09 | E33: ='VERIFICACION DE OFERTAS'!E33 -> 1.8603139e+09 | F33: ='VERIFICACION DE OFERTAS'!F33 -> 0 | G33: =+E33 -> 1.8603139e+09 | H33: =IF(G33>=$F$67,"MAYOR","MENOR") -> MAYOR | I33: =IF(H33="MAYOR",(((59.5*(1-((ABS($F$67-G33))/$F$67))))),(((59.5*(1-((($F$67-G33))/$F$67)))))) -> 59.302228 | J33: =+#REF! -> #REF! | K33: =I33+J33 -> #REF!
B34: =+'VERIFICACION DE OFERTAS'!B34 -> 38 | C34: ='VERIFICACION DE OFERTAS'!C34 -> CONSORCIO OBRAS BIENES | D34: ='VERIFICACION DE OFERTAS'!D34 -> 1.8540051e+09 | E34: ='VERIFICACION DE OFERTAS'!E34 -> 1.8540051e+09 | F34: ='VERIFICACION DE OFERTAS'!F34 -> 0 | G34: =+E34 -> 1.8540051e+09 | H34: =IF(G34>=$F$67,"MAYOR","MENOR") -> MENOR | I34: =IF(H34="MAYOR",(((59.5*(1-((ABS($F$67-G34))/$F$67))))),(((59.5*(1-((($F$67-G34))/$F$67)))))) -> 59.495323 | J34: =+#REF! -> #REF! | K34: =I34+J34 -> #REF!
B35: =+'VERIFICACION DE OFERTAS'!B35 -> 37 | C35: ='VERIFICACION DE OFERTAS'!C35 -> CONSORCIO CENTRAL V&V | D35: ='VERIFICACION DE OFERTAS'!D35 -> 1.890015e+09 | E35: ='VERIFICACION DE OFERTAS'!E35 -> 1.890015e+09 | F35: ='VERIFICACION DE OFERTAS'!F35 -> 0 | G35: =+E35 -> 1.890015e+09 | H35: =IF(G35>=$F$67,"MAYOR","MENOR") -> MAYOR | I35: =IF(H35="MAYOR",(((59.5*(1-((ABS($F$67-G35))/$F$67))))),(((59.5*(1-((($F$67-G35))/$F$67)))))) -> 58.349115 | J35: =+#REF! -> #REF! | K35: =I35+J35 -> #REF!
B36: =+'VERIFICACION DE OFERTAS'!B36 -> 36 | C36: ='VERIFICACION DE OFERTAS'!C36 -> CONSORCIO ADECUACIONES 2CP | D36: ='VERIFICACION DE OFERTAS'!D36 -> 1.8625895e+09 | E36: ='VERIFICACION DE OFERTAS'!E36 -> 1.8625895e+09 | F36: ='VERIFICACION DE OFERTAS'!F36 -> 0 | G36: =+E36 -> 1.8625895e+09 | H36: =IF(G36>=$F$67,"MAYOR","MENOR") -> MAYOR | I36: =IF(H36="MAYOR",(((59.5*(1-((ABS($F$67-G36))/$F$67))))),(((59.5*(1-((($F$67-G36))/$F$67)))))) -> 59.229203 | J36: =+#REF! -> #REF! | K36: =I36+J36 -> #REF!
B37: =+'VERIFICACION DE OFERTAS'!B37 -> 35 | C37: ='VERIFICACION DE OFERTAS'!C37 -> CONSORCIO MEJORAMIENTO ARSAF | D37: ='VERIFICACION DE OFERTAS'!D37 -> 1.8376335e+09 | F37: RECHAZADO
B38: =+'VERIFICACION DE OFERTAS'!B38 -> 33 | C38: ='VERIFICACION DE OFERTAS'!C38 -> CONSORCIO TURPIAL 2025 | D38: ='VERIFICACION DE OFERTAS'!D38 -> 1.8535522e+09 | E38: ='VERIFICACION DE OFERTAS'!E38 -> 1.8535522e+09 | F38: ='VERIFICACION DE OFERTAS'!F38 -> 0 | G38: =+E38 -> 1.8535522e+09 | H38: =IF(G38>=$F$67,"MAYOR","MENOR") -> MENOR | I38: =IF(H38="MAYOR",(((59.5*(1-((ABS($F$67-G38))/$F$67))))),(((59.5*(1-((($F$67-G38))/$F$67)))))) -> 59.480788 | J38: =+#REF! -> #REF! | K38: =I38+J38 -> #REF!
B39: =+'VERIFICACION DE OFERTAS'!B39 -> 31 | C39: ='VERIFICACION DE OFERTAS'!C39 -> CONSORCIO ADECUACIONES HUILA 04 | D39: ='VERIFICACION DE OFERTAS'!D39 -> 1.8936516e+09 | E39: ='VERIFICACION DE OFERTAS'!E39 -> 1.8936516e+09 | F39: ='VERIFICACION DE OFERTAS'!F39 -> 0 | G39: =+E39 -> 1.8936516e+09 | H39: =IF(G39>=$F$67,"MAYOR","MENOR") -> MAYOR | I39: =IF(H39="MAYOR",(((59.5*(1-((ABS($F$67-G39))/$F$67))))),(((59.5*(1-((($F$67-G39))/$F$67)))))) -> 58.232417 | J39: =+#REF! -> #REF! | K39: =I39+J39 -> #REF!
B40: =+'VERIFICACION DE OFERTAS'!B40 -> 30 | C40: ='VERIFICACION DE OFERTAS'!C40 -> CONSORCIO OPITA 25 | D40: ='VERIFICACION DE OFERTAS'!D40 -> 1.8837952e+09 | F40: ='VERIFICACION DE OFERTAS'!F40 -> RECHAZADO
B41: =+'VERIFICACION DE OFERTAS'!B41 -> 29 | C41: ='VERIFICACION DE OFERTAS'!C41 -> DRV INGENIERIA SAS | D41: ='VERIFICACION DE OFERTAS'!D41 -> 1.811816e+09 | F41: RECHAZADO
B42: =+'VERIFICACION DE OFERTAS'!B42 -> 26 | C42: ='VERIFICACION DE OFERTAS'!C42 -> CONSORCIO DANES-ML INGENIERIA | D42: ='VERIFICACION DE OFERTAS'!D42 -> 1.8665952e+09 | E42: ='VERIFICACION DE OFERTAS'!E42 -> 1.8665952e+09 | F42: ='VERIFICACION DE OFERTAS'!F42 -> 0 | G42: =+E42 -> 1.8665952e+09 | H42: =IF(G42>=$F$67,"MAYOR","MENOR") -> MAYOR | I42: =IF(H42="MAYOR",(((59.5*(1-((ABS($F$67-G42))/$F$67))))),(((59.5*(1-((($F$67-G42))/$F$67)))))) -> 59.100659 | J42: =+#REF! -> #REF! | K42: =I42+J42 -> #REF!
B43: =+'VERIFICACION DE OFERTAS'!B43 -> 25 | C43: ='VERIFICACION DE OFERTAS'!C43 -> INVERSIONES G Y S S.A.S. | D43: ='VERIFICACION DE OFERTAS'!D43 -> 1.888791e+09 | E43: ='VERIFICACION DE OFERTAS'!E43 -> 1.888791e+09 | F43: ='VERIFICACION DE OFERTAS'!F43 -> 0 | G43: =+E43 -> 1.888791e+09 | H43: =IF(G43>=$F$67,"MAYOR","MENOR") -> MAYOR | I43: =IF(H43="MAYOR",(((59.5*(1-((ABS($F$67-G43))/$F$67))))),(((59.5*(1-((($F$67-G43))/$F$67)))))) -> 58.388393 | J43: =+#REF! -> #REF! | K43: =I43+J43 -> #REF!
B44: =+'VERIFICACION DE OFERTAS'!B44 -> 24 | C44: ='VERIFICACION DE OFERTAS'!C44 -> RAELJA INGENIERIA S.A.S | D44: ='VERIFICACION DE OFERTAS'!D44 -> 1.8598421e+09 | E44: ='VERIFICACION DE OFERTAS'!E44 -> 1.8598421e+09 | F44: ='VERIFICACION DE OFERTAS'!F44 -> 0 | G44: =+E44 -> 1.8598421e+09 | H44: =IF(G44>=$F$67,"MAYOR","MENOR") -> MAYOR | I44: =IF(H44="MAYOR",(((59.5*(1-((ABS($F$67-G44))/$F$67))))),(((59.5*(1-((($F$67-G44))/$F$67)))))) -> 59.317367 | J44: =+#REF! -> #REF! | K44: =I44+J44 -> #REF!
B45: =+'VERIFICACION DE OFERTAS'!B45 -> 23 | C45: ='VERIFICACION DE OFERTAS'!C45 -> GMA Construcciones SAS | D45: ='VERIFICACION DE OFERTAS'!D45 -> 1.8605957e+09 | E45: ='VERIFICACION DE OFERTAS'!E45 -> 1.8605957e+09 | F45: ='VERIFICACION DE OFERTAS'!F45 -> 0 | G45: =+E45 -> 1.8605957e+09 | H45: =IF(G45>=$F$67,"MAYOR","MENOR") -> MAYOR | I45: =IF(H45="MAYOR",(((59.5*(1-((ABS($F$67-G45))/$F$67))))),(((59.5*(1-((($F$67-G45))/$F$67)))))) -> 59.293184 | J45: =+#REF! -> #REF! | K45: =I45+J45 -> #REF!
B46: =+'VERIFICACION DE OFERTAS'!B46 -> 22 | C46: ='VERIFICACION DE OFERTAS'!C46 -> CONSORCIO HUILA WR | D46: ='VERIFICACION DE OFERTAS'!D46 -> 1.8408957e+09 | F46: ='VERIFICACION DE OFERTAS'!F46 -> RECHAZADO
B47: =+'VERIFICACION DE OFERTAS'!B47 -> 21 | C47: ='VERIFICACION DE OFERTAS'!C47 -> UNION TEMPORAL OBRAS GTM | D47: ='VERIFICACION DE OFERTAS'!D47 -> 1.8698875e+09 | F47: ='VERIFICACION DE OFERTAS'!F47 -> RECHAZADO
B48: =+'VERIFICACION DE OFERTAS'!B48 -> 20 | C48: ='VERIFICACION DE OFERTAS'!C48 -> INGEVILL S.A.S | D48: ='VERIFICACION DE OFERTAS'!D48 -> 1.8958086e+09 | E48: ='VERIFICACION DE OFERTAS'!E48 -> 1.8958086e+09 | F48: ='VERIFICACION DE OFERTAS'!F48 -> 0 | G48: =+E48 -> 1.8958086e+09 | H48: =IF(G48>=$F$67,"MAYOR","MENOR") -> MAYOR | I48: =IF(H48="MAYOR",(((59.5*(1-((ABS($F$67-G48))/$F$67))))),(((59.5*(1-((($F$67-G48))/$F$67)))))) -> 58.163198 | J48: =+#REF! -> #REF! | K48: =I48+J48 -> #REF!
B49: =+'VERIFICACION DE OFERTAS'!B49 -> 19 | C49: ='VERIFICACION DE OFERTAS'!C49 -> PROCIVING SAS | D49: ='VERIFICACION DE OFERTAS'!D49 -> 1.8669742e+09 | F49: ='VERIFICACION DE OFERTAS'!F49 -> RECHAZADO
B50: =+'VERIFICACION DE OFERTAS'!B50 -> 17 | C50: ='VERIFICACION DE OFERTAS'!C50 -> CONSORCIO NOVA CENTRAL | D50: ='VERIFICACION DE OFERTAS'!D50 -> 1.8523041e+09 | E50: ='VERIFICACION DE OFERTAS'!E50 -> 1.8523041e+09 | F50: ='VERIFICACION DE OFERTAS'!F50 -> 0 | G50: =+E50 -> 1.8523041e+09 | H50: =IF(G50>=$F$67,"MAYOR","MENOR") -> MENOR | I50: =IF(H50="MAYOR",(((59.5*(1-((ABS($F$67-G50))/$F$67))))),(((59.5*(1-((($F$67-G50))/$F$67)))))) -> 59.440737 | J50: =+#REF! -> #REF! | K50: =I50+J50 -> #REF!
B51: =+'VERIFICACION DE OFERTAS'!B51 -> 15 | C51: ='VERIFICACION DE OFERTAS'!C51 -> BRACOL GROUP SAS | D51: ='VERIFICACION DE OFERTAS'!D51 -> 1.8712405e+09 | E51: ='VERIFICACION DE OFERTAS'!E51 -> 1.8712405e+09 | F51: ='VERIFICACION DE OFERTAS'!F51 -> 0 | G51: =+E51 -> 1.8712405e+09 | H51: =IF(G51>=$F$67,"MAYOR","MENOR") -> MAYOR | I51: =IF(H51="MAYOR",(((59.5*(1-((ABS($F$67-G51))/$F$67))))),(((59.5*(1-((($F$67-G51))/$F$67)))))) -> 58.95159 | J51: =+#REF! -> #REF! | K51: =I51+J51 -> #REF!
B52: =+'VERIFICACION DE OFERTAS'!B52 -> 14 | C52: ='VERIFICACION DE OFERTAS'!C52 -> RAR CONSTRUCTORES SAS | D52: ='VERIFICACION DE OFERTAS'!D52 -> 1.8898033e+09 | E52: ='VERIFICACION DE OFERTAS'!E52 -> 1.8898033e+09 | F52: ='VERIFICACION DE OFERTAS'!F52 -> 0 | G52: =+E52 -> 1.8898033e+09 | H52: =IF(G52>=$F$67,"MAYOR","MENOR") -> MAYOR | I52: =IF(H52="MAYOR",(((59.5*(1-((ABS($F$67-G52))/$F$67))))),(((59.5*(1-((($F$67-G52))/$F$67)))))) -> 58.355908 | J52: =+#REF! -> #REF! | K52: =I52+J52 -> #REF!
B53: =+'VERIFICACION DE OFERTAS'!B53 -> 13 | C53: ='VERIFICACION DE OFERTAS'!C53 -> HyD S.A.S. | D53: ='VERIFICACION DE OFERTAS'!D53 -> 1874948880 | F53: ='VERIFICACION DE OFERTAS'!F53 -> RECHAZADO
B54: =+'VERIFICACION DE OFERTAS'!B54 -> 11 | C54: ='VERIFICACION DE OFERTAS'!C54 -> CONSORCIO ADECUACIONES HUILA 2025 | D54: ='VERIFICACION DE OFERTAS'!D54 -> 1.8690798e+09 | E54: ='VERIFICACION DE OFERTAS'!E54 -> 1.8690798e+09 | F54: ='VERIFICACION DE OFERTAS'!F54 -> 0 | G54: =+E54 -> 1.8690798e+09 | H54: =IF(G54>=$F$67,"MAYOR","MENOR") -> MAYOR | I54: =IF(H54="MAYOR",(((59.5*(1-((ABS($F$67-G54))/$F$67))))),(((59.5*(1-((($F$67-G54))/$F$67)))))) -> 59.02093 | J54: =+#REF! -> #REF! | K54: =I54+J54 -> #REF!
B55: =+'VERIFICACION DE OFERTAS'!B55 -> 10 | C55: ='VERIFICACION DE OFERTAS'!C55 -> CONSORCIO ADECUACIONES HUILA 2025 | D55: ='VERIFICACION DE OFERTAS'!D55 -> 1.8897156e+09 | E55: ='VERIFICACION DE OFERTAS'!E55 -> 1.8897156e+09 | F55: ='VERIFICACION DE OFERTAS'!F55 -> 0 | G55: =+E55 -> 1.8897156e+09 | H55: =IF(G55>=$F$67,"MAYOR","MENOR") -> MAYOR | I55: =IF(H55="MAYOR",(((59.5*(1-((ABS($F$67-G55))/$F$67))))),(((59.5*(1-((($F$67-G55))/$F$67)))))) -> 58.358722 | J55: =+#REF! -> #REF! | K55: =I55+J55 -> #REF!
B56: =+'VERIFICACION DE OFERTAS'!B56 -> 9 | C56: ='VERIFICACION DE OFERTAS'!C56 -> CONSORCIO CONSTRUCCIONES INGLAR | D56: ='VERIFICACION DE OFERTAS'!D56 -> 1.8379631e+09 | F56: ='VERIFICACION DE OFERTAS'!F56 -> RECHAZADO
B57: =+'VERIFICACION DE OFERTAS'!B57 -> 8 | C57: ='VERIFICACION DE OFERTAS'!C57 -> CONSORCIO ADECUACIONES GOBERNACIÓN DEL HUILA 2025 | D57: ='VERIFICACION DE OFERTAS'!D57 -> 1.9260745e+09 | E57: ='VERIFICACION DE OFERTAS'!E57 -> 1.9260745e+09 | F57: ='VERIFICACION DE OFERTAS'!F57 -> 0 | G57: =+E57 -> 1.9260745e+09 | H57: =IF(G57>=$F$67,"MAYOR","MENOR") -> MAYOR | I57: =IF(H57="MAYOR",(((59.5*(1-((ABS($F$67-G57))/$F$67))))),(((59.5*(1-((($F$67-G57))/$F$67)))))) -> 57.191959 | J57: =+#REF! -> #REF! | K57: =I57+J57 -> #REF!
B58: =+'VERIFICACION DE OFERTAS'!B58 -> 7 | C58: ='VERIFICACION DE OFERTAS'!C58 -> CONSORCIO INGE-NEIVA 2025 | D58: ='VERIFICACION DE OFERTAS'!D58 -> 1.8644693e+09 | E58: ='VERIFICACION DE OFERTAS'!E58 -> 1.8644693e+09 | F58: ='VERIFICACION DE OFERTAS'!F58 -> 0 | G58: =+E58 -> 1.8644693e+09 | H58: =IF(G58>=$F$67,"MAYOR","MENOR") -> MAYOR | I58: =IF(H58="MAYOR",(((59.5*(1-((ABS($F$67-G58))/$F$67))))),(((59.5*(1-((($F$67-G58))/$F$67)))))) -> 59.168879 | J58: =+#REF! -> #REF! | K58: =I58+J58 -> #REF!
B59: =+'VERIFICACION DE OFERTAS'!B59 -> 6 | C59: ='VERIFICACION DE OFERTAS'!C59 -> CONSORCIO MEJORAMIENTO DT | D59: ='VERIFICACION DE OFERTAS'!D59 -> 1.883055e+09 | E59: ='VERIFICACION DE OFERTAS'!E59 -> 1.883055e+09 | F59: ='VERIFICACION DE OFERTAS'!F59 -> 0 | G59: =+E59 -> 1.883055e+09 | H59: =IF(G59>=$F$67,"MAYOR","MENOR") -> MAYOR | I59: =IF(H59="MAYOR",(((59.5*(1-((ABS($F$67-G59))/$F$67))))),(((59.5*(1-((($F$67-G59))/$F$67)))))) -> 58.572462 | J59: =+#REF! -> #REF! | K59: =I59+J59 -> #REF!
B60: =+'VERIFICACION DE OFERTAS'!B60 -> 5 | C60: ='VERIFICACION DE OFERTAS'!C60 -> CONSORCIO VENTURA | D60: ='VERIFICACION DE OFERTAS'!D60 -> 1.8496609e+09 | E60: ='VERIFICACION DE OFERTAS'!E60 -> 1.8496609e+09 | F60: ='VERIFICACION DE OFERTAS'!F60 -> 0 | G60: =+E60 -> 1.8496609e+09 | H60: =IF(G60>=$F$67,"MAYOR","MENOR") -> MENOR | I60: =IF(H60="MAYOR",(((59.5*(1-((ABS($F$67-G60))/$F$67))))),(((59.5*(1-((($F$67-G60))/$F$67)))))) -> 59.355915 | J60: =+#REF! -> #REF! | K60: =I60+J60 -> #REF!
B61: =+'VERIFICACION DE OFERTAS'!B61 -> 3 | C61: ='VERIFICACION DE OFERTAS'!C61 -> CONSTRUCTORA DARJA SAS | D61: ='VERIFICACION DE OFERTAS'!D61 -> 1.8705124e+09 | E61: ='VERIFICACION DE OFERTAS'!E61 -> 1.8705124e+09 | F61: ='VERIFICACION DE OFERTAS'!F61 -> 0 | G61: =+E61 -> 1.8705124e+09 | H61: =IF(G61>=$F$67,"MAYOR","MENOR") -> MAYOR | I61: =IF(H61="MAYOR",(((59.5*(1-((ABS($F$67-G61))/$F$67))))),(((59.5*(1-((($F$67-G61))/$F$67)))))) -> 58.974957 | J61: =+#REF! -> #REF! | K61: =I61+J61 -> #REF!
B62: =+'VERIFICACION DE OFERTAS'!B62 -> 1 | C62: ='VERIFICACION DE OFERTAS'!C62 -> CONSORCIO LIESTRU | D62: ='VERIFICACION DE OFERTAS'!D62 -> 1.8710434e+09 | E62: ='VERIFICACION DE OFERTAS'!E62 -> 1.8710434e+09 | F62: ='VERIFICACION DE OFERTAS'!F62 -> 0 | G62: =+E62 -> 1.8710434e+09 | H62: =IF(G62>=$F$67,"MAYOR","MENOR") -> MAYOR | I62: =IF(H62="MAYOR",(((59.5*(1-((ABS($F$67-G62))/$F$67))))),(((59.5*(1-((($F$67-G62))/$F$67)))))) -> 58.957915 | J62: =+#REF! -> #REF! | K62: =I62+J62 -> #REF!
E64: MENOR VALOR | F64: =MIN(G3:G62) -> 1.834841e+09
E65: PROMEDIO SIMPLE | F65: =AVERAGE(G3:G62) -> 1.8734608e+09
E67: PROMEDIO ARITMETICO | F67: =((F64+F65)/2) -> 1.8541509e+09

Sheet MAB 
B2: PROPUESTA | C2: PROPONENTE | D2: PROPUESTA ECONÓMICA | E2: SECOP | F2: CORRECCIÓN ARITMÉTICA | G2: VALOR PROPUESTA ECONÓMICA | H2: MAYOR O MENOR | I2: PUNTOS | J2: PUNTUACION INICIAL | K2: TOTAL PUNTUACIÓN
C3: =+#REF! -> #REF! | D3: =+#REF! -> #REF! | E3: =+D3 -> #REF! | F3: =+#REF! -> #REF! | G3: =+E3 -> #REF! | H3: =IF(G3>=$F$49,"MAYOR","MENOR") -> #REF! | I3: =IF(H3="MAYOR",(((59.5*(1-((ABS($F$49-G3))/$F$49))))),(((59.5*(1-((($F$49-G3))/$F$49)))))) -> #REF! | J3: 40.5 | K3: =I3+J3 -> #REF!
C4: =+#REF! -> #REF! | D4: =+#REF! -> #REF! | E4: =+D4 -> #REF! | F4: =+#REF! -> #REF! | G4: =+E4 -> #REF! | H4: =IF(G4>=$F$49,"MAYOR","MENOR") -> #REF! | I4: =IF(H4="MAYOR",(((59.5*(1-((ABS($F$49-G4))/$F$49))))),(((59.5*(1-((($F$49-G4))/$F$49)))))) -> #REF! | J4: 40.5 | K4: =I4+J4 -> #REF!
C5: =+#REF! -> #REF! | D5: =+#REF! -> #REF! | E5: =+D5 -> #REF! | F5: =+#REF! -> #REF! | G5: =+E5 -> #REF! | H5: =IF(G5>=$F$49,"MAYOR","MENOR") -> #REF! | I5: =IF(H5="MAYOR",(((59.5*(1-((ABS($F$49-G5))/$F$49))))),(((59.5*(1-((($F$49-G5))/$F$49)))))) -> #REF! | J5: 40.5 | K5: =I5+J5 -> #REF!
C6: =+#REF! -> #REF! | D6: =+#REF! -> #REF! | E6: =+D6 -> #REF! | F6: =+#REF! -> #REF! | G6: =+E6 -> #REF! | H6: =IF(G6>=$F$49,"MAYOR","MENOR") -> #REF! | I6: =IF(H6="MAYOR",(((59.5*(1-((ABS($F$49-G6))/$F$49))))),(((59.5*(1-((($F$49-G6))/$F$49)))))) -> #REF! | J6: 40.5 | K6: =I6+J6 -> #REF!
C7: =+#REF! -> #REF! | D7: =+#REF! -> #REF! | E7: =+D7 -> #REF! | F7: =+#REF! -> #REF! | G7: =+E7 -> #REF! | H7: =IF(G7>=$F$49,"MAYOR","MENOR") -> #REF! | I7: =IF(H7="MAYOR",(((59.5*(1-((ABS($F$49-G7))/$F$49))))),(((59.5*(1-((($F$49-G7))/$F$49)))))) -> #REF! | J7: 40.5 | K7: =I7+J7 -> #REF!
C8: =+#REF! -> #REF! | D8: =+#REF! -> #REF! | E8: =+D8 -> #REF! | F8: =+#REF! -> #REF! | G8: =+E8 -> #REF! | H8: =IF(G8>=$F$49,"MAYOR","MENOR") -> #REF! | I8: =IF(H8="MAYOR",(((59.5*(1-((ABS($F$49-G8))/$F$49))))),(((59.5*(1-((($F$49-G8))/$F$49)))))) -> #REF! | J8: 40.5 | K8: =I8+J8 -> #REF!
C9: =+#REF! -> #REF! | D9: =+#REF! -> #REF! | E9: =+D9 -> #REF! | F9: =+#REF! -> #REF! | G9: =+E9 -> #REF! | H9: =IF(G9>=$F$49,"MAYOR","MENOR") -> #REF! | I9: =IF(H9="MAYOR",(((59.5*(1-((ABS($F$49-G9))/$F$49))))),(((59.5*(1-((($F$49-G9))/$F$49)))))) -> #REF! | J9: 40.5 | K9: =I9+J9 -> #REF!
C10: =+#REF! -> #REF! | D10: =+#REF! -> #REF! | E10: =+D10 -> #REF! | F10: =+#REF! -> #REF! | G10: =+E10 -> #REF! | H10: =IF(G10>=$F$49,"MAYOR","MENOR") -> #REF! | I10: =IF(H10="MAYOR",(((59.5*(1-((ABS($F$49-G10))/$F$49))))),(((59.5*(1-((($F$49-G10))/$F$49)))))) -> #REF! | J10: 40.5 | K10: =I10+J10 -> #REF!
C11: =+#REF! -> #REF! | D11: =+#REF! -> #REF! | E11: =+D11 -> #REF! | F11: =+#REF! -> #REF! | G11: =+E11 -> #REF! | H11: =IF(G11>=$F$49,"MAYOR","MENOR") -> #REF! | I11: =IF(H11="MAYOR",(((59.5*(1-((ABS($F$49-G11))/$F$49))))),(((59.5*(1-((($F$49-G11))/$F$49)))))) -> #REF! | J11: 40.5 | K11: =I11+J11 -> #REF!
C12: =+#REF! -> #REF! | D12: =+#REF! -> #REF! | E12: =+D12 -> #REF! | F12: =+#REF! -> #REF! | G12: =+E12 -> #REF! | H12: =IF(G12>=$F$49,"MAYOR","MENOR") -> #REF! | I12: =IF(H12="MAYOR",(((59.5*(1-((ABS($F$49-G12))/$F$49))))),(((59.5*(1-((($F$49-G12))/$F$49)))))) -> #REF! | J12: 40.5 | K12: =I12+J12 -> #REF!
C13: =+#REF! -> #REF! | D13: =+#REF! -> #REF! | E13: =+D13 -> #REF! | F13: =+#REF! -> #REF! | G13: =+E13 -> #REF! | H13: =IF(G13>=$F$49,"MAYOR","MENOR") -> #REF! | I13: =IF(H13="MAYOR",(((59.5*(1-((ABS($F$49-G13))/$F$49))))),(((59.5*(1-((($F$49-G13))/$F$49)))))) -> #REF! | J13: 40.5 | K13: =I13+J13 -> #REF!
C14: =+#REF! -> #REF! | D14: =+#REF! -> #REF! | E14: =+D14 -> #REF! | F14: =+#REF! -> #REF! | G14: =+E14 -> #REF! | H14: =IF(G14>=$F$49,"MAYOR","MENOR") -> #REF! | I14: =IF(H14="MAYOR",(((59.5*(1-((ABS($F$49-G14))/$F$49))))),(((59.5*(1-((($F$49-G14))/$F$49)))))) -> #REF! | J14: 40.5 | K14: =I14+J14 -> #REF!
... C29: =+#REF! -> #REF! | D29: =+#REF! -> #REF! | E29: =+D29 -> #REF! | F29: =+#REF! -> #REF! | G29: =+E29 -> #REF! | H29: =IF(G29>=$F$49,"MAYOR","MENOR") -> #REF! | I29: =IF(H29="MAYOR",(((59.5*(1-((ABS($F$49-G29))/$F$49))))),(((59.5*(1-((($F$49-G29))/$F$49)))))) -> #REF! | J29: 40.5 | K29: =I29+J29 -> #REF!
C30: =+#REF! -> #REF! | D30: =+#REF! -> #REF! | E30: =+D30 -> #REF! | F30: =+#REF! -> #REF! | H30: =IF(G30>=$F$49,"MAYOR","MENOR") -> #REF! | I30: =IF(H30="MAYOR",(((59.5*(1-((ABS($F$49-G30))/$F$49))))),(((59.5*(1-((($F$49-G30))/$F$49)))))) -> #REF! | J30: 40.5 | K30: =I30+J30 -> #REF!
C31: =+#REF! -> #REF! | D31: =+#REF! -> #REF! | E31: =+D31 -> #REF! | F31: =+#REF! -> #REF! | G31: =+E31 -> #REF! | H31: =IF(G31>=$F$49,"MAYOR","MENOR") -> #REF! | I31: =IF(H31="MAYOR",(((59.5*(1-((ABS($F$49-G31))/$F$49))))),(((59.5*(1-((($F$49-G31))/$F$49)))))) -> #REF! | J31: 40.5 | K31: =I31+J31 -> #REF!
C32: =+#REF! -> #REF! | D32: =+#REF! -> #REF! | E32: =+D32 -> #REF! | F32: =+#REF! -> #REF! | G32: =+E32 -> #REF! | H32: =IF(G32>=$F$49,"MAYOR","MENOR") -> #REF! | I32: =IF(H32="MAYOR",(((59.5*(1-((ABS($F$49-G32))/$F$49))))),(((59.5*(1-((($F$49-G32))/$F$49)))))) -> #REF! | J32: 40.5 | K32: =I32+J32 -> #REF!
C33: =+#REF! -> #REF! | D33: =+#REF! -> #REF! | E33: =+D33 -> #REF! | F33: =+#REF! -> #REF! | G33: =+E33 -> #REF! | H33: =IF(G33>=$F$49,"MAYOR","MENOR") -> #REF! | I33: =IF(H33="MAYOR",(((59.5*(1-((ABS($F$49-G33))/$F$49))))),(((59.5*(1-((($F$49-G33))/$F$49)))))) -> #REF! | J33: 40.5 | K33: =I33+J33 -> #REF!
C34: =+#REF! -> #REF! | D34: =+#REF! -> #REF! | E34: =+D34 -> #REF! | F34: =+#REF! -> #REF! | G34: =+E34 -> #REF! | H34: =IF(G34>=$F$49,"MAYOR","MENOR") -> #REF! | I34: =IF(H34="MAYOR",(((59.5*(1-((ABS($F$49-G34))/$F$49))))),(((59.5*(1-((($F$49-G34))/$F$49)))))) -> #REF! | J34: 40.5 | K34: =I34+J34 -> #REF!
C35: =+#REF! -> #REF! | D35: =+#REF! -> #REF! | E35: =+D35 -> #REF! | F35: =+#REF! -> #REF! | G35: =+E35 -> #REF! | H35: =IF(G35>=$F$49,"MAYOR","MENOR") -> #REF! | I35: =IF(H35="MAYOR",(((59.5*(1-((ABS($F$49-G35))/$F$49))))),(((59.5*(1-((($F$49-G35))/$F$49)))))) -> #REF! | J35: 40.5 | K35: =I35+J35 -> #REF!
C36: =+#REF! -> #REF! | D36: =+#REF! -> #REF! | E36: =+D36 -> #REF! | F36: =+#REF! -> #REF! | G36: =+E36 -> #REF! | H36: =IF(G36>=$F$49,"MAYOR","MENOR") -> #REF! | I36: =IF(H36="MAYOR",(((59.5*(1-((ABS($F$49-G36))/$F$49))))),(((59.5*(1-((($F$49-G36))/$F$49)))))) -> #REF! | J36: 40.5 | K36: =I36+J36 -> #REF!
C37: =+#REF! -> #REF! | D37: =+#REF! -> #REF! | E37: =+D37 -> #REF! | F37: =+#REF! -> #REF! | G37: =+E37 -> #REF! | H37: =IF(G37>=$F$49,"MAYOR","MENOR") -> #REF! | I37: =IF(H37="MAYOR",(((59.5*(1-((ABS($F$49-G37))/$F$49))))),(((59.5*(1-((($F$49-G37))/$F$49)))))) -> #REF! | J37: 40.5 | K37: =I37+J37 -> #REF!
C38: =+#REF! -> #REF! | D38: =+#REF! -> #REF! | E38: =+D38 -> #REF! | F38: =+#REF! -> #REF! | H38: =IF(G38>=$F$49,"MAYOR","MENOR") -> #REF! | I38: =IF(H38="MAYOR",(((59.5*(1-((ABS($F$49-G38))/$F$49))))),(((59.5*(1-((($F$49-G38))/$F$49)))))) -> #REF! | J38: 40.5 | K38: =I38+J38 -> #REF!
C39: =+#REF! -> #REF! | D39: =+#REF! -> #REF! | E39: =+D39 -> #REF! | F39: =+#REF! -> #REF! | G39: =+E39 -> #REF! | H39: =IF(G39>=$F$49,"MAYOR","MENOR") -> #REF! | I39: =IF(H39="MAYOR",(((59.5*(1-((ABS($F$49-G39))/$F$49))))),(((59.5*(1-((($F$49-G39))/$F$49)))))) -> #REF! | J39: 40.5 | K39: =I39+J39 -> #REF!
C40: =+#REF! -> #REF! | D40: =+#REF! -> #REF! | E40: =+D40 -> #REF! | F40: =+#REF! -> #REF! | G40: =+E40 -> #REF! | H40: =IF(G40>=$F$49,"MAYOR","MENOR") -> #REF! | I40: =IF(H40="MAYOR",(((59.5*(1-((ABS($F$49-G40))/$F$49))))),(((59.5*(1-((($F$49-G40))/$F$49)))))) -> #REF! | J40: 40.5 | K40: =I40+J40 -> #REF!
C41: =+#REF! -> #REF! | D41: =+#REF! -> #REF! | E41: =+D41 -> #REF! | F41: =+#REF! -> #REF! | G41: =+E41 -> #REF! | H41: =IF(G41>=$F$49,"MAYOR","MENOR") -> #REF! | I41: =IF(H41="MAYOR",(((59.5*(1-((ABS($F$49-G41))/$F$49))))),(((59.5*(1-((($F$49-G41))/$F$49)))))) -> #REF! | J41: 40.5 | K41: =I41+J41 -> #REF!
C42: =+#REF! -> #REF! | D42: =+#REF! -> #REF! | E42: =+D42 -> #REF! | F42: =+#REF! -> #REF! | G42: =+E42 -> #REF! | H42: =IF(G42>=$F$49,"MAYOR","MENOR") -> #REF! | I42: =IF(H42="MAYOR",(((59.5*(1-((ABS($F$49-G42))/$F$49))))),(((59.5*(1-((($F$49-G42))/$F$49)))))) -> #REF! | J42: 40.5 | K42: =I42+J42 -> #REF!
C43: =+#REF! -> #REF! | D43: =+#REF! -> #REF! | E43: =+D43 -> #REF! | F43: =+#REF! -> #REF! | G43: =+E43 -> #REF! | H43: =IF(G43>=$F$49,"MAYOR","MENOR") -> #REF! | I43: =IF(H43="MAYOR",(((59.5*(1-((ABS($F$49-G43))/$F$49))))),(((59.5*(1-((($F$49-G43))/$F$49)))))) -> #REF! | J43: 40.5 | K43: =I43+J43 -> #REF!
C44: =+#REF! -> #REF! | D44: =+#REF! -> #REF! | E44: =+D44 -> #REF! | F44: =+#REF! -> #REF! | G44: =+E44 -> #REF! | H44: =IF(G44>=$F$49,"MAYOR","MENOR") -> #REF! | I44: =IF(H44="MAYOR",(((59.5*(1-((ABS($F$49-G44))/$F$49))))),(((59.5*(1-((($F$49-G44))/$F$49)))))) -> #REF! | J44: 40.5 | K44: =I44+J44 -> #REF!
E46: MENOR VALOR | F46: =MIN(G3:G44) -> #REF!
E47: PROMEDIO SIMPLE | F47: =AVERAGE(G3:G44) -> #REF!
E49: PROMEDIO ARITMETICO | F49: =((F46+F47)/2) -> #REF!

Sheet MAB 1-aceptando 42
B2: PROPUESTA | C2: PROPONENTE | D2: PROPUESTA ECONÓMICA | E2: SECOP | F2: CORRECCIÓN ARITMÉTICA | G2: VALOR PROPUESTA ECONÓMICA | H2: MAYOR O MENOR | I2: PUNTOS | J2: PUNTUACION INICIAL | K2: TOTAL PUNTUACIÓN
B3: =+'VERIFICACION DE OFERTAS'!B3 -> 81 | C3: ='VERIFICACION DE OFERTAS'!C3 -> CONSORCIO EDIFICIO CENTRAL | D3: ='VERIFICACION DE OFERTAS'!D3 -> 1.9215243e+09 | F3: ='VERIFICACION DE OFERTAS'!F3 -> RECHAZADO
B4: =+'VERIFICACION DE OFERTAS'!B4 -> 77 | C4: ='VERIFICACION DE OFERTAS'!C4 -> CONINCAG SAS | D4: ='VERIFICACION DE OFERTAS'!D4 -> 1.8637327e+09 | F4: ='VERIFICACION DE OFERTAS'!F4 -> RECHAZADO
B5: =+'VERIFICACION DE OFERTAS'!B5 -> 74 | C5: ='VERIFICACION DE OFERTAS'!C5 -> CONSORCIO MANASSA 28 | D5: ='VERIFICACION DE OFERTAS'!D5 -> 1.8675064e+09 | E5: ='VERIFICACION DE OFERTAS'!E5 -> 1.8675064e+09 | F5: ='VERIFICACION DE OFERTAS'!F5 -> 0 | G5: =+E5 -> 1.8675064e+09 | H5: =IF(G5>=$F$67,"MAYOR","MENOR") -> MAYOR | I5: =IF(H5="MAYOR",(((59.5*(1-((ABS($F$67-G5))/$F$67))))),(((59.5*(1-((($F$67-G5))/$F$67)))))) -> 59.062336 | J5: =+#REF! -> #REF! | K5: =I5+J5 -> #REF!
B6: =+'VERIFICACION DE OFERTAS'!B6 -> 73 | C6: ='VERIFICACION DE OFERTAS'!C6 -> CONSORCIO SANTANA 2025 | D6: ='VERIFICACION DE OFERTAS'!D6 -> 1.8631888e+09 | E6: ='VERIFICACION DE OFERTAS'!E6 -> 1.8631888e+09 | F6: ='VERIFICACION DE OFERTAS'!F6 -> 0 | G6: =+E6 -> 1.8631888e+09 | H6: =IF(G6>=$F$67,"MAYOR","MENOR") -> MAYOR | I6: =IF(H6="MAYOR",(((59.5*(1-((ABS($F$67-G6))/$F$67))))),(((59.5*(1-((($F$67-G6))/$F$67)))))) -> 59.200911 | J6: =+#REF! -> #REF! | K6: =I6+J6 -> #REF!
B7: =+'VERIFICACION DE OFERTAS'!B7 -> 72 | C7: ='VERIFICACION DE OFERTAS'!C7 -> Fundacion Espeletia | D7: ='VERIFICACION DE OFERTAS'!D7 -> 1.834841e+09 | F7: RECHAZADO
B8: =+'VERIFICACION DE OFERTAS'!B8 -> 71 | C8: ='VERIFICACION DE OFERTAS'!C8 -> Consorcio CONSTRUCTOR CENTRAL | D8: ='VERIFICACION DE OFERTAS'!D8 -> 1.8579391e+09 | E8: ='VERIFICACION DE OFERTAS'!E8 -> 1.8579391e+09 | F8: ='VERIFICACION DE OFERTAS'!F8 -> 0 | G8: =+E8 -> 1.8579391e+09 | H8: =IF(G8>=$F$67,"MAYOR","MENOR") -> MAYOR | I8: =IF(H8="MAYOR",(((59.5*(1-((ABS($F$67-G8))/$F$67))))),(((59.5*(1-((($F$67-G8))/$F$67)))))) -> 59.369399 | J8: =+#REF! -> #REF! | K8: =I8+J8 -> #REF!
B9: =+'VERIFICACION DE OFERTAS'!B9 -> 69 | C9: ='VERIFICACION DE OFERTAS'!C9 -> CONSORCIO INGEGOBER | D9: ='VERIFICACION DE OFERTAS'!D9 -> 1.8651617e+09 | F9: ='VERIFICACION DE OFERTAS'!F9 -> RECHAZADO
B10: =+'VERIFICACION DE OFERTAS'!B10 -> 66 | C10: ='VERIFICACION DE OFERTAS'!C10 -> CONSORCIO ARCUM | D10: ='VERIFICACION DE OFERTAS'!D10 -> 1.8614113e+09 | E10: ='VERIFICACION DE OFERTAS'!E10 -> 1.8614113e+09 | F10: ='VERIFICACION DE OFERTAS'!F10 -> 0 | G10: =+E10 -> 1.8614113e+09 | H10: =IF(G10>=$F$67,"MAYOR","MENOR") -> MAYOR | I10: =IF(H10="MAYOR",(((59.5*(1-((ABS($F$67-G10))/$F$67))))),(((59.5*(1-((($F$67-G10))/$F$67)))))) -> 59.257958 | J10: =+#REF! -> #REF! | K10: =I10+J10 -> #REF!
B11: =+'VERIFICACION DE OFERTAS'!B11 -> 65 | C11: ='VERIFICACION DE OFERTAS'!C11 -> CONSORCIO SANTA RITA | D11: ='VERIFICACION DE OFERTAS'!D11 -> 1.893037e+09 | F11: ='VERIFICACION DE OFERTAS'!F11 -> RECHAZADO
B12: =+'VERIFICACION DE OFERTAS'!B12 -> 64 | C12: ='VERIFICACION DE OFERTAS'!C12 -> CONSORCIO OBRAS GMJ 2025 | D12: ='VERIFICACION DE OFERTAS'!D12 -> 1.8926652e+09 | E12: ='VERIFICACION DE OFERTAS'!E12 -> 1.8926652e+09 | F12: ='VERIFICACION DE OFERTAS'!F12 -> 0 | G12: =+E12 -> 1.8926652e+09 | H12: =IF(G12>=$F$67,"MAYOR","MENOR") -> MAYOR | I12: =IF(H12="MAYOR",(((59.5*(1-((ABS($F$67-G12))/$F$67))))),(((59.5*(1-((($F$67-G12))/$F$67)))))) -> 58.254866 | J12: =+#REF! -> #REF! | K12: =I12+J12 -> #REF!
B13: =+'VERIFICACION DE OFERTAS'!B13 -> 63 | C13: ='VERIFICACION DE OFERTAS'!C13 -> CONSORCIO INACAL NEIVA | D13: ='VERIFICACION DE OFERTAS'!D13 -> 1.8800857e+09 | E13: ='VERIFICACION DE OFERTAS'!E13 -> 1.8800857e+09 | F13: ='VERIFICACION DE OFERTAS'!F13 -> 0 | G13: =+E13 -> 1.8800857e+09 | H13: =IF(G13>=$F$67,"MAYOR","MENOR") -> MAYOR | I13: =IF(H13="MAYOR",(((59.5*(1-((ABS($F$67-G13))/$F$67))))),(((59.5*(1-((($F$67-G13))/$F$67)))))) -> 58.658606 | J13: =+#REF! -> #REF! | K13: =I13+J13 -> #REF!
B14: =+'VERIFICACION DE OFERTAS'!B14 -> 62 | C14: ='VERIFICACION DE OFERTAS'!C14 -> BRACO COMPANY S.A.S ZOMAC | D14: ='VERIFICACION DE OFERTAS'!D14 -> 1.9123188e+09 | E14: ='VERIFICACION DE OFERTAS'!E14 -> 1.9123188e+09 | F14: ='VERIFICACION DE OFERTAS'!F14 -> 0 | G14: =+E14 -> 1.9123188e+09 | H14: =IF(G14>=$F$67,"MAYOR","MENOR") -> MAYOR | I14: =IF(H14="MAYOR",(((59.5*(1-((ABS($F$67-G14))/$F$67))))),(((59.5*(1-((($F$67-G14))/$F$67)))))) -> 57.624084 | J14: =+#REF! -> #REF! | K14: =I14+J14 -> #REF!
B15: =+'VERIFICACION DE OFERTAS'!B15 -> 61 | C15: ='VERIFICACION DE OFERTAS'!C15 -> TELEACCESS LTDA | D15: ='VERIFICACION DE OFERTAS'!D15 -> 1.8873033e+09 | E15: ='VERIFICACION DE OFERTAS'!E15 -> 1.8873033e+09 | F15: ='VERIFICACION DE OFERTAS'!F15 -> 0 | G15: =+E15 -> 1.8873033e+09 | H15: =IF(G15>=$F$67,"MAYOR","MENOR") -> MAYOR | I15: =IF(H15="MAYOR",(((59.5*(1-((ABS($F$67-G15))/$F$67))))),(((59.5*(1-((($F$67-G15))/$F$67)))))) -> 58.426957 | J15: =+#REF! -> #REF! | K15: =I15+J15 -> #REF!
B16: =+'VERIFICACION DE OFERTAS'!B16 -> 60 | C16: ='VERIFICACION DE OFERTAS'!C16 -> 3G INGENERIA AVANZADA SAS | D16: ='VERIFICACION DE OFERTAS'!D16 -> 1.8467217e+09 | E16: ='VERIFICACION DE OFERTAS'!E16 -> 1.8467217e+09 | F16: ='VERIFICACION DE OFERTAS'!F16 -> 0 | G16: =+E16 -> 1.8467217e+09 | H16: =IF(G16>=$F$67,"MAYOR","MENOR") -> MENOR | I16: =IF(H16="MAYOR",(((59.5*(1-((ABS($F$67-G16))/$F$67))))),(((59.5*(1-((($F$67-G16))/$F$67)))))) -> 59.270576 | J16: =+#REF! -> #REF! | K16: =I16+J16 -> #REF!
B17: =+'VERIFICACION DE OFERTAS'!B17 -> 59 | C17: ='VERIFICACION DE OFERTAS'!C17 -> CONSORCIO HUILA DUOVAL 324 | D17: ='VERIFICACION DE OFERTAS'!D17 -> 1.8540754e+09 | F17: ='VERIFICACION DE OFERTAS'!F17 -> RECHAZADO
B18: =+'VERIFICACION DE OFERTAS'!B18 -> 58 | C18: ='VERIFICACION DE OFERTAS'!C18 -> CONSORCIO GPIng | D18: ='VERIFICACION DE OFERTAS'!D18 -> 1.8371757e+09 | F18: ='VERIFICACION DE OFERTAS'!F18 -> RECHAZADO
B19: =+'VERIFICACION DE OFERTAS'!B19 -> 57 | C19: ='VERIFICACION DE OFERTAS'!C19 -> CONSORCIO SANLORENZO | D19: ='VERIFICACION DE OFERTAS'!D19 -> 1.8704546e+09 | E19: ='VERIFICACION DE OFERTAS'!E19 -> 1.8704546e+09 | F19: ='VERIFICACION DE OFERTAS'!F19 -> 0 | G19: =+E19 -> 1.8704546e+09 | H19: =IF(G19>=$F$67,"MAYOR","MENOR") -> MAYOR | I19: =IF(H19="MAYOR",(((59.5*(1-((ABS($F$67-G19))/$F$67))))),(((59.5*(1-((($F$67-G19))/$F$67)))))) -> 58.967714 | J19: =+#REF! -> #REF! | K19: =I19+J19 -> #REF!
B20: =+'VERIFICACION DE OFERTAS'!B20 -> 54 | C20: ='VERIFICACION DE OFERTAS'!C20 -> CONSORCIO OCIDAN HUILA-13 | D20: ='VERIFICACION DE OFERTAS'!D20 -> 1.8647464e+09 | E20: ='VERIFICACION DE OFERTAS'!E20 -> 1.8647464e+09 | F20: ='VERIFICACION DE OFERTAS'!F20 -> 0 | G20: =+E20 -> 1.8647464e+09 | H20: =IF(G20>=$F$67,"MAYOR","MENOR") -> MAYOR | I20: =IF(H20="MAYOR",(((59.5*(1-((ABS($F$67-G20))/$F$67))))),(((59.5*(1-((($F$67-G20))/$F$67)))))) -> 59.150919 | J20: =+#REF! -> #REF! | K20: =I20+J20 -> #REF!
B21: =+'VERIFICACION DE OFERTAS'!B21 -> 53 | C21: ='VERIFICACION DE OFERTAS'!C21 -> CONSORCIO PROHAL 2025 | D21: ='VERIFICACION DE OFERTAS'!D21 -> 1.8734265e+09 | F21: ='VERIFICACION DE OFERTAS'!F21 -> RECHAZADO
B22: =+'VERIFICACION DE OFERTAS'!B22 -> 52 | C22: ='VERIFICACION DE OFERTAS'!C22 -> ZION CONSTRUCCIONES SAS | D22: ='VERIFICACION DE OFERTAS'!D22 -> 1.8913215e+09 | E22: ='VERIFICACION DE OFERTAS'!E22 -> 1.8913215e+09 | F22: ='VERIFICACION DE OFERTAS'!F22 -> 0 | G22: =+E22 -> 1.8913215e+09 | H22: =IF(G22>=$F$67,"MAYOR","MENOR") -> MAYOR | I22: =IF(H22="MAYOR",(((59.5*(1-((ABS($F$67-G22))/$F$67))))),(((59.5*(1-((($F$67-G22))/$F$67)))))) -> 58.297991 | J22: =+#REF! -> #REF! | K22: =I22+J22 -> #REF!
B23: =+'VERIFICACION DE OFERTAS'!B23 -> 51 | C23: ='VERIFICACION DE OFERTAS'!C23 -> CONSORCIO E&C HUILA | D23: ='VERIFICACION DE OFERTAS'!D23 -> 1.904256e+09 | E23: ='VERIFICACION DE OFERTAS'!E23 -> 1.904256e+09 | F23: ='VERIFICACION DE OFERTAS'!F23 -> 0 | G23: =+E23 -> 1.904256e+09 | H23: =IF(G23>=$F$67,"MAYOR","MENOR") -> MAYOR | I23: =IF(H23="MAYOR",(((59.5*(1-((ABS($F$67-G23))/$F$67))))),(((59.5*(1-((($F$67-G23))/$F$67)))))) -> 57.882859 | J23: =+#REF! -> #REF! | K23: =I23+J23 -> #REF!
B24: =+'VERIFICACION DE OFERTAS'!B24 -> 50 | C24: ='VERIFICACION DE OFERTAS'!C24 -> MONVAL GROUP | D24: ='VERIFICACION DE OFERTAS'!D24 -> 1.8950456e+09 | E24: ='VERIFICACION DE OFERTAS'!E24 -> 1.8950456e+09 | F24: ='VERIFICACION DE OFERTAS'!F24 -> 0 | G24: =+E24 -> 1.8950456e+09 | H24: =IF(G24>=$F$67,"MAYOR","MENOR") -> MAYOR | I24: =IF(H24="MAYOR",(((59.5*(1-((ABS($F$67-G24))/$F$67))))),(((59.5*(1-((($F$67-G24))/$F$67)))))) -> 58.178467 | J24: =+#REF! -> #REF! | K24: =I24+J24 -> #REF!
B25: =+'VERIFICACION DE OFERTAS'!B25 -> 49 | C25: ='VERIFICACION DE OFERTAS'!C25 -> CONSORCIO CASTILLO | D25: ='VERIFICACION DE OFERTAS'!D25 -> 1.8671131e+09 | E25: ='VERIFICACION DE OFERTAS'!E25 -> 1.8671131e+09 | F25: ='VERIFICACION DE OFERTAS'!F25 -> 0 | G25: =+E25 -> 1.8671131e+09 | H25: =IF(G25>=$F$67,"MAYOR","MENOR") -> MAYOR | I25: =IF(H25="MAYOR",(((59.5*(1-((ABS($F$67-G25))/$F$67))))),(((59.5*(1-((($F$67-G25))/$F$67)))))) -> 59.074959 | J25: =+#REF! -> #REF! | K25: =I25+J25 -> #REF!
B26: =+'VERIFICACION DE OFERTAS'!B26 -> 48 | C26: ='VERIFICACION DE OFERTAS'!C26 -> CONSORCIO CENTRAL MIV | D26: ='VERIFICACION DE OFERTAS'!D26 -> 1.8508276e+09 | E26: ='VERIFICACION DE OFERTAS'!E26 -> 1.8508276e+09 | F26: ='VERIFICACION DE OFERTAS'!F26 -> 0 | G26: =+E26 -> 1.8508276e+09 | H26: =IF(G26>=$F$67,"MAYOR","MENOR") -> MENOR | I26: =IF(H26="MAYOR",(((59.5*(1-((ABS($F$67-G26))/$F$67))))),(((59.5*(1-((($F$67-G26))/$F$67)))))) -> 59.402357 | J26: =+#REF! -> #REF! | K26: =I26+J26 -> #REF!
B27: =+'VERIFICACION DE OFERTAS'!B27 -> 46 | C27: ='VERIFICACION DE OFERTAS'!C27 -> UNION TEMPORAL INNOVA | D27: ='VERIFICACION DE OFERTAS'!D27 -> 1.8827596e+09 | F27: ='VERIFICACION DE OFERTAS'!F27 -> RECHAZADO
B28: =+'VERIFICACION DE OFERTAS'!B28 -> 45 | C28: ='VERIFICACION DE OFERTAS'!C28 -> Adecuaciones jeroca | D28: ='VERIFICACION DE OFERTAS'!D28 -> 1.8670212e+09 | E28: ='VERIFICACION DE OFERTAS'!E28 -> 1.8670212e+09 | F28: ='VERIFICACION DE OFERTAS'!F28 -> 0 | G28: =+E28 -> 1.8670212e+09 | H28: =IF(G28>=$F$67,"MAYOR","MENOR") -> MAYOR | I28: =IF(H28="MAYOR",(((59.5*(1-((ABS($F$67-G28))/$F$67))))),(((59.5*(1-((($F$67-G28))/$F$67)))))) -> 59.077909 | J28: =+#REF! -> #REF! | K28: =I28+J28 -> #REF!
B29: =+'VERIFICACION DE OFERTAS'!B29 -> 44 | C29: ='VERIFICACION DE OFERTAS'!C29 -> CONSORCIO HUILA 2025 | D29: ='VERIFICACION DE OFERTAS'!D29 -> 1.8651492e+09 | E29: ='VERIFICACION DE OFERTAS'!E29 -> 1.8651492e+09 | F29: ='VERIFICACION DE OFERTAS'!F29 -> 0 | G29: =+E29 -> 1.8651492e+09 | H29: =IF(G29>=$F$67,"MAYOR","MENOR") -> MAYOR | I29: =IF(H29="MAYOR",(((59.5*(1-((ABS($F$67-G29))/$F$67))))),(((59.5*(1-((($F$67-G29))/$F$67)))))) -> 59.13799 | J29: =+#REF! -> #REF! | K29: =I29+J29 -> #REF!
B30: =+'VERIFICACION DE OFERTAS'!B30 -> 43 | C30: ='VERIFICACION DE OFERTAS'!C30 -> INGENIERIA RH | D30: ='VERIFICACION DE OFERTAS'!D30 -> 1.8828356e+09 | E30: ='VERIFICACION DE OFERTAS'!E30 -> 1.8828356e+09 | F30: ='VERIFICACION DE OFERTAS'!F30 -> 0 | G30: =+E30 -> 1.8828356e+09 | H30: =IF(G30>=$F$67,"MAYOR","MENOR") -> MAYOR | I30: =IF(H30="MAYOR",(((59.5*(1-((ABS($F$67-G30))/$F$67))))),(((59.5*(1-((($F$67-G30))/$F$67)))))) -> 58.570347 | J30: =+#REF! -> #REF! | K30: =I30+J30 -> #REF!
B31: =+'VERIFICACION DE OFERTAS'!B31 -> 42 | C31: ='VERIFICACION DE OFERTAS'!C31 -> CONSORCIO CE OBRAS HUILA | D31: ='VERIFICACION DE OFERTAS'!D31 -> 1.8342918e+09 | E31: ='VERIFICACION DE OFERTAS'!E31 -> 1.8342918e+09 | F31: ='VERIFICACION DE OFERTAS'!F31 -> 0 | G31: =+E31 -> 1.8342918e+09 | H31: =IF(G31>=$F$67,"MAYOR","MENOR") -> MENOR | I31: =IF(H31="MAYOR",(((59.5*(1-((ABS($F$67-G31))/$F$67))))),(((59.5*(1-((($F$67-G31))/$F$67)))))) -> 58.87164 | J31: =+#REF! -> #REF! | K31: =I31+J31 -> #REF!
B32: =+'VERIFICACION DE OFERTAS'!B32 -> 41 | C32: ='VERIFICACION DE OFERTAS'!C32 -> CONSORCIO HUILA 2D | D32: ='VERIFICACION DE OFERTAS'!D32 -> 1.8733439e+09 | E32: ='VERIFICACION DE OFERTAS'!E32 -> 1.8733439e+09 | F32: ='VERIFICACION DE OFERTAS'!F32 -> 0 | G32: =+E32 -> 1.8733439e+09 | H32: =IF(G32>=$F$67,"MAYOR","MENOR") -> MAYOR | I32: =IF(H32="MAYOR",(((59.5*(1-((ABS($F$67-G32))/$F$67))))),(((59.5*(1-((($F$67-G32))/$F$67)))))) -> 58.874984 | J32: =+#REF! -> #REF! | K32: =I32+J32 -> #REF!
B33: =+'VERIFICACION DE OFERTAS'!B33 -> 39 | C33: ='VERIFICACION DE OFERTAS'!C33 -> CONSORCIO MEGAHUILA | D33: ='VERIFICACION DE OFERTAS'!D33 -> 1.8603139e+09 | E33: ='VERIFICACION DE OFERTAS'!E33 -> 1.8603139e+09 | F33: ='VERIFICACION DE OFERTAS'!F33 -> 0 | G33: =+E33 -> 1.8603139e+09 | H33: =IF(G33>=$F$67,"MAYOR","MENOR") -> MAYOR | I33: =IF(H33="MAYOR",(((59.5*(1-((ABS($F$67-G33))/$F$67))))),(((59.5*(1-((($F$67-G33))/$F$67)))))) -> 59.293181 | J33: =+#REF! -> #REF! | K33: =I33+J33 -> #REF!
B34: =+'VERIFICACION DE OFERTAS'!B34 -> 38 | C34: ='VERIFICACION DE OFERTAS'!C34 -> CONSORCIO OBRAS BIENES | D34: ='VERIFICACION DE OFERTAS'!D34 -> 1.8540051e+09 | E34: ='VERIFICACION DE OFERTAS'!E34 -> 1.8540051e+09 | F34: ='VERIFICACION DE OFERTAS'!F34 -> 0 | G34: =+E34 -> 1.8540051e+09 | H34: =IF(G34>=$F$67,"MAYOR","MENOR") -> MAYOR | I34: =IF(H34="MAYOR",(((59.5*(1-((ABS($F$67-G34))/$F$67))))),(((59.5*(1-((($F$67-G34))/$F$67)))))) -> 59.495661 | J34: =+#REF! -> #REF! | K34: =I34+J34 -> #REF!
B35: =+'VERIFICACION DE OFERTAS'!B35 -> 37 | C35: ='VERIFICACION DE OFERTAS'!C35 -> CONSORCIO CENTRAL V&V | D35: ='VERIFICACION DE OFERTAS'!D35 -> 1.890015e+09 | E35: ='VERIFICACION DE OFERTAS'!E35 -> 1.890015e+09 | F35: ='VERIFICACION DE OFERTAS'!F35 -> 0 | G35: =+E35 -> 1.890015e+09 | H35: =IF(G35>=$F$67,"MAYOR","MENOR") -> MAYOR | I35: =IF(H35="MAYOR",(((59.5*(1-((ABS($F$67-G35))/$F$67))))),(((59.5*(1-((($F$67-G35))/$F$67)))))) -> 58.339924 | J35: =+#REF! -> #REF! | K35: =I35+J35 -> #REF!
B36: =+'VERIFICACION DE OFERTAS'!B36 -> 36 | C36: ='VERIFICACION DE OFERTAS'!C36 -> CONSORCIO ADECUACIONES 2CP | D36: ='VERIFICACION DE OFERTAS'!D36 -> 1.8625895e+09 | E36: ='VERIFICACION DE OFERTAS'!E36 -> 1.8625895e+09 | F36: ='VERIFICACION DE OFERTAS'!F36 -> 0 | G36: =+E36 -> 1.8625895e+09 | H36: =IF(G36>=$F$67,"MAYOR","MENOR") -> MAYOR | I36: =IF(H36="MAYOR",(((59.5*(1-((ABS($F$67-G36))/$F$67))))),(((59.5*(1-((($F$67-G36))/$F$67)))))) -> 59.220146 | J36: =+#REF! -> #REF! | K36: =I36+J36 -> #REF!
B37: =+'VERIFICACION DE OFERTAS'!B37 -> 35 | C37: ='VERIFICACION DE OFERTAS'!C37 -> CONSORCIO MEJORAMIENTO ARSAF | D37: ='VERIFICACION DE OFERTAS'!D37 -> 1.8376335e+09 | F37: RECHAZADO
B38: =+'VERIFICACION DE OFERTAS'!B38 -> 33 | C38: ='VERIFICACION DE OFERTAS'!C38 -> CONSORCIO TURPIAL 2025 | D38: ='VERIFICACION DE OFERTAS'!D38 -> 1.8535522e+09 | E38: ='VERIFICACION DE OFERTAS'!E38 -> 1.8535522e+09 | F38: ='VERIFICACION DE OFERTAS'!F38 -> 0 | G38: =+E38 -> 1.8535522e+09 | H38: =IF(G38>=$F$67,"MAYOR","MENOR") -> MENOR | I38: =IF(H38="MAYOR",(((59.5*(1-((ABS($F$67-G38))/$F$67))))),(((59.5*(1-((($F$67-G38))/$F$67)))))) -> 59.489802 | J38: =+#REF! -> #REF! | K38: =I38+J38 -> #REF!
B39: =+'VERIFICACION DE OFERTAS'!B39 -> 31 | C39: ='VERIFICACION DE OFERTAS'!C39 -> CONSORCIO ADECUACIONES HUILA 04 | D39: ='VERIFICACION DE OFERTAS'!D39 -> 1.8936516e+09 | E39: ='VERIFICACION DE OFERTAS'!E39 -> 1.8936516e+09 | F39: ='VERIFICACION DE OFERTAS'!F39 -> 0 | G39: =+E39 -> 1.8936516e+09 | H39: =IF(G39>=$F$67,"MAYOR","MENOR") -> MAYOR | I39: =IF(H39="MAYOR",(((59.5*(1-((ABS($F$67-G39))/$F$67))))),(((59.5*(1-((($F$67-G39))/$F$67)))))) -> 58.223208 | J39: =+#REF! -> #REF! | K39: =I39+J39 -> #REF!
B40: =+'VERIFICACION DE OFERTAS'!B40 -> 30 | C40: ='VERIFICACION DE OFERTAS'!C40 -> CONSORCIO OPITA 25 | D40: ='VERIFICACION DE OFERTAS'!D40 -> 1.8837952e+09 | F40: ='VERIFICACION DE OFERTAS'!F40 -> RECHAZADO
B41: =+'VERIFICACION DE OFERTAS'!B41 -> 29 | C41: ='VERIFICACION DE OFERTAS'!C41 -> DRV INGENIERIA SAS | D41: ='VERIFICACION DE OFERTAS'!D41 -> 1.811816e+09 | F41: RECHAZADO
B42: =+'VERIFICACION DE OFERTAS'!B42 -> 26 | C42: ='VERIFICACION DE OFERTAS'!C42 -> CONSORCIO DANES-ML INGENIERIA | D42: ='VERIFICACION DE OFERTAS'!D42 -> 1.8665952e+09 | E42: ='VERIFICACION DE OFERTAS'!E42 -> 1.8665952e+09 | F42: ='VERIFICACION DE OFERTAS'!F42 -> 0 | G42: =+E42 -> 1.8665952e+09 | H42: =IF(G42>=$F$67,"MAYOR","MENOR") -> MAYOR | I42: =IF(H42="MAYOR",(((59.5*(1-((ABS($F$67-G42))/$F$67))))),(((59.5*(1-((($F$67-G42))/$F$67)))))) -> 59.091581 | J42: =+#REF! -> #REF! | K42: =I42+J42 -> #REF!
B43: =+'VERIFICACION DE OFERTAS'!B43 -> 25 | C43: ='VERIFICACION DE OFERTAS'!C43 -> INVERSIONES G Y S S.A.S. | D43: ='VERIFICACION DE OFERTAS'!D43 -> 1.888791e+09 | E43: ='VERIFICACION DE OFERTAS'!E43 -> 1.888791e+09 | F43: ='VERIFICACION DE OFERTAS'!F43 -> 0 | G43: =+E43 -> 1.888791e+09 | H43: =IF(G43>=$F$67,"MAYOR","MENOR") -> MAYOR | I43: =IF(H43="MAYOR",(((59.5*(1-((ABS($F$67-G43))/$F$67))))),(((59.5*(1-((($F$67-G43))/$F$67)))))) -> 58.379208 | J43: =+#REF! -> #REF! | K43: =I43+J43 -> #REF!
B44: =+'VERIFICACION DE OFERTAS'!B44 -> 24 | C44: ='VERIFICACION DE OFERTAS'!C44 -> RAELJA INGENIERIA S.A.S | D44: ='VERIFICACION DE OFERTAS'!D44 -> 1.8598421e+09 | E44: ='VERIFICACION DE OFERTAS'!E44 -> 1.8598421e+09 | F44: ='VERIFICACION DE OFERTAS'!F44 -> 0 | G44: =+E44 -> 1.8598421e+09 | H44: =IF(G44>=$F$67,"MAYOR","MENOR") -> MAYOR | I44: =IF(H44="MAYOR",(((59.5*(1-((ABS($F$67-G44))/$F$67))))),(((59.5*(1-((($F$67-G44))/$F$67)))))) -> 59.308322 | J44: =+#REF! -> #REF! | K44: =I44+J44 -> #REF!
B45: =+'VERIFICACION DE OFERTAS'!B45 -> 23 | C45: ='VERIFICACION DE OFERTAS'!C45 -> GMA Construcciones SAS | D45: ='VERIFICACION DE OFERTAS'!D45 -> 1.8605957e+09 | E45: ='VERIFICACION DE OFERTAS'!E45 -> 1.8605957e+09 | F45: ='VERIFICACION DE OFERTAS'!F45 -> 0 | G45: =+E45 -> 1.8605957e+09 | H45: =IF(G45>=$F$67,"MAYOR","MENOR") -> MAYOR | I45: =IF(H45="MAYOR",(((59.5*(1-((ABS($F$67-G45))/$F$67))))),(((59.5*(1-((($F$67-G45))/$F$67)))))) -> 59.284136 | J45: =+#REF! -> #REF! | K45: =I45+J45 -> #REF!
B46: =+'VERIFICACION DE OFERTAS'!B46 -> 22 | C46: ='VERIFICACION DE OFERTAS'!C46 -> CONSORCIO HUILA WR | D46: ='VERIFICACION DE OFERTAS'!D46 -> 1.8408957e+09 | F46: ='VERIFICACION DE OFERTAS'!F46 -> RECHAZADO
B47: =+'VERIFICACION DE OFERTAS'!B47 -> 21 | C47: ='VERIFICACION DE OFERTAS'!C47 -> UNION TEMPORAL OBRAS GTM | D47: ='VERIFICACION DE OFERTAS'!D47 -> 1.8698875e+09 | F47: ='VERIFICACION DE OFERTAS'!F47 -> RECHAZADO
B48: =+'VERIFICACION DE OFERTAS'!B48 -> 20 | C48: ='VERIFICACION DE OFERTAS'!C48 -> INGEVILL S.A.S | D48: ='VERIFICACION DE OFERTAS'!D48 -> 1.8958086e+09 | E48: ='VERIFICACION DE OFERTAS'!E48 -> 1.8958086e+09 | F48: ='VERIFICACION DE OFERTAS'!F48 -> 0 | G48: =+E48 -> 1.8958086e+09 | H48: =IF(G48>=$F$67,"MAYOR","MENOR") -> MAYOR | I48: =IF(H48="MAYOR",(((59.5*(1-((ABS($F$67-G48))/$F$67))))),(((59.5*(1-((($F$67-G48))/$F$67)))))) -> 58.153979 | J48: =+#REF! -> #REF! | K48: =I48+J48 -> #REF!
B49: =+'VERIFICACION DE OFERTAS'!B49 -> 19 | C49: ='VERIFICACION DE OFERTAS'!C49 -> PROCIVING SAS | D49: ='VERIFICACION DE OFERTAS'!D49 -> 1.8669742e+09 | F49: ='VERIFICACION DE OFERTAS'!F49 -> RECHAZADO
B50: =+'VERIFICACION DE OFERTAS'!B50 -> 17 | C50: ='VERIFICACION DE OFERTAS'!C50 -> CONSORCIO NOVA CENTRAL | D50: ='VERIFICACION DE OFERTAS'!D50 -> 1.8523041e+09 | E50: ='VERIFICACION DE OFERTAS'!E50 -> 1.8523041e+09 | F50: ='VERIFICACION DE OFERTAS'!F50 -> 0 | G50: =+E50 -> 1.8523041e+09 | H50: =IF(G50>=$F$67,"MAYOR","MENOR") -> MENOR | I50: =IF(H50="MAYOR",(((59.5*(1-((ABS($F$67-G50))/$F$67))))),(((59.5*(1-((($F$67-G50))/$F$67)))))) -> 59.449745 | J50: =+#REF! -> #REF! | K50: =I50+J50 -> #REF!
B51: =+'VERIFICACION DE OFERTAS'!B51 -> 15 | C51: ='VERIFICACION DE OFERTAS'!C51 -> BRACOL GROUP SAS | D51: ='VERIFICACION DE OFERTAS'!D51 -> 1.8712405e+09 | E51: ='VERIFICACION DE OFERTAS'!E51 -> 1.8712405e+09 | F51: ='VERIFICACION DE OFERTAS'!F51 -> 0 | G51: =+E51 -> 1.8712405e+09 | H51: =IF(G51>=$F$67,"MAYOR","MENOR") -> MAYOR | I51: =IF(H51="MAYOR",(((59.5*(1-((ABS($F$67-G51))/$F$67))))),(((59.5*(1-((($F$67-G51))/$F$67)))))) -> 58.94249 | J51: =+#REF! -> #REF! | K51: =I51+J51 -> #REF!
B52: =+'VERIFICACION DE OFERTAS'!B52 -> 14 | C52: ='VERIFICACION DE OFERTAS'!C52 -> RAR CONSTRUCTORES SAS | D52: ='VERIFICACION DE OFERTAS'!D52 -> 1.8898033e+09 | E52: ='VERIFICACION DE OFERTAS'!E52 -> 1.8898033e+09 | F52: ='VERIFICACION DE OFERTAS'!F52 -> 0 | G52: =+E52 -> 1.8898033e+09 | H52: =IF(G52>=$F$67,"MAYOR","MENOR") -> MAYOR | I52: =IF(H52="MAYOR",(((59.5*(1-((ABS($F$67-G52))/$F$67))))),(((59.5*(1-((($F$67-G52))/$F$67)))))) -> 58.346717 | J52: =+#REF! -> #REF! | K52: =I52+J52 -> #REF!
B53: =+'VERIFICACION DE OFERTAS'!B53 -> 13 | C53: ='VERIFICACION DE OFERTAS'!C53 -> HyD S.A.S. | D53: ='VERIFICACION DE OFERTAS'!D53 -> 1874948880 | F53: ='VERIFICACION DE OFERTAS'!F53 -> RECHAZADO
B54: =+'VERIFICACION DE OFERTAS'!B54 -> 11 | C54: ='VERIFICACION DE OFERTAS'!C54 -> CONSORCIO ADECUACIONES HUILA 2025 | D54: ='VERIFICACION DE OFERTAS'!D54 -> 1.8690798e+09 | E54: ='VERIFICACION DE OFERTAS'!E54 -> 1.8690798e+09 | F54: ='VERIFICACION DE OFERTAS'!F54 -> 0 | G54: =+E54 -> 1.8690798e+09 | H54: =IF(G54>=$F$67,"MAYOR","MENOR") -> MAYOR | I54: =IF(H54="MAYOR",(((59.5*(1-((ABS($F$67-G54))/$F$67))))),(((59.5*(1-((($F$67-G54))/$F$67)))))) -> 59.011841 | J54: =+#REF! -> #REF! | K54: =I54+J54 -> #REF!
B55: =+'VERIFICACION DE OFERTAS'!B55 -> 10 | C55: ='VERIFICACION DE OFERTAS'!C55 -> CONSORCIO ADECUACIONES HUILA 2025 | D55: ='VERIFICACION DE OFERTAS'!D55 -> 1.8897156e+09 | E55: ='VERIFICACION DE OFERTAS'!E55 -> 1.8897156e+09 | F55: ='VERIFICACION DE OFERTAS'!F55 -> 0 | G55: =+E55 -> 1.8897156e+09 | H55: =IF(G55>=$F$67,"MAYOR","MENOR") -> MAYOR | I55: =IF(H55="MAYOR",(((59.5*(1-((ABS($F$67-G55))/$F$67))))),(((59.5*(1-((($F$67-G55))/$F$67)))))) -> 58.349532 | J55: =+#REF! -> #REF! | K55: =I55+J55 -> #REF!
B56: =+'VERIFICACION DE OFERTAS'!B56 -> 9 | C56: ='VERIFICACION DE OFERTAS'!C56 -> CONSORCIO CONSTRUCCIONES INGLAR | D56: ='VERIFICACION DE OFERTAS'!D56 -> 1.8379631e+09 | F56: ='VERIFICACION DE OFERTAS'!F56 -> RECHAZADO
B57: =+'VERIFICACION DE OFERTAS'!B57 -> 8 | C57: ='VERIFICACION DE OFERTAS'!C57 -> CONSORCIO ADECUACIONES GOBERNACIÓN DEL HUILA 2025 | D57: ='VERIFICACION DE OFERTAS'!D57 -> 1.9260745e+09 | E57: ='VERIFICACION DE OFERTAS'!E57 -> 1.9260745e+09 | F57: ='VERIFICACION DE OFERTAS'!F57 -> 0 | G57: =+E57 -> 1.9260745e+09 | H57: =IF(G57>=$F$67,"MAYOR","MENOR") -> MAYOR | I57: =IF(H57="MAYOR",(((59.5*(1-((ABS($F$67-G57))/$F$67))))),(((59.5*(1-((($F$67-G57))/$F$67)))))) -> 57.182592 | J57: =+#REF! -> #REF! | K57: =I57+J57 -> #REF!
B58: =+'VERIFICACION DE OFERTAS'!B58 -> 7 | C58: ='VERIFICACION DE OFERTAS'!C58 -> CONSORCIO INGE-NEIVA 2025 | D58: ='VERIFICACION DE OFERTAS'!D58 -> 1.8644693e+09 | E58: ='VERIFICACION DE OFERTAS'!E58 -> 1.8644693e+09 | F58: ='VERIFICACION DE OFERTAS'!F58 -> 0 | G58: =+E58 -> 1.8644693e+09 | H58: =IF(G58>=$F$67,"MAYOR","MENOR") -> MAYOR | I58: =IF(H58="MAYOR",(((59.5*(1-((ABS($F$67-G58))/$F$67))))),(((59.5*(1-((($F$67-G58))/$F$67)))))) -> 59.159812 | J58: =+#REF! -> #REF! | K58: =I58+J58 -> #REF!
B59: =+'VERIFICACION DE OFERTAS'!B59 -> 6 | C59: ='VERIFICACION DE OFERTAS'!C59 -> CONSORCIO MEJORAMIENTO DT | D59: ='VERIFICACION DE OFERTAS'!D59 -> 1.883055e+09 | E59: ='VERIFICACION DE OFERTAS'!E59 -> 1.883055e+09 | F59: ='VERIFICACION DE OFERTAS'!F59 -> 0 | G59: =+E59 -> 1.883055e+09 | H59: =IF(G59>=$F$67,"MAYOR","MENOR") -> MAYOR | I59: =IF(H59="MAYOR",(((59.5*(1-((ABS($F$67-G59))/$F$67))))),(((59.5*(1-((($F$67-G59))/$F$67)))))) -> 58.563305 | J59: =+#REF! -> #REF! | K59: =I59+J59 -> #REF!
B60: =+'VERIFICACION DE OFERTAS'!B60 -> 5 | C60: ='VERIFICACION DE OFERTAS'!C60 -> CONSORCIO VENTURA | D60: ='VERIFICACION DE OFERTAS'!D60 -> 1.8496609e+09 | E60: ='VERIFICACION DE OFERTAS'!E60 -> 1.8496609e+09 | F60: ='VERIFICACION DE OFERTAS'!F60 -> 0 | G60: =+E60 -> 1.8496609e+09 | H60: =IF(G60>=$F$67,"MAYOR","MENOR") -> MENOR | I60: =IF(H60="MAYOR",(((59.5*(1-((ABS($F$67-G60))/$F$67))))),(((59.5*(1-((($F$67-G60))/$F$67)))))) -> 59.36491 | J60: =+#REF! -> #REF! | K60: =I60+J60 -> #REF!
B61: =+'VERIFICACION DE OFERTAS'!B61 -> 3 | C61: ='VERIFICACION DE OFERTAS'!C61 -> CONSTRUCTORA DARJA SAS | D61: ='VERIFICACION DE OFERTAS'!D61 -> 1.8705124e+09 | E61: ='VERIFICACION DE OFERTAS'!E61 -> 1.8705124e+09 | F61: ='VERIFICACION DE OFERTAS'!F61 -> 0 | G61: =+E61 -> 1.8705124e+09 | H61: =IF(G61>=$F$67,"MAYOR","MENOR") -> MAYOR | I61: =IF(H61="MAYOR",(((59.5*(1-((ABS($F$67-G61))/$F$67))))),(((59.5*(1-((($F$67-G61))/$F$67)))))) -> 58.96586 | J61: =+#REF! -> #REF! | K61: =I61+J61 -> #REF!
B62: =+'VERIFICACION DE OFERTAS'!B62 -> 1 | C62: ='VERIFICACION DE OFERTAS'!C62 -> CONSORCIO LIESTRU | D62: ='VERIFICACION DE OFERTAS'!D62 -> 1.8710434e+09 | E62: ='VERIFICACION DE OFERTAS'!E62 -> 1.8710434e+09 | F62: ='VERIFICACION DE OFERTAS'!F62 -> 0 | G62: =+E62 -> 1.8710434e+09 | H62: =IF(G62>=$F$67,"MAYOR","MENOR") -> MAYOR | I62: =IF(H62="MAYOR",(((59.5*(1-((ABS($F$67-G62))/$F$67))))),(((59.5*(1-((($F$67-G62))/$F$67)))))) -> 58.948816 | J62: =+#REF! -> #REF! | K62: =I62+J62 -> #REF!
E64: MENOR VALOR | F64: =MIN(G3:G62) -> 1.8342918e+09
E65: PROMEDIO SIMPLE | F65: =AVERAGE(G3:G62) -> 1.873448e+09
E67: PROMEDIO ARITMETICO | F67: =((F64+F65)/2) -> 1.8538699e+09

Sheet MAB 1-aceptando 29
B2: PROPUESTA | C2: PROPONENTE | D2: PROPUESTA ECONÓMICA | E2: SECOP | F2: CORRECCIÓN ARITMÉTICA | G2: VALOR PROPUESTA ECONÓMICA | H2: MAYOR O MENOR | I2: PUNTOS | J2: PUNTUACION INICIAL | K2: TOTAL PUNTUACIÓN
B3: =+'VERIFICACION DE OFERTAS'!B3 -> 81 | C3: ='VERIFICACION DE OFERTAS'!C3 -> CONSORCIO EDIFICIO CENTRAL | D3: ='VERIFICACION DE OFERTAS'!D3 -> 1.9215243e+09 | F3: ='VERIFICACION DE OFERTAS'!F3 -> RECHAZADO
B4: =+'VERIFICACION DE OFERTAS'!B4 -> 77 | C4: ='VERIFICACION DE OFERTAS'!C4 -> CONINCAG SAS | D4: ='VERIFICACION DE OFERTAS'!D4 -> 1.8637327e+09 | F4: ='VERIFICACION DE OFERTAS'!F4 -> RECHAZADO
B5: =+'VERIFICACION DE OFERTAS'!B5 -> 74 | C5: ='VERIFICACION DE OFERTAS'!C5 -> CONSORCIO MANASSA 28 | D5: ='VERIFICACION DE OFERTAS'!D5 -> 1.8675064e+09 | E5: ='VERIFICACION DE OFERTAS'!E5 -> 1.8675064e+09 | F5: ='VERIFICACION DE OFERTAS'!F5 -> 0 | G5: =+E5 -> 1.8675064e+09 | H5: =IF(G5>=$F$67,"MAYOR","MENOR") -> MAYOR | I5: =IF(H5="MAYOR",(((59.5*(1-((ABS($F$67-G5))/$F$67))))),(((59.5*(1-((($F$67-G5))/$F$67)))))) -> 58.688232 | J5: =+#REF! -> #REF! | K5: =I5+J5 -> #REF!
B6: =+'VERIFICACION DE OFERTAS'!B6 -> 73 | C6: ='VERIFICACION DE OFERTAS'!C6 -> CONSORCIO SANTANA 2025 | D6: ='VERIFICACION DE OFERTAS'!D6 -> 1.8631888e+09 | E6: ='VERIFICACION DE OFERTAS'!E6 -> 1.8631888e+09 | F6: ='VERIFICACION DE OFERTAS'!F6 -> 0 | G6: =+E6 -> 1.8631888e+09 | H6: =IF(G6>=$F$67,"MAYOR","MENOR") -> MAYOR | I6: =IF(H6="MAYOR",(((59.5*(1-((ABS($F$67-G6))/$F$67))))),(((59.5*(1-((($F$67-G6))/$F$67)))))) -> 58.827671 | J6: =+#REF! -> #REF! | K6: =I6+J6 -> #REF!
B7: =+'VERIFICACION DE OFERTAS'!B7 -> 72 | C7: ='VERIFICACION DE OFERTAS'!C7 -> Fundacion Espeletia | D7: ='VERIFICACION DE OFERTAS'!D7 -> 1.834841e+09 | F7: RECHAZADO
B8: =+'VERIFICACION DE OFERTAS'!B8 -> 71 | C8: ='VERIFICACION DE OFERTAS'!C8 -> Consorcio CONSTRUCTOR CENTRAL | D8: ='VERIFICACION DE OFERTAS'!D8 -> 1.8579391e+09 | E8: ='VERIFICACION DE OFERTAS'!E8 -> 1.8579391e+09 | F8: ='VERIFICACION DE OFERTAS'!F8 -> 0 | G8: =+E8 -> 1.8579391e+09 | H8: =IF(G8>=$F$67,"MAYOR","MENOR") -> MAYOR | I8: =IF(H8="MAYOR",(((59.5*(1-((ABS($F$67-G8))/$F$67))))),(((59.5*(1-((($F$67-G8))/$F$67)))))) -> 58.997211 | J8: =+#REF! -> #REF! | K8: =I8+J8 -> #REF!
B9: =+'VERIFICACION DE OFERTAS'!B9 -> 69 | C9: ='VERIFICACION DE OFERTAS'!C9 -> CONSORCIO INGEGOBER | D9: ='VERIFICACION DE OFERTAS'!D9 -> 1.8651617e+09 | F9: ='VERIFICACION DE OFERTAS'!F9 -> RECHAZADO
B10: =+'VERIFICACION DE OFERTAS'!B10 -> 66 | C10: ='VERIFICACION DE OFERTAS'!C10 -> CONSORCIO ARCUM | D10: ='VERIFICACION DE OFERTAS'!D10 -> 1.8614113e+09 | E10: ='VERIFICACION DE OFERTAS'!E10 -> 1.8614113e+09 | F10: ='VERIFICACION DE OFERTAS'!F10 -> 0 | G10: =+E10 -> 1.8614113e+09 | H10: =IF(G10>=$F$67,"MAYOR","MENOR") -> MAYOR | I10: =IF(H10="MAYOR",(((59.5*(1-((ABS($F$67-G10))/$F$67))))),(((59.5*(1-((($F$67-G10))/$F$67)))))) -> 58.885075 | J10: =+#REF! -> #REF! | K10: =I10+J10 -> #REF!
B11: =+'VERIFICACION DE OFERTAS'!B11 -> 65 | C11: ='VERIFICACION DE OFERTAS'!C11 -> CONSORCIO SANTA RITA | D11: ='VERIFICACION DE OFERTAS'!D11 -> 1.893037e+09 | F11: ='VERIFICACION DE OFERTAS'!F11 -> RECHAZADO
B12: =+'VERIFICACION DE OFERTAS'!B12 -> 64 | C12: ='VERIFICACION DE OFERTAS'!C12 -> CONSORCIO OBRAS GMJ 2025 | D12: ='VERIFICACION DE OFERTAS'!D12 -> 1.8926652e+09 | E12: ='VERIFICACION DE OFERTAS'!E12 -> 1.8926652e+09 | F12: ='VERIFICACION DE OFERTAS'!F12 -> 0 | G12: =+E12 -> 1.8926652e+09 | H12: =IF(G12>=$F$67,"MAYOR","MENOR") -> MAYOR | I12: =IF(H12="MAYOR",(((59.5*(1-((ABS($F$67-G12))/$F$67))))),(((59.5*(1-((($F$67-G12))/$F$67)))))) -> 57.875721 | J12: =+#REF! -> #REF! | K12: =I12+J12 -> #REF!
B13: =+'VERIFICACION DE OFERTAS'!B13 -> 63 | C13: ='VERIFICACION DE OFERTAS'!C13 -> CONSORCIO INACAL NEIVA | D13: ='VERIFICACION DE OFERTAS'!D13 -> 1.8800857e+09 | E13: ='VERIFICACION DE OFERTAS'!E13 -> 1.8800857e+09 | F13: ='VERIFICACION DE OFERTAS'!F13 -> 0 | G13: =+E13 -> 1.8800857e+09 | H13: =IF(G13>=$F$67,"MAYOR","MENOR") -> MAYOR | I13: =IF(H13="MAYOR",(((59.5*(1-((ABS($F$67-G13))/$F$67))))),(((59.5*(1-((($F$67-G13))/$F$67)))))) -> 58.281981 | J13: =+#REF! -> #REF! | K13: =I13+J13 -> #REF!
B14: =+'VERIFICACION DE OFERTAS'!B14 -> 62 | C14: ='VERIFICACION DE OFERTAS'!C14 -> BRACO COMPANY S.A.S ZOMAC | D14: ='VERIFICACION DE OFERTAS'!D14 -> 1.9123188e+09 | E14: ='VERIFICACION DE OFERTAS'!E14 -> 1.9123188e+09 | F14: ='VERIFICACION DE OFERTAS'!F14 -> 0 | G14: =+E14 -> 1.9123188e+09 | H14: =IF(G14>=$F$67,"MAYOR","MENOR") -> MAYOR | I14: =IF(H14="MAYOR",(((59.5*(1-((ABS($F$67-G14))/$F$67))))),(((59.5*(1-((($F$67-G14))/$F$67)))))) -> 57.241002 | J14: =+#REF! -> #REF! | K14: =I14+J14 -> #REF!
B15: =+'VERIFICACION DE OFERTAS'!B15 -> 61 | C15: ='VERIFICACION DE OFERTAS'!C15 -> TELEACCESS LTDA | D15: ='VERIFICACION DE OFERTAS'!D15 -> 1.8873033e+09 | E15: ='VERIFICACION DE OFERTAS'!E15 -> 1.8873033e+09 | F15: ='VERIFICACION DE OFERTAS'!F15 -> 0 | G15: =+E15 -> 1.8873033e+09 | H15: =IF(G15>=$F$67,"MAYOR","MENOR") -> MAYOR | I15: =IF(H15="MAYOR",(((59.5*(1-((ABS($F$67-G15))/$F$67))))),(((59.5*(1-((($F$67-G15))/$F$67)))))) -> 58.048886 | J15: =+#REF! -> #REF! | K15: =I15+J15 -> #REF!
B16: =+'VERIFICACION DE OFERTAS'!B16 -> 60 | C16: ='VERIFICACION DE OFERTAS'!C16 -> 3G INGENERIA AVANZADA SAS | D16: ='VERIFICACION DE OFERTAS'!D16 -> 1.8467217e+09 | E16: ='VERIFICACION DE OFERTAS'!E16 -> 1.8467217e+09 | F16: ='VERIFICACION DE OFERTAS'!F16 -> 0 | G16: =+E16 -> 1.8467217e+09 | H16: =IF(G16>=$F$67,"MAYOR","MENOR") -> MAYOR | I16: =IF(H16="MAYOR",(((59.5*(1-((ABS($F$67-G16))/$F$67))))),(((59.5*(1-((($F$67-G16))/$F$67)))))) -> 59.359483 | J16: =+#REF! -> #REF! | K16: =I16+J16 -> #REF!
B17: =+'VERIFICACION DE OFERTAS'!B17 -> 59 | C17: ='VERIFICACION DE OFERTAS'!C17 -> CONSORCIO HUILA DUOVAL 324 | D17: ='VERIFICACION DE OFERTAS'!D17 -> 1.8540754e+09 | F17: ='VERIFICACION DE OFERTAS'!F17 -> RECHAZADO
B18: =+'VERIFICACION DE OFERTAS'!B18 -> 58 | C18: ='VERIFICACION DE OFERTAS'!C18 -> CONSORCIO GPIng | D18: ='VERIFICACION DE OFERTAS'!D18 -> 1.8371757e+09 | F18: ='VERIFICACION DE OFERTAS'!F18 -> RECHAZADO
B19: =+'VERIFICACION DE OFERTAS'!B19 -> 57 | C19: ='VERIFICACION DE OFERTAS'!C19 -> CONSORCIO SANLORENZO | D19: ='VERIFICACION DE OFERTAS'!D19 -> 1.8704546e+09 | E19: ='VERIFICACION DE OFERTAS'!E19 -> 1.8704546e+09 | F19: ='VERIFICACION DE OFERTAS'!F19 -> 0 | G19: =+E19 -> 1.8704546e+09 | H19: =IF(G19>=$F$67,"MAYOR","MENOR") -> MAYOR | I19: =IF(H19="MAYOR",(((59.5*(1-((ABS($F$67-G19))/$F$67))))),(((59.5*(1-((($F$67-G19))/$F$67)))))) -> 58.593019 | J19: =+#REF! -> #REF! | K19: =I19+J19 -> #REF!
B20: =+'VERIFICACION DE OFERTAS'!B20 -> 54 | C20: ='VERIFICACION DE OFERTAS'!C20 -> CONSORCIO OCIDAN HUILA-13 | D20: ='VERIFICACION DE OFERTAS'!D20 -> 1.8647464e+09 | E20: ='VERIFICACION DE OFERTAS'!E20 -> 1.8647464e+09 | F20: ='VERIFICACION DE OFERTAS'!F20 -> 0 | G20: =+E20 -> 1.8647464e+09 | H20: =IF(G20>=$F$67,"MAYOR","MENOR") -> MAYOR | I20: =IF(H20="MAYOR",(((59.5*(1-((ABS($F$67-G20))/$F$67))))),(((59.5*(1-((($F$67-G20))/$F$67)))))) -> 58.777367 | J20: =+#REF! -> #REF! | K20: =I20+J20 -> #REF!
B21: =+'VERIFICACION DE OFERTAS'!B21 -> 53 | C21: ='VERIFICACION DE OFERTAS'!C21 -> CONSORCIO PROHAL 2025 | D21: ='VERIFICACION DE OFERTAS'!D21 -> 1.8734265e+09 | F21: ='VERIFICACION DE OFERTAS'!F21 -> RECHAZADO
B22: =+'VERIFICACION DE OFERTAS'!B22 -> 52 | C22: ='VERIFICACION DE OFERTAS'!C22 -> ZION CONSTRUCCIONES SAS | D22: ='VERIFICACION DE OFERTAS'!D22 -> 1.8913215e+09 | E22: ='VERIFICACION DE OFERTAS'!E22 -> 1.8913215e+09 | F22: ='VERIFICACION DE OFERTAS'!F22 -> 0 | G22: =+E22 -> 1.8913215e+09 | H22: =IF(G22>=$F$67,"MAYOR","MENOR") -> MAYOR | I22: =IF(H22="MAYOR",(((59.5*(1-((ABS($F$67-G22))/$F$67))))),(((59.5*(1-((($F$67-G22))/$F$67)))))) -> 57.919116 | J22: =+#REF! -> #REF! | K22: =I22+J22 -> #REF!
B23: =+'VERIFICACION DE OFERTAS'!B23 -> 51 | C23: ='VERIFICACION DE OFERTAS'!C23 -> CONSORCIO E&C HUILA | D23: ='VERIFICACION DE OFERTAS'!D23 -> 1.904256e+09 | E23: ='VERIFICACION DE OFERTAS'!E23 -> 1.904256e+09 | F23: ='VERIFICACION DE OFERTAS'!F23 -> 0 | G23: =+E23 -> 1.904256e+09 | H23: =IF(G23>=$F$67,"MAYOR","MENOR") -> MAYOR | I23: =IF(H23="MAYOR",(((59.5*(1-((ABS($F$67-G23))/$F$67))))),(((59.5*(1-((($F$67-G23))/$F$67)))))) -> 57.501392 | J23: =+#REF! -> #REF! | K23: =I23+J23 -> #REF!
B24: =+'VERIFICACION DE OFERTAS'!B24 -> 50 | C24: ='VERIFICACION DE OFERTAS'!C24 -> MONVAL GROUP | D24: ='VERIFICACION DE OFERTAS'!D24 -> 1.8950456e+09 | E24: ='VERIFICACION DE OFERTAS'!E24 -> 1.8950456e+09 | F24: ='VERIFICACION DE OFERTAS'!F24 -> 0 | G24: =+E24 -> 1.8950456e+09 | H24: =IF(G24>=$F$67,"MAYOR","MENOR") -> MAYOR | I24: =IF(H24="MAYOR",(((59.5*(1-((ABS($F$67-G24))/$F$67))))),(((59.5*(1-((($F$67-G24))/$F$67)))))) -> 57.798845 | J24: =+#REF! -> #REF! | K24: =I24+J24 -> #REF!
B25: =+'VERIFICACION DE OFERTAS'!B25 -> 49 | C25: ='VERIFICACION DE OFERTAS'!C25 -> CONSORCIO CASTILLO | D25: ='VERIFICACION DE OFERTAS'!D25 -> 1.8671131e+09 | E25: ='VERIFICACION DE OFERTAS'!E25 -> 1.8671131e+09 | F25: ='VERIFICACION DE OFERTAS'!F25 -> 0 | G25: =+E25 -> 1.8671131e+09 | H25: =IF(G25>=$F$67,"MAYOR","MENOR") -> MAYOR | I25: =IF(H25="MAYOR",(((59.5*(1-((ABS($F$67-G25))/$F$67))))),(((59.5*(1-((($F$67-G25))/$F$67)))))) -> 58.700934 | J25: =+#REF! -> #REF! | K25: =I25+J25 -> #REF!
B26: =+'VERIFICACION DE OFERTAS'!B26 -> 48 | C26: ='VERIFICACION DE OFERTAS'!C26 -> CONSORCIO CENTRAL MIV | D26: ='VERIFICACION DE OFERTAS'!D26 -> 1.8508276e+09 | E26: ='VERIFICACION DE OFERTAS'!E26 -> 1.8508276e+09 | F26: ='VERIFICACION DE OFERTAS'!F26 -> 0 | G26: =+E26 -> 1.8508276e+09 | H26: =IF(G26>=$F$67,"MAYOR","MENOR") -> MAYOR | I26: =IF(H26="MAYOR",(((59.5*(1-((ABS($F$67-G26))/$F$67))))),(((59.5*(1-((($F$67-G26))/$F$67)))))) -> 59.226879 | J26: =+#REF! -> #REF! | K26: =I26+J26 -> #REF!
B27: =+'VERIFICACION DE OFERTAS'!B27 -> 46 | C27: ='VERIFICACION DE OFERTAS'!C27 -> UNION TEMPORAL INNOVA | D27: ='VERIFICACION DE OFERTAS'!D27 -> 1.8827596e+09 | F27: ='VERIFICACION DE OFERTAS'!F27 -> RECHAZADO
B28: =+'VERIFICACION DE OFERTAS'!B28 -> 45 | C28: ='VERIFICACION DE OFERTAS'!C28 -> Adecuaciones jeroca | D28: ='VERIFICACION DE OFERTAS'!D28 -> 1.8670212e+09 | E28: ='VERIFICACION DE OFERTAS'!E28 -> 1.8670212e+09 | F28: ='VERIFICACION DE OFERTAS'!F28 -> 0 | G28: =+E28 -> 1.8670212e+09 | H28: =IF(G28>=$F$67,"MAYOR","MENOR") -> MAYOR | I28: =IF(H28="MAYOR",(((59.5*(1-((ABS($F$67-G28))/$F$67))))),(((59.5*(1-((($F$67-G28))/$F$67)))))) -> 58.703902 | J28: =+#REF! -> #REF! | K28: =I28+J28 -> #REF!
B29: =+'VERIFICACION DE OFERTAS'!B29 -> 44 | C29: ='VERIFICACION DE OFERTAS'!C29 -> CONSORCIO HUILA 2025 | D29: ='VERIFICACION DE OFERTAS'!D29 -> 1.8651492e+09 | E29: ='VERIFICACION DE OFERTAS'!E29 -> 1.8651492e+09 | F29: ='VERIFICACION DE OFERTAS'!F29 -> 0 | G29: =+E29 -> 1.8651492e+09 | H29: =IF(G29>=$F$67,"MAYOR","MENOR") -> MAYOR | I29: =IF(H29="MAYOR",(((59.5*(1-((ABS($F$67-G29))/$F$67))))),(((59.5*(1-((($F$67-G29))/$F$67)))))) -> 58.764358 | J29: =+#REF! -> #REF! | K29: =I29+J29 -> #REF!
B30: =+'VERIFICACION DE OFERTAS'!B30 -> 43 | C30: ='VERIFICACION DE OFERTAS'!C30 -> INGENIERIA RH | D30: ='VERIFICACION DE OFERTAS'!D30 -> 1.8828356e+09 | E30: ='VERIFICACION DE OFERTAS'!E30 -> 1.8828356e+09 | F30: ='VERIFICACION DE OFERTAS'!F30 -> 0 | G30: =+E30 -> 1.8828356e+09 | H30: =IF(G30>=$F$67,"MAYOR","MENOR") -> MAYOR | I30: =IF(H30="MAYOR",(((59.5*(1-((ABS($F$67-G30))/$F$67))))),(((59.5*(1-((($F$67-G30))/$F$67)))))) -> 58.193171 | J30: =+#REF! -> #REF! | K30: =I30+J30 -> #REF!
B31: =+'VERIFICACION DE OFERTAS'!B31 -> 42 | C31: ='VERIFICACION DE OFERTAS'!C31 -> CONSORCIO CE OBRAS HUILA | D31: ='VERIFICACION DE OFERTAS'!D31 -> 1.8342918e+09 | F31: RECHAZADO
B32: =+'VERIFICACION DE OFERTAS'!B32 -> 41 | C32: ='VERIFICACION DE OFERTAS'!C32 -> CONSORCIO HUILA 2D | D32: ='VERIFICACION DE OFERTAS'!D32 -> 1.8733439e+09 | E32: ='VERIFICACION DE OFERTAS'!E32 -> 1.8733439e+09 | F32: ='VERIFICACION DE OFERTAS'!F32 -> 0 | G32: =+E32 -> 1.8733439e+09 | H32: =IF(G32>=$F$67,"MAYOR","MENOR") -> MAYOR | I32: =IF(H32="MAYOR",(((59.5*(1-((ABS($F$67-G32))/$F$67))))),(((59.5*(1-((($F$67-G32))/$F$67)))))) -> 58.49971 | J32: =+#REF! -> #REF! | K32: =I32+J32 -> #REF!
B33: =+'VERIFICACION DE OFERTAS'!B33 -> 39 | C33: ='VERIFICACION DE OFERTAS'!C33 -> CONSORCIO MEGAHUILA | D33: ='VERIFICACION DE OFERTAS'!D33 -> 1.8603139e+09 | E33: ='VERIFICACION DE OFERTAS'!E33 -> 1.8603139e+09 | F33: ='VERIFICACION DE OFERTAS'!F33 -> 0 | G33: =+E33 -> 1.8603139e+09 | H33: =IF(G33>=$F$67,"MAYOR","MENOR") -> MAYOR | I33: =IF(H33="MAYOR",(((59.5*(1-((ABS($F$67-G33))/$F$67))))),(((59.5*(1-((($F$67-G33))/$F$67)))))) -> 58.920517 | J33: =+#REF! -> #REF! | K33: =I33+J33 -> #REF!
B34: =+'VERIFICACION DE OFERTAS'!B34 -> 38 | C34: ='VERIFICACION DE OFERTAS'!C34 -> CONSORCIO OBRAS BIENES | D34: ='VERIFICACION DE OFERTAS'!D34 -> 1.8540051e+09 | E34: ='VERIFICACION DE OFERTAS'!E34 -> 1.8540051e+09 | F34: ='VERIFICACION DE OFERTAS'!F34 -> 0 | G34: =+E34 -> 1.8540051e+09 | H34: =IF(G34>=$F$67,"MAYOR","MENOR") -> MAYOR | I34: =IF(H34="MAYOR",(((59.5*(1-((ABS($F$67-G34))/$F$67))))),(((59.5*(1-((($F$67-G34))/$F$67)))))) -> 59.124261 | J34: =+#REF! -> #REF! | K34: =I34+J34 -> #REF!
B35: =+'VERIFICACION DE OFERTAS'!B35 -> 37 | C35: ='VERIFICACION DE OFERTAS'!C35 -> CONSORCIO CENTRAL V&V | D35: ='VERIFICACION DE OFERTAS'!D35 -> 1.890015e+09 | E35: ='VERIFICACION DE OFERTAS'!E35 -> 1.890015e+09 | F35: ='VERIFICACION DE OFERTAS'!F35 -> 0 | G35: =+E35 -> 1.890015e+09 | H35: =IF(G35>=$F$67,"MAYOR","MENOR") -> MAYOR | I35: =IF(H35="MAYOR",(((59.5*(1-((ABS($F$67-G35))/$F$67))))),(((59.5*(1-((($F$67-G35))/$F$67)))))) -> 57.961311 | J35: =+#REF! -> #REF! | K35: =I35+J35 -> #REF!
B36: =+'VERIFICACION DE OFERTAS'!B36 -> 36 | C36: ='VERIFICACION DE OFERTAS'!C36 -> CONSORCIO ADECUACIONES 2CP | D36: ='VERIFICACION DE OFERTAS'!D36 -> 1.8625895e+09 | E36: ='VERIFICACION DE OFERTAS'!E36 -> 1.8625895e+09 | F36: ='VERIFICACION DE OFERTAS'!F36 -> 0 | G36: =+E36 -> 1.8625895e+09 | H36: =IF(G36>=$F$67,"MAYOR","MENOR") -> MAYOR | I36: =IF(H36="MAYOR",(((59.5*(1-((ABS($F$67-G36))/$F$67))))),(((59.5*(1-((($F$67-G36))/$F$67)))))) -> 58.847026 | J36: =+#REF! -> #REF! | K36: =I36+J36 -> #REF!
B37: =+'VERIFICACION DE OFERTAS'!B37 -> 35 | C37: ='VERIFICACION DE OFERTAS'!C37 -> CONSORCIO MEJORAMIENTO ARSAF | D37: ='VERIFICACION DE OFERTAS'!D37 -> 1.8376335e+09 | F37: RECHAZADO
B38: =+'VERIFICACION DE OFERTAS'!B38 -> 33 | C38: ='VERIFICACION DE OFERTAS'!C38 -> CONSORCIO TURPIAL 2025 | D38: ='VERIFICACION DE OFERTAS'!D38 -> 1.8535522e+09 | E38: ='VERIFICACION DE OFERTAS'!E38 -> 1.8535522e+09 | F38: ='VERIFICACION DE OFERTAS'!F38 -> 0 | G38: =+E38 -> 1.8535522e+09 | H38: =IF(G38>=$F$67,"MAYOR","MENOR") -> MAYOR | I38: =IF(H38="MAYOR",(((59.5*(1-((ABS($F$67-G38))/$F$67))))),(((59.5*(1-((($F$67-G38))/$F$67)))))) -> 59.138889 | J38: =+#REF! -> #REF! | K38: =I38+J38 -> #REF!
B39: =+'VERIFICACION DE OFERTAS'!B39 -> 31 | C39: ='VERIFICACION DE OFERTAS'!C39 -> CONSORCIO ADECUACIONES HUILA 04 | D39: ='VERIFICACION DE OFERTAS'!D39 -> 1.8936516e+09 | E39: ='VERIFICACION DE OFERTAS'!E39 -> 1.8936516e+09 | F39: ='VERIFICACION DE OFERTAS'!F39 -> 0 | G39: =+E39 -> 1.8936516e+09 | H39: =IF(G39>=$F$67,"MAYOR","MENOR") -> MAYOR | I39: =IF(H39="MAYOR",(((59.5*(1-((ABS($F$67-G39))/$F$67))))),(((59.5*(1-((($F$67-G39))/$F$67)))))) -> 57.843866 | J39: =+#REF! -> #REF! | K39: =I39+J39 -> #REF!
B40: =+'VERIFICACION DE OFERTAS'!B40 -> 30 | C40: ='VERIFICACION DE OFERTAS'!C40 -> CONSORCIO OPITA 25 | D40: ='VERIFICACION DE OFERTAS'!D40 -> 1.8837952e+09 | F40: ='VERIFICACION DE OFERTAS'!F40 -> RECHAZADO
B41: =+'VERIFICACION DE OFERTAS'!B41 -> 29 | C41: ='VERIFICACION DE OFERTAS'!C41 -> DRV INGENIERIA SAS | D41: ='VERIFICACION DE OFERTAS'!D41 -> 1.811816e+09 | E41: ='VERIFICACION DE OFERTAS'!E41 -> 1.811816e+09 | F41: ='VERIFICACION DE OFERTAS'!F41 -> 0 | G41: =+E41 -> 1.811816e+09 | H41: =IF(G41>=$F$67,"MAYOR","MENOR") -> MENOR | I41: =IF(H41="MAYOR",(((59.5*(1-((ABS($F$67-G41))/$F$67))))),(((59.5*(1-((($F$67-G41))/$F$67)))))) -> 58.513226 | J41: =+#REF! -> #REF! | K41: =I41+J41 -> #REF!
B42: =+'VERIFICACION DE OFERTAS'!B42 -> 26 | C42: ='VERIFICACION DE OFERTAS'!C42 -> CONSORCIO DANES-ML INGENIERIA | D42: ='VERIFICACION DE OFERTAS'!D42 -> 1.8665952e+09 | E42: ='VERIFICACION DE OFERTAS'!E42 -> 1.8665952e+09 | F42: ='VERIFICACION DE OFERTAS'!F42 -> 0 | G42: =+E42 -> 1.8665952e+09 | H42: =IF(G42>=$F$67,"MAYOR","MENOR") -> MAYOR | I42: =IF(H42="MAYOR",(((59.5*(1-((ABS($F$67-G42))/$F$67))))),(((59.5*(1-((($F$67-G42))/$F$67)))))) -> 58.717659 | J42: =+#REF! -> #REF! | K42: =I42+J42 -> #REF!
B43: =+'VERIFICACION DE OFERTAS'!B43 -> 25 | C43: ='VERIFICACION DE OFERTAS'!C43 -> INVERSIONES G Y S S.A.S. | D43: ='VERIFICACION DE OFERTAS'!D43 -> 1.888791e+09 | E43: ='VERIFICACION DE OFERTAS'!E43 -> 1.888791e+09 | F43: ='VERIFICACION DE OFERTAS'!F43 -> 0 | G43: =+E43 -> 1.888791e+09 | H43: =IF(G43>=$F$67,"MAYOR","MENOR") -> MAYOR | I43: =IF(H43="MAYOR",(((59.5*(1-((ABS($F$67-G43))/$F$67))))),(((59.5*(1-((($F$67-G43))/$F$67)))))) -> 58.00084 | J43: =+#REF! -> #REF! | K43: =I43+J43 -> #REF!
B44: =+'VERIFICACION DE OFERTAS'!B44 -> 24 | C44: ='VERIFICACION DE OFERTAS'!C44 -> RAELJA INGENIERIA S.A.S | D44: ='VERIFICACION DE OFERTAS'!D44 -> 1.8598421e+09 | E44: ='VERIFICACION DE OFERTAS'!E44 -> 1.8598421e+09 | F44: ='VERIFICACION DE OFERTAS'!F44 -> 0 | G44: =+E44 -> 1.8598421e+09 | H44: =IF(G44>=$F$67,"MAYOR","MENOR") -> MAYOR | I44: =IF(H44="MAYOR",(((59.5*(1-((ABS($F$67-G44))/$F$67))))),(((59.5*(1-((($F$67-G44))/$F$67)))))) -> 58.935753 | J44: =+#REF! -> #REF! | K44: =I44+J44 -> #REF!
B45: =+'VERIFICACION DE OFERTAS'!B45 -> 23 | C45: ='VERIFICACION DE OFERTAS'!C45 -> GMA Construcciones SAS | D45: ='VERIFICACION DE OFERTAS'!D45 -> 1.8605957e+09 | E45: ='VERIFICACION DE OFERTAS'!E45 -> 1.8605957e+09 | F45: ='VERIFICACION DE OFERTAS'!F45 -> 0 | G45: =+E45 -> 1.8605957e+09 | H45: =IF(G45>=$F$67,"MAYOR","MENOR") -> MAYOR | I45: =IF(H45="MAYOR",(((59.5*(1-((ABS($F$67-G45))/$F$67))))),(((59.5*(1-((($F$67-G45))/$F$67)))))) -> 58.911415 | J45: =+#REF! -> #REF! | K45: =I45+J45 -> #REF!
B46: =+'VERIFICACION DE OFERTAS'!B46 -> 22 | C46: ='VERIFICACION DE OFERTAS'!C46 -> CONSORCIO HUILA WR | D46: ='VERIFICACION DE OFERTAS'!D46 -> 1.8408957e+09 | F46: ='VERIFICACION DE OFERTAS'!F46 -> RECHAZADO
B47: =+'VERIFICACION DE OFERTAS'!B47 -> 21 | C47: ='VERIFICACION DE OFERTAS'!C47 -> UNION TEMPORAL OBRAS GTM | D47: ='VERIFICACION DE OFERTAS'!D47 -> 1.8698875e+09 | F47: ='VERIFICACION DE OFERTAS'!F47 -> RECHAZADO
B48: =+'VERIFICACION DE OFERTAS'!B48 -> 20 | C48: ='VERIFICACION DE OFERTAS'!C48 -> INGEVILL S.A.S | D48: ='VERIFICACION DE OFERTAS'!D48 -> 1.8958086e+09 | E48: ='VERIFICACION DE OFERTAS'!E48 -> 1.8958086e+09 | F48: ='VERIFICACION DE OFERTAS'!F48 -> 0 | G48: =+E48 -> 1.8958086e+09 | H48: =IF(G48>=$F$67,"MAYOR","MENOR") -> MAYOR | I48: =IF(H48="MAYOR",(((59.5*(1-((ABS($F$67-G48))/$F$67))))),(((59.5*(1-((($F$67-G48))/$F$67)))))) -> 57.774205 | J48: =+#REF! -> #REF! | K48: =I48+J48 -> #REF!
B49: =+'VERIFICACION DE OFERTAS'!B49 -> 19 | C49: ='VERIFICACION DE OFERTAS'!C49 -> PROCIVING SAS | D49: ='VERIFICACION DE OFERTAS'!D49 -> 1.8669742e+09 | F49: ='VERIFICACION DE OFERTAS'!F49 -> RECHAZADO
B50: =+'VERIFICACION DE OFERTAS'!B50 -> 17 | C50: ='VERIFICACION DE OFERTAS'!C50 -> CONSORCIO NOVA CENTRAL | D50: ='VERIFICACION DE OFERTAS'!D50 -> 1.8523041e+09 | E50: ='VERIFICACION DE OFERTAS'!E50 -> 1.8523041e+09 | F50: ='VERIFICACION DE OFERTAS'!F50 -> 0 | G50: =+E50 -> 1.8523041e+09 | H50: =IF(G50>=$F$67,"MAYOR","MENOR") -> MAYOR | I50: =IF(H50="MAYOR",(((59.5*(1-((ABS($F$67-G50))/$F$67))))),(((59.5*(1-((($F$67-G50))/$F$67)))))) -> 59.179196 | J50: =+#REF! -> #REF! | K50: =I50+J50 -> #REF!
B51: =+'VERIFICACION DE OFERTAS'!B51 -> 15 | C51: ='VERIFICACION DE OFERTAS'!C51 -> BRACOL GROUP SAS | D51: ='VERIFICACION DE OFERTAS'!D51 -> 1.8712405e+09 | E51: ='VERIFICACION DE OFERTAS'!E51 -> 1.8712405e+09 | F51: ='VERIFICACION DE OFERTAS'!F51 -> 0 | G51: =+E51 -> 1.8712405e+09 | H51: =IF(G51>=$F$67,"MAYOR","MENOR") -> MAYOR | I51: =IF(H51="MAYOR",(((59.5*(1-((ABS($F$67-G51))/$F$67))))),(((59.5*(1-((($F$67-G51))/$F$67)))))) -> 58.567638 | J51: =+#REF! -> #REF! | K51: =I51+J51 -> #REF!
B52: =+'VERIFICACION DE OFERTAS'!B52 -> 14 | C52: ='VERIFICACION DE OFERTAS'!C52 -> RAR CONSTRUCTORES SAS | D52: ='VERIFICACION DE OFERTAS'!D52 -> 1.8898033e+09 | E52: ='VERIFICACION DE OFERTAS'!E52 -> 1.8898033e+09 | F52: ='VERIFICACION DE OFERTAS'!F52 -> 0 | G52: =+E52 -> 1.8898033e+09 | H52: =IF(G52>=$F$67,"MAYOR","MENOR") -> MAYOR | I52: =IF(H52="MAYOR",(((59.5*(1-((ABS($F$67-G52))/$F$67))))),(((59.5*(1-((($F$67-G52))/$F$67)))))) -> 57.968146 | J52: =+#REF! -> #REF! | K52: =I52+J52 -> #REF!
B53: =+'VERIFICACION DE OFERTAS'!B53 -> 13 | C53: ='VERIFICACION DE OFERTAS'!C53 -> HyD S.A.S. | D53: ='VERIFICACION DE OFERTAS'!D53 -> 1874948880 | F53: ='VERIFICACION DE OFERTAS'!F53 -> RECHAZADO
B54: =+'VERIFICACION DE OFERTAS'!B54 -> 11 | C54: ='VERIFICACION DE OFERTAS'!C54 -> CONSORCIO ADECUACIONES HUILA 2025 | D54: ='VERIFICACION DE OFERTAS'!D54 -> 1.8690798e+09 | E54: ='VERIFICACION DE OFERTAS'!E54 -> 1.8690798e+09 | F54: ='VERIFICACION DE OFERTAS'!F54 -> 0 | G54: =+E54 -> 1.8690798e+09 | H54: =IF(G54>=$F$67,"MAYOR","MENOR") -> MAYOR | I54: =IF(H54="MAYOR",(((59.5*(1-((ABS($F$67-G54))/$F$67))))),(((59.5*(1-((($F$67-G54))/$F$67)))))) -> 58.637421 | J54: =+#REF! -> #REF! | K54: =I54+J54 -> #REF!
B55: =+'VERIFICACION DE OFERTAS'!B55 -> 10 | C55: ='VERIFICACION DE OFERTAS'!C55 -> CONSORCIO ADECUACIONES HUILA 2025 | D55: ='VERIFICACION DE OFERTAS'!D55 -> 1.8897156e+09 | E55: ='VERIFICACION DE OFERTAS'!E55 -> 1.8897156e+09 | F55: ='VERIFICACION DE OFERTAS'!F55 -> 0 | G55: =+E55 -> 1.8897156e+09 | H55: =IF(G55>=$F$67,"MAYOR","MENOR") -> MAYOR | I55: =IF(H55="MAYOR",(((59.5*(1-((ABS($F$67-G55))/$F$67))))),(((59.5*(1-((($F$67-G55))/$F$67)))))) -> 57.970979 | J55: =+#REF! -> #REF! | K55: =I55+J55 -> #REF!
B56: =+'VERIFICACION DE OFERTAS'!B56 -> 9 | C56: ='VERIFICACION DE OFERTAS'!C56 -> CONSORCIO CONSTRUCCIONES INGLAR | D56: ='VERIFICACION DE OFERTAS'!D56 -> 1.8379631e+09 | F56: ='VERIFICACION DE OFERTAS'!F56 -> RECHAZADO
B57: =+'VERIFICACION DE OFERTAS'!B57 -> 8 | C57: ='VERIFICACION DE OFERTAS'!C57 -> CONSORCIO ADECUACIONES GOBERNACIÓN DEL HUILA 2025 | D57: ='VERIFICACION DE OFERTAS'!D57 -> 1.9260745e+09 | E57: ='VERIFICACION DE OFERTAS'!E57 -> 1.9260745e+09 | F57: ='VERIFICACION DE OFERTAS'!F57 -> 0 | G57: =+E57 -> 1.9260745e+09 | H57: =IF(G57>=$F$67,"MAYOR","MENOR") -> MAYOR | I57: =IF(H57="MAYOR",(((59.5*(1-((ABS($F$67-G57))/$F$67))))),(((59.5*(1-((($F$67-G57))/$F$67)))))) -> 56.796755 | J57: =+#REF! -> #REF! | K57: =I57+J57 -> #REF!
B58: =+'VERIFICACION DE OFERTAS'!B58 -> 7 | C58: ='VERIFICACION DE OFERTAS'!C58 -> CONSORCIO INGE-NEIVA 2025 | D58: ='VERIFICACION DE OFERTAS'!D58 -> 1.8644693e+09 | E58: ='VERIFICACION DE OFERTAS'!E58 -> 1.8644693e+09 | F58: ='VERIFICACION DE OFERTAS'!F58 -> 0 | G58: =+E58 -> 1.8644693e+09 | H58: =IF(G58>=$F$67,"MAYOR","MENOR") -> MAYOR | I58: =IF(H58="MAYOR",(((59.5*(1-((ABS($F$67-G58))/$F$67))))),(((59.5*(1-((($F$67-G58))/$F$67)))))) -> 58.786316 | J58: =+#REF! -> #REF! | K58: =I58+J58 -> #REF!
B59: =+'VERIFICACION DE OFERTAS'!B59 -> 6 | C59: ='VERIFICACION DE OFERTAS'!C59 -> CONSORCIO MEJORAMIENTO DT | D59: ='VERIFICACION DE OFERTAS'!D59 -> 1.883055e+09 | E59: ='VERIFICACION DE OFERTAS'!E59 -> 1.883055e+09 | F59: ='VERIFICACION DE OFERTAS'!F59 -> 0 | G59: =+E59 -> 1.883055e+09 | H59: =IF(G59>=$F$67,"MAYOR","MENOR") -> MAYOR | I59: =IF(H59="MAYOR",(((59.5*(1-((ABS($F$67-G59))/$F$67))))),(((59.5*(1-((($F$67-G59))/$F$67)))))) -> 58.186085 | J59: =+#REF! -> #REF! | K59: =I59+J59 -> #REF!
B60: =+'VERIFICACION DE OFERTAS'!B60 -> 5 | C60: ='VERIFICACION DE OFERTAS'!C60 -> CONSORCIO VENTURA | D60: ='VERIFICACION DE OFERTAS'!D60 -> 1.8496609e+09 | E60: ='VERIFICACION DE OFERTAS'!E60 -> 1.8496609e+09 | F60: ='VERIFICACION DE OFERTAS'!F60 -> 0 | G60: =+E60 -> 1.8496609e+09 | H60: =IF(G60>=$F$67,"MAYOR","MENOR") -> MAYOR | I60: =IF(H60="MAYOR",(((59.5*(1-((ABS($F$67-G60))/$F$67))))),(((59.5*(1-((($F$67-G60))/$F$67)))))) -> 59.26456 | J60: =+#REF! -> #REF! | K60: =I60+J60 -> #REF!
B61: =+'VERIFICACION DE OFERTAS'!B61 -> 3 | C61: ='VERIFICACION DE OFERTAS'!C61 -> CONSTRUCTORA DARJA SAS | D61: ='VERIFICACION DE OFERTAS'!D61 -> 1.8705124e+09 | E61: ='VERIFICACION DE OFERTAS'!E61 -> 1.8705124e+09 | F61: ='VERIFICACION DE OFERTAS'!F61 -> 0 | G61: =+E61 -> 1.8705124e+09 | H61: =IF(G61>=$F$67,"MAYOR","MENOR") -> MAYOR | I61: =IF(H61="MAYOR",(((59.5*(1-((ABS($F$67-G61))/$F$67))))),(((59.5*(1-((($F$67-G61))/$F$67)))))) -> 58.591154 | J61: =+#REF! -> #REF! | K61: =I61+J61 -> #REF!
B62: =+'VERIFICACION DE OFERTAS'!B62 -> 1 | C62: ='VERIFICACION DE OFERTAS'!C62 -> CONSORCIO LIESTRU | D62: ='VERIFICACION DE OFERTAS'!D62 -> 1.8710434e+09 | E62: ='VERIFICACION DE OFERTAS'!E62 -> 1.8710434e+09 | F62: ='VERIFICACION DE OFERTAS'!F62 -> 0 | G62: =+E62 -> 1.8710434e+09 | H62: =IF(G62>=$F$67,"MAYOR","MENOR") -> MAYOR | I62: =IF(H62="MAYOR",(((59.5*(1-((ABS($F$67-G62))/$F$67))))),(((59.5*(1-((($F$67-G62))/$F$67)))))) -> 58.574003 | J62: =+#REF! -> #REF! | K62: =I62+J62 -> #REF!
E64: MENOR VALOR | F64: =MIN(G3:G62) -> 1.811816e+09
E65: PROMEDIO SIMPLE | F65: =AVERAGE(G3:G62) -> 1.8729253e+09
E67: PROMEDIO ARITMETICO | F67: =((F64+F65)/2) -> 1.8423707e+09

Sheet MAB 3-aceptando 72-42
B2: PROPUESTA | C2: PROPONENTE | D2: PROPUESTA ECONÓMICA | E2: SECOP | F2: CORRECCIÓN ARITMÉTICA | G2: VALOR PROPUESTA ECONÓMICA | H2: MAYOR O MENOR | I2: PUNTOS | J2: PUNTUACION INICIAL | K2: TOTAL PUNTUACIÓN
B3: =+'VERIFICACION DE OFERTAS'!B3 -> 81 | C3: ='VERIFICACION DE OFERTAS'!C3 -> CONSORCIO EDIFICIO CENTRAL | D3: ='VERIFICACION DE OFERTAS'!D3 -> 1.9215243e+09 | F3: ='VERIFICACION DE OFERTAS'!F3 -> RECHAZADO
B4: =+'VERIFICACION DE OFERTAS'!B4 -> 77 | C4: ='VERIFICACION DE OFERTAS'!C4 -> CONINCAG SAS | D4: ='VERIFICACION DE OFERTAS'!D4 -> 1.8637327e+09 | F4: ='VERIFICACION DE OFERTAS'!F4 -> RECHAZADO
B5: =+'VERIFICACION DE OFERTAS'!B5 -> 74 | C5: ='VERIFICACION DE OFERTAS'!C5 -> CONSORCIO MANASSA 28 | D5: ='VERIFICACION DE OFERTAS'!D5 -> 1.8675064e+09 | E5: ='VERIFICACION DE OFERTAS'!E5 -> 1.8675064e+09 | F5: ='VERIFICACION DE OFERTAS'!F5 -> 0 | G5: =+E5 -> 1.8675064e+09 | H5: =IF(G5>=$F$67,"MAYOR","MENOR") -> MAYOR | I5: =IF(H5="MAYOR",(((59.5*(1-((ABS($F$67-G5))/$F$67))))),(((59.5*(1-((($F$67-G5))/$F$67)))))) -> 59.048149 | J5: =+#REF! -> #REF! | K5: =I5+J5 -> #REF!
B6: =+'VERIFICACION DE OFERTAS'!B6 -> 73 | C6: ='VERIFICACION DE OFERTAS'!C6 -> CONSORCIO SANTANA 2025 | D6: ='VERIFICACION DE OFERTAS'!D6 -> 1.8631888e+09 | E6: ='VERIFICACION DE OFERTAS'!E6 -> 1.8631888e+09 | F6: ='VERIFICACION DE OFERTAS'!F6 -> 0 | G6: =+E6 -> 1.8631888e+09 | H6: =IF(G6>=$F$67,"MAYOR","MENOR") -> MAYOR | I6: =IF(H6="MAYOR",(((59.5*(1-((ABS($F$67-G6))/$F$67))))),(((59.5*(1-((($F$67-G6))/$F$67)))))) -> 59.186756 | J6: =+#REF! -> #REF! | K6: =I6+J6 -> #REF!
B7: =+'VERIFICACION DE OFERTAS'!B7 -> 72 | C7: ='VERIFICACION DE OFERTAS'!C7 -> Fundacion Espeletia | D7: ='VERIFICACION DE OFERTAS'!D7 -> 1.834841e+09 | E7: ='VERIFICACION DE OFERTAS'!E7 -> 1.834841e+09 | F7: ='VERIFICACION DE OFERTAS'!F7 -> 0 | G7: =+E7 -> 1.834841e+09 | H7: =IF(G7>=$F$67,"MAYOR","MENOR") -> MENOR | I7: =IF(H7="MAYOR",(((59.5*(1-((ABS($F$67-G7))/$F$67))))),(((59.5*(1-((($F$67-G7))/$F$67)))))) -> 58.903204 | J7: =+#REF! -> #REF! | K7: =I7+J7 -> #REF!
B8: =+'VERIFICACION DE OFERTAS'!B8 -> 71 | C8: ='VERIFICACION DE OFERTAS'!C8 -> Consorcio CONSTRUCTOR CENTRAL | D8: ='VERIFICACION DE OFERTAS'!D8 -> 1.8579391e+09 | E8: ='VERIFICACION DE OFERTAS'!E8 -> 1.8579391e+09 | F8: ='VERIFICACION DE OFERTAS'!F8 -> 0 | G8: =+E8 -> 1.8579391e+09 | H8: =IF(G8>=$F$67,"MAYOR","MENOR") -> MAYOR | I8: =IF(H8="MAYOR",(((59.5*(1-((ABS($F$67-G8))/$F$67))))),(((59.5*(1-((($F$67-G8))/$F$67)))))) -> 59.355284 | J8: =+#REF! -> #REF! | K8: =I8+J8 -> #REF!
B9: =+'VERIFICACION DE OFERTAS'!B9 -> 69 | C9: ='VERIFICACION DE OFERTAS'!C9 -> CONSORCIO INGEGOBER | D9: ='VERIFICACION DE OFERTAS'!D9 -> 1.8651617e+09 | F9: ='VERIFICACION DE OFERTAS'!F9 -> RECHAZADO
B10: =+'VERIFICACION DE OFERTAS'!B10 -> 66 | C10: ='VERIFICACION DE OFERTAS'!C10 -> CONSORCIO ARCUM | D10: ='VERIFICACION DE OFERTAS'!D10 -> 1.8614113e+09 | E10: ='VERIFICACION DE OFERTAS'!E10 -> 1.8614113e+09 | F10: ='VERIFICACION DE OFERTAS'!F10 -> 0 | G10: =+E10 -> 1.8614113e+09 | H10: =IF(G10>=$F$67,"MAYOR","MENOR") -> MAYOR | I10: =IF(H10="MAYOR",(((59.5*(1-((ABS($F$67-G10))/$F$67))))),(((59.5*(1-((($F$67-G10))/$F$67)))))) -> 59.243817 | J10: =+#REF! -> #REF! | K10: =I10+J10 -> #REF!
B11: =+'VERIFICACION DE OFERTAS'!B11 -> 65 | C11: ='VERIFICACION DE OFERTAS'!C11 -> CONSORCIO SANTA RITA | D11: ='VERIFICACION DE OFERTAS'!D11 -> 1.893037e+09 | F11: ='VERIFICACION DE OFERTAS'!F11 -> RECHAZADO
B12: =+'VERIFICACION DE OFERTAS'!B12 -> 64 | C12: ='VERIFICACION DE OFERTAS'!C12 -> CONSORCIO OBRAS GMJ 2025 | D12: ='VERIFICACION DE OFERTAS'!D12 -> 1.8926652e+09 | E12: ='VERIFICACION DE OFERTAS'!E12 -> 1.8926652e+09 | F12: ='VERIFICACION DE OFERTAS'!F12 -> 0 | G12: =+E12 -> 1.8926652e+09 | H12: =IF(G12>=$F$67,"MAYOR","MENOR") -> MAYOR | I12: =IF(H12="MAYOR",(((59.5*(1-((ABS($F$67-G12))/$F$67))))),(((59.5*(1-((($F$67-G12))/$F$67)))))) -> 58.240487 | J12: =+#REF! -> #REF! | K12: =I12+J12 -> #REF!
B13: =+'VERIFICACION DE OFERTAS'!B13 -> 63 | C13: ='VERIFICACION DE OFERTAS'!C13 -> CONSORCIO INACAL NEIVA | D13: ='VERIFICACION DE OFERTAS'!D13 -> 1.8800857e+09 | E13: ='VERIFICACION DE OFERTAS'!E13 -> 1.8800857e+09 | F13: ='VERIFICACION DE OFERTAS'!F13 -> 0 | G13: =+E13 -> 1.8800857e+09 | H13: =IF(G13>=$F$67,"MAYOR","MENOR") -> MAYOR | I13: =IF(H13="MAYOR",(((59.5*(1-((ABS($F$67-G13))/$F$67))))),(((59.5*(1-((($F$67-G13))/$F$67)))))) -> 58.644323 | J13: =+#REF! -> #REF! | K13: =I13+J13 -> #REF!
B14: =+'VERIFICACION DE OFERTAS'!B14 -> 62 | C14: ='VERIFICACION DE OFERTAS'!C14 -> BRACO COMPANY S.A.S ZOMAC | D14: ='VERIFICACION DE OFERTAS'!D14 -> 1.9123188e+09 | E14: ='VERIFICACION DE OFERTAS'!E14 -> 1.9123188e+09 | F14: ='VERIFICACION DE OFERTAS'!F14 -> 0 | G14: =+E14 -> 1.9123188e+09 | H14: =IF(G14>=$F$67,"MAYOR","MENOR") -> MAYOR | I14: =IF(H14="MAYOR",(((59.5*(1-((ABS($F$67-G14))/$F$67))))),(((59.5*(1-((($F$67-G14))/$F$67)))))) -> 57.609556 | J14: =+#REF! -> #REF! | K14: =I14+J14 -> #REF!
B15: =+'VERIFICACION DE OFERTAS'!B15 -> 61 | C15: ='VERIFICACION DE OFERTAS'!C15 -> TELEACCESS LTDA | D15: ='VERIFICACION DE OFERTAS'!D15 -> 1.8873033e+09 | E15: ='VERIFICACION DE OFERTAS'!E15 -> 1.8873033e+09 | F15: ='VERIFICACION DE OFERTAS'!F15 -> 0 | G15: =+E15 -> 1.8873033e+09 | H15: =IF(G15>=$F$67,"MAYOR","MENOR") -> MAYOR | I15: =IF(H15="MAYOR",(((59.5*(1-((ABS($F$67-G15))/$F$67))))),(((59.5*(1-((($F$67-G15))/$F$67)))))) -> 58.412619 | J15: =+#REF! -> #REF! | K15: =I15+J15 -> #REF!
B16: =+'VERIFICACION DE OFERTAS'!B16 -> 60 | C16: ='VERIFICACION DE OFERTAS'!C16 -> 3G INGENERIA AVANZADA SAS | D16: ='VERIFICACION DE OFERTAS'!D16 -> 1.8467217e+09 | E16: ='VERIFICACION DE OFERTAS'!E16 -> 1.8467217e+09 | F16: ='VERIFICACION DE OFERTAS'!F16 -> 0 | G16: =+E16 -> 1.8467217e+09 | H16: =IF(G16>=$F$67,"MAYOR","MENOR") -> MENOR | I16: =IF(H16="MAYOR",(((59.5*(1-((ABS($F$67-G16))/$F$67))))),(((59.5*(1-((($F$67-G16))/$F$67)))))) -> 59.284606 | J16: =+#REF! -> #REF! | K16: =I16+J16 -> #REF!
B17: =+'VERIFICACION DE OFERTAS'!B17 -> 59 | C17: ='VERIFICACION DE OFERTAS'!C17 -> CONSORCIO HUILA DUOVAL 324 | D17: ='VERIFICACION DE OFERTAS'!D17 -> 1.8540754e+09 | F17: ='VERIFICACION DE OFERTAS'!F17 -> RECHAZADO
B18: =+'VERIFICACION DE OFERTAS'!B18 -> 58 | C18: ='VERIFICACION DE OFERTAS'!C18 -> CONSORCIO GPIng | D18: ='VERIFICACION DE OFERTAS'!D18 -> 1.8371757e+09 | F18: ='VERIFICACION DE OFERTAS'!F18 -> RECHAZADO
B19: =+'VERIFICACION DE OFERTAS'!B19 -> 57 | C19: ='VERIFICACION DE OFERTAS'!C19 -> CONSORCIO SANLORENZO | D19: ='VERIFICACION DE OFERTAS'!D19 -> 1.8704546e+09 | E19: ='VERIFICACION DE OFERTAS'!E19 -> 1.8704546e+09 | F19: ='VERIFICACION DE OFERTAS'!F19 -> 0 | G19: =+E19 -> 1.8704546e+09 | H19: =IF(G19>=$F$67,"MAYOR","MENOR") -> MAYOR | I19: =IF(H19="MAYOR",(((59.5*(1-((ABS($F$67-G19))/$F$67))))),(((59.5*(1-((($F$67-G19))/$F$67)))))) -> 58.953504 | J19: =+#REF! -> #REF! | K19: =I19+J19 -> #REF!
B20: =+'VERIFICACION DE OFERTAS'!B20 -> 54 | C20: ='VERIFICACION DE OFERTAS'!C20 -> CONSORCIO OCIDAN HUILA-13 | D20: ='VERIFICACION DE OFERTAS'!D20 -> 1.8647464e+09 | E20: ='VERIFICACION DE OFERTAS'!E20 -> 1.8647464e+09 | F20: ='VERIFICACION DE OFERTAS'!F20 -> 0 | G20: =+E20 -> 1.8647464e+09 | H20: =IF(G20>=$F$67,"MAYOR","MENOR") -> MAYOR | I20: =IF(H20="MAYOR",(((59.5*(1-((ABS($F$67-G20))/$F$67))))),(((59.5*(1-((($F$67-G20))/$F$67)))))) -> 59.136752 | J20: =+#REF! -> #REF! | K20: =I20+J20 -> #REF!
B21: =+'VERIFICACION DE OFERTAS'!B21 -> 53 | C21: ='VERIFICACION DE OFERTAS'!C21 -> CONSORCIO PROHAL 2025 | D21: ='VERIFICACION DE OFERTAS'!D21 -> 1.8734265e+09 | F21: ='VERIFICACION DE OFERTAS'!F21 -> RECHAZADO
B22: =+'VERIFICACION DE OFERTAS'!B22 -> 52 | C22: ='VERIFICACION DE OFERTAS'!C22 -> ZION CONSTRUCCIONES SAS | D22: ='VERIFICACION DE OFERTAS'!D22 -> 1.8913215e+09 | E22: ='VERIFICACION DE OFERTAS'!E22 -> 1.8913215e+09 | F22: ='VERIFICACION DE OFERTAS'!F22 -> 0 | G22: =+E22 -> 1.8913215e+09 | H22: =IF(G22>=$F$67,"MAYOR","MENOR") -> MAYOR | I22: =IF(H22="MAYOR",(((59.5*(1-((ABS($F$67-G22))/$F$67))))),(((59.5*(1-((($F$67-G22))/$F$67)))))) -> 58.283622 | J22: =+#REF! -> #REF! | K22: =I22+J22 -> #REF!
B23: =+'VERIFICACION DE OFERTAS'!B23 -> 51 | C23: ='VERIFICACION DE OFERTAS'!C23 -> CONSORCIO E&C HUILA | D23: ='VERIFICACION DE OFERTAS'!D23 -> 1.904256e+09 | E23: ='VERIFICACION DE OFERTAS'!E23 -> 1.904256e+09 | F23: ='VERIFICACION DE OFERTAS'!F23 -> 0 | G23: =+E23 -> 1.904256e+09 | H23: =IF(G23>=$F$67,"MAYOR","MENOR") -> MAYOR | I23: =IF(H23="MAYOR",(((59.5*(1-((ABS($F$67-G23))/$F$67))))),(((59.5*(1-((($F$67-G23))/$F$67)))))) -> 57.868392 | J23: =+#REF! -> #REF! | K23: =I23+J23 -> #REF!
B24: =+'VERIFICACION DE OFERTAS'!B24 -> 50 | C24: ='VERIFICACION DE OFERTAS'!C24 -> MONVAL GROUP | D24: ='VERIFICACION DE OFERTAS'!D24 -> 1.8950456e+09 | E24: ='VERIFICACION DE OFERTAS'!E24 -> 1.8950456e+09 | F24: ='VERIFICACION DE OFERTAS'!F24 -> 0 | G24: =+E24 -> 1.8950456e+09 | H24: =IF(G24>=$F$67,"MAYOR","MENOR") -> MAYOR | I24: =IF(H24="MAYOR",(((59.5*(1-((ABS($F$67-G24))/$F$67))))),(((59.5*(1-((($F$67-G24))/$F$67)))))) -> 58.16407 | J24: =+#REF! -> #REF! | K24: =I24+J24 -> #REF!
B25: =+'VERIFICACION DE OFERTAS'!B25 -> 49 | C25: ='VERIFICACION DE OFERTAS'!C25 -> CONSORCIO CASTILLO | D25: ='VERIFICACION DE OFERTAS'!D25 -> 1.8671131e+09 | E25: ='VERIFICACION DE OFERTAS'!E25 -> 1.8671131e+09 | F25: ='VERIFICACION DE OFERTAS'!F25 -> 0 | G25: =+E25 -> 1.8671131e+09 | H25: =IF(G25>=$F$67,"MAYOR","MENOR") -> MAYOR | I25: =IF(H25="MAYOR",(((59.5*(1-((ABS($F$67-G25))/$F$67))))),(((59.5*(1-((($F$67-G25))/$F$67)))))) -> 59.060775 | J25: =+#REF! -> #REF! | K25: =I25+J25 -> #REF!
B26: =+'VERIFICACION DE OFERTAS'!B26 -> 48 | C26: ='VERIFICACION DE OFERTAS'!C26 -> CONSORCIO CENTRAL MIV | D26: ='VERIFICACION DE OFERTAS'!D26 -> 1.8508276e+09 | E26: ='VERIFICACION DE OFERTAS'!E26 -> 1.8508276e+09 | F26: ='VERIFICACION DE OFERTAS'!F26 -> 0 | G26: =+E26 -> 1.8508276e+09 | H26: =IF(G26>=$F$67,"MAYOR","MENOR") -> MENOR | I26: =IF(H26="MAYOR",(((59.5*(1-((ABS($F$67-G26))/$F$67))))),(((59.5*(1-((($F$67-G26))/$F$67)))))) -> 59.416418 | J26: =+#REF! -> #REF! | K26: =I26+J26 -> #REF!
B27: =+'VERIFICACION DE OFERTAS'!B27 -> 46 | C27: ='VERIFICACION DE OFERTAS'!C27 -> UNION TEMPORAL INNOVA | D27: ='VERIFICACION DE OFERTAS'!D27 -> 1.8827596e+09 | F27: ='VERIFICACION DE OFERTAS'!F27 -> RECHAZADO
B28: =+'VERIFICACION DE OFERTAS'!B28 -> 45 | C28: ='VERIFICACION DE OFERTAS'!C28 -> Adecuaciones jeroca | D28: ='VERIFICACION DE OFERTAS'!D28 -> 1.8670212e+09 | E28: ='VERIFICACION DE OFERTAS'!E28 -> 1.8670212e+09 | F28: ='VERIFICACION DE OFERTAS'!F28 -> 0 | G28: =+E28 -> 1.8670212e+09 | H28: =IF(G28>=$F$67,"MAYOR","MENOR") -> MAYOR | I28: =IF(H28="MAYOR",(((59.5*(1-((ABS($F$67-G28))/$F$67))))),(((59.5*(1-((($F$67-G28))/$F$67)))))) -> 59.063725 | J28: =+#REF! -> #REF! | K28: =I28+J28 -> #REF!
B29: =+'VERIFICACION DE OFERTAS'!B29 -> 44 | C29: ='VERIFICACION DE OFERTAS'!C29 -> CONSORCIO HUILA 2025 | D29: ='VERIFICACION DE OFERTAS'!D29 -> 1.8651492e+09 | E29: ='VERIFICACION DE OFERTAS'!E29 -> 1.8651492e+09 | F29: ='VERIFICACION DE OFERTAS'!F29 -> 0 | G29: =+E29 -> 1.8651492e+09 | H29: =IF(G29>=$F$67,"MAYOR","MENOR") -> MAYOR | I29: =IF(H29="MAYOR",(((59.5*(1-((ABS($F$67-G29))/$F$67))))),(((59.5*(1-((($F$67-G29))/$F$67)))))) -> 59.123821 | J29: =+#REF! -> #REF! | K29: =I29+J29 -> #REF!
B30: =+'VERIFICACION DE OFERTAS'!B30 -> 43 | C30: ='VERIFICACION DE OFERTAS'!C30 -> INGENIERIA RH | D30: ='VERIFICACION DE OFERTAS'!D30 -> 1.8828356e+09 | E30: ='VERIFICACION DE OFERTAS'!E30 -> 1.8828356e+09 | F30: ='VERIFICACION DE OFERTAS'!F30 -> 0 | G30: =+E30 -> 1.8828356e+09 | H30: =IF(G30>=$F$67,"MAYOR","MENOR") -> MAYOR | I30: =IF(H30="MAYOR",(((59.5*(1-((ABS($F$67-G30))/$F$67))))),(((59.5*(1-((($F$67-G30))/$F$67)))))) -> 58.556043 | J30: =+#REF! -> #REF! | K30: =I30+J30 -> #REF!
B31: =+'VERIFICACION DE OFERTAS'!B31 -> 42 | C31: ='VERIFICACION DE OFERTAS'!C31 -> CONSORCIO CE OBRAS HUILA | D31: ='VERIFICACION DE OFERTAS'!D31 -> 1.8342918e+09 | E31: ='VERIFICACION DE OFERTAS'!E31 -> 1.8342918e+09 | F31: ='VERIFICACION DE OFERTAS'!F31 -> 0 | G31: =+E31 -> 1.8342918e+09 | H31: =IF(G31>=$F$67,"MAYOR","MENOR") -> MENOR | I31: =IF(H31="MAYOR",(((59.5*(1-((ABS($F$67-G31))/$F$67))))),(((59.5*(1-((($F$67-G31))/$F$67)))))) -> 58.885576 | J31: =+#REF! -> #REF! | K31: =I31+J31 -> #REF!
B32: =+'VERIFICACION DE OFERTAS'!B32 -> 41 | C32: ='VERIFICACION DE OFERTAS'!C32 -> CONSORCIO HUILA 2D | D32: ='VERIFICACION DE OFERTAS'!D32 -> 1.8733439e+09 | E32: ='VERIFICACION DE OFERTAS'!E32 -> 1.8733439e+09 | F32: ='VERIFICACION DE OFERTAS'!F32 -> 0 | G32: =+E32 -> 1.8733439e+09 | H32: =IF(G32>=$F$67,"MAYOR","MENOR") -> MAYOR | I32: =IF(H32="MAYOR",(((59.5*(1-((ABS($F$67-G32))/$F$67))))),(((59.5*(1-((($F$67-G32))/$F$67)))))) -> 58.860752 | J32: =+#REF! -> #REF! | K32: =I32+J32 -> #REF!
B33: =+'VERIFICACION DE OFERTAS'!B33 -> 39 | C33: ='VERIFICACION DE OFERTAS'!C33 -> CONSORCIO MEGAHUILA | D33: ='VERIFICACION DE OFERTAS'!D33 -> 1.8603139e+09 | E33: ='VERIFICACION DE OFERTAS'!E33 -> 1.8603139e+09 | F33: ='VERIFICACION DE OFERTAS'!F33 -> 0 | G33: =+E33 -> 1.8603139e+09 | H33: =IF(G33>=$F$67,"MAYOR","MENOR") -> MAYOR | I33: =IF(H33="MAYOR",(((59.5*(1-((ABS($F$67-G33))/$F$67))))),(((59.5*(1-((($F$67-G33))/$F$67)))))) -> 59.279048 | J33: =+#REF! -> #REF! | K33: =I33+J33 -> #REF!
B34: =+'VERIFICACION DE OFERTAS'!B34 -> 38 | C34: ='VERIFICACION DE OFERTAS'!C34 -> CONSORCIO OBRAS BIENES | D34: ='VERIFICACION DE OFERTAS'!D34 -> 1.8540051e+09 | E34: ='VERIFICACION DE OFERTAS'!E34 -> 1.8540051e+09 | F34: ='VERIFICACION DE OFERTAS'!F34 -> 0 | G34: =+E34 -> 1.8540051e+09 | H34: =IF(G34>=$F$67,"MAYOR","MENOR") -> MAYOR | I34: =IF(H34="MAYOR",(((59.5*(1-((ABS($F$67-G34))/$F$67))))),(((59.5*(1-((($F$67-G34))/$F$67)))))) -> 59.481576 | J34: =+#REF! -> #REF! | K34: =I34+J34 -> #REF!
B35: =+'VERIFICACION DE OFERTAS'!B35 -> 37 | C35: ='VERIFICACION DE OFERTAS'!C35 -> CONSORCIO CENTRAL V&V | D35: ='VERIFICACION DE OFERTAS'!D35 -> 1.890015e+09 | E35: ='VERIFICACION DE OFERTAS'!E35 -> 1.890015e+09 | F35: ='VERIFICACION DE OFERTAS'!F35 -> 0 | G35: =+E35 -> 1.890015e+09 | H35: =IF(G35>=$F$67,"MAYOR","MENOR") -> MAYOR | I35: =IF(H35="MAYOR",(((59.5*(1-((ABS($F$67-G35))/$F$67))))),(((59.5*(1-((($F$67-G35))/$F$67)))))) -> 58.325566 | J35: =+#REF! -> #REF! | K35: =I35+J35 -> #REF!
B36: =+'VERIFICACION DE OFERTAS'!B36 -> 36 | C36: ='VERIFICACION DE OFERTAS'!C36 -> CONSORCIO ADECUACIONES 2CP | D36: ='VERIFICACION DE OFERTAS'!D36 -> 1.8625895e+09 | E36: ='VERIFICACION DE OFERTAS'!E36 -> 1.8625895e+09 | F36: ='VERIFICACION DE OFERTAS'!F36 -> 0 | G36: =+E36 -> 1.8625895e+09 | H36: =IF(G36>=$F$67,"MAYOR","MENOR") -> MAYOR | I36: =IF(H36="MAYOR",(((59.5*(1-((ABS($F$67-G36))/$F$67))))),(((59.5*(1-((($F$67-G36))/$F$67)))))) -> 59.205995 | J36: =+#REF! -> #REF! | K36: =I36+J36 -> #REF!
B37: =+'VERIFICACION DE OFERTAS'!B37 -> 35 | C37: ='VERIFICACION DE OFERTAS'!C37 -> CONSORCIO MEJORAMIENTO ARSAF | D37: ='VERIFICACION DE OFERTAS'!D37 -> 1.8376335e+09 | F37: RECHAZADO
B38: =+'VERIFICACION DE OFERTAS'!B38 -> 33 | C38: ='VERIFICACION DE OFERTAS'!C38 -> CONSORCIO TURPIAL 2025 | D38: ='VERIFICACION DE OFERTAS'!D38 -> 1.8535522e+09 | E38: ='VERIFICACION DE OFERTAS'!E38 -> 1.8535522e+09 | F38: ='VERIFICACION DE OFERTAS'!F38 -> 0 | G38: =+E38 -> 1.8535522e+09 | H38: =IF(G38>=$F$67,"MAYOR","MENOR") -> MAYOR | I38: =IF(H38="MAYOR",(((59.5*(1-((ABS($F$67-G38))/$F$67))))),(((59.5*(1-((($F$67-G38))/$F$67)))))) -> 59.496116 | J38: =+#REF! -> #REF! | K38: =I38+J38 -> #REF!
B39: =+'VERIFICACION DE OFERTAS'!B39 -> 31 | C39: ='VERIFICACION DE OFERTAS'!C39 -> CONSORCIO ADECUACIONES HUILA 04 | D39: ='VERIFICACION DE OFERTAS'!D39 -> 1.8936516e+09 | E39: ='VERIFICACION DE OFERTAS'!E39 -> 1.8936516e+09 | F39: ='VERIFICACION DE OFERTAS'!F39 -> 0 | G39: =+E39 -> 1.8936516e+09 | H39: =IF(G39>=$F$67,"MAYOR","MENOR") -> MAYOR | I39: =IF(H39="MAYOR",(((59.5*(1-((ABS($F$67-G39))/$F$67))))),(((59.5*(1-((($F$67-G39))/$F$67)))))) -> 58.208821 | J39: =+#REF! -> #REF! | K39: =I39+J39 -> #REF!
B40: =+'VERIFICACION DE OFERTAS'!B40 -> 30 | C40: ='VERIFICACION DE OFERTAS'!C40 -> CONSORCIO OPITA 25 | D40: ='VERIFICACION DE OFERTAS'!D40 -> 1.8837952e+09 | F40: ='VERIFICACION DE OFERTAS'!F40 -> RECHAZADO
B41: =+'VERIFICACION DE OFERTAS'!B41 -> 29 | C41: ='VERIFICACION DE OFERTAS'!C41 -> DRV INGENIERIA SAS | D41: ='VERIFICACION DE OFERTAS'!D41 -> 1.811816e+09 | F41: RECHAZADO
B42: =+'VERIFICACION DE OFERTAS'!B42 -> 26 | C42: ='VERIFICACION DE OFERTAS'!C42 -> CONSORCIO DANES-ML INGENIERIA | D42: ='VERIFICACION DE OFERTAS'!D42 -> 1.8665952e+09 | E42: ='VERIFICACION DE OFERTAS'!E42 -> 1.8665952e+09 | F42: ='VERIFICACION DE OFERTAS'!F42 -> 0 | G42: =+E42 -> 1.8665952e+09 | H42: =IF(G42>=$F$67,"MAYOR","MENOR") -> MAYOR | I42: =IF(H42="MAYOR",(((59.5*(1-((ABS($F$67-G42))/$F$67))))),(((59.5*(1-((($F$67-G42))/$F$67)))))) -> 59.077401 | J42: =+#REF! -> #REF! | K42: =I42+J42 -> #REF!
B43: =+'VERIFICACION DE OFERTAS'!B43 -> 25 | C43: ='VERIFICACION DE OFERTAS'!C43 -> INVERSIONES G Y S S.A.S. | D43: ='VERIFICACION DE OFERTAS'!D43 -> 1.888791e+09 | E43: ='VERIFICACION DE OFERTAS'!E43 -> 1.888791e+09 | F43: ='VERIFICACION DE OFERTAS'!F43 -> 0 | G43: =+E43 -> 1.888791e+09 | H43: =IF(G43>=$F$67,"MAYOR","MENOR") -> MAYOR | I43: =IF(H43="MAYOR",(((59.5*(1-((ABS($F$67-G43))/$F$67))))),(((59.5*(1-((($F$67-G43))/$F$67)))))) -> 58.364859 | J43: =+#REF! -> #REF! | K43: =I43+J43 -> #REF!
B44: =+'VERIFICACION DE OFERTAS'!B44 -> 24 | C44: ='VERIFICACION DE OFERTAS'!C44 -> RAELJA INGENIERIA S.A.S | D44: ='VERIFICACION DE OFERTAS'!D44 -> 1.8598421e+09 | E44: ='VERIFICACION DE OFERTAS'!E44 -> 1.8598421e+09 | F44: ='VERIFICACION DE OFERTAS'!F44 -> 0 | G44: =+E44 -> 1.8598421e+09 | H44: =IF(G44>=$F$67,"MAYOR","MENOR") -> MAYOR | I44: =IF(H44="MAYOR",(((59.5*(1-((ABS($F$67-G44))/$F$67))))),(((59.5*(1-((($F$67-G44))/$F$67)))))) -> 59.294193 | J44: =+#REF! -> #REF! | K44: =I44+J44 -> #REF!
B45: =+'VERIFICACION DE OFERTAS'!B45 -> 23 | C45: ='VERIFICACION DE OFERTAS'!C45 -> GMA Construcciones SAS | D45: ='VERIFICACION DE OFERTAS'!D45 -> 1.8605957e+09 | E45: ='VERIFICACION DE OFERTAS'!E45 -> 1.8605957e+09 | F45: ='VERIFICACION DE OFERTAS'!F45 -> 0 | G45: =+E45 -> 1.8605957e+09 | H45: =IF(G45>=$F$67,"MAYOR","MENOR") -> MAYOR | I45: =IF(H45="MAYOR",(((59.5*(1-((ABS($F$67-G45))/$F$67))))),(((59.5*(1-((($F$67-G45))/$F$67)))))) -> 59.27 | J45: =+#REF! -> #REF! | K45: =I45+J45 -> #REF!
B46: =+'VERIFICACION DE OFERTAS'!B46 -> 22 | C46: ='VERIFICACION DE OFERTAS'!C46 -> CONSORCIO HUILA WR | D46: ='VERIFICACION DE OFERTAS'!D46 -> 1.8408957e+09 | F46: ='VERIFICACION DE OFERTAS'!F46 -> RECHAZADO
B47: =+'VERIFICACION DE OFERTAS'!B47 -> 21 | C47: ='VERIFICACION DE OFERTAS'!C47 -> UNION TEMPORAL OBRAS GTM | D47: ='VERIFICACION DE OFERTAS'!D47 -> 1.8698875e+09 | F47: ='VERIFICACION DE OFERTAS'!F47 -> RECHAZADO
B48: =+'VERIFICACION DE OFERTAS'!B48 -> 20 | C48: ='VERIFICACION DE OFERTAS'!C48 -> INGEVILL S.A.S | D48: ='VERIFICACION DE OFERTAS'!D48 -> 1.8958086e+09 | E48: ='VERIFICACION DE OFERTAS'!E48 -> 1.8958086e+09 | F48: ='VERIFICACION DE OFERTAS'!F48 -> 0 | G48: =+E48 -> 1.8958086e+09 | H48: =IF(G48>=$F$67,"MAYOR","MENOR") -> MAYOR | I48: =IF(H48="MAYOR",(((59.5*(1-((ABS($F$67-G48))/$F$67))))),(((59.5*(1-((($F$67-G48))/$F$67)))))) -> 58.139576 | J48: =+#REF! -> #REF! | K48: =I48+J48 -> #REF!
B49: =+'VERIFICACION DE OFERTAS'!B49 -> 19 | C49: ='VERIFICACION DE OFERTAS'!C49 -> PROCIVING SAS | D49: ='VERIFICACION DE OFERTAS'!D49 -> 1.8669742e+09 | F49: ='VERIFICACION DE OFERTAS'!F49 -> RECHAZADO
B50: =+'VERIFICACION DE OFERTAS'!B50 -> 17 | C50: ='VERIFICACION DE OFERTAS'!C50 -> CONSORCIO NOVA CENTRAL | D50: ='VERIFICACION DE OFERTAS'!D50 -> 1.8523041e+09 | E50: ='VERIFICACION DE OFERTAS'!E50 -> 1.8523041e+09 | F50: ='VERIFICACION DE OFERTAS'!F50 -> 0 | G50: =+E50 -> 1.8523041e+09 | H50: =IF(G50>=$F$67,"MAYOR","MENOR") -> MENOR | I50: =IF(H50="MAYOR",(((59.5*(1-((ABS($F$67-G50))/$F$67))))),(((59.5*(1-((($F$67-G50))/$F$67)))))) -> 59.463817 | J50: =+#REF! -> #REF! | K50: =I50+J50 -> #REF!
B51: =+'VERIFICACION DE OFERTAS'!B51 -> 15 | C51: ='VERIFICACION DE OFERTAS'!C51 -> BRACOL GROUP SAS | D51: ='VERIFICACION DE OFERTAS'!D51 -> 1.8712405e+09 | E51: ='VERIFICACION DE OFERTAS'!E51 -> 1.8712405e+09 | F51: ='VERIFICACION DE OFERTAS'!F51 -> 0 | G51: =+E51 -> 1.8712405e+09 | H51: =IF(G51>=$F$67,"MAYOR","MENOR") -> MAYOR | I51: =IF(H51="MAYOR",(((59.5*(1-((ABS($F$67-G51))/$F$67))))),(((59.5*(1-((($F$67-G51))/$F$67)))))) -> 58.928274 | J51: =+#REF! -> #REF! | K51: =I51+J51 -> #REF!
B52: =+'VERIFICACION DE OFERTAS'!B52 -> 14 | C52: ='VERIFICACION DE OFERTAS'!C52 -> RAR CONSTRUCTORES SAS | D52: ='VERIFICACION DE OFERTAS'!D52 -> 1.8898033e+09 | E52: ='VERIFICACION DE OFERTAS'!E52 -> 1.8898033e+09 | F52: ='VERIFICACION DE OFERTAS'!F52 -> 0 | G52: =+E52 -> 1.8898033e+09 | H52: =IF(G52>=$F$67,"MAYOR","MENOR") -> MAYOR | I52: =IF(H52="MAYOR",(((59.5*(1-((ABS($F$67-G52))/$F$67))))),(((59.5*(1-((($F$67-G52))/$F$67)))))) -> 58.33236 | J52: =+#REF! -> #REF! | K52: =I52+J52 -> #REF!
B53: =+'VERIFICACION DE OFERTAS'!B53 -> 13 | C53: ='VERIFICACION DE OFERTAS'!C53 -> HyD S.A.S. | D53: ='VERIFICACION DE OFERTAS'!D53 -> 1874948880 | F53: ='VERIFICACION DE OFERTAS'!F53 -> RECHAZADO
B54: =+'VERIFICACION DE OFERTAS'!B54 -> 11 | C54: ='VERIFICACION DE OFERTAS'!C54 -> CONSORCIO ADECUACIONES HUILA 2025 | D54: ='VERIFICACION DE OFERTAS'!D54 -> 1.8690798e+09 | E54: ='VERIFICACION DE OFERTAS'!E54 -> 1.8690798e+09 | F54: ='VERIFICACION DE OFERTAS'!F54 -> 0 | G54: =+E54 -> 1.8690798e+09 | H54: =IF(G54>=$F$67,"MAYOR","MENOR") -> MAYOR | I54: =IF(H54="MAYOR",(((59.5*(1-((ABS($F$67-G54))/$F$67))))),(((59.5*(1-((($F$67-G54))/$F$67)))))) -> 58.997641 | J54: =+#REF! -> #REF! | K54: =I54+J54 -> #REF!
B55: =+'VERIFICACION DE OFERTAS'!B55 -> 10 | C55: ='VERIFICACION DE OFERTAS'!C55 -> CONSORCIO ADECUACIONES HUILA 2025 | D55: ='VERIFICACION DE OFERTAS'!D55 -> 1.8897156e+09 | E55: ='VERIFICACION DE OFERTAS'!E55 -> 1.8897156e+09 | F55: ='VERIFICACION DE OFERTAS'!F55 -> 0 | G55: =+E55 -> 1.8897156e+09 | H55: =IF(G55>=$F$67,"MAYOR","MENOR") -> MAYOR | I55: =IF(H55="MAYOR",(((59.5*(1-((ABS($F$67-G55))/$F$67))))),(((59.5*(1-((($F$67-G55))/$F$67)))))) -> 58.335176 | J55: =+#REF! -> #REF! | K55: =I55+J55 -> #REF!
B56: =+'VERIFICACION DE OFERTAS'!B56 -> 9 | C56: ='VERIFICACION DE OFERTAS'!C56 -> CONSORCIO CONSTRUCCIONES INGLAR | D56: ='VERIFICACION DE OFERTAS'!D56 -> 1.8379631e+09 | F56: ='VERIFICACION DE OFERTAS'!F56 -> RECHAZADO
B57: =+'VERIFICACION DE OFERTAS'!B57 -> 8 | C57: ='VERIFICACION DE OFERTAS'!C57 -> CONSORCIO ADECUACIONES GOBERNACIÓN DEL HUILA 2025 | D57: ='VERIFICACION DE OFERTAS'!D57 -> 1.9260745e+09 | E57: ='VERIFICACION DE OFERTAS'!E57 -> 1.9260745e+09 | F57: ='VERIFICACION DE OFERTAS'!F57 -> 0 | G57: =+E57 -> 1.9260745e+09 | H57: =IF(G57>=$F$67,"MAYOR","MENOR") -> MAYOR | I57: =IF(H57="MAYOR",(((59.5*(1-((ABS($F$67-G57))/$F$67))))),(((59.5*(1-((($F$67-G57))/$F$67)))))) -> 57.16796 | J57: =+#REF! -> #REF! | K57: =I57+J57 -> #REF!
B58: =+'VERIFICACION DE OFERTAS'!B58 -> 7 | C58: ='VERIFICACION DE OFERTAS'!C58 -> CONSORCIO INGE-NEIVA 2025 | D58: ='VERIFICACION DE OFERTAS'!D58 -> 1.8644693e+09 | E58: ='VERIFICACION DE OFERTAS'!E58 -> 1.8644693e+09 | F58: ='VERIFICACION DE OFERTAS'!F58 -> 0 | G58: =+E58 -> 1.8644693e+09 | H58: =IF(G58>=$F$67,"MAYOR","MENOR") -> MAYOR | I58: =IF(H58="MAYOR",(((59.5*(1-((ABS($F$67-G58))/$F$67))))),(((59.5*(1-((($F$67-G58))/$F$67)))))) -> 59.145647 | J58: =+#REF! -> #REF! | K58: =I58+J58 -> #REF!
B59: =+'VERIFICACION DE OFERTAS'!B59 -> 6 | C59: ='VERIFICACION DE OFERTAS'!C59 -> CONSORCIO MEJORAMIENTO DT | D59: ='VERIFICACION DE OFERTAS'!D59 -> 1.883055e+09 | E59: ='VERIFICACION DE OFERTAS'!E59 -> 1.883055e+09 | F59: ='VERIFICACION DE OFERTAS'!F59 -> 0 | G59: =+E59 -> 1.883055e+09 | H59: =IF(G59>=$F$67,"MAYOR","MENOR") -> MAYOR | I59: =IF(H59="MAYOR",(((59.5*(1-((ABS($F$67-G59))/$F$67))))),(((59.5*(1-((($F$67-G59))/$F$67)))))) -> 58.548999 | J59: =+#REF! -> #REF! | K59: =I59+J59 -> #REF!
B60: =+'VERIFICACION DE OFERTAS'!B60 -> 5 | C60: ='VERIFICACION DE OFERTAS'!C60 -> CONSORCIO VENTURA | D60: ='VERIFICACION DE OFERTAS'!D60 -> 1.8496609e+09 | E60: ='VERIFICACION DE OFERTAS'!E60 -> 1.8496609e+09 | F60: ='VERIFICACION DE OFERTAS'!F60 -> 0 | G60: =+E60 -> 1.8496609e+09 | H60: =IF(G60>=$F$67,"MAYOR","MENOR") -> MENOR | I60: =IF(H60="MAYOR",(((59.5*(1-((ABS($F$67-G60))/$F$67))))),(((59.5*(1-((($F$67-G60))/$F$67)))))) -> 59.378962 | J60: =+#REF! -> #REF! | K60: =I60+J60 -> #REF!
B61: =+'VERIFICACION DE OFERTAS'!B61 -> 3 | C61: ='VERIFICACION DE OFERTAS'!C61 -> CONSTRUCTORA DARJA SAS | D61: ='VERIFICACION DE OFERTAS'!D61 -> 1.8705124e+09 | E61: ='VERIFICACION DE OFERTAS'!E61 -> 1.8705124e+09 | F61: ='VERIFICACION DE OFERTAS'!F61 -> 0 | G61: =+E61 -> 1.8705124e+09 | H61: =IF(G61>=$F$67,"MAYOR","MENOR") -> MAYOR | I61: =IF(H61="MAYOR",(((59.5*(1-((ABS($F$67-G61))/$F$67))))),(((59.5*(1-((($F$67-G61))/$F$67)))))) -> 58.95165 | J61: =+#REF! -> #REF! | K61: =I61+J61 -> #REF!
B62: =+'VERIFICACION DE OFERTAS'!B62 -> 1 | C62: ='VERIFICACION DE OFERTAS'!C62 -> CONSORCIO LIESTRU | D62: ='VERIFICACION DE OFERTAS'!D62 -> 1.8710434e+09 | E62: ='VERIFICACION DE OFERTAS'!E62 -> 1.8710434e+09 | F62: ='VERIFICACION DE OFERTAS'!F62 -> 0 | G62: =+E62 -> 1.8710434e+09 | H62: =IF(G62>=$F$67,"MAYOR","MENOR") -> MAYOR | I62: =IF(H62="MAYOR",(((59.5*(1-((ABS($F$67-G62))/$F$67))))),(((59.5*(1-((($F$67-G62))/$F$67)))))) -> 58.934602 | J62: =+#REF! -> #REF! | K62: =I62+J62 -> #REF!
E64: MENOR VALOR | F64: =MIN(G3:G62) -> 1.8342918e+09
E65: PROMEDIO SIMPLE | F65: =AVERAGE(G3:G62) -> 1.8725706e+09
E67: PROMEDIO ARITMETICO | F67: =((F64+F65)/2) -> 1.8534312e+09

Sheet MAB 4-aceptando 72-42-35
B2: PROPUESTA | C2: PROPONENTE | D2: PROPUESTA ECONÓMICA | E2: SECOP | F2: CORRECCIÓN ARITMÉTICA | G2: VALOR PROPUESTA ECONÓMICA | H2: MAYOR O MENOR | I2: PUNTOS | J2: PUNTUACION INICIAL | K2: TOTAL PUNTUACIÓN
B3: =+'VERIFICACION DE OFERTAS'!B3 -> 81 | C3: ='VERIFICACION DE OFERTAS'!C3 -> CONSORCIO EDIFICIO CENTRAL | D3: ='VERIFICACION DE OFERTAS'!D3 -> 1.9215243e+09 | F3: ='VERIFICACION DE OFERTAS'!F3 -> RECHAZADO
B4: =+'VERIFICACION DE OFERTAS'!B4 -> 77 | C4: ='VERIFICACION DE OFERTAS'!C4 -> CONINCAG SAS | D4: ='VERIFICACION DE OFERTAS'!D4 -> 1.8637327e+09 | F4: ='VERIFICACION DE OFERTAS'!F4 -> RECHAZADO
B5: =+'VERIFICACION DE OFERTAS'!B5 -> 74 | C5: ='VERIFICACION DE OFERTAS'!C5 -> CONSORCIO MANASSA 28 | D5: ='VERIFICACION DE OFERTAS'!D5 -> 1.8675064e+09 | E5: ='VERIFICACION DE OFERTAS'!E5 -> 1.8675064e+09 | F5: ='VERIFICACION DE OFERTAS'!F5 -> 0 | G5: =+E5 -> 1.8675064e+09 | H5: =IF(G5>=$F$67,"MAYOR","MENOR") -> MAYOR | I5: =IF(H5="MAYOR",(((59.5*(1-((ABS($F$67-G5))/$F$67))))),(((59.5*(1-((($F$67-G5))/$F$67)))))) -> 59.03559 | J5: =+#REF! -> #REF! | K5: =I5+J5 -> #REF!
B6: =+'VERIFICACION DE OFERTAS'!B6 -> 73 | C6: ='VERIFICACION DE OFERTAS'!C6 -> CONSORCIO SANTANA 2025 | D6: ='VERIFICACION DE OFERTAS'!D6 -> 1.8631888e+09 | E6: ='VERIFICACION DE OFERTAS'!E6 -> 1.8631888e+09 | F6: ='VERIFICACION DE OFERTAS'!F6 -> 0 | G6: =+E6 -> 1.8631888e+09 | H6: =IF(G6>=$F$67,"MAYOR","MENOR") -> MAYOR | I6: =IF(H6="MAYOR",(((59.5*(1-((ABS($F$67-G6))/$F$67))))),(((59.5*(1-((($F$67-G6))/$F$67)))))) -> 59.174226 | J6: =+#REF! -> #REF! | K6: =I6+J6 -> #REF!
B7: =+'VERIFICACION DE OFERTAS'!B7 -> 72 | C7: ='VERIFICACION DE OFERTAS'!C7 -> Fundacion Espeletia | D7: ='VERIFICACION DE OFERTAS'!D7 -> 1.834841e+09 | E7: ='VERIFICACION DE OFERTAS'!E7 -> 1.834841e+09 | F7: ='VERIFICACION DE OFERTAS'!F7 -> 0 | G7: =+E7 -> 1.834841e+09 | H7: =IF(G7>=$F$67,"MAYOR","MENOR") -> MENOR | I7: =IF(H7="MAYOR",(((59.5*(1-((ABS($F$67-G7))/$F$67))))),(((59.5*(1-((($F$67-G7))/$F$67)))))) -> 58.915543 | J7: =+#REF! -> #REF! | K7: =I7+J7 -> #REF!
B8: =+'VERIFICACION DE OFERTAS'!B8 -> 71 | C8: ='VERIFICACION DE OFERTAS'!C8 -> Consorcio CONSTRUCTOR CENTRAL | D8: ='VERIFICACION DE OFERTAS'!D8 -> 1.8579391e+09 | E8: ='VERIFICACION DE OFERTAS'!E8 -> 1.8579391e+09 | F8: ='VERIFICACION DE OFERTAS'!F8 -> 0 | G8: =+E8 -> 1.8579391e+09 | H8: =IF(G8>=$F$67,"MAYOR","MENOR") -> MAYOR | I8: =IF(H8="MAYOR",(((59.5*(1-((ABS($F$67-G8))/$F$67))))),(((59.5*(1-((($F$67-G8))/$F$67)))))) -> 59.342789 | J8: =+#REF! -> #REF! | K8: =I8+J8 -> #REF!
B9: =+'VERIFICACION DE OFERTAS'!B9 -> 69 | C9: ='VERIFICACION DE OFERTAS'!C9 -> CONSORCIO INGEGOBER | D9: ='VERIFICACION DE OFERTAS'!D9 -> 1.8651617e+09 | F9: ='VERIFICACION DE OFERTAS'!F9 -> RECHAZADO
B10: =+'VERIFICACION DE OFERTAS'!B10 -> 66 | C10: ='VERIFICACION DE OFERTAS'!C10 -> CONSORCIO ARCUM | D10: ='VERIFICACION DE OFERTAS'!D10 -> 1.8614113e+09 | E10: ='VERIFICACION DE OFERTAS'!E10 -> 1.8614113e+09 | F10: ='VERIFICACION DE OFERTAS'!F10 -> 0 | G10: =+E10 -> 1.8614113e+09 | H10: =IF(G10>=$F$67,"MAYOR","MENOR") -> MAYOR | I10: =IF(H10="MAYOR",(((59.5*(1-((ABS($F$67-G10))/$F$67))))),(((59.5*(1-((($F$67-G10))/$F$67)))))) -> 59.231299 | J10: =+#REF! -> #REF! | K10: =I10+J10 -> #REF!
B11: =+'VERIFICACION DE OFERTAS'!B11 -> 65 | C11: ='VERIFICACION DE OFERTAS'!C11 -> CONSORCIO SANTA RITA | D11: ='VERIFICACION DE OFERTAS'!D11 -> 1.893037e+09 | F11: ='VERIFICACION DE OFERTAS'!F11 -> RECHAZADO
B12: =+'VERIFICACION DE OFERTAS'!B12 -> 64 | C12: ='VERIFICACION DE OFERTAS'!C12 -> CONSORCIO OBRAS GMJ 2025 | D12: ='VERIFICACION DE OFERTAS'!D12 -> 1.8926652e+09 | E12: ='VERIFICACION DE OFERTAS'!E12 -> 1.8926652e+09 | F12: ='VERIFICACION DE OFERTAS'!F12 -> 0 | G12: =+E12 -> 1.8926652e+09 | H12: =IF(G12>=$F$67,"MAYOR","MENOR") -> MAYOR | I12: =IF(H12="MAYOR",(((59.5*(1-((ABS($F$67-G12))/$F$67))))),(((59.5*(1-((($F$67-G12))/$F$67)))))) -> 58.227759 | J12: =+#REF! -> #REF! | K12: =I12+J12 -> #REF!
B13: =+'VERIFICACION DE OFERTAS'!B13 -> 63 | C13: ='VERIFICACION DE OFERTAS'!C13 -> CONSORCIO INACAL NEIVA | D13: ='VERIFICACION DE OFERTAS'!D13 -> 1.8800857e+09 | E13: ='VERIFICACION DE OFERTAS'!E13 -> 1.8800857e+09 | F13: ='VERIFICACION DE OFERTAS'!F13 -> 0 | G13: =+E13 -> 1.8800857e+09 | H13: =IF(G13>=$F$67,"MAYOR","MENOR") -> MAYOR | I13: =IF(H13="MAYOR",(((59.5*(1-((ABS($F$67-G13))/$F$67))))),(((59.5*(1-((($F$67-G13))/$F$67)))))) -> 58.631679 | J13: =+#REF! -> #REF! | K13: =I13+J13 -> #REF!
B14: =+'VERIFICACION DE OFERTAS'!B14 -> 62 | C14: ='VERIFICACION DE OFERTAS'!C14 -> BRACO COMPANY S.A.S ZOMAC | D14: ='VERIFICACION DE OFERTAS'!D14 -> 1.9123188e+09 | E14: ='VERIFICACION DE OFERTAS'!E14 -> 1.9123188e+09 | F14: ='VERIFICACION DE OFERTAS'!F14 -> 0 | G14: =+E14 -> 1.9123188e+09 | H14: =IF(G14>=$F$67,"MAYOR","MENOR") -> MAYOR | I14: =IF(H14="MAYOR",(((59.5*(1-((ABS($F$67-G14))/$F$67))))),(((59.5*(1-((($F$67-G14))/$F$67)))))) -> 57.596695 | J14: =+#REF! -> #REF! | K14: =I14+J14 -> #REF!
B15: =+'VERIFICACION DE OFERTAS'!B15 -> 61 | C15: ='VERIFICACION DE OFERTAS'!C15 -> TELEACCESS LTDA | D15: ='VERIFICACION DE OFERTAS'!D15 -> 1.8873033e+09 | E15: ='VERIFICACION DE OFERTAS'!E15 -> 1.8873033e+09 | F15: ='VERIFICACION DE OFERTAS'!F15 -> 0 | G15: =+E15 -> 1.8873033e+09 | H15: =IF(G15>=$F$67,"MAYOR","MENOR") -> MAYOR | I15: =IF(H15="MAYOR",(((59.5*(1-((ABS($F$67-G15))/$F$67))))),(((59.5*(1-((($F$67-G15))/$F$67)))))) -> 58.399926 | J15: =+#REF! -> #REF! | K15: =I15+J15 -> #REF!
B16: =+'VERIFICACION DE OFERTAS'!B16 -> 60 | C16: ='VERIFICACION DE OFERTAS'!C16 -> 3G INGENERIA AVANZADA SAS | D16: ='VERIFICACION DE OFERTAS'!D16 -> 1.8467217e+09 | E16: ='VERIFICACION DE OFERTAS'!E16 -> 1.8467217e+09 | F16: ='VERIFICACION DE OFERTAS'!F16 -> 0 | G16: =+E16 -> 1.8467217e+09 | H16: =IF(G16>=$F$67,"MAYOR","MENOR") -> MENOR | I16: =IF(H16="MAYOR",(((59.5*(1-((ABS($F$67-G16))/$F$67))))),(((59.5*(1-((($F$67-G16))/$F$67)))))) -> 59.297025 | J16: =+#REF! -> #REF! | K16: =I16+J16 -> #REF!
B17: =+'VERIFICACION DE OFERTAS'!B17 -> 59 | C17: ='VERIFICACION DE OFERTAS'!C17 -> CONSORCIO HUILA DUOVAL 324 | D17: ='VERIFICACION DE OFERTAS'!D17 -> 1.8540754e+09 | F17: ='VERIFICACION DE OFERTAS'!F17 -> RECHAZADO
B18: =+'VERIFICACION DE OFERTAS'!B18 -> 58 | C18: ='VERIFICACION DE OFERTAS'!C18 -> CONSORCIO GPIng | D18: ='VERIFICACION DE OFERTAS'!D18 -> 1.8371757e+09 | F18: ='VERIFICACION DE OFERTAS'!F18 -> RECHAZADO
B19: =+'VERIFICACION DE OFERTAS'!B19 -> 57 | C19: ='VERIFICACION DE OFERTAS'!C19 -> CONSORCIO SANLORENZO | D19: ='VERIFICACION DE OFERTAS'!D19 -> 1.8704546e+09 | E19: ='VERIFICACION DE OFERTAS'!E19 -> 1.8704546e+09 | F19: ='VERIFICACION DE OFERTAS'!F19 -> 0 | G19: =+E19 -> 1.8704546e+09 | H19: =IF(G19>=$F$67,"MAYOR","MENOR") -> MAYOR | I19: =IF(H19="MAYOR",(((59.5*(1-((ABS($F$67-G19))/$F$67))))),(((59.5*(1-((($F$67-G19))/$F$67)))))) -> 58.940925 | J19: =+#REF! -> #REF! | K19: =I19+J19 -> #REF!
B20: =+'VERIFICACION DE OFERTAS'!B20 -> 54 | C20: ='VERIFICACION DE OFERTAS'!C20 -> CONSORCIO OCIDAN HUILA-13 | D20: ='VERIFICACION DE OFERTAS'!D20 -> 1.8647464e+09 | E20: ='VERIFICACION DE OFERTAS'!E20 -> 1.8647464e+09 | F20: ='VERIFICACION DE OFERTAS'!F20 -> 0 | G20: =+E20 -> 1.8647464e+09 | H20: =IF(G20>=$F$67,"MAYOR","MENOR") -> MAYOR | I20: =IF(H20="MAYOR",(((59.5*(1-((ABS($F$67-G20))/$F$67))))),(((59.5*(1-((($F$67-G20))/$F$67)))))) -> 59.124211 | J20: =+#REF! -> #REF! | K20: =I20+J20 -> #REF!
B21: =+'VERIFICACION DE OFERTAS'!B21 -> 53 | C21: ='VERIFICACION DE OFERTAS'!C21 -> CONSORCIO PROHAL 2025 | D21: ='VERIFICACION DE OFERTAS'!D21 -> 1.8734265e+09 | F21: ='VERIFICACION DE OFERTAS'!F21 -> RECHAZADO
B22: =+'VERIFICACION DE OFERTAS'!B22 -> 52 | C22: ='VERIFICACION DE OFERTAS'!C22 -> ZION CONSTRUCCIONES SAS | D22: ='VERIFICACION DE OFERTAS'!D22 -> 1.8913215e+09 | E22: ='VERIFICACION DE OFERTAS'!E22 -> 1.8913215e+09 | F22: ='VERIFICACION DE OFERTAS'!F22 -> 0 | G22: =+E22 -> 1.8913215e+09 | H22: =IF(G22>=$F$67,"MAYOR","MENOR") -> MAYOR | I22: =IF(H22="MAYOR",(((59.5*(1-((ABS($F$67-G22))/$F$67))))),(((59.5*(1-((($F$67-G22))/$F$67)))))) -> 58.270903 | J22: =+#REF! -> #REF! | K22: =I22+J22 -> #REF!
B23: =+'VERIFICACION DE OFERTAS'!B23 -> 51 | C23: ='VERIFICACION DE OFERTAS'!C23 -> CONSORCIO E&C HUILA | D23: ='VERIFICACION DE OFERTAS'!D23 -> 1.904256e+09 | E23: ='VERIFICACION DE OFERTAS'!E23 -> 1.904256e+09 | F23: ='VERIFICACION DE OFERTAS'!F23 -> 0 | G23: =+E23 -> 1.904256e+09 | H23: =IF(G23>=$F$67,"MAYOR","MENOR") -> MAYOR | I23: =IF(H23="MAYOR",(((59.5*(1-((ABS($F$67-G23))/$F$67))))),(((59.5*(1-((($F$67-G23))/$F$67)))))) -> 57.855586 | J23: =+#REF! -> #REF! | K23: =I23+J23 -> #REF!
B24: =+'VERIFICACION DE OFERTAS'!B24 -> 50 | C24: ='VERIFICACION DE OFERTAS'!C24 -> MONVAL GROUP | D24: ='VERIFICACION DE OFERTAS'!D24 -> 1.8950456e+09 | E24: ='VERIFICACION DE OFERTAS'!E24 -> 1.8950456e+09 | F24: ='VERIFICACION DE OFERTAS'!F24 -> 0 | G24: =+E24 -> 1.8950456e+09 | H24: =IF(G24>=$F$67,"MAYOR","MENOR") -> MAYOR | I24: =IF(H24="MAYOR",(((59.5*(1-((ABS($F$67-G24))/$F$67))))),(((59.5*(1-((($F$67-G24))/$F$67)))))) -> 58.151325 | J24: =+#REF! -> #REF! | K24: =I24+J24 -> #REF!
B25: =+'VERIFICACION DE OFERTAS'!B25 -> 49 | C25: ='VERIFICACION DE OFERTAS'!C25 -> CONSORCIO CASTILLO | D25: ='VERIFICACION DE OFERTAS'!D25 -> 1.8671131e+09 | E25: ='VERIFICACION DE OFERTAS'!E25 -> 1.8671131e+09 | F25: ='VERIFICACION DE OFERTAS'!F25 -> 0 | G25: =+E25 -> 1.8671131e+09 | H25: =IF(G25>=$F$67,"MAYOR","MENOR") -> MAYOR | I25: =IF(H25="MAYOR",(((59.5*(1-((ABS($F$67-G25))/$F$67))))),(((59.5*(1-((($F$67-G25))/$F$67)))))) -> 59.048218 | J25: =+#REF! -> #REF! | K25: =I25+J25 -> #REF!
B26: =+'VERIFICACION DE OFERTAS'!B26 -> 48 | C26: ='VERIFICACION DE OFERTAS'!C26 -> CONSORCIO CENTRAL MIV | D26: ='VERIFICACION DE OFERTAS'!D26 -> 1.8508276e+09 | E26: ='VERIFICACION DE OFERTAS'!E26 -> 1.8508276e+09 | F26: ='VERIFICACION DE OFERTAS'!F26 -> 0 | G26: =+E26 -> 1.8508276e+09 | H26: =IF(G26>=$F$67,"MAYOR","MENOR") -> MENOR | I26: =IF(H26="MAYOR",(((59.5*(1-((ABS($F$67-G26))/$F$67))))),(((59.5*(1-((($F$67-G26))/$F$67)))))) -> 59.428865 | J26: =+#REF! -> #REF! | K26: =I26+J26 -> #REF!
B27: =+'VERIFICACION DE OFERTAS'!B27 -> 46 | C27: ='VERIFICACION DE OFERTAS'!C27 -> UNION TEMPORAL INNOVA | D27: ='VERIFICACION DE OFERTAS'!D27 -> 1.8827596e+09 | F27: ='VERIFICACION DE OFERTAS'!F27 -> RECHAZADO
B28: =+'VERIFICACION DE OFERTAS'!B28 -> 45 | C28: ='VERIFICACION DE OFERTAS'!C28 -> Adecuaciones jeroca | D28: ='VERIFICACION DE OFERTAS'!D28 -> 1.8670212e+09 | E28: ='VERIFICACION DE OFERTAS'!E28 -> 1.8670212e+09 | F28: ='VERIFICACION DE OFERTAS'!F28 -> 0 | G28: =+E28 -> 1.8670212e+09 | H28: =IF(G28>=$F$67,"MAYOR","MENOR") -> MAYOR | I28: =IF(H28="MAYOR",(((59.5*(1-((ABS($F$67-G28))/$F$67))))),(((59.5*(1-((($F$67-G28))/$F$67)))))) -> 59.051169 | J28: =+#REF! -> #REF! | K28: =I28+J28 -> #REF!
B29: =+'VERIFICACION DE OFERTAS'!B29 -> 44 | C29: ='VERIFICACION DE OFERTAS'!C29 -> CONSORCIO HUILA 2025 | D29: ='VERIFICACION DE OFERTAS'!D29 -> 1.8651492e+09 | E29: ='VERIFICACION DE OFERTAS'!E29 -> 1.8651492e+09 | F29: ='VERIFICACION DE OFERTAS'!F29 -> 0 | G29: =+E29 -> 1.8651492e+09 | H29: =IF(G29>=$F$67,"MAYOR","MENOR") -> MAYOR | I29: =IF(H29="MAYOR",(((59.5*(1-((ABS($F$67-G29))/$F$67))))),(((59.5*(1-((($F$67-G29))/$F$67)))))) -> 59.111277 | J29: =+#REF! -> #REF! | K29: =I29+J29 -> #REF!
B30: =+'VERIFICACION DE OFERTAS'!B30 -> 43 | C30: ='VERIFICACION DE OFERTAS'!C30 -> INGENIERIA RH | D30: ='VERIFICACION DE OFERTAS'!D30 -> 1.8828356e+09 | E30: ='VERIFICACION DE OFERTAS'!E30 -> 1.8828356e+09 | F30: ='VERIFICACION DE OFERTAS'!F30 -> 0 | G30: =+E30 -> 1.8828356e+09 | H30: =IF(G30>=$F$67,"MAYOR","MENOR") -> MAYOR | I30: =IF(H30="MAYOR",(((59.5*(1-((ABS($F$67-G30))/$F$67))))),(((59.5*(1-((($F$67-G30))/$F$67)))))) -> 58.54338 | J30: =+#REF! -> #REF! | K30: =I30+J30 -> #REF!
B31: =+'VERIFICACION DE OFERTAS'!B31 -> 42 | C31: ='VERIFICACION DE OFERTAS'!C31 -> CONSORCIO CE OBRAS HUILA | D31: ='VERIFICACION DE OFERTAS'!D31 -> 1.8342918e+09 | E31: ='VERIFICACION DE OFERTAS'!E31 -> 1.8342918e+09 | F31: ='VERIFICACION DE OFERTAS'!F31 -> 0 | G31: =+E31 -> 1.8342918e+09 | H31: =IF(G31>=$F$67,"MAYOR","MENOR") -> MENOR | I31: =IF(H31="MAYOR",(((59.5*(1-((ABS($F$67-G31))/$F$67))))),(((59.5*(1-((($F$67-G31))/$F$67)))))) -> 58.897911 | J31: =+#REF! -> #REF! | K31: =I31+J31 -> #REF!
B32: =+'VERIFICACION DE OFERTAS'!B32 -> 41 | C32: ='VERIFICACION DE OFERTAS'!C32 -> CONSORCIO HUILA 2D | D32: ='VERIFICACION DE OFERTAS'!D32 -> 1.8733439e+09 | E32: ='VERIFICACION DE OFERTAS'!E32 -> 1.8733439e+09 | F32: ='VERIFICACION DE OFERTAS'!F32 -> 0 | G32: =+E32 -> 1.8733439e+09 | H32: =IF(G32>=$F$67,"MAYOR","MENOR") -> MAYOR | I32: =IF(H32="MAYOR",(((59.5*(1-((ABS($F$67-G32))/$F$67))))),(((59.5*(1-((($F$67-G32))/$F$67)))))) -> 58.848154 | J32: =+#REF! -> #REF! | K32: =I32+J32 -> #REF!
B33: =+'VERIFICACION DE OFERTAS'!B33 -> 39 | C33: ='VERIFICACION DE OFERTAS'!C33 -> CONSORCIO MEGAHUILA | D33: ='VERIFICACION DE OFERTAS'!D33 -> 1.8603139e+09 | E33: ='VERIFICACION DE OFERTAS'!E33 -> 1.8603139e+09 | F33: ='VERIFICACION DE OFERTAS'!F33 -> 0 | G33: =+E33 -> 1.8603139e+09 | H33: =IF(G33>=$F$67,"MAYOR","MENOR") -> MAYOR | I33: =IF(H33="MAYOR",(((59.5*(1-((ABS($F$67-G33))/$F$67))))),(((59.5*(1-((($F$67-G33))/$F$67)))))) -> 59.266537 | J33: =+#REF! -> #REF! | K33: =I33+J33 -> #REF!
B34: =+'VERIFICACION DE OFERTAS'!B34 -> 38 | C34: ='VERIFICACION DE OFERTAS'!C34 -> CONSORCIO OBRAS BIENES | D34: ='VERIFICACION DE OFERTAS'!D34 -> 1.8540051e+09 | E34: ='VERIFICACION DE OFERTAS'!E34 -> 1.8540051e+09 | F34: ='VERIFICACION DE OFERTAS'!F34 -> 0 | G34: =+E34 -> 1.8540051e+09 | H34: =IF(G34>=$F$67,"MAYOR","MENOR") -> MAYOR | I34: =IF(H34="MAYOR",(((59.5*(1-((ABS($F$67-G34))/$F$67))))),(((59.5*(1-((($F$67-G34))/$F$67)))))) -> 59.469108 | J34: =+#REF! -> #REF! | K34: =I34+J34 -> #REF!
B35: =+'VERIFICACION DE OFERTAS'!B35 -> 37 | C35: ='VERIFICACION DE OFERTAS'!C35 -> CONSORCIO CENTRAL V&V | D35: ='VERIFICACION DE OFERTAS'!D35 -> 1.890015e+09 | E35: ='VERIFICACION DE OFERTAS'!E35 -> 1.890015e+09 | F35: ='VERIFICACION DE OFERTAS'!F35 -> 0 | G35: =+E35 -> 1.890015e+09 | H35: =IF(G35>=$F$67,"MAYOR","MENOR") -> MAYOR | I35: =IF(H35="MAYOR",(((59.5*(1-((ABS($F$67-G35))/$F$67))))),(((59.5*(1-((($F$67-G35))/$F$67)))))) -> 58.312855 | J35: =+#REF! -> #REF! | K35: =I35+J35 -> #REF!
B36: =+'VERIFICACION DE OFERTAS'!B36 -> 36 | C36: ='VERIFICACION DE OFERTAS'!C36 -> CONSORCIO ADECUACIONES 2CP | D36: ='VERIFICACION DE OFERTAS'!D36 -> 1.8625895e+09 | E36: ='VERIFICACION DE OFERTAS'!E36 -> 1.8625895e+09 | F36: ='VERIFICACION DE OFERTAS'!F36 -> 0 | G36: =+E36 -> 1.8625895e+09 | H36: =IF(G36>=$F$67,"MAYOR","MENOR") -> MAYOR | I36: =IF(H36="MAYOR",(((59.5*(1-((ABS($F$67-G36))/$F$67))))),(((59.5*(1-((($F$67-G36))/$F$67)))))) -> 59.193469 | J36: =+#REF! -> #REF! | K36: =I36+J36 -> #REF!
B37: =+'VERIFICACION DE OFERTAS'!B37 -> 35 | C37: ='VERIFICACION DE OFERTAS'!C37 -> CONSORCIO MEJORAMIENTO ARSAF | D37: ='VERIFICACION DE OFERTAS'!D37 -> 1.8376335e+09 | E37: ='VERIFICACION DE OFERTAS'!E37 -> 1.8376335e+09 | F37: ='VERIFICACION DE OFERTAS'!F37 -> 0 | G37: =+E37 -> 1.8376335e+09 | H37: =IF(G37>=$F$67,"MAYOR","MENOR") -> MENOR | I37: =IF(H37="MAYOR",(((59.5*(1-((ABS($F$67-G37))/$F$67))))),(((59.5*(1-((($F$67-G37))/$F$67)))))) -> 59.005208 | J37: =+#REF! -> #REF! | K37: =I37+J37 -> #REF!
B38: =+'VERIFICACION DE OFERTAS'!B38 -> 33 | C38: ='VERIFICACION DE OFERTAS'!C38 -> CONSORCIO TURPIAL 2025 | D38: ='VERIFICACION DE OFERTAS'!D38 -> 1.8535522e+09 | E38: ='VERIFICACION DE OFERTAS'!E38 -> 1.8535522e+09 | F38: ='VERIFICACION DE OFERTAS'!F38 -> 0 | G38: =+E38 -> 1.8535522e+09 | H38: =IF(G38>=$F$67,"MAYOR","MENOR") -> MAYOR | I38: =IF(H38="MAYOR",(((59.5*(1-((ABS($F$67-G38))/$F$67))))),(((59.5*(1-((($F$67-G38))/$F$67)))))) -> 59.483651 | J38: =+#REF! -> #REF! | K38: =I38+J38 -> #REF!
B39: =+'VERIFICACION DE OFERTAS'!B39 -> 31 | C39: ='VERIFICACION DE OFERTAS'!C39 -> CONSORCIO ADECUACIONES HUILA 04 | D39: ='VERIFICACION DE OFERTAS'!D39 -> 1.8936516e+09 | E39: ='VERIFICACION DE OFERTAS'!E39 -> 1.8936516e+09 | F39: ='VERIFICACION DE OFERTAS'!F39 -> 0 | G39: =+E39 -> 1.8936516e+09 | H39: =IF(G39>=$F$67,"MAYOR","MENOR") -> MAYOR | I39: =IF(H39="MAYOR",(((59.5*(1-((ABS($F$67-G39))/$F$67))))),(((59.5*(1-((($F$67-G39))/$F$67)))))) -> 58.196086 | J39: =+#REF! -> #REF! | K39: =I39+J39 -> #REF!
B40: =+'VERIFICACION DE OFERTAS'!B40 -> 30 | C40: ='VERIFICACION DE OFERTAS'!C40 -> CONSORCIO OPITA 25 | D40: ='VERIFICACION DE OFERTAS'!D40 -> 1.8837952e+09 | F40: ='VERIFICACION DE OFERTAS'!F40 -> RECHAZADO
B41: =+'VERIFICACION DE OFERTAS'!B41 -> 29 | C41: ='VERIFICACION DE OFERTAS'!C41 -> DRV INGENIERIA SAS | D41: ='VERIFICACION DE OFERTAS'!D41 -> 1.811816e+09 | F41: RECHAZADO
B42: =+'VERIFICACION DE OFERTAS'!B42 -> 26 | C42: ='VERIFICACION DE OFERTAS'!C42 -> CONSORCIO DANES-ML INGENIERIA | D42: ='VERIFICACION DE OFERTAS'!D42 -> 1.8665952e+09 | E42: ='VERIFICACION DE OFERTAS'!E42 -> 1.8665952e+09 | F42: ='VERIFICACION DE OFERTAS'!F42 -> 0 | G42: =+E42 -> 1.8665952e+09 | H42: =IF(G42>=$F$67,"MAYOR","MENOR") -> MAYOR | I42: =IF(H42="MAYOR",(((59.5*(1-((ABS($F$67-G42))/$F$67))))),(((59.5*(1-((($F$67-G42))/$F$67)))))) -> 59.064848 | J42: =+#REF! -> #REF! | K42: =I42+J42 -> #REF!
B43: =+'VERIFICACION DE OFERTAS'!B43 -> 25 | C43: ='VERIFICACION DE OFERTAS'!C43 -> INVERSIONES G Y S S.A.S. | D43: ='VERIFICACION DE OFERTAS'!D43 -> 1.888791e+09 | E43: ='VERIFICACION DE OFERTAS'!E43 -> 1.888791e+09 | F43: ='VERIFICACION DE OFERTAS'!F43 -> 0 | G43: =+E43 -> 1.888791e+09 | H43: =IF(G43>=$F$67,"MAYOR","MENOR") -> MAYOR | I43: =IF(H43="MAYOR",(((59.5*(1-((ABS($F$67-G43))/$F$67))))),(((59.5*(1-((($F$67-G43))/$F$67)))))) -> 58.352156 | J43: =+#REF! -> #REF! | K43: =I43+J43 -> #REF!
B44: =+'VERIFICACION DE OFERTAS'!B44 -> 24 | C44: ='VERIFICACION DE OFERTAS'!C44 -> RAELJA INGENIERIA S.A.S | D44: ='VERIFICACION DE OFERTAS'!D44 -> 1.8598421e+09 | E44: ='VERIFICACION DE OFERTAS'!E44 -> 1.8598421e+09 | F44: ='VERIFICACION DE OFERTAS'!F44 -> 0 | G44: =+E44 -> 1.8598421e+09 | H44: =IF(G44>=$F$67,"MAYOR","MENOR") -> MAYOR | I44: =IF(H44="MAYOR",(((59.5*(1-((ABS($F$67-G44))/$F$67))))),(((59.5*(1-((($F$67-G44))/$F$67)))))) -> 59.281685 | J44: =+#REF! -> #REF! | K44: =I44+J44 -> #REF!
B45: =+'VERIFICACION DE OFERTAS'!B45 -> 23 | C45: ='VERIFICACION DE OFERTAS'!C45 -> GMA Construcciones SAS | D45: ='VERIFICACION DE OFERTAS'!D45 -> 1.8605957e+09 | E45: ='VERIFICACION DE OFERTAS'!E45 -> 1.8605957e+09 | F45: ='VERIFICACION DE OFERTAS'!F45 -> 0 | G45: =+E45 -> 1.8605957e+09 | H45: =IF(G45>=$F$67,"MAYOR","MENOR") -> MAYOR | I45: =IF(H45="MAYOR",(((59.5*(1-((ABS($F$67-G45))/$F$67))))),(((59.5*(1-((($F$67-G45))/$F$67)))))) -> 59.257488 | J45: =+#REF! -> #REF! | K45: =I45+J45 -> #REF!
B46: =+'VERIFICACION DE OFERTAS'!B46 -> 22 | C46: ='VERIFICACION DE OFERTAS'!C46 -> CONSORCIO HUILA WR | D46: ='VERIFICACION DE OFERTAS'!D46 -> 1.8408957e+09 | F46: ='VERIFICACION DE OFERTAS'!F46 -> RECHAZADO
B47: =+'VERIFICACION DE OFERTAS'!B47 -> 21 | C47: ='VERIFICACION DE OFERTAS'!C47 -> UNION TEMPORAL OBRAS GTM | D47: ='VERIFICACION DE OFERTAS'!D47 -> 1.8698875e+09 | F47: ='VERIFICACION DE OFERTAS'!F47 -> RECHAZADO
B48: =+'VERIFICACION DE OFERTAS'!B48 -> 20 | C48: ='VERIFICACION DE OFERTAS'!C48 -> INGEVILL S.A.S | D48: ='VERIFICACION DE OFERTAS'!D48 -> 1.8958086e+09 | E48: ='VERIFICACION DE OFERTAS'!E48 -> 1.8958086e+09 | F48: ='VERIFICACION DE OFERTAS'!F48 -> 0 | G48: =+E48 -> 1.8958086e+09 | H48: =IF(G48>=$F$67,"MAYOR","MENOR") -> MAYOR | I48: =IF(H48="MAYOR",(((59.5*(1-((ABS($F$67-G48))/$F$67))))),(((59.5*(1-((($F$67-G48))/$F$67)))))) -> 58.126827 | J48: =+#REF! -> #REF! | K48: =I48+J48 -> #REF!
B49: =+'VERIFICACION DE OFERTAS'!B49 -> 19 | C49: ='VERIFICACION DE OFERTAS'!C49 -> PROCIVING SAS | D49: ='VERIFICACION DE OFERTAS'!D49 -> 1.8669742e+09 | F49: ='VERIFICACION DE OFERTAS'!F49 -> RECHAZADO
B50: =+'VERIFICACION DE OFERTAS'!B50 -> 17 | C50: ='VERIFICACION DE OFERTAS'!C50 -> CONSORCIO NOVA CENTRAL | D50: ='VERIFICACION DE OFERTAS'!D50 -> 1.8523041e+09 | E50: ='VERIFICACION DE OFERTAS'!E50 -> 1.8523041e+09 | F50: ='VERIFICACION DE OFERTAS'!F50 -> 0 | G50: =+E50 -> 1.8523041e+09 | H50: =IF(G50>=$F$67,"MAYOR","MENOR") -> MENOR | I50: =IF(H50="MAYOR",(((59.5*(1-((ABS($F$67-G50))/$F$67))))),(((59.5*(1-((($F$67-G50))/$F$67)))))) -> 59.476274 | J50: =+#REF! -> #REF! | K50: =I50+J50 -> #REF!
B51: =+'VERIFICACION DE OFERTAS'!B51 -> 15 | C51: ='VERIFICACION DE OFERTAS'!C51 -> BRACOL GROUP SAS | D51: ='VERIFICACION DE OFERTAS'!D51 -> 1.8712405e+09 | E51: ='VERIFICACION DE OFERTAS'!E51 -> 1.8712405e+09 | F51: ='VERIFICACION DE OFERTAS'!F51 -> 0 | G51: =+E51 -> 1.8712405e+09 | H51: =IF(G51>=$F$67,"MAYOR","MENOR") -> MAYOR | I51: =IF(H51="MAYOR",(((59.5*(1-((ABS($F$67-G51))/$F$67))))),(((59.5*(1-((($F$67-G51))/$F$67)))))) -> 58.91569 | J51: =+#REF! -> #REF! | K51: =I51+J51 -> #REF!
B52: =+'VERIFICACION DE OFERTAS'!B52 -> 14 | C52: ='VERIFICACION DE OFERTAS'!C52 -> RAR CONSTRUCTORES SAS | D52: ='VERIFICACION DE OFERTAS'!D52 -> 1.8898033e+09 | E52: ='VERIFICACION DE OFERTAS'!E52 -> 1.8898033e+09 | F52: ='VERIFICACION DE OFERTAS'!F52 -> 0 | G52: =+E52 -> 1.8898033e+09 | H52: =IF(G52>=$F$67,"MAYOR","MENOR") -> MAYOR | I52: =IF(H52="MAYOR",(((59.5*(1-((ABS($F$67-G52))/$F$67))))),(((59.5*(1-((($F$67-G52))/$F$67)))))) -> 58.319651 | J52: =+#REF! -> #REF! | K52: =I52+J52 -> #REF!
B53: =+'VERIFICACION DE OFERTAS'!B53 -> 13 | C53: ='VERIFICACION DE OFERTAS'!C53 -> HyD S.A.S. | D53: ='VERIFICACION DE OFERTAS'!D53 -> 1874948880 | F53: ='VERIFICACION DE OFERTAS'!F53 -> RECHAZADO
B54: =+'VERIFICACION DE OFERTAS'!B54 -> 11 | C54: ='VERIFICACION DE OFERTAS'!C54 -> CONSORCIO ADECUACIONES HUILA 2025 | D54: ='VERIFICACION DE OFERTAS'!D54 -> 1.8690798e+09 | E54: ='VERIFICACION DE OFERTAS'!E54 -> 1.8690798e+09 | F54: ='VERIFICACION DE OFERTAS'!F54 -> 0 | G54: =+E54 -> 1.8690798e+09 | H54: =IF(G54>=$F$67,"MAYOR","MENOR") -> MAYOR | I54: =IF(H54="MAYOR",(((59.5*(1-((ABS($F$67-G54))/$F$67))))),(((59.5*(1-((($F$67-G54))/$F$67)))))) -> 58.985071 | J54: =+#REF! -> #REF! | K54: =I54+J54 -> #REF!
B55: =+'VERIFICACION DE OFERTAS'!B55 -> 10 | C55: ='VERIFICACION DE OFERTAS'!C55 -> CONSORCIO ADECUACIONES HUILA 2025 | D55: ='VERIFICACION DE OFERTAS'!D55 -> 1.8897156e+09 | E55: ='VERIFICACION DE OFERTAS'!E55 -> 1.8897156e+09 | F55: ='VERIFICACION DE OFERTAS'!F55 -> 0 | G55: =+E55 -> 1.8897156e+09 | H55: =IF(G55>=$F$67,"MAYOR","MENOR") -> MAYOR | I55: =IF(H55="MAYOR",(((59.5*(1-((ABS($F$67-G55))/$F$67))))),(((59.5*(1-((($F$67-G55))/$F$67)))))) -> 58.322467 | J55: =+#REF! -> #REF! | K55: =I55+J55 -> #REF!
B56: =+'VERIFICACION DE OFERTAS'!B56 -> 9 | C56: ='VERIFICACION DE OFERTAS'!C56 -> CONSORCIO CONSTRUCCIONES INGLAR | D56: ='VERIFICACION DE OFERTAS'!D56 -> 1.8379631e+09 | F56: ='VERIFICACION DE OFERTAS'!F56 -> RECHAZADO
B57: =+'VERIFICACION DE OFERTAS'!B57 -> 8 | C57: ='VERIFICACION DE OFERTAS'!C57 -> CONSORCIO ADECUACIONES GOBERNACIÓN DEL HUILA 2025 | D57: ='VERIFICACION DE OFERTAS'!D57 -> 1.9260745e+09 | E57: ='VERIFICACION DE OFERTAS'!E57 -> 1.9260745e+09 | F57: ='VERIFICACION DE OFERTAS'!F57 -> 0 | G57: =+E57 -> 1.9260745e+09 | H57: =IF(G57>=$F$67,"MAYOR","MENOR") -> MAYOR | I57: =IF(H57="MAYOR",(((59.5*(1-((ABS($F$67-G57))/$F$67))))),(((59.5*(1-((($F$67-G57))/$F$67)))))) -> 57.155007 | J57: =+#REF! -> #REF! | K57: =I57+J57 -> #REF!
B58: =+'VERIFICACION DE OFERTAS'!B58 -> 7 | C58: ='VERIFICACION DE OFERTAS'!C58 -> CONSORCIO INGE-NEIVA 2025 | D58: ='VERIFICACION DE OFERTAS'!D58 -> 1.8644693e+09 | E58: ='VERIFICACION DE OFERTAS'!E58 -> 1.8644693e+09 | F58: ='VERIFICACION DE OFERTAS'!F58 -> 0 | G58: =+E58 -> 1.8644693e+09 | H58: =IF(G58>=$F$67,"MAYOR","MENOR") -> MAYOR | I58: =IF(H58="MAYOR",(((59.5*(1-((ABS($F$67-G58))/$F$67))))),(((59.5*(1-((($F$67-G58))/$F$67)))))) -> 59.133109 | J58: =+#REF! -> #REF! | K58: =I58+J58 -> #REF!
B59: =+'VERIFICACION DE OFERTAS'!B59 -> 6 | C59: ='VERIFICACION DE OFERTAS'!C59 -> CONSORCIO MEJORAMIENTO DT | D59: ='VERIFICACION DE OFERTAS'!D59 -> 1.883055e+09 | E59: ='VERIFICACION DE OFERTAS'!E59 -> 1.883055e+09 | F59: ='VERIFICACION DE OFERTAS'!F59 -> 0 | G59: =+E59 -> 1.883055e+09 | H59: =IF(G59>=$F$67,"MAYOR","MENOR") -> MAYOR | I59: =IF(H59="MAYOR",(((59.5*(1-((ABS($F$67-G59))/$F$67))))),(((59.5*(1-((($F$67-G59))/$F$67)))))) -> 58.536335 | J59: =+#REF! -> #REF! | K59: =I59+J59 -> #REF!
B60: =+'VERIFICACION DE OFERTAS'!B60 -> 5 | C60: ='VERIFICACION DE OFERTAS'!C60 -> CONSORCIO VENTURA | D60: ='VERIFICACION DE OFERTAS'!D60 -> 1.8496609e+09 | E60: ='VERIFICACION DE OFERTAS'!E60 -> 1.8496609e+09 | F60: ='VERIFICACION DE OFERTAS'!F60 -> 0 | G60: =+E60 -> 1.8496609e+09 | H60: =IF(G60>=$F$67,"MAYOR","MENOR") -> MENOR | I60: =IF(H60="MAYOR",(((59.5*(1-((ABS($F$67-G60))/$F$67))))),(((59.5*(1-((($F$67-G60))/$F$67)))))) -> 59.391402 | J60: =+#REF! -> #REF! | K60: =I60+J60 -> #REF!
B61: =+'VERIFICACION DE OFERTAS'!B61 -> 3 | C61: ='VERIFICACION DE OFERTAS'!C61 -> CONSTRUCTORA DARJA SAS | D61: ='VERIFICACION DE OFERTAS'!D61 -> 1.8705124e+09 | E61: ='VERIFICACION DE OFERTAS'!E61 -> 1.8705124e+09 | F61: ='VERIFICACION DE OFERTAS'!F61 -> 0 | G61: =+E61 -> 1.8705124e+09 | H61: =IF(G61>=$F$67,"MAYOR","MENOR") -> MAYOR | I61: =IF(H61="MAYOR",(((59.5*(1-((ABS($F$67-G61))/$F$67))))),(((59.5*(1-((($F$67-G61))/$F$67)))))) -> 58.93907 | J61: =+#REF! -> #REF! | K61: =I61+J61 -> #REF!
B62: =+'VERIFICACION DE OFERTAS'!B62 -> 1 | C62: ='VERIFICACION DE OFERTAS'!C62 -> CONSORCIO LIESTRU | D62: ='VERIFICACION DE OFERTAS'!D62 -> 1.8710434e+09 | E62: ='VERIFICACION DE OFERTAS'!E62 -> 1.8710434e+09 | F62: ='VERIFICACION DE OFERTAS'!F62 -> 0 | G62: =+E62 -> 1.8710434e+09 | H62: =IF(G62>=$F$67,"MAYOR","MENOR") -> MAYOR | I62: =IF(H62="MAYOR",(((59.5*(1-((ABS($F$67-G62))/$F$67))))),(((59.5*(1-((($F$67-G62))/$F$67)))))) -> 58.922019 | J62: =+#REF! -> #REF! | K62: =I62+J62 -> #REF!
E64: MENOR VALOR | F64: =MIN(G3:G62) -> 1.8342918e+09
E65: PROMEDIO SIMPLE | F65: =AVERAGE(G3:G62) -> 1.8717942e+09
E67: PROMEDIO ARITMETICO | F67: =((F64+F65)/2) -> 1.853043e+09

Sheet MAB 1-aceptando 72-35
B2: PROPUESTA | C2: PROPONENTE | D2: PROPUESTA ECONÓMICA | E2: SECOP | F2: CORRECCIÓN ARITMÉTICA | G2: VALOR PROPUESTA ECONÓMICA | H2: MAYOR O MENOR | I2: PUNTOS | J2: PUNTUACION INICIAL | K2: TOTAL PUNTUACIÓN
B3: =+'VERIFICACION DE OFERTAS'!B3 -> 81 | C3: ='VERIFICACION DE OFERTAS'!C3 -> CONSORCIO EDIFICIO CENTRAL | D3: ='VERIFICACION DE OFERTAS'!D3 -> 1.9215243e+09 | F3: ='VERIFICACION DE OFERTAS'!F3 -> RECHAZADO
B4: =+'VERIFICACION DE OFERTAS'!B4 -> 77 | C4: ='VERIFICACION DE OFERTAS'!C4 -> CONINCAG SAS | D4: ='VERIFICACION DE OFERTAS'!D4 -> 1.8637327e+09 | F4: ='VERIFICACION DE OFERTAS'!F4 -> RECHAZADO
B5: =+'VERIFICACION DE OFERTAS'!B5 -> 74 | C5: ='VERIFICACION DE OFERTAS'!C5 -> CONSORCIO MANASSA 28 | D5: ='VERIFICACION DE OFERTAS'!D5 -> 1.8675064e+09 | E5: ='VERIFICACION DE OFERTAS'!E5 -> 1.8675064e+09 | F5: ='VERIFICACION DE OFERTAS'!F5 -> 0 | G5: =+E5 -> 1.8675064e+09 | H5: =IF(G5>=$F$67,"MAYOR","MENOR") -> MAYOR | I5: =IF(H5="MAYOR",(((59.5*(1-((ABS($F$67-G5))/$F$67))))),(((59.5*(1-((($F$67-G5))/$F$67)))))) -> 59.058257 | J5: =+#REF! -> #REF! | K5: =I5+J5 -> #REF!
B6: =+'VERIFICACION DE OFERTAS'!B6 -> 73 | C6: ='VERIFICACION DE OFERTAS'!C6 -> CONSORCIO SANTANA 2025 | D6: ='VERIFICACION DE OFERTAS'!D6 -> 1.8631888e+09 | E6: ='VERIFICACION DE OFERTAS'!E6 -> 1.8631888e+09 | F6: ='VERIFICACION DE OFERTAS'!F6 -> 0 | G6: =+E6 -> 1.8631888e+09 | H6: =IF(G6>=$F$67,"MAYOR","MENOR") -> MAYOR | I6: =IF(H6="MAYOR",(((59.5*(1-((ABS($F$67-G6))/$F$67))))),(((59.5*(1-((($F$67-G6))/$F$67)))))) -> 59.19684 | J6: =+#REF! -> #REF! | K6: =I6+J6 -> #REF!
B7: =+'VERIFICACION DE OFERTAS'!B7 -> 72 | C7: ='VERIFICACION DE OFERTAS'!C7 -> Fundacion Espeletia | D7: ='VERIFICACION DE OFERTAS'!D7 -> 1.834841e+09 | E7: ='VERIFICACION DE OFERTAS'!E7 -> 1.834841e+09 | F7: ='VERIFICACION DE OFERTAS'!F7 -> 0 | G7: =+E7 -> 1.834841e+09 | H7: =IF(G7>=$F$67,"MAYOR","MENOR") -> MENOR | I7: =IF(H7="MAYOR",(((59.5*(1-((ABS($F$67-G7))/$F$67))))),(((59.5*(1-((($F$67-G7))/$F$67)))))) -> 58.893273 | J7: =+#REF! -> #REF! | K7: =I7+J7 -> #REF!
B8: =+'VERIFICACION DE OFERTAS'!B8 -> 71 | C8: ='VERIFICACION DE OFERTAS'!C8 -> Consorcio CONSTRUCTOR CENTRAL | D8: ='VERIFICACION DE OFERTAS'!D8 -> 1.8579391e+09 | E8: ='VERIFICACION DE OFERTAS'!E8 -> 1.8579391e+09 | F8: ='VERIFICACION DE OFERTAS'!F8 -> 0 | G8: =+E8 -> 1.8579391e+09 | H8: =IF(G8>=$F$67,"MAYOR","MENOR") -> MAYOR | I8: =IF(H8="MAYOR",(((59.5*(1-((ABS($F$67-G8))/$F$67))))),(((59.5*(1-((($F$67-G8))/$F$67)))))) -> 59.36534 | J8: =+#REF! -> #REF! | K8: =I8+J8 -> #REF!
B9: =+'VERIFICACION DE OFERTAS'!B9 -> 69 | C9: ='VERIFICACION DE OFERTAS'!C9 -> CONSORCIO INGEGOBER | D9: ='VERIFICACION DE OFERTAS'!D9 -> 1.8651617e+09 | F9: ='VERIFICACION DE OFERTAS'!F9 -> RECHAZADO
B10: =+'VERIFICACION DE OFERTAS'!B10 -> 66 | C10: ='VERIFICACION DE OFERTAS'!C10 -> CONSORCIO ARCUM | D10: ='VERIFICACION DE OFERTAS'!D10 -> 1.8614113e+09 | E10: ='VERIFICACION DE OFERTAS'!E10 -> 1.8614113e+09 | F10: ='VERIFICACION DE OFERTAS'!F10 -> 0 | G10: =+E10 -> 1.8614113e+09 | H10: =IF(G10>=$F$67,"MAYOR","MENOR") -> MAYOR | I10: =IF(H10="MAYOR",(((59.5*(1-((ABS($F$67-G10))/$F$67))))),(((59.5*(1-((($F$67-G10))/$F$67)))))) -> 59.253892 | J10: =+#REF! -> #REF! | K10: =I10+J10 -> #REF!
B11: =+'VERIFICACION DE OFERTAS'!B11 -> 65 | C11: ='VERIFICACION DE OFERTAS'!C11 -> CONSORCIO SANTA RITA | D11: ='VERIFICACION DE OFERTAS'!D11 -> 1.893037e+09 | F11: ='VERIFICACION DE OFERTAS'!F11 -> RECHAZADO
B12: =+'VERIFICACION DE OFERTAS'!B12 -> 64 | C12: ='VERIFICACION DE OFERTAS'!C12 -> CONSORCIO OBRAS GMJ 2025 | D12: ='VERIFICACION DE OFERTAS'!D12 -> 1.8926652e+09 | E12: ='VERIFICACION DE OFERTAS'!E12 -> 1.8926652e+09 | F12: ='VERIFICACION DE OFERTAS'!F12 -> 0 | G12: =+E12 -> 1.8926652e+09 | H12: =IF(G12>=$F$67,"MAYOR","MENOR") -> MAYOR | I12: =IF(H12="MAYOR",(((59.5*(1-((ABS($F$67-G12))/$F$67))))),(((59.5*(1-((($F$67-G12))/$F$67)))))) -> 58.250731 | J12: =+#REF! -> #REF! | K12: =I12+J12 -> #REF!
B13: =+'VERIFICACION DE OFERTAS'!B13 -> 63 | C13: ='VERIFICACION DE OFERTAS'!C13 -> CONSORCIO INACAL NEIVA | D13: ='VERIFICACION DE OFERTAS'!D13 -> 1.8800857e+09 | E13: ='VERIFICACION DE OFERTAS'!E13 -> 1.8800857e+09 | F13: ='VERIFICACION DE OFERTAS'!F13 -> 0 | G13: =+E13 -> 1.8800857e+09 | H13: =IF(G13>=$F$67,"MAYOR","MENOR") -> MAYOR | I13: =IF(H13="MAYOR",(((59.5*(1-((ABS($F$67-G13))/$F$67))))),(((59.5*(1-((($F$67-G13))/$F$67)))))) -> 58.654498 | J13: =+#REF! -> #REF! | K13: =I13+J13 -> #REF!
B14: =+'VERIFICACION DE OFERTAS'!B14 -> 62 | C14: ='VERIFICACION DE OFERTAS'!C14 -> BRACO COMPANY S.A.S ZOMAC | D14: ='VERIFICACION DE OFERTAS'!D14 -> 1.9123188e+09 | E14: ='VERIFICACION DE OFERTAS'!E14 -> 1.9123188e+09 | F14: ='VERIFICACION DE OFERTAS'!F14 -> 0 | G14: =+E14 -> 1.9123188e+09 | H14: =IF(G14>=$F$67,"MAYOR","MENOR") -> MAYOR | I14: =IF(H14="MAYOR",(((59.5*(1-((ABS($F$67-G14))/$F$67))))),(((59.5*(1-((($F$67-G14))/$F$67)))))) -> 57.619906 | J14: =+#REF! -> #REF! | K14: =I14+J14 -> #REF!
B15: =+'VERIFICACION DE OFERTAS'!B15 -> 61 | C15: ='VERIFICACION DE OFERTAS'!C15 -> TELEACCESS LTDA | D15: ='VERIFICACION DE OFERTAS'!D15 -> 1.8873033e+09 | E15: ='VERIFICACION DE OFERTAS'!E15 -> 1.8873033e+09 | F15: ='VERIFICACION DE OFERTAS'!F15 -> 0 | G15: =+E15 -> 1.8873033e+09 | H15: =IF(G15>=$F$67,"MAYOR","MENOR") -> MAYOR | I15: =IF(H15="MAYOR",(((59.5*(1-((ABS($F$67-G15))/$F$67))))),(((59.5*(1-((($F$67-G15))/$F$67)))))) -> 58.422833 | J15: =+#REF! -> #REF! | K15: =I15+J15 -> #REF!
B16: =+'VERIFICACION DE OFERTAS'!B16 -> 60 | C16: ='VERIFICACION DE OFERTAS'!C16 -> 3G INGENERIA AVANZADA SAS | D16: ='VERIFICACION DE OFERTAS'!D16 -> 1.8467217e+09 | E16: ='VERIFICACION DE OFERTAS'!E16 -> 1.8467217e+09 | F16: ='VERIFICACION DE OFERTAS'!F16 -> 0 | G16: =+E16 -> 1.8467217e+09 | H16: =IF(G16>=$F$67,"MAYOR","MENOR") -> MENOR | I16: =IF(H16="MAYOR",(((59.5*(1-((ABS($F$67-G16))/$F$67))))),(((59.5*(1-((($F$67-G16))/$F$67)))))) -> 59.274611 | J16: =+#REF! -> #REF! | K16: =I16+J16 -> #REF!
B17: =+'VERIFICACION DE OFERTAS'!B17 -> 59 | C17: ='VERIFICACION DE OFERTAS'!C17 -> CONSORCIO HUILA DUOVAL 324 | D17: ='VERIFICACION DE OFERTAS'!D17 -> 1.8540754e+09 | F17: ='VERIFICACION DE OFERTAS'!F17 -> RECHAZADO
B18: =+'VERIFICACION DE OFERTAS'!B18 -> 58 | C18: ='VERIFICACION DE OFERTAS'!C18 -> CONSORCIO GPIng | D18: ='VERIFICACION DE OFERTAS'!D18 -> 1.8371757e+09 | F18: ='VERIFICACION DE OFERTAS'!F18 -> RECHAZADO
B19: =+'VERIFICACION DE OFERTAS'!B19 -> 57 | C19: ='VERIFICACION DE OFERTAS'!C19 -> CONSORCIO SANLORENZO | D19: ='VERIFICACION DE OFERTAS'!D19 -> 1.8704546e+09 | E19: ='VERIFICACION DE OFERTAS'!E19 -> 1.8704546e+09 | F19: ='VERIFICACION DE OFERTAS'!F19 -> 0 | G19: =+E19 -> 1.8704546e+09 | H19: =IF(G19>=$F$67,"MAYOR","MENOR") -> MAYOR | I19: =IF(H19="MAYOR",(((59.5*(1-((ABS($F$67-G19))/$F$67))))),(((59.5*(1-((($F$67-G19))/$F$67)))))) -> 58.963627 | J19: =+#REF! -> #REF! | K19: =I19+J19 -> #REF!
B20: =+'VERIFICACION DE OFERTAS'!B20 -> 54 | C20: ='VERIFICACION DE OFERTAS'!C20 -> CONSORCIO OCIDAN HUILA-13 | D20: ='VERIFICACION DE OFERTAS'!D20 -> 1.8647464e+09 | E20: ='VERIFICACION DE OFERTAS'!E20 -> 1.8647464e+09 | F20: ='VERIFICACION DE OFERTAS'!F20 -> 0 | G20: =+E20 -> 1.8647464e+09 | H20: =IF(G20>=$F$67,"MAYOR","MENOR") -> MAYOR | I20: =IF(H20="MAYOR",(((59.5*(1-((ABS($F$67-G20))/$F$67))))),(((59.5*(1-((($F$67-G20))/$F$67)))))) -> 59.146845 | J20: =+#REF! -> #REF! | K20: =I20+J20 -> #REF!
B21: =+'VERIFICACION DE OFERTAS'!B21 -> 53 | C21: ='VERIFICACION DE OFERTAS'!C21 -> CONSORCIO PROHAL 2025 | D21: ='VERIFICACION DE OFERTAS'!D21 -> 1.8734265e+09 | F21: ='VERIFICACION DE OFERTAS'!F21 -> RECHAZADO
B22: =+'VERIFICACION DE OFERTAS'!B22 -> 52 | C22: ='VERIFICACION DE OFERTAS'!C22 -> ZION CONSTRUCCIONES SAS | D22: ='VERIFICACION DE OFERTAS'!D22 -> 1.8913215e+09 | E22: ='VERIFICACION DE OFERTAS'!E22 -> 1.8913215e+09 | F22: ='VERIFICACION DE OFERTAS'!F22 -> 0 | G22: =+E22 -> 1.8913215e+09 | H22: =IF(G22>=$F$67,"MAYOR","MENOR") -> MAYOR | I22: =IF(H22="MAYOR",(((59.5*(1-((ABS($F$67-G22))/$F$67))))),(((59.5*(1-((($F$67-G22))/$F$67)))))) -> 58.293859 | J22: =+#REF! -> #REF! | K22: =I22+J22 -> #REF!
B23: =+'VERIFICACION DE OFERTAS'!B23 -> 51 | C23: ='VERIFICACION DE OFERTAS'!C23 -> CONSORCIO E&C HUILA | D23: ='VERIFICACION DE OFERTAS'!D23 -> 1.904256e+09 | E23: ='VERIFICACION DE OFERTAS'!E23 -> 1.904256e+09 | F23: ='VERIFICACION DE OFERTAS'!F23 -> 0 | G23: =+E23 -> 1.904256e+09 | H23: =IF(G23>=$F$67,"MAYOR","MENOR") -> MAYOR | I23: =IF(H23="MAYOR",(((59.5*(1-((ABS($F$67-G23))/$F$67))))),(((59.5*(1-((($F$67-G23))/$F$67)))))) -> 57.878698 | J23: =+#REF! -> #REF! | K23: =I23+J23 -> #REF!
B24: =+'VERIFICACION DE OFERTAS'!B24 -> 50 | C24: ='VERIFICACION DE OFERTAS'!C24 -> MONVAL GROUP | D24: ='VERIFICACION DE OFERTAS'!D24 -> 1.8950456e+09 | E24: ='VERIFICACION DE OFERTAS'!E24 -> 1.8950456e+09 | F24: ='VERIFICACION DE OFERTAS'!F24 -> 0 | G24: =+E24 -> 1.8950456e+09 | H24: =IF(G24>=$F$67,"MAYOR","MENOR") -> MAYOR | I24: =IF(H24="MAYOR",(((59.5*(1-((ABS($F$67-G24))/$F$67))))),(((59.5*(1-((($F$67-G24))/$F$67)))))) -> 58.174326 | J24: =+#REF! -> #REF! | K24: =I24+J24 -> #REF!
B25: =+'VERIFICACION DE OFERTAS'!B25 -> 49 | C25: ='VERIFICACION DE OFERTAS'!C25 -> CONSORCIO CASTILLO | D25: ='VERIFICACION DE OFERTAS'!D25 -> 1.8671131e+09 | E25: ='VERIFICACION DE OFERTAS'!E25 -> 1.8671131e+09 | F25: ='VERIFICACION DE OFERTAS'!F25 -> 0 | G25: =+E25 -> 1.8671131e+09 | H25: =IF(G25>=$F$67,"MAYOR","MENOR") -> MAYOR | I25: =IF(H25="MAYOR",(((59.5*(1-((ABS($F$67-G25))/$F$67))))),(((59.5*(1-((($F$67-G25))/$F$67)))))) -> 59.07088 | J25: =+#REF! -> #REF! | K25: =I25+J25 -> #REF!
B26: =+'VERIFICACION DE OFERTAS'!B26 -> 48 | C26: ='VERIFICACION DE OFERTAS'!C26 -> CONSORCIO CENTRAL MIV | D26: ='VERIFICACION DE OFERTAS'!D26 -> 1.8508276e+09 | E26: ='VERIFICACION DE OFERTAS'!E26 -> 1.8508276e+09 | F26: ='VERIFICACION DE OFERTAS'!F26 -> 0 | G26: =+E26 -> 1.8508276e+09 | H26: =IF(G26>=$F$67,"MAYOR","MENOR") -> MENOR | I26: =IF(H26="MAYOR",(((59.5*(1-((ABS($F$67-G26))/$F$67))))),(((59.5*(1-((($F$67-G26))/$F$67)))))) -> 59.406401 | J26: =+#REF! -> #REF! | K26: =I26+J26 -> #REF!
B27: =+'VERIFICACION DE OFERTAS'!B27 -> 46 | C27: ='VERIFICACION DE OFERTAS'!C27 -> UNION TEMPORAL INNOVA | D27: ='VERIFICACION DE OFERTAS'!D27 -> 1.8827596e+09 | F27: ='VERIFICACION DE OFERTAS'!F27 -> RECHAZADO
B28: =+'VERIFICACION DE OFERTAS'!B28 -> 45 | C28: ='VERIFICACION DE OFERTAS'!C28 -> Adecuaciones jeroca | D28: ='VERIFICACION DE OFERTAS'!D28 -> 1.8670212e+09 | E28: ='VERIFICACION DE OFERTAS'!E28 -> 1.8670212e+09 | F28: ='VERIFICACION DE OFERTAS'!F28 -> 0 | G28: =+E28 -> 1.8670212e+09 | H28: =IF(G28>=$F$67,"MAYOR","MENOR") -> MAYOR | I28: =IF(H28="MAYOR",(((59.5*(1-((ABS($F$67-G28))/$F$67))))),(((59.5*(1-((($F$67-G28))/$F$67)))))) -> 59.07383 | J28: =+#REF! -> #REF! | K28: =I28+J28 -> #REF!
B29: =+'VERIFICACION DE OFERTAS'!B29 -> 44 | C29: ='VERIFICACION DE OFERTAS'!C29 -> CONSORCIO HUILA 2025 | D29: ='VERIFICACION DE OFERTAS'!D29 -> 1.8651492e+09 | E29: ='VERIFICACION DE OFERTAS'!E29 -> 1.8651492e+09 | F29: ='VERIFICACION DE OFERTAS'!F29 -> 0 | G29: =+E29 -> 1.8651492e+09 | H29: =IF(G29>=$F$67,"MAYOR","MENOR") -> MAYOR | I29: =IF(H29="MAYOR",(((59.5*(1-((ABS($F$67-G29))/$F$67))))),(((59.5*(1-((($F$67-G29))/$F$67)))))) -> 59.133916 | J29: =+#REF! -> #REF! | K29: =I29+J29 -> #REF!
B30: =+'VERIFICACION DE OFERTAS'!B30 -> 43 | C30: ='VERIFICACION DE OFERTAS'!C30 -> INGENIERIA RH | D30: ='VERIFICACION DE OFERTAS'!D30 -> 1.8828356e+09 | E30: ='VERIFICACION DE OFERTAS'!E30 -> 1.8828356e+09 | F30: ='VERIFICACION DE OFERTAS'!F30 -> 0 | G30: =+E30 -> 1.8828356e+09 | H30: =IF(G30>=$F$67,"MAYOR","MENOR") -> MAYOR | I30: =IF(H30="MAYOR",(((59.5*(1-((ABS($F$67-G30))/$F$67))))),(((59.5*(1-((($F$67-G30))/$F$67)))))) -> 58.566233 | J30: =+#REF! -> #REF! | K30: =I30+J30 -> #REF!
B31: =+'VERIFICACION DE OFERTAS'!B31 -> 42 | C31: ='VERIFICACION DE OFERTAS'!C31 -> CONSORCIO CE OBRAS HUILA | D31: ='VERIFICACION DE OFERTAS'!D31 -> 1.8342918e+09 | F31: RECHAZADO
B32: =+'VERIFICACION DE OFERTAS'!B32 -> 41 | C32: ='VERIFICACION DE OFERTAS'!C32 -> CONSORCIO HUILA 2D | D32: ='VERIFICACION DE OFERTAS'!D32 -> 1.8733439e+09 | E32: ='VERIFICACION DE OFERTAS'!E32 -> 1.8733439e+09 | F32: ='VERIFICACION DE OFERTAS'!F32 -> 0 | G32: =+E32 -> 1.8733439e+09 | H32: =IF(G32>=$F$67,"MAYOR","MENOR") -> MAYOR | I32: =IF(H32="MAYOR",(((59.5*(1-((ABS($F$67-G32))/$F$67))))),(((59.5*(1-((($F$67-G32))/$F$67)))))) -> 58.870891 | J32: =+#REF! -> #REF! | K32: =I32+J32 -> #REF!
B33: =+'VERIFICACION DE OFERTAS'!B33 -> 39 | C33: ='VERIFICACION DE OFERTAS'!C33 -> CONSORCIO MEGAHUILA | D33: ='VERIFICACION DE OFERTAS'!D33 -> 1.8603139e+09 | E33: ='VERIFICACION DE OFERTAS'!E33 -> 1.8603139e+09 | F33: ='VERIFICACION DE OFERTAS'!F33 -> 0 | G33: =+E33 -> 1.8603139e+09 | H33: =IF(G33>=$F$67,"MAYOR","MENOR") -> MAYOR | I33: =IF(H33="MAYOR",(((59.5*(1-((ABS($F$67-G33))/$F$67))))),(((59.5*(1-((($F$67-G33))/$F$67)))))) -> 59.289117 | J33: =+#REF! -> #REF! | K33: =I33+J33 -> #REF!
B34: =+'VERIFICACION DE OFERTAS'!B34 -> 38 | C34: ='VERIFICACION DE OFERTAS'!C34 -> CONSORCIO OBRAS BIENES | D34: ='VERIFICACION DE OFERTAS'!D34 -> 1.8540051e+09 | E34: ='VERIFICACION DE OFERTAS'!E34 -> 1.8540051e+09 | F34: ='VERIFICACION DE OFERTAS'!F34 -> 0 | G34: =+E34 -> 1.8540051e+09 | H34: =IF(G34>=$F$67,"MAYOR","MENOR") -> MAYOR | I34: =IF(H34="MAYOR",(((59.5*(1-((ABS($F$67-G34))/$F$67))))),(((59.5*(1-((($F$67-G34))/$F$67)))))) -> 59.491611 | J34: =+#REF! -> #REF! | K34: =I34+J34 -> #REF!
B35: =+'VERIFICACION DE OFERTAS'!B35 -> 37 | C35: ='VERIFICACION DE OFERTAS'!C35 -> CONSORCIO CENTRAL V&V | D35: ='VERIFICACION DE OFERTAS'!D35 -> 1.890015e+09 | E35: ='VERIFICACION DE OFERTAS'!E35 -> 1.890015e+09 | F35: ='VERIFICACION DE OFERTAS'!F35 -> 0 | G35: =+E35 -> 1.890015e+09 | H35: =IF(G35>=$F$67,"MAYOR","MENOR") -> MAYOR | I35: =IF(H35="MAYOR",(((59.5*(1-((ABS($F$67-G35))/$F$67))))),(((59.5*(1-((($F$67-G35))/$F$67)))))) -> 58.335795 | J35: =+#REF! -> #REF! | K35: =I35+J35 -> #REF!
B36: =+'VERIFICACION DE OFERTAS'!B36 -> 36 | C36: ='VERIFICACION DE OFERTAS'!C36 -> CONSORCIO ADECUACIONES 2CP | D36: ='VERIFICACION DE OFERTAS'!D36 -> 1.8625895e+09 | E36: ='VERIFICACION DE OFERTAS'!E36 -> 1.8625895e+09 | F36: ='VERIFICACION DE OFERTAS'!F36 -> 0 | G36: =+E36 -> 1.8625895e+09 | H36: =IF(G36>=$F$67,"MAYOR","MENOR") -> MAYOR | I36: =IF(H36="MAYOR",(((59.5*(1-((ABS($F$67-G36))/$F$67))))),(((59.5*(1-((($F$67-G36))/$F$67)))))) -> 59.216076 | J36: =+#REF! -> #REF! | K36: =I36+J36 -> #REF!
B37: =+'VERIFICACION DE OFERTAS'!B37 -> 35 | C37: ='VERIFICACION DE OFERTAS'!C37 -> CONSORCIO MEJORAMIENTO ARSAF | D37: ='VERIFICACION DE OFERTAS'!D37 -> 1.8376335e+09 | E37: ='VERIFICACION DE OFERTAS'!E37 -> 1.8376335e+09 | F37: ='VERIFICACION DE OFERTAS'!F37 -> 0 | G37: =+E37 -> 1.8376335e+09 | H37: =IF(G37>=$F$67,"MAYOR","MENOR") -> MENOR | I37: =IF(H37="MAYOR",(((59.5*(1-((ABS($F$67-G37))/$F$67))))),(((59.5*(1-((($F$67-G37))/$F$67)))))) -> 58.982904 | J37: =+#REF! -> #REF! | K37: =I37+J37 -> #REF!
B38: =+'VERIFICACION DE OFERTAS'!B38 -> 33 | C38: ='VERIFICACION DE OFERTAS'!C38 -> CONSORCIO TURPIAL 2025 | D38: ='VERIFICACION DE OFERTAS'!D38 -> 1.8535522e+09 | E38: ='VERIFICACION DE OFERTAS'!E38 -> 1.8535522e+09 | F38: ='VERIFICACION DE OFERTAS'!F38 -> 0 | G38: =+E38 -> 1.8535522e+09 | H38: =IF(G38>=$F$67,"MAYOR","MENOR") -> MENOR | I38: =IF(H38="MAYOR",(((59.5*(1-((ABS($F$67-G38))/$F$67))))),(((59.5*(1-((($F$67-G38))/$F$67)))))) -> 59.493852 | J38: =+#REF! -> #REF! | K38: =I38+J38 -> #REF!
B39: =+'VERIFICACION DE OFERTAS'!B39 -> 31 | C39: ='VERIFICACION DE OFERTAS'!C39 -> CONSORCIO ADECUACIONES HUILA 04 | D39: ='VERIFICACION DE OFERTAS'!D39 -> 1.8936516e+09 | E39: ='VERIFICACION DE OFERTAS'!E39 -> 1.8936516e+09 | F39: ='VERIFICACION DE OFERTAS'!F39 -> 0 | G39: =+E39 -> 1.8936516e+09 | H39: =IF(G39>=$F$67,"MAYOR","MENOR") -> MAYOR | I39: =IF(H39="MAYOR",(((59.5*(1-((ABS($F$67-G39))/$F$67))))),(((59.5*(1-((($F$67-G39))/$F$67)))))) -> 58.219071 | J39: =+#REF! -> #REF! | K39: =I39+J39 -> #REF!
B40: =+'VERIFICACION DE OFERTAS'!B40 -> 30 | C40: ='VERIFICACION DE OFERTAS'!C40 -> CONSORCIO OPITA 25 | D40: ='VERIFICACION DE OFERTAS'!D40 -> 1.8837952e+09 | F40: ='VERIFICACION DE OFERTAS'!F40 -> RECHAZADO
B41: =+'VERIFICACION DE OFERTAS'!B41 -> 29 | C41: ='VERIFICACION DE OFERTAS'!C41 -> DRV INGENIERIA SAS | D41: ='VERIFICACION DE OFERTAS'!D41 -> 1.811816e+09 | F41: RECHAZADO
B42: =+'VERIFICACION DE OFERTAS'!B42 -> 26 | C42: ='VERIFICACION DE OFERTAS'!C42 -> CONSORCIO DANES-ML INGENIERIA | D42: ='VERIFICACION DE OFERTAS'!D42 -> 1.8665952e+09 | E42: ='VERIFICACION DE OFERTAS'!E42 -> 1.8665952e+09 | F42: ='VERIFICACION DE OFERTAS'!F42 -> 0 | G42: =+E42 -> 1.8665952e+09 | H42: =IF(G42>=$F$67,"MAYOR","MENOR") -> MAYOR | I42: =IF(H42="MAYOR",(((59.5*(1-((ABS($F$67-G42))/$F$67))))),(((59.5*(1-((($F$67-G42))/$F$67)))))) -> 59.087503 | J42: =+#REF! -> #REF! | K42: =I42+J42 -> #REF!
B43: =+'VERIFICACION DE OFERTAS'!B43 -> 25 | C43: ='VERIFICACION DE OFERTAS'!C43 -> INVERSIONES G Y S S.A.S. | D43: ='VERIFICACION DE OFERTAS'!D43 -> 1.888791e+09 | E43: ='VERIFICACION DE OFERTAS'!E43 -> 1.888791e+09 | F43: ='VERIFICACION DE OFERTAS'!F43 -> 0 | G43: =+E43 -> 1.888791e+09 | H43: =IF(G43>=$F$67,"MAYOR","MENOR") -> MAYOR | I43: =IF(H43="MAYOR",(((59.5*(1-((ABS($F$67-G43))/$F$67))))),(((59.5*(1-((($F$67-G43))/$F$67)))))) -> 58.375081 | J43: =+#REF! -> #REF! | K43: =I43+J43 -> #REF!
B44: =+'VERIFICACION DE OFERTAS'!B44 -> 24 | C44: ='VERIFICACION DE OFERTAS'!C44 -> RAELJA INGENIERIA S.A.S | D44: ='VERIFICACION DE OFERTAS'!D44 -> 1.8598421e+09 | E44: ='VERIFICACION DE OFERTAS'!E44 -> 1.8598421e+09 | F44: ='VERIFICACION DE OFERTAS'!F44 -> 0 | G44: =+E44 -> 1.8598421e+09 | H44: =IF(G44>=$F$67,"MAYOR","MENOR") -> MAYOR | I44: =IF(H44="MAYOR",(((59.5*(1-((ABS($F$67-G44))/$F$67))))),(((59.5*(1-((($F$67-G44))/$F$67)))))) -> 59.304259 | J44: =+#REF! -> #REF! | K44: =I44+J44 -> #REF!
B45: =+'VERIFICACION DE OFERTAS'!B45 -> 23 | C45: ='VERIFICACION DE OFERTAS'!C45 -> GMA Construcciones SAS | D45: ='VERIFICACION DE OFERTAS'!D45 -> 1.8605957e+09 | E45: ='VERIFICACION DE OFERTAS'!E45 -> 1.8605957e+09 | F45: ='VERIFICACION DE OFERTAS'!F45 -> 0 | G45: =+E45 -> 1.8605957e+09 | H45: =IF(G45>=$F$67,"MAYOR","MENOR") -> MAYOR | I45: =IF(H45="MAYOR",(((59.5*(1-((ABS($F$67-G45))/$F$67))))),(((59.5*(1-((($F$67-G45))/$F$67)))))) -> 59.280071 | J45: =+#REF! -> #REF! | K45: =I45+J45 -> #REF!
B46: =+'VERIFICACION DE OFERTAS'!B46 -> 22 | C46: ='VERIFICACION DE OFERTAS'!C46 -> CONSORCIO HUILA WR | D46: ='VERIFICACION DE OFERTAS'!D46 -> 1.8408957e+09 | F46: ='VERIFICACION DE OFERTAS'!F46 -> RECHAZADO
B47: =+'VERIFICACION DE OFERTAS'!B47 -> 21 | C47: ='VERIFICACION DE OFERTAS'!C47 -> UNION TEMPORAL OBRAS GTM | D47: ='VERIFICACION DE OFERTAS'!D47 -> 1.8698875e+09 | F47: ='VERIFICACION DE OFERTAS'!F47 -> RECHAZADO
B48: =+'VERIFICACION DE OFERTAS'!B48 -> 20 | C48: ='VERIFICACION DE OFERTAS'!C48 -> INGEVILL S.A.S | D48: ='VERIFICACION DE OFERTAS'!D48 -> 1.8958086e+09 | E48: ='VERIFICACION DE OFERTAS'!E48 -> 1.8958086e+09 | F48: ='VERIFICACION DE OFERTAS'!F48 -> 0 | G48: =+E48 -> 1.8958086e+09 | H48: =IF(G48>=$F$67,"MAYOR","MENOR") -> MAYOR | I48: =IF(H48="MAYOR",(((59.5*(1-((ABS($F$67-G48))/$F$67))))),(((59.5*(1-((($F$67-G48))/$F$67)))))) -> 58.149837 | J48: =+#REF! -> #REF! | K48: =I48+J48 -> #REF!
B49: =+'VERIFICACION DE OFERTAS'!B49 -> 19 | C49: ='VERIFICACION DE OFERTAS'!C49 -> PROCIVING SAS | D49: ='VERIFICACION DE OFERTAS'!D49 -> 1.8669742e+09 | F49: ='VERIFICACION DE OFERTAS'!F49 -> RECHAZADO
B50: =+'VERIFICACION DE OFERTAS'!B50 -> 17 | C50: ='VERIFICACION DE OFERTAS'!C50 -> CONSORCIO NOVA CENTRAL | D50: ='VERIFICACION DE OFERTAS'!D50 -> 1.8523041e+09 | E50: ='VERIFICACION DE OFERTAS'!E50 -> 1.8523041e+09 | F50: ='VERIFICACION DE OFERTAS'!F50 -> 0 | G50: =+E50 -> 1.8523041e+09 | H50: =IF(G50>=$F$67,"MAYOR","MENOR") -> MENOR | I50: =IF(H50="MAYOR",(((59.5*(1-((ABS($F$67-G50))/$F$67))))),(((59.5*(1-((($F$67-G50))/$F$67)))))) -> 59.453792 | J50: =+#REF! -> #REF! | K50: =I50+J50 -> #REF!
B51: =+'VERIFICACION DE OFERTAS'!B51 -> 15 | C51: ='VERIFICACION DE OFERTAS'!C51 -> BRACOL GROUP SAS | D51: ='VERIFICACION DE OFERTAS'!D51 -> 1.8712405e+09 | E51: ='VERIFICACION DE OFERTAS'!E51 -> 1.8712405e+09 | F51: ='VERIFICACION DE OFERTAS'!F51 -> 0 | G51: =+E51 -> 1.8712405e+09 | H51: =IF(G51>=$F$67,"MAYOR","MENOR") -> MAYOR | I51: =IF(H51="MAYOR",(((59.5*(1-((ABS($F$67-G51))/$F$67))))),(((59.5*(1-((($F$67-G51))/$F$67)))))) -> 58.938402 | J51: =+#REF! -> #REF! | K51: =I51+J51 -> #REF!
B52: =+'VERIFICACION DE OFERTAS'!B52 -> 14 | C52: ='VERIFICACION DE OFERTAS'!C52 -> RAR CONSTRUCTORES SAS | D52: ='VERIFICACION DE OFERTAS'!D52 -> 1.8898033e+09 | E52: ='VERIFICACION DE OFERTAS'!E52 -> 1.8898033e+09 | F52: ='VERIFICACION DE OFERTAS'!F52 -> 0 | G52: =+E52 -> 1.8898033e+09 | H52: =IF(G52>=$F$67,"MAYOR","MENOR") -> MAYOR | I52: =IF(H52="MAYOR",(((59.5*(1-((ABS($F$67-G52))/$F$67))))),(((59.5*(1-((($F$67-G52))/$F$67)))))) -> 58.342589 | J52: =+#REF! -> #REF! | K52: =I52+J52 -> #REF!
B53: =+'VERIFICACION DE OFERTAS'!B53 -> 13 | C53: ='VERIFICACION DE OFERTAS'!C53 -> HyD S.A.S. | D53: ='VERIFICACION DE OFERTAS'!D53 -> 1874948880 | F53: ='VERIFICACION DE OFERTAS'!F53 -> RECHAZADO
B54: =+'VERIFICACION DE OFERTAS'!B54 -> 11 | C54: ='VERIFICACION DE OFERTAS'!C54 -> CONSORCIO ADECUACIONES HUILA 2025 | D54: ='VERIFICACION DE OFERTAS'!D54 -> 1.8690798e+09 | E54: ='VERIFICACION DE OFERTAS'!E54 -> 1.8690798e+09 | F54: ='VERIFICACION DE OFERTAS'!F54 -> 0 | G54: =+E54 -> 1.8690798e+09 | H54: =IF(G54>=$F$67,"MAYOR","MENOR") -> MAYOR | I54: =IF(H54="MAYOR",(((59.5*(1-((ABS($F$67-G54))/$F$67))))),(((59.5*(1-((($F$67-G54))/$F$67)))))) -> 59.007757 | J54: =+#REF! -> #REF! | K54: =I54+J54 -> #REF!
B55: =+'VERIFICACION DE OFERTAS'!B55 -> 10 | C55: ='VERIFICACION DE OFERTAS'!C55 -> CONSORCIO ADECUACIONES HUILA 2025 | D55: ='VERIFICACION DE OFERTAS'!D55 -> 1.8897156e+09 | E55: ='VERIFICACION DE OFERTAS'!E55 -> 1.8897156e+09 | F55: ='VERIFICACION DE OFERTAS'!F55 -> 0 | G55: =+E55 -> 1.8897156e+09 | H55: =IF(G55>=$F$67,"MAYOR","MENOR") -> MAYOR | I55: =IF(H55="MAYOR",(((59.5*(1-((ABS($F$67-G55))/$F$67))))),(((59.5*(1-((($F$67-G55))/$F$67)))))) -> 58.345404 | J55: =+#REF! -> #REF! | K55: =I55+J55 -> #REF!
B56: =+'VERIFICACION DE OFERTAS'!B56 -> 9 | C56: ='VERIFICACION DE OFERTAS'!C56 -> CONSORCIO CONSTRUCCIONES INGLAR | D56: ='VERIFICACION DE OFERTAS'!D56 -> 1.8379631e+09 | F56: ='VERIFICACION DE OFERTAS'!F56 -> RECHAZADO
B57: =+'VERIFICACION DE OFERTAS'!B57 -> 8 | C57: ='VERIFICACION DE OFERTAS'!C57 -> CONSORCIO ADECUACIONES GOBERNACIÓN DEL HUILA 2025 | D57: ='VERIFICACION DE OFERTAS'!D57 -> 1.9260745e+09 | E57: ='VERIFICACION DE OFERTAS'!E57 -> 1.9260745e+09 | F57: ='VERIFICACION DE OFERTAS'!F57 -> 0 | G57: =+E57 -> 1.9260745e+09 | H57: =IF(G57>=$F$67,"MAYOR","MENOR") -> MAYOR | I57: =IF(H57="MAYOR",(((59.5*(1-((ABS($F$67-G57))/$F$67))))),(((59.5*(1-((($F$67-G57))/$F$67)))))) -> 57.178384 | J57: =+#REF! -> #REF! | K57: =I57+J57 -> #REF!
B58: =+'VERIFICACION DE OFERTAS'!B58 -> 7 | C58: ='VERIFICACION DE OFERTAS'!C58 -> CONSORCIO INGE-NEIVA 2025 | D58: ='VERIFICACION DE OFERTAS'!D58 -> 1.8644693e+09 | E58: ='VERIFICACION DE OFERTAS'!E58 -> 1.8644693e+09 | F58: ='VERIFICACION DE OFERTAS'!F58 -> 0 | G58: =+E58 -> 1.8644693e+09 | H58: =IF(G58>=$F$67,"MAYOR","MENOR") -> MAYOR | I58: =IF(H58="MAYOR",(((59.5*(1-((ABS($F$67-G58))/$F$67))))),(((59.5*(1-((($F$67-G58))/$F$67)))))) -> 59.155739 | J58: =+#REF! -> #REF! | K58: =I58+J58 -> #REF!
B59: =+'VERIFICACION DE OFERTAS'!B59 -> 6 | C59: ='VERIFICACION DE OFERTAS'!C59 -> CONSORCIO MEJORAMIENTO DT | D59: ='VERIFICACION DE OFERTAS'!D59 -> 1.883055e+09 | E59: ='VERIFICACION DE OFERTAS'!E59 -> 1.883055e+09 | F59: ='VERIFICACION DE OFERTAS'!F59 -> 0 | G59: =+E59 -> 1.883055e+09 | H59: =IF(G59>=$F$67,"MAYOR","MENOR") -> MAYOR | I59: =IF(H59="MAYOR",(((59.5*(1-((ABS($F$67-G59))/$F$67))))),(((59.5*(1-((($F$67-G59))/$F$67)))))) -> 58.559191 | J59: =+#REF! -> #REF! | K59: =I59+J59 -> #REF!
B60: =+'VERIFICACION DE OFERTAS'!B60 -> 5 | C60: ='VERIFICACION DE OFERTAS'!C60 -> CONSORCIO VENTURA | D60: ='VERIFICACION DE OFERTAS'!D60 -> 1.8496609e+09 | E60: ='VERIFICACION DE OFERTAS'!E60 -> 1.8496609e+09 | F60: ='VERIFICACION DE OFERTAS'!F60 -> 0 | G60: =+E60 -> 1.8496609e+09 | H60: =IF(G60>=$F$67,"MAYOR","MENOR") -> MENOR | I60: =IF(H60="MAYOR",(((59.5*(1-((ABS($F$67-G60))/$F$67))))),(((59.5*(1-((($F$67-G60))/$F$67)))))) -> 59.368951 | J60: =+#REF! -> #REF! | K60: =I60+J60 -> #REF!
B61: =+'VERIFICACION DE OFERTAS'!B61 -> 3 | C61: ='VERIFICACION DE OFERTAS'!C61 -> CONSTRUCTORA DARJA SAS | D61: ='VERIFICACION DE OFERTAS'!D61 -> 1.8705124e+09 | E61: ='VERIFICACION DE OFERTAS'!E61 -> 1.8705124e+09 | F61: ='VERIFICACION DE OFERTAS'!F61 -> 0 | G61: =+E61 -> 1.8705124e+09 | H61: =IF(G61>=$F$67,"MAYOR","MENOR") -> MAYOR | I61: =IF(H61="MAYOR",(((59.5*(1-((ABS($F$67-G61))/$F$67))))),(((59.5*(1-((($F$67-G61))/$F$67)))))) -> 58.961774 | J61: =+#REF! -> #REF! | K61: =I61+J61 -> #REF!
B62: =+'VERIFICACION DE OFERTAS'!B62 -> 1 | C62: ='VERIFICACION DE OFERTAS'!C62 -> CONSORCIO LIESTRU | D62: ='VERIFICACION DE OFERTAS'!D62 -> 1.8710434e+09 | E62: ='VERIFICACION DE OFERTAS'!E62 -> 1.8710434e+09 | F62: ='VERIFICACION DE OFERTAS'!F62 -> 0 | G62: =+E62 -> 1.8710434e+09 | H62: =IF(G62>=$F$67,"MAYOR","MENOR") -> MAYOR | I62: =IF(H62="MAYOR",(((59.5*(1-((ABS($F$67-G62))/$F$67))))),(((59.5*(1-((($F$67-G62))/$F$67)))))) -> 58.944728 | J62: =+#REF! -> #REF! | K62: =I62+J62 -> #REF!
E64: MENOR VALOR | F64: =MIN(G3:G62) -> 1.834841e+09
E65: PROMEDIO SIMPLE | F65: =AVERAGE(G3:G62) -> 1.8726466e+09
E67: PROMEDIO ARITMETICO | F67: =((F64+F65)/2) -> 1.8537438e+09

Sheet MAB 1-aceptando 42-35
B2: PROPUESTA | C2: PROPONENTE | D2: PROPUESTA ECONÓMICA | E2: SECOP | F2: CORRECCIÓN ARITMÉTICA | G2: VALOR PROPUESTA ECONÓMICA | H2: MAYOR O MENOR | I2: PUNTOS | J2: PUNTUACION INICIAL | K2: TOTAL PUNTUACIÓN
B3: =+'VERIFICACION DE OFERTAS'!B3 -> 81 | C3: ='VERIFICACION DE OFERTAS'!C3 -> CONSORCIO EDIFICIO CENTRAL | D3: ='VERIFICACION DE OFERTAS'!D3 -> 1.9215243e+09 | F3: ='VERIFICACION DE OFERTAS'!F3 -> RECHAZADO
B4: =+'VERIFICACION DE OFERTAS'!B4 -> 77 | C4: ='VERIFICACION DE OFERTAS'!C4 -> CONINCAG SAS | D4: ='VERIFICACION DE OFERTAS'!D4 -> 1.8637327e+09 | F4: ='VERIFICACION DE OFERTAS'!F4 -> RECHAZADO
B5: =+'VERIFICACION DE OFERTAS'!B5 -> 74 | C5: ='VERIFICACION DE OFERTAS'!C5 -> CONSORCIO MANASSA 28 | D5: ='VERIFICACION DE OFERTAS'!D5 -> 1.8675064e+09 | E5: ='VERIFICACION DE OFERTAS'!E5 -> 1.8675064e+09 | F5: ='VERIFICACION DE OFERTAS'!F5 -> 0 | G5: =+E5 -> 1.8675064e+09 | H5: =IF(G5>=$F$67,"MAYOR","MENOR") -> MAYOR | I5: =IF(H5="MAYOR",(((59.5*(1-((ABS($F$67-G5))/$F$67))))),(((59.5*(1-((($F$67-G5))/$F$67)))))) -> 59.049175 | J5: =+#REF! -> #REF! | K5: =I5+J5 -> #REF!
B6: =+'VERIFICACION DE OFERTAS'!B6 -> 73 | C6: ='VERIFICACION DE OFERTAS'!C6 -> CONSORCIO SANTANA 2025 | D6: ='VERIFICACION DE OFERTAS'!D6 -> 1.8631888e+09 | E6: ='VERIFICACION DE OFERTAS'!E6 -> 1.8631888e+09 | F6: ='VERIFICACION DE OFERTAS'!F6 -> 0 | G6: =+E6 -> 1.8631888e+09 | H6: =IF(G6>=$F$67,"MAYOR","MENOR") -> MAYOR | I6: =IF(H6="MAYOR",(((59.5*(1-((ABS($F$67-G6))/$F$67))))),(((59.5*(1-((($F$67-G6))/$F$67)))))) -> 59.18778 | J6: =+#REF! -> #REF! | K6: =I6+J6 -> #REF!
B7: =+'VERIFICACION DE OFERTAS'!B7 -> 72 | C7: ='VERIFICACION DE OFERTAS'!C7 -> Fundacion Espeletia | D7: ='VERIFICACION DE OFERTAS'!D7 -> 1.834841e+09 | F7: RECHAZADO
B8: =+'VERIFICACION DE OFERTAS'!B8 -> 71 | C8: ='VERIFICACION DE OFERTAS'!C8 -> Consorcio CONSTRUCTOR CENTRAL | D8: ='VERIFICACION DE OFERTAS'!D8 -> 1.8579391e+09 | E8: ='VERIFICACION DE OFERTAS'!E8 -> 1.8579391e+09 | F8: ='VERIFICACION DE OFERTAS'!F8 -> 0 | G8: =+E8 -> 1.8579391e+09 | H8: =IF(G8>=$F$67,"MAYOR","MENOR") -> MAYOR | I8: =IF(H8="MAYOR",(((59.5*(1-((ABS($F$67-G8))/$F$67))))),(((59.5*(1-((($F$67-G8))/$F$67)))))) -> 59.356305 | J8: =+#REF! -> #REF! | K8: =I8+J8 -> #REF!
B9: =+'VERIFICACION DE OFERTAS'!B9 -> 69 | C9: ='VERIFICACION DE OFERTAS'!C9 -> CONSORCIO INGEGOBER | D9: ='VERIFICACION DE OFERTAS'!D9 -> 1.8651617e+09 | F9: ='VERIFICACION DE OFERTAS'!F9 -> RECHAZADO
B10: =+'VERIFICACION DE OFERTAS'!B10 -> 66 | C10: ='VERIFICACION DE OFERTAS'!C10 -> CONSORCIO ARCUM | D10: ='VERIFICACION DE OFERTAS'!D10 -> 1.8614113e+09 | E10: ='VERIFICACION DE OFERTAS'!E10 -> 1.8614113e+09 | F10: ='VERIFICACION DE OFERTAS'!F10 -> 0 | G10: =+E10 -> 1.8614113e+09 | H10: =IF(G10>=$F$67,"MAYOR","MENOR") -> MAYOR | I10: =IF(H10="MAYOR",(((59.5*(1-((ABS($F$67-G10))/$F$67))))),(((59.5*(1-((($F$67-G10))/$F$67)))))) -> 59.24484 | J10: =+#REF! -> #REF! | K10: =I10+J10 -> #REF!
B11: =+'VERIFICACION DE OFERTAS'!B11 -> 65 | C11: ='VERIFICACION DE OFERTAS'!C11 -> CONSORCIO SANTA RITA | D11: ='VERIFICACION DE OFERTAS'!D11 -> 1.893037e+09 | F11: ='VERIFICACION DE OFERTAS'!F11 -> RECHAZADO
B12: =+'VERIFICACION DE OFERTAS'!B12 -> 64 | C12: ='VERIFICACION DE OFERTAS'!C12 -> CONSORCIO OBRAS GMJ 2025 | D12: ='VERIFICACION DE OFERTAS'!D12 -> 1.8926652e+09 | E12: ='VERIFICACION DE OFERTAS'!E12 -> 1.8926652e+09 | F12: ='VERIFICACION DE OFERTAS'!F12 -> 0 | G12: =+E12 -> 1.8926652e+09 | H12: =IF(G12>=$F$67,"MAYOR","MENOR") -> MAYOR | I12: =IF(H12="MAYOR",(((59.5*(1-((ABS($F$67-G12))/$F$67))))),(((59.5*(1-((($F$67-G12))/$F$67)))))) -> 58.241527 | J12: =+#REF! -> #REF! | K12: =I12+J12 -> #REF!
B13: =+'VERIFICACION DE OFERTAS'!B13 -> 63 | C13: ='VERIFICACION DE OFERTAS'!C13 -> CONSORCIO INACAL NEIVA | D13: ='VERIFICACION DE OFERTAS'!D13 -> 1.8800857e+09 | E13: ='VERIFICACION DE OFERTAS'!E13 -> 1.8800857e+09 | F13: ='VERIFICACION DE OFERTAS'!F13 -> 0 | G13: =+E13 -> 1.8800857e+09 | H13: =IF(G13>=$F$67,"MAYOR","MENOR") -> MAYOR | I13: =IF(H13="MAYOR",(((59.5*(1-((ABS($F$67-G13))/$F$67))))),(((59.5*(1-((($F$67-G13))/$F$67)))))) -> 58.645356 | J13: =+#REF! -> #REF! | K13: =I13+J13 -> #REF!
B14: =+'VERIFICACION DE OFERTAS'!B14 -> 62 | C14: ='VERIFICACION DE OFERTAS'!C14 -> BRACO COMPANY S.A.S ZOMAC | D14: ='VERIFICACION DE OFERTAS'!D14 -> 1.9123188e+09 | E14: ='VERIFICACION DE OFERTAS'!E14 -> 1.9123188e+09 | F14: ='VERIFICACION DE OFERTAS'!F14 -> 0 | G14: =+E14 -> 1.9123188e+09 | H14: =IF(G14>=$F$67,"MAYOR","MENOR") -> MAYOR | I14: =IF(H14="MAYOR",(((59.5*(1-((ABS($F$67-G14))/$F$67))))),(((59.5*(1-((($F$67-G14))/$F$67)))))) -> 57.610607 | J14: =+#REF! -> #REF! | K14: =I14+J14 -> #REF!
B15: =+'VERIFICACION DE OFERTAS'!B15 -> 61 | C15: ='VERIFICACION DE OFERTAS'!C15 -> TELEACCESS LTDA | D15: ='VERIFICACION DE OFERTAS'!D15 -> 1.8873033e+09 | E15: ='VERIFICACION DE OFERTAS'!E15 -> 1.8873033e+09 | F15: ='VERIFICACION DE OFERTAS'!F15 -> 0 | G15: =+E15 -> 1.8873033e+09 | H15: =IF(G15>=$F$67,"MAYOR","MENOR") -> MAYOR | I15: =IF(H15="MAYOR",(((59.5*(1-((ABS($F$67-G15))/$F$67))))),(((59.5*(1-((($F$67-G15))/$F$67)))))) -> 58.413656 | J15: =+#REF! -> #REF! | K15: =I15+J15 -> #REF!
B16: =+'VERIFICACION DE OFERTAS'!B16 -> 60 | C16: ='VERIFICACION DE OFERTAS'!C16 -> 3G INGENERIA AVANZADA SAS | D16: ='VERIFICACION DE OFERTAS'!D16 -> 1.8467217e+09 | E16: ='VERIFICACION DE OFERTAS'!E16 -> 1.8467217e+09 | F16: ='VERIFICACION DE OFERTAS'!F16 -> 0 | G16: =+E16 -> 1.8467217e+09 | H16: =IF(G16>=$F$67,"MAYOR","MENOR") -> MENOR | I16: =IF(H16="MAYOR",(((59.5*(1-((ABS($F$67-G16))/$F$67))))),(((59.5*(1-((($F$67-G16))/$F$67)))))) -> 59.283591 | J16: =+#REF! -> #REF! | K16: =I16+J16 -> #REF!
B17: =+'VERIFICACION DE OFERTAS'!B17 -> 59 | C17: ='VERIFICACION DE OFERTAS'!C17 -> CONSORCIO HUILA DUOVAL 324 | D17: ='VERIFICACION DE OFERTAS'!D17 -> 1.8540754e+09 | F17: ='VERIFICACION DE OFERTAS'!F17 -> RECHAZADO
B18: =+'VERIFICACION DE OFERTAS'!B18 -> 58 | C18: ='VERIFICACION DE OFERTAS'!C18 -> CONSORCIO GPIng | D18: ='VERIFICACION DE OFERTAS'!D18 -> 1.8371757e+09 | F18: ='VERIFICACION DE OFERTAS'!F18 -> RECHAZADO
B19: =+'VERIFICACION DE OFERTAS'!B19 -> 57 | C19: ='VERIFICACION DE OFERTAS'!C19 -> CONSORCIO SANLORENZO | D19: ='VERIFICACION DE OFERTAS'!D19 -> 1.8704546e+09 | E19: ='VERIFICACION DE OFERTAS'!E19 -> 1.8704546e+09 | F19: ='VERIFICACION DE OFERTAS'!F19 -> 0 | G19: =+E19 -> 1.8704546e+09 | H19: =IF(G19>=$F$67,"MAYOR","MENOR") -> MAYOR | I19: =IF(H19="MAYOR",(((59.5*(1-((ABS($F$67-G19))/$F$67))))),(((59.5*(1-((($F$67-G19))/$F$67)))))) -> 58.954532 | J19: =+#REF! -> #REF! | K19: =I19+J19 -> #REF!
B20: =+'VERIFICACION DE OFERTAS'!B20 -> 54 | C20: ='VERIFICACION DE OFERTAS'!C20 -> CONSORCIO OCIDAN HUILA-13 | D20: ='VERIFICACION DE OFERTAS'!D20 -> 1.8647464e+09 | E20: ='VERIFICACION DE OFERTAS'!E20 -> 1.8647464e+09 | F20: ='VERIFICACION DE OFERTAS'!F20 -> 0 | G20: =+E20 -> 1.8647464e+09 | H20: =IF(G20>=$F$67,"MAYOR","MENOR") -> MAYOR | I20: =IF(H20="MAYOR",(((59.5*(1-((ABS($F$67-G20))/$F$67))))),(((59.5*(1-((($F$67-G20))/$F$67)))))) -> 59.137777 | J20: =+#REF! -> #REF! | K20: =I20+J20 -> #REF!
B21: =+'VERIFICACION DE OFERTAS'!B21 -> 53 | C21: ='VERIFICACION DE OFERTAS'!C21 -> CONSORCIO PROHAL 2025 | D21: ='VERIFICACION DE OFERTAS'!D21 -> 1.8734265e+09 | F21: ='VERIFICACION DE OFERTAS'!F21 -> RECHAZADO
B22: =+'VERIFICACION DE OFERTAS'!B22 -> 52 | C22: ='VERIFICACION DE OFERTAS'!C22 -> ZION CONSTRUCCIONES SAS | D22: ='VERIFICACION DE OFERTAS'!D22 -> 1.8913215e+09 | E22: ='VERIFICACION DE OFERTAS'!E22 -> 1.8913215e+09 | F22: ='VERIFICACION DE OFERTAS'!F22 -> 0 | G22: =+E22 -> 1.8913215e+09 | H22: =IF(G22>=$F$67,"MAYOR","MENOR") -> MAYOR | I22: =IF(H22="MAYOR",(((59.5*(1-((ABS($F$67-G22))/$F$67))))),(((59.5*(1-((($F$67-G22))/$F$67)))))) -> 58.284662 | J22: =+#REF! -> #REF! | K22: =I22+J22 -> #REF!
B23: =+'VERIFICACION DE OFERTAS'!B23 -> 51 | C23: ='VERIFICACION DE OFERTAS'!C23 -> CONSORCIO E&C HUILA | D23: ='VERIFICACION DE OFERTAS'!D23 -> 1.904256e+09 | E23: ='VERIFICACION DE OFERTAS'!E23 -> 1.904256e+09 | F23: ='VERIFICACION DE OFERTAS'!F23 -> 0 | G23: =+E23 -> 1.904256e+09 | H23: =IF(G23>=$F$67,"MAYOR","MENOR") -> MAYOR | I23: =IF(H23="MAYOR",(((59.5*(1-((ABS($F$67-G23))/$F$67))))),(((59.5*(1-((($F$67-G23))/$F$67)))))) -> 57.869439 | J23: =+#REF! -> #REF! | K23: =I23+J23 -> #REF!
B24: =+'VERIFICACION DE OFERTAS'!B24 -> 50 | C24: ='VERIFICACION DE OFERTAS'!C24 -> MONVAL GROUP | D24: ='VERIFICACION DE OFERTAS'!D24 -> 1.8950456e+09 | E24: ='VERIFICACION DE OFERTAS'!E24 -> 1.8950456e+09 | F24: ='VERIFICACION DE OFERTAS'!F24 -> 0 | G24: =+E24 -> 1.8950456e+09 | H24: =IF(G24>=$F$67,"MAYOR","MENOR") -> MAYOR | I24: =IF(H24="MAYOR",(((59.5*(1-((ABS($F$67-G24))/$F$67))))),(((59.5*(1-((($F$67-G24))/$F$67)))))) -> 58.165111 | J24: =+#REF! -> #REF! | K24: =I24+J24 -> #REF!
B25: =+'VERIFICACION DE OFERTAS'!B25 -> 49 | C25: ='VERIFICACION DE OFERTAS'!C25 -> CONSORCIO CASTILLO | D25: ='VERIFICACION DE OFERTAS'!D25 -> 1.8671131e+09 | E25: ='VERIFICACION DE OFERTAS'!E25 -> 1.8671131e+09 | F25: ='VERIFICACION DE OFERTAS'!F25 -> 0 | G25: =+E25 -> 1.8671131e+09 | H25: =IF(G25>=$F$67,"MAYOR","MENOR") -> MAYOR | I25: =IF(H25="MAYOR",(((59.5*(1-((ABS($F$67-G25))/$F$67))))),(((59.5*(1-((($F$67-G25))/$F$67)))))) -> 59.061801 | J25: =+#REF! -> #REF! | K25: =I25+J25 -> #REF!
B26: =+'VERIFICACION DE OFERTAS'!B26 -> 48 | C26: ='VERIFICACION DE OFERTAS'!C26 -> CONSORCIO CENTRAL MIV | D26: ='VERIFICACION DE OFERTAS'!D26 -> 1.8508276e+09 | E26: ='VERIFICACION DE OFERTAS'!E26 -> 1.8508276e+09 | F26: ='VERIFICACION DE OFERTAS'!F26 -> 0 | G26: =+E26 -> 1.8508276e+09 | H26: =IF(G26>=$F$67,"MAYOR","MENOR") -> MENOR | I26: =IF(H26="MAYOR",(((59.5*(1-((ABS($F$67-G26))/$F$67))))),(((59.5*(1-((($F$67-G26))/$F$67)))))) -> 59.415401 | J26: =+#REF! -> #REF! | K26: =I26+J26 -> #REF!
B27: =+'VERIFICACION DE OFERTAS'!B27 -> 46 | C27: ='VERIFICACION DE OFERTAS'!C27 -> UNION TEMPORAL INNOVA | D27: ='VERIFICACION DE OFERTAS'!D27 -> 1.8827596e+09 | F27: ='VERIFICACION DE OFERTAS'!F27 -> RECHAZADO
B28: =+'VERIFICACION DE OFERTAS'!B28 -> 45 | C28: ='VERIFICACION DE OFERTAS'!C28 -> Adecuaciones jeroca | D28: ='VERIFICACION DE OFERTAS'!D28 -> 1.8670212e+09 | E28: ='VERIFICACION DE OFERTAS'!E28 -> 1.8670212e+09 | F28: ='VERIFICACION DE OFERTAS'!F28 -> 0 | G28: =+E28 -> 1.8670212e+09 | H28: =IF(G28>=$F$67,"MAYOR","MENOR") -> MAYOR | I28: =IF(H28="MAYOR",(((59.5*(1-((ABS($F$67-G28))/$F$67))))),(((59.5*(1-((($F$67-G28))/$F$67)))))) -> 59.064751 | J28: =+#REF! -> #REF! | K28: =I28+J28 -> #REF!
B29: =+'VERIFICACION DE OFERTAS'!B29 -> 44 | C29: ='VERIFICACION DE OFERTAS'!C29 -> CONSORCIO HUILA 2025 | D29: ='VERIFICACION DE OFERTAS'!D29 -> 1.8651492e+09 | E29: ='VERIFICACION DE OFERTAS'!E29 -> 1.8651492e+09 | F29: ='VERIFICACION DE OFERTAS'!F29 -> 0 | G29: =+E29 -> 1.8651492e+09 | H29: =IF(G29>=$F$67,"MAYOR","MENOR") -> MAYOR | I29: =IF(H29="MAYOR",(((59.5*(1-((ABS($F$67-G29))/$F$67))))),(((59.5*(1-((($F$67-G29))/$F$67)))))) -> 59.124846 | J29: =+#REF! -> #REF! | K29: =I29+J29 -> #REF!
B30: =+'VERIFICACION DE OFERTAS'!B30 -> 43 | C30: ='VERIFICACION DE OFERTAS'!C30 -> INGENIERIA RH | D30: ='VERIFICACION DE OFERTAS'!D30 -> 1.8828356e+09 | E30: ='VERIFICACION DE OFERTAS'!E30 -> 1.8828356e+09 | F30: ='VERIFICACION DE OFERTAS'!F30 -> 0 | G30: =+E30 -> 1.8828356e+09 | H30: =IF(G30>=$F$67,"MAYOR","MENOR") -> MAYOR | I30: =IF(H30="MAYOR",(((59.5*(1-((ABS($F$67-G30))/$F$67))))),(((59.5*(1-((($F$67-G30))/$F$67)))))) -> 58.557078 | J30: =+#REF! -> #REF! | K30: =I30+J30 -> #REF!
B31: =+'VERIFICACION DE OFERTAS'!B31 -> 42 | C31: ='VERIFICACION DE OFERTAS'!C31 -> CONSORCIO CE OBRAS HUILA | D31: ='VERIFICACION DE OFERTAS'!D31 -> 1.8342918e+09 | E31: ='VERIFICACION DE OFERTAS'!E31 -> 1.8342918e+09 | F31: ='VERIFICACION DE OFERTAS'!F31 -> 0 | G31: =+E31 -> 1.8342918e+09 | H31: =IF(G31>=$F$67,"MAYOR","MENOR") -> MENOR | I31: =IF(H31="MAYOR",(((59.5*(1-((ABS($F$67-G31))/$F$67))))),(((59.5*(1-((($F$67-G31))/$F$67)))))) -> 58.884567 | J31: =+#REF! -> #REF! | K31: =I31+J31 -> #REF!
B32: =+'VERIFICACION DE OFERTAS'!B32 -> 41 | C32: ='VERIFICACION DE OFERTAS'!C32 -> CONSORCIO HUILA 2D | D32: ='VERIFICACION DE OFERTAS'!D32 -> 1.8733439e+09 | E32: ='VERIFICACION DE OFERTAS'!E32 -> 1.8733439e+09 | F32: ='VERIFICACION DE OFERTAS'!F32 -> 0 | G32: =+E32 -> 1.8733439e+09 | H32: =IF(G32>=$F$67,"MAYOR","MENOR") -> MAYOR | I32: =IF(H32="MAYOR",(((59.5*(1-((ABS($F$67-G32))/$F$67))))),(((59.5*(1-((($F$67-G32))/$F$67)))))) -> 58.861782 | J32: =+#REF! -> #REF! | K32: =I32+J32 -> #REF!
B33: =+'VERIFICACION DE OFERTAS'!B33 -> 39 | C33: ='VERIFICACION DE OFERTAS'!C33 -> CONSORCIO MEGAHUILA | D33: ='VERIFICACION DE OFERTAS'!D33 -> 1.8603139e+09 | E33: ='VERIFICACION DE OFERTAS'!E33 -> 1.8603139e+09 | F33: ='VERIFICACION DE OFERTAS'!F33 -> 0 | G33: =+E33 -> 1.8603139e+09 | H33: =IF(G33>=$F$67,"MAYOR","MENOR") -> MAYOR | I33: =IF(H33="MAYOR",(((59.5*(1-((ABS($F$67-G33))/$F$67))))),(((59.5*(1-((($F$67-G33))/$F$67)))))) -> 59.28007 | J33: =+#REF! -> #REF! | K33: =I33+J33 -> #REF!
B34: =+'VERIFICACION DE OFERTAS'!B34 -> 38 | C34: ='VERIFICACION DE OFERTAS'!C34 -> CONSORCIO OBRAS BIENES | D34: ='VERIFICACION DE OFERTAS'!D34 -> 1.8540051e+09 | E34: ='VERIFICACION DE OFERTAS'!E34 -> 1.8540051e+09 | F34: ='VERIFICACION DE OFERTAS'!F34 -> 0 | G34: =+E34 -> 1.8540051e+09 | H34: =IF(G34>=$F$67,"MAYOR","MENOR") -> MAYOR | I34: =IF(H34="MAYOR",(((59.5*(1-((ABS($F$67-G34))/$F$67))))),(((59.5*(1-((($F$67-G34))/$F$67)))))) -> 59.482595 | J34: =+#REF! -> #REF! | K34: =I34+J34 -> #REF!
B35: =+'VERIFICACION DE OFERTAS'!B35 -> 37 | C35: ='VERIFICACION DE OFERTAS'!C35 -> CONSORCIO CENTRAL V&V | D35: ='VERIFICACION DE OFERTAS'!D35 -> 1.890015e+09 | E35: ='VERIFICACION DE OFERTAS'!E35 -> 1.890015e+09 | F35: ='VERIFICACION DE OFERTAS'!F35 -> 0 | G35: =+E35 -> 1.890015e+09 | H35: =IF(G35>=$F$67,"MAYOR","MENOR") -> MAYOR | I35: =IF(H35="MAYOR",(((59.5*(1-((ABS($F$67-G35))/$F$67))))),(((59.5*(1-((($F$67-G35))/$F$67)))))) -> 58.326604 | J35: =+#REF! -> #REF! | K35: =I35+J35 -> #REF!
B36: =+'VERIFICACION DE OFERTAS'!B36 -> 36 | C36: ='VERIFICACION DE OFERTAS'!C36 -> CONSORCIO ADECUACIONES 2CP | D36: ='VERIFICACION DE OFERTAS'!D36 -> 1.8625895e+09 | E36: ='VERIFICACION DE OFERTAS'!E36 -> 1.8625895e+09 | F36: ='VERIFICACION DE OFERTAS'!F36 -> 0 | G36: =+E36 -> 1.8625895e+09 | H36: =IF(G36>=$F$67,"MAYOR","MENOR") -> MAYOR | I36: =IF(H36="MAYOR",(((59.5*(1-((ABS($F$67-G36))/$F$67))))),(((59.5*(1-((($F$67-G36))/$F$67)))))) -> 59.207019 | J36: =+#REF! -> #REF! | K36: =I36+J36 -> #REF!
B37: =+'VERIFICACION DE OFERTAS'!B37 -> 35 | C37: ='VERIFICACION DE OFERTAS'!C37 -> CONSORCIO MEJORAMIENTO ARSAF | D37: ='VERIFICACION DE OFERTAS'!D37 -> 1.8376335e+09 | E37: ='VERIFICACION DE OFERTAS'!E37 -> 1.8376335e+09 | F37: ='VERIFICACION DE OFERTAS'!F37 -> 0 | G37: =+E37 -> 1.8376335e+09 | H37: =IF(G37>=$F$67,"MAYOR","MENOR") -> MENOR | I37: =IF(H37="MAYOR",(((59.5*(1-((ABS($F$67-G37))/$F$67))))),(((59.5*(1-((($F$67-G37))/$F$67)))))) -> 58.99184 | J37: =+#REF! -> #REF! | K37: =I37+J37 -> #REF!
B38: =+'VERIFICACION DE OFERTAS'!B38 -> 33 | C38: ='VERIFICACION DE OFERTAS'!C38 -> CONSORCIO TURPIAL 2025 | D38: ='VERIFICACION DE OFERTAS'!D38 -> 1.8535522e+09 | E38: ='VERIFICACION DE OFERTAS'!E38 -> 1.8535522e+09 | F38: ='VERIFICACION DE OFERTAS'!F38 -> 0 | G38: =+E38 -> 1.8535522e+09 | H38: =IF(G38>=$F$67,"MAYOR","MENOR") -> MAYOR | I38: =IF(H38="MAYOR",(((59.5*(1-((ABS($F$67-G38))/$F$67))))),(((59.5*(1-((($F$67-G38))/$F$67)))))) -> 59.497135 | J38: =+#REF! -> #REF! | K38: =I38+J38 -> #REF!
B39: =+'VERIFICACION DE OFERTAS'!B39 -> 31 | C39: ='VERIFICACION DE OFERTAS'!C39 -> CONSORCIO ADECUACIONES HUILA 04 | D39: ='VERIFICACION DE OFERTAS'!D39 -> 1.8936516e+09 | E39: ='VERIFICACION DE OFERTAS'!E39 -> 1.8936516e+09 | F39: ='VERIFICACION DE OFERTAS'!F39 -> 0 | G39: =+E39 -> 1.8936516e+09 | H39: =IF(G39>=$F$67,"MAYOR","MENOR") -> MAYOR | I39: =IF(H39="MAYOR",(((59.5*(1-((ABS($F$67-G39))/$F$67))))),(((59.5*(1-((($F$67-G39))/$F$67)))))) -> 58.209862 | J39: =+#REF! -> #REF! | K39: =I39+J39 -> #REF!
B40: =+'VERIFICACION DE OFERTAS'!B40 -> 30 | C40: ='VERIFICACION DE OFERTAS'!C40 -> CONSORCIO OPITA 25 | D40: ='VERIFICACION DE OFERTAS'!D40 -> 1.8837952e+09 | F40: ='VERIFICACION DE OFERTAS'!F40 -> RECHAZADO
B41: =+'VERIFICACION DE OFERTAS'!B41 -> 29 | C41: ='VERIFICACION DE OFERTAS'!C41 -> DRV INGENIERIA SAS | D41: ='VERIFICACION DE OFERTAS'!D41 -> 1.811816e+09 | F41: RECHAZADO
B42: =+'VERIFICACION DE OFERTAS'!B42 -> 26 | C42: ='VERIFICACION DE OFERTAS'!C42 -> CONSORCIO DANES-ML INGENIERIA | D42: ='VERIFICACION DE OFERTAS'!D42 -> 1.8665952e+09 | E42: ='VERIFICACION DE OFERTAS'!E42 -> 1.8665952e+09 | F42: ='VERIFICACION DE OFERTAS'!F42 -> 0 | G42: =+E42 -> 1.8665952e+09 | H42: =IF(G42>=$F$67,"MAYOR","MENOR") -> MAYOR | I42: =IF(H42="MAYOR",(((59.5*(1-((ABS($F$67-G42))/$F$67))))),(((59.5*(1-((($F$67-G42))/$F$67)))))) -> 59.078427 | J42: =+#REF! -> #REF! | K42: =I42+J42 -> #REF!
B43: =+'VERIFICACION DE OFERTAS'!B43 -> 25 | C43: ='VERIFICACION DE OFERTAS'!C43 -> INVERSIONES G Y S S.A.S. | D43: ='VERIFICACION DE OFERTAS'!D43 -> 1.888791e+09 | E43: ='VERIFICACION DE OFERTAS'!E43 -> 1.888791e+09 | F43: ='VERIFICACION DE OFERTAS'!F43 -> 0 | G43: =+E43 -> 1.888791e+09 | H43: =IF(G43>=$F$67,"MAYOR","MENOR") -> MAYOR | I43: =IF(H43="MAYOR",(((59.5*(1-((ABS($F$67-G43))/$F$67))))),(((59.5*(1-((($F$67-G43))/$F$67)))))) -> 58.365897 | J43: =+#REF! -> #REF! | K43: =I43+J43 -> #REF!
B44: =+'VERIFICACION DE OFERTAS'!B44 -> 24 | C44: ='VERIFICACION DE OFERTAS'!C44 -> RAELJA INGENIERIA S.A.S | D44: ='VERIFICACION DE OFERTAS'!D44 -> 1.8598421e+09 | E44: ='VERIFICACION DE OFERTAS'!E44 -> 1.8598421e+09 | F44: ='VERIFICACION DE OFERTAS'!F44 -> 0 | G44: =+E44 -> 1.8598421e+09 | H44: =IF(G44>=$F$67,"MAYOR","MENOR") -> MAYOR | I44: =IF(H44="MAYOR",(((59.5*(1-((ABS($F$67-G44))/$F$67))))),(((59.5*(1-((($F$67-G44))/$F$67)))))) -> 59.295215 | J44: =+#REF! -> #REF! | K44: =I44+J44 -> #REF!
B45: =+'VERIFICACION DE OFERTAS'!B45 -> 23 | C45: ='VERIFICACION DE OFERTAS'!C45 -> GMA Construcciones SAS | D45: ='VERIFICACION DE OFERTAS'!D45 -> 1.8605957e+09 | E45: ='VERIFICACION DE OFERTAS'!E45 -> 1.8605957e+09 | F45: ='VERIFICACION DE OFERTAS'!F45 -> 0 | G45: =+E45 -> 1.8605957e+09 | H45: =IF(G45>=$F$67,"MAYOR","MENOR") -> MAYOR | I45: =IF(H45="MAYOR",(((59.5*(1-((ABS($F$67-G45))/$F$67))))),(((59.5*(1-((($F$67-G45))/$F$67)))))) -> 59.271023 | J45: =+#REF! -> #REF! | K45: =I45+J45 -> #REF!
B46: =+'VERIFICACION DE OFERTAS'!B46 -> 22 | C46: ='VERIFICACION DE OFERTAS'!C46 -> CONSORCIO HUILA WR | D46: ='VERIFICACION DE OFERTAS'!D46 -> 1.8408957e+09 | F46: ='VERIFICACION DE OFERTAS'!F46 -> RECHAZADO
B47: =+'VERIFICACION DE OFERTAS'!B47 -> 21 | C47: ='VERIFICACION DE OFERTAS'!C47 -> UNION TEMPORAL OBRAS GTM | D47: ='VERIFICACION DE OFERTAS'!D47 -> 1.8698875e+09 | F47: ='VERIFICACION DE OFERTAS'!F47 -> RECHAZADO
B48: =+'VERIFICACION DE OFERTAS'!B48 -> 20 | C48: ='VERIFICACION DE OFERTAS'!C48 -> INGEVILL S.A.S | D48: ='VERIFICACION DE OFERTAS'!D48 -> 1.8958086e+09 | E48: ='VERIFICACION DE OFERTAS'!E48 -> 1.8958086e+09 | F48: ='VERIFICACION DE OFERTAS'!F48 -> 0 | G48: =+E48 -> 1.8958086e+09 | H48: =IF(G48>=$F$67,"MAYOR","MENOR") -> MAYOR | I48: =IF(H48="MAYOR",(((59.5*(1-((ABS($F$67-G48))/$F$67))))),(((59.5*(1-((($F$67-G48))/$F$67)))))) -> 58.140618 | J48: =+#REF! -> #REF! | K48: =I48+J48 -> #REF!
B49: =+'VERIFICACION DE OFERTAS'!B49 -> 19 | C49: ='VERIFICACION DE OFERTAS'!C49 -> PROCIVING SAS | D49: ='VERIFICACION DE OFERTAS'!D49 -> 1.8669742e+09 | F49: ='VERIFICACION DE OFERTAS'!F49 -> RECHAZADO
B50: =+'VERIFICACION DE OFERTAS'!B50 -> 17 | C50: ='VERIFICACION DE OFERTAS'!C50 -> CONSORCIO NOVA CENTRAL | D50: ='VERIFICACION DE OFERTAS'!D50 -> 1.8523041e+09 | E50: ='VERIFICACION DE OFERTAS'!E50 -> 1.8523041e+09 | F50: ='VERIFICACION DE OFERTAS'!F50 -> 0 | G50: =+E50 -> 1.8523041e+09 | H50: =IF(G50>=$F$67,"MAYOR","MENOR") -> MENOR | I50: =IF(H50="MAYOR",(((59.5*(1-((ABS($F$67-G50))/$F$67))))),(((59.5*(1-((($F$67-G50))/$F$67)))))) -> 59.462799 | J50: =+#REF! -> #REF! | K50: =I50+J50 -> #REF!
B51: =+'VERIFICACION DE OFERTAS'!B51 -> 15 | C51: ='VERIFICACION DE OFERTAS'!C51 -> BRACOL GROUP SAS | D51: ='VERIFICACION DE OFERTAS'!D51 -> 1.8712405e+09 | E51: ='VERIFICACION DE OFERTAS'!E51 -> 1.8712405e+09 | F51: ='VERIFICACION DE OFERTAS'!F51 -> 0 | G51: =+E51 -> 1.8712405e+09 | H51: =IF(G51>=$F$67,"MAYOR","MENOR") -> MAYOR | I51: =IF(H51="MAYOR",(((59.5*(1-((ABS($F$67-G51))/$F$67))))),(((59.5*(1-((($F$67-G51))/$F$67)))))) -> 58.929303 | J51: =+#REF! -> #REF! | K51: =I51+J51 -> #REF!
B52: =+'VERIFICACION DE OFERTAS'!B52 -> 14 | C52: ='VERIFICACION DE OFERTAS'!C52 -> RAR CONSTRUCTORES SAS | D52: ='VERIFICACION DE OFERTAS'!D52 -> 1.8898033e+09 | E52: ='VERIFICACION DE OFERTAS'!E52 -> 1.8898033e+09 | F52: ='VERIFICACION DE OFERTAS'!F52 -> 0 | G52: =+E52 -> 1.8898033e+09 | H52: =IF(G52>=$F$67,"MAYOR","MENOR") -> MAYOR | I52: =IF(H52="MAYOR",(((59.5*(1-((ABS($F$67-G52))/$F$67))))),(((59.5*(1-((($F$67-G52))/$F$67)))))) -> 58.333399 | J52: =+#REF! -> #REF! | K52: =I52+J52 -> #REF!
B53: =+'VERIFICACION DE OFERTAS'!B53 -> 13 | C53: ='VERIFICACION DE OFERTAS'!C53 -> HyD S.A.S. | D53: ='VERIFICACION DE OFERTAS'!D53 -> 1874948880 | F53: ='VERIFICACION DE OFERTAS'!F53 -> RECHAZADO
