Workbook

Sheet HYUNDAI HD 72
A1: SOLUCIONES MECANICAS Y DE TRANSPORTE AUTOMOTRIZ S.A.S
A2: NIT 811045604-4
A3: Autopista Medellín - Bogotá. KM 43 (Marinilla)
A4: Teléfono 5690755 - 5484953
A6: SERVICIO NACIONAL DE APRENDIZAJE - SENA
B8: VEHICULO COTIZADO:
B9: HIUNDAY HD T2 CARROCERÍA FURGÓN -COLOR BLANCA-(AULA MOVIL) PLACA-OBI 202 - MODELO 2009
A10: ITEM | B10: SERVICIO REQUERIDO | C10: CANT | D10: UNIDAD DE MEDIDA | E10: VALOR UNITARIO | F10: IVA | G10: VALOR TOTAL
B11: SISTEMA MOTOR
A12: 1 | B12: CALIBRACION DE VALVULAS | C12: 1 | D12: SERV | E12: =G12/1.19 -> 206722.69 | F12: =E12*19% -> 39277.311 | G12: 246000
A13: 2 | B13: SIPS VOLANTE | C13: 1 | D13: UND | E13: =G13/1.19 -> 1484873.9 | F13: =E13*19% -> 282126.05 | G13: 1767000
A14: 3 | B14: SIPS CREMALLERA DEL VOLANTE | C14: 1 | D14: UND | E14: =G14/1.19 -> 811764.71 | F14: =E14*19% -> 154235.29 | G14: 966000
A15: 4 | B15: SIPS CADENA REPARTICION | C15: 1 | D15: UND | E15: =G15/1.19 -> 2157983.2 | F15: =E15*19% -> 410016.81 | G15: 2568000
A16: 5 | B16: SIPS CORREA UNICA DE ACCESORIOS | C16: 1 | D16: UND | E16: =G16/1.19 -> 363025.21 | F16: =E16*19% -> 68974.79 | G16: 432000
A17: 6 | B17: SIPS EMPAQUE TAPA VALVULAS | C17: 1 | D17: UND | E17: =G17/1.19 -> 322689.08 | F17: =E17*19% -> 61310.924 | G17: 384000
A18: 7 | B18: SIPS EMPAQUE CARTER | C18: 1 | D18: UND | E18: =G18/1.19 -> 349579.83 | F18: =E18*19% -> 66420.168 | G18: 416000
A19: 8 | B19: SIPS DE LA VALVULA IAC | C19: 1 | D19: UND | E19: =G19/1.19 -> 578991.6 | F19: =E19*19% -> 110008.4 | G19: 689000
A20: 9 | B20: REVISION TECNICOMECANICA Y DE GASES | C20: 1 | D20: SERV | E20: =G20/1.19 -> 544537.82 | F20: =E20*19% -> 103462.18 | G20: 648000
A21: 10 | B21: ANALISIS DE GASES | C21: 1 | D21: SERV | E21: =G21/1.19 -> 134453.78 | F21: =E21*19% -> 25546.218 | G21: 160000
A22: 11 | B22: ANALISIS DE OPACIDAD | C22: 1 | D22: SERV | E22: =G22/1.19 -> 134453.78 | F22: =E22*19% -> 25546.218 | G22: 160000
A23: 12 | B23: SCANEO | C23: 1 | D23: SERV | E23: =G23/1.19 -> 163865.55 | F23: =E23*19% -> 31134.454 | G23: 195000
A24: 13 | B24: SINCRONIZACION DE MOTOR INCLUYE REPUESTOS NECESARIOS PARA UNA OPTIMA SINCRONIZACION | C24: 1 | D24: SERV | E24: =G24/1.19 -> 322689.08 | F24: =E24*19% -> 61310.924 | G24: 384000
G25: 0
B26: SISTEMA ALIMENTACION AIRE/COMBUSTIBLE | G26: 0
A27: 14 | B27: CALIBRACION DE LA BOMBA DE INYECCION | C27: 1 | D27: SERV | E27: =G27/1.19 -> 3756302.5 | F27: =E27*19% -> 713697.48 | G27: 4470000
A28: 15 | B28: CALIBRACION JUEGO DE INYECTORES | C28: 1 | D28: SERV | E28: =G28/1.19 -> 2787395 | F28: =E28*19% -> 529605.04 | G28: 3317000
A29: 16 | B29: LAVADA JUEGO DE INYECTORES POR ULTRASONIDO INCLUYE SIPS DE FILTROS DE INYECTORES Y ORINGS | C29: 1 | D29: SERV | E29: =G29/1.19 -> 1038655.5 | F29: =E29*19% -> 197344.54 | G29: 1236000
A30: 17 | B30: SIPS DE UN INYECTOR INCLUYE INSTALACION | C30: 1 | D30: UND | E30: =G30/1.19 -> 1652100.8 | F30: =E30*19% -> 313899.16 | G30: 1966000
A31: 18 | B31: REPARACION DEL TURBO | C31: 1 | D31: SERV | E31: =G31/1.19 -> 6364705.9 | F31: =E31*19% -> 1209294.1 | G31: 7574000
A32: 19 | B32: SIPS PESCADOR TANQUE DE COMBUSTIBLE | C32: 1 | D32: =IF(COUNTIF(B32,"SIPS*"),"UND ","SERV") -> UND | E32: =G32/1.19 -> 2691596.6 | F32: =E32*19% -> 511403.36 | G32: 3203000
A33: 20 | B33: LIMPIEZA CUERPO DE ACELERACION Y VALVULA IAC | C33: 1 | D33: SERV | E33: =G33/1.19 -> 594957.98 | F33: =E33*19% -> 113042.02 | G33: 708000
A34: 21 | B34: LAVADA TANQUE DE COMBUSTIBLE | C34: 1 | D34: SERV | E34: =G34/1.19 -> 445378.15 | F34: =E34*19% -> 84621.849 | G34: 530000
A35: 22 | B35: SIPS JUEGO DE FILTROS DE COMBUSTIBLE | C35: 1 | D35: UND | E35: =G35/1.19 -> 472268.91 | F35: =E35*19% -> 89731.092 | G35: 562000
A36: 23 | B36: SIPS RIEL DE INYECTORES | C36: 1 | D36: UND | E36: =G36/1.19 -> 1295798.3 | F36: =E36*19% -> 246201.68 | G36: 1542000
A37: 24 | B37: SIPS JUEGO DE FILTROS DE AIRE | C37: 1 | D37: UND | E37: =G37/1.19 -> 226890.76 | F37: =E37*19% -> 43109.244 | G37: 270000
A38: 25 | B38: SIPS DE MANGUERA DE COMBUSTIBLE | C38: 1 | D38: UND | E38: 297478.99 | F38: 56521.008 | G38: 382000
A39: 26 | B39: SIPS DE MANGUERA DE ADMISION | C39: 1 | D39: UND | E39: 576470.59 | F39: 109529.41 | G39: 741000
A40: 27 | B40: SIPS DE MANGUERA DE VACIO | C40: 1 | D40: UND | E40: 307563.03 | F40: 58436.975 | G40: 395000
A41: 28 | B41: SIPS MANGUERA DE RETORNO | C41: 1 | D41: UND | E41: 404201.68 | F41: 76798.319 | G41: 519000
A42: 29 | B42: SIPS EMPAQUETADURA DE TAPA DEL DESFOGUE | C42: 1 | D42: UND | E42: 384873.95 | F42: 73126.05 | G42: 495000
...

Sheet TRACTO CAMION
A1: SOLUCIONES MECANICAS Y DE TRANSPORTE AUTOMOTRIZ S.A.S
A2: NIT 811045604-4
A3: Autopista Medellín - Bogotá. KM 43 (Marinilla)
A4: Teléfono 5690755 - 5484953
A6: SERVICIO NACIONAL DE APRENDIZAJE - SENA
B8: VEHICULO COTIZADO:
B9: VEHICULO TRACTOCAMION SRS RENAULT PREMIUMCOLOR Azul -PLACA OKL228-MODELO 2008
A10: ITEM | B10: SERVICIO REQUERIDO | C10: CANT | D10: UNIDAD DE MEDIDA | E10: VALOR UNITARIO | F10: IVA | G10: VALOR TOTAL
B11: SISTEMA MOTOR
A12: 1 | B12: CALIBRACION DE VALVULAS | C12: 1 | D12: SERV | E12: =G12/1.19 -> 225210.08 | F12: =E12*19% -> 42789.916 | G12: 268000
A13: 2 | B13: SIPS VOLANTE | C13: 1 | D13: UND | E13: =G13/1.19 -> 4139495.8 | F13: =E13*19% -> 786504.2 | G13: 4926000
A14: 3 | B14: SIPS CREMALLERA DEL VOLANTE | C14: 1 | D14: UND | E14: =G14/1.19 -> 1725210.1 | F14: =E14*19% -> 327789.92 | G14: 2053000
A15: 4 | B15: SIPS CADENA REPARTICION | C15: 1 | D15: UND | E15: =G15/1.19 -> 2352100.8 | F15: =E15*19% -> 446899.16 | G15: 2799000
A16: 5 | B16: SIPS CORREA UNICA DE ACCESORIOS | C16: 1 | D16: UND | E16: =G16/1.19 -> 395798.32 | F16: =E16*19% -> 75201.681 | G16: 471000
A17: 6 | B17: SIPS EMPAQUE TAPA VALVULAS | C17: 1 | D17: UND | E17: =G17/1.19 -> 352100.84 | F17: =E17*19% -> 66899.16 | G17: 419000
A18: 7 | B18: SIPS EMPAQUE CARTER | C18: 1 | D18: UND | E18: =G18/1.19 -> 380672.27 | F18: =E18*19% -> 72327.731 | G18: 453000
A19: 8 | B19: SIPS DE LA VALVULA IAC | C19: 1 | D19: UND | E19: =G19/1.19 -> 631092.44 | F19: =E19*19% -> 119907.56 | G19: 751000
A20: 9 | B20: REVISION TECNICOMECANICA Y DE GASES | C20: 1 | D20: SERV | E20: =G20/1.19 -> 544537.82 | F20: =E20*19% -> 103462.18 | G20: 648000
A21: 10 | B21: ANALISIS DE GASES | C21: 1 | D21: SERV | E21: =G21/1.19 -> 146218.49 | F21: =E21*19% -> 27781.513 | G21: 174000
A22: 11 | B22: ANALISIS DE OPACIDAD | C22: 1 | D22: SERV | E22: =G22/1.19 -> 146218.49 | F22: =E22*19% -> 27781.513 | G22: 174000
A23: 12 | B23: SCANEO | C23: 1 | D23: SERV | E23: =G23/1.19 -> 178991.6 | F23: =E23*19% -> 34008.403 | G23: 213000
A24: 13 | B24: SINCRONIZACION DE MOTOR INCLUYE REPUESTOS NECESARIOS PARA UNA OPTIMA SINCRONIZACION | C24: 1 | D24: SERV | E24: =G24/1.19 -> 352100.84 | F24: =E24*19% -> 66899.16 | G24: 419000
G25: 0
B26: SISTEMA ALIMENTACION AIRE/COMBUSTIBLE | G26: 0
A27: 14 | B27: CALIBRACION DE LA BOMBA DE INYECCION | C27: 1 | D27: SERV | E27: =G27/1.19 -> 4094117.6 | F27: =E27*19% -> 777882.35 | G27: 4872000
A28: 15 | B28: CALIBRACION JUEGO DE INYECTORES | C28: 1 | D28: SERV | E28: =G28/1.19 -> 3038655.5 | F28: =E28*19% -> 577344.54 | G28: 3616000
A29: 16 | B29: LAVADA JUEGO DE INYECTORES POR ULTRASONIDO INCLUYE SIPS DE FILTROS DE INYECTORES Y ORINGS | C29: 1 | D29: SERV | E29: =G29/1.19 -> 1131932.8 | F29: =E29*19% -> 215067.23 | G29: 1347000
A30: 17 | B30: SIPS DE UN INYECTOR INCLUYE INSTALACION | C30: 1 | D30: UND | E30: =G30/1.19 -> 1800840.3 | F30: =E30*19% -> 342159.66 | G30: 2143000
A31: 18 | B31: REPARACION DEL TURBO | C31: 1 | D31: SERV | E31: =G31/1.19 -> 6937815.1 | F31: =E31*19% -> 1318184.9 | G31: 8256000
A32: 19 | B32: SIPS PESCADOR TANQUE DE COMBUSTIBLE | C32: 1 | D32: =IF(COUNTIF(B32,"SIPS*"),"UND ","SERV") -> UND | E32: =G32/1.19 -> 2933613.4 | F32: =E32*19% -> 557386.55 | G32: 3491000
A33: 20 | B33: LIMPIEZA CUERPO DE ACELERACION Y VALVULA IAC | C33: 1 | D33: SERV | E33: =G33/1.19 -> 648739.5 | F33: =E33*19% -> 123260.5 | G33: 772000
A34: 21 | B34: LAVADA TANQUE DE COMBUSTIBLE | C34: 1 | D34: SERV | E34: =G34/1.19 -> 485714.29 | F34: =E34*19% -> 92285.714 | G34: 578000
A35: 22 | B35: SIPS JUEGO DE FILTROS DE COMBUSTIBLE | C35: 1 | D35: UND | E35: =G35/1.19 -> 515126.05 | F35: =E35*19% -> 97873.95 | G35: 613000
A36: 23 | B36: SIPS RIEL DE INYECTORES | C36: 1 | D36: UND | E36: =G36/1.19 -> 1412605 | F36: =E36*19% -> 268394.96 | G36: 1681000
A37: 24 | B37: SIPS JUEGO DE FILTROS DE AIRE | C37: 1 | D37: UND | E37: =G37/1.19 -> 247058.82 | F37: =E37*19% -> 46941.176 | G37: 294000
A38: 25 | B38: SIPS DE MANGUERA DE COMBUSTIBLE | C38: 1 | D38: UND | E38: 297478.99 | F38: 56521.008 | G38: 416000
A39: 26 | B39: SIPS DE MANGUERA DE ADMISION | C39: 1 | D39: UND | E39: 576470.59 | F39: 109529.41 | G39: 808000
A40: 27 | B40: SIPS DE MANGUERA DE VACIO | C40: 1 | D40: UND | E40: 307563.03 | F40: 58436.975 | G40: 431000
A41: 28 | B41: SIPS MANGUERA DE RETORNO | C41: 1 | D41: UND | E41: 404201.68 | F41: 76798.319 | G41: 566000
A42: 29 | B42: SIPS EMPAQUETADURA DE TAPA DEL DESFOGUE | C42: 1 | D42: UND | E42: 384873.95 | F42: 73126.05 | G42: 540000
...

Sheet NISSAN D21
A1: SOLUCIONES MECANICAS Y DE TRANSPORTE AUTOMOTRIZ S.A.S
A2: NIT 811045604-4
A3: Autopista Medellín - Bogotá. KM 43 (Marinilla)
A4: Teléfono 5690755 - 5484953
A6: SERVICIO NACIONAL DE APRENDIZAJE - SENA
B8: VEHICULO COTIZADO:
B9: NISSAN D21 CAMIONETA PICKUP DOBLE CABINA, COLOR PLATA-PLACA OBC978-MODELO 1995
A10: ITEM | B10: SERVICIO REQUERIDO | C10: CANT | D10: UNIDAD DE MEDIDA | E10: VALOR UNITARIO | F10: IVA | G10: VALOR TOTAL
B11: SISTEMA MOTOR
A12: 1 | B12: CALIBRACION DE VALVULAS | C12: 1 | D12: SERV | E12: =G12/1.19 -> 202521.01 | F12: =E12*19% -> 38478.992 | G12: 241000
A13: 2 | B13: SIPS VOLANTE | C13: 1 | D13: UND | E13: =G13/1.19 -> 1455462.2 | F13: =E13*19% -> 276537.82 | G13: 1732000
A14: 3 | B14: SIPS CREMALLERA DEL VOLANTE | C14: 1 | D14: UND | E14: =G14/1.19 -> 795798.32 | F14: =E14*19% -> 151201.68 | G14: 947000
A15: 4 | B15: SIPS CADENA REPARTICION | C15: 1 | D15: UND | E15: =G15/1.19 -> 2115126.1 | F15: =E15*19% -> 401873.95 | G15: 2517000
A16: 5 | B16: SIPS CORREA UNICA DE ACCESORIOS | C16: 1 | D16: UND | E16: =G16/1.19 -> 355462.18 | F16: =E16*19% -> 67537.815 | G16: 423000
A17: 6 | B17: SIPS EMPAQUE TAPA VALVULAS | C17: 1 | D17: UND | E17: =G17/1.19 -> 315966.39 | F17: =E17*19% -> 60033.613 | G17: 376000
A18: 7 | B18: SIPS EMPAQUE CARTER | C18: 1 | D18: UND | E18: =G18/1.19 -> 342857.14 | F18: =E18*19% -> 65142.857 | G18: 408000
A19: 8 | B19: SIPS DE LA VALVULA IAC | C19: 1 | D19: UND | E19: =G19/1.19 -> 567226.89 | F19: =E19*19% -> 107773.11 | G19: 675000
A20: 9 | B20: REVISION TECNICOMECANICA Y DE GASES | C20: 1 | D20: SERV | E20: =G20/1.19 -> 451260.5 | F20: =E20*19% -> 85739.496 | G20: 537000
A21: 10 | B21: ANALISIS DE GASES | C21: 1 | D21: SERV | E21: =G21/1.19 -> 131932.77 | F21: =E21*19% -> 25067.227 | G21: 157000
A22: 11 | B22: ANALISIS DE OPACIDAD | C22: 1 | D22: SERV | E22: =G22/1.19 -> 131932.77 | F22: =E22*19% -> 25067.227 | G22: 157000
A23: 12 | B23: SCANEO | C23: 1 | D23: SERV | E23: =G23/1.19 -> 160504.2 | F23: =E23*19% -> 30495.798 | G23: 191000
A24: 13 | B24: SINCRONIZACION DE MOTOR INCLUYE REPUESTOS NECESARIOS PARA UNA OPTIMA SINCRONIZACION | C24: 1 | D24: SERV | E24: =G24/1.19 -> 315966.39 | F24: =E24*19% -> 60033.613 | G24: 376000
G25: 0
B26: SISTEMA ALIMENTACION AIRE/COMBUSTIBLE | G26: 0
A27: 14 | B27: CALIBRACION DE LA BOMBA DE INYECCION | C27: 1 | D27: SERV | E27: =G27/1.19 -> 3681512.6 | F27: =E27*19% -> 699487.39 | G27: 4381000
A28: 15 | B28: CALIBRACION JUEGO DE INYECTORES | C28: 1 | D28: SERV | E28: =G28/1.19 -> 2731932.8 | F28: =E28*19% -> 519067.23 | G28: 3251000
A29: 16 | B29: LAVADA JUEGO DE INYECTORES POR ULTRASONIDO INCLUYE SIPS DE FILTROS DE INYECTORES Y ORINGS | C29: 1 | D29: SERV | E29: =G29/1.19 -> 1017647.1 | F29: =E29*19% -> 193352.94 | G29: 1211000
A30: 17 | B30: SIPS DE UN INYECTOR INCLUYE INSTALACION | C30: 1 | D30: UND | E30: =G30/1.19 -> 1619327.7 | F30: =E30*19% -> 307672.27 | G30: 1927000
A31: 18 | B31: REPARACION DEL TURBO | C31: 1 | D31: SERV | E31: =G31/1.19 -> 6237815.1 | F31: =E31*19% -> 1185184.9 | G31: 7423000
A32: 19 | B32: SIPS PESCADOR TANQUE DE COMBUSTIBLE | C32: 1 | D32: =IF(COUNTIF(B32,"SIPS*"),"UND ","SERV") -> UND | E32: =G32/1.19 -> 2637815.1 | F32: =E32*19% -> 501184.87 | G32: 3139000
A33: 20 | B33: LIMPIEZA CUERPO DE ACELERACION Y VALVULA IAC | C33: 1 | D33: SERV | E33: =G33/1.19 -> 583193.28 | F33: =E33*19% -> 110806.72 | G33: 694000
A34: 21 | B34: LAVADA TANQUE DE COMBUSTIBLE | C34: 1 | D34: SERV | E34: =G34/1.19 -> 436134.45 | F34: =E34*19% -> 82865.546 | G34: 519000
A35: 22 | B35: SIPS JUEGO DE FILTROS DE COMBUSTIBLE | C35: 1 | D35: UND | E35: =G35/1.19 -> 463025.21 | F35: =E35*19% -> 87974.79 | G35: 551000
A36: 23 | B36: SIPS RIEL DE INYECTORES | C36: 1 | D36: UND | E36: =G36/1.19 -> 1269747.9 | F36: =E36*19% -> 241252.1 | G36: 1511000
A37: 24 | B37: SIPS JUEGO DE FILTROS DE AIRE | C37: 1 | D37: UND | E37: =G37/1.19 -> 222689.08 | F37: =E37*19% -> 42310.924 | G37: 265000
A38: 25 | B38: SIPS DE MANGUERA DE COMBUSTIBLE | C38: 1 | D38: UND | E38: 297478.99 | F38: 56521.008 | G38: 374000
A39: 26 | B39: SIPS DE MANGUERA DE ADMISION | C39: 1 | D39: UND | E39: 576470.59 | F39: 109529.41 | G39: 726000
A40: 27 | B40: SIPS DE MANGUERA DE VACIO | C40: 1 | D40: UND | E40: 307563.03 | F40: 58436.975 | G40: 387000
A41: 28 | B41: SIPS MANGUERA DE RETORNO | C41: 1 | D41: UND | E41: 404201.68 | F41: 76798.319 | G41: 509000
A42: 29 | B42: SIPS EMPAQUETADURA DE TAPA DEL DESFOGUE | C42: 1 | D42: UND | E42: 384873.95 | F42: 73126.05 | G42: 485000
...

Sheet MONTA CARGAS
A1: SOLUCIONES MECANICAS Y DE TRANSPORTE AUTOMOTRIZ S.A.S
A2: NIT 811045604-4
A3: Autopista Medellín - Bogotá. KM 43 (Marinilla)
A4: Teléfono 5690755 - 5484953
A6: SERVICIO NACIONAL DE APRENDIZAJE - SENA
B8: VEHICULO COTIZADO:
B9: MONTACARGAS CATERPILLAR MODELO GP25 NM -PARA FORMACIÓN-MANTENIMIENTO PREVENTIVO/Peso 2.5 ton
A10: ITEM | B10: SERVICIO REQUERIDO | C10: CANT | D10: UNIDAD DE MEDIDA | E10: VALOR UNITARIO | F10: IVA | G10: VALOR TOTAL
B11: SISTEMA MOTOR
A12: 1 | B12: CALIBRACION DE VALVULAS | C12: 1 | D12: SERV | E12: =G12/1.19 -> 206722.69 | F12: =E12*19% -> 39277.311 | G12: 246000
A13: 2 | B13: SIPS VOLANTE | C13: 1 | D13: UND | E13: =G13/1.19 -> 1484873.9 | F13: =E13*19% -> 282126.05 | G13: 1767000
A14: 3 | B14: SIPS CREMALLERA DEL VOLANTE | C14: 1 | D14: UND | E14: =G14/1.19 -> 811764.71 | F14: =E14*19% -> 154235.29 | G14: 966000
A15: 4 | B15: SIPS CADENA REPARTICION | C15: 1 | D15: UND | E15: =G15/1.19 -> 2157983.2 | F15: =E15*19% -> 410016.81 | G15: 2568000
A16: 5 | B16: SIPS CORREA UNICA DE ACCESORIOS | C16: 1 | D16: UND | E16: =G16/1.19 -> 363025.21 | F16: =E16*19% -> 68974.79 | G16: 432000
A17: 6 | B17: SIPS EMPAQUE TAPA VALVULAS | C17: 1 | D17: UND | E17: =G17/1.19 -> 322689.08 | F17: =E17*19% -> 61310.924 | G17: 384000
A18: 7 | B18: SIPS EMPAQUE CARTER | C18: 1 | D18: UND | E18: =G18/1.19 -> 349579.83 | F18: =E18*19% -> 66420.168 | G18: 416000
A19: 8 | B19: SIPS DE LA VALVULA IAC | C19: 1 | D19: UND | E19: =G19/1.19 -> 578991.6 | F19: =E19*19% -> 110008.4 | G19: 689000
A20: 9 | B20: REVISION TECNICOMECANICA Y DE GASES | C20: 1 | D20: SERV | E20: =G20/1.19 -> 544537.82 | F20: =E20*19% -> 103462.18 | G20: 648000
A21: 10 | B21: ANALISIS DE GASES | C21: 1 | D21: SERV | E21: =G21/1.19 -> 134453.78 | F21: =E21*19% -> 25546.218 | G21: 160000
A22: 11 | B22: ANALISIS DE OPACIDAD | C22: 1 | D22: SERV | E22: =G22/1.19 -> 134453.78 | F22: =E22*19% -> 25546.218 | G22: 160000
A23: 12 | B23: SCANEO | C23: 1 | D23: SERV | E23: =G23/1.19 -> 163865.55 | F23: =E23*19% -> 31134.454 | G23: 195000
A24: 13 | B24: SINCRONIZACION DE MOTOR INCLUYE REPUESTOS NECESARIOS PARA UNA OPTIMA SINCRONIZACION | C24: 1 | D24: SERV | E24: =G24/1.19 -> 322689.08 | F24: =E24*19% -> 61310.924 | G24: 384000
G25: 0
B26: SISTEMA ALIMENTACION AIRE/COMBUSTIBLE | G26: 0
A27: 14 | B27: CALIBRACION DE LA BOMBA DE INYECCION | C27: 1 | D27: SERV | E27: =G27/1.19 -> 3756302.5 | F27: =E27*19% -> 713697.48 | G27: 4470000
A28: 15 | B28: CALIBRACION JUEGO DE INYECTORES | C28: 1 | D28: SERV | E28: =G28/1.19 -> 2787395 | F28: =E28*19% -> 529605.04 | G28: 3317000
A29: 16 | B29: LAVADA JUEGO DE INYECTORES POR ULTRASONIDO INCLUYE SIPS DE FILTROS DE INYECTORES Y ORINGS | C29: 1 | D29: SERV | E29: =G29/1.19 -> 1038655.5 | F29: =E29*19% -> 197344.54 | G29: 1236000
A30: 17 | B30: SIPS DE UN INYECTOR INCLUYE INSTALACION | C30: 1 | D30: UND | E30: =G30/1.19 -> 1652100.8 | F30: =E30*19% -> 313899.16 | G30: 1966000
A31: 18 | B31: REPARACION DEL TURBO | C31: 1 | D31: SERV | E31: =G31/1.19 -> 6364705.9 | F31: =E31*19% -> 1209294.1 | G31: 7574000
A32: 19 | B32: SIPS PESCADOR TANQUE DE COMBUSTIBLE | C32: 1 | D32: =IF(COUNTIF(B32,"SIPS*"),"UND ","SERV") -> UND | E32: =G32/1.19 -> 2691596.6 | F32: =E32*19% -> 511403.36 | G32: 3203000
A33: 20 | B33: LIMPIEZA CUERPO DE ACELERACION Y VALVULA IAC | C33: 1 | D33: SERV | E33: =G33/1.19 -> 594957.98 | F33: =E33*19% -> 113042.02 | G33: 708000
A34: 21 | B34: LAVADA TANQUE DE COMBUSTIBLE | C34: 1 | D34: SERV | E34: =G34/1.19 -> 445378.15 | F34: =E34*19% -> 84621.849 | G34: 530000
A35: 22 | B35: SIPS JUEGO DE FILTROS DE COMBUSTIBLE | C35: 1 | D35: UND | E35: =G35/1.19 -> 472268.91 | F35: =E35*19% -> 89731.092 | G35: 562000
A36: 23 | B36: SIPS RIEL DE INYECTORES | C36: 1 | D36: UND | E36: =G36/1.19 -> 1295798.3 | F36: =E36*19% -> 246201.68 | G36: 1542000
A37: 24 | B37: SIPS JUEGO DE FILTROS DE AIRE | C37: 1 | D37: UND | E37: =G37/1.19 -> 226890.76 | F37: =E37*19% -> 43109.244 | G37: 270000
A38: 25 | B38: SIPS DE MANGUERA DE COMBUSTIBLE | C38: 1 | D38: UND | E38: 297478.99 | F38: 56521.008 | G38: 382000
A39: 26 | B39: SIPS DE MANGUERA DE ADMISION | C39: 1 | D39: UND | E39: 576470.59 | F39: 109529.41 | G39: 741000
A40: 27 | B40: SIPS DE MANGUERA DE VACIO | C40: 1 | D40: UND | E40: 307563.03 | F40: 58436.975 | G40: 395000
A41: 28 | B41: SIPS MANGUERA DE RETORNO | C41: 1 | D41: UND | E41: 404201.68 | F41: 76798.319 | G41: 519000
A42: 29 | B42: SIPS EMPAQUETADURA DE TAPA DEL DESFOGUE | C42: 1 | D42: UND | E42: 384873.95 | F42: 73126.05 | G42: 495000
...

Sheet AMAROK
A1: SOLUCIONES MECANICAS Y DE TRANSPORTE AUTOMOTRIZ S.A.S
A2: NIT 811045604-4
A3: Autopista Medellín - Bogotá. KM 43 (Marinilla)
A4: Teléfono 5690755 - 5484953
A6: SERVICIO NACIONAL DE APRENDIZAJE - SENA
B8: VEHICULO COTIZADO:
B9: CAMIONETA VOLKSWAGEN AMAROK CONFORT TL DOBLE CABINA,COLOR Blanco candi -PLACA OJY 093-MODELO 2016
A10: ITEM | B10: SERVICIO REQUERIDO | C10: CANT | D10: UNIDAD DE MEDIDA | E10: VALOR UNITARIO | F10: IVA | G10: VALOR TOTAL
B11: SISTEMA MOTOR
A12: 1 | B12: CALIBRACION DE VALVULAS | C12: 1 | D12: SERV | E12: =G12/1.19 -> 205042.02 | F12: =E12*19% -> 38957.983 | G12: 244000
A13: 2 | B13: SIPS VOLANTE | C13: 1 | D13: UND | E13: =G13/1.19 -> 1469747.9 | F13: =E13*19% -> 279252.1 | G13: 1749000
A14: 3 | B14: SIPS CREMALLERA DEL VOLANTE | C14: 1 | D14: UND | E14: =G14/1.19 -> 803361.34 | F14: =E14*19% -> 152638.66 | G14: 956000
A15: 4 | B15: SIPS CADENA REPARTICION | C15: 1 | D15: UND | E15: =G15/1.19 -> 2136134.5 | F15: =E15*19% -> 405865.55 | G15: 2542000
A16: 5 | B16: SIPS CORREA UNICA DE ACCESORIOS | C16: 1 | D16: UND | E16: =G16/1.19 -> 359663.87 | F16: =E16*19% -> 68336.134 | G16: 428000
A17: 6 | B17: SIPS EMPAQUE TAPA VALVULAS | C17: 1 | D17: UND | E17: =G17/1.19 -> 319327.73 | F17: =E17*19% -> 60672.269 | G17: 380000
A18: 7 | B18: SIPS EMPAQUE CARTER | C18: 1 | D18: UND | E18: =G18/1.19 -> 346218.49 | F18: =E18*19% -> 65781.513 | G18: 412000
A19: 8 | B19: SIPS DE LA VALVULA IAC | C19: 1 | D19: UND | E19: =G19/1.19 -> 573109.24 | F19: =E19*19% -> 108890.76 | G19: 682000
A20: 9 | B20: REVISION TECNICOMECANICA Y DE GASES | C20: 1 | D20: SERV | E20: =G20/1.19 -> 451260.5 | F20: =E20*19% -> 85739.496 | G20: 537000
A21: 10 | B21: ANALISIS DE GASES | C21: 1 | D21: SERV | E21: =G21/1.19 -> 132773.11 | F21: =E21*19% -> 25226.891 | G21: 158000
A22: 11 | B22: ANALISIS DE OPACIDAD | C22: 1 | D22: SERV | E22: =G22/1.19 -> 132773.11 | F22: =E22*19% -> 25226.891 | G22: 158000
A23: 12 | B23: SCANEO | C23: 1 | D23: SERV | E23: =G23/1.19 -> 162184.87 | F23: =E23*19% -> 30815.126 | G23: 193000
A24: 13 | B24: SINCRONIZACION DE MOTOR INCLUYE REPUESTOS NECESARIOS PARA UNA OPTIMA SINCRONIZACION | C24: 1 | D24: SERV | E24: =G24/1.19 -> 319327.73 | F24: =E24*19% -> 60672.269 | G24: 380000
G25: 0
B26: SISTEMA ALIMENTACION AIRE/COMBUSTIBLE | G26: 0
A27: 14 | B27: CALIBRACION DE LA BOMBA DE INYECCION | C27: 1 | D27: SERV | E27: =G27/1.19 -> 3718487.4 | F27: =E27*19% -> 706512.61 | G27: 4425000
A28: 15 | B28: CALIBRACION JUEGO DE INYECTORES | C28: 1 | D28: SERV | E28: =G28/1.19 -> 2759663.9 | F28: =E28*19% -> 524336.13 | G28: 3284000
A29: 16 | B29: LAVADA JUEGO DE INYECTORES POR ULTRASONIDO INCLUYE SIPS DE FILTROS DE INYECTORES Y ORINGS | C29: 1 | D29: SERV | E29: =G29/1.19 -> 1028571.4 | F29: =E29*19% -> 195428.57 | G29: 1224000
A30: 17 | B30: SIPS DE UN INYECTOR INCLUYE INSTALACION | C30: 1 | D30: UND | E30: =G30/1.19 -> 1635294.1 | F30: =E30*19% -> 310705.88 | G30: 1946000
A31: 18 | B31: REPARACION DEL TURBO | C31: 1 | D31: SERV | E31: =G31/1.19 -> 6300840.3 | F31: =E31*19% -> 1197159.7 | G31: 7498000
A32: 19 | B32: SIPS PESCADOR TANQUE DE COMBUSTIBLE | C32: 1 | D32: =IF(COUNTIF(B32,"SIPS*"),"UND ","SERV") -> UND | E32: =G32/1.19 -> 2664705.9 | F32: =E32*19% -> 506294.12 | G32: 3171000
A33: 20 | B33: LIMPIEZA CUERPO DE ACELERACION Y VALVULA IAC | C33: 1 | D33: SERV | E33: =G33/1.19 -> 589075.63 | F33: =E33*19% -> 111924.37 | G33: 701000
A34: 21 | B34: LAVADA TANQUE DE COMBUSTIBLE | C34: 1 | D34: SERV | E34: =G34/1.19 -> 441176.47 | F34: =E34*19% -> 83823.529 | G34: 525000
A35: 22 | B35: SIPS JUEGO DE FILTROS DE COMBUSTIBLE | C35: 1 | D35: UND | E35: =G35/1.19 -> 467226.89 | F35: =E35*19% -> 88773.109 | G35: 556000
A36: 23 | B36: SIPS RIEL DE INYECTORES | C36: 1 | D36: UND | E36: =G36/1.19 -> 1283193.3 | F36: =E36*19% -> 243806.72 | G36: 1527000
A37: 24 | B37: SIPS JUEGO DE FILTROS DE AIRE | C37: 1 | D37: UND | E37: =G37/1.19 -> 224369.75 | F37: =E37*19% -> 42630.252 | G37: 267000
A38: 25 | B38: SIPS DE MANGUERA DE COMBUSTIBLE | C38: 1 | D38: UND | E38: 297478.99 | F38: 56521.008 | G38: 378000
A39: 26 | B39: SIPS DE MANGUERA DE ADMISION | C39: 1 | D39: UND | E39: 576470.59 | F39: 109529.41 | G39: 734000
A40: 27 | B40: SIPS DE MANGUERA DE VACIO | C40: 1 | D40: UND | E40: 307563.03 | F40: 58436.975 | G40: 391000
A41: 28 | B41: SIPS MANGUERA DE RETORNO | C41: 1 | D41: UND | E41: 404201.68 | F41: 76798.319 | G41: 514000
A42: 29 | B42: SIPS EMPAQUETADURA DE TAPA DEL DESFOGUE | C42: 1 | D42: UND | E42: 384873.95 | F42: 73126.05 | G42: 490000
...

Sheet CHEVROLET JOY
A1: SOLUCIONES MECANICAS Y DE TRANSPORTE AUTOMOTRIZ S.A.S
A2: NIT 811045604-4
A3: Autopista Medellín - Bogotá. KM 43 (Marinilla)
A4: Teléfono 5690755 - 5484953
A6: SERVICIO NACIONAL DE APRENDIZAJE - SENA
B8: VEHICULO COTIZADO:
B9: VEHICULO CHEVROLET JOY MODELO 2025
A10: ITEM | B10: SERVICIO REQUERIDO | C10: CANT | D10: UNIDAD DE MEDIDA | E10: VALOR UNITARIO | F10: IVA | G10: VALOR TOTAL
B11: SISTEMA MOTOR
A12: 1 | B12: CALIBRACION DE VALVULAS | C12: 1 | D12: SERV | E12: =G12/1.19 -> 192436.97 | F12: =E12*19% -> 36563.025 | G12: 229000
A13: 2 | B13: SIPS VOLANTE | C13: 1 | D13: UND | E13: =G13/1.19 -> 1382352.9 | F13: =E13*19% -> 262647.06 | G13: 1645000
A14: 3 | B14: SIPS CREMALLERA DEL VOLANTE | C14: 1 | D14: UND | E14: =G14/1.19 -> 756302.52 | F14: =E14*19% -> 143697.48 | G14: 900000
A15: 4 | B15: SIPS CADENA REPARTICION | C15: 1 | D15: UND | E15: =G15/1.19 -> 2009243.7 | F15: =E15*19% -> 381756.3 | G15: 2391000
A16: 5 | B16: SIPS CORREA UNICA DE ACCESORIOS | C16: 1 | D16: UND | E16: =G16/1.19 -> 337815.13 | F16: =E16*19% -> 64184.874 | G16: 402000
A17: 6 | B17: SIPS EMPAQUE TAPA VALVULAS | C17: 1 | D17: UND | E17: =G17/1.19 -> 300000 | F17: =E17*19% -> 57000 | G17: 357000
A18: 7 | B18: SIPS EMPAQUE CARTER | C18: 1 | D18: UND | E18: =G18/1.19 -> 326050.42 | F18: =E18*19% -> 61949.58 | G18: 388000
A19: 8 | B19: SIPS DE LA VALVULA IAC | C19: 1 | D19: UND | E19: =G19/1.19 -> 538655.46 | F19: =E19*19% -> 102344.54 | G19: 641000
A20: 9 | B20: REVISION TECNICOMECANICA Y DE GASES | C20: 1 | D20: SERV | E20: =G20/1.19 -> 451260.5 | F20: =E20*19% -> 85739.496 | G20: 537000
A21: 10 | B21: ANALISIS DE GASES | C21: 1 | D21: SERV | E21: =G21/1.19 -> 125210.08 | F21: =E21*19% -> 23789.916 | G21: 149000
A22: 11 | B22: ANALISIS DE OPACIDAD | C22: 1 | D22: SERV | E22: =G22/1.19 -> 125210.08 | F22: =E22*19% -> 23789.916 | G22: 149000
A23: 12 | B23: SCANEO | C23: 1 | D23: SERV | E23: =G23/1.19 -> 152100.84 | F23: =E23*19% -> 28899.16 | G23: 181000
A24: 13 | B24: SINCRONIZACION DE MOTOR INCLUYE REPUESTOS NECESARIOS PARA UNA OPTIMA SINCRONIZACION | C24: 1 | D24: SERV | E24: =G24/1.19 -> 300000 | F24: =E24*19% -> 57000 | G24: 357000
G25: 0
B26: SISTEMA ALIMENTACION AIRE/COMBUSTIBLE | G26: 0
A27: 14 | B27: CALIBRACION DE LA BOMBA DE INYECCION | C27: 1 | D27: SERV | E27: =G27/1.19 -> 3497479 | F27: =E27*19% -> 664521.01 | G27: 4162000
A28: 15 | B28: CALIBRACION JUEGO DE INYECTORES | C28: 1 | D28: SERV | E28: =G28/1.19 -> 2594958 | F28: =E28*19% -> 493042.02 | G28: 3088000
A29: 16 | B29: LAVADA JUEGO DE INYECTORES POR ULTRASONIDO INCLUYE SIPS DE FILTROS DE INYECTORES Y ORINGS | C29: 1 | D29: SERV | E29: =G29/1.19 -> 966386.55 | F29: =E29*19% -> 183613.45 | G29: 1150000
A30: 17 | B30: SIPS DE UN INYECTOR INCLUYE INSTALACION | C30: 1 | D30: UND | E30: =G30/1.19 -> 1538655.5 | F30: =E30*19% -> 292344.54 | G30: 1831000
A31: 18 | B31: REPARACION DEL TURBO | C31: 1 | D31: SERV | E31: =G31/1.19 -> 5926050.4 | F31: =E31*19% -> 1125949.6 | G31: 7052000
A32: 19 | B32: SIPS PESCADOR TANQUE DE COMBUSTIBLE | C32: 1 | D32: =IF(COUNTIF(B32,"SIPS*"),"UND ","SERV") -> UND | E32: =G32/1.19 -> 2505882.4 | F32: =E32*19% -> 476117.65 | G32: 2982000
A33: 20 | B33: LIMPIEZA CUERPO DE ACELERACION Y VALVULA IAC | C33: 1 | D33: SERV | E33: =G33/1.19 -> 553781.51 | F33: =E33*19% -> 105218.49 | G33: 659000
A34: 21 | B34: LAVADA TANQUE DE COMBUSTIBLE | C34: 1 | D34: SERV | E34: =G34/1.19 -> 414285.71 | F34: =E34*19% -> 78714.286 | G34: 493000
A35: 22 | B35: SIPS JUEGO DE FILTROS DE COMBUSTIBLE | C35: 1 | D35: UND | E35: =G35/1.19 -> 439495.8 | F35: =E35*19% -> 83504.202 | G35: 523000
A36: 23 | B36: SIPS RIEL DE INYECTORES | C36: 1 | D36: UND | E36: =G36/1.19 -> 1205882.4 | F36: =E36*19% -> 229117.65 | G36: 1435000
A37: 24 | B37: SIPS JUEGO DE FILTROS DE AIRE | C37: 1 | D37: UND | E37: =G37/1.19 -> 211764.71 | F37: =E37*19% -> 40235.294 | G37: 252000
A38: 25 | B38: SIPS DE MANGUERA DE COMBUSTIBLE | C38: 1 | D38: UND | E38: 297478.99 | F38: 56521.008 | G38: 355000
A39: 26 | B39: SIPS DE MANGUERA DE ADMISION | C39: 1 | D39: UND | E39: 576470.59 | F39: 109529.41 | G39: 690000
A40: 27 | B40: SIPS DE MANGUERA DE VACIO | C40: 1 | D40: UND | E40: 307563.03 | F40: 58436.975 | G40: 368000
A41: 28 | B41: SIPS MANGUERA DE RETORNO | C41: 1 | D41: UND | E41: 404201.68 | F41: 76798.319 | G41: 484000
A42: 29 | B42: SIPS EMPAQUETADURA DE TAPA DEL DESFOGUE | C42: 1 | D42: UND | E42: 384873.95 | F42: 73126.05 | G42: 461000
...

Sheet GENERAL
A1: SOLUCIONES MECANICAS Y DE TRANSPORTE AUTOMOTRIZ S.A.S
A2: NIT 811045604-4
A3: Autopista Medellín - Bogotá. KM 43 (Marinilla)
A4: Teléfono 5690755 - 5484953
A6: SERVICIO NACIONAL DE APRENDIZAJE - SENA
A8: VALOR TOTAL
A10: CONS. | B10: TIPO VEHICULO | C10: VALOR X VEHICULO
A11: 1 | B11: HIUNDAY HD T2 CARROCERÍA FURGÓN -COLOR BLANCA-(AULA MOVIL) PLACA-OBI 202 - MODELO 2009 | C11: ='HYUNDAI HD 72'!G424 -> 441206000
A12: 2 | B12: VEHICULO TRACTOCAMION SRS RENAULT PREMIUMCOLOR Azul -PLACA OKL228-MODELO 2008 | C12: ='TRACTO CAMION'!G422 -> 481169000
A13: 3 | B13: NISSAN D21 CAMIONETA PICKUP DOBLE CABINA, COLOR PLATA-PLACA OBC978-MODELO 1995 | C13: ='NISSAN D21'!G418 -> 407481000
A14: 4 | B14: MONTACARGAS CATERPILLAR MODELO GP25 NM -PARA FORMACIÓN-MANTENIMIENTO PREVENTIVO/Peso 2.5 ton | C14: ='MONTA CARGAS'!G340 -> 374224000
A15: 5 | B15: CAMIONETA VOLKSWAGEN AMAROK CONFORT TL DOBLE CABINA,COLOR Blanco candi -PLACA OJY 093-MODELO 2016 | C15: =AMAROK!G418 -> 411618000
A16: 6 | B16: VEHICULO CHEVROLET JOY MODELO 2025 | C16: ='CHEVROLET JOY'!G415 -> 378286000
B18: TOTAL POR VEHICULOS | C18: =SUM(C11:C17) -> 2493984000
B21: Cordialmente,
B25: Isis Noreña Torres
B26: C.C: 1.036.966.841
B27: Representante Legal
B28: Soluciones Mecanicas y De Transporte Automotriz S.A.S
