Workbook

Sheet HYUNDAI HD 72
A1: SOLUCIONES MECANICAS Y DE TRANSPORTE AUTOMOTRIZ S.A.S
A2: NIT 811045604-4
A3: Autopista Medellín - Bogotá. KM 43 (Marinilla)
A4: Teléfono 5690755 - 5484953
A6: SERVICIO NACIONAL DE APRENDIZAJE - SENA
B8: VEHICULO COTIZADO:
B9: HIUNDAY HD T2 CARROCERÍA FURGÓN -COLOR BLANCA-(AULA MOVIL) PLACA-OBI 202 - MODELO 2009
A10: ITEM | B10: SERVICIO REQUERIDO | C10: CANT | D10: UNIDAD DE MEDIDA | E10: VALOR UNITARIO | F10: IVA | G10: VALOR TOTAL
B11: SISTEMA MOTOR
A12: 1 | B12: CALIBRACION DE VALVULAS | C12: 1 | D12: SERV | E12: =G12/1.19 -> 206722.69 | F12: =E12*19% -> 39277.311 | G12: 246000
A13: 2 | B13: SIPS VOLANTE | C13: 1 | D13: UND | E13: =G13/1.19 -> 1484873.9 | F13: =E13*19% -> 282126.05 | G13: 1767000
A14: 3 | B14: SIPS CREMALLERA DEL VOLANTE | C14: 1 | D14: UND | E14: =G14/1.19 -> 811764.71 | F14: =E14*19% -> 154235.29 | G14: 966000
A15: 4 | B15: SIPS CADENA REPARTICION | C15: 1 | D15: UND | E15: =G15/1.19 -> 2157983.2 | F15: =E15*19% -> 410016.81 | G15: 2568000
A16: 5 | B16: SIPS CORREA UNICA DE ACCESORIOS | C16: 1 | D16: UND | E16: =G16/1.19 -> 363025.21 | F16: =E16*19% -> 68974.79 | G16: 432000
A17: 6 | B17: SIPS EMPAQUE TAPA VALVULAS | C17: 1 | D17: UND | E17: =G17/1.19 -> 322689.08 | F17: =E17*19% -> 61310.924 | G17: 384000
A18: 7 | B18: SIPS EMPAQUE CARTER | C18: 1 | D18: UND | E18: =G18/1.19 -> 349579.83 | F18: =E18*19% -> 66420.168 | G18: 416000
A19: 8 | B19: SIPS DE LA VALVULA IAC | C19: 1 | D19: UND | E19: =G19/1.19 -> 578991.6 | F19: =E19*19% -> 110008.4 | G19: 689000
A20: 9 | B20: REVISION TECNICOMECANICA Y DE GASES | C20: 1 | D20: SERV | E20: =G20/1.19 -> 544537.82 | F20: =E20*19% -> 103462.18 | G20: 648000
A21: 10 | B21: ANALISIS DE GASES | C21: 1 | D21: SERV | E21: =G21/1.19 -> 134453.78 | F21: =E21*19% -> 25546.218 | G21: 160000
A22: 11 | B22: ANALISIS DE OPACIDAD | C22: 1 | D22: SERV | E22: =G22/1.19 -> 134453.78 | F22: =E22*19% -> 25546.218 | G22: 160000
A23: 12 | B23: SCANEO | C23: 1 | D23: SERV | E23: =G23/1.19 -> 163865.55 | F23: =E23*19% -> 31134.454 | G23: 195000
A24: 13 | B24: SINCRONIZACION DE MOTOR INCLUYE REPUESTOS NECESARIOS PARA UNA OPTIMA SINCRONIZACION | C24: 1 | D24: SERV | E24: =G24/1.19 -> 322689.08 | F24: =E24*19% -> 61310.924 | G24: 384000
G25: 0
B26: SISTEMA ALIMENTACION AIRE/COMBUSTIBLE | G26: 0
A27: 14 | B27: CALIBRACION DE LA BOMBA DE INYECCION | C27: 1 | D27: SERV | E27: =G27/1.19 -> 3756302.5 | F27: =E27*19% -> 713697.48 | G27: 4470000
A28: 15 | B28: CALIBRACION JUEGO DE INYECTORES | C28: 1 | D28: SERV | E28: =G28/1.19 -> 2787395 | F28: =E28*19% -> 529605.04 | G28: 3317000
A29: 16 | B29: LAVADA JUEGO DE INYECTORES POR ULTRASONIDO INCLUYE SIPS DE FILTROS DE INYECTORES Y ORINGS | C29: 1 | D29: SERV | E29: =G29/1.19 -> 1038655.5 | F29: =E29*19% -> 197344.54 | G29: 1236000
A30: 17 | B30: SIPS DE UN INYECTOR INCLUYE INSTALACION | C30: 1 | D30: UND | E30: =G30/1.19 -> 1652100.8 | F30: =E30*19% -> 313899.16 | G30: 1966000
A31: 18 | B31: REPARACION DEL TURBO | C31: 1 | D31: SERV | E31: =G31/1.19 -> 6364705.9 | F31: =E31*19% -> 1209294.1 | G31: 7574000
A32: 19 | B32: SIPS PESCADOR TANQUE DE COMBUSTIBLE | C32: 1 | D32: =IF(COUNTIF(B32,"SIPS*"),"UND ","SERV") -> UND | E32: =G32/1.19 -> 2691596.6 | F32: =E32*19% -> 511403.36 | G32: 3203000
A33: 20 | B33: LIMPIEZA CUERPO DE ACELERACION Y VALVULA IAC | C33: 1 | D33: SERV | E33: =G33/1.19 -> 594957.98 | F33: =E33*19% -> 113042.02 | G33: 708000
A34: 21 | B34: LAVADA TANQUE DE COMBUSTIBLE | C34: 1 | D34: SERV | E34: =G34/1.19 -> 445378.15 | F34: =E34*19% -> 84621.849 | G34: 530000
A35: 22 | B35: SIPS JUEGO DE FILTROS DE COMBUSTIBLE | C35: 1 | D35: UND | E35: =G35/1.19 -> 472268.91 | F35: =E35*19% -> 89731.092 | G35: 562000
A36: 23 | B36: SIPS RIEL DE INYECTORES | C36: 1 | D36: UND | E36: =G36/1.19 -> 1295798.3 | F36: =E36*19% -> 246201.68 | G36: 1542000
A37: 24 | B37: SIPS JUEGO DE FILTROS DE AIRE | C37: 1 | D37: UND | E37: =G37/1.19 -> 226890.76 | F37: =E37*19% -> 43109.244 | G37: 270000
A38: 25 | B38: SIPS DE MANGUERA DE COMBUSTIBLE | C38: 1 | D38: UND | E38: 297478.99 | F38: 56521.008 | G38: 382000
A39: 26 | B39: SIPS DE MANGUERA DE ADMISION | C39: 1 | D39: UND | E39: 576470.59 | F39: 109529.41 | G39: 741000
A40: 27 | B40: SIPS DE MANGUERA DE VACIO | C40: 1 | D40: UND | E40: 307563.03 | F40: 58436.975 | G40: 395000
A41: 28 | B41: SIPS MANGUERA DE RETORNO | C41: 1 | D41: UND | E41: 404201.68 | F41: 76798.319 | G41: 519000
A42: 29 | B42: SIPS EMPAQUETADURA DE TAPA DEL DESFOGUE | C42: 1 | D42: UND | E42: 384873.95 | F42: 73126.05 | G42: 495000
A43: 30 | B43: SIPS BOMBA DE COMBUSTIBLE COMPLETA | C43: 1 | D43: UND | E43: =G43/1.19 -> 2882352.9 | F43: =E43*19% -> 547647.06 | G43: 3430000
A44: 31 | B44: SIPS FLOTADOR Y MECANISMOS DE INDICACION DE NIVEL DE COMBUSTIBLE | C44: 1 | D44: UND | E44: =G44/1.19 -> 539495.8 | F44: =E44*19% -> 102504.2 | G44: 642000
A45: 32 | B45: SIPS DE UNA MANGUERA DE COMBUSTIBLE | C45: 1 | D45: UND | E45: =G45/1.19 -> 183193.28 | F45: =E45*19% -> 34806.723 | G45: 218000
A46: 33 | B46: REPARACION TANQUE DE COMBUSTIBLE INCLUYE PINTADA | C46: 1 | D46: SERV | E46: =G46/1.19 -> 621848.74 | F46: =E46*19% -> 118151.26 | G46: 740000
A47: 34 | B47: SIPS TAPA DE TANQUE DE COMBUSTIBLE | C47: 1 | D47: UND | E47: =G47/1.19 -> 256302.52 | F47: =E47*19% -> 48697.479 | G47: 305000
A48: 35 | B48: SIPS DE UNA MANGUERA DE VACIO | C48: 1 | D48: UND | E48: =G48/1.19 -> 121848.74 | F48: =E48*19% -> 23151.261 | G48: 145000
A49: 36 | B49: SIPS DE TODAS LAS MANGUERAS DE VACIO | C49: 1 | D49: UND | E49: =G49/1.19 -> 392436.97 | F49: =E49*19% -> 74563.025 | G49: 467000
A50: 37 | B50: SIPS TUBO DE ADMISION DEL FILTRO AL CUERPO DE ACELERACION O CARBURADOR | C50: 1 | D50: UND | E50: =G50/1.19 -> 445378.15 | F50: =E50*19% -> 84621.849 | G50: 530000
G51: 0
B52: SISTEMA DE ESCAPE | G52: 0
A53: 38 | B53: REPARACION DE SILENCIADOR | C53: 1 | D53: SERV | E53: =G53/1.19 -> 298319.33 | F53: =E53*19% -> 56680.672 | G53: 355000
A54: 39 | B54: REPARACION TUBO DE ESCAPE | C54: 1 | D54: SERV | E54: =G54/1.19 -> 216806.72 | F54: =E54*19% -> 41193.277 | G54: 258000
A55: 40 | B55: SIPS DE SILINCIADOR | C55: 1 | D55: UND | E55: =G55/1.19 -> 945378.15 | F55: =E55*19% -> 179621.85 | G55: 1125000
A56: 41 | B56: SIPS FLEXIBLE DEL ESCAPE | C56: 1 | D56: UND | E56: =G56/1.19 -> 229411.76 | F56: =E56*19% -> 43588.235 | G56: 273000
A57: 42 | B57: SIPS EMPAQUES O ANILLOS MULTIPLE DE ESCAPE | C57: 1 | D57: UND | E57: =G57/1.19 -> 272268.91 | F57: =E57*19% -> 51731.092 | G57: 324000
A58: 43 | B58: SIPS CATALIZADOR | C58: 1 | D58: UND | E58: =G58/1.19 -> 1027731.1 | F58: =E58*19% -> 195268.91 | G58: 1223000
G59: 0
B60: SISTEMA DE LUBRICACION | G60: 0
A61: 44 | B61: GALON DE ACEITE DE MOTOR 15W40 | C61: 1 | D61: UND | E61: =G61 -> 305000 | F61: O | G61: 305000
A62: 45 | B62: CUARTO DE ACEITE DE MOTOR 15W40 | C62: 1 | D62: UND | E62: =G62 -> 78000 | F62: O | G62: 78000
A63: 46 | B63: CUARTO DE ACEITE DE CAJA HIDRAULICA ATF | C63: 1 | D63: UND | E63: =G63 -> 81000 | F63: O | G63: 81000
A64: 47 | B64: CUARTO DE ACEITE DE CAJA DE VELOCIDADES 80W90 | C64: 1 | D64: UND | E64: =G64 -> 56000 | F64: O | G64: 56000
A65: 48 | B65: CUARTO DE ACEITE DE TRANSMISION 85W140 | C65: 1 | D65: UND | E65: =G65 -> 56000 | F65: O | G65: 56000
A66: 49 | B66: POTE DE GRASA ALTA TEMPERATURA | C66: 1 | D66: UND | E66: =G66/1.19 -> 31932.773 | F66: =E66*19% -> 6067.2269 | G66: 38000
A67: 50 | B67: ADITIVO ANTIFRICCION | C67: 1 | D67: UND | E67: =G67/1.19 -> 137815.13 | F67: =E67*19% -> 26184.874 | G67: 164000
A68: 51 | B68: ADITIVO DE LUBRICACION | C68: 1 | D68: UND | E68: =G68/1.19 -> 26050.42 | F68: =E68*19% -> 4949.5798 | G68: 31000
A69: 52 | B69: ADITIVO DE CAJA O TRANSMISION | C69: 1 | D69: UND | E69: =G69/1.19 -> 23529.412 | F69: =E69*19% -> 4470.5882 | G69: 28000
A70: 53 | B70: ADITIVO DE RODILLERIA | C70: 1 | D70: UND | E70: =G70/1.19 -> 23529.412 | F70: =E70*19% -> 4470.5882 | G70: 28000
A71: 54 | B71: SIPS LIQUIDO DE CLUTCH SL | C71: 1 | D71: UND | E71: =G71/1.19 -> 128571.43 | F71: =E71*19% -> 24428.571 | G71: 153000
A72: 55 | B72: SIPS LIQUIDO DE FRENOS DOT 4 | C72: 1 | D72: UND | E72: =G72/1.19 -> 86554.622 | F72: =E72*19% -> 16445.378 | G72: 103000
A73: 56 | B73: DESENGRASANTE | C73: 1 | D73: UND | E73: =G73/1.19 -> 13445.378 | F73: =E73*19% -> 2554.6218 | G73: 16000
A74: 57 | B74: LUBRICANTE PENETRANTE | C74: 1 | D74: UND | E74: =G74/1.19 -> 58823.529 | F74: =E74*19% -> 11176.471 | G74: 70000
A75: 58 | B75: LIMPIA CONTACTOS | C75: 1 | D75: UND | E75: =G75/1.19 -> 58823.529 | F75: =E75*19% -> 11176.471 | G75: 70000
A76: 59 | B76: SERVICIO DE CAMBIO DE ACEITE MOTOR NO INCLUYE EL ACEITE | C76: 1 | D76: SERV | E76: =G76/1.19 -> 42857.143 | F76: =E76*19% -> 8142.8571 | G76: 51000
A77: 60 | B77: SIPS FILTRO DE ACEITE MOTOR | C77: 1 | D77: UND | E77: =G77/1.19 -> 245378.15 | F77: =E77*19% -> 46621.849 | G77: 292000
... A83: 66 | B83: SIPS TAPA GRASERA | C83: 1 | D83: UND | E83: =G83/1.19 -> 34453.782 | F83: =E83*19% -> 6546.2185 | G83: 41000
G84: 0
B85: SISTEMA REFRIGERACION | G85: 0
A86: 67 | B86: SONDEADA DE RADIADOR | C86: 1 | D86: SERV | E86: =G86/1.19 -> 378991.6 | F86: =E86*19% -> 72008.403 | G86: 451000
A87: 68 | B87: REPARACION DE RADIADOR INCLUYE PINTADA DONDE APLIQUE | C87: 1 | D87: SERV | E87: =G87/1.19 -> 512605.04 | F87: =E87*19% -> 97394.958 | G87: 610000
A88: 69 | B88: LAVADA DEL INTERCOOLER | C88: 1 | D88: SERV | E88: =G88/1.19 -> 284033.61 | F88: =E88*19% -> 53966.387 | G88: 338000
A89: 70 | B89: SIPS DE REFRIGERANTE MOTOR POR CUARTOS ALTA CALIDAD | C89: 1 | D89: UND | E89: =G89/1.19 -> 29411.765 | F89: =E89*19% -> 5588.2353 | G89: 35000
A90: 71 | B90: SIPS BOMBA DE AGUA | C90: 1 | D90: UND | E90: =G90/1.19 -> 1771428.6 | F90: =E90*19% -> 336571.43 | G90: 2108000
A91: 72 | B91: SIPS MANGUERA SUPERIOR RADIADOR | C91: 1 | D91: UND | E91: =G91/1.19 -> 336974.79 | F91: =E91*19% -> 64025.21 | G91: 401000
A92: 73 | B92: SIPS MANGUERA INFERIOR RADIADOR | C92: 1 | D92: UND | E92: =G92/1.19 -> 418487.39 | F92: =E92*19% -> 79512.605 | G92: 498000
A93: 74 | B93: SIPS MANGUERA DE CALEFACCION | C93: 1 | D93: UND | E93: =G93/1.19 -> 445378.15 | F93: =E93*19% -> 84621.849 | G93: 530000
A94: 75 | B94: SIPS SENSOR DE TEMPERATURA | C94: 1 | D94: UND | E94: =G94/1.19 -> 1138655.5 | F94: =E94*19% -> 216344.54 | G94: 1355000
A95: 76 | B95: SIPS DE RADIADOR | C95: 1 | D95: UND | E95: =G95/1.19 -> 4221848.7 | F95: =E95*19% -> 802151.26 | G95: 5024000
A96: 77 | B96: SIPS DEL TERMOSTATO | C96: 1 | D96: UND | E96: =G96/1.19 -> 431092.44 | F96: =E96*19% -> 81907.563 | G96: 513000
A97: 78 | B97: SIPS DEL MOTOVENTILADOR | C97: 1 | D97: UND | E97: =G97/1.19 -> 899159.66 | F97: =E97*19% -> 170840.34 | G97: 1070000
... A99: 80 | B99: SIPS DEL DEPOSITO AUXILIAR DE REFRIGERANTE MOTOR | C99: 1 | D99: UND | E99: =G99/1.19 -> 431092.44 | F99: =E99*19% -> 81907.563 | G99: 513000
G100: 0
B101: SISTEMA DE DIRECCION | G101: 0
A102: 81 | B102: ALINEACION Y BALANCEO DE TODAS LAS RUEDAS | C102: 1 | D102: SERV | E102: =G102/1.19 -> 167226.89 | F102: =E102*19% -> 31773.109 | G102: 199000
A103: 82 | B103: ALINEACION | C103: 1 | D103: SERV | E103: =G103/1.19 -> 82352.941 | F103: =E103*19% -> 15647.059 | G103: 98000
A104: 83 | B104: BALANCEO | C104: 1 | D104: SERV | E104: =G104/1.19 -> 82352.941 | F104: =E104*19% -> 15647.059 | G104: 98000
A105: 84 | B105: SIPS DE CINTILLA DEL SISTEMA AIR-BAG | C105: 1 | D105: UND | E105: =G105/1.19 -> 1134453.8 | F105: =E105*19% -> 215546.22 | G105: 1350000
A106: 85 | B106: SIPS DE TODOS LOS TERMINALES DE DIRECCION | C106: 1 | D106: UND | E106: =G106/1.19 -> 1213445.4 | F106: =E106*19% -> 230554.62 | G106: 1444000
A107: 86 | B107: SIPS DE UN TERMINAL DE DIRECCION | C107: 1 | D107: UND | E107: =G107/1.19 -> 253781.51 | F107: =E107*19% -> 48218.487 | G107: 302000
A108: 87 | B108: SIPS DE TODOS LOS BRAZOS DE DIRECCION | C108: 1 | D108: UND | E108: =G108/1.19 -> 1566386.6 | F108: =E108*19% -> 297613.45 | G108: 1864000
...

Sheet TRACTO CAMION
A1: SOLUCIONES MECANICAS Y DE TRANSPORTE AUTOMOTRIZ S.A.S
A2: NIT 811045604-4
A3: Autopista Medellín - Bogotá. KM 43 (Marinilla)
A4: Teléfono 5690755 - 5484953
A6: SERVICIO NACIONAL DE APRENDIZAJE - SENA
B8: VEHICULO COTIZADO:
B9: VEHICULO TRACTOCAMION SRS RENAULT PREMIUMCOLOR Azul -PLACA OKL228-MODELO 2008
A10: ITEM | B10: SERVICIO REQUERIDO | C10: CANT | D10: UNIDAD DE MEDIDA | E10: VALOR UNITARIO | F10: IVA | G10: VALOR TOTAL
B11: SISTEMA MOTOR
A12: 1 | B12: CALIBRACION DE VALVULAS | C12: 1 | D12: SERV | E12: =G12/1.19 -> 225210.08 | F12: =E12*19% -> 42789.916 | G12: 268000
A13: 2 | B13: SIPS VOLANTE | C13: 1 | D13: UND | E13: =G13/1.19 -> 4139495.8 | F13: =E13*19% -> 786504.2 | G13: 4926000
A14: 3 | B14: SIPS CREMALLERA DEL VOLANTE | C14: 1 | D14: UND | E14: =G14/1.19 -> 1725210.1 | F14: =E14*19% -> 327789.92 | G14: 2053000
A15: 4 | B15: SIPS CADENA REPARTICION | C15: 1 | D15: UND | E15: =G15/1.19 -> 2352100.8 | F15: =E15*19% -> 446899.16 | G15: 2799000
A16: 5 | B16: SIPS CORREA UNICA DE ACCESORIOS | C16: 1 | D16: UND | E16: =G16/1.19 -> 395798.32 | F16: =E16*19% -> 75201.681 | G16: 471000
A17: 6 | B17: SIPS EMPAQUE TAPA VALVULAS | C17: 1 | D17: UND | E17: =G17/1.19 -> 352100.84 | F17: =E17*19% -> 66899.16 | G17: 419000
A18: 7 | B18: SIPS EMPAQUE CARTER | C18: 1 | D18: UND | E18: =G18/1.19 -> 380672.27 | F18: =E18*19% -> 72327.731 | G18: 453000
A19: 8 | B19: SIPS DE LA VALVULA IAC | C19: 1 | D19: UND | E19: =G19/1.19 -> 631092.44 | F19: =E19*19% -> 119907.56 | G19: 751000
A20: 9 | B20: REVISION TECNICOMECANICA Y DE GASES | C20: 1 | D20: SERV | E20: =G20/1.19 -> 544537.82 | F20: =E20*19% -> 103462.18 | G20: 648000
A21: 10 | B21: ANALISIS DE GASES | C21: 1 | D21: SERV | E21: =G21/1.19 -> 146218.49 | F21: =E21*19% -> 27781.513 | G21: 174000
A22: 11 | B22: ANALISIS DE OPACIDAD | C22: 1 | D22: SERV | E22: =G22/1.19 -> 146218.49 | F22: =E22*19% -> 27781.513 | G22: 174000
A23: 12 | B23: SCANEO | C23: 1 | D23: SERV | E23: =G23/1.19 -> 178991.6 | F23: =E23*19% -> 34008.403 | G23: 213000
A24: 13 | B24: SINCRONIZACION DE MOTOR INCLUYE REPUESTOS NECESARIOS PARA UNA OPTIMA SINCRONIZACION | C24: 1 | D24: SERV | E24: =G24/1.19 -> 352100.84 | F24: =E24*19% -> 66899.16 | G24: 419000
G25: 0
B26: SISTEMA ALIMENTACION AIRE/COMBUSTIBLE | G26: 0
A27: 14 | B27: CALIBRACION DE LA BOMBA DE INYECCION | C27: 1 | D27: SERV | E27: =G27/1.19 -> 4094117.6 | F27: =E27*19% -> 777882.35 | G27: 4872000
A28: 15 | B28: CALIBRACION JUEGO DE INYECTORES | C28: 1 | D28: SERV | E28: =G28/1.19 -> 3038655.5 | F28: =E28*19% -> 577344.54 | G28: 3616000
A29: 16 | B29: LAVADA JUEGO DE INYECTORES POR ULTRASONIDO INCLUYE SIPS DE FILTROS DE INYECTORES Y ORINGS | C29: 1 | D29: SERV | E29: =G29/1.19 -> 1131932.8 | F29: =E29*19% -> 215067.23 | G29: 1347000
A30: 17 | B30: SIPS DE UN INYECTOR INCLUYE INSTALACION | C30: 1 | D30: UND | E30: =G30/1.19 -> 1800840.3 | F30: =E30*19% -> 342159.66 | G30: 2143000
A31: 18 | B31: REPARACION DEL TURBO | C31: 1 | D31: SERV | E31: =G31/1.19 -> 6937815.1 | F31: =E31*19% -> 1318184.9 | G31: 8256000
A32: 19 | B32: SIPS PESCADOR TANQUE DE COMBUSTIBLE | C32: 1 | D32: =IF(COUNTIF(B32,"SIPS*"),"UND ","SERV") -> UND | E32: =G32/1.19 -> 2933613.4 | F32: =E32*19% -> 557386.55 | G32: 3491000
A33: 20 | B33: LIMPIEZA CUERPO DE ACELERACION Y VALVULA IAC | C33: 1 | D33: SERV | E33: =G33/1.19 -> 648739.5 | F33: =E33*19% -> 123260.5 | G33: 772000
A34: 21 | B34: LAVADA TANQUE DE COMBUSTIBLE | C34: 1 | D34: SERV | E34: =G34/1.19 -> 485714.29 | F34: =E34*19% -> 92285.714 | G34: 578000
A35: 22 | B35: SIPS JUEGO DE FILTROS DE COMBUSTIBLE | C35: 1 | D35: UND | E35: =G35/1.19 -> 515126.05 | F35: =E35*19% -> 97873.95 | G35: 613000
A36: 23 | B36: SIPS RIEL DE INYECTORES | C36: 1 | D36: UND | E36: =G36/1.19 -> 1412605 | F36: =E36*19% -> 268394.96 | G36: 1681000
A37: 24 | B37: SIPS JUEGO DE FILTROS DE AIRE | C37: 1 | D37: UND | E37: =G37/1.19 -> 247058.82 | F37: =E37*19% -> 46941.176 | G37: 294000
A38: 25 | B38: SIPS DE MANGUERA DE COMBUSTIBLE | C38: 1 | D38: UND | E38: 297478.99 | F38: 56521.008 | G38: 416000
A39: 26 | B39: SIPS DE MANGUERA DE ADMISION | C39: 1 | D39: UND | E39: 576470.59 | F39: 109529.41 | G39: 808000
A40: 27 | B40: SIPS DE MANGUERA DE VACIO | C40: 1 | D40: UND | E40: 307563.03 | F40: 58436.975 | G40: 431000
A41: 28 | B41: SIPS MANGUERA DE RETORNO | C41: 1 | D41: UND | E41: 404201.68 | F41: 76798.319 | G41: 566000
A42: 29 | B42: SIPS EMPAQUETADURA DE TAPA DEL DESFOGUE | C42: 1 | D42: UND | E42: 384873.95 | F42: 73126.05 | G42: 540000
A43: 30 | B43: SIPS BOMBA DE COMBUSTIBLE COMPLETA | C43: 1 | D43: UND | E43: =G43/1.19 -> 3142016.8 | F43: =E43*19% -> 596983.19 | G43: 3739000
A44: 31 | B44: SIPS FLOTADOR Y MECANISMOS DE INDICACION DE NIVEL DE COMBUSTIBLE | C44: 1 | D44: UND | E44: =G44/1.19 -> 588235.29 | F44: =E44*19% -> 111764.71 | G44: 700000
A45: 32 | B45: SIPS DE UNA MANGUERA DE COMBUSTIBLE | C45: 1 | D45: UND | E45: =G45/1.19 -> 200000 | F45: =E45*19% -> 38000 | G45: 238000
A46: 33 | B46: REPARACION TANQUE DE COMBUSTIBLE INCLUYE PINTADA | C46: 1 | D46: SERV | E46: =G46/1.19 -> 678151.26 | F46: =E46*19% -> 128848.74 | G46: 807000
A47: 34 | B47: SIPS TAPA DE TANQUE DE COMBUSTIBLE | C47: 1 | D47: UND | E47: =G47/1.19 -> 278991.6 | F47: =E47*19% -> 53008.403 | G47: 332000
A48: 35 | B48: SIPS DE UNA MANGUERA DE VACIO | C48: 1 | D48: UND | E48: =G48/1.19 -> 132773.11 | F48: =E48*19% -> 25226.891 | G48: 158000
A49: 36 | B49: SIPS DE TODAS LAS MANGUERAS DE VACIO | C49: 1 | D49: UND | E49: =G49/1.19 -> 427731.09 | F49: =E49*19% -> 81268.908 | G49: 509000
A50: 37 | B50: SIPS TUBO DE ADMISION DEL FILTRO AL CUERPO DE ACELERACION O CARBURADOR | C50: 1 | D50: UND | E50: =G50/1.19 -> 485714.29 | F50: =E50*19% -> 92285.714 | G50: 578000
G51: 0
B52: SISTEMA DE ESCAPE | G52: 0
A53: 38 | B53: REPARACION DE SILENCIADOR | C53: 1 | D53: SERV | E53: =G53/1.19 -> 325210.08 | F53: =E53*19% -> 61789.916 | G53: 387000
A54: 39 | B54: REPARACION TUBO DE ESCAPE | C54: 1 | D54: SERV | E54: =G54/1.19 -> 236134.45 | F54: =E54*19% -> 44865.546 | G54: 281000
A55: 40 | B55: SIPS DE SILINCIADOR | C55: 1 | D55: UND | E55: =G55/1.19 -> 1030252.1 | F55: =E55*19% -> 195747.9 | G55: 1226000
A56: 41 | B56: SIPS FLEXIBLE DEL ESCAPE | C56: 1 | D56: UND | E56: =G56/1.19 -> 250420.17 | F56: =E56*19% -> 47579.832 | G56: 298000
A57: 42 | B57: SIPS EMPAQUES O ANILLOS MULTIPLE DE ESCAPE | C57: 1 | D57: UND | E57: =G57/1.19 -> 296638.66 | F57: =E57*19% -> 56361.345 | G57: 353000
A58: 43 | B58: SIPS CATALIZADOR | C58: 1 | D58: UND | E58: =G58/1.19 -> 1120168.1 | F58: =E58*19% -> 212831.93 | G58: 1333000
G59: 0
B60: SISTEMA DE LUBRICACION | G60: 0
A61: 44 | B61: GALON DE ACEITE DE MOTOR 15W40 | C61: 1 | D61: UND | E61: =G61 -> 305000 | F61: O | G61: 305000
A62: 45 | B62: CUARTO DE ACEITE DE MOTOR 15W40 | C62: 1 | D62: UND | E62: =G62 -> 78000 | F62: O | G62: 78000
A63: 46 | B63: CUARTO DE ACEITE DE CAJA HIDRAULICA ATF | C63: 1 | D63: UND | E63: =G63 -> 81000 | F63: O | G63: 81000
A64: 47 | B64: CUARTO DE ACEITE DE CAJA DE VELOCIDADES 80W90 | C64: 1 | D64: UND | E64: =G64 -> 56000 | F64: O | G64: 56000
A65: 48 | B65: CUARTO DE ACEITE DE TRANSMISION 85W140 | C65: 1 | D65: UND | E65: =G65 -> 56000 | F65: O | G65: 56000
A66: 49 | B66: POTE DE GRASA ALTA TEMPERATURA | C66: 1 | D66: UND | E66: =G66/1.19 -> 31932.773 | F66: =E66*19% -> 6067.2269 | G66: 38000
A67: 50 | B67: ADITIVO ANTIFRICCION | C67: 1 | D67: UND | E67: =G67/1.19 -> 137815.13 | F67: =E67*19% -> 26184.874 | G67: 164000
A68: 51 | B68: ADITIVO DE LUBRICACION | C68: 1 | D68: UND | E68: =G68/1.19 -> 26050.42 | F68: =E68*19% -> 4949.5798 | G68: 31000
A69: 52 | B69: ADITIVO DE CAJA O TRANSMISION | C69: 1 | D69: UND | E69: =G69/1.19 -> 23529.412 | F69: =E69*19% -> 4470.5882 | G69: 28000
A70: 53 | B70: ADITIVO DE RODILLERIA | C70: 1 | D70: UND | E70: =G70/1.19 -> 23529.412 | F70: =E70*19% -> 4470.5882 | G70: 28000
A71: 54 | B71: SIPS LIQUIDO DE CLUTCH SL | C71: 1 | D71: UND | E71: =G71/1.19 -> 128571.43 | F71: =E71*19% -> 24428.571 | G71: 153000
A72: 55 | B72: SIPS LIQUIDO DE FRENOS DOT 4 | C72: 1 | D72: UND | E72: =G72/1.19 -> 86554.622 | F72: =E72*19% -> 16445.378 | G72: 103000
A73: 56 | B73: DESENGRASANTE | C73: 1 | D73: UND | E73: =G73/1.19 -> 13445.378 | F73: =E73*19% -> 2554.6218 | G73: 16000
A74: 57 | B74: LUBRICANTE PENETRANTE | C74: 1 | D74: UND | E74: =G74/1.19 -> 58823.529 | F74: =E74*19% -> 11176.471 | G74: 70000
A75: 58 | B75: LIMPIA CONTACTOS | C75: 1 | D75: UND | E75: =G75/1.19 -> 58823.529 | F75: =E75*19% -> 11176.471 | G75: 70000
A76: 59 | B76: SERVICIO DE CAMBIO DE ACEITE MOTOR NO INCLUYE EL ACEITE | C76: 1 | D76: SERV | E76: =G76/1.19 -> 47058.824 | F76: =E76*19% -> 8941.1765 | G76: 56000
A77: 60 | B77: SIPS FILTRO DE ACEITE MOTOR | C77: 1 | D77: UND | E77: =G77/1.19 -> 267226.89 | F77: =E77*19% -> 50773.109 | G77: 318000
... A83: 66 | B83: SIPS TAPA GRASERA | C83: 1 | D83: UND | E83: =G83/1.19 -> 37815.126 | F83: =E83*19% -> 7184.8739 | G83: 45000
G84: 0
B85: SISTEMA REFRIGERACION | G85: 0
A86: 67 | B86: SONDEADA DE RADIADOR | C86: 1 | D86: SERV | E86: =G86/1.19 -> 413445.38 | F86: =E86*19% -> 78554.622 | G86: 492000
A87: 68 | B87: REPARACION DE RADIADOR INCLUYE PINTADA DONDE APLIQUE | C87: 1 | D87: SERV | E87: =G87/1.19 -> 558823.53 | F87: =E87*19% -> 106176.47 | G87: 665000
A88: 69 | B88: LAVADA DEL INTERCOOLER | C88: 1 | D88: SERV | E88: =G88/1.19 -> 309243.7 | F88: =E88*19% -> 58756.303 | G88: 368000
A89: 70 | B89: SIPS DE REFRIGERANTE MOTOR POR CUARTOS ALTA CALIDAD | C89: 1 | D89: UND | E89: =G89/1.19 -> 31932.773 | F89: =E89*19% -> 6067.2269 | G89: 38000
A90: 71 | B90: SIPS BOMBA DE AGUA | C90: 1 | D90: UND | E90: =G90/1.19 -> 1931092.4 | F90: =E90*19% -> 366907.56 | G90: 2298000
A91: 72 | B91: SIPS MANGUERA SUPERIOR RADIADOR | C91: 1 | D91: UND | E91: =G91/1.19 -> 367226.89 | F91: =E91*19% -> 69773.109 | G91: 437000
A92: 73 | B92: SIPS MANGUERA INFERIOR RADIADOR | C92: 1 | D92: UND | E92: =G92/1.19 -> 456302.52 | F92: =E92*19% -> 86697.479 | G92: 543000
A93: 74 | B93: SIPS MANGUERA DE CALEFACCION | C93: 1 | D93: UND | E93: =G93/1.19 -> 485714.29 | F93: =E93*19% -> 92285.714 | G93: 578000
A94: 75 | B94: SIPS SENSOR DE TEMPERATURA | C94: 1 | D94: UND | E94: =G94/1.19 -> 1241176.5 | F94: =E94*19% -> 235823.53 | G94: 1477000
A95: 76 | B95: SIPS DE RADIADOR | C95: 1 | D95: UND | E95: =G95/1.19 -> 4601680.7 | F95: =E95*19% -> 874319.33 | G95: 5476000
A96: 77 | B96: SIPS DEL TERMOSTATO | C96: 1 | D96: UND | E96: =G96/1.19 -> 469747.9 | F96: =E96*19% -> 89252.101 | G96: 559000
A97: 78 | B97: SIPS DEL MOTOVENTILADOR | C97: 1 | D97: UND | E97: =G97/1.19 -> 979831.93 | F97: =E97*19% -> 186168.07 | G97: 1166000
... A99: 80 | B99: SIPS DEL DEPOSITO AUXILIAR DE REFRIGERANTE MOTOR | C99: 1 | D99: UND | E99: =G99/1.19 -> 469747.9 | F99: =E99*19% -> 89252.101 | G99: 559000
G100: 0
B101: SISTEMA DE DIRECCION | G101: 0
A102: 81 | B102: ALINEACION Y BALANCEO DE TODAS LAS RUEDAS | C102: 1 | D102: SERV | E102: =G102/1.19 -> 182352.94 | F102: =E102*19% -> 34647.059 | G102: 217000
A103: 82 | B103: ALINEACION | C103: 1 | D103: SERV | E103: =G103/1.19 -> 89915.966 | F103: =E103*19% -> 17084.034 | G103: 107000
A104: 83 | B104: BALANCEO | C104: 1 | D104: SERV | E104: =G104/1.19 -> 89915.966 | F104: =E104*19% -> 17084.034 | G104: 107000
A105: 84 | B105: SIPS DE CINTILLA DEL SISTEMA AIR-BAG | C105: 1 | D105: UND | E105: =G105/1.19 -> 1236974.8 | F105: =E105*19% -> 235025.21 | G105: 1472000
A106: 85 | B106: SIPS DE TODOS LOS TERMINALES DE DIRECCION | C106: 1 | D106: UND | E106: =G106/1.19 -> 1322689.1 | F106: =E106*19% -> 251310.92 | G106: 1574000
A107: 86 | B107: SIPS DE UN TERMINAL DE DIRECCION | C107: 1 | D107: UND | E107: =G107/1.19 -> 276470.59 | F107: =E107*19% -> 52529.412 | G107: 329000
A108: 87 | B108: SIPS DE TODOS LOS BRAZOS DE DIRECCION | C108: 1 | D108: UND | E108: =G108/1.19 -> 1707563 | F108: =E108*19% -> 324436.97 | G108: 2032000
...

Sheet NISSAN D21
A1: SOLUCIONES MECANICAS Y DE TRANSPORTE AUTOMOTRIZ S.A.S
A2: NIT 811045604-4
A3: Autopista Medellín - Bogotá. KM 43 (Marinilla)
A4: Teléfono 5690755 - 5484953
A6: SERVICIO NACIONAL DE APRENDIZAJE - SENA
B8: VEHICULO COTIZADO:
B9: NISSAN D21 CAMIONETA PICKUP DOBLE CABINA, COLOR PLATA-PLACA OBC978-MODELO 1995
A10: ITEM | B10: SERVICIO REQUERIDO | C10: CANT | D10: UNIDAD DE MEDIDA | E10: VALOR UNITARIO | F10: IVA | G10: VALOR TOTAL
B11: SISTEMA MOTOR
A12: 1 | B12: CALIBRACION DE VALVULAS | C12: 1 | D12: SERV | E12: =G12/1.19 -> 202521.01 | F12: =E12*19% -> 38478.992 | G12: 241000
A13: 2 | B13: SIPS VOLANTE | C13: 1 | D13: UND | E13: =G13/1.19 -> 1455462.2 | F13: =E13*19% -> 276537.82 | G13: 1732000
A14: 3 | B14: SIPS CREMALLERA DEL VOLANTE | C14: 1 | D14: UND | E14: =G14/1.19 -> 795798.32 | F14: =E14*19% -> 151201.68 | G14: 947000
A15: 4 | B15: SIPS CADENA REPARTICION | C15: 1 | D15: UND | E15: =G15/1.19 -> 2115126.1 | F15: =E15*19% -> 401873.95 | G15: 2517000
A16: 5 | B16: SIPS CORREA UNICA DE ACCESORIOS | C16: 1 | D16: UND | E16: =G16/1.19 -> 355462.18 | F16: =E16*19% -> 67537.815 | G16: 423000
A17: 6 | B17: SIPS EMPAQUE TAPA VALVULAS | C17: 1 | D17: UND | E17: =G17/1.19 -> 315966.39 | F17: =E17*19% -> 60033.613 | G17: 376000
A18: 7 | B18: SIPS EMPAQUE CARTER | C18: 1 | D18: UND | E18: =G18/1.19 -> 342857.14 | F18: =E18*19% -> 65142.857 | G18: 408000
A19: 8 | B19: SIPS DE LA VALVULA IAC | C19: 1 | D19: UND | E19: =G19/1.19 -> 567226.89 | F19: =E19*19% -> 107773.11 | G19: 675000
A20: 9 | B20: REVISION TECNICOMECANICA Y DE GASES | C20: 1 | D20: SERV | E20: =G20/1.19 -> 451260.5 | F20: =E20*19% -> 85739.496 | G20: 537000
A21: 10 | B21: ANALISIS DE GASES | C21: 1 | D21: SERV | E21: =G21/1.19 -> 131932.77 | F21: =E21*19% -> 25067.227 | G21: 157000
A22: 11 | B22: ANALISIS DE OPACIDAD | C22: 1 | D22: SERV | E22: =G22/1.19 -> 131932.77 | F22: =E22*19% -> 25067.227 | G22: 157000
A23: 12 | B23: SCANEO | C23: 1 | D23: SERV | E23: =G23/1.19 -> 160504.2 | F23: =E23*19% -> 30495.798 | G23: 191000
A24: 13 | B24: SINCRONIZACION DE MOTOR INCLUYE REPUESTOS NECESARIOS PARA UNA OPTIMA SINCRONIZACION | C24: 1 | D24: SERV | E24: =G24/1.19 -> 315966.39 | F24: =E24*19% -> 60033.613 | G24: 376000
G25: 0
B26: SISTEMA ALIMENTACION AIRE/COMBUSTIBLE | G26: 0
A27: 14 | B27: CALIBRACION DE LA BOMBA DE INYECCION | C27: 1 | D27: SERV | E27: =G27/1.19 -> 3681512.6 | F27: =E27*19% -> 699487.39 | G27: 4381000
A28: 15 | B28: CALIBRACION JUEGO DE INYECTORES | C28: 1 | D28: SERV | E28: =G28/1.19 -> 2731932.8 | F28: =E28*19% -> 519067.23 | G28: 3251000
A29: 16 | B29: LAVADA JUEGO DE INYECTORES POR ULTRASONIDO INCLUYE SIPS DE FILTROS DE INYECTORES Y ORINGS | C29: 1 | D29: SERV | E29: =G29/1.19 -> 1017647.1 | F29: =E29*19% -> 193352.94 | G29: 1211000
A30: 17 | B30: SIPS DE UN INYECTOR INCLUYE INSTALACION | C30: 1 | D30: UND | E30: =G30/1.19 -> 1619327.7 | F30: =E30*19% -> 307672.27 | G30: 1927000
A31: 18 | B31: REPARACION DEL TURBO | C31: 1 | D31: SERV | E31: =G31/1.19 -> 6237815.1 | F31: =E31*19% -> 1185184.9 | G31: 7423000
A32: 19 | B32: SIPS PESCADOR TANQUE DE COMBUSTIBLE | C32: 1 | D32: =IF(COUNTIF(B32,"SIPS*"),"UND ","SERV") -> UND | E32: =G32/1.19 -> 2637815.1 | F32: =E32*19% -> 501184.87 | G32: 3139000
A33: 20 | B33: LIMPIEZA CUERPO DE ACELERACION Y VALVULA IAC | C33: 1 | D33: SERV | E33: =G33/1.19 -> 583193.28 | F33: =E33*19% -> 110806.72 | G33: 694000
A34: 21 | B34: LAVADA TANQUE DE COMBUSTIBLE | C34: 1 | D34: SERV | E34: =G34/1.19 -> 436134.45 | F34: =E34*19% -> 82865.546 | G34: 519000
A35: 22 | B35: SIPS JUEGO DE FILTROS DE COMBUSTIBLE | C35: 1 | D35: UND | E35: =G35/1.19 -> 463025.21 | F35: =E35*19% -> 87974.79 | G35: 551000
A36: 23 | B36: SIPS RIEL DE INYECTORES | C36: 1 | D36: UND | E36: =G36/1.19 -> 1269747.9 | F36: =E36*19% -> 241252.1 | G36: 1511000
A37: 24 | B37: SIPS JUEGO DE FILTROS DE AIRE | C37: 1 | D37: UND | E37: =G37/1.19 -> 222689.08 | F37: =E37*19% -> 42310.924 | G37: 265000
A38: 25 | B38: SIPS DE MANGUERA DE COMBUSTIBLE | C38: 1 | D38: UND | E38: 297478.99 | F38: 56521.008 | G38: 374000
A39: 26 | B39: SIPS DE MANGUERA DE ADMISION | C39: 1 | D39: UND | E39: 576470.59 | F39: 109529.41 | G39: 726000
A40: 27 | B40: SIPS DE MANGUERA DE VACIO | C40: 1 | D40: UND | E40: 307563.03 | F40: 58436.975 | G40: 387000
A41: 28 | B41: SIPS MANGUERA DE RETORNO | C41: 1 | D41: UND | E41: 404201.68 | F41: 76798.319 | G41: 509000
A42: 29 | B42: SIPS EMPAQUETADURA DE TAPA DEL DESFOGUE | C42: 1 | D42: UND | E42: 384873.95 | F42: 73126.05 | G42: 485000
A43: 30 | B43: SIPS BOMBA DE COMBUSTIBLE COMPLETA | C43: 1 | D43: UND | E43: =G43/1.19 -> 2824369.7 | F43: =E43*19% -> 536630.25 | G43: 3361000
A44: 31 | B44: SIPS FLOTADOR Y MECANISMOS DE INDICACION DE NIVEL DE COMBUSTIBLE | C44: 1 | D44: UND | E44: =G44/1.19 -> 528571.43 | F44: =E44*19% -> 100428.57 | G44: 629000
A45: 32 | B45: SIPS DE UNA MANGUERA DE COMBUSTIBLE | C45: 1 | D45: UND | E45: =G45/1.19 -> 179831.93 | F45: =E45*19% -> 34168.067 | G45: 214000
A46: 33 | B46: REPARACION TANQUE DE COMBUSTIBLE INCLUYE PINTADA | C46: 1 | D46: SERV | E46: =G46/1.19 -> 609243.7 | F46: =E46*19% -> 115756.3 | G46: 725000
A47: 34 | B47: SIPS TAPA DE TANQUE DE COMBUSTIBLE | C47: 1 | D47: UND | E47: =G47/1.19 -> 251260.5 | F47: =E47*19% -> 47739.496 | G47: 299000
A48: 35 | B48: SIPS DE UNA MANGUERA DE VACIO | C48: 1 | D48: UND | E48: =G48/1.19 -> 119327.73 | F48: =E48*19% -> 22672.269 | G48: 142000
A49: 36 | B49: SIPS DE TODAS LAS MANGUERAS DE VACIO | C49: 1 | D49: UND | E49: =G49/1.19 -> 384873.95 | F49: =E49*19% -> 73126.05 | G49: 458000
A50: 37 | B50: SIPS TUBO DE ADMISION DEL FILTRO AL CUERPO DE ACELERACION O CARBURADOR | C50: 1 | D50: UND | E50: =G50/1.19 -> 436134.45 | F50: =E50*19% -> 82865.546 | G50: 519000
G51: 0
B52: SISTEMA DE ESCAPE | G52: 0
A53: 38 | B53: REPARACION DE SILENCIADOR | C53: 1 | D53: SERV | E53: =G53/1.19 -> 292436.97 | F53: =E53*19% -> 55563.025 | G53: 348000
A54: 39 | B54: REPARACION TUBO DE ESCAPE | C54: 1 | D54: SERV | E54: =G54/1.19 -> 212605.04 | F54: =E54*19% -> 40394.958 | G54: 253000
A55: 40 | B55: SIPS DE SILINCIADOR | C55: 1 | D55: UND | E55: =G55/1.19 -> 926890.76 | F55: =E55*19% -> 176109.24 | G55: 1103000
A56: 41 | B56: SIPS FLEXIBLE DEL ESCAPE | C56: 1 | D56: UND | E56: =G56/1.19 -> 225210.08 | F56: =E56*19% -> 42789.916 | G56: 268000
A57: 42 | B57: SIPS EMPAQUES O ANILLOS MULTIPLE DE ESCAPE | C57: 1 | D57: UND | E57: =G57/1.19 -> 267226.89 | F57: =E57*19% -> 50773.109 | G57: 318000
A58: 43 | B58: SIPS CATALIZADOR | C58: 1 | D58: UND | E58: =G58/1.19 -> 1007563 | F58: =E58*19% -> 191436.97 | G58: 1199000
G59: 0
B60: SISTEMA DE LUBRICACION | G60: 0
A61: 44 | B61: GALON DE ACEITE DE MOTOR 20W50 | C61: 1 | D61: UND | E61: =G61 -> 299000 | F61: O | G61: 299000
A62: 45 | B62: CUARTO DE ACEITE DE MOTOR 20W50 | C62: 1 | D62: UND | E62: =G62 -> 76000 | F62: O | G62: 76000
A63: 46 | B63: CUARTO DE ACEITE DE CAJA HIDRAULICA ATF | C63: 1 | D63: UND | E63: =G63 -> 81000 | F63: O | G63: 81000
A64: 47 | B64: CUARTO DE ACEITE DE CAJA DE VELOCIDADES 80W90 | C64: 1 | D64: UND | E64: =G64 -> 56000 | F64: O | G64: 56000
A65: 48 | B65: CUARTO DE ACEITE DE TRANSMISION 85W140 | C65: 1 | D65: UND | E65: =G65 -> 56000 | F65: O | G65: 56000
A66: 49 | B66: POTE DE GRASA ALTA TEMPERATURA | C66: 1 | D66: UND | E66: =G66/1.19 -> 31932.773 | F66: =E66*19% -> 6067.2269 | G66: 38000
A67: 50 | B67: ADITIVO ANTIFRICCION | C67: 1 | D67: UND | E67: =G67/1.19 -> 137815.13 | F67: =E67*19% -> 26184.874 | G67: 164000
A68: 51 | B68: ADITIVO DE LUBRICACION | C68: 1 | D68: UND | E68: =G68/1.19 -> 26050.42 | F68: =E68*19% -> 4949.5798 | G68: 31000
A69: 52 | B69: ADITIVO DE CAJA O TRANSMISION | C69: 1 | D69: UND | E69: =G69/1.19 -> 23529.412 | F69: =E69*19% -> 4470.5882 | G69: 28000
A70: 53 | B70: ADITIVO DE RODILLERIA | C70: 1 | D70: UND | E70: =G70/1.19 -> 23529.412 | F70: =E70*19% -> 4470.5882 | G70: 28000
A71: 54 | B71: SIPS LIQUIDO DE CLUTCH SL | C71: 1 | D71: UND | E71: =G71/1.19 -> 128571.43 | F71: =E71*19% -> 24428.571 | G71: 153000
A72: 55 | B72: SIPS LIQUIDO DE FRENOS DOT 4 | C72: 1 | D72: UND | E72: =G72/1.19 -> 86554.622 | F72: =E72*19% -> 16445.378 | G72: 103000
A73: 56 | B73: DESENGRASANTE | C73: 1 | D73: UND | E73: =G73/1.19 -> 13445.378 | F73: =E73*19% -> 2554.6218 | G73: 16000
A74: 57 | B74: LUBRICANTE PENETRANTE | C74: 1 | D74: UND | E74: =G74/1.19 -> 58823.529 | F74: =E74*19% -> 11176.471 | G74: 70000
A75: 58 | B75: LIMPIA CONTACTOS | C75: 1 | D75: UND | E75: =G75/1.19 -> 58823.529 | F75: =E75*19% -> 11176.471 | G75: 70000
A76: 59 | B76: SERVICIO DE CAMBIO DE ACEITE MOTOR NO INCLUYE EL ACEITE | C76: 1 | D76: SERV | E76: =G76/1.19 -> 42016.807 | F76: =E76*19% -> 7983.1933 | G76: 50000
A77: 60 | B77: SIPS FILTRO DE ACEITE MOTOR | C77: 1 | D77: UND | E77: =G77/1.19 -> 240336.13 | F77: =E77*19% -> 45663.866 | G77: 286000
... A83: 66 | B83: SIPS TAPA GRASERA | C83: 1 | D83: UND | E83: =G83/1.19 -> 33613.445 | F83: =E83*19% -> 6386.5546 | G83: 40000
G84: 0
B85: SISTEMA REFRIGERACION | G85: 0
A86: 67 | B86: SONDEADA DE RADIADOR | C86: 1 | D86: SERV | E86: =G86/1.19 -> 371428.57 | F86: =E86*19% -> 70571.429 | G86: 442000
A87: 68 | B87: REPARACION DE RADIADOR INCLUYE PINTADA DONDE APLIQUE | C87: 1 | D87: SERV | E87: =G87/1.19 -> 502521.01 | F87: =E87*19% -> 95478.992 | G87: 598000
A88: 69 | B88: LAVADA DEL INTERCOOLER | C88: 1 | D88: SERV | E88: =G88/1.19 -> 278151.26 | F88: =E88*19% -> 52848.739 | G88: 331000
A89: 70 | B89: SIPS DE REFRIGERANTE MOTOR POR CUARTOS ALTA CALIDAD | C89: 1 | D89: UND | E89: =G89/1.19 -> 28571.429 | F89: =E89*19% -> 5428.5714 | G89: 34000
A90: 71 | B90: SIPS BOMBA DE AGUA | C90: 1 | D90: UND | E90: =G90/1.19 -> 1736134.5 | F90: =E90*19% -> 329865.55 | G90: 2066000
A91: 72 | B91: SIPS MANGUERA SUPERIOR RADIADOR | C91: 1 | D91: UND | E91: =G91/1.19 -> 330252.1 | F91: =E91*19% -> 62747.899 | G91: 393000
A92: 73 | B92: SIPS MANGUERA INFERIOR RADIADOR | C92: 1 | D92: UND | E92: =G92/1.19 -> 410084.03 | F92: =E92*19% -> 77915.966 | G92: 488000
A93: 74 | B93: SIPS MANGUERA DE CALEFACCION | C93: 1 | D93: UND | E93: =G93/1.19 -> 436134.45 | F93: =E93*19% -> 82865.546 | G93: 519000
A94: 75 | B94: SIPS SENSOR DE TEMPERATURA | C94: 1 | D94: UND | E94: =G94/1.19 -> 1115966.4 | F94: =E94*19% -> 212033.61 | G94: 1328000
A95: 76 | B95: SIPS DE RADIADOR | C95: 1 | D95: UND | E95: =G95/1.19 -> 4137815.1 | F95: =E95*19% -> 786184.87 | G95: 4924000
A96: 77 | B96: SIPS DEL TERMOSTATO | C96: 1 | D96: UND | E96: =G96/1.19 -> 422689.08 | F96: =E96*19% -> 80310.924 | G96: 503000
A97: 78 | B97: SIPS DEL MOTOVENTILADOR | C97: 1 | D97: UND | E97: =G97/1.19 -> 881512.61 | F97: =E97*19% -> 167487.39 | G97: 1049000
... A99: 80 | B99: SIPS DEL DEPOSITO AUXILIAR DE REFRIGERANTE MOTOR | C99: 1 | D99: UND | E99: =G99/1.19 -> 422689.08 | F99: =E99*19% -> 80310.924 | G99: 503000
G100: 0
B101: SISTEMA DE DIRECCION | G101: 0
A102: 81 | B102: ALINEACION Y BALANCEO DE TODAS LAS RUEDAS | C102: 1 | D102: SERV | E102: =G102/1.19 -> 163865.55 | F102: =E102*19% -> 31134.454 | G102: 195000
A103: 82 | B103: ALINEACION | C103: 1 | D103: SERV | E103: =G103/1.19 -> 80672.269 | F103: =E103*19% -> 15327.731 | G103: 96000
A104: 83 | B104: BALANCEO | C104: 1 | D104: SERV | E104: =G104/1.19 -> 80672.269 | F104: =E104*19% -> 15327.731 | G104: 96000
A105: 84 | B105: SIPS DE CINTILLA DEL SISTEMA AIR-BAG | C105: 1 | D105: UND | E105: =G105/1.19 -> 1111764.7 | F105: =E105*19% -> 211235.29 | G105: 1323000
A106: 85 | B106: SIPS DE TODOS LOS TERMINALES DE DIRECCION | C106: 1 | D106: UND | E106: =G106/1.19 -> 1189075.6 | F106: =E106*19% -> 225924.37 | G106: 1415000
A107: 86 | B107: SIPS DE UN TERMINAL DE DIRECCION | C107: 1 | D107: UND | E107: =G107/1.19 -> 248739.5 | F107: =E107*19% -> 47260.504 | G107: 296000
A108: 87 | B108: SIPS DE TODOS LOS BRAZOS DE DIRECCION | C108: 1 | D108: UND | E108: =G108/1.19 -> 1535294.1 | F108: =E108*19% -> 291705.88 | G108: 1827000
...

Sheet MONTA CARGAS
A1: SOLUCIONES MECANICAS Y DE TRANSPORTE AUTOMOTRIZ S.A.S
A2: NIT 811045604-4
A3: Autopista Medellín - Bogotá. KM 43 (Marinilla)
A4: Teléfono 5690755 - 5484953
A6: SERVICIO NACIONAL DE APRENDIZAJE - SENA
B8: VEHICULO COTIZADO:
B9: MONTACARGAS CATERPILLAR MODELO GP25 NM -PARA FORMACIÓN-MANTENIMIENTO PREVENTIVO/Peso 2.5 ton
A10: ITEM | B10: SERVICIO REQUERIDO | C10: CANT | D10: UNIDAD DE MEDIDA | E10: VALOR UNITARIO | F10: IVA | G10: VALOR TOTAL
B11: SISTEMA MOTOR
A12: 1 | B12: CALIBRACION DE VALVULAS | C12: 1 | D12: SERV | E12: =G12/1.19 -> 206722.69 | F12: =E12*19% -> 39277.311 | G12: 246000
A13: 2 | B13: SIPS VOLANTE | C13: 1 | D13: UND | E13: =G13/1.19 -> 1484873.9 | F13: =E13*19% -> 282126.05 | G13: 1767000
A14: 3 | B14: SIPS CREMALLERA DEL VOLANTE | C14: 1 | D14: UND | E14: =G14/1.19 -> 811764.71 | F14: =E14*19% -> 154235.29 | G14: 966000
A15: 4 | B15: SIPS CADENA REPARTICION | C15: 1 | D15: UND | E15: =G15/1.19 -> 2157983.2 | F15: =E15*19% -> 410016.81 | G15: 2568000
A16: 5 | B16: SIPS CORREA UNICA DE ACCESORIOS | C16: 1 | D16: UND | E16: =G16/1.19 -> 363025.21 | F16: =E16*19% -> 68974.79 | G16: 432000
A17: 6 | B17: SIPS EMPAQUE TAPA VALVULAS | C17: 1 | D17: UND | E17: =G17/1.19 -> 322689.08 | F17: =E17*19% -> 61310.924 | G17: 384000
A18: 7 | B18: SIPS EMPAQUE CARTER | C18: 1 | D18: UND | E18: =G18/1.19 -> 349579.83 | F18: =E18*19% -> 66420.168 | G18: 416000
A19: 8 | B19: SIPS DE LA VALVULA IAC | C19: 1 | D19: UND | E19: =G19/1.19 -> 578991.6 | F19: =E19*19% -> 110008.4 | G19: 689000
A20: 9 | B20: REVISION TECNICOMECANICA Y DE GASES | C20: 1 | D20: SERV | E20: =G20/1.19 -> 544537.82 | F20: =E20*19% -> 103462.18 | G20: 648000
A21: 10 | B21: ANALISIS DE GASES | C21: 1 | D21: SERV | E21: =G21/1.19 -> 134453.78 | F21: =E21*19% -> 25546.218 | G21: 160000
A22: 11 | B22: ANALISIS DE OPACIDAD | C22: 1 | D22: SERV | E22: =G22/1.19 -> 134453.78 | F22: =E22*19% -> 25546.218 | G22: 160000
A23: 12 | B23: SCANEO | C23: 1 | D23: SERV | E23: =G23/1.19 -> 163865.55 | F23: =E23*19% -> 31134.454 | G23: 195000
A24: 13 | B24: SINCRONIZACION DE MOTOR INCLUYE REPUESTOS NECESARIOS PARA UNA OPTIMA SINCRONIZACION | C24: 1 | D24: SERV | E24: =G24/1.19 -> 322689.08 | F24: =E24*19% -> 61310.924 | G24: 384000
G25: 0
B26: SISTEMA ALIMENTACION AIRE/COMBUSTIBLE | G26: 0
A27: 14 | B27: CALIBRACION DE LA BOMBA DE INYECCION | C27: 1 | D27: SERV | E27: =G27/1.19 -> 3756302.5 | F27: =E27*19% -> 713697.48 | G27: 4470000
A28: 15 | B28: CALIBRACION JUEGO DE INYECTORES | C28: 1 | D28: SERV | E28: =G28/1.19 -> 2787395 | F28: =E28*19% -> 529605.04 | G28: 3317000
A29: 16 | B29: LAVADA JUEGO DE INYECTORES POR ULTRASONIDO INCLUYE SIPS DE FILTROS DE INYECTORES Y ORINGS | C29: 1 | D29: SERV | E29: =G29/1.19 -> 1038655.5 | F29: =E29*19% -> 197344.54 | G29: 1236000
A30: 17 | B30: SIPS DE UN INYECTOR INCLUYE INSTALACION | C30: 1 | D30: UND | E30: =G30/1.19 -> 1652100.8 | F30: =E30*19% -> 313899.16 | G30: 1966000
A31: 18 | B31: REPARACION DEL TURBO | C31: 1 | D31: SERV | E31: =G31/1.19 -> 6364705.9 | F31: =E31*19% -> 1209294.1 | G31: 7574000
A32: 19 | B32: SIPS PESCADOR TANQUE DE COMBUSTIBLE | C32: 1 | D32: =IF(COUNTIF(B32,"SIPS*"),"UND ","SERV") -> UND | E32: =G32/1.19 -> 2691596.6 | F32: =E32*19% -> 511403.36 | G32: 3203000
A33: 20 | B33: LIMPIEZA CUERPO DE ACELERACION Y VALVULA IAC | C33: 1 | D33: SERV | E33: =G33/1.19 -> 594957.98 | F33: =E33*19% -> 113042.02 | G33: 708000
A34: 21 | B34: LAVADA TANQUE DE COMBUSTIBLE | C34: 1 | D34: SERV | E34: =G34/1.19 -> 445378.15 | F34: =E34*19% -> 84621.849 | G34: 530000
A35: 22 | B35: SIPS JUEGO DE FILTROS DE COMBUSTIBLE | C35: 1 | D35: UND | E35: =G35/1.19 -> 472268.91 | F35: =E35*19% -> 89731.092 | G35: 562000
A36: 23 | B36: SIPS RIEL DE INYECTORES | C36: 1 | D36: UND | E36: =G36/1.19 -> 1295798.3 | F36: =E36*19% -> 246201.68 | G36: 1542000
A37: 24 | B37: SIPS JUEGO DE FILTROS DE AIRE | C37: 1 | D37: UND | E37: =G37/1.19 -> 226890.76 | F37: =E37*19% -> 43109.244 | G37: 270000
A38: 25 | B38: SIPS DE MANGUERA DE COMBUSTIBLE | C38: 1 | D38: UND | E38: 297478.99 | F38: 56521.008 | G38: 382000
A39: 26 | B39: SIPS DE MANGUERA DE ADMISION | C39: 1 | D39: UND | E39: 576470.59 | F39: 109529.41 | G39: 741000
A40: 27 | B40: SIPS DE MANGUERA DE VACIO | C40: 1 | D40: UND | E40: 307563.03 | F40: 58436.975 | G40: 395000
A41: 28 | B41: SIPS MANGUERA DE RETORNO | C41: 1 | D41: UND | E41: 404201.68 | F41: 76798.319 | G41: 519000
A42: 29 | B42: SIPS EMPAQUETADURA DE TAPA DEL DESFOGUE | C42: 1 | D42: UND | E42: 384873.95 | F42: 73126.05 | G42: 495000
A43: 30 | B43: SIPS BOMBA DE COMBUSTIBLE COMPLETA | C43: 1 | D43: UND | E43: =G43/1.19 -> 2882352.9 | F43: =E43*19% -> 547647.06 | G43: 3430000
A44: 31 | B44: SIPS FLOTADOR Y MECANISMOS DE INDICACION DE NIVEL DE COMBUSTIBLE | C44: 1 | D44: UND | E44: =G44/1.19 -> 539495.8 | F44: =E44*19% -> 102504.2 | G44: 642000
A45: 32 | B45: SIPS DE UNA MANGUERA DE COMBUSTIBLE | C45: 1 | D45: UND | E45: =G45/1.19 -> 183193.28 | F45: =E45*19% -> 34806.723 | G45: 218000
A46: 33 | B46: REPARACION TANQUE DE COMBUSTIBLE INCLUYE PINTADA | C46: 1 | D46: SERV | E46: =G46/1.19 -> 621848.74 | F46: =E46*19% -> 118151.26 | G46: 740000
A47: 34 | B47: SIPS TAPA DE TANQUE DE COMBUSTIBLE | C47: 1 | D47: UND | E47: =G47/1.19 -> 256302.52 | F47: =E47*19% -> 48697.479 | G47: 305000
A48: 35 | B48: SIPS DE UNA MANGUERA DE VACIO | C48: 1 | D48: UND | E48: =G48/1.19 -> 121848.74 | F48: =E48*19% -> 23151.261 | G48: 145000
A49: 36 | B49: SIPS DE TODAS LAS MANGUERAS DE VACIO | C49: 1 | D49: UND | E49: =G49/1.19 -> 392436.97 | F49: =E49*19% -> 74563.025 | G49: 467000
A50: 37 | B50: SIPS TUBO DE ADMISION DEL FILTRO AL CUERPO DE ACELERACION O CARBURADOR | C50: 1 | D50: UND | E50: =G50/1.19 -> 445378.15 | F50: =E50*19% -> 84621.849 | G50: 530000
G51: 0
B52: SISTEMA DE ESCAPE | G52: 0
A53: 38 | B53: REPARACION DE SILENCIADOR | C53: 1 | D53: SERV | E53: =G53/1.19 -> 298319.33 | F53: =E53*19% -> 56680.672 | G53: 355000
A54: 39 | B54: REPARACION TUBO DE ESCAPE | C54: 1 | D54: SERV | E54: =G54/1.19 -> 216806.72 | F54: =E54*19% -> 41193.277 | G54: 258000
A55: 40 | B55: SIPS DE SILINCIADOR | C55: 1 | D55: UND | E55: =G55/1.19 -> 945378.15 | F55: =E55*19% -> 179621.85 | G55: 1125000
A56: 41 | B56: SIPS FLEXIBLE DEL ESCAPE | C56: 1 | D56: UND | E56: =G56/1.19 -> 229411.76 | F56: =E56*19% -> 43588.235 | G56: 273000
A57: 42 | B57: SIPS EMPAQUES O ANILLOS MULTIPLE DE ESCAPE | C57: 1 | D57: UND | E57: =G57/1.19 -> 272268.91 | F57: =E57*19% -> 51731.092 | G57: 324000
A58: 43 | B58: SIPS CATALIZADOR | C58: 1 | D58: UND | E58: =G58/1.19 -> 1027731.1 | F58: =E58*19% -> 195268.91 | G58: 1223000
G59: 0
B60: SISTEMA DE LUBRICACION | G60: 0
A61: 44 | B61: GALON DE ACEITE DE MOTOR 15W40 | C61: 1 | D61: UND | E61: =G61 -> 305000 | F61: O | G61: 305000
A62: 45 | B62: CUARTO DE ACEITE DE MOTOR 15W40 | C62: 1 | D62: UND | E62: =G62 -> 78000 | F62: O | G62: 78000
A63: 46 | B63: CUARTO DE ACEITE DE CAJA HIDRAULICA ATF | C63: 1 | D63: UND | E63: =G63 -> 81000 | F63: O | G63: 81000
A64: 47 | B64: CUARTO DE ACEITE DE CAJA DE VELOCIDADES 80W90 | C64: 1 | D64: UND | E64: =G64 -> 56000 | F64: O | G64: 56000
A65: 48 | B65: CUARTO DE ACEITE DE TRANSMISION 85W140 | C65: 1 | D65: UND | E65: =G65 -> 56000 | F65: O | G65: 56000
A66: 49 | B66: POTE DE GRASA ALTA TEMPERATURA | C66: 1 | D66: UND | E66: =G66/1.19 -> 31932.773 | F66: =E66*19% -> 6067.2269 | G66: 38000
A67: 50 | B67: ADITIVO ANTIFRICCION | C67: 1 | D67: UND | E67: =G67/1.19 -> 137815.13 | F67: =E67*19% -> 26184.874 | G67: 164000
A68: 51 | B68: ADITIVO DE LUBRICACION | C68: 1 | D68: UND | E68: =G68/1.19 -> 26050.42 | F68: =E68*19% -> 4949.5798 | G68: 31000
A69: 52 | B69: ADITIVO DE CAJA O TRANSMISION | C69: 1 | D69: UND | E69: =G69/1.19 -> 23529.412 | F69: =E69*19% -> 4470.5882 | G69: 28000
A70: 53 | B70: ADITIVO DE RODILLERIA | C70: 1 | D70: UND | E70: =G70/1.19 -> 23529.412 | F70: =E70*19% -> 4470.5882 | G70: 28000
A71: 54 | B71: SIPS LIQUIDO DE CLUTCH SL | C71: 1 | D71: UND | E71: =G71/1.19 -> 128571.43 | F71: =E71*19% -> 24428.571 | G71: 153000
A72: 55 | B72: SIPS LIQUIDO DE FRENOS DOT 4 | C72: 1 | D72: UND | E72: =G72/1.19 -> 86554.622 | F72: =E72*19% -> 16445.378 | G72: 103000
A73: 56 | B73: DESENGRASANTE | C73: 1 | D73: UND | E73: =G73/1.19 -> 13445.378 | F73: =E73*19% -> 2554.6218 | G73: 16000
A74: 57 | B74: LUBRICANTE PENETRANTE | C74: 1 | D74: UND | E74: =G74/1.19 -> 58823.529 | F74: =E74*19% -> 11176.471 | G74: 70000
A75: 58 | B75: LIMPIA CONTACTOS | C75: 1 | D75: UND | E75: =G75/1.19 -> 58823.529 | F75: =E75*19% -> 11176.471 | G75: 70000
A76: 59 | B76: SERVICIO DE CAMBIO DE ACEITE MOTOR NO INCLUYE EL ACEITE | C76: 1 | D76: SERV | E76: =G76/1.19 -> 42857.143 | F76: =E76*19% -> 8142.8571 | G76: 51000
A77: 60 | B77: SIPS FILTRO DE ACEITE MOTOR | C77: 1 | D77: UND | E77: =G77/1.19 -> 245378.15 | F77: =E77*19% -> 46621.849 | G77: 292000
... A94: 77 | B94: SIPS RADIADOR ENFRIADOR DE ACEITE | C94: 1 | D94: UND | E94: =G94/1.19 -> 7001680.7 | F94: =E94*19% -> 1330319.3 | G94: 8332000
B96: SISTEMA REFRIGERACION | G96: 0
A97: 78 | B97: SONDEADA DE RADIADOR | C97: 1 | D97: SERV | E97: =G97/1.19 -> 378991.6 | F97: =E97*19% -> 72008.403 | G97: 451000
A98: 79 | B98: REPARACION DE RADIADOR INCLUYE PINTADA DONDE APLIQUE | C98: 1 | D98: SERV | E98: =G98/1.19 -> 512605.04 | F98: =E98*19% -> 97394.958 | G98: 610000
A99: 80 | B99: LAVADA DEL INTERCOOLER | C99: 1 | D99: SERV | E99: =G99/1.19 -> 284033.61 | F99: =E99*19% -> 53966.387 | G99: 338000
A100: 81 | B100: SIPS DE REFRIGERANTE MOTOR POR CUARTOS ALTA CALIDAD | C100: 1 | D100: UND | E100: =G100/1.19 -> 29411.765 | F100: =E100*19% -> 5588.2353 | G100: 35000
A101: 82 | B101: SIPS BOMBA DE AGUA | C101: 1 | D101: UND | E101: =G101/1.19 -> 1771428.6 | F101: =E101*19% -> 336571.43 | G101: 2108000
A102: 83 | B102: SIPS MANGUERA SUPERIOR RADIADOR | C102: 1 | D102: UND | E102: =G102/1.19 -> 336974.79 | F102: =E102*19% -> 64025.21 | G102: 401000
A103: 84 | B103: SIPS MANGUERA INFERIOR RADIADOR | C103: 1 | D103: UND | E103: =G103/1.19 -> 418487.39 | F103: =E103*19% -> 79512.605 | G103: 498000
A104: 85 | B104: SIPS MANGUERA DE CALEFACCION | C104: 1 | D104: UND | E104: =G104/1.19 -> 445378.15 | F104: =E104*19% -> 84621.849 | G104: 530000
A105: 86 | B105: SIPS SENSOR DE TEMPERATURA | C105: 1 | D105: UND | E105: =G105/1.19 -> 1138655.5 | F105: =E105*19% -> 216344.54 | G105: 1355000
A106: 87 | B106: SIPS DE RADIADOR | C106: 1 | D106: UND | E106: =G106/1.19 -> 4221848.7 | F106: =E106*19% -> 802151.26 | G106: 5024000
A107: 88 | B107: SIPS DEL TERMOSTATO | C107: 1 | D107: UND | E107: =G107/1.19 -> 431092.44 | F107: =E107*19% -> 81907.563 | G107: 513000
A108: 89 | B108: SIPS DEL MOTOVENTILADOR | C108: 1 | D108: UND | E108: =G108/1.19 -> 899159.66 | F108: =E108*19% -> 170840.34 | G108: 1070000
... A110: 91 | B110: SIPS DEL DEPOSITO AUXILIAR DE REFRIGERANTE MOTOR | C110: 1 | D110: UND | E110: =G110/1.19 -> 431092.44 | F110: =E110*19% -> 81907.563 | G110: 513000
E111: =G111/1.19 -> 0 | F111: =E111*19% -> 0 | G111: 0
B112: SISTEMA DE DIRECCION
A113: 92 | B113: SIPS BOMBA HIDRAULICA DE DIRECCION | C113: 1 | D113: UND | E113: =G113/1.19 -> 5558823.5 | F113: =E113*19% -> 1056176.5 | G113: 6615000
A114: 93 | B114: SIPS EMPAQUETADURA BOMBA HIDRAULICA DE DIRECCION | C114: 1 | D114: UND | E114: =G114/1.19 -> 1932773.1 | F114: =E114*19% -> 367226.89 | G114: 2300000
A115: 94 | B115: SIPS DE MANGUERA DEL SISTEMA HIDRAULICO DE DIRECCION | C115: 1 | D115: UND | E115: =G115/1.19 -> 604201.68 | F115: =E115*19% -> 114798.32 | G115: 719000
A116: 95 | B116: SIPS KIT REPARCION DE YOSTIN DE DIRECCION | C116: 1 | D116: UND | E116: =G116/1.19 -> 3614285.7 | F116: =E116*19% -> 686714.29 | G116: 4301000
A117: 96 | B117: SIPS ORIN YOYSTICK | C117: 1 | D117: UND | E117: =G117/1.19 -> 1660504.2 | F117: =E117*19% -> 315495.8 | G117: 1976000
A118: 97 | B118: SIPS GUAYA YOYSTICK | C118: 1 | D118: UND | E118: =G118/1.19 -> 1354621.8 | F118: =E118*19% -> 257378.15 | G118: 1612000
A119: 98 | B119: SIPS DE GUAYA DE MANDOS | C119: 1 | D119: UND | E119: =G119/1.19 -> 818487.39 | F119: =E119*19% -> 155512.61 | G119: 974000
B121: SISITEMA DE FRENOS | E121: =G121/1.19 -> 0 | F121: =E121*19% -> 0 | G121: 0
...

Sheet AMAROK
A1: SOLUCIONES MECANICAS Y DE TRANSPORTE AUTOMOTRIZ S.A.S
A2: NIT 811045604-4
A3: Autopista Medellín - Bogotá. KM 43 (Marinilla)
A4: Teléfono 5690755 - 5484953
A6: SERVICIO NACIONAL DE APRENDIZAJE - SENA
B8: VEHICULO COTIZADO:
B9: CAMIONETA VOLKSWAGEN AMAROK CONFORT TL DOBLE CABINA,COLOR Blanco candi -PLACA OJY 093-MODELO 2016
A10: ITEM | B10: SERVICIO REQUERIDO | C10: CANT | D10: UNIDAD DE MEDIDA | E10: VALOR UNITARIO | F10: IVA | G10: VALOR TOTAL
B11: SISTEMA MOTOR
A12: 1 | B12: CALIBRACION DE VALVULAS | C12: 1 | D12: SERV | E12: =G12/1.19 -> 205042.02 | F12: =E12*19% -> 38957.983 | G12: 244000
A13: 2 | B13: SIPS VOLANTE | C13: 1 | D13: UND | E13: =G13/1.19 -> 1469747.9 | F13: =E13*19% -> 279252.1 | G13: 1749000
A14: 3 | B14: SIPS CREMALLERA DEL VOLANTE | C14: 1 | D14: UND | E14: =G14/1.19 -> 803361.34 | F14: =E14*19% -> 152638.66 | G14: 956000
A15: 4 | B15: SIPS CADENA REPARTICION | C15: 1 | D15: UND | E15: =G15/1.19 -> 2136134.5 | F15: =E15*19% -> 405865.55 | G15: 2542000
A16: 5 | B16: SIPS CORREA UNICA DE ACCESORIOS | C16: 1 | D16: UND | E16: =G16/1.19 -> 359663.87 | F16: =E16*19% -> 68336.134 | G16: 428000
A17: 6 | B17: SIPS EMPAQUE TAPA VALVULAS | C17: 1 | D17: UND | E17: =G17/1.19 -> 319327.73 | F17: =E17*19% -> 60672.269 | G17: 380000
A18: 7 | B18: SIPS EMPAQUE CARTER | C18: 1 | D18: UND | E18: =G18/1.19 -> 346218.49 | F18: =E18*19% -> 65781.513 | G18: 412000
A19: 8 | B19: SIPS DE LA VALVULA IAC | C19: 1 | D19: UND | E19: =G19/1.19 -> 573109.24 | F19: =E19*19% -> 108890.76 | G19: 682000
A20: 9 | B20: REVISION TECNICOMECANICA Y DE GASES | C20: 1 | D20: SERV | E20: =G20/1.19 -> 451260.5 | F20: =E20*19% -> 85739.496 | G20: 537000
A21: 10 | B21: ANALISIS DE GASES | C21: 1 | D21: SERV | E21: =G21/1.19 -> 132773.11 | F21: =E21*19% -> 25226.891 | G21: 158000
A22: 11 | B22: ANALISIS DE OPACIDAD | C22: 1 | D22: SERV | E22: =G22/1.19 -> 132773.11 | F22: =E22*19% -> 25226.891 | G22: 158000
A23: 12 | B23: SCANEO | C23: 1 | D23: SERV | E23: =G23/1.19 -> 162184.87 | F23: =E23*19% -> 30815.126 | G23: 193000
A24: 13 | B24: SINCRONIZACION DE MOTOR INCLUYE REPUESTOS NECESARIOS PARA UNA OPTIMA SINCRONIZACION | C24: 1 | D24: SERV | E24: =G24/1.19 -> 319327.73 | F24: =E24*19% -> 60672.269 | G24: 380000
G25: 0
B26: SISTEMA ALIMENTACION AIRE/COMBUSTIBLE | G26: 0
A27: 14 | B27: CALIBRACION DE LA BOMBA DE INYECCION | C27: 1 | D27: SERV | E27: =G27/1.19 -> 3718487.4 | F27: =E27*19% -> 706512.61 | G27: 4425000
A28: 15 | B28: CALIBRACION JUEGO DE INYECTORES | C28: 1 | D28: SERV | E28: =G28/1.19 -> 2759663.9 | F28: =E28*19% -> 524336.13 | G28: 3284000
A29: 16 | B29: LAVADA JUEGO DE INYECTORES POR ULTRASONIDO INCLUYE SIPS DE FILTROS DE INYECTORES Y ORINGS | C29: 1 | D29: SERV | E29: =G29/1.19 -> 1028571.4 | F29: =E29*19% -> 195428.57 | G29: 1224000
A30: 17 | B30: SIPS DE UN INYECTOR INCLUYE INSTALACION | C30: 1 | D30: UND | E30: =G30/1.19 -> 1635294.1 | F30: =E30*19% -> 310705.88 | G30: 1946000
A31: 18 | B31: REPARACION DEL TURBO | C31: 1 | D31: SERV | E31: =G31/1.19 -> 6300840.3 | F31: =E31*19% -> 1197159.7 | G31: 7498000
A32: 19 | B32: SIPS PESCADOR TANQUE DE COMBUSTIBLE | C32: 1 | D32: =IF(COUNTIF(B32,"SIPS*"),"UND ","SERV") -> UND | E32: =G32/1.19 -> 2664705.9 | F32: =E32*19% -> 506294.12 | G32: 3171000
A33: 20 | B33: LIMPIEZA CUERPO DE ACELERACION Y VALVULA IAC | C33: 1 | D33: SERV | E33: =G33/1.19 -> 589075.63 | F33: =E33*19% -> 111924.37 | G33: 701000
A34: 21 | B34: LAVADA TANQUE DE COMBUSTIBLE | C34: 1 | D34: SERV | E34: =G34/1.19 -> 441176.47 | F34: =E34*19% -> 83823.529 | G34: 525000
A35: 22 | B35: SIPS JUEGO DE FILTROS DE COMBUSTIBLE | C35: 1 | D35: UND | E35: =G35/1.19 -> 467226.89 | F35: =E35*19% -> 88773.109 | G35: 556000
A36: 23 | B36: SIPS RIEL DE INYECTORES | C36: 1 | D36: UND | E36: =G36/1.19 -> 1283193.3 | F36: =E36*19% -> 243806.72 | G36: 1527000
A37: 24 | B37: SIPS JUEGO DE FILTROS DE AIRE | C37: 1 | D37: UND | E37: =G37/1.19 -> 224369.75 | F37: =E37*19% -> 42630.252 | G37: 267000
A38: 25 | B38: SIPS DE MANGUERA DE COMBUSTIBLE | C38: 1 | D38: UND | E38: 297478.99 | F38: 56521.008 | G38: 378000
A39: 26 | B39: SIPS DE MANGUERA DE ADMISION | C39: 1 | D39: UND | E39: 576470.59 | F39: 109529.41 | G39: 734000
A40: 27 | B40: SIPS DE MANGUERA DE VACIO | C40: 1 | D40: UND | E40: 307563.03 | F40: 58436.975 | G40: 391000
A41: 28 | B41: SIPS MANGUERA DE RETORNO | C41: 1 | D41: UND | E41: 404201.68 | F41: 76798.319 | G41: 514000
A42: 29 | B42: SIPS EMPAQUETADURA DE TAPA DEL DESFOGUE | C42: 1 | D42: UND | E42: 384873.95 | F42: 73126.05 | G42: 490000
A43: 30 | B43: SIPS BOMBA DE COMBUSTIBLE COMPLETA | C43: 1 | D43: UND | E43: =G43/1.19 -> 2853781.5 | F43: =E43*19% -> 542218.49 | G43: 3396000
A44: 31 | B44: SIPS FLOTADOR Y MECANISMOS DE INDICACION DE NIVEL DE COMBUSTIBLE | C44: 1 | D44: UND | E44: =G44/1.19 -> 534453.78 | F44: =E44*19% -> 101546.22 | G44: 636000
A45: 32 | B45: SIPS DE UNA MANGUERA DE COMBUSTIBLE | C45: 1 | D45: UND | E45: =G45/1.19 -> 181512.61 | F45: =E45*19% -> 34487.395 | G45: 216000
A46: 33 | B46: REPARACION TANQUE DE COMBUSTIBLE INCLUYE PINTADA | C46: 1 | D46: SERV | E46: =G46/1.19 -> 615966.39 | F46: =E46*19% -> 117033.61 | G46: 733000
A47: 34 | B47: SIPS TAPA DE TANQUE DE COMBUSTIBLE | C47: 1 | D47: UND | E47: =G47/1.19 -> 253781.51 | F47: =E47*19% -> 48218.487 | G47: 302000
A48: 35 | B48: SIPS DE UNA MANGUERA DE VACIO | C48: 1 | D48: UND | E48: =G48/1.19 -> 121008.4 | F48: =E48*19% -> 22991.597 | G48: 144000
A49: 36 | B49: SIPS DE TODAS LAS MANGUERAS DE VACIO | C49: 1 | D49: UND | E49: =G49/1.19 -> 388235.29 | F49: =E49*19% -> 73764.706 | G49: 462000
A50: 37 | B50: SIPS TUBO DE ADMISION DEL FILTRO AL CUERPO DE ACELERACION O CARBURADOR | C50: 1 | D50: UND | E50: =G50/1.19 -> 441176.47 | F50: =E50*19% -> 83823.529 | G50: 525000
G51: 0
B52: SISTEMA DE ESCAPE | G52: 0
A53: 38 | B53: REPARACION DE SILENCIADOR | C53: 1 | D53: SERV | E53: =G53/1.19 -> 294957.98 | F53: =E53*19% -> 56042.017 | G53: 351000
A54: 39 | B54: REPARACION TUBO DE ESCAPE | C54: 1 | D54: SERV | E54: =G54/1.19 -> 214285.71 | F54: =E54*19% -> 40714.286 | G54: 255000
A55: 40 | B55: SIPS DE SILINCIADOR | C55: 1 | D55: UND | E55: =G55/1.19 -> 936134.45 | F55: =E55*19% -> 177865.55 | G55: 1114000
A56: 41 | B56: SIPS FLEXIBLE DEL ESCAPE | C56: 1 | D56: UND | E56: =G56/1.19 -> 226890.76 | F56: =E56*19% -> 43109.244 | G56: 270000
A57: 42 | B57: SIPS EMPAQUES O ANILLOS MULTIPLE DE ESCAPE | C57: 1 | D57: UND | E57: =G57/1.19 -> 269747.9 | F57: =E57*19% -> 51252.101 | G57: 321000
A58: 43 | B58: SIPS CATALIZADOR | C58: 1 | D58: UND | E58: =G58/1.19 -> 1017647.1 | F58: =E58*19% -> 193352.94 | G58: 1211000
G59: 0
B60: SISTEMA DE LUBRICACION | G60: 0
A61: 44 | B61: GALON DE ACEITE DE MOTOR 15W40 | C61: 1 | D61: UND | E61: =G61 -> 305000 | F61: O | G61: 305000
A62: 45 | B62: CUARTO DE ACEITE DE MOTOR 15W40 | C62: 1 | D62: UND | E62: =G62 -> 78000 | F62: O | G62: 78000
A63: 46 | B63: CUARTO DE ACEITE DE CAJA HIDRAULICA ATF | C63: 1 | D63: UND | E63: =G63 -> 81000 | F63: O | G63: 81000
A64: 47 | B64: CUARTO DE ACEITE DE CAJA DE VELOCIDADES 80W90 | C64: 1 | D64: UND | E64: =G64 -> 56000 | F64: O | G64: 56000
A65: 48 | B65: CUARTO DE ACEITE DE TRANSMISION 85W140 | C65: 1 | D65: UND | E65: =G65 -> 56000 | F65: O | G65: 56000
A66: 49 | B66: POTE DE GRASA ALTA TEMPERATURA | C66: 1 | D66: UND | E66: =G66/1.19 -> 31932.773 | F66: =E66*19% -> 6067.2269 | G66: 38000
A67: 50 | B67: ADITIVO ANTIFRICCION | C67: 1 | D67: UND | E67: =G67/1.19 -> 137815.13 | F67: =E67*19% -> 26184.874 | G67: 164000
A68: 51 | B68: ADITIVO DE LUBRICACION | C68: 1 | D68: UND | E68: =G68/1.19 -> 26050.42 | F68: =E68*19% -> 4949.5798 | G68: 31000
A69: 52 | B69: ADITIVO DE CAJA O TRANSMISION | C69: 1 | D69: UND | E69: =G69/1.19 -> 23529.412 | F69: =E69*19% -> 4470.5882 | G69: 28000
A70: 53 | B70: ADITIVO DE RODILLERIA | C70: 1 | D70: UND | E70: =G70/1.19 -> 23529.412 | F70: =E70*19% -> 4470.5882 | G70: 28000
A71: 54 | B71: SIPS LIQUIDO DE CLUTCH SL | C71: 1 | D71: UND | E71: =G71/1.19 -> 128571.43 | F71: =E71*19% -> 24428.571 | G71: 153000
A72: 55 | B72: SIPS LIQUIDO DE FRENOS DOT 4 | C72: 1 | D72: UND | E72: =G72/1.19 -> 86554.622 | F72: =E72*19% -> 16445.378 | G72: 103000
A73: 56 | B73: DESENGRASANTE | C73: 1 | D73: UND | E73: =G73/1.19 -> 13445.378 | F73: =E73*19% -> 2554.6218 | G73: 16000
A74: 57 | B74: LUBRICANTE PENETRANTE | C74: 1 | D74: UND | E74: =G74/1.19 -> 58823.529 | F74: =E74*19% -> 11176.471 | G74: 70000
A75: 58 | B75: LIMPIA CONTACTOS | C75: 1 | D75: UND | E75: =G75/1.19 -> 58823.529 | F75: =E75*19% -> 11176.471 | G75: 70000
A76: 59 | B76: SERVICIO DE CAMBIO DE ACEITE MOTOR NO INCLUYE EL ACEITE | C76: 1 | D76: SERV | E76: =G76/1.19 -> 42016.807 | F76: =E76*19% -> 7983.1933 | G76: 50000
A77: 60 | B77: SIPS FILTRO DE ACEITE MOTOR | C77: 1 | D77: UND | E77: =G77/1.19 -> 242857.14 | F77: =E77*19% -> 46142.857 | G77: 289000
... A83: 66 | B83: SIPS TAPA GRASERA | C83: 1 | D83: UND | E83: =G83/1.19 -> 34453.782 | F83: =E83*19% -> 6546.2185 | G83: 41000
G84: 0
B85: SISTEMA REFRIGERACION | G85: 0
A86: 67 | B86: SONDEADA DE RADIADOR | C86: 1 | D86: SERV | E86: =G86/1.19 -> 374789.92 | F86: =E86*19% -> 71210.084 | G86: 446000
A87: 68 | B87: REPARACION DE RADIADOR INCLUYE PINTADA DONDE APLIQUE | C87: 1 | D87: SERV | E87: =G87/1.19 -> 507563.03 | F87: =E87*19% -> 96436.975 | G87: 604000
A88: 69 | B88: LAVADA DEL INTERCOOLER | C88: 1 | D88: SERV | E88: =G88/1.19 -> 281512.61 | F88: =E88*19% -> 53487.395 | G88: 335000
A89: 70 | B89: SIPS DE REFRIGERANTE MOTOR POR CUARTOS ALTA CALIDAD | C89: 1 | D89: UND | E89: =G89/1.19 -> 29411.765 | F89: =E89*19% -> 5588.2353 | G89: 35000
A90: 71 | B90: SIPS BOMBA DE AGUA | C90: 1 | D90: UND | E90: =G90/1.19 -> 1753781.5 | F90: =E90*19% -> 333218.49 | G90: 2087000
A91: 72 | B91: SIPS MANGUERA SUPERIOR RADIADOR | C91: 1 | D91: UND | E91: =G91/1.19 -> 333613.45 | F91: =E91*19% -> 63386.555 | G91: 397000
A92: 73 | B92: SIPS MANGUERA INFERIOR RADIADOR | C92: 1 | D92: UND | E92: =G92/1.19 -> 414285.71 | F92: =E92*19% -> 78714.286 | G92: 493000
A93: 74 | B93: SIPS MANGUERA DE CALEFACCION | C93: 1 | D93: UND | E93: =G93/1.19 -> 441176.47 | F93: =E93*19% -> 83823.529 | G93: 525000
A94: 75 | B94: SIPS SENSOR DE TEMPERATURA | C94: 1 | D94: UND | E94: =G94/1.19 -> 1126890.8 | F94: =E94*19% -> 214109.24 | G94: 1341000
A95: 76 | B95: SIPS DE RADIADOR | C95: 1 | D95: UND | E95: =G95/1.19 -> 4179831.9 | F95: =E95*19% -> 794168.07 | G95: 4974000
A96: 77 | B96: SIPS DEL TERMOSTATO | C96: 1 | D96: UND | E96: =G96/1.19 -> 426890.76 | F96: =E96*19% -> 81109.244 | G96: 508000
A97: 78 | B97: SIPS DEL MOTOVENTILADOR | C97: 1 | D97: UND | E97: =G97/1.19 -> 889915.97 | F97: =E97*19% -> 169084.03 | G97: 1059000
... A99: 80 | B99: SIPS DEL DEPOSITO AUXILIAR DE REFRIGERANTE MOTOR | C99: 1 | D99: UND | E99: =G99/1.19 -> 426890.76 | F99: =E99*19% -> 81109.244 | G99: 508000
G100: 0
B101: SISTEMA DE DIRECCION | G101: 0
A102: 81 | B102: ALINEACION Y BALANCEO DE TODAS LAS RUEDAS | C102: 1 | D102: SERV | E102: =G102/1.19 -> 165546.22 | F102: =E102*19% -> 31453.782 | G102: 197000
A103: 82 | B103: ALINEACION | C103: 1 | D103: SERV | E103: =G103/1.19 -> 81512.605 | F103: =E103*19% -> 15487.395 | G103: 97000
A104: 83 | B104: BALANCEO | C104: 1 | D104: SERV | E104: =G104/1.19 -> 81512.605 | F104: =E104*19% -> 15487.395 | G104: 97000
A105: 84 | B105: SIPS DE CINTILLA DEL SISTEMA AIR-BAG | C105: 1 | D105: UND | E105: =G105/1.19 -> 1123529.4 | F105: =E105*19% -> 213470.59 | G105: 1337000
A106: 85 | B106: SIPS DE TODOS LOS TERMINALES DE DIRECCION | C106: 1 | D106: UND | E106: =G106/1.19 -> 1201680.7 | F106: =E106*19% -> 228319.33 | G106: 1430000
A107: 86 | B107: SIPS DE UN TERMINAL DE DIRECCION | C107: 1 | D107: UND | E107: =G107/1.19 -> 251260.5 | F107: =E107*19% -> 47739.496 | G107: 299000
A108: 87 | B108: SIPS DE TODOS LOS BRAZOS DE DIRECCION | C108: 1 | D108: UND | E108: =G108/1.19 -> 1550420.2 | F108: =E108*19% -> 294579.83 | G108: 1845000
...

Sheet CHEVROLET JOY
A1: SOLUCIONES MECANICAS Y DE TRANSPORTE AUTOMOTRIZ S.A.S
A2: NIT 811045604-4
A3: Autopista Medellín - Bogotá. KM 43 (Marinilla)
A4: Teléfono 5690755 - 5484953
A6: SERVICIO NACIONAL DE APRENDIZAJE - SENA
B8: VEHICULO COTIZADO:
B9: VEHICULO CHEVROLET JOY MODELO 2025
A10: ITEM | B10: SERVICIO REQUERIDO | C10: CANT | D10: UNIDAD DE MEDIDA | E10: VALOR UNITARIO | F10: IVA | G10: VALOR TOTAL
B11: SISTEMA MOTOR
A12: 1 | B12: CALIBRACION DE VALVULAS | C12: 1 | D12: SERV | E12: =G12/1.19 -> 192436.97 | F12: =E12*19% -> 36563.025 | G12: 229000
A13: 2 | B13: SIPS VOLANTE | C13: 1 | D13: UND | E13: =G13/1.19 -> 1382352.9 | F13: =E13*19% -> 262647.06 | G13: 1645000
A14: 3 | B14: SIPS CREMALLERA DEL VOLANTE | C14: 1 | D14: UND | E14: =G14/1.19 -> 756302.52 | F14: =E14*19% -> 143697.48 | G14: 900000
A15: 4 | B15: SIPS CADENA REPARTICION | C15: 1 | D15: UND | E15: =G15/1.19 -> 2009243.7 | F15: =E15*19% -> 381756.3 | G15: 2391000
A16: 5 | B16: SIPS CORREA UNICA DE ACCESORIOS | C16: 1 | D16: UND | E16: =G16/1.19 -> 337815.13 | F16: =E16*19% -> 64184.874 | G16: 402000
A17: 6 | B17: SIPS EMPAQUE TAPA VALVULAS | C17: 1 | D17: UND | E17: =G17/1.19 -> 300000 | F17: =E17*19% -> 57000 | G17: 357000
A18: 7 | B18: SIPS EMPAQUE CARTER | C18: 1 | D18: UND | E18: =G18/1.19 -> 326050.42 | F18: =E18*19% -> 61949.58 | G18: 388000
A19: 8 | B19: SIPS DE LA VALVULA IAC | C19: 1 | D19: UND | E19: =G19/1.19 -> 538655.46 | F19: =E19*19% -> 102344.54 | G19: 641000
A20: 9 | B20: REVISION TECNICOMECANICA Y DE GASES | C20: 1 | D20: SERV | E20: =G20/1.19 -> 451260.5 | F20: =E20*19% -> 85739.496 | G20: 537000
A21: 10 | B21: ANALISIS DE GASES | C21: 1 | D21: SERV | E21: =G21/1.19 -> 125210.08 | F21: =E21*19% -> 23789.916 | G21: 149000
A22: 11 | B22: ANALISIS DE OPACIDAD | C22: 1 | D22: SERV | E22: =G22/1.19 -> 125210.08 | F22: =E22*19% -> 23789.916 | G22: 149000
A23: 12 | B23: SCANEO | C23: 1 | D23: SERV | E23: =G23/1.19 -> 152100.84 | F23: =E23*19% -> 28899.16 | G23: 181000
A24: 13 | B24: SINCRONIZACION DE MOTOR INCLUYE REPUESTOS NECESARIOS PARA UNA OPTIMA SINCRONIZACION | C24: 1 | D24: SERV | E24: =G24/1.19 -> 300000 | F24: =E24*19% -> 57000 | G24: 357000
G25: 0
B26: SISTEMA ALIMENTACION AIRE/COMBUSTIBLE | G26: 0
A27: 14 | B27: CALIBRACION DE LA BOMBA DE INYECCION | C27: 1 | D27: SERV | E27: =G27/1.19 -> 3497479 | F27: =E27*19% -> 664521.01 | G27: 4162000
A28: 15 | B28: CALIBRACION JUEGO DE INYECTORES | C28: 1 | D28: SERV | E28: =G28/1.19 -> 2594958 | F28: =E28*19% -> 493042.02 | G28: 3088000
A29: 16 | B29: LAVADA JUEGO DE INYECTORES POR ULTRASONIDO INCLUYE SIPS DE FILTROS DE INYECTORES Y ORINGS | C29: 1 | D29: SERV | E29: =G29/1.19 -> 966386.55 | F29: =E29*19% -> 183613.45 | G29: 1150000
A30: 17 | B30: SIPS DE UN INYECTOR INCLUYE INSTALACION | C30: 1 | D30: UND | E30: =G30/1.19 -> 1538655.5 | F30: =E30*19% -> 292344.54 | G30: 1831000
A31: 18 | B31: REPARACION DEL TURBO | C31: 1 | D31: SERV | E31: =G31/1.19 -> 5926050.4 | F31: =E31*19% -> 1125949.6 | G31: 7052000
A32: 19 | B32: SIPS PESCADOR TANQUE DE COMBUSTIBLE | C32: 1 | D32: =IF(COUNTIF(B32,"SIPS*"),"UND ","SERV") -> UND | E32: =G32/1.19 -> 2505882.4 | F32: =E32*19% -> 476117.65 | G32: 2982000
A33: 20 | B33: LIMPIEZA CUERPO DE ACELERACION Y VALVULA IAC | C33: 1 | D33: SERV | E33: =G33/1.19 -> 553781.51 | F33: =E33*19% -> 105218.49 | G33: 659000
A34: 21 | B34: LAVADA TANQUE DE COMBUSTIBLE | C34: 1 | D34: SERV | E34: =G34/1.19 -> 414285.71 | F34: =E34*19% -> 78714.286 | G34: 493000
A35: 22 | B35: SIPS JUEGO DE FILTROS DE COMBUSTIBLE | C35: 1 | D35: UND | E35: =G35/1.19 -> 439495.8 | F35: =E35*19% -> 83504.202 | G35: 523000
A36: 23 | B36: SIPS RIEL DE INYECTORES | C36: 1 | D36: UND | E36: =G36/1.19 -> 1205882.4 | F36: =E36*19% -> 229117.65 | G36: 1435000
A37: 24 | B37: SIPS JUEGO DE FILTROS DE AIRE | C37: 1 | D37: UND | E37: =G37/1.19 -> 211764.71 | F37: =E37*19% -> 40235.294 | G37: 252000
A38: 25 | B38: SIPS DE MANGUERA DE COMBUSTIBLE | C38: 1 | D38: UND | E38: 297478.99 | F38: 56521.008 | G38: 355000
A39: 26 | B39: SIPS DE MANGUERA DE ADMISION | C39: 1 | D39: UND | E39: 576470.59 | F39: 109529.41 | G39: 690000
A40: 27 | B40: SIPS DE MANGUERA DE VACIO | C40: 1 | D40: UND | E40: 307563.03 | F40: 58436.975 | G40: 368000
A41: 28 | B41: SIPS MANGUERA DE RETORNO | C41: 1 | D41: UND | E41: 404201.68 | F41: 76798.319 | G41: 484000
A42: 29 | B42: SIPS EMPAQUETADURA DE TAPA DEL DESFOGUE | C42: 1 | D42: UND | E42: 384873.95 | F42: 73126.05 | G42: 461000
A43: 30 | B43: SIPS BOMBA DE COMBUSTIBLE COMPLETA | C43: 1 | D43: UND | E43: =G43/1.19 -> 2683193.3 | F43: =E43*19% -> 509806.72 | G43: 3193000
A44: 31 | B44: SIPS FLOTADOR Y MECANISMOS DE INDICACION DE NIVEL DE COMBUSTIBLE | C44: 1 | D44: UND | E44: =G44/1.19 -> 502521.01 | F44: =E44*19% -> 95478.992 | G44: 598000
A45: 32 | B45: SIPS DE UNA MANGUERA DE COMBUSTIBLE | C45: 1 | D45: UND | E45: =G45/1.19 -> 170588.24 | F45: =E45*19% -> 32411.765 | G45: 203000
A46: 33 | B46: REPARACION TANQUE DE COMBUSTIBLE INCLUYE PINTADA | C46: 1 | D46: SERV | E46: =G46/1.19 -> 578991.6 | F46: =E46*19% -> 110008.4 | G46: 689000
A47: 34 | B47: SIPS TAPA DE TANQUE DE COMBUSTIBLE | C47: 1 | D47: UND | E47: =G47/1.19 -> 238655.46 | F47: =E47*19% -> 45344.538 | G47: 284000
A48: 35 | B48: SIPS DE UNA MANGUERA DE VACIO | C48: 1 | D48: UND | E48: =G48/1.19 -> 113445.38 | F48: =E48*19% -> 21554.622 | G48: 135000
A49: 36 | B49: SIPS DE TODAS LAS MANGUERAS DE VACIO | C49: 1 | D49: UND | E49: =G49/1.19 -> 365546.22 | F49: =E49*19% -> 69453.782 | G49: 435000
A50: 37 | B50: SIPS TUBO DE ADMISION DEL FILTRO AL CUERPO DE ACELERACION O CARBURADOR | C50: 1 | D50: UND | E50: =G50/1.19 -> 414285.71 | F50: =E50*19% -> 78714.286 | G50: 493000
G51: 0
B52: SISTEMA DE ESCAPE | G52: 0
A53: 38 | B53: REPARACION DE SILENCIADOR | C53: 1 | D53: SERV | E53: =G53/1.19 -> 278151.26 | F53: =E53*19% -> 52848.739 | G53: 331000
A54: 39 | B54: REPARACION TUBO DE ESCAPE | C54: 1 | D54: SERV | E54: =G54/1.19 -> 201680.67 | F54: =E54*19% -> 38319.328 | G54: 240000
A55: 40 | B55: SIPS DE SILINCIADOR | C55: 1 | D55: UND | E55: =G55/1.19 -> 880672.27 | F55: =E55*19% -> 167327.73 | G55: 1048000
A56: 41 | B56: SIPS FLEXIBLE DEL ESCAPE | C56: 1 | D56: UND | E56: =G56/1.19 -> 214285.71 | F56: =E56*19% -> 40714.286 | G56: 255000
A57: 42 | B57: SIPS EMPAQUES O ANILLOS MULTIPLE DE ESCAPE | C57: 1 | D57: UND | E57: =G57/1.19 -> 253781.51 | F57: =E57*19% -> 48218.487 | G57: 302000
A58: 43 | B58: SIPS CATALIZADOR | C58: 1 | D58: UND | E58: =G58/1.19 -> 957142.86 | F58: =E58*19% -> 181857.14 | G58: 1139000
G59: 0
B60: SISTEMA DE LUBRICACION | G60: 0
A61: 44 | B61: GALON DE ACEITE DE MOTOR 20W50 | C61: 1 | D61: UND | E61: =G61 -> 299000 | F61: O | G61: 299000
A62: 45 | B62: CUARTO DE ACEITE DE MOTOR 20W50 | C62: 1 | D62: UND | E62: =G62 -> 76000 | F62: O | G62: 76000
A63: 46 | B63: CUARTO DE ACEITE DE CAJA HIDRAULICA ATF | C63: 1 | D63: UND | E63: =G63 -> 81000 | F63: O | G63: 81000
A64: 47 | B64: CUARTO DE ACEITE DE CAJA DE VELOCIDADES 80W90 | C64: 1 | D64: UND | E64: =G64 -> 56000 | F64: O | G64: 56000
A65: 48 | B65: CUARTO DE ACEITE DE TRANSMISION 85W140 | C65: 1 | D65: UND | E65: =G65 -> 56000 | F65: O | G65: 56000
A66: 49 | B66: POTE DE GRASA ALTA TEMPERATURA | C66: 1 | D66: UND | E66: =G66/1.19 -> 31932.773 | F66: =E66*19% -> 6067.2269 | G66: 38000
A67: 50 | B67: ADITIVO ANTIFRICCION | C67: 1 | D67: UND | E67: =G67/1.19 -> 137815.13 | F67: =E67*19% -> 26184.874 | G67: 164000
A68: 51 | B68: ADITIVO DE LUBRICACION | C68: 1 | D68: UND | E68: =G68/1.19 -> 26050.42 | F68: =E68*19% -> 4949.5798 | G68: 31000
A69: 52 | B69: ADITIVO DE CAJA O TRANSMISION | C69: 1 | D69: UND | E69: =G69/1.19 -> 23529.412 | F69: =E69*19% -> 4470.5882 | G69: 28000
A70: 53 | B70: ADITIVO DE RODILLERIA | C70: 1 | D70: UND | E70: =G70/1.19 -> 23529.412 | F70: =E70*19% -> 4470.5882 | G70: 28000
A71: 54 | B71: SIPS LIQUIDO DE CLUTCH SL | C71: 1 | D71: UND | E71: =G71/1.19 -> 128571.43 | F71: =E71*19% -> 24428.571 | G71: 153000
A72: 55 | B72: SIPS LIQUIDO DE FRENOS DOT 4 | C72: 1 | D72: UND | E72: =G72/1.19 -> 86554.622 | F72: =E72*19% -> 16445.378 | G72: 103000
A73: 56 | B73: DESENGRASANTE | C73: 1 | D73: UND | E73: =G73/1.19 -> 13445.378 | F73: =E73*19% -> 2554.6218 | G73: 16000
A74: 57 | B74: LUBRICANTE PENETRANTE | C74: 1 | D74: UND | E74: =G74/1.19 -> 58823.529 | F74: =E74*19% -> 11176.471 | G74: 70000
A75: 58 | B75: LIMPIA CONTACTOS | C75: 1 | D75: UND | E75: =G75/1.19 -> 58823.529 | F75: =E75*19% -> 11176.471 | G75: 70000
A76: 59 | B76: SERVICIO DE CAMBIO DE ACEITE MOTOR NO INCLUYE EL ACEITE | C76: 1 | D76: SERV | E76: =G76/1.19 -> 40336.134 | F76: =E76*19% -> 7663.8655 | G76: 48000
A77: 60 | B77: SIPS FILTRO DE ACEITE MOTOR | C77: 1 | D77: UND | E77: =G77/1.19 -> 228571.43 | F77: =E77*19% -> 43428.571 | G77: 272000
... A83: 66 | B83: SIPS TAPA GRASERA | C83: 1 | D83: UND | E83: =G83/1.19 -> 31932.773 | F83: =E83*19% -> 6067.2269 | G83: 38000
G84: 0
B85: SISTEMA REFRIGERACION | G85: 0
A86: 67 | B86: SONDEADA DE RADIADOR | C86: 1 | D86: SERV | E86: =G86/1.19 -> 352941.18 | F86: =E86*19% -> 67058.824 | G86: 420000
A87: 68 | B87: REPARACION DE RADIADOR INCLUYE PINTADA DONDE APLIQUE | C87: 1 | D87: SERV | E87: =G87/1.19 -> 477310.92 | F87: =E87*19% -> 90689.076 | G87: 568000
A88: 69 | B88: LAVADA DEL INTERCOOLER | C88: 1 | D88: SERV | E88: =G88/1.19 -> 263865.55 | F88: =E88*19% -> 50134.454 | G88: 314000
A89: 70 | B89: SIPS DE REFRIGERANTE MOTOR POR CUARTOS ALTA CALIDAD | C89: 1 | D89: UND | E89: =G89/1.19 -> 26890.756 | F89: =E89*19% -> 5109.2437 | G89: 32000
A90: 71 | B90: SIPS BOMBA DE AGUA | C90: 1 | D90: UND | E90: =G90/1.19 -> 1649579.8 | F90: =E90*19% -> 313420.17 | G90: 1963000
A91: 72 | B91: SIPS MANGUERA SUPERIOR RADIADOR | C91: 1 | D91: UND | E91: =G91/1.19 -> 313445.38 | F91: =E91*19% -> 59554.622 | G91: 373000
A92: 73 | B92: SIPS MANGUERA INFERIOR RADIADOR | C92: 1 | D92: UND | E92: =G92/1.19 -> 389915.97 | F92: =E92*19% -> 74084.034 | G92: 464000
A93: 74 | B93: SIPS MANGUERA DE CALEFACCION | C93: 1 | D93: UND | E93: =G93/1.19 -> 414285.71 | F93: =E93*19% -> 78714.286 | G93: 493000
A94: 75 | B94: SIPS SENSOR DE TEMPERATURA | C94: 1 | D94: UND | E94: =G94/1.19 -> 1060504.2 | F94: =E94*19% -> 201495.8 | G94: 1262000
A95: 76 | B95: SIPS DE RADIADOR | C95: 1 | D95: UND | E95: =G95/1.19 -> 3931092.4 | F95: =E95*19% -> 746907.56 | G95: 4678000
A96: 77 | B96: SIPS DEL TERMOSTATO | C96: 1 | D96: UND | E96: =G96/1.19 -> 401680.67 | F96: =E96*19% -> 76319.328 | G96: 478000
A97: 78 | B97: SIPS DEL MOTOVENTILADOR | C97: 1 | D97: UND | E97: =G97/1.19 -> 837815.13 | F97: =E97*19% -> 159184.87 | G97: 997000
... A99: 80 | B99: SIPS DEL DEPOSITO AUXILIAR DE REFRIGERANTE MOTOR | C99: 1 | D99: UND | E99: =G99/1.19 -> 401680.67 | F99: =E99*19% -> 76319.328 | G99: 478000
G100: 0
B101: SISTEMA DE DIRECCION | G101: 0
A102: 81 | B102: ALINEACION Y BALANCEO DE TODAS LAS RUEDAS | C102: 1 | D102: SERV | E102: =G102/1.19 -> 155462.18 | F102: =E102*19% -> 29537.815 | G102: 185000
A103: 82 | B103: ALINEACION | C103: 1 | D103: SERV | E103: =G103/1.19 -> 76470.588 | F103: =E103*19% -> 14529.412 | G103: 91000
A104: 83 | B104: BALANCEO | C104: 1 | D104: SERV | E104: =G104/1.19 -> 76470.588 | F104: =E104*19% -> 14529.412 | G104: 91000
A105: 84 | B105: SIPS DE CINTILLA DEL SISTEMA AIR-BAG | C105: 1 | D105: UND | E105: =G105/1.19 -> 1056302.5 | F105: =E105*19% -> 200697.48 | G105: 1257000
A106: 85 | B106: SIPS DE TODOS LOS TERMINALES DE DIRECCION | C106: 1 | D106: UND | E106: =G106/1.19 -> 1129411.8 | F106: =E106*19% -> 214588.24 | G106: 1344000
A107: 86 | B107: SIPS DE UN TERMINAL DE DIRECCION | C107: 1 | D107: UND | E107: =G107/1.19 -> 236134.45 | F107: =E107*19% -> 44865.546 | G107: 281000
A108: 87 | B108: SIPS DE TODOS LOS BRAZOS DE DIRECCION | C108: 1 | D108: UND | E108: =G108/1.19 -> 1458823.5 | F108: =E108*19% -> 277176.47 | G108: 1736000
...

Sheet GENERAL
A1: SOLUCIONES MECANICAS Y DE TRANSPORTE AUTOMOTRIZ S.A.S
A2: NIT 811045604-4
A3: Autopista Medellín - Bogotá. KM 43 (Marinilla)
A4: Teléfono 5690755 - 5484953
A6: SERVICIO NACIONAL DE APRENDIZAJE - SENA
A8: VALOR TOTAL
A10: CONS. | B10: TIPO VEHICULO | C10: VALOR X VEHICULO
A11: 1 | B11: HIUNDAY HD T2 CARROCERÍA FURGÓN -COLOR BLANCA-(AULA MOVIL) PLACA-OBI 202 - MODELO 2009 | C11: ='HYUNDAI HD 72'!G424 -> 441206000
A12: 2 | B12: VEHICULO TRACTOCAMION SRS RENAULT PREMIUMCOLOR Azul -PLACA OKL228-MODELO 2008 | C12: ='TRACTO CAMION'!G422 -> 481169000
A13: 3 | B13: NISSAN D21 CAMIONETA PICKUP DOBLE CABINA, COLOR PLATA-PLACA OBC978-MODELO 1995 | C13: ='NISSAN D21'!G418 -> 407481000
A14: 4 | B14: MONTACARGAS CATERPILLAR MODELO GP25 NM -PARA FORMACIÓN-MANTENIMIENTO PREVENTIVO/Peso 2.5 ton | C14: ='MONTA CARGAS'!G340 -> 374224000
A15: 5 | B15: CAMIONETA VOLKSWAGEN AMAROK CONFORT TL DOBLE CABINA,COLOR Blanco candi -PLACA OJY 093-MODELO 2016 | C15: =AMAROK!G418 -> 411618000
A16: 6 | B16: VEHICULO CHEVROLET JOY MODELO 2025 | C16: ='CHEVROLET JOY'!G415 -> 378286000
B18: TOTAL POR VEHICULOS | C18: =SUM(C11:C17) -> 2493984000
B21: Cordialmente,
B25: Isis Noreña Torres
B26: C.C: 1.036.966.841
B27: Representante Legal
B28: Soluciones Mecanicas y De Transporte Automotriz S.A.S
