Workbook
Name \a: #REF!
Name \a: #REF!
Name \a: #REF!
Name \a: #REF!
Name \a: #REF!
Name \a: #REF!
Name \a: #REF!
Name \a: [1]PJ!#REF!
Name \b: #REF!
Name \b: #REF!
Name \b: #REF!
Name \b: #REF!
Name \eliminar: [2]RESUM96!#REF!
Name \eliminar: [2]RESUM96!#REF!
Name \eliminar: [2]RESUM96!#REF!
Name \eliminar: [2]RESUM96!#REF!
Name \eliminar1: [2]RESUM96!#REF!
Name \eliminar1: [2]RESUM96!#REF!
Name \eliminar1: [2]RESUM96!#REF!
Name \i: [3]INSUMOS!#REF!
Name \i: [3]INSUMOS!#REF!
Name \i: [3]INSUMOS!#REF!
Name \L: #REF!
Name \m: [3]INSUMOS!#REF!
Name \m: [3]INSUMOS!#REF!
Name \m: [3]INSUMOS!#REF!
Name \m: [3]INSUMOS!#REF!
Name \m: [3]INSUMOS!#REF!
Name \P: #REF!
Name \q: #REF!
Name \Q: '[4]Calamar 200%'!#REF!
Name \q: #REF!
Name \q: #REF!
Name \q: #REF!
Name \q: #REF!
Name \r: [3]INSUMOS!#REF!
Name \r: [3]INSUMOS!#REF!
Name \r: [3]INSUMOS!#REF!
Name \r: [3]INSUMOS!#REF!
Name \r: [3]INSUMOS!#REF!
Name \t: [3]INSUMOS!#REF!
Name \t: [3]INSUMOS!#REF!
Name \t: [3]INSUMOS!#REF!
Name \t: [3]INSUMOS!#REF!
Name \t: [3]INSUMOS!#REF!
Name \x: [3]INSUMOS!#REF!
Name \x: [3]INSUMOS!#REF!
Name \x: [3]INSUMOS!#REF!
Name \x: [3]INSUMOS!#REF!
Name \x: [3]INSUMOS!#REF!
Name _________________________________apu1: [3]INSUMOS!#REF!
Name _________________________________apu1: [3]INSUMOS!#REF!
Name _________________________________apu1: [3]INSUMOS!#REF!
Name _________________________________apu1: [3]INSUMOS!#REF!
Name _________________________________apu1: [3]INSUMOS!#REF!
Name ________________________________apu1: [3]INSUMOS!#REF!
Name ________________________________apu1: [3]INSUMOS!#REF!
Name ________________________________apu1: [3]INSUMOS!#REF!
Name ________________________________PJ50: #REF!
Name _______________________________apu1: [3]INSUMOS!#REF!

Sheet PPTO VEREDA PEDREGAL
F1: DIRECCIONAMIENTO ESTRATÉGICO Y ARTICULACIÓN GERENCIAL
F4: PRESUPUESTO PARA PROYECTOS DE INVERSIÓN
I7: FECHA ELABORACIÓN PRESUPUESTO: 22/05/2025
A8: ENTIDAD | F8: ALCALDIA MUNICIPAL DE SUTATAUSA
A9: NOMBRE DEL PROYECTO | F9: OBJETO: MEJORAMIENTO DE LAS VIAS RURALES DE LAS VEREDAS PEÑAS DE CAJON SECTOR LA CABECERA, VEREDA PALACIO SECTOR EL TENDIDO, VEREDA CHIPAQUIN SECTOR CHIPAQUIN, VEREDA OJO DE AGUA SECTOR LA ESCUELA, VEREDA NOVOA SECTOR LA Y, VEREDA SANTA BARBARA SECTOR LA QUINTA, VEREDA PALACIO SECTOR ENTREPIEDRA Y VEREDA PEDREGAL SECTOR TRES ESQUINAS DEL MUNICIPIO DE SUTATAUSA CUNDINAMARCA
A11: LÍNEA ESTRATÉGICA | B11: PROGRAMA | C11: SUBPROGRAMA | D11: META DE PRODUCTO | E11: OBJETIVO ESPECIFICO | F11: PRODUCTO | G11: Especificacion O Norma Tecnica | H11: Item de Pago | I11: ACTIVIDAD | J11: INSUMO | K11: AÑO 2025
K12: UNIDAD DE MEDIDA | L12: CANTIDAD | M12: V/R UNITARIO ($) | N12: V/R TOTAL ($)
A13: 2. + COMPETITIVIDAD | B13: Rutas para el progreso | C13: Vías motor del desarrollo | D13: Construir un millón de m2 de placa huella. | E13: Deterioro de la superficie de rodadura. | F13: Placa huella construida | I13: PRELIMINARES, EXCAVACIONES, RELLENOS
G14: ICCU | H14: 1 | I14: CONFORMACIÓN DE LA CALZADA EXISTENTE | J14: Maquinaria y equipo | K14: M2 | L14: ='MEMORIAS PROYECTO'!M35 -> 1250 | M14: 1159 | N14: =+ROUND(M14*L14,2) -> 1448750 | O14: =N14*1.35 -> 1955812.5
G15: ICCU | H15: 2 | I15: SUB BASE GRANULAR | J15: Materiales | K15: M3 | L15: ='MEMORIAS PROYECTO'!M78 -> 187.5 | M15: 145792 | N15: =+ROUND(M15*L15,2) -> 27336000 | O15: =N15*1.35 -> 36903600
G16: ICCU | H16: 3 | I16: EXCAVACIONES VARIAS EN MATERIAL COMÚN SECO A MANO (INCLUYE RETIRO DE SOBRANTES A UNA DISTANCIA MENOR DE 5 KM) | J16: Mano de obra no calificada | K16: M3 | L16: ='MEMORIAS PROYECTO'!M142 -> 22.802 | M16: 65346 | N16: =+ROUND(M16*L16,2) -> 1490019.5 | O16: =N16*1.35 -> 2011526.3
I17: SUBTOTAL | N17: =SUBTOTAL(9,N14:N16) -> 30274769
I18: CONCRETOS
G19: ICCU | H19: 4 | I19: CONCRETOS CLASE D, f´c =3000 psi (placas) | J19: Materiales | K19: M3 | L19: ='MEMORIAS PROYECTO'!M207 -> 78.543 | M19: 981966 | N19: =+M19*L19 -> 77126556
G20: ICCU | H20: 5 | I20: CONCRETO CICLÓPEO CLASE G, 2000 PSI 40% RAJÓN PARA BASES | J20: Materiales | K20: M3 | L20: ='MEMORIAS PROYECTO'!M259 -> 68.229 | M20: 504410 | N20: =+M20*L20 -> 34415390
G21: ICCU | H21: 6 | I21: CONCRETO CLASE E, 2500 PSI PARA BASES | J21: Materiales | K21: M3 | L21: ='MEMORIAS PROYECTO'!M315 -> 56.25 | M21: 673538 | N21: =+M21*L21 -> 37886512 | R21: SST
G22: ICCU | H22: 7 | I22: SUMINISTRO FIGURADO Y ARMADO DE ACERO DE REFUERZO 60000 PSI | J22: Materiales | K22: KG | L22: ='MEMORIAS PROYECTO'!M429 -> 8236.5076 | M22: 8165 | N22: =+M22*L22 -> 67251085 | O22: =N22*1.35 -> 90788964
I23: SUBTOTAL | N23: =SUBTOTAL(9,N19:N22) -> 2.1667954e+08
A26: VALOR COSTO DIRECTO | N26: =ROUND((SUBTOTAL(9,N14:N23)),0) -> 246954312
A27: AIU | M27: 0.355 | N27: =ROUND(N26*M27,0) -> 87668781
A28: VALOR TOTAL OBRA CIVIL | N28: =SUM(N26:N27) -> 334623093 | O28: =N28-#REF! -> #REF!
A30: PRESUPUESTO ELABORADO POR:
H38: ING. NESTOR MARQUEZ CARRILLO
H39: Secretario de Planeación e infraestructura
H40: INGENIERO CIVIL

Sheet PPTO VEREDA PALACIO S ENTREPIED
F1: DIRECCIONAMIENTO ESTRATÉGICO Y ARTICULACIÓN GERENCIAL
F4: PRESUPUESTO PARA PROYECTOS DE INVERSIÓN
I7: FECHA ELABORACIÓN PRESUPUESTO: 22/05/2025
A8: ENTIDAD | F8: ALCALDIA MUNICIPAL DE SUTATAUSA
A9: NOMBRE DEL PROYECTO | F9: OBJETO: MEJORAMIENTO DE LAS VIAS RURALES DE LAS VEREDAS PEÑAS DE CAJON SECTOR LA CABECERA, VEREDA PALACIO SECTOR EL TENDIDO, VEREDA CHIPAQUIN SECTOR CHIPAQUIN, VEREDA OJO DE AGUA SECTOR LA ESCUELA, VEREDA NOVOA SECTOR LA Y, VEREDA SANTA BARBARA SECTOR LA QUINTA, VEREDA PALACIO SECTOR ENTREPIEDRA Y VEREDA PEDREGAL SECTOR TRES ESQUINAS DEL MUNICIPIO DE SUTATAUSA CUNDINAMARCA
A11: LÍNEA ESTRATÉGICA | B11: PROGRAMA | C11: SUBPROGRAMA | D11: META DE PRODUCTO | E11: OBJETIVO ESPECIFICO | F11: PRODUCTO | G11: Especificacion O Norma Tecnica | H11: Item de Pago | I11: ACTIVIDAD | J11: INSUMO | K11: AÑO 2025
K12: UNIDAD DE MEDIDA | L12: CANTIDAD | M12: V/R UNITARIO ($) | N12: V/R TOTAL ($)
A13: 2. + COMPETITIVIDAD | B13: Rutas para el progreso | C13: Vías motor del desarrollo | D13: Construir un millón de m2 de placa huella. | E13: Deterioro de la superficie de rodadura. | F13: Placa huella construida | I13: PRELIMINARES, EXCAVACIONES, RELLENOS
G14: ICCU | H14: 1 | I14: CONFORMACIÓN DE LA CALZADA EXISTENTE | J14: Maquinaria y equipo | K14: M2 | L14: ='MEMORIAS PROYECTO'!M33 -> 1250 | M14: 1159 | N14: =+ROUND(M14*L14,2) -> 1448750 | O14: =N14*1.35 -> 1955812.5
G15: ICCU | H15: 2 | I15: SUB BASE GRANULAR | J15: Materiales | K15: M3 | L15: ='MEMORIAS PROYECTO'!M76 -> 187.5 | M15: 145792 | N15: =+ROUND(M15*L15,2) -> 27336000 | O15: =N15*1.35 -> 36903600
G16: ICCU | H16: 3 | I16: EXCAVACIONES VARIAS EN MATERIAL COMÚN SECO A MANO (INCLUYE RETIRO DE SOBRANTES A UNA DISTANCIA MENOR DE 5 KM) | J16: Mano de obra no calificada | K16: M3 | L16: ='MEMORIAS PROYECTO'!M138 -> 22.802 | M16: 65346 | N16: =+ROUND(M16*L16,2) -> 1490019.5 | O16: =N16*1.35 -> 2011526.3
I17: SUBTOTAL | N17: =SUBTOTAL(9,N14:N16) -> 30274769
I18: CONCRETOS
G19: ICCU | H19: 4 | I19: CONCRETOS CLASE D, f´c =3000 psi (placas) | J19: Materiales | K19: M3 | L19: ='MEMORIAS PROYECTO'!M203 -> 78.543 | M19: 981966 | N19: =+M19*L19 -> 77126556
G20: ICCU | H20: 5 | I20: CONCRETO CICLÓPEO CLASE G, 2000 PSI 40% RAJÓN PARA BASES | J20: Materiales | K20: M3 | L20: ='MEMORIAS PROYECTO'!M256 -> 68.229 | M20: 504410 | N20: =+M20*L20 -> 34415390
G21: ICCU | H21: 6 | I21: CONCRETO CLASE E, 2500 PSI PARA BASES | J21: Materiales | K21: M3 | L21: ='MEMORIAS PROYECTO'!M312 -> 56.25 | M21: 673538 | N21: =+M21*L21 -> 37886512 | R21: SST
G22: ICCU | H22: 7 | I22: SUMINISTRO FIGURADO Y ARMADO DE ACERO DE REFUERZO 60000 PSI | J22: Materiales | K22: KG | L22: ='MEMORIAS PROYECTO'!M420 -> 8236.5076 | M22: 8165 | N22: =+M22*L22 -> 67251085 | O22: =N22*1.35 -> 90788964
I23: SUBTOTAL | N23: =SUBTOTAL(9,N19:N22) -> 2.1667954e+08
A26: VALOR COSTO DIRECTO | N26: =ROUND((SUBTOTAL(9,N14:N23)),0) -> 246954312
A27: AIU | M27: 0.355 | N27: =ROUND(N26*M27,0) -> 87668781
A28: VALOR TOTAL OBRA CIVIL | N28: =SUM(N26:N27) -> 334623093 | O28: =N28-#REF! -> #REF!
A30: PRESUPUESTO ELABORADO POR:
H38: ING. NESTOR MARQUEZ CARRILLO
H39: Secretario de Planeación e infraestructura
H40: INGENIERO CIVIL

Sheet MEMORIAS PROYECTO
E5: REPUBLICA DE COLOMBIA
E6: DEPARATAMENTO DE CUNDINAMARCA
E7: MUNICIPIO DE SUTATAUSA
E8: ALCALDIA MUNICIPAL
E9: NIT. 899999476-1
B10: MEMORIAS DE CALCULO DE CANTIDADES DE OBRA
B11: OBJETO: MEJORAMIENTO DE LAS VIAS RURALES DE LAS VEREDAS PEÑAS DE CAJON SECTOR LA CABECERA, VEREDA PALACIO SECTOR EL TENDIDO, VEREDA CHIPAQUIN SECTOR CHIPAQUIN, VEREDA OJO DE AGUA SECTOR LA ESCUELA, VEREDA NOVOA SECTOR LA Y, VEREDA SANTA BARBARA SECTOR LA QUINTA, VEREDA PALACIO SECTOR ENTREPIEDRA Y VEREDA PEDREGAL SECTOR TRES ESQUINAS DEL MUNICIPIO DE SUTATAUSA CUNDINAMARCA
B12: (4) Item No. | C12: (5) Unidad | D12: (6) Descripción | H12: (7) Zona | I12: SECTOR | L12: (9) Fecha
B13: 6.1 | C13: M2 | D13: CONFORMACIÓN DE LA CALZADA EXISTENTE | H13: CUNDINAMARCA | I13: 1 | L13: 45799
B14: (10) Area para Dibujo | H14: (11) Localización | I14: Dimensiones | M14: (15)Medida Total
I15: (14) Longitud | J15: Ancho | K15: Espesor | L15: (14) Cantidad
H16: VEREDA PEÑAS DE CAJON SECTOR LA CABECERA
I17: 234 | J17: 5 | M17: =J17*I17 -> 1170
H18: VEREDA PALACIO SECTOR EL TENDIDO
I19: 285 | J19: 5 | M19: =J19*I19 -> 1425
H20: VEREDA CHIPAQUIN SECTOR CHIPAQUIN
I21: 234 | J21: 4.2 | M21: =J21*I21 -> 982.8
H22: VEREDA OJO DE AGUA SECTOR LA ESCUELA
I23: 201 | J23: 4.2 | M23: =J23*I23 -> 844.2
H24: VEREDA NOVOA SECTOR LA Y
I25: 225 | J25: 4.2 | M25: =J25*I25 -> 945
H26: VEREDA SANTA BARBARA SECTOR LA QUINTA
I27: 177 | J27: 4.2 | M27: =J27*I27 -> 743.4
H28: VEREDA CHIRCAL TRAMO 1
I29: 168 | J29: 4.2 | M29: =J29*I29 -> 705.6
H30: VEREDA CHIRCAL TRAMO 2
I31: 117 | J31: 4.2 | M31: =J31*I31 -> 491.4
H32: VEREDA PALACIO SECTOR ENTREPIEDRA
I33: 250 | J33: 5 | M33: =J33*I33 -> 1250
H34: VEREDA PEDREGAL SECTOR TRES ESQUINAS
I35: 250 | J35: 5 | M35: =J35*I35 -> 1250
B37: (20) Reviso
I38: Subtotal: | M38: =SUM(M16:M37) -> 9807.4
C39: ING. NESTOR MARQUEZ CARRILLO | I39: Vienen
C40: Secretario de Planeación e infraestructura | I40: Total | M40: =M38+M39 -> 9807.4
E48: REPUBLICA DE COLOMBIA
E49: DEPARATAMENTO DE CUNDINAMARCA
E50: MUNICIPIO DE SUTATAUSA
E51: ALCALDIA MUNICIPAL
E52: NIT. 899999476-1
...

Sheet PPTO VEREDA CHIRCAL TRAMO 2
F1: DIRECCIONAMIENTO ESTRATÉGICO Y ARTICULACIÓN GERENCIAL
F4: PRESUPUESTO PARA PROYECTOS DE INVERSIÓN
I7: FECHA ELABORACIÓN PRESUPUESTO: 22/05/2025
A8: ENTIDAD | F8: ALCALDIA MUNICIPAL DE SUTATAUSA
A9: NOMBRE DEL PROYECTO | F9: OBJETO: MEJORAMIENTO DE LAS VIAS RURALES DE LAS VEREDAS PEÑAS DE CAJON SECTOR LA CABECERA, VEREDA PALACIO SECTOR EL TENDIDO, VEREDA CHIPAQUIN SECTOR CHIPAQUIN, VEREDA OJO DE AGUA SECTOR LA ESCUELA, VEREDA NOVOA SECTOR LA Y, VEREDA SANTA BARBARA SECTOR LA QUINTA, VEREDA PALACIO SECTOR ENTREPIEDRA Y VEREDA PEDREGAL SECTOR TRES ESQUINAS DEL MUNICIPIO DE SUTATAUSA CUNDINAMARCA
A11: LÍNEA ESTRATÉGICA | B11: PROGRAMA | C11: SUBPROGRAMA | D11: META DE PRODUCTO | E11: OBJETIVO ESPECIFICO | F11: PRODUCTO | G11: Especificacion O Norma Tecnica | H11: Item de Pago | I11: ACTIVIDAD | J11: INSUMO | K11: AÑO 2025
K12: UNIDAD DE MEDIDA | L12: CANTIDAD | M12: V/R UNITARIO ($) | N12: V/R TOTAL ($)
A13: 2. + COMPETITIVIDAD | B13: Rutas para el progreso | C13: Vías motor del desarrollo | D13: Construir un millón de m2 de placa huella. | E13: Deterioro de la superficie de rodadura. | F13: Placa huella construida | I13: PRELIMINARES, EXCAVACIONES, RELLENOS
G14: ICCU | H14: 1 | I14: CONFORMACIÓN DE LA CALZADA EXISTENTE | J14: Maquinaria y equipo | K14: M2 | L14: ='MEMORIAS PROYECTO'!M31 -> 491.4 | M14: 1159 | N14: =+ROUND(M14*L14,2) -> 569532.6 | O14: =N14*1.35 -> 768869.01
G15: ICCU | H15: 2 | I15: SUB BASE GRANULAR | J15: Materiales | K15: M3 | L15: ='MEMORIAS PROYECTO'!M74 -> 77.49 | M15: 145792 | N15: =+ROUND(M15*L15,2) -> 11297422 | O15: =N15*1.35 -> 15251520
G16: ICCU | H16: 3 | I16: EXCAVACIONES VARIAS EN MATERIAL COMÚN SECO A MANO (INCLUYE RETIRO DE SOBRANTES A UNA DISTANCIA MENOR DE 5 KM) | J16: Mano de obra no calificada | K16: M3 | L16: ='MEMORIAS PROYECTO'!M134 -> 12.7755 | M16: 65346 | N16: =+ROUND(M16*L16,2) -> 834827.82 | O16: =N16*1.35 -> 1127017.6
I17: SUBTOTAL | N17: =SUBTOTAL(9,N14:N16) -> 12701782
I18: CONCRETOS
G19: ICCU | H19: 4 | I19: CONCRETOS CLASE D, f´c =3000 psi (placas) | J19: Materiales | K19: M3 | L19: ='MEMORIAS PROYECTO'!M199 -> 37.59075 | M19: 981966 | N19: =+M19*L19 -> 36912838
G20: ICCU | H20: 5 | I20: CONCRETO CICLÓPEO CLASE G, 2000 PSI 40% RAJÓN PARA BASES | J20: Materiales | K20: M3 | L20: ='MEMORIAS PROYECTO'!M254 -> 15.77475 | M20: 504410 | N20: =+M20*L20 -> 7956941.6
G21: ICCU | H21: 6 | I21: CONCRETO CLASE E, 2500 PSI PARA BASES | J21: Materiales | K21: M3 | L21: ='MEMORIAS PROYECTO'!M309 -> 31.365 | M21: 673538 | N21: =+M21*L21 -> 21125519 | R21: SST
G22: ICCU | H22: 7 | I22: SUMINISTRO FIGURADO Y ARMADO DE ACERO DE REFUERZO 60000 PSI | J22: Materiales | K22: KG | L22: ='MEMORIAS PROYECTO'!M411 -> 4002.8025 | M22: 8165 | N22: =+M22*L22 -> 32682883 | O22: =N22*1.35 -> 44121891
I23: SUBTOTAL | N23: =SUBTOTAL(9,N19:N22) -> 98678182
A26: VALOR COSTO DIRECTO | N26: =ROUND((SUBTOTAL(9,N14:N23)),0) -> 111379965
A27: AIU | M27: 0.355 | N27: =ROUND(N26*M27,0) -> 39539888
A28: VALOR TOTAL OBRA CIVIL | N28: =SUM(N26:N27) -> 150919853 | O28: =N28-#REF! -> #REF!
A30: PRESUPUESTO ELABORADO POR:
H38: ING. NESTOR MARQUEZ CARRILLO
H39: Secretario de Planeación e infraestructura
H40: INGENIERO CIVIL

Sheet PPTO VEREDA CHIRCAL TRAMO 1
F1: DIRECCIONAMIENTO ESTRATÉGICO Y ARTICULACIÓN GERENCIAL
F4: PRESUPUESTO PARA PROYECTOS DE INVERSIÓN
I7: FECHA ELABORACIÓN PRESUPUESTO: 22/05/2025
A8: ENTIDAD | F8: ALCALDIA MUNICIPAL DE SUTATAUSA
A9: NOMBRE DEL PROYECTO | F9: OBJETO: MEJORAMIENTO DE LAS VIAS RURALES DE LAS VEREDAS PEÑAS DE CAJON SECTOR LA CABECERA, VEREDA PALACIO SECTOR EL TENDIDO, VEREDA CHIPAQUIN SECTOR CHIPAQUIN, VEREDA OJO DE AGUA SECTOR LA ESCUELA, VEREDA NOVOA SECTOR LA Y, VEREDA SANTA BARBARA SECTOR LA QUINTA, VEREDA PALACIO SECTOR ENTREPIEDRA Y VEREDA PEDREGAL SECTOR TRES ESQUINAS DEL MUNICIPIO DE SUTATAUSA CUNDINAMARCA
A11: LÍNEA ESTRATÉGICA | B11: PROGRAMA | C11: SUBPROGRAMA | D11: META DE PRODUCTO | E11: OBJETIVO ESPECIFICO | F11: PRODUCTO | G11: Especificacion O Norma Tecnica | H11: Item de Pago | I11: ACTIVIDAD | J11: INSUMO | K11: AÑO 2025
K12: UNIDAD DE MEDIDA | L12: CANTIDAD | M12: V/R UNITARIO ($) | N12: V/R TOTAL ($)
A13: 2. + COMPETITIVIDAD | B13: Rutas para el progreso | C13: Vías motor del desarrollo | D13: Construir un millón de m2 de placa huella. | E13: Deterioro de la superficie de rodadura. | F13: Placa huella construida | I13: PRELIMINARES, EXCAVACIONES, RELLENOS
G14: ICCU | H14: 1 | I14: CONFORMACIÓN DE LA CALZADA EXISTENTE | J14: Maquinaria y equipo | K14: M2 | L14: ='MEMORIAS PROYECTO'!M29 -> 705.6 | M14: 1159 | N14: =+ROUND(M14*L14,2) -> 817790.4 | O14: =N14*1.35 -> 1104017
G15: ICCU | H15: 2 | I15: SUB BASE GRANULAR | J15: Materiales | K15: M3 | L15: ='MEMORIAS PROYECTO'!M72 -> 105.84 | M15: 145792 | N15: =+ROUND(M15*L15,2) -> 15430625 | O15: =N15*1.35 -> 20831344
G16: ICCU | H16: 3 | I16: EXCAVACIONES VARIAS EN MATERIAL COMÚN SECO A MANO (INCLUYE RETIRO DE SOBRANTES A UNA DISTANCIA MENOR DE 5 KM) | J16: Mano de obra no calificada | K16: M3 | L16: ='MEMORIAS PROYECTO'!M130 -> 16.758 | M16: 65346 | N16: =+ROUND(M16*L16,2) -> 1095068.3 | O16: =N16*1.35 -> 1478342.2
I17: SUBTOTAL | N17: =SUBTOTAL(9,N14:N16) -> 17343484
I18: CONCRETOS
G19: ICCU | H19: 4 | I19: CONCRETOS CLASE D, f´c =3000 psi (placas) | J19: Materiales | K19: M3 | L19: ='MEMORIAS PROYECTO'!M195 -> 50.652 | M19: 981966 | N19: =+M19*L19 -> 49738542
G20: ICCU | H20: 5 | I20: CONCRETO CICLÓPEO CLASE G, 2000 PSI 40% RAJÓN PARA BASES | J20: Materiales | K20: M3 | L20: ='MEMORIAS PROYECTO'!M252 -> 21.546 | M20: 504410 | N20: =+M20*L20 -> 10868018
G21: ICCU | H21: 6 | I21: CONCRETO CLASE E, 2500 PSI PARA BASES | J21: Materiales | K21: M3 | L21: ='MEMORIAS PROYECTO'!M306 -> 42.84 | M21: 673538 | N21: =+M21*L21 -> 28854368 | R21: SST
G22: ICCU | H22: 7 | I22: SUMINISTRO FIGURADO Y ARMADO DE ACERO DE REFUERZO 60000 PSI | J22: Materiales | K22: KG | L22: ='MEMORIAS PROYECTO'!M401 -> 5417.2983 | M22: 8165 | N22: =+M22*L22 -> 44232241 | O22: =N22*1.35 -> 59713525
I23: SUBTOTAL | N23: =SUBTOTAL(9,N19:N22) -> 1.3369317e+08
A26: VALOR COSTO DIRECTO | N26: =ROUND((SUBTOTAL(9,N14:N23)),0) -> 151036652
A27: AIU | M27: 0.355 | N27: =ROUND(N26*M27,0) -> 53618011
A28: VALOR TOTAL OBRA CIVIL | N28: =SUM(N26:N27) -> 204654663 | O28: =N28-#REF! -> #REF!
A30: PRESUPUESTO ELABORADO POR:
H38: ING. NESTOR MARQUEZ CARRILLO
H39: Secretario de Planeación e infraestructura
H40: INGENIERO CIVIL

Sheet PPTO VEREDA  SANTA BARBARA 
F1: DIRECCIONAMIENTO ESTRATÉGICO Y ARTICULACIÓN GERENCIAL
F4: PRESUPUESTO PARA PROYECTOS DE INVERSIÓN
I7: FECHA ELABORACIÓN PRESUPUESTO: 22/05/2025
A8: ENTIDAD | F8: ALCALDIA MUNICIPAL DE SUTATAUSA
A9: NOMBRE DEL PROYECTO | F9: OBJETO: MEJORAMIENTO DE LAS VIAS RURALES DE LAS VEREDAS PEÑAS DE CAJON SECTOR LA CABECERA, VEREDA PALACIO SECTOR EL TENDIDO, VEREDA CHIPAQUIN SECTOR CHIPAQUIN, VEREDA OJO DE AGUA SECTOR LA ESCUELA, VEREDA NOVOA SECTOR LA Y, VEREDA SANTA BARBARA SECTOR LA QUINTA, VEREDA PALACIO SECTOR ENTREPIEDRA Y VEREDA PEDREGAL SECTOR TRES ESQUINAS DEL MUNICIPIO DE SUTATAUSA CUNDINAMARCA
A11: LÍNEA ESTRATÉGICA | B11: PROGRAMA | C11: SUBPROGRAMA | D11: META DE PRODUCTO | E11: OBJETIVO ESPECIFICO | F11: PRODUCTO | G11: Especificacion O Norma Tecnica | H11: Item de Pago | I11: ACTIVIDAD | J11: INSUMO | K11: AÑO 2025
K12: UNIDAD DE MEDIDA | L12: CANTIDAD | M12: V/R UNITARIO ($) | N12: V/R TOTAL ($)
A13: 2. + COMPETITIVIDAD | B13: Rutas para el progreso | C13: Vías motor del desarrollo | D13: Construir un millón de m2 de placa huella. | E13: Deterioro de la superficie de rodadura. | F13: Placa huella construida | I13: PRELIMINARES, EXCAVACIONES, RELLENOS
G14: ICCU | H14: 1 | I14: CONFORMACIÓN DE LA CALZADA EXISTENTE | J14: Maquinaria y equipo | K14: M2 | L14: ='MEMORIAS PROYECTO'!M27 -> 743.4 | M14: 1159 | N14: =+ROUND(M14*L14,2) -> 861600.6 | O14: =N14*1.35 -> 1163160.8
G15: ICCU | H15: 2 | I15: SUB BASE GRANULAR | J15: Materiales | K15: M3 | L15: ='MEMORIAS PROYECTO'!M70 -> 111.51 | M15: 145792 | N15: =+ROUND(M15*L15,2) -> 16257266 | O15: =N15*1.35 -> 21947309
G16: ICCU | H16: 3 | I16: EXCAVACIONES VARIAS EN MATERIAL COMÚN SECO A MANO (INCLUYE RETIRO DE SOBRANTES A UNA DISTANCIA MENOR DE 5 KM) | J16: Mano de obra no calificada | K16: M3 | L16: ='MEMORIAS PROYECTO'!M126 -> 17.5545 | M16: 65346 | N16: =+ROUND(M16*L16,2) -> 1147116.4 | O16: =N16*1.35 -> 1548607.1
I17: SUBTOTAL | N17: =SUBTOTAL(9,N14:N16) -> 18265983
I18: CONCRETOS
G19: ICCU | H19: 4 | I19: CONCRETOS CLASE D, f´c =3000 psi (placas) | J19: Materiales | K19: M3 | L19: ='MEMORIAS PROYECTO'!M191 -> 53.26425 | M19: 981966 | N19: =+M19*L19 -> 52303683
G20: ICCU | H20: 5 | I20: CONCRETO CICLÓPEO CLASE G, 2000 PSI 40% RAJÓN PARA BASES | J20: Materiales | K20: M3 | L20: ='MEMORIAS PROYECTO'!M250 -> 22.70025 | M20: 504410 | N20: =+M20*L20 -> 11450233
G21: ICCU | H21: 6 | I21: CONCRETO CLASE E, 2500 PSI PARA BASES | J21: Materiales | K21: M3 | L21: ='MEMORIAS PROYECTO'!M303 -> 45.135 | M21: 673538 | N21: =+M21*L21 -> 30400138 | R21: SST
G22: ICCU | H22: 7 | I22: SUMINISTRO FIGURADO Y ARMADO DE ACERO DE REFUERZO 60000 PSI | J22: Materiales | K22: KG | L22: ='MEMORIAS PROYECTO'!M391 -> 5700.1975 | M22: 8165 | N22: =+M22*L22 -> 46542112 | O22: =N22*1.35 -> 62831852
I23: SUBTOTAL | N23: =SUBTOTAL(9,N19:N22) -> 1.4069617e+08
A26: VALOR COSTO DIRECTO | N26: =ROUND((SUBTOTAL(9,N14:N23)),0) -> 158962149
A27: AIU | M27: 0.355 | N27: =ROUND(N26*M27,0) -> 56431563
A28: VALOR TOTAL OBRA CIVIL | N28: =SUM(N26:N27) -> 215393712 | O28: =N28-#REF! -> #REF!
A30: PRESUPUESTO ELABORADO POR:
H38: ING. NESTOR MARQUEZ CARRILLO
H39: Secretario de Planeación e infraestructura
H40: INGENIERO CIVIL

Sheet PPTO VEREDA NOVOA SECTOR Y
F1: DIRECCIONAMIENTO ESTRATÉGICO Y ARTICULACIÓN GERENCIAL
F4: PRESUPUESTO PARA PROYECTOS DE INVERSIÓN
I7: FECHA ELABORACIÓN PRESUPUESTO: 22/05/2025
A8: ENTIDAD | F8: ALCALDIA MUNICIPAL DE SUTATAUSA
A9: NOMBRE DEL PROYECTO | F9: OBJETO: MEJORAMIENTO DE LAS VIAS RURALES DE LAS VEREDAS PEÑAS DE CAJON SECTOR LA CABECERA, VEREDA PALACIO SECTOR EL TENDIDO, VEREDA CHIPAQUIN SECTOR CHIPAQUIN, VEREDA OJO DE AGUA SECTOR LA ESCUELA, VEREDA NOVOA SECTOR LA Y, VEREDA SANTA BARBARA SECTOR LA QUINTA, VEREDA PALACIO SECTOR ENTREPIEDRA Y VEREDA PEDREGAL SECTOR TRES ESQUINAS DEL MUNICIPIO DE SUTATAUSA CUNDINAMARCA
A11: LÍNEA ESTRATÉGICA | B11: PROGRAMA | C11: SUBPROGRAMA | D11: META DE PRODUCTO | E11: OBJETIVO ESPECIFICO | F11: PRODUCTO | G11: Especificacion O Norma Tecnica | H11: Item de Pago | I11: ACTIVIDAD | J11: INSUMO | K11: AÑO 2025
K12: UNIDAD DE MEDIDA | L12: CANTIDAD | M12: V/R UNITARIO ($) | N12: V/R TOTAL ($)
A13: 2. + COMPETITIVIDAD | B13: Rutas para el progreso | C13: Vías motor del desarrollo | D13: Construir un millón de m2 de placa huella. | E13: Deterioro de la superficie de rodadura. | F13: Placa huella construida | I13: PRELIMINARES, EXCAVACIONES, RELLENOS
G14: ICCU | H14: 1 | I14: CONFORMACIÓN DE LA CALZADA EXISTENTE | J14: Maquinaria y equipo | K14: M2 | L14: ='MEMORIAS PROYECTO'!M25 -> 945 | M14: 1159 | N14: =+ROUND(M14*L14,2) -> 1095255 | O14: =N14*1.35 -> 1478594.2
G15: ICCU | H15: 2 | I15: SUB BASE GRANULAR | J15: Materiales | K15: M3 | L15: ='MEMORIAS PROYECTO'!M68 -> 141.75 | M15: 145792 | N15: =+ROUND(M15*L15,2) -> 20666016 | O15: =N15*1.35 -> 27899122
G16: ICCU | H16: 3 | I16: EXCAVACIONES VARIAS EN MATERIAL COMÚN SECO A MANO (INCLUYE RETIRO DE SOBRANTES A UNA DISTANCIA MENOR DE 5 KM) | J16: Mano de obra no calificada | K16: M3 | L16: ='MEMORIAS PROYECTO'!M122 -> 21.537 | M16: 65346 | N16: =+ROUND(M16*L16,2) -> 1407356.8 | O16: =N16*1.35 -> 1899931.7
I17: SUBTOTAL | N17: =SUBTOTAL(9,N14:N16) -> 23168628
I18: CONCRETOS
G19: ICCU | H19: 4 | I19: CONCRETOS CLASE D, f´c =3000 psi (placas) | J19: Materiales | K19: M3 | L19: ='MEMORIAS PROYECTO'!M187 -> 66.3255 | M19: 981966 | N19: =+M19*L19 -> 65129386
G20: ICCU | H20: 5 | I20: CONCRETO CICLÓPEO CLASE G, 2000 PSI 40% RAJÓN PARA BASES | J20: Materiales | K20: M3 | L20: ='MEMORIAS PROYECTO'!M248 -> 28.4715 | M20: 504410 | N20: =+M20*L20 -> 14361309
G21: ICCU | H21: 6 | I21: CONCRETO CLASE E, 2500 PSI PARA BASES | J21: Materiales | K21: M3 | L21: ='MEMORIAS PROYECTO'!M300 -> 56.61 | M21: 673538 | N21: =+M21*L21 -> 38128986 | R21: SST
G22: ICCU | H22: 7 | I22: SUMINISTRO FIGURADO Y ARMADO DE ACERO DE REFUERZO 60000 PSI | J22: Materiales | K22: KG | L22: ='MEMORIAS PROYECTO'!M382 -> 7114.6933 | M22: 8165 | N22: =+M22*L22 -> 58091471 | O22: =N22*1.35 -> 78423485
I23: SUBTOTAL | N23: =SUBTOTAL(9,N19:N22) -> 1.7571115e+08
A26: VALOR COSTO DIRECTO | N26: =ROUND((SUBTOTAL(9,N14:N23)),0) -> 198879780
A27: AIU | M27: 0.355 | N27: =ROUND(N26*M27,0) -> 70602322
A28: VALOR TOTAL OBRA CIVIL | N28: =SUM(N26:N27) -> 269482102 | O28: =N28-#REF! -> #REF!
A30: PRESUPUESTO ELABORADO POR:
H38: ING. NESTOR MARQUEZ CARRILLO
H39: Secretario de Planeación e infraestructura
H40: INGENIERO CIVIL

Sheet PPTO OJO DE AGUA SECTOR ESCUELA
F1: DIRECCIONAMIENTO ESTRATÉGICO Y ARTICULACIÓN GERENCIAL
F4: PRESUPUESTO PARA PROYECTOS DE INVERSIÓN
I7: FECHA ELABORACIÓN PRESUPUESTO: 22/05/2025
A8: ENTIDAD | F8: ALCALDIA MUNICIPAL DE SUTATAUSA
A9: NOMBRE DEL PROYECTO | F9: OBJETO: MEJORAMIENTO DE LAS VIAS RURALES DE LAS VEREDAS PEÑAS DE CAJON SECTOR LA CABECERA, VEREDA PALACIO SECTOR EL TENDIDO, VEREDA CHIPAQUIN SECTOR CHIPAQUIN, VEREDA OJO DE AGUA SECTOR LA ESCUELA, VEREDA NOVOA SECTOR LA Y, VEREDA SANTA BARBARA SECTOR LA QUINTA, VEREDA PALACIO SECTOR ENTREPIEDRA Y VEREDA PEDREGAL SECTOR TRES ESQUINAS DEL MUNICIPIO DE SUTATAUSA CUNDINAMARCA
A11: LÍNEA ESTRATÉGICA | B11: PROGRAMA | C11: SUBPROGRAMA | D11: META DE PRODUCTO | E11: OBJETIVO ESPECIFICO | F11: PRODUCTO | G11: Especificacion O Norma Tecnica | H11: Item de Pago | I11: ACTIVIDAD | J11: INSUMO | K11: AÑO 2025
K12: UNIDAD DE MEDIDA | L12: CANTIDAD | M12: V/R UNITARIO ($) | N12: V/R TOTAL ($)
A13: 2. + COMPETITIVIDAD | B13: Rutas para el progreso | C13: Vías motor del desarrollo | D13: Construir un millón de m2 de placa huella. | E13: Deterioro de la superficie de rodadura. | F13: Placa huella construida | I13: PRELIMINARES, EXCAVACIONES, RELLENOS
G14: ICCU | H14: 1 | I14: CONFORMACIÓN DE LA CALZADA EXISTENTE | J14: Maquinaria y equipo | K14: M2 | L14: ='MEMORIAS PROYECTO'!M23 -> 844.2 | M14: 1159 | N14: =+ROUND(M14*L14,2) -> 978427.8 | O14: =N14*1.35 -> 1320877.5
G15: ICCU | H15: 2 | I15: SUB BASE GRANULAR | J15: Materiales | K15: M3 | L15: ='MEMORIAS PROYECTO'!M66 -> 126.63 | M15: 145792 | N15: =+ROUND(M15*L15,2) -> 18461641 | O15: =N15*1.35 -> 24923215
G16: ICCU | H16: 3 | I16: EXCAVACIONES VARIAS EN MATERIAL COMÚN SECO A MANO (INCLUYE RETIRO DE SOBRANTES A UNA DISTANCIA MENOR DE 5 KM) | J16: Mano de obra no calificada | K16: M3 | L16: ='MEMORIAS PROYECTO'!M118 -> 19.413 | M16: 65346 | N16: =+ROUND(M16*L16,2) -> 1268561.9 | O16: =N16*1.35 -> 1712558.6
I17: SUBTOTAL | N17: =SUBTOTAL(9,N14:N16) -> 20708631
I18: CONCRETOS
G19: ICCU | H19: 4 | I19: CONCRETOS CLASE D, f´c =3000 psi (placas) | J19: Materiales | K19: M3 | L19: ='MEMORIAS PROYECTO'!M183 -> 59.3595 | M19: 981966 | N19: =+M19*L19 -> 58289011
G20: ICCU | H20: 5 | I20: CONCRETO CICLÓPEO CLASE G, 2000 PSI 40% RAJÓN PARA BASES | J20: Materiales | K20: M3 | L20: ='MEMORIAS PROYECTO'!M246 -> 25.3935 | M20: 504410 | N20: =+M20*L20 -> 12808735
G21: ICCU | H21: 6 | I21: CONCRETO CLASE E, 2500 PSI PARA BASES | J21: Materiales | K21: M3 | L21: ='MEMORIAS PROYECTO'!M297 -> 50.49 | M21: 673538 | N21: =+M21*L21 -> 34006934 | R21: SST
G22: ICCU | H22: 7 | I22: SUMINISTRO FIGURADO Y ARMADO DE ACERO DE REFUERZO 60000 PSI | J22: Materiales | K22: KG | L22: ='MEMORIAS PROYECTO'!M373 -> 6360.2955 | M22: 8165 | N22: =+M22*L22 -> 51931813 | O22: =N22*1.35 -> 70107947
I23: SUBTOTAL | N23: =SUBTOTAL(9,N19:N22) -> 1.5703649e+08
A26: VALOR COSTO DIRECTO | N26: =ROUND((SUBTOTAL(9,N14:N23)),0) -> 177745123
A27: AIU | M27: 0.355 | N27: =ROUND(N26*M27,0) -> 63099519
A28: VALOR TOTAL OBRA CIVIL | N28: =SUM(N26:N27) -> 240844642 | O28: =N28-#REF! -> #REF!
A30: PRESUPUESTO ELABORADO POR:
H38: ING. NESTOR MARQUEZ CARRILLO
H39: Secretario de Planeación e infraestructura
H40: INGENIERO CIVIL

Sheet PPTO CHIPAQUIN
F1: DIRECCIONAMIENTO ESTRATÉGICO Y ARTICULACIÓN GERENCIAL
F4: PRESUPUESTO PARA PROYECTOS DE INVERSIÓN
I7: FECHA ELABORACIÓN PRESUPUESTO: 22/05/2025
A8: ENTIDAD | F8: ALCALDIA MUNICIPAL DE SUTATAUSA
A9: NOMBRE DEL PROYECTO | F9: OBJETO: MEJORAMIENTO DE LAS VIAS RURALES DE LAS VEREDAS PEÑAS DE CAJON SECTOR LA CABECERA, VEREDA PALACIO SECTOR EL TENDIDO, VEREDA CHIPAQUIN SECTOR CHIPAQUIN, VEREDA OJO DE AGUA SECTOR LA ESCUELA, VEREDA NOVOA SECTOR LA Y, VEREDA SANTA BARBARA SECTOR LA QUINTA, VEREDA PALACIO SECTOR ENTREPIEDRA Y VEREDA PEDREGAL SECTOR TRES ESQUINAS DEL MUNICIPIO DE SUTATAUSA CUNDINAMARCA
A11: LÍNEA ESTRATÉGICA | B11: PROGRAMA | C11: SUBPROGRAMA | D11: META DE PRODUCTO | E11: OBJETIVO ESPECIFICO | F11: PRODUCTO | G11: Especificacion O Norma Tecnica | H11: Item de Pago | I11: ACTIVIDAD | J11: INSUMO | K11: AÑO 2025
K12: UNIDAD DE MEDIDA | L12: CANTIDAD | M12: V/R UNITARIO ($) | N12: V/R TOTAL ($)
A13: 2. + COMPETITIVIDAD | B13: Rutas para el progreso | C13: Vías motor del desarrollo | D13: Construir un millón de m2 de placa huella. | E13: Deterioro de la superficie de rodadura. | F13: Placa huella construida | I13: PRELIMINARES, EXCAVACIONES, RELLENOS
G14: ICCU | H14: 1 | I14: CONFORMACIÓN DE LA CALZADA EXISTENTE | J14: Maquinaria y equipo | K14: M2 | L14: ='MEMORIAS PROYECTO'!M21 -> 982.8 | M14: 1159 | N14: =+ROUND(M14*L14,2) -> 1139065.2 | O14: =N14*1.35 -> 1537738
G15: ICCU | H15: 2 | I15: SUB BASE GRANULAR | J15: Materiales | K15: M3 | L15: ='MEMORIAS PROYECTO'!M64 -> 147.42 | M15: 145792 | N15: =+ROUND(M15*L15,2) -> 21492657 | O15: =N15*1.35 -> 29015086
G16: ICCU | H16: 3 | I16: EXCAVACIONES VARIAS EN MATERIAL COMÚN SECO A MANO (INCLUYE RETIRO DE SOBRANTES A UNA DISTANCIA MENOR DE 5 KM) | J16: Mano de obra no calificada | K16: M3 | L16: ='MEMORIAS PROYECTO'!M114 -> 22.5585 | M16: 65346 | N16: =+ROUND(M16*L16,2) -> 1474107.7 | O16: =N16*1.35 -> 1990045.4
I17: SUBTOTAL | N17: =SUBTOTAL(9,N14:N16) -> 24105830
I18: CONCRETOS
G19: ICCU | H19: 4 | I19: CONCRETOS CLASE D, f´c =3000 psi (placas) | J19: Materiales | K19: M3 | L19: ='MEMORIAS PROYECTO'!M179 -> 68.93775 | M19: 981966 | N19: =+M19*L19 -> 67694527
G20: ICCU | H20: 5 | I20: CONCRETO CICLÓPEO CLASE G, 2000 PSI 40% RAJÓN PARA BASES | J20: Materiales | K20: M3 | L20: ='MEMORIAS PROYECTO'!M244 -> 29.62575 | M20: 504410 | N20: =+M20*L20 -> 14943525
G21: ICCU | H21: 6 | I21: CONCRETO CLASE E, 2500 PSI PARA BASES | J21: Materiales | K21: M3 | L21: ='MEMORIAS PROYECTO'!M294 -> 58.905 | M21: 673538 | N21: =+M21*L21 -> 39674756 | R21: SST
G22: ICCU | H22: 7 | I22: SUMINISTRO FIGURADO Y ARMADO DE ACERO DE REFUERZO 60000 PSI | J22: Materiales | K22: KG | L22: ='MEMORIAS PROYECTO'!M364 -> 7397.5924 | M22: 8165 | N22: =+M22*L22 -> 60401342 | O22: =N22*1.35 -> 81541812
I23: SUBTOTAL | N23: =SUBTOTAL(9,N19:N22) -> 1.8271415e+08
A26: VALOR COSTO DIRECTO | N26: =ROUND((SUBTOTAL(9,N14:N23)),0) -> 206819979
A27: AIU | M27: 0.355 | N27: =ROUND(N26*M27,0) -> 73421093
A28: VALOR TOTAL OBRA CIVIL | N28: =SUM(N26:N27) -> 280241072 | O28: =N28-#REF! -> #REF!
A30: PRESUPUESTO ELABORADO POR:
H38: ING. NESTOR MARQUEZ CARRILLO
H39: Secretario de Planeación e infraestructura
H40: INGENIERO CIVIL

Sheet PPTO PALACIO SECTOR TENDIDO
F1: DIRECCIONAMIENTO ESTRATÉGICO Y ARTICULACIÓN GERENCIAL
F4: PRESUPUESTO PARA PROYECTOS DE INVERSIÓN
I7: FECHA ELABORACIÓN PRESUPUESTO: 22/05/2025
A8: ENTIDAD | F8: ALCALDIA MUNICIPAL DE SUTATAUSA
A9: NOMBRE DEL PROYECTO | F9: OBJETO: MEJORAMIENTO DE LAS VIAS RURALES DE LAS VEREDAS PEÑAS DE CAJON SECTOR LA CABECERA, VEREDA PALACIO SECTOR EL TENDIDO, VEREDA CHIPAQUIN SECTOR CHIPAQUIN, VEREDA OJO DE AGUA SECTOR LA ESCUELA, VEREDA NOVOA SECTOR LA Y, VEREDA SANTA BARBARA SECTOR LA QUINTA, VEREDA PALACIO SECTOR ENTREPIEDRA Y VEREDA PEDREGAL SECTOR TRES ESQUINAS DEL MUNICIPIO DE SUTATAUSA CUNDINAMARCA
A11: LÍNEA ESTRATÉGICA | B11: PROGRAMA | C11: SUBPROGRAMA | D11: META DE PRODUCTO | E11: OBJETIVO ESPECIFICO | F11: PRODUCTO | G11: Especificacion O Norma Tecnica | H11: Item de Pago | I11: ACTIVIDAD | J11: INSUMO | K11: AÑO 2025
K12: UNIDAD DE MEDIDA | L12: CANTIDAD | M12: V/R UNITARIO ($) | N12: V/R TOTAL ($)
A13: 2. + COMPETITIVIDAD | B13: Rutas para el progreso | C13: Vías motor del desarrollo | D13: Construir un millón de m2 de placa huella. | E13: Deterioro de la superficie de rodadura. | F13: Placa huella construida | I13: PRELIMINARES, EXCAVACIONES, RELLENOS
G14: ICCU | H14: 1 | I14: CONFORMACIÓN DE LA CALZADA EXISTENTE | J14: Maquinaria y equipo | K14: M2 | L14: ='MEMORIAS PROYECTO'!M19 -> 1425 | M14: 1159 | N14: =+ROUND(M14*L14,2) -> 1651575 | O14: =N14*1.35 -> 2229626.2
G15: ICCU | H15: 2 | I15: SUB BASE GRANULAR | J15: Materiales | K15: M3 | L15: ='MEMORIAS PROYECTO'!M62 -> 213.75 | M15: 145792 | N15: =+ROUND(M15*L15,2) -> 31163040 | O15: =N15*1.35 -> 42070104
G16: ICCU | H16: 3 | I16: EXCAVACIONES VARIAS EN MATERIAL COMÚN SECO A MANO (INCLUYE RETIRO DE SOBRANTES A UNA DISTANCIA MENOR DE 5 KM) | J16: Mano de obra no calificada | K16: M3 | L16: ='MEMORIAS PROYECTO'!M110 -> 26.0475 | M16: 65346 | N16: =+ROUND(M16*L16,2) -> 1702099.9 | O16: =N16*1.35 -> 2297834.9
I17: SUBTOTAL | N17: =SUBTOTAL(9,N14:N16) -> 34516715
I18: CONCRETOS
G19: ICCU | H19: 4 | I19: CONCRETOS CLASE D, f´c =3000 psi (placas) | J19: Materiales | K19: M3 | L19: ='MEMORIAS PROYECTO'!M175 -> 88.53375 | M19: 981966 | N19: =+M19*L19 -> 86937132
G20: ICCU | H20: 5 | I20: CONCRETO CICLÓPEO CLASE G, 2000 PSI 40% RAJÓN PARA BASES | J20: Materiales | K20: M3 | L20: ='MEMORIAS PROYECTO'!M241 -> 77.16375 | M20: 504410 | N20: =+M20*L20 -> 38922167
G21: ICCU | H21: 6 | I21: CONCRETO CLASE E, 2500 PSI PARA BASES | J21: Materiales | K21: M3 | L21: ='MEMORIAS PROYECTO'!M291 -> 64.125 | M21: 673538 | N21: =+M21*L21 -> 43190624 | R21: SST
G22: ICCU | H22: 7 | I22: SUMINISTRO FIGURADO Y ARMADO DE ACERO DE REFUERZO 60000 PSI | J22: Materiales | K22: KG | L22: ='MEMORIAS PROYECTO'!M355 -> 9306.07 | M22: 8165 | N22: =+M22*L22 -> 75984062 | O22: =N22*1.35 -> 1.0257848e+08
I23: SUBTOTAL | N23: =SUBTOTAL(9,N19:N22) -> 2.4503399e+08
A26: VALOR COSTO DIRECTO | N26: =ROUND((SUBTOTAL(9,N14:N23)),0) -> 279550700
A27: AIU | M27: 0.355 | N27: =ROUND(N26*M27,0) -> 99240499
A28: VALOR TOTAL OBRA CIVIL | N28: =SUM(N26:N27) -> 378791199 | O28: =N28-#REF! -> #REF!
A30: PRESUPUESTO ELABORADO POR:
H38: ING. NESTOR MARQUEZ CARRILLO
H39: Secretario de Planeación e infraestructura
H40: INGENIERO CIVIL

Sheet PPTO PEÑAS DE CAJON
F1: DIRECCIONAMIENTO ESTRATÉGICO Y ARTICULACIÓN GERENCIAL
F4: PRESUPUESTO PARA PROYECTOS DE INVERSIÓN
I7: FECHA ELABORACIÓN PRESUPUESTO: 22/05/2025
A8: ENTIDAD | F8: ALCALDIA MUNICIPAL DE SUTATAUSA
A9: NOMBRE DEL PROYECTO | F9: OBJETO: MEJORAMIENTO DE LAS VIAS RURALES DE LAS VEREDAS PEÑAS DE CAJON SECTOR LA CABECERA, VEREDA PALACIO SECTOR EL TENDIDO, VEREDA CHIPAQUIN SECTOR CHIPAQUIN, VEREDA OJO DE AGUA SECTOR LA ESCUELA, VEREDA NOVOA SECTOR LA Y, VEREDA SANTA BARBARA SECTOR LA QUINTA, VEREDA PALACIO SECTOR ENTREPIEDRA Y VEREDA PEDREGAL SECTOR TRES ESQUINAS DEL MUNICIPIO DE SUTATAUSA CUNDINAMARCA
A11: LÍNEA ESTRATÉGICA | B11: PROGRAMA | C11: SUBPROGRAMA | D11: META DE PRODUCTO | E11: OBJETIVO ESPECIFICO | F11: PRODUCTO | G11: Especificacion O Norma Tecnica | H11: Item de Pago | I11: ACTIVIDAD | J11: INSUMO | K11: AÑO 2025
K12: UNIDAD DE MEDIDA | L12: CANTIDAD | M12: V/R UNITARIO ($) | N12: V/R TOTAL ($)
A13: 2. + COMPETITIVIDAD | B13: Rutas para el progreso | C13: Vías motor del desarrollo | D13: Construir un millón de m2 de placa huella. | E13: Deterioro de la superficie de rodadura. | F13: Placa huella construida | I13: PRELIMINARES, EXCAVACIONES, RELLENOS
G14: ICCU | H14: 1 | I14: CONFORMACIÓN DE LA CALZADA EXISTENTE | J14: Maquinaria y equipo | K14: M2 | L14: ='MEMORIAS PROYECTO'!M17 -> 1170 | M14: 1159 | N14: =+ROUND(M14*L14,2) -> 1356030 | O14: =N14*1.35 -> 1830640.5
G15: ICCU | H15: 2 | I15: SUB BASE GRANULAR | J15: Materiales | K15: M3 | L15: ='MEMORIAS PROYECTO'!M60 -> 175.5 | M15: 145792 | N15: =+ROUND(M15*L15,2) -> 25586496 | O15: =N15*1.35 -> 34541770
G16: ICCU | H16: 3 | I16: EXCAVACIONES VARIAS EN MATERIAL COMÚN SECO A MANO (INCLUYE RETIRO DE SOBRANTES A UNA DISTANCIA MENOR DE 5 KM) | J16: Mano de obra no calificada | K16: M3 | L16: ='MEMORIAS PROYECTO'!M106 -> 21.7335 | M16: 65346 | N16: =+ROUND(M16*L16,2) -> 1420197.3 | O16: =N16*1.35 -> 1917266.3
I17: SUBTOTAL | N17: =SUBTOTAL(9,N14:N16) -> 28362723
I18: CONCRETOS
G19: ICCU | H19: 4 | I19: CONCRETOS CLASE D, f´c =3000 psi (placas) | J19: Materiales | K19: M3 | L19: ='MEMORIAS PROYECTO'!M171 -> 72.474 | M19: 981966 | N19: =+M19*L19 -> 71167004
G20: ICCU | H20: 5 | I20: CONCRETO CICLÓPEO CLASE G, 2000 PSI 40% RAJÓN PARA BASES | J20: Materiales | K20: M3 | L20: ='MEMORIAS PROYECTO'!M238 -> 62.54325 | M20: 504410 | N20: =+M20*L20 -> 31547441
G21: ICCU | H21: 6 | I21: CONCRETO CLASE E, 2500 PSI PARA BASES | J21: Materiales | K21: M3 | L21: ='MEMORIAS PROYECTO'!M288 -> 51.975 | M21: 673538 | N21: =+M21*L21 -> 35007138 | R21: SST
G22: ICCU | H22: 7 | I22: SUMINISTRO FIGURADO Y ARMADO DE ACERO DE REFUERZO 60000 PSI | J22: Materiales | K22: KG | L22: ='MEMORIAS PROYECTO'!M346 -> 7485.1584 | M22: 8165 | N22: =+M22*L22 -> 61116318 | O22: =N22*1.35 -> 82507030
I23: SUBTOTAL | N23: =SUBTOTAL(9,N19:N22) -> 1.988379e+08
A26: VALOR COSTO DIRECTO | N26: =ROUND((SUBTOTAL(9,N14:N23)),0) -> 227200624
A27: AIU | M27: 0.355 | N27: =ROUND(N26*M27,0) -> 80656222
A28: VALOR TOTAL OBRA CIVIL | N28: =SUM(N26:N27) -> 307856846 | O28: =N28-#REF! -> #REF!
A30: PRESUPUESTO ELABORADO POR:
H38: ING. NESTOR MARQUEZ CARRILLO
H39: Secretario de Planeación e infraestructura
H40: INGENIERO CIVIL

Sheet PRESUPUESTO SST
A3: PRESUPUESTO DEL SISTEMA DE SEGURIDAD Y SALUD EN EL TRABAJO
A4: CATEGORIA | B4: ITEM | C4: ACTIVIDADES | D4: CANTIDAD/MES | E4: V/UNITARIO | F4: V/TOTAL MES | G4: CANTIDAD/MENSUAL | H4: V/UNITARIO | I4: V/TOTAL ANUAL | J4: OBSERVACIONES
A7: 1. DIVULGACIÓN -CONSCIENTIZACIÓN - MOTIVACIÓN (Polìticas, Procedimientos, Manuales, Instructivos, Guìas, Campañas de prevenciòn y promoción, campaña soy capaz, entre otros) | B7: 1 | C7: Carteleras informativas: Impresiones "Motivación-Información" | D7: 78 | E7: 500 | F7: =D7*E7 -> 39000 | G7: 8 | H7: 300 | I7: =D7*E7*G7 -> 312000 | J7: Impresiones hojas a color: 300
B8: 2 | C8: Plegables, volantes, folletos | D8: 144 | E8: 500 | F8: =D8*E8 -> 72000 | G8: 8 | H8: 300 | I8: =D8*E8*G8 -> 576000 | J8: Impresiones hojas a color: 300
B9: 3 | C9: Papeleria "Documentación SST- Formatos" | D9: 36 | E9: 100 | F9: =D9*E9 -> 3600 | G9: 8 | H9: 100 | I9: =D9*E9*G9 -> 28800 | J9: Impresiones hojas blanco y negro:100
A10: 2. INDUCCIÓN Y REINDUCCIÓN EN SST | B10: 1 | C10: Papeleria (impresiones)para actividades de formación , socializaciones y capacitaciones | D10: 144 | E10: 300 | F10: =D10*E10 -> 43200 | G10: 8 | H10: 300 | I10: =D10*E10*G10 -> 345600 | J10: Impresiones hojas a color: 300 Impresiones hojas blanco y negro:100
A11: 3. SEÑALIZACIÓN | C11: Bolsillo de laminación * 100 spirat | D11: 20 | E11: 2000 | F11: =D11*E11 -> 40000 | G11: 8 | H11: 2000 | I11: =D11*E11*G11 -> 320000 | J11: Papel para laminadora
A12: 4. EPSO L220 | C12: Tinta para impresora Epson l220 a color | D12: 4 | E12: 14000 | F12: =D12*E12 -> 56000 | G12: 8 | H12: 14000 | I12: =D12*E12*G12 -> 448000
A13: 4. CONVIVENCIA | B13: 1 | C13: Buzones de sugerencias | D13: ….. | E13: ….. | F13: ….. | G13: 8 | H13: 30000 | I13: =G13*H13 -> 240000
A14: 5.PLAN DE E3MERGENCIA | D14: 1 | E14: 15200 | F14: =D14*E14 -> 15200 | G14: 8 | H14: 15200 | I14: =D14*E14*G14 -> 121600
A15: SUBTOTAL | I15: =SUM(I7:I14) -> 2392000
A16: 5. RECURSOS | B16: 1 | C16: Reparaciones estructurales y cubiertas | D16: ….. | E16: ….. | F16: …… | G16: ….. | H16: ….. | I16: …..
A17: 6. SUBPROGRAMA DE MEDICINA PREVENTIVA Y DEL TRABAJO (evaluaciones medicas) | B17: 1 | C17: EXÁMENES MÉDICOS DE INGRESO, PERIODICO Y DE RETIRO POR CARGOS:
B18: * | C18: Gerente y departamento de calidad: examen m.o con énfasis osteomuscular y visiometría. | D18: ….. | E18: ….. | F18: ….. | G18: 2 | H18: 20,000 13,000 | I18: 66000 | J18: Realización Por el trabajo
B19: * | C19: Personal administrativo y coordinadores de campo: examen m.o con énfasis osteomuscular y visiometría. | D19: ….. | E19: ….. | F19: ….. | G19: 2 | H19: 20,000 13,000 | I19: 528000
B20: * | C20: Personal de servicios generales: examen m.o con énfasis osteomuscular, visiometría, | D20: ….. | E20: ….. | F20: ….. | G20: 1 | H20: 20,000 13,000 6,000 6,000 6,000 | I20: 204000
B21: * | C21: Conductores: examen m.o con énfasis osteomuscular, visiometría, audiometría, Glicemia, Perfil lipídico. | D21: ….. | E21: ….. | F21: ….. | G21: 1 | H21: 20,000 13,000 13,000 6,000 21,000 | I21: 584000
A22: SUBTOTAL: | I22: =SUM(I18:I21) -> 1382000
A23: 7. PROGRAMA DE ELEMENTOS DE PROTECCIÓN PERSONAL | B23: 1 | C23: DOTACIONES PERSONAL OPERATIVO - EPP:
B24: * | C24: Guantes de caucho | D24: 36 | E24: 4000 | F24: =D24*E24 -> 144000 | G24: 1 | H24: 4000 | I24: =D24*G24*H24 -> 144000
B25: * | C25: Gafas de seguridad lentes oscuros y claro | D25: 14 | E25: 4800 | F25: =D25*E25 -> 67200 | G25: 2 | H25: 4800 | I25: =D25*E25*G25 -> 134400
B26: * | C26: Impermeable 2 piezas y Tipo Carpa En Pvc Medidas De 1.90cm | D26: 14 | E26: 210000 | F26: =D26*E26 -> 2940000 | G26: 2 | H26: 190000 | I26: =D26*E26*G26 -> 5880000
A28: SUBTOTAL: | I28: =SUM(I24:I26) -> 6158400
A29: 9. PROGRAMA DE VIGILANCIA EPIDEMIOLOGICA PVE | B29: 1 | C29: vacunación | D29: 144 | E29: …… | F29: …… | G29: 144 | H29: ….. | I29: …… | J29: Anual
A31: SUBTOTAL: $ 0
A32: 10. PLANES DE EMERGENCIA | B32: 1 | C32: Extintor Multiproposito 20 lb | D32: 2 | E32: 80000 | F32: =D32*E32 -> 160000 | G32: 1 | H32: 80000 | I32: =D32*E32*G32 -> 160000
B33: 2 | C33: Recarga extintores | D33: 2 | E33: 30000 | F33: =D33*E33 -> 60000 | G33: 1 | H33: 30000 | I33: =D33*E33*G33 -> 60000
B34: 3 | C34: Señalización | D34: 20 | E34: 25000 | F34: =D34*E34 -> 500000 | G34: 1 | H34: 25000 | I34: =D34*E34*G34 -> 500000
B35: 4 | C35: BOTIQUIN , | D35: 1 | E35: 400000 | F35: =D35*E35 -> 400000 | G35: 1 | H35: 400000 | I35: =D35*E35*G35 -> 400000
B36: 5 | C36: CAMILLA DE PRIMEROS AUXILIOS | D36: 1 | E36: 550000 | F36: =D36*E36 -> 550000 | G36: 1 | H36: 550000 | I36: =D36*E36*G36 -> 550000
B37: 8 | C37: QUIT DE EMERGENCIA | D37: 2 | E37: 15000 | F37: =D37*E37 -> 30000 | G37: 1 | H37: 15000 | I37: =D37*E37*G37 -> 30000
A40: SUBTOTAL | I40: =SUM(I32:I37) -> 1700000
A41: 11. EQUIPO DE PRIMEROS AUXILIOS
B42: 1 | C42: ELEMENTOS PARA BOTIQUÍN:
B43: * | C43: Gasas esteriles | D43: …… | E43: …… | F43: …… | G43: 10 | H43: 36000 | I43: 360000 | J43: Caja*100
B44: * | C44: Rollo de micropore | D44: …… | E44: …… | F44: …… | G44: 10 | H44: 5000 | I44: 50000
B45: * | C45: Vendas elasticas 5x5 | D45: …… | E45: …… | F45: …… | G45: 10 | H45: 3800 | I45: 38000
B46: * | C46: Vendas fijas 5x5 | D46: …… | E46: …… | F46: …… | G46: 10 | H46: 4500 | I46: 45000
B47: * | C47: Paquete baja lengua | D47: …… | E47: …… | F47: …… | G47: 10 | H47: 1800 | I47: 18000
B48: * | C48: Caja de curas | D48: …… | E48: …… | F48: …… | G48: 10 | H48: 5500 | I48: 55000 | J48: Caja*100
...

Sheet PPTO
A8: ENTIDAD
A9: NOMBRE DEL PROYECTO | F9: OBJETO: MEJORAMIENTO DE LAS VIAS RURALES DE LAS VEREDAS PEÑAS DE CAJON SECTOR LA CABECERA, VEREDA PALACIO SECTOR EL TENDIDO, VEREDA CHIPAQUIN SECTOR CHIPAQUIN, VEREDA OJO DE AGUA SECTOR LA ESCUELA, VEREDA NOVOA SECTOR LA Y, VEREDA SANTA BARBARA SECTOR LA QUINTA, VEREDA PALACIO SECTOR ENTREPIEDRA Y VEREDA PEDREGAL SECTOR TRES ESQUINAS DEL MUNICIPIO DE SUTATAUSA CUNDINAMARCA
A11: LÍNEA ESTRATÉGICA | B11: PROGRAMA | C11: SUBPROGRAMA | D11: META DE PRODUCTO | E11: OBJETIVO ESPECIFICO | F11: PRODUCTO | G11: Especificacion O Norma Tecnica | H11: Item de Pago | I11: ACTIVIDAD | J11: INSUMO | K11: AÑO 2025
K12: UNIDAD DE MEDIDA | L12: CANTIDAD | M12: V/R UNITARIO ($) | N12: V/R TOTAL ($)
A13: 2. + COMPETITIVIDAD | B13: Rutas para el progreso | C13: Vías motor del desarrollo | D13: Construir un millón de m2 de placa huella. | E13: Deterioro de la superficie de rodadura. | F13: Placa huella construida | I13: PRELIMINARES, EXCAVACIONES, RELLENOS
G14: ICCU | H14: 1 | I14: CONFORMACIÓN DE LA CALZADA EXISTENTE | J14: Maquinaria y equipo | K14: M2 | L14: ='MEMORIAS PROYECTO'!M38 -> 9807.4 | M14: 1159 | N14: =+ROUND(M14*L14,2) -> 11366777 | O14: =N14*1.35 -> 15345148
G15: ICCU | H15: 2 | I15: SUB BASE GRANULAR | J15: Materiales | K15: M3 | L15: ='MEMORIAS PROYECTO'!M81 -> 1474.89 | M15: 145792 | N15: =+ROUND(M15*L15,2) -> 2.1502716e+08 | O15: =N15*1.35 -> 2.9028667e+08
G16: ICCU | H16: 3 | I16: EXCAVACIONES VARIAS EN MATERIAL COMÚN SECO A MANO (INCLUYE RETIRO DE SOBRANTES A UNA DISTANCIA MENOR DE 5 KM) | J16: Mano de obra no calificada | K16: M3 | L16: ='MEMORIAS PROYECTO'!M150 -> 203.9815 | M16: 65346 | N16: =+ROUND(M16*L16,2) -> 13329375 | O16: =N16*1.35 -> 17994656
I17: SUBTOTAL | N17: =SUBTOTAL(9,N14:N16) -> 2.3972331e+08
I18: CONCRETOS
G19: ICCU | H19: 4 | I19: CONCRETOS CLASE D, f´c =3000 psi (placas) | J19: Materiales | K19: M3 | L19: ='MEMORIAS PROYECTO'!M214 -> 654.2235 | M19: 981966 | N19: =+M19*L19 -> 6.4242523e+08
G20: ICCU | H20: 5 | I20: CONCRETO CICLÓPEO CLASE G, 2000 PSI 40% RAJÓN PARA BASES | J20: Materiales | K20: M3 | L20: ='MEMORIAS PROYECTO'!M264 -> 419.67675 | M20: 504410 | N20: =+M20*L20 -> 2.1168915e+08
G21: ICCU | H21: 6 | I21: CONCRETO CLASE E, 2500 PSI PARA BASES | J21: Materiales | K21: M3 | L21: ='MEMORIAS PROYECTO'!M324 -> 513.945 | M21: 673538 | N21: =+M21*L21 -> 3.4616149e+08 | R21: SST
G22: ICCU | H22: 7 | I22: SUMINISTRO FIGURADO Y ARMADO DE ACERO DE REFUERZO 60000 PSI | J22: Materiales | K22: KG | L22: ='MEMORIAS PROYECTO'!M442 -> 69257.123 | M22: 8165 | N22: =+M22*L22 -> 5.6548441e+08 | O22: =N22*1.35 -> 7.6340395e+08
I23: SUBTOTAL | N23: =SUBTOTAL(9,N19:N22) -> 1.7657603e+09
A26: VALOR COSTO DIRECTO | N26: =ROUND((SUBTOTAL(9,N14:N23)),0) -> 2005483595
A27: PLAN DE MANEJO DE TRANSITO | K27: 8 | L27: meses | M27: =PMT!J44 -> 4981000 | N27: =K27*M27 -> 39848000
A28: PLAN DE MANEJO DE AMBIENTAL | N28: =PMA!U22 -> 40000000
A29: AIU | M29: 0.355 | N29: =ROUND(N26*M29,0) -> 711946676
A30: CARACTERIZACIÓN VIAL | M30: 10 Km | N30: =10*1250000 -> 12500000
A31: PRESUPUESTO SST | N31: 36820400
A32: INTERVENTORIA | N32: =ROUND((+'Costos interventoría'!J70),0) -> 134038510
A33: VALOR TOTAL OBRA CIVIL | N33: =SUM(N26:N32) -> 2980637181 | O33: =N33-N32 -> 2846598671
A35: PRESUPUESTO ELABORADO POR:

Sheet AIU
A1: DESGLOSE DEL A.I.U.
A3: 45799 | C3: MEJORAMIENTO DE LAS VIAS RURALES DE LAS VEREDAS PEÑAS DE CAJON SECTOR LA CABECERA, VEREDA PALACIO SECTOR EL TENDIDO, VEREDA CHIPAQUIN SECTOR CHIPAQUIN, VEREDA OJO DE AGUA SECTOR LA ESCUELA, VEREDA NOVOA SECTOR LA Y, VEREDA SANTA BARBARA SECTOR LA QUINTA, VEREDA PALACIO SECTOR ENTREPIEDRA Y VEREDA PEDREGAL SECTOR TRES ESQUINAS DEL MUNICIPIO DE SUTATAUSA CUNDINAMARCA
C10: VALOR OBRA CIVIL | D10: =PPTO!N26 -> 2005483595
C11: TERMINO DE EJECUCIÓN DE OBRA ( MESES ) | D11: 8
C12: FACTOR PRESTACIONAL PERSONAL | D12: 0.01647564
A14: A. ADMINISTRACIÓN
A15: CANTIDAD | C15: DESCRIPCION DEL CARGO | D15: DEDICACIÓN MES | E15: SALARIO MENSUAL | F15: FACTOR PRESTACIONAL | G15: PLAZO CONSTRUCCION | H15: CANTIDAD DE PERSONAL / DEDICACION/SALARIO / PLAZO/FACTOR PRESTACIONAL
A16: A | D16: B | E16: C | F16: D | G16: E | H16: F = A * B * C * D * E
A17: 1.1 PERSONAL PROFESIONAL Y ESPECIALISTAS
A18: 1 | C18: Director de Obra | D18: 0.4 | E18: 3200000 | F18: =+(1+'Costos interventoría'!$J$26) -> 1.647564 | G18: 8 | H18: =ROUND(+D18*E18*G18*F18,0) -> 16871055
A19: Funciones: | C19: (Dirigir, coordinar, verificar la ejecución de todas las actividades de obras en los plazos requeridos por el contratante. Esto incluye la coordinación de todas las áreas técnicas, así como las solicitudes provenientes de la parte administrativa, jurídica, legal y social en los que hubiere necesidad de su participación. Producción de informes de acuerdo a las solicitudes de la entidad contratante. Participación en comités. Entrega de productos, y seguimiento del plan de calidad de la empresa). Debe ser un Profesional de la Ingeniería (o Arquitectura), con los conocimientos técnicos mínimos necesarios para velar por la adecuada ejecución de la obra en concordancia con los Planos de Proyecto, con las normas Técnicas de Construcción vigentes, con la Planificación estipulada para la ejecución y, en general, con las condiciones acordadas legalmente con el Contratante de la obra.)
A20: 2 | C20: Ingeniero Residente del proyecto | D20: 1 | E20: 2500000 | F20: =+(1+'Costos interventoría'!$J$26) -> 1.647564 | G20: 8 | H20: =ROUND(+A20*D20*E20*G20*F20,0) -> 65902560
A21: Funciones: | C21: (Planear, coordinar, verificar la correcta ejecución de todas las actividades de obras en los plazos requeridos por el contratante, de acuerdo con lo establecido en los terminos de referencia, dejar constancia de la correcta ejecución de las obras mediante registro fotográfico. Estará bajo la supervisión del Director de Obra. Debe ser un Profesional de la Ingeniería (o Arquitectura), con los conocimientos técnicos mínimos necesarios para velar por la adecuada ejecución de la obra en concordancia con los Planos de Proyecto, con las normas Técnicas de Construcción vigentes, con la Planificación estipulada para la ejecución y, en general, con las condiciones acordadas legalmente con el Contratante de la obra.)
A22: 1.2 PERSONAL ADMINISTRATIVO
A23: 1 | C23: Secretaria | D23: 0.5 | E23: 1500000 | F23: =+(1+'Costos interventoría'!$J$39) -> 1.583164 | G23: 8 | H23: =D23*E23*G23*F23 -> 9498984
A24: 1 | C24: contador | D24: 0.2 | E24: 1500000 | F24: =+(1+'Costos interventoría'!$J$39) -> 1.583164 | G24: 8 | H24: =D24*E24*G24*F24 -> 3799593.6
A25: SUBTOTAL COSTOS DE PERSONAL | H25: =ROUND(SUM(H18:H24),0) -> 96072193
A27: 2. GASTOS OPERACIONALES
A28: OTROS GASTOS
A29: DESCRIPCION | F29: COSTO MES | G29: DURACION MESES | H29: VALOR ($)
A30: Pago servicios Publicos durante la ejecucion del proyecto | F30: 160000 | G30: 8 | H30: =+F30*G30 -> 1280000
A31: Registro Fotografico, Videos, Informes | F31: 160000 | G31: 8 | H31: =+F31*G31 -> 1280000
A32: Registro y elaboracion planos record | F32: 160000 | G32: 8 | H32: =+F32*G32 -> 1280000
A33: Toma de Densidades | D33: 50 | F33: 60000 | G33: 1 | H33: =G33*F33*D33 -> 3000000
A34: Rotura de Cilindros | D34: 180 | F34: 35000 | G34: 1 | H34: =G34*F34*D34 -> 6300000
A35: Alquiler oficina | F35: 198000 | G35: 8 | H35: =+F35*G35 -> 1584000
A36: Valla Informativa tipo invias 2mx5m | F36: 3500000 | G36: 1 | H36: =+F36*G36 -> 3500000
A37: SUBTOTAL GASTOS OPERACIONALES MENSUALES | H37: =ROUND(SUM(H28:H36),0) -> 18224000
A39: TOTAL COSTOS PERSONAL + GASTOS OPERACIONALES POR EL TÉRMINO DE EJECUCIÓN | H39: =((H25+H37)) -> 114296193
A40: TOTAL COSTOS PERSONAL + GASTOS OPERACIONALES POR EL TÉRMINO DE EJECUCIÓN EN PORCENTAJE DEL COSTO DIRECTO | H40: =+H39/$D$10 -> 0.056991836
A43: 3. IMPUESTOS Y GARANTÍAS
A44: 3.1 IMPUESTOS
A45: DESCRIPCIÓN | F45: VR. BASE | G45: IMPUESTO % | H45: VALOR ($)
A46: ESTAMPILLA PRO-CULTURA | F46: =+PPTO!$N$33-PPTO!$N$32 -> 2846598671 | G46: 0.02 | H46: =F46*G46 -> 56931973
A47: ESTAMPILLA PRO-DEPORTE | F47: =+PPTO!$N$33-PPTO!$N$32 -> 2846598671 | G47: 0.025 | H47: =F47*G47 -> 71164967
A48: ESTAMPILLA ADULTO MAYOR | F48: =+PPTO!$N$33-PPTO!$N$32 -> 2846598671 | G48: 0.04 | H48: =F48*G48 -> 1.1386395e+08
A49: ESTAMPILLA PRO FAMILIAR | F49: =+PPTO!$N$33-PPTO!$N$32 -> 2846598671 | G49: 0.02 | H49: =F49*G49 -> 56931973
A50: IMPUESTO DE SEGURIDAD | F50: =+PPTO!$N$33-PPTO!$N$32 -> 2846598671 | G50: 0.05 | H50: =F50*G50 -> 1.4232993e+08
A51: SUBTOTAL IMPUESTOS | H51: =ROUND(SUM(H46:H50),0) -> 441222794
A52: 3.2 GARANTIAS
...

Sheet Costos interventoría
B2: 22/05/2025 | D2: MEJORAMIENTO DE LAS VIAS RURALES DE LAS VEREDAS PEÑAS DE CAJON SECTOR LA CABECERA, VEREDA PALACIO SECTOR EL TENDIDO, VEREDA CHIPAQUIN SECTOR CHIPAQUIN, VEREDA OJO DE AGUA SECTOR LA ESCUELA, VEREDA NOVOA SECTOR LA Y, VEREDA SANTA BARBARA SECTOR LA QUINTA, VEREDA PALACIO SECTOR ENTREPIEDRA Y VEREDA PEDREGAL SECTOR TRES ESQUINAS DEL MUNICIPIO DE SUTATAUSA CUNDINAMARCA
B6: CÁLCULO DETALLADO DEL VALOR DE LA INTERVENTORÍA
B7: INTERVENTORÍA TÉCNICA, ADMINISTRATIVA Y FINANCIERA PARA EL MEJORAMIENTO DE LAS VIAS RURALES DE LAS VEREDAS PEÑAS DE CAJON SECTOR LA CABECERA, VEREDA PALACIO SECTOR EL TENDIDO, VEREDA CHIPAQUIN SECTOR CHIPAQUIN, VEREDA OJO DE AGUA SECTOR LA ESCUELA, VEREDA NOVOA SECTOR LA Y, VEREDA SANTA BARBARA SECTOR LA QUINTA, VEREDA PALACIO SECTOR ENTREPIEDRA Y VEREDA PEDREGAL SECTOR TRES ESQUINAS DEL MUNICIPIO DE SUTATAUSA CUNDINAMARCA
B8: N° | C8: CONCEPTO | D8: A | E8: B | F8: C | G8: D | H8: E | I8: F | J8: G
D9: SUELDO MES BÁSICO | E9: CANTIDAD | F9: % DE DEDICACIÓN | G9: VALOR MES (A * B * C) | H9: N° DE MESES | I9: TOTAL PARCIAL (D * E) | J9: TOTAL PERSONAL X FACTOR MULTIPLICADOR
B10: 1 | C10: PERSONAL
B11: 1.1 | C11: PERSONAL DE SUPERVISIÓN
B12: 1.1.1 | C12: Director de Interventoría (Cat. 2) | D12: =+AIU!E18 -> 3200000 | E12: 1 | F12: 0.5 | G12: =ROUND(D12*E12*F12,0) -> 1600000 | H12: 8 | I12: =ROUND(G12*H12,0) -> 12800000 | J12: =I12*(J24+J26) -> 21088819
B13: 1.1.2 | C13: Ingenieros Residentes de de Interventoría (Cat. 5) | D13: =+AIU!E20 -> 2500000 | E13: 1 | F13: 1 | G13: =ROUND(D13*E13*F13,0) -> 2500000 | H13: 8 | I13: =ROUND(G13*H13,0) -> 20000000 | J13: =I13*(J26+J24) -> 32951280
B14: 1.2 | C14: PERSONAL DE APOYO
B15: 1.2.1 | C15: Contador | D15: =+AIU!E24 -> 1500000 | E15: 1 | F15: 0.3 | G15: =ROUND(D15*E15*F15,0) -> 450000 | H15: 8 | I15: =ROUND(G15*H15,0) -> 3600000 | J15: =I15*(J24+J39) -> 5699390.4
B16: 1.2.3 | C16: Auxiliar de oficina | D16: =+AIU!E23 -> 1500000 | E16: 1 | F16: 0.3 | G16: =ROUND(D16*E16*F16,0) -> 450000 | H16: 8 | I16: =ROUND(G16*H16,0) -> 3600000 | J16: =I16*(J24+J39) -> 5699390.4
B17: 1.2.4 | C17: Asesor Juridico | D17: 4000000 | E17: 1 | F17: 0.4 | G17: =ROUND(D17*E17*F17,0) -> 1600000 | H17: 8 | I17: =ROUND(G17*H17,0) -> 12800000 | J17: =I17*(J24+J39) -> 20264499
H18: SUBTOTAL COSTOS DE PERSONAL | I18: =+SUM(I12:I16) -> 40000000 | J18: =+J16+J15+J13+J12+J17 -> 85703379
B20: CALCULO DEL FACTOR MULTIPLICADOR
B22: OTROS COSTOS DIRECTOS
I23: %
B24: A | C24: NÓMINA BASE DE CÁLCULO | J24: 1
B26: B | C26: PRESTACIONES SOCIALES OBRA | J26: =+SUM(I27:I38) -> 0.647564
C27: Seguridad social SALUD
C28: Seguridad social PENSIÓN | I28: 0.12
C29: Afiliacion a riesgos Laborales | I29: 0.0696
C30: Caja de Compensacion | I30: 0.04
C31: Cesantías | I31: 0.1097
C32: Intereses sobre cesantías | I32: =+I31*0.12 -> 0.013164
C33: Prima anual | I33: 0.0914
C34: Vacaciones | I34: 0.0417
C35: Dotacion | I35: 0.03
C36: FIC | I36: 0.025
C37: Examenes de ingreso, ausencias justificadas, Indemnizaciones, etc. ) | I37: 0.01
C38: Subsidio de Transporte | I38: 0.097
B39: C | C39: PRESTACIONES SOCIALES OFICINA | J39: =+SUM(I40:I51) -> 0.583164
C40: Seguridad social SALUD
C41: Seguridad social PENSIÓN | I41: 0.12
C42: Afiliacion a riesgos Laborales | I42: 0.0052
C43: Caja de Compensacion | I43: 0.04
C44: Cesantías | I44: 0.1097
C45: Intereses sobre cesantías | I45: =+I44*0.12 -> 0.013164
C46: Prima anual | I46: 0.0914
C47: Vacaciones | I47: 0.0417
...

Sheet PMA
A2: REPÚBLICA DE COLOMBIA
A7: OBJETO: MEJORAMIENTO DE LAS VIAS RURALES DE LAS VEREDAS PEÑAS DE CAJON SECTOR LA CABECERA, VEREDA PALACIO SECTOR EL TENDIDO, VEREDA CHIPAQUIN SECTOR CHIPAQUIN, VEREDA OJO DE AGUA SECTOR LA ESCUELA, VEREDA NOVOA SECTOR LA Y, VEREDA SANTA BARBARA SECTOR LA QUINTA, VEREDA PALACIO SECTOR ENTREPIEDRA Y VEREDA PEDREGAL SECTOR TRES ESQUINAS DEL MUNICIPIO DE SUTATAUSA CUNDINAMARCA
A9: PRESUPUESTO OFICIAL DE OBRAS DE MITIGACION AMBIENTAL Y SOCIAL
A10: No. | B10: NOMBRE DEL INSUMO O ITEM | E10: MEDIDA A EJECUTAR | I10: CANTD | J10: UND | K10: V. UNITARIO | L10: CONSTRUCCION | U10: VALOR TOTAL
B11: PROGRAMA | C11: PROYECTO | D11: ACTIVIDAD | E11: CTRL | F11: PREV | G11: MITI | H11: CORR | L11: MES 1 | M11: MES 2 | N11: MES 3 | O11: MES 4 | P11: MES 5 | Q11: MES 6 | R11: MES 7 | S11: MES 8 | T11: TOTAL MESES
A12: 1 | B12: Programa de Manejo de Residuos emisiones y efluentes | D12: Plan de Manejo para escombreras y botaderos | F12: X | G12: X | H12: X | I12: 3 | J12: UND | K12: 4000000 | L12: 0.125 | M12: 0.125 | N12: 0.125 | O12: 0.125 | P12: 0.125 | Q12: 0.125 | R12: 0.125 | S12: 0.125 | T12: 8 | U12: =K12 -> 4000000
D13: control de emisiones gaseosas, material particulado, ruido y vibraciones | E13: X | F13: X | I13: 3 | J13: UND | K13: 4000000 | L13: 0.125 | M13: 0.125 | N13: 0.125 | O13: 0.125 | P13: 0.125 | Q13: 0.125 | R13: 0.125 | S13: 0.125 | T13: 8 | U13: =K13 -> 4000000
D14: control de la gestion de residuos solidos y peligrosos | E14: X | F14: X | I14: 3 | J14: UND | K14: 4000000 | L14: 0.125 | M14: 0.125 | N14: 0.125 | O14: 0.125 | P14: 0.125 | Q14: 0.125 | R14: 0.125 | S14: 0.125 | T14: 8 | U14: =K14 -> 4000000
A15: 2 | B15: Programa de Control Ambiental de la obra | D15: Control de Excavaciones, remocion del suelo y cobertura vegetal | E15: X | F15: X | I15: 3 | J15: UND | K15: 4000000 | L15: 0.125 | M15: 0.125 | N15: 0.125 | O15: 0.125 | P15: 0.125 | Q15: 0.125 | R15: 0.125 | S15: 0.125 | T15: 8 | U15: =K15 -> 4000000
D16: Control del acopio y utilizacion de materiales e insumos | I16: 3 | J16: UND | K16: 4000000 | L16: 0.125 | M16: 0.125 | N16: 0.125 | O16: 0.125 | P16: 0.125 | Q16: 0.125 | R16: 0.125 | S16: 0.125 | T16: 8 | U16: =K16 -> 4000000
D17: brigada de aseo (incluye mano de obra y herramienta menor) | E17: X | F17: X | G17: X | H17: X | I17: 6 | J17: UND | K17: 4000000 | L17: 0.125 | M17: 0.125 | N17: 0.125 | O17: 0.125 | P17: 0.125 | Q17: 0.125 | R17: 0.125 | S17: 0.125 | T17: 8 | U17: =K17 -> 4000000
A18: 3 | B18: Programa de Gestion Ambiental de la Obra | C18: Capacitacion ambiental al personal de la obra | D18: Capacitacion Tecnica, Ambiental, Salud Ocupacional y social | E18: X | F18: X | G18: X | I18: 3 | J18: UND | K18: 4000000 | L18: 0.125 | M18: 0.125 | N18: 0.125 | O18: 0.125 | P18: 0.125 | Q18: 0.125 | R18: 0.125 | S18: 0.125 | T18: 8 | U18: =K18 -> 4000000
A19: 4 | B19: Programa de Gestion Social | C19: proyeto de Atencion a la comunidad | D19: Funcionamiento del SAU | E19: X | I19: 3 | J19: UND | K19: 4000000 | L19: 0.125 | M19: 0.125 | N19: 0.125 | O19: 0.125 | P19: 0.125 | Q19: 0.125 | R19: 0.125 | S19: 0.125 | T19: 8 | U19: =K19 -> 4000000
D20: Manejo de Infraestructura, Predios y servicios Publicos | F20: X | G20: X | I20: 3 | J20: UND | K20: 4000000 | L20: 0.125 | M20: 0.125 | N20: 0.125 | O20: 0.125 | P20: 0.125 | Q20: 0.125 | R20: 0.125 | S20: 0.125 | T20: 8 | U20: =K20 -> 4000000
C21: Proyecto de informacion y divulgacion | D21: Socializaciones | E21: X | F21: X | G21: X | I21: 3 | J21: UND | K21: 4000000 | L21: 0.125 | M21: 0.125 | N21: 0.125 | O21: 0.125 | P21: 0.125 | Q21: 0.125 | R21: 0.125 | S21: 0.125 | T21: 8 | U21: =K21 -> 4000000
A22: COSTO TOTAL AMBIENTAL Y SOCIAL | U22: =SUM(U12:U21) -> 40000000
A23: Nota: Los valores anteriormente presentadoS incluyen un personal ambiental quien ejecutara las anteriores labores.
B29: ING. NESTOR MARQUEZ CARRILLO
B30: Secretario de Planeación e infraestructura
B31: INGENIERO CIVIL

Sheet PMT
B2: PRESPUESTO PMT
B6: OBJETO : | D6: OBJETO: MEJORAMIENTO DE LAS VIAS RURALES DE LAS VEREDAS PEÑAS DE CAJON SECTOR LA CABECERA, VEREDA PALACIO SECTOR EL TENDIDO, VEREDA CHIPAQUIN SECTOR CHIPAQUIN, VEREDA OJO DE AGUA SECTOR LA ESCUELA, VEREDA NOVOA SECTOR LA Y, VEREDA SANTA BARBARA SECTOR LA QUINTA, VEREDA PALACIO SECTOR ENTREPIEDRA Y VEREDA PEDREGAL SECTOR TRES ESQUINAS DEL MUNICIPIO DE SUTATAUSA CUNDINAMARCA
B8: ITEM: | D8: PLAN DE MANEJO DE TRANSITO
I10: UNIDAD: | J10: MES
B11: I. EQUIPO
B12: DESCRIPCIÓN | G12: Tipo | H12: T-Hora | I12: Rend. | J12: V.Unitario
B13: Alquiler de 2 vallas de cerramiento incluye instalacion y retiro | G13: Mes | H13: 300000 | I13: 2 | J13: =H13*I13 -> 600000
B14: Alquiler de 2 señales verticales (desvio y cierres) Inlcuye instalacion y retiro | G14: Mes | H14: 200000 | I14: 2 | J14: =H14*I14 -> 400000
B15: Herramienta Menor | G15: Gl | H15: 300000 | I15: 1 | J15: =H15*I15 -> 300000
I19: SUB-TOTAL | J19: =SUM(J13:J18) -> 1300000
B21: II. MATERIALES EN OBRA
B22: DESCRIPCIÓN | G22: Unidad | H22: P.Unitario | I22: Cantidad | J22: V.Unitario
B23: Tela verde de h=2,1 Mts para senderos peatonales | G23: ML | H23: 2400 | I23: 200 | J23: =I23*H23 -> 480000
B24: Cercos en madera de 2,1 mts para senderos peatonales | G24: Unidad | H24: 10000 | I24: 20 | J24: =I24*H24 -> 200000
J26: =I26*H26 -> 0
I27: SUB-TOTAL | J27: =SUM(J23:J26) -> 680000
B29: III. TRANSPORTE
B30: MATERIAL | F30: V-P ó Cantidad | G30: Distancia | H30: M3-KM | I30: Tarifa | J30: V.Unitario
B31: Transporte de Señales | F31: 1 | H31: 1 | I31: 500 | J31: =I31*F31 -> 500
B32: transporte de tela y cercos | F32: 1 | H32: 1 | I32: 500 | J32: =I32*F32 -> 500
I33: SUB-TOTAL | J33: =J31+J32 -> 1000
B35: IV. MANO DE OBRA
B36: PERSONAL | E36: Cantidad | F36: Jornal | G36: Prest. (80%) | H36: J-Total | I36: Rend. | J36: V.Unitario
B37: 2 paleteros | E37: 1 | F37: 50000 | G37: =F37*80% -> 40000 | H37: =(G37+F37)*E37 -> 90000 | I37: 0.03 | J37: =H37/I37 -> 3000000
I41: SUB-TOTAL | J41: =SUM(J37:J40) -> 3000000
G44: TOTAL COSTO DIRECTO | J44: =J41+J33+J27+J19 -> 4981000
B48: ING. NESTOR MARQUEZ CARRILLO
B49: Secretario de Planeación e infraestructura
B50: INGENIERO CIVIL

Sheet CRONOGRAMA Y FF INTERV (2)
D2: CRONOGRAMA Y FLUJO DE FONDOS INTERVENTORIA
