Workbook

Sheet CUPS $
A1: Producto | B1: Tarifa | C1: Fecha de Inicio | D1: Fecha Final
A2: [10B004] INTERNACION EN SERVICIO COMPLEJIDAD BAJA; HABITACION DE CUATRO CAMAS | B2: SOAT PLENO | C2: 45658 | D2: 46022
A3: [129B01] INTERNACIÓN ADULTOS COMPLEJIDAD BAJA HABITACIÓN INDIVIDUAL | B3: SOAT PLENO | C3: 45658 | D3: 46022
A4: [129B02] INTERNACIÓN ADULTOS COMPLEJIDAD BAJA HABITACION MÚLTIPLE | B4: SOAT PLENO | C4: 45658 | D4: 46022
A5: [130B02] INTERNACIÓN PEDIÁTRICA COMPLEJIDAD BAJA HABITACION MÚLTIPLE | B5: SOAT PLENO | C5: 45658 | D5: 46022
A6: [230101] EXODONCIA DE DIENTE PERMANENTE UNIRRADICULAR | B6: SOAT PLENO | C6: 45658 | D6: 46022
A7: [230102] EXODONCIA DE DIENTE PERMANENTE MULTIRRADICULAR | B7: SOAT PLENO | C7: 45658 | D7: 46022
A8: [230201] EXODONCIA DE DIENTE TEMPORAL UNIRRADICULAR | B8: SOAT PLENO | C8: 45658 | D8: 46022
A9: [232101] OBTURACIÓN DENTAL CON AMALGAMA | B9: SOAT PLENO | C9: 45658 | D9: 46022
A10: [232102] OBTURACIÓN DENTAL CON RESINA DE FOTOCURADO | B10: SOAT PLENO | C10: 45658 | D10: 46022
A11: [232401] RECONSTRUCCION DE ANGULO INCISAL; CON RESINA DE FOTOCURADO | B11: SOAT PLENO | C11: 45658 | D11: 46022
A12: [232402] RECONSTRUCCION TERCIO INCISAL; CON RESINA DE FOTOCURADO | B12: SOAT PLENO | C12: 45658 | D12: 46022
A13: [237301] TERAPIA DE CONDUCTO RADICULAR EN DIENTE UNIRRADICULAR | B13: SOAT PLENO | C13: 45658 | D13: 46022
... A156: [S11103] INTERNACION EN SERVICIO COMPLEJIDAD BAJA; HABITACION TRES CAMAS | B156: SOAT PLENO | C156: 45658 | D156: 46022

Sheet Hoja3

Sheet Hoja1 (2)
A1: No. | B1: TIPO TARIFA | C1: CÓDIGO CUPS | D1: DESCRIPCIÓN PROCEDIMIENTOS CUPS | E1: CÓDIGO SOAT Y/O PROPIO | F1: DESCRIPCIÓN HOMÓLOGO SOAT | G1: REPS | H1: GRUPO Qx / PORCENTAJE | I1: TARIFA 2025 | J1: OBSERVACIÓN | K1: TARIFA 2024 | L1: DIFERENCIA EN PESOS | M1: DIFERENCIA EN PORCENTAJE
A2: 1 | B2: Soat | C2: 10101 | D2: PUNCIÓN CISTERNAL, VÍA LATERAL | E2: 1250 | F2: Punción cisternal | G2: 245 | H2: 4 | I2: 672000 | K2: 637000 | L2: 35000 | M2: 0.054945055
A3: 2 | B3: Soat | C3: 10102 | D3: PUNCIÓN CISTERNAL, VÍA MEDIAL | E3: 1250 | F3: Punción cisternal | G3: 245 | H3: 4 | I3: 672000 | K3: 637000 | L3: 35000 | M3: 0.054945055
A4: 3 | B4: Soat | C4: 10201 | D4: PUNCIÓN (ASPIRACIÓN DE LÍQUIDO) VENTRICULAR A TRAVÉS DE CATÉTER PREVIAMENTE IMPLANTADO | E4: 1251 | F4: Punción ventricular | G4: 245 | H4: 5 | I4: 850800 | K4: 806500 | L4: 44300 | M4: 0.054928704
A5: 4 | B5: Soat | C5: 10202 | D5: PUNCIÓN (ASPIRACIÓN DE LÍQUIDO) VENTRICULAR POR TREPANACIÓN (SIN CATÉTER) | E5: 1251 | F5: Punción ventricular | G5: 245 | H5: 5 | I5: 850800 | K5: 806500 | L5: 44300 | M5: 0.054928704
A6: 5 | B6: Soat | C6: 10203 | D6: PUNCIÓN (ASPIRACIÓN DE LÍQUIDO) VENTRICULAR A TRAVÉS DE UN RESERVORIO | E6: 1251 | F6: Punción ventricular | G6: 245 | H6: 5 | I6: 850800 | K6: 806500 | L6: 44300 | M6: 0.054928704
A7: 6 | B7: Soat | C7: 10204 | D7: PUNCIÓN (ASPIRACIÓN DE LÍQUIDO) VENTRICULAR, VÍA TRANSFONTANELAR | E7: 1251 | F7: Punción ventricular | G7: 245 | H7: 5 | I7: 850800 | K7: 806500 | L7: 44300 | M7: 0.054928704
A8: 7 | B8: Soat | C8: 10205 | D8: PUNCIÓN (ASPIRACIÓN DE LÍQUIDO) VENTRICULAR | E8: 1251 | F8: Punción ventricular | G8: 245 | H8: 5 | I8: 850800 | K8: 806500 | L8: 44300 | M8: 0.054928704
A9: 8 | B9: Soat | C9: 10901 | D9: PUNCIÓN SUBDURAL | E9: 1252 | F9: Punción subdural | G9: 245 | H9: 4 | I9: 672000 | K9: 637000 | L9: 35000 | M9: 0.054945055
A10: 9 | B10: Soat | C10: 10902 | D10: OTRA PUNCIÓN CRANEAL | E10: 1251 | F10: Punción ventricular | G10: 245 | H10: 5 | I10: 850800 | K10: 806500 | L10: 44300 | M10: 0.054928704
A11: 10 | B11: Soat | C11: 11101 | D11: BIOPSIA ÓSEA EN CRÁNEO POR CRANEOTOMÍA | E11: 17100 | F11: Tejido intracraneal | G11: 245 | H11: 10 | I11: 2536400 | K11: 2404500 | L11: 131900 | M11: 0.054855479
A12: 11 | B12: Soat | C12: 11102 | D12: BIOPSIA ÓSEA EN CRÁNEO POR CRANIECTOMÍA | E12: 17100 | F12: Tejido intracraneal | G12: 245 | H12: 10 | I12: 2536400 | K12: 2404500 | L12: 131900 | M12: 0.054855479
A13: 12 | B13: Soat | C13: 11103 | D13: BIOPSIA DE CRÁNEO | E13: 17802 | F13: Hueso | G13: 245 | H13: 4 | I13: 672000 | K13: 637000 | L13: 35000 | M13: 0.054945055
... A183: 182 | B183: Soat | C183: 32401 | D183: MIELOTOMÍA POR ABLACIÓN VÍA ABIERTA | E183: 1321 | F183: Laminectomía para mielotomía, tipo Bischof, dorsal o lumbar | G183: 245 | H183: 22 | I183: 3984600 | K183: 3777300 | L183: 207300 | M183: 0.05488047
A184: 183 | B184: Soat | C184: 33101 | D184: PUNCIÓN LUMBAR (DIAGNÓSTICA O TERAPÉUTICA) ÚNICAMENTE INTRAHOSPITALARIA | E184: 26104 | F184: Punción lumbar | G184: 332 | H184: 6.929 | I184: 64000 | J184: UNICAMENTE MANEJO INTRAHOSPITALARIO | K184: 60600 | L184: 3400 | M184: 0.056105611
A185: 184 | B185: Soat | C185: 33201 | D185: BIOPSIA DE TUMOR INTRADURALES (INTRAMEDULARES Y EXTRAMEDULARES) CERVICALES, DORSALES, LUMBOSACROS O COCCÍGEOS | E185: 17102 | F185: Médula espinal | G185: 245 | H185: 9 | I185: 1901000 | K185: 1802100 | L185: 98900 | M185: 0.054880417
A186: 185 | B186: Soat | C186: 33203 | D186: BIOPSIA DE MÉDULA ESPINAL O MENINGES ESPINALES | E186: 17102 | F186: Médula espinal | G186: 245 | H186: 9 | I186: 1901000 | K186: 1802100 | L186: 98900 | M186: 0.054880417
A187: 186 | B187: Propia con grupo | C187: 34324 | D187: RESECCIÓN DE TUMOR O LESIÓN INTRARAQUÍDEO INTRADURAL LUMBAR HASTA DOS SEGMENTOS VÍA ABIERTA | E187: 34324 | F187: RESECCIÓN DE TUMOR O LESIÓN INTRARAQUÍDEO INTRADURAL LUMBAR HASTA DOS SEGMENTOS VÍA ABIERTA | G187: 245 | H187: 11 | I187: 2724400 | K187: 2582600 | L187: 141800 | M187: 0.054905909
A188: 187 | B188: Soat | C188: 34424 | D188: RESECCION DE TUMOR O LESION MULTIRRADICULAR SACRO VIA ABIERTA | E188: 1144 | F188: Extirpación de lesión y/o tejido de las meninges cerebrales | G188: 245 | H188: 20 | I188: 2857700 | K188: 2709000 | L188: 148700 | M188: 0.054891104
A189: 188 | B189: Soat | C189: 35103 | D189: CORRECCION DE MALFORMACION DE MEDULA ESPINAL, CON DESCOMPRESION VIA ANTERIOR | E189: 1334 | F189: Resección de meningomieloradiculocele | G189: 245 | H189: 22 | I189: 3984600 | K189: 3777300 | L189: 207300 | M189: 0.05488047
A190: 189 | B190: Soat | C190: 35104 | D190: CORRECCIÓN DE MALFORMACIÓN DE MÉDULA ESPINAL, CON FUSIÓN ÓSEA E INJERTO AUTÓLOGO O HETERÓLOGO | E190: 1335 | F190: Tratamiento de diastematomielia | G190: 245 | H190: 22 | I190: 3984600 | K190: 3777300 | L190: 207300 | M190: 0.05488047
A191: 190 | B191: Soat | C191: 35201 | D191: CORRECCIÓN DE ANOMALÍA DE MÉDULA ESPINAL EN UNIÓN CRANEOCERVICAL POR CRANIECTOMÍA SUBOCCIPITAL CON LAMINECTOMÍA Y DUROPLASTIA | E191: 1147 | F191: Tratamiento de platibasia (Síndrome de Arnold Chiari) | G191: 245 | H191: 22 | I191: 3984600 | K191: 3777300 | L191: 207300 | M191: 0.05488047
A192: 191 | B192: Soat | C192: 35202 | D192: CORRECCIÓN DE MÉDULA ESPINAL EN UNIÓN CRANEOCERVICAL POR CRANIECTOMÍA SUBOCCIPITAL CON LAMINECTOMÍA C1-C2 Y DUROPLASTIA | E192: 1147 | F192: Tratamiento de platibasia (Síndrome de Arnold Chiari) | G192: 245 | H192: 22 | I192: 3984600 | K192: 3777300 | L192: 207300 | M192: 0.05488047
A193: 192 | B193: Soat | C193: 35401 | D193: PLASTIA O INJERTO DE MENINGE ESPINAL | E193: 1352 | F193: Injerto dural | G193: 245 | H193: 20 | I193: 2857700 | K193: 2709000 | L193: 148700 | M193: 0.054891104
A194: 193 | B194: Soat | C194: 35402 | D194: ESQUIRLECTOMÍA CON PLASTIA O INJERTO DE MENINGE ESPINAL | E194: 1144 | F194: Extirpación de lesión y/o tejido de las meninges cerebrales | G194: 245 | H194: 20 | I194: 2857700 | K194: 2709000 | L194: 148700 | M194: 0.054891104
A195: 194 | B195: Soat | C195: 35501 | D195: REPARACIÓN DE FÍSTULA ESPINAL DE LÍQUIDO CEFALORRAQUÍDEO (DUROPLASTIA ESPINAL) | E195: 1351 | F195: Reparación fístula líquido cefalorraquídeo | G195: 245 | H195: 20 | I195: 2857700 | K195: 2709000 | L195: 148700 | M195: 0.054891104
A196: 195 | B196: Soat | C196: 36101 | D196: LISIS O RESECCIÓN DE ADHERENCIAS EXTRADURALES EN MÉDULA ESPINAL O RAÍCES DE NERVIOS ESPINALES VÍA ABIERTA | E196: 1387 | F196: Microcirugía de raíces, médula y nervios, por aracnoiditis | G196: 245 | H196: 22 | I196: 3984600 | K196: 3777300 | L196: 207300 | M196: 0.05488047
... A245: 244 | B245: Soat | C245: 44210 | D245: DESCOMPRESIÓN DE NERVIO FACIAL INTRATEMPORAL VÍA FOSA MEDIA | E245: 1404 | F245: Descompresión de nervio facial en peñasco y fosa media | G245: 245 | H245: 23 | I245: 5689800 | K245: 5393800 | L245: 296000 | M245: 0.054877823
A246: 245 | B246: soat | C246: 44211 | D246: DESCOMPRESION DE NERVIO OPTICO VIA ORBITARIA | E246: 1103 | F246: Craneotomía para extracción secuestro | G246: 209 | H246: 8 | I246: 1664600
A247: 246 | B247: Soat | C247: 44301 | D247: DESCOMPRESIÓN DE NERVIO EN TÚNEL DEL CARPO VÍA ENDOSCÓPICA | E247: 18223 | F247: Liberación del tunel carpiano | G247: 245 | H247: 7 | I247: 1514600 | K247: 1435700 | L247: 78900 | M247: 0.054955771
A248: 247 | B248: Soat | C248: 44303 | D248: DESCOMPRESIÓN DE NERVIO EN TÚNEL DEL CARPO VÍA ABIERTA | E248: 18223 | F248: Liberación del tunel carpiano | G248: 245 | H248: 7 | I248: 1514600 | K248: 1435700 | L248: 78900 | M248: 0.054955771
A249: 248 | B249: Soat | C249: 44304 | D249: DESCOMPRESION DE NERVIO EN TUNEL DEL CARPO CON NEUROLISIS VIA ABIERTA | E249: 13841 | F249: Descompresión nervio antebrazo; incluye en túnel carpiano | G249: 207 | H249: 7 | I249: 1514600 | K249: 1435700 | L249: 78900 | M249: 0.054955771
A250: 249 | B250: Soat | C250: 44401 | D250: DESCOMPRESION DE NERVIO EN TUNEL DEL TARSO VIA ABIERTA | E250: 13843 | F250: Descompresión nervio pie; incluye túnel tarsiano | G250: 207 | H250: 6 | I250: 1172500 | K250: 1111500 | L250: 61000 | M250: 0.054880792
A251: 250 | B251: Soat | C251: 44512 | D251: DESCOMPRESION DE NERVIO EN BRAZO VIA ABIERTA | E251: 13840 | F251: Descompresión nervio brazo | G251: 207 | H251: 7 | I251: 1514600 | K251: 1435700 | L251: 78900 | M251: 0.054955771
A252: 251 | B252: Soat | C252: 44514 | D252: DESCOMPRESIÓN DE NERVIO EN CODO VÍA ABIERTA | E252: 13840 | F252: Descompresión nervio brazo | G252: 207 | H252: 7 | I252: 1514600 | K252: 1435700 | L252: 78900 | M252: 0.054955771
A253: 252 | B253: Soat | C253: 44516 | D253: DESCOMPRESION DE NERVIO EN ANTEBRAZO VIA ABIERTA | E253: 13841 | F253: Descompresión nervio antebrazo; incluye en túnel carpiano | G253: 207 | H253: 7 | I253: 1514600 | K253: 1435700 | L253: 78900 | M253: 0.054955771
A254: 253 | B254: Soat | C254: 44518 | D254: DESCOMPRESION DE NERVIO EN MANO VIA ABIERTA | E254: 14400 | F254: Descompresión nervio mano | G254: 231 | H254: 7 | I254: 1514600 | K254: 1435700 | L254: 78900 | M254: 0.054955771
A255: 254 | B255: Soat | C255: 44519 | D255: DESCOMPRESION DE NERVIO EN DEDO DE LA MANO VIA ABIERTA | E255: 14401 | F255: Descompresión nervio dedos (uno a dos) | G255: 231 | H255: 6 | I255: 1172500 | K255: 1111500 | L255: 61000 | M255: 0.054880792
A256: 255 | B256: Soat | C256: 44522 | D256: DESCOMPRESIÓN DE NERVIO EN HUECO POPLÍTEO VÍA ABIERTA | E256: 13842 | F256: Descompresión nervio muslo o pierna; incluye tratamiento quirúrgico meralgia parestésica | G256: 207 | H256: 7 | I256: 1514600 | K256: 1435700 | L256: 78900 | M256: 0.054955771
A257: 256 | B257: Soat | C257: 45102 | D257: INJERTO DE NERVIO PERIFERICO | E257: 13864 | F257: Neurorrafia de un nervio en brazo con injerto | G257: 213 | H257: 12 | I257: 2913000 | K257: 2761400 | L257: 151600 | M257: 0.054899689
...

Sheet Hoja2
C1: DESCRIPCIÓN | D1: VALOR 2025 UVT | E1: SOAT VALOR | F1: UVB VALOR | G1: 1 | H1: 1 | I1: 1
A2: 11230 | B2: 668100 | C2: Hidrotubación trompa de falopio | D2: 530300 | E2: 576100 | F2: 528500 | G2: 530300 | H2: 576100 | I2: 528500
A3: 11231 | B3: 668100 | C3: Insuflación trompa de falopio | D3: 530300 | E3: 576100 | F3: 528500 | G3: 530300 | H3: 576100 | I3: 528500
A4: 11601 | B4: 712200 | C4: Drenaje absceso glándula de bartholín | D4: 530300 | E4: 576100 | F4: 528500 | G4: 530300 | H4: 576100 | I4: 528500
A5: 11610 | B5: 863103 | C5: Fulguración vulva | D5: 530300 | E5: 576100 | F5: 528500 | G5: 530300 | H5: 576100 | I5: 528500
A6: 15200 | B6: 15200 | C6: Onicectomía una a dos uñas | D6: 530300 | E6: 576100 | F6: 528500 | G6: 530300 | H6: 576100 | I6: 528500
A7: 15284 | B7: 868602 | C7: Reposición uña de polietileno | D7: 530300 | E7: 576100 | F7: 528500 | G7: 530300 | H7: 576100 | I7: 528500
A8: 17302 | B8: 11304 | C8: Encía | D8: 530300 | E8: 576100 | F8: 528500 | G8: 530300 | H8: 576100 | I8: 528500
A9: 17305 | B9: 272300 | C9: Labio | D9: 530300 | E9: 576100 | F9: 528500 | G9: 530300 | H9: 576100 | I9: 528500
A10: 17900 | B10: 860102 | C10: Piel y tejido celular subcutáneo, en otros sitios no clasificados | D10: 530300 | E10: 576100 | F10: 528500 | G10: 530300 | H10: 576100 | I10: 528500
A11: 18903 | B11: 702200 | C11: Colposcopia (vaginoscopia) | D11: 530300 | E11: 576100 | F11: 528500 | G11: 530300 | H11: 576100 | I11: 528500
A12: 2101 | B12: 90100 | C12: Drenaje glándula lagrimal; incluye saco lagrimal | D12: 627000 | E12: 680900 | F12: 625000 | G12: 627000 | H12: 680900 | I12: 625000
A13: 2140 | B13: 94100 | C13: Remoción cálculos canalículos lagrimales | D13: 627000 | E13: 680900 | F13: 625000 | G13: 627000 | H13: 680900 | I13: 625000
... A430: 2703 | B430: 123400 | C430: Iridodiálisis posterior | D430: 1898900 | E430: 2062800 | F430: 1893100 | G430: 1898900 | H430: 2062800 | I430: 1893100
A431: 2704 | B431: SH | C431: Iridotasis | D431: 1898900 | E431: 2062800 | F431: 1893100 | G431: 1898900 | H431: 2062800 | I431: 1893100
A432: 2723 | B432: 121200 | C432: Iridotomía por fotocoagulación | D432: 1898900 | E432: 2062800 | F432: 1893100 | G432: 1898900 | H432: 2062800 | I432: 1893100
A433: 2801 | B433: 125500 | C433: Ciclodiálisis | D433: 1898900 | E433: 2062800 | F433: 1893100 | G433: 1898900 | H433: 2062800 | I433: 1893100
A434: 2806 | B434: 127501 | C434: Fotocoagulación del ángulo camerular (trabeculoplastia) | D434: 1898900 | E434: 2062800 | F434: 1893100 | G434: 1898900 | H434: 2062800 | I434: 1893100
A435: 3111 | B435: 182100 | C435: Resección fístula pre auricular | D435: 1898900 | E435: 2062800 | F435: 1893100 | G435: 1898900 | H435: 2062800 | I435: 1893100
A436: 3421 | B436: 218700 | C436: Turbinoplastia | D436: 1898900 | E436: 2062800 | F436: 1893100 | G436: 1898900 | H436: 2062800 | I436: 1893100
A437: 3454 | B437: 227101 | C437: Corrección fístula oroantral; incluye fístula gingivonasal | D437: 1898900 | E437: 2062800 | F437: 1893100 | G437: 1898900 | H437: 2062800 | I437: 1893100
A438: 3467 | B438: 226302 | C438: Etmoidectomía externa | D438: 1898900 | E438: 2062800 | F438: 1893100 | G438: 1898900 | H438: 2062800 | I438: 1893100
A439: 3541 | B439: 319300 | C439: Aplicación molde laríngeo | D439: 1898900 | E439: 2062800 | F439: 1893100 | G439: 1898900 | H439: 2062800 | I439: 1893100
A440: 3601 | B440: 282100 | C440: Amigdalectomía | D440: 1898900 | E440: 2062800 | F440: 1893100 | G440: 1898900 | H440: 2062800 | I440: 1893100
A441: 3644 | B441: 285101 | C441: Resección amígdala lingual; incluye electrofulguración | D441: 1898900 | E441: 2062800 | F441: 1893100 | G441: 1898900 | H441: 2062800 | I441: 1893100
A442: 6321 | B442: 53107 | C442: Sección intratorácica nervio frénico | D442: 1898900 | E442: 2062800 | F442: 1893100 | G442: 1898900 | H442: 2062800 | I442: 1893100
A443: 7102 | B443: 530100 | C443: Herniorrafia inguinal (excepto recidiva) | D443: 1898900 | E443: 2062800 | F443: 1893100 | G443: 1898900 | H443: 2062800 | I443: 1893100
... A906: 14133 | B906: 779405 | C906: Resección cabeza de metacarpianos (tres o más) | D906: 2383500 | E906: 2589400 | F906: 2376200 | G906: 2383500 | H906: 2589400 | I906: 2376200
A907: 14135 | B907: #N/A | C907: Resección cabeza de falange (tres o más) | D907: 2383500 | E907: 2589400 | F907: 2376200 | G907: 2383500 | H907: 2589400 | I907: 2376200
A908: 14142 | B908: 780403 | C908: Injerto óseo en metacarpianos (uno a dos) | D908: 2383500 | E908: 2589400 | F908: 2376200 | G908: 2383500 | H908: 2589400 | I908: 2376200
A909: 14145 | B909: 780901 | C909: Injerto óseo en falanges (tres o más) | D909: 2383500 | E909: 2589400 | F909: 2376200 | G909: 2383500 | H909: 2589400 | I909: 2376200
A910: 14156 | B910: 797403 | C910: Reducción cerrada luxación metacarpofalángica (una a dos) | D910: 2383500 | E910: 2589400 | F910: 2376200 | G910: 2383500 | H910: 2589400 | I910: 2376200
A911: 14210 | B911: 824321 | C911: Tenorrafia extensores mano (uno a dos) | D911: 2383500 | E911: 2589400 | F911: 2376200 | G911: 2383500 | H911: 2589400 | I911: 2376200
A912: 14212 | B912: 824301 | C912: Tenorrafia extensores dedos (cada uno) | D912: 2383500 | E912: 2589400 | F912: 2376200 | G912: 2383500 | H912: 2589400 | I912: 2376200
A913: 14231 | B913: 827901 | C913: Injerto de tendón extensor mano (tres o más) | D913: 2383500 | E913: 2589400 | F913: 2376200 | G913: 2383500 | H913: 2589400 | I913: 2376200
A914: 14301 | B914: 804301 | C914: Capsulotomía metacarpofalángicas (una a dos) | D914: 2383500 | E914: 2589400 | F914: 2376200 | G914: 2383500 | H914: 2589400 | I914: 2376200
A915: 14303 | B915: 804302 | C915: Capsulotomía interfalángicas (una a dos) | D915: 2383500 | E915: 2589400 | F915: 2376200 | G915: 2383500 | H915: 2589400 | I915: 2376200
A916: 14315 | B916: 812802 | C916: Artrodesis interfalángicas, con injerto óseo | D916: 2383500 | E916: 2589400 | F916: 2376200 | G916: 2383500 | H916: 2589400 | I916: 2376200
A917: 14321 | B917: 817202 | C917: Artroplastia trapecio metacarpiana | D917: 2383500 | E917: 2589400 | F917: 2376200 | G917: 2383500 | H917: 2589400 | I917: 2376200
A918: 14420 | B918: 43105 | C918: Neurorrafia un nervio mano | D918: 2383500 | E918: 2589400 | F918: 2376200 | G918: 2383500 | H918: 2589400 | I918: 2376200
...

Sheet CIRCASIA
F1: PRECIO REFERENCIA
A2: ÍTEM | B2: CUPS | C2: DESCRIPCIÓN | D2: TIPO DE TARIFA | E2: TARIFA ENTIDAD | F2: CONTRATO 86-5-20089-24 | G2: SOAT VALOR 2025
A3: 1 | B3: 10B004 | C3: INTERNACION EN SERVICIO COMPLEJIDAD BAJA; HABITACION DE CUATRO CAMAS | E3: 199196 | F3: =+VLOOKUP(B3,'86-5-20006-24 '!$B$2:$D$12,3,) -> 188260 | G3: NO REGISTRA
A4: 2 | B4: 129B01 | C4: INTERNACIÓN ADULTOS COMPLEJIDAD BAJA HABITACIÓN INDIVIDUAL | E4: 284850 | F4: NO REGISTRA | G4: NO REGISTRA
A5: 3 | B5: 129B02 | C5: INTERNACIÓN ADULTOS COMPLEJIDAD BAJA HABITACION MÚLTIPLE | E5: 199196 | F5: NO REGISTRA | G5: NO REGISTRA
A6: 4 | B6: 130B02 | C6: INTERNACIÓN PEDIÁTRICA COMPLEJIDAD BAJA HABITACION MÚLTIPLE | E6: 199196 | F6: NO REGISTRA | G6: NO REGISTRA
A7: 5 | B7: 230101 | C7: EXODONCIA DE DIENTE PERMANENTE UNIRRADICULAR | E7: 40835 | F7: =+VLOOKUP(B7,'86-5-20006-24 '!$B$2:$D$12,3,) -> 31392 | G7: NO REGISTRA
A8: 6 | B8: 230102 | C8: EXODONCIA DE DIENTE PERMANENTE MULTIRRADICULAR | E8: 40835 | F8: =+VLOOKUP(B8,'86-5-20006-24 '!$B$2:$D$12,3,) -> 38405 | G8: NO REGISTRA
A9: 7 | B9: 230201 | C9: EXODONCIA DE DIENTE TEMPORAL UNIRRADICULAR | E9: 18924 | F9: =+VLOOKUP(B9,'86-5-20006-24 '!$B$2:$D$12,3,) -> 17744 | G9: NO REGISTRA
A10: 8 | B10: 232101 | C10: OBTURACIÓN DENTAL CON AMALGAMA | E10: 18924 | F10: =+VLOOKUP(B10,'86-5-20006-24 '!$B$2:$D$12,3,) -> 17744 | G10: NO REGISTRA
A11: 9 | B11: 232102 | C11: OBTURACIÓN DENTAL CON RESINA DE FOTOCURADO | E11: 63245 | F11: =+VLOOKUP(B11,'86-5-20006-24 '!$B$2:$D$12,3,) -> 29745 | G11: NO REGISTRA
A12: 10 | B12: 232401 | C12: RECONSTRUCCION DE ANGULO INCISAL; CON RESINA DE FOTOCURADO | E12: 160353 | F12: =+VLOOKUP(B12,'86-5-20006-24 '!$B$2:$D$12,3,) -> 151549 | G12: NO REGISTRA
A13: 11 | B13: 232402 | C13: RECONSTRUCCION TERCIO INCISAL; CON RESINA DE FOTOCURADO | E13: 321702 | F13: =+VLOOKUP(B13,'86-5-20006-24 '!$B$2:$D$12,3,) -> 304040 | G13: NO REGISTRA
A14: 12 | B14: 237301 | C14: TERAPIA DE CONDUCTO RADICULAR EN DIENTE UNIRRADICULAR | E14: 122506 | F14: =+VLOOKUP(B14,'86-5-20006-24 '!$B$2:$D$12,3,) -> 115780 | G14: NO REGISTRA
A15: 13 | B15: 237302 | C15: TERAP IA DE CONDUCTO RADICULAR EN DIENTE BIRRADICULAR | E15: 153879 | F15: =+VLOOKUP(B15,'86-5-20006-24 '!$B$2:$D$12,3,) -> 145431 | G15: NO REGISTRA
A16: 14 | B16: 237303 | C16: TERAPIA DE CONDUCTO RADICULAR EN DIENTE MULTIRRADICULAR | E16: 185252 | F16: =+VLOOKUP(B16,'86-5-20006-24 '!$B$2:$D$182,3,) -> 175082 | G16: NO REGISTRA
A17: 15 | B17: 237304 | C17: TERAPIA DE CONDUCTO RADICULAR EN DIENTE TEMPORAL UNIRRA-DICULAR | E17: 61751 | F17: =+VLOOKUP(B17,'86-5-20006-24 '!$B$2:$D$182,3,) -> 58361 | G17: NO REGISTRA
A18: 16 | B18: 579401 | C18: INSERCION DE DISPOSITIVO URINARIO (VESICAL) | E18: 45317 | F18: NO REGISTRA | G18: =+VLOOKUP(B18,'Hoja1 (2)'!$C$2:$I$3024,7,) -> 36200
A19: 17 | B19: 579501 | C19: REEMPLAZO DE CATETER URINARIO VESICAL SOD | E19: 45317 | F19: =+VLOOKUP(B19,'86-5-20006-24 '!$B$2:$D$182,3,) -> 42923 | G19: =+VLOOKUP(B19,'Hoja1 (2)'!$C$2:$I$3024,7,) -> 36200
A20: 18 | B20: 5DS002 | C20: DERECHOS DE SALA DE CURACIONES O PROCEDIMIENTOS | E20: 30875 | F20: =+VLOOKUP(B20,'86-5-20006-24 '!$B$2:$D$182,3,) -> 29322 | G20: =+VLOOKUP(B20,'Hoja1 (2)'!$C$2:$I$3024,7,) -> 24700
A21: 19 | B21: 5DS003 | C21: DERECHOS DE SALA DE PEQUEÑA CIRUGIA (SUTURAS) | E21: 71711 | F21: =+VLOOKUP(B21,'86-5-20006-24 '!$B$2:$D$182,3,) -> 67774 | G21: =+VLOOKUP(B21,'Hoja1 (2)'!$C$2:$I$3024,7,) -> 57200
A22: 20 | B22: 5DSB01 | C22: SALA DE OBSERVACION URGENCIAS DE COMPLEJIDAD BAJA SOD | E22: 98602 | F22: =+VLOOKUP(B22,'86-5-20006-24 '!$B$2:$D$182,3,) -> 93189 | G22: NO REGISTRA
A23: 21 | B23: 601T01 | C23: TRASLADO ASISTENCIAL BASICO TERRESTRE PRIMARIO - ARMENIA NOCTURNO | E23: 163072 | F23: =+VLOOKUP(B23,'86-5-20006-24 '!$B$2:$D$182,3,) -> 163072 | G23: NO REGISTRA
A24: 22 | B24: 601T01- | C24: 1] TRASLADO ASISTENCIAL BASICO TERRESTRE PRIMARIO - ARMENIA DIURNO | E24: 146328 | F24: =+VLOOKUP(B24,'86-5-20006-24 '!$B$2:$D$182,3,) -> 146328 | G24: NO REGISTRA
A25: 23 | B25: 601T02 | C25: TRASLADO ASISTENCIAL BASICO TERRESTRE SECUNDARIO - ARMENIA NOCTURNO | E25: 163072 | F25: =+VLOOKUP(B25,'86-5-20006-24 '!$B$2:$D$182,3,) -> 145600 | G25: NO REGISTRA
A26: 24 | B26: 601T02- | C26: 1] TRASLADO ASISTENCIAL BASICO TERRESTRE SECUNDARIO - ARMENIA DIURNO | E26: 146328 | F26: =+VLOOKUP(B26,'86-5-20006-24 '!$B$2:$D$182,3,) -> 130650 | G26: NO REGISTRA
A27: 25 | B27: 697101 | C27: INSERCION DE DISPOSITIVO INTRAUTERINO ANTICONCEPTIVO DIU SOD + | E27: 83662 | F27: =+VLOOKUP(B27,'86-5-20006-24 '!$B$2:$D$182,3,) -> 79069 | G27: =+VLOOKUP(B27,'Hoja1 (2)'!$C$2:$I$3024,7,) -> 66700
A28: 26 | B28: 735301 | C28: ASISTENCIA DEL PARTO ESPONTANEO NORMAL EXPULSIVO | E28: 216626 | F28: =+VLOOKUP(B28,'86-5-20006-24 '!$B$2:$D$182,3,) -> 759323 | G28: =+VLOOKUP(B28,'Hoja1 (2)'!$C$2:$I$3024,7,) -> 1514600
A29: 27 | B29: 861203 | C29: EXTRACCIÓN DE ANTICONCEPTIVOS SUBDERMICOS POR INCISION | E29: 83662 | F29: =+VLOOKUP(B29,'86-5-20006-24 '!$B$2:$D$182,3,) -> 71000 | G29: =+VLOOKUP(B29,'Hoja1 (2)'!$C$2:$I$3024,7,) -> 500000
A30: 28 | B30: 861801 | C30: INSERCIÓN DE ANTICONCEPTIVOS SUBDERMICOS | E30: 83662 | F30: =+VLOOKUP(B30,'86-5-20006-24 '!$B$2:$D$182,3,) -> 278813 | G30: NO REGISTRA
A31: 29 | B31: 862101 | C31: DRENAJE DE QUISTE PILONIDAL | E31: 95116 | F31: NO REGISTRA | G31: =+VLOOKUP(B31,'Hoja1 (2)'!$C$2:$I$3024,7,) -> 672000
A32: 30 | B32: 862701 | C32: ONICECTOMIA | E32: 95116 | F32: =+VLOOKUP(B32,'86-5-20006-24 '!$B$2:$D$182,3,) -> 89894 | G32: =+VLOOKUP(B32,'Hoja1 (2)'!$C$2:$I$3024,7,) -> 423000
A33: 31 | B33: 865101 | C33: SUTURA DE HERIDA UNICA; EN AREA GENERAL | E33: 24402 | F33: =+VLOOKUP(B33,'86-5-20006-24 '!$B$2:$D$182,3,) -> 23109 | G33: =+VLOOKUP(B33,'Hoja1 (2)'!$C$2:$I$3024,7,) -> 850800
A34: 32 | B34: 865102 | C34: SUTURA DE HERIDA MULTIPLE; EN AREA GENERAL | E34: 24402 | F34: =+VLOOKUP(B34,'86-5-20006-24 '!$B$2:$D$182,3,) -> 23109 | G34: =+VLOOKUP(B34,'Hoja1 (2)'!$C$2:$I$3024,7,) -> 1664600
A35: 33 | B35: 873411 | C35: RADIOGRAFIA DE CADERA O ARTICULACION COXO-FEMORAL (AP; LATERAL) | E35: 81172 | F35: =+VLOOKUP(B35,'86-5-20006-24 '!$B$2:$D$182,3,) -> 76716 | G35: =+VLOOKUP(B35,'Hoja1 (2)'!$C$2:$I$3024,7,) -> 64700
A36: 34 | B36: 890201 | C36: CONSULTA DE PRIMERA VEZ POR MEDICINA GENERAL | E36: 52289 | F36: =+VLOOKUP(B36,'86-5-20006-24 '!$B$2:$D$182,3,) -> 49418 | G36: NO REGISTRA
A37: 35 | B37: 890203 | C37: CONSULTA DE PRIMERA VEZ POR ODONTOLOGIA GENERAL | E37: 35855 | F37: =+VLOOKUP(B37,'86-5-20006-24 '!$B$2:$D$182,3,) -> 33840 | G37: NO REGISTRA
A38: 36 | B38: 890205 | C38: CONSULTA DE PRIMERA VEZ POR ENFERMERIA | E38: 33863 | F38: =+VLOOKUP(B38,'86-5-20006-24 '!$B$2:$D$182,3,) -> 31769 | G38: NO REGISTRA
A39: 37 | B39: 890206 | C39: CONSULTA DE PRIMERA VEZ POR NUTRICION Y DIETETICA | E39: 37847 | F39: NO REGISTRA | G39: NO REGISTRA
A40: 38 | B40: 890208 | C40: CONSULTA DE PRIMERA VEZ POR PSICOLOGIA | E40: 37847 | F40: =+VLOOKUP(B40,'86-5-20006-24 '!$B$2:$D$182,3,) -> 62126 | G40: NO REGISTRA
...

Sheet 86-5-20006-24 
A1: ITEM | B1: CUPS | C1: NOMBRE DEL SERVICIO | D1: VALOR AJUSTADO - TARIFA SOAT 2024
A2: 1 | B2: 10B004 | C2: INTERNACIÓN EN SERVICIO COMPLEJIDAD BAJA; HABITACIÓN DE CUATRO CAMAS | D2: 188260
A3: 2 | B3: 230101 | C3: EXODONCIA DE DIENTE PERMANENTE UNIRRADICULAR | D3: 31392
A4: 3 | B4: 230102 | C4: EXODONCIA DE DIENTE PERMANENTE MULTIRRADICULAR | D4: 38405
A5: 4 | B5: 230201 | C5: EXODONCIA DE DIENTE TEMPORAL UNIRRADICULAR | D5: 17744
A6: 5 | B6: 232101 | C6: OBTURACIÓN DENTAL CON AMALGAMA | D6: 17744
A7: 6 | B7: 232102 | C7: OBTURACIÓN DENTAL CON RESINA DE FOTOCURADO | D7: 29745
A8: 7 | B8: 232401 | C8: RECONSTRUCCIÓN DE ANGULO INCISAL; CON RESINA DE FOTOCURADO | D8: 151549
A9: 8 | B9: 232402 | C9: RECONSTRUCCIÓN TERCIO INCISAL; CON RESINA DE FOTOCURADO | D9: 304040
A10: 9 | B10: 237301 | C10: TERAPIA DE CONDUCTO RADICULAR EN DIENTE UNIRRADICULAR | D10: 115780
A11: 10 | B11: 237302 | C11: TERAPIA DE CONDUCTO RADICULAR EN DIENTE | D11: 145431
C12: BIRRADICULAR
A13: 11 | B13: 237303 | C13: TERAPIA DE CONDUCTO RADICULAR EN DIENTE MULTIRRADICULAR | D13: 175082
A14: 12 | B14: 237304 | C14: TERAPIA DE CONDUCTO RADICULAR EN DIENTE TEMPORAL UNIRRA-DICULAR | D14: 58361
A15: 13 | B15: 579501 | C15: REEMPLAZO DE CATÉTER URINARIO VESICAL SOD | D15: 42923
A16: 14 | B16: 5DS002 | C16: DERECHOS DE SALA DE CURACIONES O PROCEDIMIENTOS | D16: 29322
A17: 15 | B17: 5DS003 | C17: DERECHOS DE SALA DE PEQUEÑA CIRUGÍA (SUTURAS) | D17: 67774
A18: 16 | B18: 5DSB01 | C18: SALA DE OBSERVACIÓN URGENCIAS DE COMPLEJIDAD BAJA SOD | D18: 93189
A19: 17 | B19: 601T01 | C19: TRASLADO ASISTENCIAL BÁSICO TERRESTRE PRIMARIO - ARMENIA NOCTURNO | D19: 163072
A20: 18 | B20: 601T01- | C20: TRASLADO ASISTENCIAL BÁSICO TERRESTRE PRIMARIO - ARMENIA DIURNO | D20: 146328
B21: 1
A22: 19 | B22: 601T02 | C22: TRASLADO ASISTENCIAL BÁSICO TERRESTRE SECUNDARIO - ARMENIA NOCTURNO | D22: 145600
A23: 20 | B23: 601T02- | C23: TRASLADO ASISTENCIAL BÁSICO TERRESTRE SECUNDARIO - ARMENIA DIURNO | D23: 130650
B24: 1
A25: 21 | B25: 697101 | C25: INSERCIÓN DE DISPOSITIVO INTRAUTERINO | D25: 79069
C26: ANTICONCEPTIVO DIU SOD +
A27: 22 | B27: 735301 | C27: ASISTENCIA DEL PARTO ESPONTANEO NORMAL EXPULSIVO | D27: 759323
A28: 23 | B28: 861203 | C28: EXTRACCIÓN DE ANTICONCEPTIVOS SUBDÉRMICOS POR INCISIÓN | D28: 71000
A29: 24 | B29: 861801 | C29: INSERCIÓN DE ANTICONCEPTIVOS SUBDÉRMICOS | D29: 278813
A30: 25 | B30: 862701 | C30: ONICECTOMIA | D30: 89894
A31: 26 | B31: 865101 | C31: SUTURA DE HERIDA UNICA; EN AREA GENERAL | D31: 23109
A32: 27 | B32: 865102 | C32: SUTURA DE HERIDA MULTIPLE; EN AREA GENERAL | D32: 23109
A33: 28 | B33: 870001 | C33: RADIOGRAFIA DE CRANEO SIMPLE | D33: 102131
A34: 29 | B34: 870107 | C34: RADIOGRAFIA DE HUESOS NASALES | D34: 90365
A35: 30 | B35: 870108 | C35: RADIOGRAFIA DE SENOS PARANASALES | D35: 90365
A36: 31 | B36: 870113 | C36: RADIOGRAFIA DE MAXILAR INFERIOR | D36: 90365
A37: 32 | B37: 870440 | C37: RADIOGRAFIAS INTRAORALES OCLUSALES | D37: 28239
A38: 33 | B38: 871010 | C38: RADIOGRAFÍA DE COLUMNA CERVICAL | D38: 114368
... A44: 39 | B44: 871121 | C44: RADIOGRAFIA DE TORAX PA O AP Y LATERAL; DECUBITO | D44: 104484
C45: LATERAL; OBLICUAS O LATERAL CON BARIO
...
