Workbook

Sheet RESUMEN
B2: República de Colombia Instituto Colombiano de Bienestar Familiar Cecilia de la Fuente de Lleras Grupo Administrativo - ICBF REGIONAL VALLE | H2: CLASIFICACIÓN DE LA INFORMACIÓN PÚBLICA
B4: PROPUESTA ECONOMICA - MANTENIMIENTO CORRECTIVO, PREVENTIVO Y TRASLADO.
B5: Objeto | C5: PRESTAR EL SERVICIO DE MANTENIMIENTO PREVENTIVO Y CORRECTIVO DE LOS EQUIPOS DE AIRES ACONDICIONADOS (INCLUYE SUMINISTRO DE MATERIALES DE REFRIGERACIÓN, EQUIPOS DE AIRES ACONDICIONADOS, INSTALACIÓN, DESINTALACIÓN Y TRASLADO DE AIRES ACONDICIONADOS) EN EL ICBF REGIONAL VALLE DEL CAUCA.
B7: EMPRESA: | C7: UNIVERSAL COLOMBIA SAS | D7: NIT: | E7: 900970.424-5 | F7: FECHA: | G7: JULIO 28 DE 2025
B8: CONTACTO: | C8: JOCSAN ESCOBAR RODRIGUEZ | D8: CARGO: | E8: REPRESENTANTE LEGAL | F8: TEL. CELULAR: | G8: 3003501564
B9: E-MAIL: | C9: universal_colombia@hotmail.com | D9: DIRECCIÓN: | E9: CALLE 16 #1-82 | F9: TELEFONO FIJO: | G9: 3164418126
B11: Instrucciones para el diligenciamiento del formato de cotización
B12: • Por favor diligenciar solo las celdas en AMARILLO. • Revisar todos los requerimientos que se exponen en el documento "Ficha de Condiciones Técnicas Escenciales para la Prestación del Servicio y/o Entrega del Bien" (FCT) y Anexos; y formular su propuesta económica en concordancia con este, garantizando que los bienes y/o servicios ofrecidos cumplan en su totalidad con las especificaciones técnicas descritas en la FCT. • El precio de la propuesta económica deber ser expresado en PESOS COLOMBIANOS. • Los precios deberán aproximarse por exceso o por defecto al entero más cercano así: (i) si es igual o superior a 50 centavos, se aproxima al entero siguiente; (ii) si es inferior a 50 centavos se baja al entero anterior. • No modificar, agregar o quitar ningún ítem o sub-ítem.
B13: (1) Tener en cuenta para la propuesta económica que el plazo de ejecución es estimado y podrá ser inferior o superior. Los precios se deberán mantener. (2) El costo del mantenimiento deberá incluir todos los costos directos e indirectos asociados a las actividades de mantenimiento preventivo y/o correctivo, traslaos e insumos conforme a lo establecido en el documento de "Ficha de Condiciones Técnicas" (FCT).
B15: Tiempo de Ejecución 2025 | F15: Tarifa IVA | G15: 0.19
B16: Plazo estimado de ejecución entrega del servicio (en días calendario) | D16: 12 meses
B18: TIPO DE SERVICIO | E18: CANTIDAD DE SERVICIO PRESTADOS | F18: Valor total | G18: Valor IVA | H18: Valor total IVA inlcuido
B20: Mantenimiento preventivo equipos aires acondicionados del ICBF Regional Valle del Cauca | E20: =' MTMTO PREVENTIVO'!D91 -> 338 | F20: =' MTMTO PREVENTIVO'!E91 -> 4720000 | G20: =F20*0.19 -> 896800 | H20: =F20+G20 -> 5616800
B21: Trabajos correctivos de aires acondicionados (sumatoria de unidades desagregadas) | E21: N/A | F21: ='MTMTO CORRECTIVO'!D18 -> 1254000 | G21: =F21*0.19 -> 238260 | H21: =F21+G21 -> 1492260
B22: Instalación, desintalación, traslados aires acondicionados (sumatoria de unidades desagregadas) | E22: N/A | F22: =TRASLADO!D11 -> 920000 | G22: =F22*0.19 -> 174800 | H22: =F22+G22 -> 1094800
B23: Insumos, materiales y equipos (sumatoria de unidades desagregadas) | E23: N/A | F23: =INSUMOS!D70 -> 27651000 | G23: =F23*0.19 -> 5253690 | H23: =F23+G23 -> 32904690
B24: TOTAL | G24: =SUM(G20:G23) -> 6563550 | H24: =SUM(H20:H23) -> 41108550
B26: La presente propuesta económica:
B27: • Incluye todos los costos y gastos directos e indirectos en que debe incurrir el contratista durante la ejecución del contrato de acuerdo con las especificaciones de la Ficha de Condiciones Técnicas, las obligaciones tributarias de acuerdo con las normas aplicables para el tipo de servicio y contrato correspondiente, y los costos de las pólizas. • Incluye todos los impuestos, tasas y contribuciones establecidos por las diferentes autoridades nacionales, departamentales o municipales y dentro de estos mismos niveles territoriales, los impuestos, tasas y contribuciones establecidos por las diferentes autoridades ambientales, que afecten el contrato y las actividades que de él se deriven. • De acuerdo a lo estipulado en la ficha de condiciones técnicas se debe realizar revisión y verificación para realizar diagnostico y levantamiento de inventario del sistema de alarmas de evacuación y de detección de incendios.
B28: NOTA 1: La propuesta económica que se debe incorporar a la plataforma del SECOP II, será por el valor del presupuesto oficial, el cual será por CIENTO CUARENTA MILLONES QUINIENTOS VEINTINUEVE MIL OCHOCIENTOS SETENTA Y SIETE PESOS MCTE ($140.529.877). NOTA 2: Se hace claridad que se requiere que los oferentes realicen en el formato de propuesta económica, la oferta con el valor unitario de cada ítem registrado para así determinar que oferente presenta el menor valor, ya que el único valor de ponderación en los procesos de selección de mínima cuantía es el menor precio. NOTA 3: Para el oferente que no presente su propuesta económica con los dos (2) componentes establecidos en el presente anexo, su oferta será rechazada. NOTA 4: Incluir los valores unitarios en cada una de las pestañas.
B29: Nota informativa: Inscripción en el Registro Único de Proponentes: Las personas naturales y jurídicas, nacionales o extranjeras, con domicilio en Colombia, interesadas en participar en procesos de contratación convocados por las entidades estatales, deben estar inscritas en el RUP, salvo las excepciones previstas de forma taxativa en la ley (Artículo 2.2.1.1.1.5.1 del Decreto 1082 de 2015). Se aclara que esta inscripción no se requiere para remitir cotización durante el estudio de sector.
B30: LOS DATOS PROPORCIONADOS SERÁN TRATADOS DE ACUERDO A LA POLÍTICA DE TRATAMIENTO DE DATOS PERSONALES DEL ICBF Y A LA LEY 1581 DE 2012

Sheet  MTMTO PREVENTIVO
A4: VALORES UNITARIOS - MANTENIMIENTO PREVENTIVO
A5: Al remitir cotización y/o propuesta, yo _______________________________, estoy aceptando que la misma cumple con la totalidad de los requerimientos incluidos en la ficha tecnica y que incluye la totalidad de costos y gastos, directos e indirectos, así como los impuestos, asociados a la ejecución del contrato. Así mismo, que, en caso de resultar adjudicatario del proceso de selección correspondiente, podrá prestar el servicio y/o entregar el bien, con las condiciones técnicas descritas en el presente documento.
A8: AIRES ACONDICIONADOS SEDE REGIONAL - SANTIAGO DE CALI - AVENIDA 2N # 33AN - 45
A9: TIPO | B9: UBICACIÓN | C9: CAPACIDAD (BTU) | D9: CANTIDAD | E9: VALOR DEL MMTO PREVENTIVO (SIN IVA) | F9: VALOR DEL MMTO PREVENTIVO (IVA INCLUIDO)
A10: Mini Split | B10: Auditorio Lyda Esperanza | C10: 36000 | D10: 1 | E10: 55000 | F10: =((E10*19%)+E10)*D10 -> 65450
A11: Piso Techo | B11: Auditorio Lyda Esperanza | C11: 60000 | D11: 1 | E11: 95000 | F11: =((E11*19%)+E11)*D11 -> 113050
A12: Mini Split | B12: Gestión Documental | C12: 36000 | D12: 1 | E12: 55000 | F12: =((E12*19%)+E12)*D12 -> 65450
A13: Piso Techo | B13: Atención al Ciudadano | C13: 36000 | D13: 1 | E13: 95000 | F13: =((E13*19%)+E13)*D13 -> 113050
A14: Mini Split | B14: Atención al Ciudadano | C14: 60000 | D14: 1 | E14: 55000 | F14: =((E14*19%)+E14)*D14 -> 65450
A15: Mini Split | B15: Protección | C15: 12000 | D15: 2 | E15: 55000 | F15: =((E15*19%)+E15)*D15 -> 130900
A16: Piso Techo | B16: Sistemas | C16: 60000 | D16: 1 | E16: 95000 | F16: =((E16*19%)+E16)*D16 -> 113050
A17: Mini Split | B17: Sistemas | C17: 12000 | D17: 1 | E17: 55000 | F17: =((E17*19%)+E17)*D17 -> 65450
A18: Mini Split | B18: Cuarto Técnico | C18: 12000 | D18: 1 | E18: 55000 | F18: =((E18*19%)+E18)*D18 -> 65450
A19: Piso Techo | B19: Protección | C19: 60000 | D19: 1 | E19: 95000 | F19: =((E19*19%)+E19)*D19 -> 113050
A20: Piso Techo | B20: Protección | C20: 36000 | D20: 1 | E20: 95000 | F20: =((E20*19%)+E20)*D20 -> 113050
A21: Mini Split | B21: Coordinación Protección | C21: 12000 | D21: 2 | E21: 55000 | F21: =((E21*19%)+E21)*D21 -> 130900
... A48: Mini Split | B48: Unidade Móviles | C48: 36000 | D48: 2 | E48: 55000 | F48: =((E48*19%)+E48)*D48 -> 130900
D49: =SUM(D10:D48) -> 48 | E49: =SUM(E10:E48) -> 2665000 | F49: =SUM(F10:F48) -> 3808000
A51: AIRES ACONDICIONADOS CENTROS ZONALES - SANTIAGO DE CALI
A52: UBICACIÓN | B52: TIPO | C52: CAPACIDAD (BTU) | D52: CANTIDAD | E52: VALOR DEL MMTO PREVENTIVO (SIN IVA) | F52: VALOR DEL MMTO PREVENTIVO INCLUIDO IVA
A53: CENTRO ZONAL SURORIENTAL Calle 73 # 8 A - 35 Barrio Andrés Sanín | B53: Mini Split | C53: 12000 | D53: 15 | E53: 55000 | F53: =((E53*19%)+E53)*D53 -> 981750
B54: Mini Split | C54: 24000 | D54: 2 | E54: 55000 | F54: =((E54*19%)+E54)*D54 -> 130900
B55: Mini Split | C55: 36000 | D55: 1 | E55: 55000 | F55: =((E55*19%)+E55)*D55 -> 65450
A56: CENTRO ZONAL CENTRO Avenida 1N # 7N - 41 Centenario | B56: Mini Split | C56: 12000 | D56: 22 | E56: 55000 | F56: =((E56*19%)+E56)*D56 -> 1439900
B57: Mini Split | C57: 36000 | D57: 3 | E57: 55000 | F57: =((E57*19%)+E57)*D57 -> 196350
A58: CENTRO ZONAL NORORIENTAL Cra 3 # 39N - 23 Barrio Bolivariano | B58: Mini Split | C58: 12000 | D58: 22 | E58: 55000 | F58: =((E58*19%)+E58)*D58 -> 1439900
B59: Mini Split | C59: 36000 | D59: 5 | E59: 55000 | F59: =((E59*19%)+E59)*D59 -> 327250
B60: Piso Techo | C60: 60000 | D60: 2 | E60: 105000 | F60: =((E60*19%)+E60)*D60 -> 249900
A61: CENTRO ZONAL SUR Cra 42 # 5C - 48 Tequendama | B61: Mini Split | C61: 12000 | D61: 28 | E61: 55000 | F61: =((E61*19%)+E61)*D61 -> 1832600
A62: CENTRO ZONAL RESTAURAR Calle 11 # 6 - 24 Piso 8 Edificio Bancolombia y Oficina de Garantías en Estación de Policía Cali20 El Lido | B62: Piso Techo | C62: 48000 | D62: 2 | E62: 55000 | F62: =((E62*19%)+E62)*D62 -> 130900
B63: Mini Split | C63: 36000 | D63: 2 | E63: 55000 | F63: =((E63*19%)+E63)*D63 -> 130900
B64: Mini Split | C64: 24000 | D64: 1 | E64: 55000 | F64: =((E64*19%)+E64)*D64 -> 65450
B65: Mini Split | C65: 12000 | D65: 4 | E65: 55000 | F65: =((E65*19%)+E65)*D65 -> 261800
A66: CENTRO ZONAL LADERA Cra 43 # 5A - 17 Barrio Tequendama | B66: Piso Techo | C66: 60000 | D66: 1 | E66: 105000 | F66: =((E66*19%)+E66)*D66 -> 124950
B67: Mini Split | C67: 12000 | D67: 12 | E67: 55000 | F67: =((E67*19%)+E67)*D67 -> 785400
D68: =SUM(D53:D67) -> 122 | E68: =E53+E54+E55+E56+E57+E58+E59+E60+E61+E62+E63+E64+E65+E66+E67 -> 925000 | F68: =F53+F54+F55+F56+F57+F58+F59+F60+F61+F62+F63+F64+F65+F66+F67 -> 8163400
A71: AIRES ACONDICIONADOS CENTROS ZONALES - VALLE
A72: UBICACIÓN | B72: TIPO | C72: CAPACIDAD (BTU) | D72: CANTIDAD | E72: VALOR DEL MMTO PREVENTIVO (SIN IVA) | F72: VALOR DEL MMTO PREVENTIVO INCLUIDO IVA
A73: CENTRO ZONAL TULUÁ Carrera 30 # 27- 20 Piso 3 Edificio del Río Barrio Victoria, Tuluá - Valle | B73: Mini Split | C73: 12000 | D73: 38 | E73: 65000 | F73: =((E73*19%)+E73)*D73 -> 2939300
B74: Split | C74: 24000 | D74: 2 | E74: 75000 | F74: =((E74*19%)+E74)*D74 -> 178500
...

Sheet MTMTO CORRECTIVO
A4: VALORES UNITARIOS - MANTENIMIENTO CORRECTIVO
A5: Al remitir cotización y/o propuesta, yo ___________________________, estoy aceptando que la misma cumple con la totalidad de los requerimientos incluidos en la ficha tecnica y que incluye la totalidad de costos y gastos, directos e indirectos, así como los impuestos, asociados a la ejecución del contrato. Así mismo, que, en caso de resultar adjudicatario del proceso de selección correspondiente, podrá prestar el servicio y/o entregar el bien, con las condiciones técnicas descritas en el presente documento.
B7: DESCRIPCIÓN DEL CORRECTIVO | D7: VALOR DEL CORRECTIVO (SIN IVA) | E7: VALOR DEL CORRECTIVO (IVA INCLUIDO)
B8: Mano de obra por localizar y corregir fuga de refrigerante en aire acondicionado | D8: 190000 | E8: =D8*1.19 -> 226100
B9: Mano de obra por cambio de rubatex y cinta aislante en tubería refrigerante | D9: 98000 | E9: =D9*1.19 -> 116620
B10: Mano de obra por recarga de gas refrigerante | D10: 98000 | E10: =D10*1.19 -> 116620
B11: Mano de obra por cambio de componentes electrónicos internos en unidad interior y exterior | D11: 98000 | E11: =D11*1.19 -> 116620
B12: Mano de obra por cambio de compresor | D12: 280000 | E12: =D12*1.19 -> 333200
B13: Mano de obra por cambio de blower | D13: 98000 | E13: =D13*1.19 -> 116620
B14: Mano de obra por cambio de motor-ventilador | D14: 98000 | E14: =D14*1.19 -> 116620
B15: Mano de obra por ajuste y cambio de circuito de tubería de desagüe | D15: 98000 | E15: =D15*1.19 -> 116620
B16: Mano de obra instalación de bomba de desagüe | D16: 98000 | E16: =D16*1.19 -> 116620
B17: Mano de obra separación de alimentación eléctrica (en equipos controlados por un solo breaker) | D17: 98000 | E17: =D17*1.19 -> 116620
B18: TOTAL | D18: =SUM(D8:D17) -> 1254000 | E18: =SUM(E8:E17) -> 1492260

Sheet TRASLADO
A4: VALORES UNITARIOS - INSTALACIÓN, DESINTALACIÓN, TRASLADO
A5: Al remitir cotización y/o propuesta, yo _________________________, estoy aceptando que la misma cumple con la totalidad de los requerimientos incluidos en la ficha tecnica y que incluye la totalidad de costos y gastos, directos e indirectos, así como los impuestos, asociados a la ejecución del contrato. Así mismo, que, en caso de resultar adjudicatario del proceso de selección correspondiente, podrá prestar el servicio y/o entregar el bien, con las condiciones técnicas descritas en el presente documento.
C7: DESCRIPCIÓN | D7: VALOR (SIN IVA) | E7: VALOR (IVA INCLUIDO)
C8: Desinstalación equipo de aire acondicionado, traslado y nueva instalación. | D8: 450000 | E8: =D8*1.19 -> 535500
C9: Desinstalación equipo de aire acondicionado | D9: 120000 | E9: =D9*1.19 -> 142800
C10: Instalación equipo de aire acondicionado | D10: 350000 | E10: =D10*1.19 -> 416500
C11: TOTAL | D11: =SUM(D8:D10) -> 920000 | E11: =SUM(E8:E10) -> 1094800

Sheet INSUMOS
A4: VALORES UNITARIOS - INSUMOS, MATERIALES, EQUIPOS
A5: Al remitir cotización y/o propuesta, yo _________________________, estoy aceptando que la misma cumple con la totalidad de los requerimientos incluidos en la ficha tecnica y que incluye la totalidad de costos y gastos, directos e indirectos, así como los impuestos, asociados a la ejecución del contrato. Así mismo, que, en caso de resultar adjudicatario del proceso de selección correspondiente, podrá prestar el servicio y/o entregar el bien, con las condiciones técnicas descritas en el presente documento.
C7: DESCRIPCIÓN | D7: VALOR (SIN IVA) | E7: VALOR (IVA INCLUIDO)
C8: Tubería cobre 1/2 (rollo) | D8: 355000 | E8: =D8*1.19 -> 422450
C9: Tubería cobre 1/2 (metro) | D9: 38000 | E9: =D9*1.19 -> 45220
C10: Tubería cobre 1/4 (rollo) | D10: 170000 | E10: =D10*1.19 -> 202300
C11: Tubería cobre 1/4 (metro) | D11: 28000 | E11: =D11*1.19 -> 33320
C12: Tubería cobre 3/8 (rollo) | D12: 263000 | E12: =D12*1.19 -> 312970
C13: Tubería cobre 3/8 (metro) | D13: 50000 | E13: =D13*1.19 -> 59500
C14: Tubería cobre 3/4 (rollo) | D14: 580000 | E14: =D14*1.19 -> 690200
C15: Tubería cobre 3/4 (metro) | D15: 70000 | E15: =D15*1.19 -> 83300
C16: Tubería cobre 7/8 (rollo) | D16: 870000 | E16: =D16*1.19 -> 1035300
C17: Tubería cobre 7/8 (metro) | D17: 90000 | E17: =D17*1.19 -> 107100
C18: Tubería cobre 5/8 (rollo) | D18: 485000 | E18: =D18*1.19 -> 577150
C19: Tubería cobre 5/8 (metro) | D19: 60000 | E19: =D19*1.19 -> 71400
... C69: Cinta vinilo | D69: 7000 | E69: =D69*1.19 -> 8330
C70: TOTAL | D70: =SUM(D8:D69) -> 27651000 | E70: =SUM(E8:E69) -> 32904690

Sheet Hoja1
A1: AIRES ACONDICIONADOS SEDE REGIONAL - SANTIAGO DE CALI - AVENIDA 2N # 33AN - 45
A2: TIPO | B2: UBICACIÓN | C2: CAPACIDAD (BTU) | D2: CANTIDAD
A3: Mini Split | B3: Auditorio Lyda Esperanza | C3: 36000 | D3: 1
A4: Piso Techo | B4: Auditorio Lyda Esperanza | C4: 60000 | D4: 1
A5: Mini Split | B5: Gestión Documental | C5: 36000 | D5: 1
A6: Piso Techo | B6: Atención al Ciudadano | C6: 36000 | D6: 1
A7: Mini Split | B7: Atención al Ciudadano | C7: 60000 | D7: 1
A8: Mini Split | B8: Protección | C8: 12000 | D8: 2
A9: Piso Techo | B9: Sistemas | C9: 60000 | D9: 1
A10: Mini Split | B10: Sistemas | C10: 12000 | D10: 1
A11: Mini Split | B11: Cuarto Técnico | C11: 12000 | D11: 1
A12: Piso Techo | B12: Protección | C12: 60000 | D12: 1
A13: Piso Techo | B13: Protección | C13: 36000 | D13: 1
A14: Mini Split | B14: Coordinación Protección | C14: 12000 | D14: 2
... A41: Mini Split | B41: Unidade Móviles | C41: 36000 | D41: 2
D42: =SUM(D3:D41) -> 48
A44: AIRES ACONDICIONADOS CENTROS ZONALES - SANTIAGO DE CALI
A45: UBICACIÓN | B45: TIPO | C45: CAPACIDAD (BTU) | D45: CANTIDAD
A46: CENTRO ZONAL SURORIENTAL Calle 73 # 8 A - 35 Barrio Andrés Sanín | B46: Mini Split | C46: 12000 | D46: 15
B47: Mini Split | C47: 24000 | D47: 2
B48: Mini Split | C48: 36000 | D48: 1
A49: CENTRO ZONAL CENTRO Avenida 1N # 7N - 41 Centenario | B49: Mini Split | C49: 12000 | D49: 22
B50: Mini Split | C50: 36000 | D50: 3
A51: CENTRO ZONAL NORORIENTAL Cra 3 # 39N - 23 Barrio Bolivariano | B51: Mini Split | C51: 12000 | D51: 22
B52: Mini Split | C52: 36000 | D52: 5
B53: Piso Techo | C53: 60000 | D53: 2
A54: CENTRO ZONAL SUR Cra 42 # 5C - 48 Tequendama | B54: Mini Split | C54: 12000 | D54: 28
A55: CENTRO ZONAL RESTAURAR Calle 11 # 6 - 24 Piso 8 Edificio Bancolombia y Oficina de Garantías en Estación de Policía Cali20 El Lido | B55: Piso Techo | C55: 48000 | D55: 2
B56: Mini Split | C56: 36000 | D56: 2
B57: Mini Split | C57: 24000 | D57: 1
B58: Mini Split | C58: 12000 | D58: 4
A59: CENTRO ZONAL LADERA Cra 43 # 5A - 17 Barrio Tequendama | B59: Piso Techo | C59: 60000 | D59: 1
B60: Mini Split | C60: 12000 | D60: 12
D61: =SUM(D46:D60) -> 122
A64: AIRES ACONDICIONADOS CENTROS ZONALES - VALLE
A65: UBICACIÓN | B65: TIPO | C65: CAPACIDAD (BTU) | D65: CANTIDAD
A66: CENTRO ZONAL TULUÁ Carrera 30 # 27- 20 Piso 3 Edificio del Río Barrio Victoria, Tuluá - Valle | B66: Mini Split | C66: 12000 | D66: 38
B67: Split | C67: 24000 | D67: 2
A68: CENTRO ZONAL BUENAVENTURA Avenida Simón Bolívar KLM 7 | B68: Mini Split | C68: 12000 | D68: 17
A69: CENTRO ZONAL PALMIRA Cra 31 # 23 - 52 Barrio Nuevo | B69: Piso Techo | C69: 60000 | D69: 1
...

Sheet Borrador
D1: IVA
D2: 0
A3: Tipo de examén | D3: Cantidades aproximadas | E3: PRECIO UNITARIO IVA INCLUIDO | F3: PRECIO TOTAL IVA INCLUIDO | I3: SOCIEDAD ENTORNO & COMPAÑÍA LTDA | L3: CAJA DE COMPENSACION FAMILIAR CAFAM | O3: UNIDAD MEDICA TOLCOROMA | S3: PROMEDIO MEDICION | W3: MEDIA GEOMETRICA | AA3: PROMEDIO DE LAS 3 MAS BAJAS | AE3: DESVIACIÓN
I4: Precio unitario sin IVA | J4: Precio unitario IVA incluido | K4: Precio total IVA inlcuido | L4: Precio unitario sin IVA | M4: Precio unitario IVA incluido | N4: Precio total IVA inlcuido | O4: Precio unitario sin IVA | P4: Precio unitario IVA incluido | Q4: Precio total IVA inlcuido | S4: PRECIO UNITARIO SIN IVA | T4: PRECIO UNITARIO IVA INCLUIDO | U4: PRECIO TOTAL IVA INCLUIDO | W4: PRECIO UNITARIO SIN IVA | X4: PRECIO UNITARIO IVA INCLUIDO | Y4: PRECIO TOTAL IVA INCLUIDO | AA4: PRECIO UNITARIO SIN IVA | AB4: PRECIO UNITARIO IVA INCLUIDO | AC4: PRECIO TOTAL IVA INCLUIDO | AE4: PRECIO UNITARIO SIN IVA | AF4: MIN | AG4: MAX
A6: Exámenes médico ocupacionales ingreso con énfasis osteomuscular y/o psicosocial | D6: 50 | E6: 67097 | F6: 3354850 | I6: 72700 | J6: 72700 | K6: =+J6*D6 -> 3635000 | L6: 83100 | M6: 83100 | N6: 4155000 | O6: 50000 | P6: 50000 | Q6: 2500000 | S6: =+ROUND(AVERAGE(I6,L6,O6),0) -> 68600 | T6: =+ROUND(S6*(1+$D$2),0) -> 68600 | U6: =+ROUND(T6*D6,0) -> 3430000 | W6: =+ROUND(GEOMEAN(I6,L6,O6),0) -> 67097 | X6: =+ROUND(W6*(1+$D$2),0) -> 67097 | Y6: =+ROUND(X6*$D6,0) -> 3354850 | AA6: =+ROUND(AVERAGE(SMALL((J6,L6,O6),{1;2;3})),0) -> 68600 | AB6: =+ROUND(AA6*(1+$D$2),0) -> 68600 | AC6: =+ROUND(AB6*$D6,0) -> 3430000 | AE6: =+ROUND(STDEV(I6,L6,O6),0) -> 16927 | AF6: =+ROUND(S6-AE6,0) -> 51673 | AG6: =+ROUND(S6+AE6,0) -> 85527
A7: Exámenes médico ocupacionales periódico con énfasis osteomuscular y/o psicosocial | D7: 350 | E7: 67097 | F7: 23483950 | I7: 72700 | J7: 72700 | K7: =+J7*D7 -> 25445000 | L7: 83100 | M7: 83100 | N7: 29085000 | O7: 50000 | P7: 50000 | Q7: 17500000 | S7: =+ROUND(AVERAGE(I7,L7,O7),0) -> 68600 | T7: =+ROUND(S7*(1+$D$2),0) -> 68600 | U7: =+ROUND(T7*D7,0) -> 24010000 | W7: =+ROUND(GEOMEAN(I7,L7,O7),0) -> 67097 | X7: =+ROUND(W7*(1+$D$2),0) -> 67097 | Y7: =+ROUND(X7*$D7,0) -> 23483950 | AA7: =+ROUND(AVERAGE(SMALL((J7,L7,O7),{1;2;3})),0) -> 68600 | AB7: =+ROUND(AA7*(1+$D$2),0) -> 68600 | AC7: =+ROUND(AB7*$D7,0) -> 24010000 | AE7: =+ROUND(STDEV(I7,L7,O7),0) -> 16927 | AF7: =+ROUND(S7-AE7,0) -> 51673 | AG7: =+ROUND(S7+AE7,0) -> 85527
A8: Exámenes médico ocupacionales de egreso | D8: 50 | E8: 36005 | F8: 1800250 | I8: 33700 | J8: 33700 | K8: =+J8*D8 -> 1685000 | L8: 27700 | M8: 27700 | N8: 1385000 | O8: 50000 | P8: 50000 | Q8: 2500000 | S8: =+ROUND(AVERAGE(I8,L8,O8),0) -> 37133 | T8: =+ROUND(S8*(1+$D$2),0) -> 37133 | U8: =+ROUND(T8*D8,0) -> 1856650 | W8: =+ROUND(GEOMEAN(I8,L8,O8),0) -> 36005 | X8: =+ROUND(W8*(1+$D$2),0) -> 36005 | Y8: =+ROUND(X8*$D8,0) -> 1800250 | AA8: =+ROUND(AVERAGE(SMALL((J8,L8,O8),{1;2;3})),0) -> 37133 | AB8: =+ROUND(AA8*(1+$D$2),0) -> 37133 | AC8: =+ROUND(AB8*$D8,0) -> 1856650 | AE8: =+ROUND(STDEV(I8,L8,O8),0) -> 11540 | AF8: =+ROUND(S8-AE8,0) -> 25593 | AG8: =+ROUND(S8+AE8,0) -> 48673
A9: Exámenes post incapacidad | D9: 10 | E9: 75270 | F9: 752700 | I9: 110300 | J9: 110300 | K9: =+J9*D9 -> 1103000 | L9: 51550 | M9: 51550 | N9: 515500 | O9: 75000 | P9: 75000 | Q9: 750000 | S9: =+ROUND(AVERAGE(I9,L9,O9),0) -> 78950 | T9: =+ROUND(S9*(1+$D$2),0) -> 78950 | U9: =+ROUND(T9*D9,0) -> 789500 | W9: =+ROUND(GEOMEAN(I9,L9,O9),0) -> 75270 | X9: =+ROUND(W9*(1+$D$2),0) -> 75270 | Y9: =+ROUND(X9*$D9,0) -> 752700 | AA9: =+ROUND(AVERAGE(SMALL((J9,L9,O9),{1;2;3})),0) -> 78950 | AB9: =+ROUND(AA9*(1+$D$2),0) -> 78950 | AC9: =+ROUND(AB9*$D9,0) -> 789500 | AE9: =+ROUND(STDEV(I9,L9,O9),0) -> 29574 | AF9: =+ROUND(S9-AE9,0) -> 49376 | AG9: =+ROUND(S9+AE9,0) -> 108524
A10: Exámenes psicosensométricos | D10: 7 | E10: 119085 | F10: 833595 | I10: 156500 | J10: 156500 | K10: =+J10*D10 -> 1095500 | L10: 119900 | M10: 119900 | N10: 839300 | O10: 90000 | P10: 90000 | Q10: 630000 | S10: =+ROUND(AVERAGE(I10,L10,O10),0) -> 122133 | T10: =+ROUND(S10*(1+$D$2),0) -> 122133 | U10: =+ROUND(T10*D10,0) -> 854931 | W10: =+ROUND(GEOMEAN(I10,L10,O10),0) -> 119085 | X10: =+ROUND(W10*(1+$D$2),0) -> 119085 | Y10: =+ROUND(X10*$D10,0) -> 833595 | AA10: =+ROUND(AVERAGE(SMALL((J10,L10,O10),{1;2;3})),0) -> 122133 | AB10: =+ROUND(AA10*(1+$D$2),0) -> 122133 | AC10: =+ROUND(AB10*$D10,0) -> 854931 | AE10: =+ROUND(STDEV(I10,L10,O10),0) -> 33306 | AF10: =+ROUND(S10-AE10,0) -> 88827 | AG10: =+ROUND(S10+AE10,0) -> 155439
A11: Optometría | D11: 400 | E11: 23072 | F11: 9228800 | I11: 23000 | J11: 23000 | K11: =+J11*D11 -> 9200000 | L11: 17800 | M11: 17800 | N11: 7120000 | O11: 30000 | P11: 30000 | Q11: 12000000 | S11: =+ROUND(AVERAGE(I11,L11,O11),0) -> 23600 | T11: =+ROUND(S11*(1+$D$2),0) -> 23600 | U11: =+ROUND(T11*D11,0) -> 9440000 | W11: =+ROUND(GEOMEAN(I11,L11,O11),0) -> 23072 | X11: =+ROUND(W11*(1+$D$2),0) -> 23072 | Y11: =+ROUND(X11*$D11,0) -> 9228800 | AA11: =+ROUND(AVERAGE(SMALL((J11,L11,O11),{1;2;3})),0) -> 23600 | AB11: =+ROUND(AA11*(1+$D$2),0) -> 23600 | AC11: =+ROUND(AB11*$D11,0) -> 9440000 | AE11: =+ROUND(STDEV(I11,L11,O11),0) -> 6122 | AF11: =+ROUND(S11-AE11,0) -> 17478 | AG11: =+ROUND(S11+AE11,0) -> 29722
A12: Espirometría | D12: 50 | E12: 27460 | F12: 1373000 | I12: 29000 | J12: 29000 | K12: =+J12*D12 -> 1450000 | L12: 20400 | M12: 20400 | N12: 1020000 | O12: 35000 | P12: 35000 | Q12: 1750000 | S12: =+ROUND(AVERAGE(I12,L12,O12),0) -> 28133 | T12: =+ROUND(S12*(1+$D$2),0) -> 28133 | U12: =+ROUND(T12*D12,0) -> 1406650 | W12: =+ROUND(GEOMEAN(I12,L12,O12),0) -> 27460 | X12: =+ROUND(W12*(1+$D$2),0) -> 27460 | Y12: =+ROUND(X12*$D12,0) -> 1373000 | AA12: =+ROUND(AVERAGE(SMALL((J12,L12,O12),{1;2;3})),0) -> 28133 | AB12: =+ROUND(AA12*(1+$D$2),0) -> 28133 | AC12: =+ROUND(AB12*$D12,0) -> 1406650 | AE12: =+ROUND(STDEV(I12,L12,O12),0) -> 7338 | AF12: =+ROUND(S12-AE12,0) -> 20795 | AG12: =+ROUND(S12+AE12,0) -> 35471
A13: Prueba de alcoholemia | D13: 10 | E13: 50623 | F13: 506230 | I13: 81900 | J13: 81900 | K13: =+J13*D13 -> 819000 | L13: 35200 | M13: 35200 | N13: 352000 | O13: 45000 | P13: 45000 | Q13: 450000 | S13: =+ROUND(AVERAGE(I13,L13,O13),0) -> 54033 | T13: =+ROUND(S13*(1+$D$2),0) -> 54033 | U13: =+ROUND(T13*D13,0) -> 540330 | W13: =+ROUND(GEOMEAN(I13,L13,O13),0) -> 50623 | X13: =+ROUND(W13*(1+$D$2),0) -> 50623 | Y13: =+ROUND(X13*$D13,0) -> 506230 | AA13: =+ROUND(AVERAGE(SMALL((J13,L13,O13),{1;2;3})),0) -> 54033 | AB13: =+ROUND(AA13*(1+$D$2),0) -> 54033 | AC13: =+ROUND(AB13*$D13,0) -> 540330 | AE13: =+ROUND(STDEV(I13,L13,O13),0) -> 24626 | AF13: =+ROUND(S13-AE13,0) -> 29407 | AG13: =+ROUND(S13+AE13,0) -> 78659
A14: Prueba de laboratorio de perfil lipídico | D14: 300 | E14: 42488 | F14: 12746400 | I14: 37000 | J14: 37000 | K14: =+J14*D14 -> 11100000 | L14: 34550 | M14: 34550 | N14: 10365000 | O14: 60000 | P14: 60000 | Q14: 18000000 | S14: =+ROUND(AVERAGE(I14,L14,O14),0) -> 43850 | T14: =+ROUND(S14*(1+$D$2),0) -> 43850 | U14: =+ROUND(T14*D14,0) -> 13155000 | W14: =+ROUND(GEOMEAN(I14,L14,O14),0) -> 42488 | X14: =+ROUND(W14*(1+$D$2),0) -> 42488 | Y14: =+ROUND(X14*$D14,0) -> 12746400 | AA14: =+ROUND(AVERAGE(SMALL((J14,L14,O14),{1;2;3})),0) -> 43850 | AB14: =+ROUND(AA14*(1+$D$2),0) -> 43850 | AC14: =+ROUND(AB14*$D14,0) -> 13155000 | AE14: =+ROUND(STDEV(I14,L14,O14),0) -> 14040 | AF14: =+ROUND(S14-AE14,0) -> 29810 | AG14: =+ROUND(S14+AE14,0) -> 57890
A15: TOTAL | D15: =SUM(D6:D14) -> 1227 | F15: 54079775 | K15: =SUM(K6:K14) -> 55532500 | N15: =SUM(N6:N14) -> 54836800 | Q15: =SUM(Q6:Q14) -> 56080000 | S15: =SUM(S6:S14) -> 525032 | T15: =SUM(T6:T14) -> 525032 | U15: =SUM(U6:U14) -> 55483061 | W15: =SUM(W6:W14) -> 508197 | X15: =SUM(X6:X14) -> 508197 | Y15: =SUM(Y6:Y14) -> 54079775 | AA15: =SUM(AA6:AA14) -> 525032 | AB15: =SUM(AB6:AB14) -> 525032 | AC15: =SUM(AC6:AC14) -> 55483061 | AE15: =SUM(AE6:AE14) -> 160400 | AF15: =SUM(AF6:AF14) -> 364632 | AG15: =SUM(AG6:AG14) -> 685432
A17: Tipo de examén | D17: Cantidades aproximadas | E17: PRECIO UNITARIO IVA INCLUIDO | F17: PRECIO TOTAL IVA INCLUIDO
A20: Exámenes médico ocupacionales ingreso con énfasis osteomuscular y/o psicosocial | D20: 50 | E20: 67097 | F20: =D20*E20 -> 3354850
A21: Exámenes médico ocupacionales periódico con énfasis osteomuscular y/o psicosocial | D21: 350 | E21: 67097 | F21: =D21*E21 -> 23483950
A22: Exámenes médico ocupacionales de egreso | D22: 50 | E22: 36005 | F22: =D22*E22 -> 1800250
A23: Exámenes post incapacidad | D23: 10 | E23: 75270 | F23: =D23*E23 -> 752700
A24: Exámenes psicosensométricos | D24: 7 | E24: 119085 | F24: =D24*E24 -> 833595
A25: Optometría | D25: 400 | E25: 23072 | F25: =D25*E25 -> 9228800
A26: Espirometría | D26: 50 | E26: 27460 | F26: =D26*E26 -> 1373000
A27: Prueba de alcoholemia | D27: 10 | E27: 50623 | F27: =D27*E27 -> 506230
A28: Prueba de laboratorio de perfil lipídico | D28: 300 | E28: 42488 | F28: =D28*E28 -> 12746400
A29: TOTAL | D29: =SUM(D20:D28) -> 1227 | F29: =SUM(F20:F28) -> 54079775
