Workbook
Name class: #REF!
Name Compras_Suministro: #REF!
Name Diseño: #REF!
Name Honorarios: #REF!
Name ica: #REF!
Name Interventoria_Consultoria: #REF!
Name Obra_Pública: #REF!
Name OLE_LINK1: 'COT 2025'!#REF!
Name OLE_LINK1: 'COT 2026 '!#REF!
Name RowTitleRegion1..D18: #REF!
Name Servicios_Generales: #REF!
Name Titulo1: #REF!
Name Titulo2: #REF!
Name Título3: #REF!
Name Transporte_Carga: #REF!
Name Transporte_Restaurante: #REF!

Sheet ANALISIS
A1: AHORRO SI SE REALIZA ADICIÓN Y PRORROGA | D1: =U44/T44 -> 0.18269623
A4: ITEM | B4: ACTIVIDAD | C4: ITEM | D4: UNIDAD DE MEDIDA | E4: CANT ESTIMADA CONTRATO | F4: COTIZACIÓN | P4: ESTUDIO DE MERCADO | U4: DIFERENCIA
F5: COTIZACIÓN SERVICIOS 2025 | K5: COTIZACIÓN SERVICIOS 2026
F6: PLAZO | G6: VALOR UNITARIO ANTES DE IVA | H6: VALOR DEL IVA | I6: VALOR UNITARIO INCLUIDO IVA | J6: V/TOTAL INCLUIDO IVA | K6: PLAZO | L6: VALOR UNITARIO ANTES DE IVA | M6: VALOR DEL IVA | N6: VALOR UNITARIO INCLUIDO IVA | O6: V/TOTAL INCLUIDO IVA | P6: PLAZO | Q6: VALOR UNITARIO ANTES DE IVA | R6: VALOR DEL IVA | S6: VALOR UNITARIO INCLUIDO IVA | T6: V/TOTAL INCLUIDO IVA
A7: 1 | B7: MENSAJERIA | C7: URBANO | D7: SOBRE MEDIA CARTA Y/O CARTA/COBRO MENSUAL | E7: 854 | F7: 5 | G7: =ROUND('COT 2025'!G13,0) -> 11300 | H7: 0 | I7: =ROUND((G7+H7),0) -> 11300 | J7: =ROUND(I7*E7*F7,0) -> 48251000 | K7: 7 | L7: 11842.4 | M7: 0 | N7: =ROUND((L7+M7),0) -> 11842 | O7: =ROUND(N7*E7*K7,0) -> 70791476 | P7: 12 | Q7: =ROUND('COPIA - Estudio de mercado'!X4,0) -> 13765 | R7: 0 | S7: =ROUND(Q7+R7,0) -> 13765 | T7: =ROUND(E7*P7*S7,0) -> 141063720 | U7: =ROUND(T7-(O7+J7),0) -> 22021244
A8: 2 | B8: MENSAJERIA | C8: NACIONAL | D8: SOBRE MEDIA CARTA Y/O CARTA/COBRO MENSUAL | E8: 1547 | F8: 5 | G8: =ROUND('COT 2025'!G14,0) -> 18200 | H8: 0 | I8: =ROUND((G8+H8),0) -> 18200 | J8: =ROUND(I8*E8*F8,0) -> 140777000 | K8: 7 | L8: 19073.6 | M8: 0 | N8: =ROUND((L8+M8),0) -> 19074 | O8: =ROUND(N8*E8*K8,0) -> 206552346 | P8: 12 | Q8: =ROUND('COPIA - Estudio de mercado'!X5,0) -> 22200 | R8: 0 | S8: =ROUND(Q8+R8,0) -> 22200 | T8: =ROUND(E8*P8*S8,0) -> 412120800 | U8: =ROUND(T8-(O8+J8),0) -> 64791454
A9: 3 | B9: MENSAJERIA | C9: REGIONAL | D9: SOBRE MEDIA CARTA Y/O CARTA/COBRO MENSUAL | E9: 107 | F9: 5 | G9: =ROUND('COT 2025'!G15,0) -> 16800 | H9: 0 | I9: =ROUND((G9+H9),0) -> 16800 | J9: =ROUND(I9*E9*F9,0) -> 8988000 | K9: 7 | L9: 17606.4 | M9: 0 | N9: =ROUND((L9+M9),0) -> 17606 | O9: =ROUND(N9*E9*K9,0) -> 13186894 | P9: 12 | Q9: =ROUND('COPIA - Estudio de mercado'!X6,0) -> 20011 | R9: 0 | S9: =ROUND(Q9+R9,0) -> 20011 | T9: =ROUND(E9*P9*S9,0) -> 25694124 | U9: =ROUND(T9-(O9+J9),0) -> 3519230
A10: 4 | B10: MENSAJERIA | C10: TRAYECTO ESPECIAL | D10: SOBRE MEDIA CARTA Y/O CARTA/COBRO MENSUAL | E10: 160 | F10: 5 | G10: =ROUND('COT 2025'!G16,0) -> 35500 | H10: 0 | I10: =ROUND((G10+H10),0) -> 35500 | J10: =ROUND(I10*E10*F10,0) -> 28400000 | K10: 7 | L10: 37204 | M10: 0 | N10: =ROUND((L10+M10),0) -> 37204 | O10: =ROUND(N10*E10*K10,0) -> 41668480 | P10: 12 | Q10: =ROUND('COPIA - Estudio de mercado'!X7,0) -> 43217 | R10: 0 | S10: =ROUND(Q10+R10,0) -> 43217 | T10: =ROUND(E10*P10*S10,0) -> 82976640 | U10: =ROUND(T10-(O10+J10),0) -> 12908160
A11: 5 | B11: MENSAJERIA | C11: INTERNACIONAL | D11: SOBRE MEDIA CARTA Y/O CARTA/COBRO MENSUAL | E11: 4 | F11: 5 | G11: =ROUND('COT 2025'!G17,0) -> 310000 | H11: 0 | I11: =ROUND((G11+H11),0) -> 310000 | J11: =ROUND(I11*E11*F11,0) -> 6200000 | K11: 7 | L11: 324880 | M11: 0 | N11: =ROUND((L11+M11),0) -> 324880 | O11: =ROUND(N11*E11*K11,0) -> 9096640 | P11: 12 | Q11: =ROUND('COPIA - Estudio de mercado'!X8,0) -> 407095 | R11: 0 | S11: =ROUND(Q11+R11,0) -> 407095 | T11: =ROUND(E11*P11*S11,0) -> 19540560 | U11: =ROUND(T11-(O11+J11),0) -> 4243920
A12: 6 | B12: SERVICIO DE TULAS | C12: URBANO (INCLUYE RECEPCIÓN DE TULA EN EL PUNTO DE ATENCIÓN, TRANSPORTE A SITIO DESTINO, LA ENTREGA EFECTIVA DE LA TULA CON SU RESPECTIVO PRECINTO DE SEGURIDAD Y LA GUIA, SE DEBE CONTAR CON EL STOCK DE TULAS NECESARIO PARA LA PRESTACIÓN DEL SERVICIO) | D12: TULA (0 a 25KG PROMEDIO) / COBRO MENSUAL | E12: 144 | F12: 5 | G12: =ROUND('COT 2025'!G18,0) -> 108000 | H12: 0 | I12: =ROUND((G12+H12),0) -> 108000 | J12: =ROUND(I12*E12*F12,0) -> 77760000 | K12: 7 | L12: 113184 | M12: 0 | N12: =ROUND((L12+M12),0) -> 113184 | O12: =ROUND(N12*E12*K12,0) -> 114089472 | P12: 12 | Q12: =ROUND('COPIA - Estudio de mercado'!X9,0) -> 133567 | R12: 0 | S12: =ROUND(Q12+R12,0) -> 133567 | T12: =ROUND(E12*P12*S12,0) -> 230803776 | U12: =ROUND(T12-(O12+J12),0) -> 38954304
A13: 7 | B13: SERVICIO DE TULAS | C13: NACIONAL (INCLUYE RECEPCIÓN DE TULA EN EL PUNTO DE ATENCIÓN, TRANSPORTE A SITIO DESTINO, LA ENTREGA EFECTIVA DE LA TULA CON SU RESPECTIVO PRECINTO DE SEGURIDAD Y LA GUIA, SE DEBE CONTAR CON EL STOCK DE TULAS NECESARIO PARA LA PRESTACIÓN DEL SERVICIO) | D13: TULA (0 a 25KG PROMEDIO) / COBRO MENSUAL | E13: 554 | F13: 5 | G13: =ROUND('COT 2025'!G19,0) -> 132000 | H13: 0 | I13: =ROUND((G13+H13),0) -> 132000 | J13: =ROUND(I13*E13*F13,0) -> 365640000 | K13: 7 | L13: 138336 | M13: 0 | N13: =ROUND((L13+M13),0) -> 138336 | O13: =ROUND(N13*E13*K13,0) -> 536467008 | P13: 12 | Q13: =ROUND('COPIA - Estudio de mercado'!X10,0) -> 166505 | R13: 0 | S13: =ROUND(Q13+R13,0) -> 166505 | T13: =ROUND(E13*P13*S13,0) -> 1106925240 | U13: =ROUND(T13-(O13+J13),0) -> 204818232
A14: 8 | B14: SERVICIO DE TULAS | C14: REGIONAL (INCLUYE RECEPCIÓN DE TULA EN EL PUNTO DE ATENCIÓN, TRANSPORTE A SITIO DESTINO, LA ENTREGA EFECTIVA DE LA TULA CON SU RESPECTIVO PRECINTO DE SEGURIDAD Y LA GUIA, SE DEBE CONTAR CON EL STOCK DE TULAS NECESARIO PARA LA PRESTACIÓN DEL SERVICIO) | D14: TULA (0 a 25KG PROMEDIO) / COBRO MENSUAL | E14: 22 | F14: 5 | G14: =ROUND('COT 2025'!G20,0) -> 120000 | H14: 0 | I14: =ROUND((G14+H14),0) -> 120000 | J14: =ROUND(I14*E14*F14,0) -> 13200000 | K14: 7 | L14: 125760 | M14: 0 | N14: =ROUND((L14+M14),0) -> 125760 | O14: =ROUND(N14*E14*K14,0) -> 19367040 | P14: 12 | Q14: =ROUND('COPIA - Estudio de mercado'!X11,0) -> 152614 | R14: 0 | S14: =ROUND(Q14+R14,0) -> 152614 | T14: =ROUND(E14*P14*S14,0) -> 40290096 | U14: =ROUND(T14-(O14+J14),0) -> 7723056
A15: 9 | B15: SERVICIO DE TULAS | C15: TRAYECTO ESPECIAL (INCLUYE RECEPCIÓN DE TULA EN EL PUNTO DE ATENCIÓN, TRANSPORTE A SITIO DESTINO, LA ENTREGA EFECTIVA DE LA TULA CON SU RESPECTIVO PRECINTO DE SEGURIDAD Y LA GUIA, SE DEBE CONTAR CON EL STOCK DE TULAS NECESARIO PARA LA PRESTACIÓN DEL SERVICIO) | D15: TULA (0 a 25KG PROMEDIO) / COBRO MENSUAL | E15: 79 | F15: 5 | G15: =ROUND('COT 2025'!G21,0) -> 300000 | H15: 0 | I15: =ROUND((G15+H15),0) -> 300000 | J15: =ROUND(I15*E15*F15,0) -> 118500000 | K15: 7 | L15: 314400 | M15: 0 | N15: =ROUND((L15+M15),0) -> 314400 | O15: =ROUND(N15*E15*K15,0) -> 173863200 | P15: 12 | Q15: =ROUND('COPIA - Estudio de mercado'!X12,0) -> 365029 | R15: 0 | S15: =ROUND(Q15+R15,0) -> 365029 | T15: =ROUND(E15*P15*S15,0) -> 346047492 | U15: =ROUND(T15-(O15+J15),0) -> 53684292
A16: 10 | B16: MENSAJEROS POR DIA PARA DILIGENCIAS NOTARIALES E IMPUESTOS | C16: NACIONAL - DILIGENCIAS POR DÍA PARA NOTARIAS Y PRESENTACION DE IMPUESTOS A NIVEL NACIONAL. NO INCLUYE A LA CIUDAD DE BOGOTÁ NI EL DEPARTAMENTO DE CUNDINAMARCA | D16: TOTAL DE DÍAS MENSAJERO/COBRO POR DILIGENCIA | E16: 12 | F16: 5 | G16: =ROUND('COT 2025'!G22,0) -> 278000 | H16: 0 | I16: =ROUND((G16+H16),0) -> 278000 | J16: =ROUND(I16*E16*F16,0) -> 16680000 | K16: 7 | L16: 291344 | M16: 0 | N16: =ROUND((L16+M16),0) -> 291344 | O16: =ROUND(N16*E16*K16,0) -> 24472896 | P16: 12 | Q16: =ROUND('COPIA - Estudio de mercado'!X13,0) -> 332700 | R16: 0 | S16: =ROUND(Q16+R16,0) -> 332700 | T16: =ROUND(E16*P16*S16,0) -> 47908800 | U16: =ROUND(T16-(O16+J16),0) -> 6755904
A17: 11 | B17: MENSAJEROS POR DIA PARA DILIGENCIAS NOTARIALES E IMPUESTOS | C17: REGIONAL - DILIGENCIAS POR DÍA PARA NOTARIAS Y PRESENTACION DE IMPUESTOS A NIVEL NACIONAL. NO INCLUYE A LA CIUDAD DE BOGOTÁ NI EL DEPARTAMENTO DE CUNDINAMARCA | D17: TOTAL DE DÍAS MENSAJERO/COBRO POR DILIGENCIA | E17: 1 | F17: 5 | G17: =ROUND('COT 2025'!G23,0) -> 270000 | H17: 0 | I17: =ROUND((G17+H17),0) -> 270000 | J17: =ROUND(I17*E17*F17,0) -> 1350000 | K17: 7 | L17: 282960 | M17: 0 | N17: =ROUND((L17+M17),0) -> 282960 | O17: =ROUND(N17*E17*K17,0) -> 1980720 | P17: 12 | Q17: =ROUND('COPIA - Estudio de mercado'!X14,0) -> 325093 | R17: 0 | S17: =ROUND(Q17+R17,0) -> 325093 | T17: =ROUND(E17*P17*S17,0) -> 3901116 | U17: =ROUND(T17-(O17+J17),0) -> 570396
A18: 12 | B18: MENSAJEROS POR DIA PARA DILIGENCIAS NOTARIALES E IMPUESTOS | C18: TRAYECTOS ESPECIALES - DILIGENCIAS POR DÍA PARA NOTARIAS Y PRESENTACION DE IMPUESTOS A NIVEL NACIONAL. NO INCLUYE A LA CIUDAD DE BOGOTÁ NI EL DEPARTAMENTO DE CUNDINAMARCA. | D18: TOTAL DE DÍAS MENSAJERO/COBRO POR DILIGENCIA | E18: 1 | F18: 5 | G18: =ROUND('COT 2025'!G24,0) -> 285000 | H18: 0 | I18: =ROUND((G18+H18),0) -> 285000 | J18: =ROUND(I18*E18*F18,0) -> 1425000 | K18: 7 | L18: 298680 | M18: 0 | N18: =ROUND((L18+M18),0) -> 298680 | O18: =ROUND(N18*E18*K18,0) -> 2090760 | P18: 12 | Q18: =ROUND('COPIA - Estudio de mercado'!X15,0) -> 368923 | R18: 0 | S18: =ROUND(Q18+R18,0) -> 368923 | T18: =ROUND(E18*P18*S18,0) -> 4427076 | U18: =ROUND(T18-(O18+J18),0) -> 911316
A19: 13 | B19: APOYO A FERIAS INMOBILIARIAS | C19: REGIONAL (ASISTENCIA A EVENTUALES DILIGENCIAS DE FERIAS INMOBILIARIAS, ACTIVIDAD QUE INCLUYE LOS GASTOS ASOCIADOS AL TRASLADO A LA FERIA) | D19: TOTAL DE DÍAS ASISTENCIA/COBRO POR TURNO | E19: 1 | F19: 5 | G19: =ROUND('COT 2025'!G25,0) -> 505000 | H19: =+ROUND(G19*0.19,0) -> 95950 | I19: =ROUND((G19+H19),0) -> 600950 | J19: =ROUND(I19*E19*F19,0) -> 3004750 | K19: 7 | L19: 529240 | M19: =+ROUND(L19*0.19,0) -> 100556 | N19: =ROUND((L19+M19),0) -> 629796 | O19: =ROUND(N19*E19*K19,0) -> 4408572 | P19: 12 | Q19: =ROUND('COPIA - Estudio de mercado'!X16,0) -> 701800 | R19: =+ROUND(Q19*0.19,0) -> 133342 | S19: =ROUND(Q19+R19,0) -> 835142 | T19: =ROUND(E19*P19*S19,0) -> 10021704 | U19: =ROUND(T19-(O19+J19),0) -> 2608382
A20: 14 | C20: NACIONAL (ASISTENCIA A EVENTUALES DILIGENCIAS DE FERIAS INMOBILIARIAS, ACTIVIDAD QUE INCLUYE LOS GASTOS ASOCIADOS AL TRASLADO A LA FERIA) | D20: TOTAL DE DÍAS ASISTENCIA/COBRO POR TURNO | E20: 1 | F20: 5 | G20: =ROUND('COT 2025'!G26,0) -> 590000 | H20: =+ROUND(G20*0.19,0) -> 112100 | I20: =ROUND((G20+H20),0) -> 702100 | J20: =ROUND(I20*E20*F20,0) -> 3510500 | K20: 7 | L20: 618320 | M20: =+ROUND(L20*0.19,0) -> 117481 | N20: =ROUND((L20+M20),0) -> 735801 | O20: =ROUND(N20*E20*K20,0) -> 5150607 | P20: 12 | Q20: =ROUND('COPIA - Estudio de mercado'!X17,0) -> 787441 | R20: =+ROUND(Q20*0.19,0) -> 149614 | S20: =ROUND(Q20+R20,0) -> 937055 | T20: =ROUND(E20*P20*S20,0) -> 11244660 | U20: =ROUND(T20-(O20+J20),0) -> 2583553
A21: 15 | C21: TRAYECTO ESPECIAL (ASISTENCIA A EVENTUALES DILIGENCIAS DE FERIAS INMOBILIARIAS, ACTIVIDAD QUE INCLUYE LOS GASTOS ASOCIADOS AL TRASLADO A LA FERIA) | D21: TOTAL DE DÍAS ASISTENCIA/COBRO POR TURNO | E21: 1 | F21: 5 | G21: =ROUND('COT 2025'!G27,0) -> 830000 | H21: =+ROUND(G21*0.19,0) -> 157700 | I21: =ROUND((G21+H21),0) -> 987700 | J21: =ROUND(I21*E21*F21,0) -> 4938500 | K21: 7 | L21: 869840 | M21: =+ROUND(L21*0.19,0) -> 165270 | N21: =ROUND((L21+M21),0) -> 1035110 | O21: =ROUND(N21*E21*K21,0) -> 7245770 | P21: 12 | Q21: =ROUND('COPIA - Estudio de mercado'!X18,0) -> 1004559 | R21: =+ROUND(Q21*0.19,0) -> 190866 | S21: =ROUND(Q21+R21,0) -> 1195425 | T21: =ROUND(E21*P21*S21,0) -> 14345100 | U21: =ROUND(T21-(O21+J21),0) -> 2160830
A22: 16 | B22: APOYO RADICACIÓN SEDE PRINCIPAL | C22: LÍDERES DE RADICACIÓN / COORDINADOR QUE CUENTE CON EQUIPO DE CÓMPUTO, CUENTAS DE CORREO ELECTRÓNICO, 1 ESCÁNER, 1 IMPRESORA TÉRMICA, 1 PISTOLAS LECTORAS Y PAPELERÍA NECESARIA PARA LA OPERACIÓN. | D22: APOYO RADICACIÓN/COBRO MENSUAL | E22: 3 | F22: 5 | G22: =ROUND('COT 2025'!G28,0) -> 8250000 | H22: =+ROUND(G22*0.19,0) -> 1567500 | I22: =ROUND((G22+H22),0) -> 9817500 | J22: =ROUND(I22*E22*F22,0) -> 147262500 | K22: 7 | L22: 8646000 | M22: =+ROUND(L22*0.19,0) -> 1642740 | N22: =ROUND((L22+M22),0) -> 10288740 | O22: =ROUND(N22*E22*K22,0) -> 216063540 | P22: 12 | Q22: =ROUND('COPIA - Estudio de mercado'!X19,0) -> 9734857 | R22: =+ROUND(Q22*0.19,0) -> 1849623 | S22: =ROUND(Q22+R22,0) -> 11584480 | T22: =ROUND(E22*P22*S22,0) -> 417041280 | U22: =ROUND(T22-(O22+J22),0) -> 53715240
C23: TÉCNICO DE SOPORTE QUE CUENTE CON EQUIPO DE CÓMPUTO PORTATIL. | D23: APOYO RADICACIÓN/COBRO MENSUAL | E23: 1 | F23: 5 | G23: =ROUND('COT 2025'!G29,0) -> 6800000 | H23: =+ROUND(G23*0.19,0) -> 1292000 | I23: =ROUND((G23+H23),0) -> 8092000 | J23: =ROUND(I23*E23*F23,0) -> 40460000 | K23: 7 | L23: 7126400 | M23: =+ROUND(L23*0.19,0) -> 1354016 | N23: =ROUND((L23+M23),0) -> 8480416 | O23: =ROUND(N23*E23*K23,0) -> 59362912 | P23: 12 | Q23: =ROUND('COPIA - Estudio de mercado'!X20,0) -> 8460271 | R23: =+ROUND(Q23*0.19,0) -> 1607451 | S23: =ROUND(Q23+R23,0) -> 10067722 | T23: =ROUND(E23*P23*S23,0) -> 120812664 | U23: =ROUND(T23-(O23+J23),0) -> 20989752
C24: AUXILIARES DE RADICACIÓN, TÉCNICOS DE RADICACIÓN, 1 IMPRESORA, 5 ESCÁNER, 8 IMPRESORA TÉRMICA, 4 PISTOLAS LECTORAS Y PAPELERÍA NECESARIA PARA LA OPERACIÓN.. | D24: APOYO RADICACIÓN/COBRO MENSUAL | E24: 25 | F24: 5 | G24: =ROUND('COT 2025'!G30,0) -> 5230000 | H24: =+ROUND(G24*0.19,0) -> 993700 | I24: =ROUND((G24+H24),0) -> 6223700 | J24: =ROUND(I24*E24*F24,0) -> 777962500 | K24: 7 | L24: 5481040 | M24: =+ROUND(L24*0.19,0) -> 1041398 | N24: =ROUND((L24+M24),0) -> 6522438 | O24: =ROUND(N24*E24*K24,0) -> 1141426650 | P24: 12 | Q24: =ROUND('COPIA - Estudio de mercado'!X21,0) -> 6193257 | R24: =+ROUND(Q24*0.19,0) -> 1176719 | S24: =ROUND(Q24+R24,0) -> 7369976 | T24: =ROUND(E24*P24*S24,0) -> 2210992800 | U24: =ROUND(T24-(O24+J24),0) -> 291603650
A25: 17 | B25: APOYO CENTROS DE RADICACIÓN | C25: APOYO EN LOS CENTROS DE RADICACIÓN EN LOS PUNTOS DE ATENCIÓN: BOGOTÁ: CNA Y PUNTO ANGEL CAN, SUBA, SOACHA, MEDELLÍN, VIVA BARRANQUILLA, BUCARAMANGA, CALI AMÉRICAS, CALI GUADALUPE, PEREIRA, GIRARDOT, VILLAVICENCIO, MAYORCA (MEDELLÍN), VALLEDUPAR, SANTA MARTA, TUNJA, CÚCUTA, NEIVA, SOLEDAD, IBAGUÉ, MANIZALES, CARTAGENA, POPAYÁN, PASTO, APARTADO, MONTERÍA. INCLUYE AUXILIARES DE RADICACIÓN QUE CUENTEN CON EQUIPO DE CÓMPUTO, CUENTAS DE CORREO ELECTRÓNICO, IMPRESORA, ESCÁNER, IMPRESORA TÉRMICA, PISTOLA LECTORA Y PAPELERÍA NECESARIA PARA LA OPERACIÓN. | D25: APOYO RADICACIÓN/COBRO MENSUAL | E25: 49 | F25: 5 | G25: =ROUND('COT 2025'!G31,0) -> 5230000 | H25: =+ROUND(G25*0.19,0) -> 993700 | I25: =ROUND((G25+H25),0) -> 6223700 | J25: =ROUND(I25*E25*F25,0) -> 1524806500 | K25: 7 | L25: 5481040 | M25: =+ROUND(L25*0.19,0) -> 1041398 | N25: =ROUND((L25+M25),0) -> 6522438 | O25: =ROUND(N25*E25*K25,0) -> 2237196234 | P25: 12 | Q25: =ROUND('COPIA - Estudio de mercado'!X22,0) -> 6250400 | R25: =+ROUND(Q25*0.19,0) -> 1187576 | S25: =ROUND(Q25+R25,0) -> 7437976 | T25: =ROUND(E25*P25*S25,0) -> 4373529888 | U25: =ROUND(T25-(O25+J25),0) -> 611527154
A26: 18 | B26: MOTORIZADOS | C26: URBANO - MENSAJEROS MOTORIZADOS TIEMPO COMPLETO PARA BOGOTA Y SUS ALREDEDORES | D26: MOTORIZADO/COBRO MENSUAL | E26: 5 | F26: 5 | G26: =ROUND('COT 2025'!G32,0) -> 5450000 | H26: 0 | I26: =ROUND((G26+H26),0) -> 5450000 | J26: =ROUND(I26*E26*F26,0) -> 136250000 | K26: 7 | L26: 5711600 | M26: 0 | N26: =ROUND((L26+M26),0) -> 5711600 | O26: =ROUND(N26*E26*K26,0) -> 199906000 | P26: 12 | Q26: =ROUND('COPIA - Estudio de mercado'!X23,0) -> 6687543 | R26: 0 | S26: =ROUND(Q26+R26,0) -> 6687543 | T26: =ROUND(E26*P26*S26,0) -> 401252580 | U26: =ROUND(T26-(O26+J26),0) -> 65096580
A27: 19 | B27: APOYO A LA GESTIÓN DOCUMENTAL FUNZA | C27: ARCHIVO CENTRAL SEDE SAN DIEGO PERSONAL: PERSONAL QUE GESTIONARÁ LAS TRANSFERENCIAS, PRESTAMOS DOCUMENTALES, AUXILIARES DE ARCHIVO QUE INCLUYA EQUIPO DE CÓMPUTO, 1 IMPRESORA, CUENTAS DE CORREO ELECTRÓNICO, EPP (BOTAS, BATA, GUANTES Y TAPABOCAS) Y PAPELERÍA NECESARIA PARA LA OPERACIÓN. SE REQUIERE DE FORMA MINIMA 1 ESCANER PARA TODO EL EQUIPO QUE APOYARÁ LAS ACTIVIDADES REQUERIDAS EN EL PUNTO 2 ANEXO TÉCNICO No 1. | D27: APOYO GD/ COBRO MENSUAL | E27: 41 | F27: 5 | G27: =ROUND('COT 2025'!G33,0) -> 5020000 | H27: =+ROUND(G27*0.19,0) -> 953800 | I27: =ROUND((G27+H27),0) -> 5973800 | J27: =ROUND(I27*E27*F27,0) -> 1224629000 | K27: 3 | L27: 5260960 | M27: =+ROUND(L27*0.19,0) -> 999582 | N27: =ROUND((L27+M27),0) -> 6260542 | O27: =ROUND(N27*E27*K27,0) -> 770046666 | P27: 12 | Q27: =ROUND('COPIA - Estudio de mercado'!X24,0) -> 6407029 | R27: =+ROUND(Q27*0.19,0) -> 1217336 | S27: =ROUND(Q27+R27,0) -> 7624365 | T27: =ROUND(E27*P27*S27,0) -> 3751187580 | U27: =ROUND(T27-(O27+J27),0) -> 1756511914
A28: 19 | B28: APOYO A LA GESTIÓN DOCUMENTAL FUNZA | C28: ARCHIVO CENTRAL SEDE SAN DIEGO PERSONAL: PERSONAL QUE GESTIONARÁ LAS TRANSFERENCIAS, PRESTAMOS DOCUMENTALES, AUXILIARES DE ARCHIVO QUE INCLUYA EQUIPO DE CÓMPUTO, 1 IMPRESORA, CUENTAS DE CORREO ELECTRÓNICO, EPP (BOTAS, BATA, GUANTES Y TAPABOCAS) Y PAPELERÍA NECESARIA PARA LA OPERACIÓN. SE REQUIERE DE FORMA MINIMA 1 ESCANER PARA TODO EL EQUIPO QUE APOYARÁ LAS ACTIVIDADES REQUERIDAS EN EL PUNTO 2 ANEXO TÉCNICO No 1. | D28: APOYO GD/ COBRO MENSUAL | E28: 20 | F28: 0 | G28: =ROUND('COT 2025'!G33,0) -> 5020000 | H28: =+ROUND(G28*0.19,0) -> 953800 | I28: =ROUND((G28+H28),0) -> 5973800 | J28: =ROUND(I28*E28*F28,0) -> 0 | K28: 4 | L28: 5260960 | M28: =+ROUND(L28*0.19,0) -> 999582 | N28: =ROUND((L28+M28),0) -> 6260542 | O28: =ROUND(N28*E28*K28,0) -> 500843360 | P28: 0 | Q28: =ROUND('COPIA - Estudio de mercado'!X24,0) -> 6407029 | R28: =+ROUND(Q28*0.19,0) -> 1217336 | S28: =ROUND(Q28+R28,0) -> 7624365 | T28: =ROUND(E28*P28*S28,0) -> 0 | U28: =ROUND(T28-(O28+J28),0) -> -500843360
A29: 20 | B29: APOYO A LA GESTIÓN DOCUMENTAL SEDE P/PAL | C29: ARCHIVO DE GESTIÓN SEDE PRINCIPAL.PERSONAL QUE GESTIONARÁ LAS TRANSFERENCIAS, PRESTAMOS DOCUMENTALES, AUXILIARES DE ARCHIVO QUE INCLUYA EQUIPO DE CÓMPUTO, 1 IMPRESORA, 1 ESCÁNER, CUENTAS DE CORREO ELECTRÓNICO, EPP (BOTAS, BATA, GUANTES Y TAPABOCAS) Y PAPELERÍA NECESARIA PARA LA OPERACIÓN. REQUERIDA EN EL PUNTO 2 ANEXO TÉCNICO No 1 | D29: APOYO GD/ COBRO MENSUAL | E29: 7 | F29: 5 | G29: =ROUND('COT 2025'!G34,0) -> 5020000 | H29: =+ROUND(G29*0.19,0) -> 953800 | I29: =ROUND((G29+H29),0) -> 5973800 | J29: =ROUND(I29*E29*F29,0) -> 209083000 | K29: 7 | L29: 5260960 | M29: =+ROUND(L29*0.19,0) -> 999582 | N29: =ROUND((L29+M29),0) -> 6260542 | O29: =ROUND(N29*E29*K29,0) -> 306766558 | P29: 12 | Q29: =ROUND('COPIA - Estudio de mercado'!X25,0) -> 6407029 | R29: =+ROUND(Q29*0.19,0) -> 1217336 | S29: =ROUND(Q29+R29,0) -> 7624365 | T29: =ROUND(E29*P29*S29,0) -> 640446660 | U29: =ROUND(T29-(O29+J29),0) -> 124597102
A30: 21 | B30: APOYO MASIVOS | C30: ANALISTA MASIVO QUE CUENTE CON COMPUTADOR, CUENTA DE CORREO Y PISTOLA LECTORA | D30: APOYO OPERATIVO / COBRO MENSUAL | E30: 1 | F30: 5 | G30: =ROUND('COT 2025'!G35,0) -> 7020000 | H30: =+ROUND(G30*0.19,0) -> 1333800 | I30: =ROUND((G30+H30),0) -> 8353800 | J30: =ROUND(I30*E30*F30,0) -> 41769000 | K30: 7 | L30: 7356960 | M30: =+ROUND(L30*0.19,0) -> 1397822 | N30: =ROUND((L30+M30),0) -> 8754782 | O30: =ROUND(N30*E30*K30,0) -> 61283474 | P30: 12 | Q30: =ROUND('COPIA - Estudio de mercado'!X26,0) -> 8622457 | R30: =+ROUND(Q30*0.19,0) -> 1638267 | S30: =ROUND(Q30+R30,0) -> 10260724 | T30: =ROUND(E30*P30*S30,0) -> 123128688 | U30: =ROUND(T30-(O30+J30),0) -> 20076214
B31: APOYO MASIVOS | C31: AUXILIAR MASIVO CUENTE CON COMPUTADOR, CUENTA DE CORREO, PISTOLA LECTORA Y ESCANER. | D31: APOYO OPERATIVO / COBRO MENSUAL | E31: 1 | F31: 5 | G31: =ROUND('COT 2025'!G36,0) -> 5200000 | H31: =+ROUND(G31*0.19,0) -> 988000 | I31: =ROUND((G31+H31),0) -> 6188000 | J31: =ROUND(I31*E31*F31,0) -> 30940000 | K31: 7 | L31: 5449600 | M31: =+ROUND(L31*0.19,0) -> 1035424 | N31: =ROUND((L31+M31),0) -> 6485024 | O31: =ROUND(N31*E31*K31,0) -> 45395168 | P31: 12 | Q31: =ROUND('COPIA - Estudio de mercado'!X27,0) -> 6328257 | R31: =+ROUND(Q31*0.19,0) -> 1202369 | S31: =ROUND(Q31+R31,0) -> 7530626 | T31: =ROUND(E31*P31*S31,0) -> 90367512 | U31: =ROUND(T31-(O31+J31),0) -> 14032344
A32: 22 | B32: GESTIÓN DE IMPRESIÓN MASIVA | C32: RECIBOS DE PAGO DE CRÉDITOS: IMPRESIÓN EN PAPEL LASER DE 75 GRS, PRE-IMPRESO A 4X4 TINTA IMPRESIÓN VARIABLE DÚPLEX | D32: HOJA/COBRO MENSUAL | E32: 66866 | F32: 5 | G32: =ROUND('COT 2025'!G37,0) -> 255 | H32: =+ROUND(G32*0.19,0) -> 48 | I32: =ROUND((G32+H32),0) -> 303 | J32: =ROUND(I32*E32*F32,0) -> 101301990 | K32: 7 | L32: 267.24 | M32: =+ROUND(L32*0.19,0) -> 51 | N32: =ROUND((L32+M32),0) -> 318 | O32: =ROUND(N32*E32*K32,0) -> 148843716 | P32: 12 | Q32: =ROUND('COPIA - Estudio de mercado'!X28,0) -> 345 | R32: =+ROUND(Q32*0.19,0) -> 66 | S32: =ROUND(Q32+R32,0) -> 411 | T32: =ROUND(E32*P32*S32,0) -> 329783112 | U32: =ROUND(T32-(O32+J32),0) -> 79637406
A33: 23 | B33: GESTIÓN DE IMPRESIÓN MASIVA | C33: PROYECCIÓN ANUAL DE PAGOS (EL ENVÍO SE REALIZA CON LA FACTURA DE CRÉDITO DEL MES DE ENERO): IMPRESIÓN EN PAPEL LASER DE 75 GRS, PRE-IMPRESO A 4X4 TINTA IMPRESIÓN VARIABLE DÚPLEX | D33: HOJA/COBRO MENSUAL | E33: 11161 | F33: 5 | G33: =ROUND('COT 2025'!G38,0) -> 255 | H33: =+ROUND(G33*0.19,0) -> 48 | I33: =ROUND((G33+H33),0) -> 303 | J33: =ROUND(I33*E33*F33,0) -> 16908915 | K33: 7 | L33: 267.24 | M33: =+ROUND(L33*0.19,0) -> 51 | N33: =ROUND((L33+M33),0) -> 318 | O33: =ROUND(N33*E33*K33,0) -> 24844386 | P33: 12 | Q33: =ROUND('COPIA - Estudio de mercado'!X29,0) -> 345 | R33: =+ROUND(Q33*0.19,0) -> 66 | S33: =ROUND(Q33+R33,0) -> 411 | T33: =ROUND(E33*P33*S33,0) -> 55046052 | U33: =ROUND(T33-(O33+J33),0) -> 13292751
A34: 24 | B34: GESTIÓN DE IMPRESIÓN MASIVA | C34: IMPRESIÓN DE SOBRES PARA FACTURAS DE CRÉDITOS:SOBRE MEDIA CARTA, IMPRESIÓN A 4X0 TINTAS, ARMADO TROQUELADO PARA MASIVOS. | D34: SOBRE/COBRO MENSUAL | E34: 65000 | F34: 5 | G34: =ROUND('COT 2025'!G39,0) -> 410 | H34: =+ROUND(G34*0.19,0) -> 78 | I34: =ROUND((G34+H34),0) -> 488 | J34: =ROUND(I34*E34*F34,0) -> 158600000 | K34: 7 | L34: 429.68 | M34: =+ROUND(L34*0.19,0) -> 82 | N34: =ROUND((L34+M34),0) -> 512 | O34: =ROUND(N34*E34*K34,0) -> 232960000 | P34: 12 | Q34: =ROUND('COPIA - Estudio de mercado'!X30,0) -> 473 | R34: =+ROUND(Q34*0.19,0) -> 90 | S34: =ROUND(Q34+R34,0) -> 563 | T34: =ROUND(E34*P34*S34,0) -> 439140000 | U34: =ROUND(T34-(O34+J34),0) -> 47580000
A35: 25 | B35: GESTIÓN DE IMPRESIÓN MASIVA | C35: EXTRACTOS DE CESANTÍAS Y AVC: IMPRESIÓN EN PAPEL LASER 75 GR, PRE-IMPRESO 4X4 FULL COLOR, DÚPLEX, TAMAÑO OFICIO Y/O CARTA, AUTOENSOBRADO. | D35: EXTRACTO/COBRO MENSUAL | E35: 86659 | F35: 5 | G35: =ROUND('COT 2025'!G40,0) -> 272 | H35: =+ROUND(G35*0.19,0) -> 52 | I35: =ROUND((G35+H35),0) -> 324 | J35: =ROUND(I35*E35*F35,0) -> 140387580 | K35: 7 | L35: 285.056 | M35: =+ROUND(L35*0.19,0) -> 54 | N35: =ROUND((L35+M35),0) -> 339 | O35: =ROUND(N35*E35*K35,0) -> 205641807 | P35: 12 | Q35: =ROUND('COPIA - Estudio de mercado'!X31,0) -> 358 | R35: =+ROUND(Q35*0.19,0) -> 68 | S35: =ROUND(Q35+R35,0) -> 426 | T35: =ROUND(E35*P35*S35,0) -> 443000808 | U35: =ROUND(T35-(O35+J35),0) -> 96971421
A36: 26 | B36: GESTIÓN DE IMPRESIÓN MASIVA | C36: EXTRACTOS REPORTE ANUAL DE COSTOS: IMPRESIÓN EN PAPEL LASER 75 GR, PRE-IMPRESO 4X4 FULL COLOR, DÚPLEX, TAMAÑO OFICIO Y/O CARTA, AUTOENSOBRADO. | D36: EXTRACTO/COBRO MENSUAL | E36: 30830 | F36: 5 | G36: =ROUND('COT 2025'!G41,0) -> 272 | H36: =+ROUND(G36*0.19,0) -> 52 | I36: =ROUND((G36+H36),0) -> 324 | J36: =ROUND(I36*E36*F36,0) -> 49944600 | K36: 7 | L36: 285.056 | M36: =+ROUND(L36*0.19,0) -> 54 | N36: =ROUND((L36+M36),0) -> 339 | O36: =ROUND(N36*E36*K36,0) -> 73159590 | P36: 12 | Q36: =ROUND('COPIA - Estudio de mercado'!X32,0) -> 358 | R36: =+ROUND(Q36*0.19,0) -> 68 | S36: =ROUND(Q36+R36,0) -> 426 | T36: =ROUND(E36*P36*S36,0) -> 157602960 | U36: =ROUND(T36-(O36+J36),0) -> 34498770
A37: 27 | B37: GESTIÓN DE IMPRESIÓN MASIVA | C37: HABEAS DATA: IMPRESIÓN EN PAPEL LASER DE 75 GRS IMPRESIÓN VARIABLE SIMPLEX. | D37: HOJA/COBRO MENSUAL | E37: 20124 | F37: 5 | G37: =ROUND('COT 2025'!G42,0) -> 210 | H37: =+ROUND(G37*0.19,0) -> 40 | I37: =ROUND((G37+H37),0) -> 250 | J37: =ROUND(I37*E37*F37,0) -> 25155000 | K37: 7 | L37: 220.08 | M37: =+ROUND(L37*0.19,0) -> 42 | N37: =ROUND((L37+M37),0) -> 262 | O37: =ROUND(N37*E37*K37,0) -> 36907416 | P37: 12 | Q37: =ROUND('COPIA - Estudio de mercado'!X33,0) -> 275 | R37: =+ROUND(Q37*0.19,0) -> 52 | S37: =ROUND(Q37+R37,0) -> 327 | T37: =ROUND(E37*P37*S37,0) -> 78966576 | U37: =ROUND(T37-(O37+J37),0) -> 16904160
A38: 28 | B38: GESTIÓN DE IMPRESIÓN MASIVA | C38: PÓLIZAS: SEMESTRAL. IMPRESIÓN EN PAPEL LASER DE 75 GRS, PRE-IMPRESO A 4X4 TINTA IMPRESIÓN VARIABLE DÚPLEX. | D38: POLIZA/COBRO SEMESTRAL | E38: 360550 | F38: 1 | G38: =ROUND('COT 2025'!G43,0) -> 255 | H38: =+ROUND(G38*0.19,0) -> 48 | I38: =ROUND((G38+H38),0) -> 303 | J38: =ROUND(I38*E38*F38,0) -> 109246650 | K38: 1 | L38: 267.24 | M38: =+ROUND(L38*0.19,0) -> 51 | N38: =ROUND((L38+M38),0) -> 318 | O38: =ROUND(N38*E38*K38,0) -> 114654900 | P38: 2 | Q38: =ROUND('COPIA - Estudio de mercado'!X34,0) -> 345 | R38: =+ROUND(Q38*0.19,0) -> 66 | S38: =ROUND(Q38+R38,0) -> 411 | T38: =ROUND(E38*P38*S38,0) -> 296372100 | U38: =ROUND(T38-(O38+J38),0) -> 72470550
A39: 29 | B39: ALISTAMIENTO | C39: SE REALIZA POR HOJA EFECTIVAMENTE IMPRESA, ESTE SERVICIO | D39: HOJA/COBRO MENSUAL | E39: 451385 | F39: 5 | G39: =ROUND('COT 2025'!G44,0) -> 145 | H39: =+ROUND(G39*0.19,0) -> 28 | I39: =ROUND((G39+H39),0) -> 173 | J39: =ROUND(I39*E39*F39,0) -> 390448025 | K39: 7 | L39: 151.96 | M39: =+ROUND(L39*0.19,0) -> 29 | N39: =ROUND((L39+M39),0) -> 181 | O39: =ROUND(N39*E39*K39,0) -> 571904795 | P39: 12 | Q39: =ROUND('COPIA - Estudio de mercado'!X35,0) -> 209 | R39: =+ROUND(Q39*0.19,0) -> 40 | S39: =ROUND(Q39+R39,0) -> 249 | T39: =ROUND(E39*P39*S39,0) -> 1348738380 | U39: =ROUND(T39-(O39+J39),0) -> 386385560
A40: 30 | B40: DISTIRBUCIÓN MASIVA | C40: URBANA | D40: SOBRE/COBRO MENSUAL | E40: 76646 | F40: 5 | G40: =ROUND('COT 2025'!G45,0) -> 2185 | H40: 0 | I40: =ROUND((G40+H40),0) -> 2185 | J40: =ROUND(I40*E40*F40,0) -> 837357550 | K40: 7 | L40: 2289.88 | M40: 0 | N40: =ROUND((L40+M40),0) -> 2290 | O40: =ROUND(N40*E40*K40,0) -> 1228635380 | P40: 12 | Q40: =ROUND('COPIA - Estudio de mercado'!X36,0) -> 2556 | R40: 0 | S40: =ROUND(Q40+R40,0) -> 2556 | T40: =ROUND(E40*P40*S40,0) -> 2350886112 | U40: =ROUND(T40-(O40+J40),0) -> 284893182
A41: 31 | B41: DISTIRBUCIÓN MASIVA | C41: NACIONAL | D41: SOBRE/COBRO MENSUAL | E41: 109634 | F41: 5 | G41: =ROUND('COT 2025'!G46,0) -> 3040 | H41: 0 | I41: =ROUND((G41+H41),0) -> 3040 | J41: =ROUND(I41*E41*F41,0) -> 1666436800 | K41: 7 | L41: 3185.92 | M41: 0 | N41: =ROUND((L41+M41),0) -> 3186 | O41: =ROUND(N41*E41*K41,0) -> 2445057468 | P41: 12 | Q41: =ROUND('COPIA - Estudio de mercado'!X37,0) -> 3648 | R41: 0 | S41: =ROUND(Q41+R41,0) -> 3648 | T41: =ROUND(E41*P41*S41,0) -> 4799337984 | U41: =ROUND(T41-(O41+J41),0) -> 687843716
A42: 32 | B42: DISTIRBUCIÓN MASIVA | C42: REGIONAL | D42: SOBRE/COBRO MENSUAL | E42: 8186 | F42: 5 | G42: =ROUND('COT 2025'!G47,0) -> 2855 | H42: 0 | I42: =ROUND((G42+H42),0) -> 2855 | J42: =ROUND(I42*E42*F42,0) -> 116855150 | K42: 7 | L42: 2992.04 | M42: 0 | N42: =ROUND((L42+M42),0) -> 2992 | O42: =ROUND(N42*E42*K42,0) -> 171447584 | P42: 12 | Q42: =ROUND('COPIA - Estudio de mercado'!X38,0) -> 3384 | R42: 0 | S42: =ROUND(Q42+R42,0) -> 3384 | T42: =ROUND(E42*P42*S42,0) -> 332417088 | U42: =ROUND(T42-(O42+J42),0) -> 44114354
...

Sheet ADICION 
C2: FACTURACIÓN INICIAL
B4: Ítem | C4: N° de entrega | D4: Valor Facturado | E4: Valor ANS aplicado | F4: Valor a pagar menos ANS | G4: % recibido a satisfacción | H4: % Pte por facturar
B5: AGOSTO | C5: 1 | D5: 734982161 | F5: =D5-E5 -> 734982161 | G5: =F5/$D$18 -> 0.036537122 | H5: =100%-G5 -> 0.96346288
B6: SEPTIEMBRE | C6: 2 | D6: 1572837192 | F6: =D6-E6 -> 1572837192 | G6: =F6/$D$18 -> 0.078188217 | H6: =100%-G6 -> 0.92181178
B7: OCTUBRE | C7: 3 | D7: 1282082311 | F7: =D7-E7 -> 1282082311 | G7: =F7/$D$18 -> 0.063734333 | H7: =100%-G7 -> 0.93626567
B8: NOVIEMBRE | C8: 4 | D8: 2934640613 | F8: =D8-E8 -> 2934640613 | G8: =F8/$D$18 -> 0.14588561 | H8: =100%-G8 -> 0.85411439
B9: DICIEMBRE | C9: 5 | D9: 1259448055 | F9: =D9-E9 -> 1259448055 | G9: =F9/$D$18 -> 0.062609149 | H9: =100%-G9 -> 0.93739085
B10: ENERO | C10: 6 | D10: 1276044962 | E10: 238800 | F10: =D10-E10 -> 1275806162 | G10: =F10/$D$18 -> 0.063422336 | H10: =100%-(G9+G10) -> 0.87396851
B11: FEBRERO | C11: 7 | D11: 1554435870 | E11: 248400 | F11: =D11-E11 -> 1554187470 | G11: =F11/$D$18 -> 0.07726111 | H11: =100%-(G9+G10+G11) -> 0.79670741
B12: MARZO | C12: 8 | D12: 2445804410 | E12: 3629226 | F12: =D12-E12 -> 2442175184 | G12: =F12/$D$18 -> 0.12140438 | H12: =100%-(G9+G10+G11+G12) -> 0.67530303
B13: ABRIL | C13: 9 | D13: 1272976976 | F13: =D13-E13 -> 1272976976 | G13: =F13/$D$18 -> 0.063281693 | H13: =100%-(G9+G10+G11+G12+G13) -> 0.61202133
B14: MAYO | C14: 10 | D14: 1347432479 | F14: =D14-E14 -> 1347432479 | G14: =F14/$D$18 -> 0.066982993 | H14: =100%-(G9+G10+G11+G12+G13+G14) -> 0.54503834
B15: JUNIO | C15: 11 | D15: 1284321546 | F15: =D15-E15 -> 1284321546 | G15: =F15/$D$18 -> 0.063845649 | H15: =100%-(G9+G10+G11+G12+G13+G14+G15) -> 0.48119269
B16: JULIO (Proyección) | C16: 12 | D16: 2641312269 | F16: =D16-E16 -> 2641312269 | G16: =F16/$D$18 -> 0.1313038 | H16: =100%-(G9+G10+G11+G12+G13+G14+G15+G16) -> 0.34988889
B17: AGOSTO - 8 dias (Proyección) | C17: 13 | D17: 509719752 | F17: =D17-E17 -> 509719752 | G17: =F17/$D$18 -> 0.025338973 | H17: =100%-(G10+G11+G12+G13+G14+G15+G16+G17) -> 0.38715907
B18: TOTAL | D18: =SUM(D5:D17) -> 20116038596 | E18: =SUM(E5:E17) -> 4116426 | F18: =SUM(F5:F17) -> 20111922170 | G18: =SUM(G5:G17) -> 0.99979537 | H18: =100%-G18 -> 0.00020463403
B19: VALOR INICIAL CONTRATO | D19: 20987139031 | E19: =E18/D19 -> 0.00019614041
B20: PENDIENTE POR EJECUTAR | D20: =D19-D18 -> 871100435 | E20: Valor con ANS | F20: =D19-F18 -> 875216861
B22: VALOR INICIAL CONTRATO | D22: 20987139031
B23: PRESUPUESTO OFICIAL (PRORROGA) | D23: =COMPARATIVO!C17 -> 21152592603
B24: PROYECCIÓN ADICIÓN | D24: =D23-F20 -> 20277375742
B25: TOTAL FINAL CTO | D25: =D19+D24 -> 41264514773
C28: AÑO | D28: VALOR SMLMV
C29: 2024 | D29: 1300000
D30: 1423500
B33: VALOR INICIAL CONTRATO | D33: =D19 -> 20987139031 | E33: =D33/D29 -> 16143.953 | F33: SMMLV – 2024 | G33: =D34/D33 -> 0.96618104
B34: ADICIÓN SOLICITADA | D34: =D24 -> 20277375742 | E34: =D34/D30 -> 14244.732 | F34: SMMLV – 2025
B35: VALOR TOTAL CONTRATO | D35: =D33+D34 -> 41264514773

Sheet COMPARATIVO
B2: ANALISIS COMPARATIVO-COTIZACION- ESTUDIO DE MERCADO
B3: SERVICIO | C3: COTIZACIÓN | E3: ESTUDIO MERCADO | F3: DIFERENCIA VALORES | G3: PORCENTAJE DIFERENCIA
C4: VALORES 2025 | D4: VALORES 2026
B5: MENSAJERIA | C5: =SUM(ANALISIS!J7:J11) -> 232616000 | D5: =SUM(ANALISIS!O7:O11) -> 341295836 | E5: =SUM(ANALISIS!T7:T11) -> 681395844 | F5: =(E5)-(C5+D5) -> 107484008 | G5: =F5/E5 -> 0.15774092
B6: SERVICIO DE TULAS | C6: =SUM(ANALISIS!J12:J15) -> 575100000 | D6: =SUM(ANALISIS!O12:O15) -> 843786720 | E6: =SUM(ANALISIS!T12:T15) -> 1724066604 | F6: =(E6)-(C6+D6) -> 305179884 | G6: =F6/E6 -> 0.17701166
B7: MENSAJEROS POR DIA PARA DILIGENCIAS NOTARIALES E IMPUESTOS | C7: =SUM(ANALISIS!J16:J18) -> 19455000 | D7: =SUM(ANALISIS!O16:O18) -> 28544376 | E7: =SUM(ANALISIS!T16:T18) -> 56236992 | F7: =(E7)-(C7+D7) -> 8237616 | G7: =F7/E7 -> 0.14648038
B8: APOYO A FERIAS INMOBILIARIAS | C8: =SUM(ANALISIS!J19:J21) -> 11453750 | D8: =SUM(ANALISIS!O19:O21) -> 16804949 | E8: =SUM(ANALISIS!T19:T21) -> 35611464 | F8: =(E8)-(C8+D8) -> 7352765 | G8: =F8/E8 -> 0.20647185
B9: APOYO RADICACIÓN SEDE PRINCIPAL | C9: =SUM(ANALISIS!J22:J24) -> 965685000 | D9: =SUM(ANALISIS!O22:O24) -> 1416853102 | E9: =SUM(ANALISIS!T22:T24) -> 2748846744 | F9: =(E9)-(C9+D9) -> 366308642 | G9: =F9/E9 -> 0.13325903
B10: APOYO CENTROS DE RADICACIÓN | C10: =ANALISIS!J25 -> 1524806500 | D10: =ANALISIS!O25 -> 2237196234 | E10: =ANALISIS!T25 -> 4373529888 | F10: =(E10)-(C10+D10) -> 611527154 | G10: =F10/E10 -> 0.13982462
B11: MOTORIZADOS | C11: =SUM(ANALISIS!J26) -> 136250000 | D11: =ANALISIS!O26 -> 199906000 | E11: =SUM(ANALISIS!T26) -> 401252580 | F11: =(E11)-(C11+D11) -> 65096580 | G11: =F11/E11 -> 0.16223342
B12: APOYO A LA GESTIÓN DOCUMENTAL | C12: =SUM(ANALISIS!J27:J29) -> 1433712000 | D12: =SUM(ANALISIS!O27+ANALISIS!O28+ANALISIS!O29) -> 1577656584 | E12: =SUM(ANALISIS!T27:T29) -> 4391634240 | F12: =(E12)-(C12+D12) -> 1380265656 | G12: =F12/E12 -> 0.31429431
B13: APOYO MASIVOS | C13: =SUM(ANALISIS!J30:J31) -> 72709000 | D13: =SUM(ANALISIS!O30:O31) -> 106678642 | E13: =SUM(ANALISIS!T30:T31) -> 213496200 | F13: =(E13)-(C13+D13) -> 34108558 | G13: =F13/E13 -> 0.1597619
B14: GESTIÓN DE IMPRESIÓN MASIVA | C14: =SUM(ANALISIS!J32:J38) -> 601544735 | D14: =SUM(ANALISIS!O32:O38) -> 837011815 | E14: =SUM(ANALISIS!T32:T38) -> 1799911608 | F14: =(E14)-(C14+D14) -> 361355058 | G14: =F14/E14 -> 0.20076267
B15: ALISTAMIENTO | C15: =SUM(ANALISIS!J39) -> 390448025 | D15: =SUM(ANALISIS!O39) -> 571904795 | E15: =SUM(ANALISIS!T39) -> 1348738380 | F15: =(E15)-(C15+D15) -> 386385560 | G15: =F15/E15 -> 0.28647925
B16: DISTIRBUCIÓN MASIVA | C16: =SUM(ANALISIS!J40:J43) -> 2841709850 | D16: =SUM(ANALISIS!O40:O43) -> 4169463690 | E16: =SUM(ANALISIS!T40:T43) -> 8106222744 | F16: =(E16)-(C16+D16) -> 1095049204 | G16: =F16/E16 -> 0.13508748
B17: TOTAL | C17: =SUM(C5:C16)+SUM(D5:D16) -> 21152592603 | E17: =SUM(E5:E16) -> 25880943288 | F17: =E17-C17 -> 4728350685 | G17: =F17/E17 -> 0.18269623 | H17: =F17/E17 -> 0.18269623
E19: Saldo CTO | F19: Adición
E20: 875216861 | F20: =C17-E20 -> 20277375742
B22: 5 meses | C22: 2025 | D22: 680977500
B23: 3 meses | C23: 2026 | D23: 433776420
B24: 8 meses | C24: Estudio | D24: 1336973568
B26: 5 meses | C26: 2025 | D26: =(326692*21)*5 -> 34302660
B27: 3 meses | C27: 2026 | D27: =(330016*21)*3 -> 20791008
B28: 8 meses | D28: =(609419*21)*5 -> 63988995 | E28: =D28+D29 -> 102945738
D29: =(618361*21)*3 -> 38956743
B31: 8 meses | C31: Inventario | D31: =(1031444*6127) -> 6319657388

Sheet INCREMENTO
B1: VALOR UNITARIO ANTES DE IVA 2025 | C1: AUMENTO IPC 4.8% | D1: ESTIMACIÓN 2026
B2: 11300 | C2: =4.8%*B2 -> 542.4 | D2: =B2+C2 -> 11842.4
B3: 18200 | C3: =4.8%*B3 -> 873.6 | D3: =B3+C3 -> 19073.6
B4: 16800 | C4: =4.8%*B4 -> 806.4 | D4: =B4+C4 -> 17606.4
B5: 35500 | C5: =4.8%*B5 -> 1704 | D5: =B5+C5 -> 37204
B6: 310000 | C6: =4.8%*B6 -> 14880 | D6: =B6+C6 -> 324880
B7: 108000 | C7: =4.8%*B7 -> 5184 | D7: =B7+C7 -> 113184
B8: 132000 | C8: =4.8%*B8 -> 6336 | D8: =B8+C8 -> 138336
B9: 120000 | C9: =4.8%*B9 -> 5760 | D9: =B9+C9 -> 125760
B10: 300000 | C10: =4.8%*B10 -> 14400 | D10: =B10+C10 -> 314400
B11: 278000 | C11: =4.8%*B11 -> 13344 | D11: =B11+C11 -> 291344
B12: 270000 | C12: =4.8%*B12 -> 12960 | D12: =B12+C12 -> 282960
B13: 285000 | C13: =4.8%*B13 -> 13680 | D13: =B13+C13 -> 298680
... B34: 9010 | C34: =4.8%*B34 -> 432.48 | D34: =B34+C34 -> 9442.48
B35: =SUM(B2:B34) -> 57048182 | D35: =SUM(D2:D34) -> 59786495

Sheet COT  2025
A1: FONDO NACIONAL DEL AHORRO S.A.
A2: FORMATO COTIZACIÓN
A3: Descripción del Proceso: | C3: Prestación de los servicios de administración para el manejo integral de la mensajería interna, externa y/o transporte de objetos y/o piezas postales y demás servicios conexos para la adecuada administración documental del Fondo Nacional del Ahorro S.A.
A4: Nombre del Oferente
A5: NIT
A6: Representante Legal
A7: C.C
A8: 1. El valor de la oferta económica deber ser expresado en PESOS COLOMBIANOS. 2. Asignar valor en la casilla "Valor Unitario antes de IVA". El " Valor del IVA" corresponde con la regulación tributaria vigente. 3. El oferente deberá tener en cuenta todos los gravámenes, impuestos tasas y demás contribuciones para la estimación del presupuesto. 4. No modificar, agregar o quitar ningún ítem o sub-ítem, so pena de encontrarse inmerso en causal de rechazo. 5. Todos los valores deberán estar ajustados al peso, es decir, sin decimales. Para el efecto, se aplicará la formula redondeo de Excel. 6. No podrá superar los precios unitarios techo o valor unitario de referencia establecidos por la entidad ni tampoco podra ser cero (0) so pena de rechazo por encontrarse inmerso en causal de rechazo. 7. No podrá superar el Presupuesto Oficial Estimado so pena de encontrarse inmerso en causal de rechazo. NOTA • El contratista deberá prever la proyección del presupuesto para el plazo de ejecución del contrato. El FNA no asumirán los costos adicionales generados por el IPC de los años subsiguientes o cualquier otro sistema de actualización de precios; en el caso que exista reglamentación gubernamental de incrementos salariales durante la ejecución del contrato, éstos deben ser contemplados por el contratista dentro del valor de la ofertado. • Tiempo estimado de ejecución: 12 meses. • Los precios ofertados se deberán mantener durante la ejecución del contrato independientemente de la fecha de inicio de ejecución del contrato.
A12: ITEM | B12: ACTIVIDAD | C12: ITEM | D12: UNIDAD DE MEDIDA | E12: CANT ESTIMADA CONTRATO | F12: PLAZO | G12: VALOR UNITARIO ANTES DE IVA | H12: VALOR DEL IVA | I12: VALOR UNITARIO INCLUIDO IVA | J12: V/TOTAL INCLUIDO IVA | K12: VALOR SIN IVA | L12: IVA
A13: 1 | B13: MENSAJERIA | C13: URBANO | D13: SOBRE MEDIA CARTA Y/O CARTA/COBRO MENSUAL | E13: =854 -> 854 | F13: 5 | G13: 11300 | H13: 0 | I13: =ROUND((G13+H13),0) -> 11300 | J13: =ROUND(I13*E13*F13,0) -> 48251000 | K13: =+E13*G13*F13 -> 48251000 | L13: =+E13*F13*H13 -> 0
A14: 2 | B14: MENSAJERIA | C14: NACIONAL | D14: SOBRE MEDIA CARTA Y/O CARTA/COBRO MENSUAL | E14: =1547 -> 1547 | F14: 5 | G14: 18200 | H14: 0 | I14: =ROUND((G14+H14),0) -> 18200 | J14: =ROUND(I14*E14*F14,0) -> 140777000 | K14: =+E14*G14*F14 -> 140777000 | L14: =+E14*F14*H14 -> 0
A15: 3 | B15: MENSAJERIA | C15: REGIONAL | D15: SOBRE MEDIA CARTA Y/O CARTA/COBRO MENSUAL | E15: 107 | F15: 5 | G15: 16800 | H15: 0 | I15: =ROUND((G15+H15),0) -> 16800 | J15: =ROUND(I15*E15*F15,0) -> 8988000 | K15: =+E15*G15*F15 -> 8988000 | L15: =+E15*F15*H15 -> 0
A16: 4 | B16: MENSAJERIA | C16: TRAYECTO ESPECIAL | D16: SOBRE MEDIA CARTA Y/O CARTA/COBRO MENSUAL | E16: 160 | F16: 5 | G16: 35500 | H16: 0 | I16: =ROUND((G16+H16),0) -> 35500 | J16: =ROUND(I16*E16*F16,0) -> 28400000 | K16: =+E16*G16*F16 -> 28400000 | L16: =+E16*F16*H16 -> 0
A17: 5 | B17: MENSAJERIA | C17: INTERNACIONAL | D17: SOBRE MEDIA CARTA Y/O CARTA/COBRO MENSUAL | E17: 4 | F17: 5 | G17: 310000 | H17: 0 | I17: =ROUND((G17+H17),0) -> 310000 | J17: =ROUND(I17*E17*F17,0) -> 6200000 | K17: =+E17*G17*F17 -> 6200000 | L17: =+E17*F17*H17 -> 0
A18: 6 | B18: SERVICIO DE TULAS | C18: URBANO (INCLUYE RECEPCIÓN DE TULA EN EL PUNTO DE ATENCIÓN, TRANSPORTE A SITIO DESTINO, LA ENTREGA EFECTIVA DE LA TULA CON SU RESPECTIVO PRECINTO DE SEGURIDAD Y LA GUIA, SE DEBE CONTAR CON EL STOCK DE TULAS NECESARIO PARA LA PRESTACIÓN DEL SERVICIO) | D18: TULA (0 a 25KG PROMEDIO) / COBRO MENSUAL | E18: =144 -> 144 | F18: 5 | G18: 108000 | H18: 0 | I18: =ROUND((G18+H18),0) -> 108000 | J18: =ROUND(I18*E18*F18,0) -> 77760000 | K18: =+E18*G18*F18 -> 77760000 | L18: =+E18*F18*H18 -> 0
A19: 7 | B19: SERVICIO DE TULAS | C19: NACIONAL (INCLUYE RECEPCIÓN DE TULA EN EL PUNTO DE ATENCIÓN, TRANSPORTE A SITIO DESTINO, LA ENTREGA EFECTIVA DE LA TULA CON SU RESPECTIVO PRECINTO DE SEGURIDAD Y LA GUIA, SE DEBE CONTAR CON EL STOCK DE TULAS NECESARIO PARA LA PRESTACIÓN DEL SERVICIO) | D19: TULA (0 a 25KG PROMEDIO) / COBRO MENSUAL | E19: =474+80 -> 554 | F19: 5 | G19: 132000 | H19: 0 | I19: =ROUND((G19+H19),0) -> 132000 | J19: =ROUND(I19*E19*F19,0) -> 365640000 | K19: =+E19*G19*F19 -> 365640000 | L19: =+E19*F19*H19 -> 0
A20: 8 | B20: SERVICIO DE TULAS | C20: REGIONAL (INCLUYE RECEPCIÓN DE TULA EN EL PUNTO DE ATENCIÓN, TRANSPORTE A SITIO DESTINO, LA ENTREGA EFECTIVA DE LA TULA CON SU RESPECTIVO PRECINTO DE SEGURIDAD Y LA GUIA, SE DEBE CONTAR CON EL STOCK DE TULAS NECESARIO PARA LA PRESTACIÓN DEL SERVICIO) | D20: TULA (0 a 25KG PROMEDIO) / COBRO MENSUAL | E20: =22 -> 22 | F20: 5 | G20: 120000 | H20: 0 | I20: =ROUND((G20+H20),0) -> 120000 | J20: =ROUND(I20*E20*F20,0) -> 13200000 | K20: =+E20*G20*F20 -> 13200000 | L20: =+E20*F20*H20 -> 0
A21: 9 | B21: SERVICIO DE TULAS | C21: TRAYECTO ESPECIAL (INCLUYE RECEPCIÓN DE TULA EN EL PUNTO DE ATENCIÓN, TRANSPORTE A SITIO DESTINO, LA ENTREGA EFECTIVA DE LA TULA CON SU RESPECTIVO PRECINTO DE SEGURIDAD Y LA GUIA, SE DEBE CONTAR CON EL STOCK DE TULAS NECESARIO PARA LA PRESTACIÓN DEL SERVICIO) | D21: TULA (0 a 25KG PROMEDIO) / COBRO MENSUAL | E21: 79 | F21: 5 | G21: 300000 | H21: 0 | I21: =ROUND((G21+H21),0) -> 300000 | J21: =ROUND(I21*E21*F21,0) -> 118500000 | K21: =+E21*G21*F21 -> 118500000 | L21: =+E21*F21*H21 -> 0
A22: 10 | B22: MENSAJEROS POR DIA PARA DILIGENCIAS NOTARIALES E IMPUESTOS | C22: NACIONAL - DILIGENCIAS POR DÍA PARA NOTARIAS Y PRESENTACION DE IMPUESTOS A NIVEL NACIONAL. NO INCLUYE A LA CIUDAD DE BOGOTÁ NI EL DEPARTAMENTO DE CUNDINAMARCA | D22: TOTAL DE DÍAS MENSAJERO/COBRO POR DILIGENCIA | E22: 12 | F22: 5 | G22: 278000 | H22: 0 | I22: =ROUND((G22+H22),0) -> 278000 | J22: =ROUND(I22*E22*F22,0) -> 16680000 | K22: =+E22*G22*F22 -> 16680000 | L22: =+E22*F22*H22 -> 0
A23: 11 | B23: MENSAJEROS POR DIA PARA DILIGENCIAS NOTARIALES E IMPUESTOS | C23: REGIONAL - DILIGENCIAS POR DÍA PARA NOTARIAS Y PRESENTACION DE IMPUESTOS A NIVEL NACIONAL. NO INCLUYE A LA CIUDAD DE BOGOTÁ NI EL DEPARTAMENTO DE CUNDINAMARCA | D23: TOTAL DE DÍAS MENSAJERO/COBRO POR DILIGENCIA | E23: 1 | F23: 5 | G23: 270000 | H23: 0 | I23: =ROUND((G23+H23),0) -> 270000 | J23: =ROUND(I23*E23*F23,0) -> 1350000 | K23: =+E23*G23*F23 -> 1350000 | L23: =+E23*F23*H23 -> 0
A24: 12 | B24: MENSAJEROS POR DIA PARA DILIGENCIAS NOTARIALES E IMPUESTOS | C24: TRAYECTOS ESPECIALES - DILIGENCIAS POR DÍA PARA NOTARIAS Y PRESENTACION DE IMPUESTOS A NIVEL NACIONAL. NO INCLUYE A LA CIUDAD DE BOGOTÁ NI EL DEPARTAMENTO DE CUNDINAMARCA. | D24: TOTAL DE DÍAS MENSAJERO/COBRO POR DILIGENCIA | E24: 1 | F24: 5 | G24: 285000 | H24: 0 | I24: =ROUND((G24+H24),0) -> 285000 | J24: =ROUND(I24*E24*F24,0) -> 1425000 | K24: =+E24*G24*F24 -> 1425000 | L24: =+E24*F24*H24 -> 0
A25: 13 | B25: APOYO A FERIAS INMOBILIARIAS | C25: REGIONAL (ASISTENCIA A EVENTUALES DILIGENCIAS DE FERIAS INMOBILIARIAS, ACTIVIDAD QUE INCLUYE LOS GASTOS ASOCIADOS AL TRASLADO A LA FERIA) | D25: TOTAL DE DÍAS ASISTENCIA/COBRO POR TURNO | E25: 1 | F25: 5 | G25: 505000 | H25: =+ROUND(G25*0.19,0) -> 95950 | I25: =ROUND((G25+H25),0) -> 600950 | J25: =ROUND(I25*E25*F25,0) -> 3004750 | K25: =+E25*G25*F25 -> 2525000 | L25: =+E25*F25*H25 -> 479750
A26: 14 | C26: NACIONAL (ASISTENCIA A EVENTUALES DILIGENCIAS DE FERIAS INMOBILIARIAS, ACTIVIDAD QUE INCLUYE LOS GASTOS ASOCIADOS AL TRASLADO A LA FERIA) | D26: TOTAL DE DÍAS ASISTENCIA/COBRO POR TURNO | E26: 1 | F26: 5 | G26: 590000 | H26: =+ROUND(G26*0.19,0) -> 112100 | I26: =ROUND((G26+H26),0) -> 702100 | J26: =ROUND(I26*E26*F26,0) -> 3510500 | K26: =+E26*G26*F26 -> 2950000 | L26: =+E26*F26*H26 -> 560500
A27: 15 | C27: TRAYECTO ESPECIAL (ASISTENCIA A EVENTUALES DILIGENCIAS DE FERIAS INMOBILIARIAS, ACTIVIDAD QUE INCLUYE LOS GASTOS ASOCIADOS AL TRASLADO A LA FERIA) | D27: TOTAL DE DÍAS ASISTENCIA/COBRO POR TURNO | E27: 1 | F27: 5 | G27: 830000 | H27: =+ROUND(G27*0.19,0) -> 157700 | I27: =ROUND((G27+H27),0) -> 987700 | J27: =ROUND(I27*E27*F27,0) -> 4938500 | K27: =+E27*G27*F27 -> 4150000 | L27: =+E27*F27*H27 -> 788500
A28: 16 | B28: APOYO RADICACIÓN SEDE PRINCIPAL | C28: LÍDERES DE RADICACIÓN / COORDINADOR QUE CUENTE CON EQUIPO DE CÓMPUTO, CUENTAS DE CORREO ELECTRÓNICO, 1 ESCÁNER, 1 IMPRESORA TÉRMICA, 1 PISTOLAS LECTORAS Y PAPELERÍA NECESARIA PARA LA OPERACIÓN. | D28: APOYO RADICACIÓN/COBRO MENSUAL | E28: 3 | F28: 5 | G28: 8250000 | H28: =+ROUND(G28*0.19,0) -> 1567500 | I28: =ROUND((G28+H28),0) -> 9817500 | J28: =ROUND(I28*E28*F28,0) -> 147262500 | K28: =+E28*G28*F28 -> 123750000 | L28: =+E28*F28*H28 -> 23512500
C29: TÉCNICO DE SOPORTE QUE CUENTE CON EQUIPO DE CÓMPUTO PORTATIL. | D29: APOYO RADICACIÓN/COBRO MENSUAL | E29: 1 | F29: 5 | G29: 6800000 | H29: =+ROUND(G29*0.19,0) -> 1292000 | I29: =ROUND((G29+H29),0) -> 8092000 | J29: =ROUND(I29*E29*F29,0) -> 40460000 | K29: =+E29*G29*F29 -> 34000000 | L29: =+E29*F29*H29 -> 6460000
C30: AUXILIARES DE RADICACIÓN, TÉCNICOS DE RADICACIÓN, 1 IMPRESORA, 5 ESCÁNER, 8 IMPRESORA TÉRMICA, 4 PISTOLAS LECTORAS Y PAPELERÍA NECESARIA PARA LA OPERACIÓN.. | D30: APOYO RADICACIÓN/COBRO MENSUAL | E30: 25 | F30: 5 | G30: 5230000 | H30: =+ROUND(G30*0.19,0) -> 993700 | I30: =ROUND((G30+H30),0) -> 6223700 | J30: =ROUND(I30*E30*F30,0) -> 777962500 | K30: =+E30*G30*F30 -> 653750000 | L30: =+E30*F30*H30 -> 124212500
A31: 17 | B31: APOYO CENTROS DE RADICACIÓN | C31: APOYO EN LOS CENTROS DE RADICACIÓN EN LOS PUNTOS DE ATENCIÓN: BOGOTÁ: CNA Y PUNTO ANGEL CAN, SUBA, SOACHA, MEDELLÍN, VIVA BARRANQUILLA, BUCARAMANGA, CALI AMÉRICAS, CALI GUADALUPE, PEREIRA, GIRARDOT, VILLAVICENCIO, MAYORCA (MEDELLÍN), VALLEDUPAR, SANTA MARTA, TUNJA, CÚCUTA, NEIVA, SOLEDAD, IBAGUÉ, MANIZALES, CARTAGENA, POPAYÁN, PASTO, APARTADO, MONTERÍA. INCLUYE AUXILIARES DE RADICACIÓN QUE CUENTEN CON EQUIPO DE CÓMPUTO, CUENTAS DE CORREO ELECTRÓNICO, IMPRESORA, ESCÁNER, IMPRESORA TÉRMICA, PISTOLA LECTORA Y PAPELERÍA NECESARIA PARA LA OPERACIÓN. | D31: APOYO RADICACIÓN/COBRO MENSUAL | E31: 49 | F31: 5 | G31: 5230000 | H31: =+ROUND(G31*0.19,0) -> 993700 | I31: =ROUND((G31+H31),0) -> 6223700 | J31: =ROUND(I31*E31*F31,0) -> 1524806500 | K31: =+E31*G31*F31 -> 1281350000 | L31: =+E31*F31*H31 -> 243456500
A32: 18 | B32: MOTORIZADOS | C32: URBANO - MENSAJEROS MOTORIZADOS TIEMPO COMPLETO PARA BOGOTA Y SUS ALREDEDORES | D32: MOTORIZADO/COBRO MENSUAL | E32: 5 | F32: 5 | G32: 5450000 | H32: 0 | I32: =ROUND((G32+H32),0) -> 5450000 | J32: =ROUND(I32*E32*F32,0) -> 136250000 | K32: =+E32*G32*F32 -> 136250000 | L32: =+E32*F32*H32 -> 0
A33: 19 | B33: APOYO A LA GESTIÓN DOCUMENTAL | C33: ARCHIVO CENTRAL SEDE SAN DIEGO PERSONAL: PERSONAL QUE GESTIONARÁ LAS TRANSFERENCIAS, PRESTAMOS DOCUMENTALES, AUXILIARES DE ARCHIVO QUE INCLUYA EQUIPO DE CÓMPUTO, 1 IMPRESORA, CUENTAS DE CORREO ELECTRÓNICO, EPP (BOTAS, BATA, GUANTES Y TAPABOCAS) Y PAPELERÍA NECESARIA PARA LA OPERACIÓN. SE REQUIERE DE FORMA MINIMA 1 ESCANER PARA TODO EL EQUIPO QUE APOYARÁ LAS ACTIVIDADES REQUERIDAS EN EL PUNTO 2 ANEXO TÉCNICO No 1. | D33: APOYO GD/ COBRO MENSUAL | E33: 41 | F33: 5 | G33: 5020000 | H33: =+ROUND(G33*0.19,0) -> 953800 | I33: =ROUND((G33+H33),0) -> 5973800 | J33: =ROUND(I33*E33*F33,0) -> 1224629000 | K33: =+E33*G33*F33 -> 1029100000 | L33: =+E33*F33*H33 -> 195529000
A34: 20 | B34: APOYO A LA GESTIÓN DOCUMENTAL | C34: ARCHIVO DE GESTIÓN SEDE PRINCIPAL.PERSONAL QUE GESTIONARÁ LAS TRANSFERENCIAS, PRESTAMOS DOCUMENTALES, AUXILIARES DE ARCHIVO QUE INCLUYA EQUIPO DE CÓMPUTO, 1 IMPRESORA, 1 ESCÁNER, CUENTAS DE CORREO ELECTRÓNICO, EPP (BOTAS, BATA, GUANTES Y TAPABOCAS) Y PAPELERÍA NECESARIA PARA LA OPERACIÓN. REQUERIDA EN EL PUNTO 2 ANEXO TÉCNICO No 1 | D34: APOYO GD/ COBRO MENSUAL | E34: 7 | F34: 5 | G34: 5020000 | H34: =+ROUND(G34*0.19,0) -> 953800 | I34: =ROUND((G34+H34),0) -> 5973800 | J34: =ROUND(I34*E34*F34,0) -> 209083000 | K34: =+E34*G34*F34 -> 175700000 | L34: =+E34*F34*H34 -> 33383000
A35: 21 | B35: APOYO MASIVOS | C35: ANALISTA MASIVO QUE CUENTE CON COMPUTADOR, CUENTA DE CORREO Y PISTOLA LECTORA | D35: APOYO OPERATIVO / COBRO MENSUAL | E35: 1 | F35: 5 | G35: 7020000 | H35: =+ROUND(G35*0.19,0) -> 1333800 | I35: =ROUND((G35+H35),0) -> 8353800 | J35: =ROUND(I35*E35*F35,0) -> 41769000 | K35: =+E35*G35*F35 -> 35100000 | L35: =+E35*F35*H35 -> 6669000
C36: AUXILIAR MASIVO CUENTE CON COMPUTADOR, CUENTA DE CORREO, PISTOLA LECTORA Y ESCANER. | D36: APOYO OPERATIVO / COBRO MENSUAL | E36: 1 | F36: 5 | G36: 5200000 | H36: =+ROUND(G36*0.19,0) -> 988000 | I36: =ROUND((G36+H36),0) -> 6188000 | J36: =ROUND(I36*E36*F36,0) -> 30940000 | K36: =+E36*G36*F36 -> 26000000 | L36: =+E36*F36*H36 -> 4940000
A37: 22 | B37: GESTIÓN DE IMPRESIÓN MASIVA | C37: RECIBOS DE PAGO DE CRÉDITOS: IMPRESIÓN EN PAPEL LASER DE 75 GRS, PRE-IMPRESO A 4X4 TINTA IMPRESIÓN VARIABLE DÚPLEX | D37: HOJA/COBRO MENSUAL | E37: 66866 | F37: 5 | G37: 255 | H37: =+ROUND(G37*0.19,0) -> 48 | I37: =ROUND((G37+H37),0) -> 303 | J37: =ROUND(I37*E37*F37,0) -> 101301990 | K37: =+E37*G37*F37 -> 85254150 | L37: =+E37*F37*H37 -> 16047840
A38: 23 | B38: GESTIÓN DE IMPRESIÓN MASIVA | C38: PROYECCIÓN ANUAL DE PAGOS (EL ENVÍO SE REALIZA CON LA FACTURA DE CRÉDITO DEL MES DE ENERO): IMPRESIÓN EN PAPEL LASER DE 75 GRS, PRE-IMPRESO A 4X4 TINTA IMPRESIÓN VARIABLE DÚPLEX | D38: HOJA/COBRO MENSUAL | E38: 11161 | F38: 5 | G38: 255 | H38: =+ROUND(G38*0.19,0) -> 48 | I38: =ROUND((G38+H38),0) -> 303 | J38: =ROUND(I38*E38*F38,0) -> 16908915 | K38: =+E38*G38*F38 -> 14230275 | L38: =+E38*F38*H38 -> 2678640
A39: 24 | B39: GESTIÓN DE IMPRESIÓN MASIVA | C39: IMPRESIÓN DE SOBRES PARA FACTURAS DE CRÉDITOS:SOBRE MEDIA CARTA, IMPRESIÓN A 4X0 TINTAS, ARMADO TROQUELADO PARA MASIVOS. | D39: SOBRE/COBRO MENSUAL | E39: 65000 | F39: 5 | G39: 410 | H39: =+ROUND(G39*0.19,0) -> 78 | I39: =ROUND((G39+H39),0) -> 488 | J39: =ROUND(I39*E39*F39,0) -> 158600000 | K39: =+E39*G39*F39 -> 133250000 | L39: =+E39*F39*H39 -> 25350000
A40: 25 | B40: GESTIÓN DE IMPRESIÓN MASIVA | C40: EXTRACTOS DE CESANTÍAS Y AVC: IMPRESIÓN EN PAPEL LASER 75 GR, PRE-IMPRESO 4X4 FULL COLOR, DÚPLEX, TAMAÑO OFICIO Y/O CARTA, AUTOENSOBRADO. | D40: EXTRACTO/COBRO MENSUAL | E40: 86659 | F40: 5 | G40: 272 | H40: =+ROUND(G40*0.19,0) -> 52 | I40: =ROUND((G40+H40),0) -> 324 | J40: =ROUND(I40*E40*F40,0) -> 140387580 | K40: =+E40*G40*F40 -> 117856240 | L40: =+E40*F40*H40 -> 22531340
A41: 26 | B41: GESTIÓN DE IMPRESIÓN MASIVA | C41: EXTRACTOS REPORTE ANUAL DE COSTOS: IMPRESIÓN EN PAPEL LASER 75 GR, PRE-IMPRESO 4X4 FULL COLOR, DÚPLEX, TAMAÑO OFICIO Y/O CARTA, AUTOENSOBRADO. | D41: EXTRACTO/COBRO MENSUAL | E41: 30830 | F41: 5 | G41: 272 | H41: =+ROUND(G41*0.19,0) -> 52 | I41: =ROUND((G41+H41),0) -> 324 | J41: =ROUND(I41*E41*F41,0) -> 49944600 | K41: =+E41*G41*F41 -> 41928800 | L41: =+E41*F41*H41 -> 8015800
B42: GESTIÓN DE IMPRESIÓN MASIVA | C42: HABEAS DATA: IMPRESIÓN EN PAPEL LASER DE 75 GRS IMPRESIÓN VARIABLE SIMPLEX. | D42: HOJA/COBRO MENSUAL | E42: 20124 | F42: 5 | G42: 210 | H42: =+ROUND(G42*0.19,0) -> 40 | I42: =ROUND((G42+H42),0) -> 250 | J42: =ROUND(I42*E42*F42,0) -> 25155000 | K42: =+E42*G42*F42 -> 21130200 | L42: =+E42*F42*H42 -> 4024800
B43: GESTIÓN DE IMPRESIÓN MASIVA | C43: PÓLIZAS: SEMESTRAL. IMPRESIÓN EN PAPEL LASER DE 75 GRS, PRE-IMPRESO A 4X4 TINTA IMPRESIÓN VARIABLE DÚPLEX. | D43: POLIZA/COBRO SEMESTRAL | E43: 360550 | F43: 1 | G43: 255 | H43: =+ROUND(G43*0.19,0) -> 48 | I43: =ROUND((G43+H43),0) -> 303 | J43: =ROUND(I43*E43*F43,0) -> 109246650 | K43: =+E43*G43*F43 -> 91940250 | L43: =+E43*F43*H43 -> 17306400
...

Sheet COT 2026 
A1: FONDO NACIONAL DEL AHORRO S.A.
A2: FORMATO COTIZACIÓN
A3: Descripción del Proceso: | C3: Prestación de los servicios de administración para el manejo integral de la mensajería interna, externa y/o transporte de objetos y/o piezas postales y demás servicios conexos para la adecuada administración documental del Fondo Nacional del Ahorro S.A.
A4: Nombre del Oferente
A5: NIT
A6: Representante Legal
A7: C.C
A8: 1. El valor de la oferta económica deber ser expresado en PESOS COLOMBIANOS. 2. Asignar valor en la casilla "Valor Unitario antes de IVA". El " Valor del IVA" corresponde con la regulación tributaria vigente. 3. El oferente deberá tener en cuenta todos los gravámenes, impuestos tasas y demás contribuciones para la estimación del presupuesto. 4. No modificar, agregar o quitar ningún ítem o sub-ítem, so pena de encontrarse inmerso en causal de rechazo. 5. Todos los valores deberán estar ajustados al peso, es decir, sin decimales. Para el efecto, se aplicará la formula redondeo de Excel. 6. No podrá superar los precios unitarios techo o valor unitario de referencia establecidos por la entidad ni tampoco podra ser cero (0) so pena de rechazo por encontrarse inmerso en causal de rechazo. 7. No podrá superar el Presupuesto Oficial Estimado so pena de encontrarse inmerso en causal de rechazo. NOTA • El contratista deberá prever la proyección del presupuesto para el plazo de ejecución del contrato. El FNA no asumirán los costos adicionales generados por el IPC de los años subsiguientes o cualquier otro sistema de actualización de precios; en el caso que exista reglamentación gubernamental de incrementos salariales durante la ejecución del contrato, éstos deben ser contemplados por el contratista dentro del valor de la ofertado. • Tiempo estimado de ejecución: 12 meses. • Los precios ofertados se deberán mantener durante la ejecución del contrato independientemente de la fecha de inicio de ejecución del contrato.
A12: ITEM | B12: ACTIVIDAD | C12: ITEM | D12: UNIDAD DE MEDIDA | E12: CANT ESTIMADA CONTRATO | F12: PLAZO | G12: VALOR UNITARIO ANTES DE IVA | H12: VALOR DEL IVA | I12: VALOR UNITARIO INCLUIDO IVA | J12: V/TOTAL INCLUIDO IVA | K12: VALOR SIN IVA | L12: IVA
A13: 1 | B13: MENSAJERIA | C13: URBANO | D13: SOBRE MEDIA CARTA Y/O CARTA/COBRO MENSUAL | E13: =854 -> 854 | F13: 7 | G13: 11842.4 | H13: 0 | I13: 11842 | J13: =ROUND(I13*E13*F13,0) -> 70791476 | K13: =+E13*G13*F13 -> 70793867 | L13: =+E13*F13*H13 -> 0
A14: 2 | B14: MENSAJERIA | C14: NACIONAL | D14: SOBRE MEDIA CARTA Y/O CARTA/COBRO MENSUAL | E14: =1547 -> 1547 | F14: 7 | G14: 19073.6 | H14: 0 | I14: 19074 | J14: =ROUND(I14*E14*F14,0) -> 206552346 | K14: =+E14*G14*F14 -> 2.0654801e+08 | L14: =+E14*F14*H14 -> 0
A15: 3 | B15: MENSAJERIA | C15: REGIONAL | D15: SOBRE MEDIA CARTA Y/O CARTA/COBRO MENSUAL | E15: 107 | F15: 7 | G15: 17606.4 | H15: 0 | I15: 17606 | J15: =ROUND(I15*E15*F15,0) -> 13186894 | K15: =+E15*G15*F15 -> 13187194 | L15: =+E15*F15*H15 -> 0
A16: 4 | B16: MENSAJERIA | C16: TRAYECTO ESPECIAL | D16: SOBRE MEDIA CARTA Y/O CARTA/COBRO MENSUAL | E16: 160 | F16: 7 | G16: 37204 | H16: 0 | I16: 37204 | J16: =ROUND(I16*E16*F16,0) -> 41668480 | K16: =+E16*G16*F16 -> 41668480 | L16: =+E16*F16*H16 -> 0
A17: 5 | B17: MENSAJERIA | C17: INTERNACIONAL | D17: SOBRE MEDIA CARTA Y/O CARTA/COBRO MENSUAL | E17: 4 | F17: 7 | G17: 324880 | H17: 0 | I17: 324880 | J17: =ROUND(I17*E17*F17,0) -> 9096640 | K17: =+E17*G17*F17 -> 9096640 | L17: =+E17*F17*H17 -> 0
A18: 6 | B18: SERVICIO DE TULAS | C18: URBANO (INCLUYE RECEPCIÓN DE TULA EN EL PUNTO DE ATENCIÓN, TRANSPORTE A SITIO DESTINO, LA ENTREGA EFECTIVA DE LA TULA CON SU RESPECTIVO PRECINTO DE SEGURIDAD Y LA GUIA, SE DEBE CONTAR CON EL STOCK DE TULAS NECESARIO PARA LA PRESTACIÓN DEL SERVICIO) | D18: TULA (0 a 25KG PROMEDIO) / COBRO MENSUAL | E18: =144 -> 144 | F18: 7 | G18: 113184 | H18: 0 | I18: 113184 | J18: =ROUND(I18*E18*F18,0) -> 114089472 | K18: =+E18*G18*F18 -> 114089472 | L18: =+E18*F18*H18 -> 0
A19: 7 | B19: SERVICIO DE TULAS | C19: NACIONAL (INCLUYE RECEPCIÓN DE TULA EN EL PUNTO DE ATENCIÓN, TRANSPORTE A SITIO DESTINO, LA ENTREGA EFECTIVA DE LA TULA CON SU RESPECTIVO PRECINTO DE SEGURIDAD Y LA GUIA, SE DEBE CONTAR CON EL STOCK DE TULAS NECESARIO PARA LA PRESTACIÓN DEL SERVICIO) | D19: TULA (0 a 25KG PROMEDIO) / COBRO MENSUAL | E19: =474+80 -> 554 | F19: 7 | G19: 138336 | H19: 0 | I19: 138336 | J19: =ROUND(I19*E19*F19,0) -> 536467008 | K19: =+E19*G19*F19 -> 536467008 | L19: =+E19*F19*H19 -> 0
A20: 8 | B20: SERVICIO DE TULAS | C20: REGIONAL (INCLUYE RECEPCIÓN DE TULA EN EL PUNTO DE ATENCIÓN, TRANSPORTE A SITIO DESTINO, LA ENTREGA EFECTIVA DE LA TULA CON SU RESPECTIVO PRECINTO DE SEGURIDAD Y LA GUIA, SE DEBE CONTAR CON EL STOCK DE TULAS NECESARIO PARA LA PRESTACIÓN DEL SERVICIO) | D20: TULA (0 a 25KG PROMEDIO) / COBRO MENSUAL | E20: =22 -> 22 | F20: 7 | G20: 125760 | H20: 0 | I20: 125760 | J20: =ROUND(I20*E20*F20,0) -> 19367040 | K20: =+E20*G20*F20 -> 19367040 | L20: =+E20*F20*H20 -> 0
A21: 9 | B21: SERVICIO DE TULAS | C21: TRAYECTO ESPECIAL (INCLUYE RECEPCIÓN DE TULA EN EL PUNTO DE ATENCIÓN, TRANSPORTE A SITIO DESTINO, LA ENTREGA EFECTIVA DE LA TULA CON SU RESPECTIVO PRECINTO DE SEGURIDAD Y LA GUIA, SE DEBE CONTAR CON EL STOCK DE TULAS NECESARIO PARA LA PRESTACIÓN DEL SERVICIO) | D21: TULA (0 a 25KG PROMEDIO) / COBRO MENSUAL | E21: 79 | F21: 7 | G21: 314400 | H21: 0 | I21: 314400 | J21: =ROUND(I21*E21*F21,0) -> 173863200 | K21: =+E21*G21*F21 -> 173863200 | L21: =+E21*F21*H21 -> 0
A22: 10 | B22: MENSAJEROS POR DIA PARA DILIGENCIAS NOTARIALES E IMPUESTOS | C22: NACIONAL - DILIGENCIAS POR DÍA PARA NOTARIAS Y PRESENTACION DE IMPUESTOS A NIVEL NACIONAL. NO INCLUYE A LA CIUDAD DE BOGOTÁ NI EL DEPARTAMENTO DE CUNDINAMARCA | D22: TOTAL DE DÍAS MENSAJERO/COBRO POR DILIGENCIA | E22: 12 | F22: 7 | G22: 291344 | H22: 0 | I22: 291344 | J22: =ROUND(I22*E22*F22,0) -> 24472896 | K22: =+E22*G22*F22 -> 24472896 | L22: =+E22*F22*H22 -> 0
A23: 11 | B23: MENSAJEROS POR DIA PARA DILIGENCIAS NOTARIALES E IMPUESTOS | C23: REGIONAL - DILIGENCIAS POR DÍA PARA NOTARIAS Y PRESENTACION DE IMPUESTOS A NIVEL NACIONAL. NO INCLUYE A LA CIUDAD DE BOGOTÁ NI EL DEPARTAMENTO DE CUNDINAMARCA | D23: TOTAL DE DÍAS MENSAJERO/COBRO POR DILIGENCIA | E23: 1 | F23: 7 | G23: 282960 | H23: 0 | I23: 282960 | J23: =ROUND(I23*E23*F23,0) -> 1980720 | K23: =+E23*G23*F23 -> 1980720 | L23: =+E23*F23*H23 -> 0
A24: 12 | B24: MENSAJEROS POR DIA PARA DILIGENCIAS NOTARIALES E IMPUESTOS | C24: TRAYECTOS ESPECIALES - DILIGENCIAS POR DÍA PARA NOTARIAS Y PRESENTACION DE IMPUESTOS A NIVEL NACIONAL. NO INCLUYE A LA CIUDAD DE BOGOTÁ NI EL DEPARTAMENTO DE CUNDINAMARCA. | D24: TOTAL DE DÍAS MENSAJERO/COBRO POR DILIGENCIA | E24: 1 | F24: 7 | G24: 298680 | H24: 0 | I24: 298680 | J24: =ROUND(I24*E24*F24,0) -> 2090760 | K24: =+E24*G24*F24 -> 2090760 | L24: =+E24*F24*H24 -> 0
A25: 13 | B25: APOYO A FERIAS INMOBILIARIAS | C25: REGIONAL (ASISTENCIA A EVENTUALES DILIGENCIAS DE FERIAS INMOBILIARIAS, ACTIVIDAD QUE INCLUYE LOS GASTOS ASOCIADOS AL TRASLADO A LA FERIA) | D25: TOTAL DE DÍAS ASISTENCIA/COBRO POR TURNO | E25: 1 | F25: 7 | G25: 529240 | H25: 100556 | I25: 629796 | J25: =ROUND(I25*E25*F25,0) -> 4408572 | K25: =+E25*G25*F25 -> 3704680 | L25: =+E25*F25*H25 -> 703892
A26: 14 | C26: NACIONAL (ASISTENCIA A EVENTUALES DILIGENCIAS DE FERIAS INMOBILIARIAS, ACTIVIDAD QUE INCLUYE LOS GASTOS ASOCIADOS AL TRASLADO A LA FERIA) | D26: TOTAL DE DÍAS ASISTENCIA/COBRO POR TURNO | E26: 1 | F26: 7 | G26: 618320 | H26: 117481 | I26: 735801 | J26: =ROUND(I26*E26*F26,0) -> 5150607 | K26: =+E26*G26*F26 -> 4328240 | L26: =+E26*F26*H26 -> 822367
A27: 15 | C27: TRAYECTO ESPECIAL (ASISTENCIA A EVENTUALES DILIGENCIAS DE FERIAS INMOBILIARIAS, ACTIVIDAD QUE INCLUYE LOS GASTOS ASOCIADOS AL TRASLADO A LA FERIA) | D27: TOTAL DE DÍAS ASISTENCIA/COBRO POR TURNO | E27: 1 | F27: 7 | G27: 869840 | H27: 165270 | I27: 1035110 | J27: =ROUND(I27*E27*F27,0) -> 7245770 | K27: =+E27*G27*F27 -> 6088880 | L27: =+E27*F27*H27 -> 1156890
A28: 16 | B28: APOYO RADICACIÓN SEDE PRINCIPAL | C28: LÍDERES DE RADICACIÓN / COORDINADOR QUE CUENTE CON EQUIPO DE CÓMPUTO, CUENTAS DE CORREO ELECTRÓNICO, 1 ESCÁNER, 1 IMPRESORA TÉRMICA, 1 PISTOLAS LECTORAS Y PAPELERÍA NECESARIA PARA LA OPERACIÓN. | D28: APOYO RADICACIÓN/COBRO MENSUAL | E28: 3 | F28: 7 | G28: 8646000 | H28: 1642740 | I28: 10288740 | J28: =ROUND(I28*E28*F28,0) -> 216063540 | K28: =+E28*G28*F28 -> 181566000 | L28: =+E28*F28*H28 -> 34497540
C29: TÉCNICO DE SOPORTE QUE CUENTE CON EQUIPO DE CÓMPUTO PORTATIL. | D29: APOYO RADICACIÓN/COBRO MENSUAL | E29: 1 | F29: 7 | G29: 7126400 | H29: 1354016 | I29: 8480416 | J29: =ROUND(I29*E29*F29,0) -> 59362912 | K29: =+E29*G29*F29 -> 49884800 | L29: =+E29*F29*H29 -> 9478112
C30: AUXILIARES DE RADICACIÓN, TÉCNICOS DE RADICACIÓN, 1 IMPRESORA, 5 ESCÁNER, 8 IMPRESORA TÉRMICA, 4 PISTOLAS LECTORAS Y PAPELERÍA NECESARIA PARA LA OPERACIÓN.. | D30: APOYO RADICACIÓN/COBRO MENSUAL | E30: 25 | F30: 7 | G30: 5481040 | H30: 1041398 | I30: 6522438 | J30: =ROUND(I30*E30*F30,0) -> 1141426650 | K30: =+E30*G30*F30 -> 959182000 | L30: =+E30*F30*H30 -> 182244650
