Workbook
Name \0: #REF!
Name \0: #REF!
Name \0: #REF!
Name \0: #REF!
Name \0: #REF!
Name \0: #REF!
Name \0: #REF!
Name \0: #REF!
Name \00: #REF!
Name \00: #REF!
Name \00: #REF!
Name \00: #REF!
Name \00: #REF!
Name \00: #REF!
Name \00: #REF!
Name \00: #REF!
Name \a: #REF!
Name \a: #REF!
Name \a: #REF!
Name \a: #REF!
Name \a: #REF!
Name \a: #REF!
Name \a: #REF!
Name \a: #REF!
Name \a: #REF!
Name \a: #REF!
Name \a: #REF!
Name \AA: [1]LIQUIDACION!#REF!
Name \AA: [1]LIQUIDACION!#REF!
Name \AA: [1]LIQUIDACION!#REF!
Name \AA: [1]LIQUIDACION!#REF!
Name \AA: [1]LIQUIDACION!#REF!
Name \AA: [1]LIQUIDACION!#REF!
Name \AA: [1]LIQUIDACION!#REF!
Name \AA: [1]LIQUIDACION!#REF!
Name \b: [2]STRSUMM0!#REF!
Name \b: [2]STRSUMM0!#REF!
Name \b: [2]STRSUMM0!#REF!
Name \b: [2]STRSUMM0!#REF!
Name \b: [2]STRSUMM0!#REF!
Name \b: [2]STRSUMM0!#REF!
Name \b: [2]STRSUMM0!#REF!
Name \b: [2]STRSUMM0!#REF!
Name \bb: [2]STRSUMM0!#REF!
Name \bb: [2]STRSUMM0!#REF!
Name \E: #REF!
Name \E: #REF!
Name \E: #REF!
Name \E: #REF!
Name \E: #REF!
Name \E: #REF!
Name \E: #REF!
Name \E: #REF!
Name \EE: #REF!
Name \EE: #REF!
Name \EE: #REF!
Name \EE: #REF!
Name \EE: #REF!
Name \EE: #REF!
Name \EE: #REF!

Sheet PRESUPUESTO OFICIAL
C3: INSTITUTO NACIONAL DE VIAS
C4: DIRECCION OPERATIVA
C5: LICITACIÓN PÚBLICA
C6: “MANTENIMIENTO PERIODICO DE LA TRONCAL DEL MAGDALENA, TRAMO LA MATA - SAN ROQUE EN EL DEPARTAMENTO DE CESAR"
C8: PRESUPUESTO OFICIAL
C9: FORMULARIO 1
K10: 2 MESES
C12: Nº | D12: ITEM DE PAGO | E12: ESPECIFICACIONES | G12: DESCRIPCION | H12: UND. | I12: CANTIDAD | J12: VALOR UNITARIO | K12: VALOR TOTAL
E13: GENERAL | F13: PARTICULAR
C14: PAVIMENTOS ASFALTICOS
C15: 1 | D15: 421.1 | E15: 421-13 | G15: Riego de liga con emulsión asfáltica CRR-1 | H15: m2 | I15: 7000 | J15: ='421.1'!N77 -> 2438 | K15: =I15*J15 -> 17066000
C16: 2 | D16: 450.2P | F16: 450.1.2P | G16: Mezcla densa en caliente Tipo MDC-19 (No incluye transporte) | H16: m3 | I16: 700 | J16: ='450.2P'!N78 -> 887757 | K16: =I16*J16 -> 621429900
C17: 3 | D17: 460.1P | F17: 460.1P | G17: Fresado de pavimento asfaltico | H17: m3 | I17: 700 | J17: ='460.1P'!N78 -> 66281 | K17: =I17*J17 -> 46396700
C18: 4 | D18: 466.1 | E18: 466-13 | G18: Sello de grietas en pavimento asfaltico sin ruteo | H18: m | I18: 1200 | J18: ='466.1'!N81 -> 5116 | K18: =I18*J18 -> 6139200
C19: Subtotal | K19: =SUM(K15:K18) -> 691031800
C20: SEÑALIZACIÓN Y SEGURIDAD
C21: 7 | D21: 1P | E21: Manual de Señalización Vial 2015 | G21: Suministro y aplicación de pintura en frío acrílica pura base agua para líneas de demarcación de pavimentos | H21: m | I21: 46000 | J21: ='1p.'!N82 -> 2253 | K21: =ROUND((I21*J21),0) -> 103638000
C22: Subtotal | K22: =SUM(K21) -> 103638000
C23: TRANSPORTES
C24: 8 | D24: 900.1 | E24: 900-13 | G24: Transporte de mezclas asfalticas compacto | H24: m3-K | I24: 30800 | J24: ='900.4P'!N78 -> 2054 | K24: =I24*J24 -> 63263200
C25: Subtotal | K25: =SUM(K24) -> 63263200
C26: SUBTOTAL OBRAS | K26: =ROUND(SUM(K19+K22+K25),0) -> 857933000
G28: VALOR BASICO DEL CONTRATO | K28: =K26 -> 857933000
G29: PROVISON PARA OBRAS COMPLEMENTARIAS, ITEMS NO PREVISTOS, MODIFICATORIAS Y ADICIONALES (INCLUYE PAGA) | K29: 12700000
G30: VALOR IVA (OBRA) (19% SOBRE UTILIDAD OBRA ) | K30: =ROUND((K28)/(1+K41)*K39*0.19,0) -> 6269510
G31: SUBTOTAL OBRAS (INCLUYE IVA) | K31: =SUM(K28:K30) -> 876902510
G34: VALOR TOTAL | K34: =SUM(K31+K32) -> 876902510
C36: VALOR EN LETRAS:
C37: NOTA 1: Teniendo en cuenta el Manual de Señalización Vial - Dispositivos uniformes para la Regulación del Tránsito en Calles, Carreteras y Ciclorrutas de Colombia, adoptado mediante Resolución No. 0001885 del 17 de junio de 2015 del Ministerio de Transporte, se aclara que el aparte de SEÑALIZACIÓN se debe ajustar a todo su contenido, esta señalización debe colocarse desde la órden de iniciación del contrato. | H37: DESCRIPCION | K37: PORCENTAJE
C38: NOTA 2:El control de tráfico temporal (controladores de trafico) y la señalización provisional necesarios para la ejecución de las obras será por cuenta y riesgo del contratista. | H38: ADMINISTRACION | J38: A= | K38: 0.2
C39: NOTA 3: Se debe tener en cuenta que el PRECIO UNITARIO incluye el valor de A.I.U. | H39: IMPREVISTO (MINIMO 5%) | J39: I= | K39: 0.05
C40: NOTA 4: Si el valor del A.I.U. presentado es menor al NOVENTA por ciento (90%) o mayor al Ciento diez por ciento (110%) del Valor Oficial del Porcentaje de A.I.U., establecido en el formulario No 1 "presupuesto oficial", la propuesta será rechazada | H40: UTILIDAD | J40: U= | K40: 0.05
C41: NOTA 5: Cuando la fracción decimal del peso sea igual o superior a 5 se aproximara por exceso al número entero siguiente del peso y cuando la fracción decimal del peso sea inferior a 5 se aproximará por defecto al número entero del peso. | H41: TOTAL A.I.U | J41: A.I.U.= | K41: 0.3
C42: NOTA 6: El A.I.U y su discriminación deben estar en porcentaje (%). | H42: NOMBRE DEL PROPONENTE: ______________________________________ REPRESENTANTE LEGAL (nombre y firma):_________________________ FECHA:_________________________
C43: NOTA 7: El reconocimiento económico de los requerimientos ambientales exigidos por las autoridades ambientales, y/o sociales que son de obligatorio cumplimiento, serán reconocidos a cargo de reembolso de gastos (afectados por un % de administracion).

Sheet PROPUESTA ECONOMICA
C3: INSTITUTO NACIONAL DE VIAS
C4: DIRECCION OPERATIVA
C5: SA-MC-DT-CES-09-2020
C6: “MANTENIMIENTO PERIODICO DE LA TRONCAL DEL MAGDALENA, TRAMO LA MATA - SAN ROQUE EN EL DEPARTAMENTO DE CESAR"
C8: PROPUESTA ECONOMICA | N8: 876902510 | O8: =K34/N8 -> 0.93783428
C9: FORMULARIO 1
K10: 2 MESES
N11: 0.937834
C12: Nº | D12: ITEM DE PAGO | E12: ESPECIFICACIONES | G12: DESCRIPCION | H12: UND. | I12: CANTIDAD | J12: VALOR UNITARIO | K12: VALOR TOTAL | O12: 0.936935
E13: GENERAL | F13: PARTICULAR
C14: PAVIMENTOS ASFALTICOS
C15: 1 | D15: 421.1 | E15: 421-13 | G15: Riego de liga con emulsión asfáltica CRR-1 | H15: m2 | I15: 7000 | J15: =N15 -> 2284 | K15: =I15*J15 -> 15988000 | M15: 2438 | N15: =ROUND(M15*$O$12,0) -> 2284
C16: 2 | D16: 450.2P | F16: 450.1.2P | G16: Mezcla densa en caliente Tipo MDC-19 (No incluye transporte) | H16: m3 | I16: 700 | J16: =N16 -> 831771 | K16: =I16*J16 -> 582239700 | M16: 887757 | N16: =ROUND(M16*$O$12,0) -> 831771
C17: 3 | D17: 460.1P | F17: 460.1P | G17: Fresado de pavimento asfaltico | H17: m3 | I17: 700 | J17: =N17 -> 62101 | K17: =I17*J17 -> 43470700 | M17: 66281 | N17: =ROUND(M17*$O$12,0) -> 62101
C18: 4 | D18: 466.1 | E18: 466-13 | G18: Sello de grietas en pavimento asfaltico sin ruteo | H18: m | I18: 1200 | J18: =N18 -> 4793 | K18: =I18*J18 -> 5751600 | M18: 5116 | N18: =ROUND(M18*$O$12,0) -> 4793
C19: Subtotal | K19: =SUM(K15:K18) -> 647450000
C20: SEÑALIZACIÓN Y SEGURIDAD
C21: 7 | D21: 1P | E21: Manual de Señalización Vial 2015 | G21: Suministro y aplicación de pintura en frío acrílica pura base agua para líneas de demarcación de pavimentos | H21: m | I21: 46000 | J21: =N21 -> 2111 | K21: =I21*J21 -> 97106000 | M21: 2253 | N21: =ROUND(M21*$O$12,0) -> 2111
C22: Subtotal | K22: =SUM(K21) -> 97106000 | N22: =ROUND(M22*$O$12,0) -> 0
C23: TRANSPORTES
C24: 8 | D24: 900.1 | E24: 900-13 | G24: Transporte de mezclas asfalticas compacto | H24: m3-K | I24: 30800 | J24: =N24 -> 1924 | K24: =I24*J24 -> 59259200 | M24: 2054 | N24: =ROUND(M24*$O$12,0) -> 1924
C25: Subtotal | K25: =SUM(K24) -> 59259200
C26: SUBTOTAL OBRAS | K26: =ROUND(SUM(K19+K22+K25),0) -> 803815200
G28: VALOR BASICO DEL CONTRATO | K28: =K26 -> 803815200
G29: PROVISON PARA OBRAS COMPLEMENTARIAS, ITEMS NO PREVISTOS, MODIFICATORIAS Y ADICIONALES (INCLUYE PAGA) NO MODIFICAR | K29: 12700000
G30: VALOR IVA (OBRA) (19% SOBRE UTILIDAD OBRA ) | K30: =ROUND((K28)/(1+K41)*K39*0.19,0) -> 5874034
G31: SUBTOTAL OBRAS (INCLUYE IVA) | K31: =SUM(K28:K30) -> 822389234
G34: VALOR TOTAL | K34: =SUM(K28:K30) -> 822389234 | N34: 822389234
C36: VALOR EN LETRAS: | F36: OCHOCIENTOS VEINTIDÓS MILLONES TRESCIENTOS OCHENTA Y NUEVE MIL DOSCIENTOS TREINTA Y CUATRO PESOS M/CT
C37: NOTA 1: Teniendo en cuenta el Manual de Señalización Vial - Dispositivos uniformes para la Regulación del Tránsito en Calles, Carreteras y Ciclorrutas de Colombia, adoptado mediante Resolución No. 0001885 del 17 de junio de 2015 del Ministerio de Transporte, se aclara que el aparte de SEÑALIZACIÓN se debe ajustar a todo su contenido, esta señalización debe colocarse desde la órden de iniciación del contrato. | H37: DESCRIPCION | K37: PORCENTAJE
C38: NOTA 2:El control de tráfico temporal (controladores de trafico) y la señalización provisional necesarios para la ejecución de las obras será por cuenta y riesgo del contratista. | H38: ADMINISTRACION | J38: A= | K38: 0.2
C39: NOTA 3: Se debe tener en cuenta que el PRECIO UNITARIO incluye el valor de A.I.U. | H39: IMPREVISTO (MINIMO 5%) | J39: I= | K39: 0.05
C40: NOTA 4: Si el valor del A.I.U. presentado es menor al NOVENTA por ciento (90%) o mayor al Ciento diez por ciento (110%) del Valor Oficial del Porcentaje de A.I.U., establecido en el formulario No 1 "presupuesto oficial", la propuesta será rechazada | H40: UTILIDAD | J40: U= | K40: 0.05
C41: NOTA 5: Cuando la fracción decimal del peso sea igual o superior a 5 se aproximara por exceso al número entero siguiente del peso y cuando la fracción decimal del peso sea inferior a 5 se aproximará por defecto al número entero del peso. | H41: TOTAL A.I.U | J41: A.I.U.= | K41: 0.3
C42: NOTA 6: El A.I.U y su discriminación deben estar en porcentaje (%). | H42: NOMBRE DEL PROPONENTE: GENERADORA DE PROYECTOS DE PUERTOS ARQUITECTURA Y VIAS SAS - GEPAV SAS REPRESENTANTE LEGAL (nombre y firma): JOSE ANTONIO SENEJOA NUÑEZ ____________________________________________________________________ FECHA:_30 DE SEPTIEMBRE DE 2020__
C43: NOTA 7: El reconocimiento económico de los requerimientos ambientales exigidos por las autoridades ambientales, y/o sociales que son de obligatorio cumplimiento, serán reconocidos a cargo de reembolso de gastos (afectados por un % de administracion).
G49: _______________________________________ | K49: _______________________________________
G50: REPRESENTANTE LEGAL | K50: AVAL DE LA PROPUESTA
G51: NOMBRE: JOSE ANTONIO SENEJOA | K51: NOMBRE: GERMAN ANTONIO NUÑEZ NUVAN
G52: GENERADORA DE PROYECTOS DE PUERTOS ARQUITECTURA Y VIAS SAS - GEPAV SAS | K52: MATRICULA: 2520262271 CND

Sheet 421.1
K2: CÓDIGO | L2: MINFRA-MN-IN-10-FR-1
C3: INSTITUTO NACIONAL DE VIAS
C4: DIRECCION OPERATIVA | K4: VERSIÓN | L4: 2
C5: PROCESO GESTIÓN DE LA INFRAESTRUCTURA VIAL
C6: MANUAL DE INTERVENTORÍA OBRA PUBLICA | K6: PÁGINA | L6: 1 | M6: DE | N6: 1
C8: ANALISIS DE PRECIOS UNITARIOS
K10: FECHA | L10: DD | M10: MM | N10: AA
B12: ITEMS DE LA PROPUESTA ECONÓMICA | H12: ITEMS NO PREVISTOS
B14: UNIDAD EJECUTORA: | D14: SUBDIRECCION RED NACIONAL | I14: DIRECCIÓN TERRITORIAL: | J14: CESAR
B20: CONTRATO No. | G20: DE
B21: OBJETO DEL CONTRATO
B24: CONTRATISTA :
B26: INTERVENTOR
B28: GESTOR TECNICO DE CONTRATO
B30: FECHA CIERRE DE LICITACIÓN Y/O SELECCIÓN ABREVIADA
B33: ITEM | C33: DESCRIPCIÓN | K33: GRUPO DE AJUSTE | L33: UNIDAD | N33: CANTIDAD
B34: 421.1 | C34: Riego de liga con emulsión asfáltica CRR-1 | L34: m2
B35: I. EQUIPO
B38: DESCRIPCIÓN | G38: MARCA | I38: TIPO
B39: CARROTANQUE IRRIGADOR DE ASFALTO | K39: 100000 | L39: 500 | N39: =K39/L39 -> 200
B40: COMPRESOR (BARRIDO Y SOPLADO) | K40: 70000 | L40: 500 | N40: =K40/L40 -> 140
B41: HERRAMIENTA MENOR (2%MO) | N41: =N65*0.02 -> 0.5365
B42: SUBTOTAL $ | N42: =SUM(N39:N41) -> 340.5365
B43: II. MATERIALES
B46: DESCRIPCIÓN | J46: UNIDAD | K46: CANTIDAD | L46: PRECIO UNIT. | N46: Vr. UNITARIO
B47: EMULSION ASFALTICA CRR-1 | J47: LT | K47: 0.5 | L47: 2998.777 | N47: =+K47*L47 -> 1499.3885
B48: AGUA | J48: LT | K48: 0.15 | L48: 55 | N48: 8.25
B49: SUBTOTAL $ | N49: =+N47+N48 -> 1507.6385
B50: III. TRANSPORTES
B53: MATERIAL | I53: VOL. o PESO | J53: DISTANCIA | K53: M3 o Ton/Km | L53: TARIFA | N53: Vr. UNITARIO
N54: 0
B56: SUBTOTAL $ | N56: 0
B57: IV. MANO DE OBRA
B60: TRABAJADOR | I60: JORNAL | J60: PRESTACIONES | K60: JORNAL TOTAL | L60: RENDIMIENTO | N60: Vr. UNITARIO
B61: OBREROS (2) | I61: =34631*2 -> 69262 | J61: 1.85 | K61: =+I61*J61 -> 128134.7 | L61: 4000 | N61: =K61/L61 -> 32.033675
B65: SUBTOTAL $ | N65: 26.825
B67: TOTAL COSTO DIRECTO $ | N67: =+N42+N49+N56+N65 -> 1875 | O67: 1875
B68: V. COSTOS INDIRECTOS
B71: Descripción | K71: Porcentaje | L71: Valor Total
B72: ADMINISTRACION | K72: 0.2 | L72: =N67*K72 -> 375
...

Sheet 450.2P
K2: CÓDIGO | L2: MINFRA-MN-IN-10-FR-1
C3: INSTITUTO NACIONAL DE VIAS
C4: DIRECCION OPERATIVA | K4: VERSIÓN | L4: 2
C5: PROCESO GESTIÓN DE LA INFRAESTRUCTURA VIAL
C6: MANUAL DE INTERVENTORÍA OBRA PUBLICA | K6: PÁGINA | L6: 1 | M6: DE | N6: 1
C8: ANALISIS DE PRECIOS UNITARIOS
K10: FECHA | L10: DD | M10: MM | N10: AA
B12: ITEMS DE LA PROPUESTA ECONÓMICA | H12: ITEMS NO PREVISTOS
B14: UNIDAD EJECUTORA: | D14: SUBDIRECCION RED NACIONAL | I14: DIRECCIÓN TERRITORIAL: | J14: CESAR
B20: CONTRATO No. | G20: DE
B21: OBJETO DEL CONTRATO
B24: CONTRATISTA :
B26: INTERVENTOR
B28: GESTOR TECNICO DE CONTRATO
B30: FECHA CIERRE DE LICITACIÓN Y/O SELECCIÓN ABREVIADA
B33: ITEM | C33: DESCRIPCIÓN | K33: GRUPO DE AJUSTE | L33: UNIDAD | N33: CANTIDAD
B34: 450.2P | C34: Mezcla densa en caliente Tipo MDC-19 (No incluye transporte) | L34: m3
B35: I. EQUIPO
B38: DESCRIPCIÓN | G38: MARCA | I38: TIPO
B39: TERMINADORA DE ASFALTO | K39: 225500 | L39: 7 | N39: =K39/L39 -> 32214.286
B40: COMPACTADOR VIBRATORIO | K40: 160000 | L40: 7 | N40: =K40/L40 -> 22857.143
B41: COMPACTADOR NEUMATICO | K41: 140000 | L41: 7 | N41: =K41/L41 -> 20000
B42: HERRAMIENTA MENOR (5%MO) | N42: =N66*0.05 -> 880.9256
B43: SUBTOTAL $ | N43: =+N39+N40+N41+N42 -> 75952.354
B44: II. MATERIALES
B47: DESCRIPCIÓN | J47: UNIDAD | K47: CANTIDAD | L47: PRECIO UNIT. | N47: Vr. UNITARIO
B48: MEZCLA DENSA MDC-19 | J48: M3 | K48: 1.25 | L48: 471455.31 | N48: =+K48*L48 -> 589319.13
B50: SUBTOTAL $ | N50: =+N48 -> 589319.13
B51: III. TRANSPORTES
B54: MATERIAL | I54: VOL. o PESO | J54: DISTANCIA | K54: M3 o Ton/Km | L54: TARIFA | N54: Vr. UNITARIO
B57: SUBTOTAL $ | N57: 0
B58: IV. MANO DE OBRA
B61: TRABAJADOR | I61: JORNAL | J61: PRESTACIONES | K61: JORNAL TOTAL | L61: RENDIMIENTO | N61: Vr. UNITARIO
B62: OBREROS (8) | I62: =34631*8 -> 277048 | J62: 1.85 | K62: =I62*J62 -> 512538.8 | L62: 50 | N62: =K62/L62 -> 10250.776 | O62: =29000*8 -> 232000
B63: RASTRILLEROS (2) | I63: =34631*2 -> 69262 | J63: 1.85 | K63: =I63*J63 -> 128134.7 | L63: 50 | N63: =K63/L63 -> 2562.694
B64: PALETEROS(2) | I64: =34631*2 -> 69262 | J64: 1.85 | K64: =I64*J64 -> 128134.7 | L64: 50 | N64: =K64/L64 -> 2562.694
B65: OFICIAL (1) | I65: 60604 | J65: 1.85 | K65: =I65*J65 -> 112117.4 | L65: 50 | N65: =K65/L65 -> 2242.348
B66: SUBTOTAL $ | N66: =+N62+N63+N64+N65 -> 17618.512
B68: TOTAL COSTO DIRECTO $ | N68: =+N43+N50+N57+N66 -> 682890 | O68: 682890
B69: V. COSTOS INDIRECTOS
...

Sheet 460.1P
K2: CÓDIGO | L2: MINFRA-MN-IN-10-FR-1
C3: INSTITUTO NACIONAL DE VIAS
C4: DIRECCION OPERATIVA | K4: VERSIÓN | L4: 2
C5: PROCESO GESTIÓN DE LA INFRAESTRUCTURA VIAL
C6: MANUAL DE INTERVENTORÍA OBRA PUBLICA | K6: PÁGINA | L6: 1 | M6: DE | N6: 1
C8: ANALISIS DE PRECIOS UNITARIOS
K10: FECHA | L10: DD | M10: MM | N10: AA
B12: ITEMS DE LA PROPUESTA ECONÓMICA | H12: ITEMS NO PREVISTOS
B14: UNIDAD EJECUTORA: | D14: SUBDIRECCION RED NACIONAL | I14: DIRECCIÓN TERRITORIAL: | J14: CESAR
B20: CONTRATO No. | G20: DE
B21: OBJETO DEL CONTRATO
B24: CONTRATISTA :
B26: INTERVENTOR
B28: GESTOR TECNICO DE CONTRATO
B30: FECHA CIERRE DE LICITACIÓN Y/O SELECCIÓN ABREVIADA
B33: ITEM | C33: DESCRIPCIÓN | K33: GRUPO DE AJUSTE | L33: UNIDAD | N33: CANTIDAD
B34: 460.1P | C34: Fresado de pavimento asfaltico | L34: m3 | N34: 13118
B35: I. EQUIPO
B38: DESCRIPCIÓN | G38: MARCA | I38: TIPO | K38: TARIFA/HORA | L38: RENDIMIENTO
B39: FRESADORA DE PAVIMENTO | K39: 400000 | L39: 11.339098 | N39: =+K39/L39 -> 35276.173
B40: BARREDORA MECANICA DE CEPILLO | K40: 80000 | L40: 35 | N40: =+K40/L40 -> 2285.7143
B41: CARGADOR | K41: 160000 | L41: 35 | N41: =+K41/L41 -> 4571.4286
B43: SUBTOTAL $ | N43: =+N39+N40+N41 -> 42133.316
B44: II. MATERIALES
B47: DESCRIPCIÓN | J47: UNIDAD | K47: CANTIDAD | L47: PRECIO UNIT. | N47: Vr. UNITARIO
B50: SUBTOTAL $ | N50: 0
B51: III. TRANSPORTES
B54: MATERIAL | I54: VOL. o PESO | J54: DISTANCIA | K54: M3 o Ton/Km | L54: TARIFA | N54: Vr. UNITARIO
B55: MATERIAL FRESADO | I55: 1.25 | J55: 5 | K55: 6.25 | L55: 1160 | N55: =+K55*L55 -> 7250
B57: SUBTOTAL $ | N57: =+N55 -> 7250
B58: IV. MANO DE OBRA
B61: TRABAJADOR | I61: JORNAL | J61: PRESTACIONES | K61: JORNAL TOTAL | L61: RENDIMIENTO | N61: Vr. UNITARIO
B62: OBREROS (2) | I62: =34631*2 -> 69262 | J62: 1.85 | K62: =I62*J62 -> 128134.7 | L62: 80 | N62: =K62/L62 -> 1601.6838
L63: 0
B66: SUBTOTAL $ | N66: =+N62 -> 1601.6838
B68: TOTAL COSTO DIRECTO $ | N68: =+N43+N50+N57+N66 -> 50985 | O68: 50985
B69: V. COSTOS INDIRECTOS
B72: Descripción | K72: Porcentaje | L72: Valor Total
B73: ADMINISTRACION | K73: 0.2 | L73: =N68*K73 -> 10197
B74: IMPREVISTOS | K74: 0.05 | L74: =N68*K74 -> 2549.25
...

Sheet 466.1
K2: CÓDIGO | L2: MINFRA-MN-IN-10-FR-1
C3: INSTITUTO NACIONAL DE VIAS
C4: DIRECCION OPERATIVA | K4: VERSIÓN | L4: 1
C5: PROCESO GESTIÓN DE LA INFRAESTRUCTURA VIAL
C6: MANUAL DE INTERVENTORÍA OBRA PUBLICA | K6: PÁGINA | L6: 1 | M6: DE | N6: 1
C8: ANALISIS DE PRECIOS UNITARIOS
B11: ITEMS DE LA PROPUESTA ECONÓMICA | H11: ITEMS NO PREVISTOS | L11: (dia) | M11: (mes) | N11: (año)
B13: UNIDAD EJECUTORA: | D13: SUBDIRECCION RED NACIONAL | J13: DIRECCIÓN TERRITORIAL: | K13: CESAR
B19: CONTRATO No. | H19: DE
B21: OBJETO DEL CONTRATO
B24: CARRETERA: | K24: SECTOR:
B26: CONTRATISTA :
B28: INTERVENTOR | J28: CTO No.: | L28: DE
B30: FECHA CIERRE PROCESO DE SELECCIÓN CONTRATO DE OBRA:
G31: (Día) | H31: (Mes) | I31: (Año)
B34: ITEM | C34: DESCRIPCIÓN | K34: GRUPO DE AJUSTE | L34: UNIDAD | N34: CANTIDAD
B35: 466.1 | C35: Sello de grietas en pavimento asfaltico sin ruteo CRR-2M | K35: 8 | L35: M | N35: 1
B36: I. EQUIPO
B39: DESCRIPCIÓN | G39: MARCA | I39: TIPO | K39: TARIFA/HORA | L39: RENDIMIENTO | N39: Vr. UNITARIO
B40: Derretidora de asfalto | K40: 3000 | L40: 60 | N40: =K40/L40 -> 50
B41: Compresor de (barrido y soplado) | K41: 70000 | L41: 60 | N41: =K41/L41 -> 1166.6667
B42: camioneta | K42: 70000 | L42: 60 | N42: =K42/L42 -> 1166.6667
B43: Herramienta menor (5%) | L43: =5% -> 0.05 | N43: =L43*N69 -> 63.603175
B44: SUBTOTAL $ | N44: =SUM(N40:N43) -> 2446.9365
B45: II. MATERIALES
B48: DESCRIPCIÓN | J48: UNIDAD | K48: CANTIDAD | L48: PRECIO UNIT. | N48: Vr. UNITARIO
B49: Emulsión CRR-2M | J49: kg | K49: 0.12 | L49: 1800 | N49: =ROUND((L49*K49),2) -> 216
B54: SUBTOTAL $ | N54: =SUM(N49:N53) -> 216
B55: III. TRANSPORTES
B58: MATERIAL | H58: UNIDAD | I58: CANTIDAD (1) | J58: DISTANCIA (2) | K58: CANTIDAD * DISTANCIA (1) * (2) | L58: TARIFA | N58: Vr. UNITARIO
N60: =SUM(N53) -> 0
B61: SUBTOTAL $
B62: IV. MANO DE OBRA
B65: TRABAJADOR | I65: JORNAL | J65: PRESTACIONES | K65: JORNAL TOTAL | L65: RENDIMIENTO | N65: Vr. UNITARIO
B66: Obreros (2) | I66: =34631*2 -> 69262 | J66: 1.85 | K66: =I66*J66 -> 128134.7 | L66: 188.86801 | N66: =K66/L66 -> 678.43517
B67: oficial (1) | I67: 60604 | J67: 1.85 | K67: =I67*J67 -> 112117.4 | L67: =L66 -> 188.86801 | N67: =K67/L67 -> 593.62833
B69: SUBTOTAL $ | N69: =SUM(N66:N68) -> 1272.0635
B71: TOTAL COSTO DIRECTO $ | N71: =+N69+N61+N54+N44 -> 3935 | O71: 3935
B72: V. COSTOS INDIRECTOS
B75: Descripción | K75: Porcentaje | L75: Valor Total
...

Sheet 1p.
K2: CÓDIGO | L2: MINFRA-MN-IN-10-FR-1
C3: INSTITUTO NACIONAL DE VIAS
C4: DIRECCION OPERATIVA | K4: VERSIÓN | L4: 2
C5: PROCESO GESTIÓN DE LA INFRAESTRUCTURA VIAL
C6: MANUAL DE INTERVENTORÍA OBRA PUBLICA | K6: PÁGINA | L6: 1 | M6: DE | N6: 1
C8: ANALISIS DE PRECIOS UNITARIOS
K10: FECHA | L10: DD | M10: MM | N10: AA
B12: ITEMS DE LA PROPUESTA ECONÓMICA | H12: ITEMS NO PREVISTOS
B14: UNIDAD EJECUTORA: | I14: DIRECCIÓN TERRITORIAL:
B20: CONTRATO No. | G20: DE
B21: OBJETO DEL CONTRATO
B24: CONTRATISTA :
B26: INTERVENTOR
B28: GESTOR TECNICO DE CONTRATO
B30: FECHA CIERRE DE LICITACIÓN Y/O SELECCIÓN ABREVIADA
B33: ITEM | C33: DESCRIPCIÓN | K33: GRUPO DE AJUSTE | L33: UNIDAD | N33: CANTIDAD
B34: 1P | C34: Suministro y aplicación de pintura en frío acrílica pura base agua para líneas de demarcación de pavimentos | L34: m
B35: I. EQUIPO
B38: DESCRIPCIÓN | G38: MARCA | I38: TIPO | K38: TARIFA/HORA | L38: RENDIMIENTO | N38: Vr. UNITARIO
B39: VEHICULO DELINEADOR | K39: 150000 | L39: 1650 | N39: =K39/L39 -> 90.909091
B40: CAMIONETA | K40: 40000 | L40: 1650 | N40: =K40/L40 -> 24.242424
B41: HERRAMIENTA MENOR (10%)
B43: SUBTOTAL $ | N43: =SUM(N39:N42) -> 115.15152
B44: II. MATERIALES
B47: DESCRIPCIÓN | J47: UNIDAD | K47: CANTIDAD | L47: PRECIO UNIT. | N47: Vr. UNITARIO
B48: ESFERAS REFLECTIVAS | J48: KG | K48: 0.047 | L48: 6000 | N48: =+K48*L48 -> 282
B49: PINTURA ACRILICA PURA PARA TRAFICO | J49: GALON | K49: 0.0147 | L49: 87320.395 | N49: =+K49*L49 -> 1283.6098
B50: DISOLVENTE (3%) TINER | J50: GALON | K50: 0.00044 | L50: 35000 | N50: =+K50*L50 -> 15.4
B53: SUBTOTAL $ | N53: =+N48+N49+N50 -> 1581.0098
B54: III. TRANSPORTES
B57: MATERIAL | I57: VOL. o PESO | J57: DISTANCIA | K57: M3 o Ton/Km | L57: TARIFA | N57: Vr. UNITARIO
B61: SUBTOTAL $ | N61: 0
B62: IV. MANO DE OBRA
B65: TRABAJADOR | I65: JORNAL | J65: PRESTACIONES | K65: JORNAL TOTAL | L65: RENDIMIENTO | N65: Vr. UNITARIO
B66: OBREROS (4) | I66: =34631*4 -> 138524 | J66: 1.85 | K66: =I66*J66 -> 256269.4 | L66: 10000 | N66: =K66/L66 -> 25.62694
B67: OFICIAL | I67: 60604 | J67: 1.85 | K67: =I67*J67 -> 112117.4 | L67: 10000 | N67: =K67/L67 -> 11.21174
B70: SUBTOTAL $ | N70: =SUM(N66:N69) -> 36.83868
B72: TOTAL COSTO DIRECTO $ | N72: =+N43+N53+N61+N70 -> 1733 | O72: 1733
B73: V. COSTOS INDIRECTOS
B76: Descripción | K76: Porcentaje | L76: Valor Total
...

Sheet 900.4P
K2: CÓDIGO | L2: MINFRA-MN-IN-10-FR-1
C3: INSTITUTO NACIONAL DE VIAS
C4: DIRECCION OPERATIVA | K4: VERSIÓN | L4: 2
C5: PROCESO GESTIÓN DE LA INFRAESTRUCTURA VIAL
C6: MANUAL DE INTERVENTORÍA OBRA PUBLICA | K6: PÁGINA | L6: 1 | M6: DE | N6: 1
C8: ANALISIS DE PRECIOS UNITARIOS
K10: FECHA | L10: DD | M10: MM | N10: AA
B12: ITEMS DE LA PROPUESTA ECONÓMICA | H12: ITEMS NO PREVISTOS
B14: UNIDAD EJECUTORA: | I14: DIRECCIÓN TERRITORIAL: | J14: CESAR
B20: CONTRATO No. | G20: DE
B21: OBJETO DEL CONTRATO
B24: CONTRATISTA :
B26: INTERVENTOR
B28: GESTOR TECNICO DE CONTRATO
B30: FECHA CIERRE DE LICITACIÓN Y/O SELECCIÓN ABREVIADA
B33: ITEM | C33: DESCRIPCIÓN | K33: GRUPO DE AJUSTE | L33: UNIDAD | N33: CANTIDAD
B34: 900.4P | C34: Transporte de mezclas asfalticas compacto | L34: m3-km | N34: 425080
B35: I. EQUIPO
B38: DESCRIPCIÓN | G38: MARCA | I38: TIPO
B43: SUBTOTAL $ | N43: 0
B44: II. MATERIALES
B47: DESCRIPCIÓN | J47: UNIDAD | K47: CANTIDAD | L47: PRECIO UNIT. | N47: Vr. UNITARIO
B50: SUBTOTAL $ | N50: 0
B51: III. TRANSPORTES
B54: MATERIAL | I54: VOL. o PESO | J54: DISTANCIA | K54: M3 o Ton/Km | L54: TARIFA | N54: Vr. UNITARIO
B55: TRANSPORTE DE MEZCLAS ASFALTICAS | I55: 1.25 | J55: 1 | K55: 1.25 | L55: 1264 | N55: =+K55*L55 -> 1580
B57: SUBTOTAL $ | N57: =+N55 -> 1580
B58: IV. MANO DE OBRA
B61: TRABAJADOR | I61: JORNAL | J61: PRESTACIONES | K61: JORNAL TOTAL | L61: RENDIMIENTO | N61: Vr. UNITARIO
B66: SUBTOTAL $ | N66: 0
B68: TOTAL COSTO DIRECTO $ | N68: =+N43+N50+N57+N66 -> 1580
B69: V. COSTOS INDIRECTOS
B72: Descripción | K72: Porcentaje | L72: Valor Total
B73: ADMINISTRACION | K73: 0.2 | L73: =N68*K73 -> 316
B74: IMPREVISTOS | K74: 0.05 | L74: =N68*K74 -> 79
B75: UTILIDAD | K75: 0.05 | L75: =N68*K75 -> 79
B76: SUBTOTAL $ | N76: =+L73+L74+L75 -> 474
B78: Precio Unitario Total Aproximado al peso $ | N78: =+ROUND(N68+N76,0) -> 2054 | O78: =+'[131]PRESUPUESTO '!J99 -> 1505 | P78: =+N78-O78 -> 549
G82: Firma
G83: JUAN RAMON HERNANDEZ
...

Sheet PPTO CONSTRUCCION
C2: INSTITUTO NACIONAL DE VIAS
C3: DIRECCION OPERATIVA
C4: LICITACIÓN PÚBLICA
C5: =+#REF! -> #REF!
C7: PRESUPUESTO OFICIAL
C8: FORMULARIO 1
C11: Nº | D11: ITEM DE PAGO | E11: ESPECIFICACIONES | G11: DESCRIPCION | H11: UND. | I11: CANTIDAD | J11: VALOR UNITARIO | K11: VALOR TOTAL | P11: VALOR TOTAL
E12: GENERAL | F12: PARTICULAR
C13: EXPLANACIONES
C14: 1 | D14: 200.2 | E14: 200-13 | G14: Desmonte y limpieza en zonas no boscosas | H14: Ha | I14: =ROUND(#REF!+#REF!*20/10000,0) -> #REF! | J14: =+#REF! -> #REF! | K14: =I14*J14 -> #REF! | O14: =K14/$K$85 -> #REF! | P14: 8009838
C15: =#REF!+1 -> #REF! | D15: 210.2.1 | E15: 210-13 | G15: Excavación en roca de la explanación y canales | H15: m3 | I15: 22284 | J15: =+#REF! -> #REF! | K15: =I15*J15 -> #REF! | O15: =K15/$K$85 -> #REF! | P15: 9.8735366e+08
C16: =C15+1 -> #REF! | D16: 210.2.2 | E16: 210-13 | G16: Excavaciones en material común de la Explanación y Canales | H16: m3 | I16: =#REF!-22284 -> #REF! | J16: =+#REF! -> #REF! | K16: =I16*J16 -> #REF! | O16: =K16/$K$85 -> #REF! | P16: 1.944171e+09
C17: =#REF!+1 -> #REF! | D17: 220.1 | E17: 220-13 | G17: Terraplenes | H17: m3 | I17: =ROUND(#REF!,0) -> #REF! | J17: =#REF! -> #REF! | K17: =I17*J17 -> #REF! | M17: =#REF!+#REF!+#REF!+#REF!*1.3 -> #REF! | O17: =K17/$K$85 -> #REF! | P17: 1.7191024e+09
C18: =#REF!+1 -> #REF! | D18: 220.1P | F18: 220.1P | G18: Suministro de material suelto seleccionado para corona de Terraplen (No incluye Transporte) | H18: m3 | I18: =ROUND(I17*1.3,0) -> #REF! | J18: =#REF! -> #REF! | K18: =I18*J18 -> #REF!
C19: =C18+1 -> #REF! | D19: 221.1P | F19: 221.1P | G19: Suministro de material suelto para mejoramiento de la subrasante (No incluye Transporte) | H19: m3 | I19: =I20*1.4 -> #REF! | J19: ='221.1P'!$N$81 -> #REF! | K19: =I19*J19 -> #REF!
C20: =#REF!+1 -> #REF! | D20: 230.1P | F20: 230.1P | G20: Mejoramiento de la subrasante con adición de materiales | H20: m3 | I20: =#REF! -> #REF! | J20: =+#REF! -> #REF! | K20: =I20*J20 -> #REF! | M20: =I20/(10000*18) -> #REF! | P20: 37592100
C21: Subtotal | K21: =ROUND(SUM(K14:K20),0) -> #REF! | P21: 6613600751
C22: BASES, SUBBASES Y AFIRMADOS
C23: =#REF!+1 -> #REF! | D23: 320.1P | F23: 320.1P | G23: Subbase tratada con cemento (no incluye suministro de cemento) | H23: m3 | I23: =ROUND(#REF!,0) -> #REF! | J23: =+#REF! -> #REF! | K23: =I23*J23 -> #REF! | M23: =I23/(15000*11.85) -> #REF! | O23: =K23/$K$85 -> #REF! | P23: 9.7986344e+09
C24: =#REF!+1 -> #REF! | D24: 330.1 | E24: 330-13 | G24: Base granular clase A | H24: m3 | J24: =+#REF! -> #REF! | K24: =I24*J24 -> #REF! | M24: =(I24)/(14000*11.8) -> 0 | O24: =K24/$K$85 -> #REF! | P24: 7.2040254e+09
C25: =C24+1 -> #REF! | D25: 330.4 | E25: 330-13 | G25: Base granular para bacheo clase A | H25: m3 | J25: =#REF! -> #REF! | K25: =I25*J25 -> #REF! | O25: =K25/$K$85 -> #REF! | P25: 0
C26: =#REF!+1 -> #REF! | D26: 351,10 | E26: 351-13 | G26: Base tratada con cemento (no incluye suministro de cemento) | H26: m3 | I26: =ROUND(#REF!,0) -> #REF! | J26: =#REF! -> #REF! | K26: =I26*J26 -> #REF! | M26: =I26/(15000*11.8) -> #REF! | O26: =K26/$K$85 -> #REF! | P26: 3.5182809e+08
C27: =C26+1 -> #REF! | D27: 351.12 | E27: 351-13 | G27: Cemento hidráulico para base tratada con cemento | H27: kg | I27: =ROUND(#REF!,0) -> #REF! | J27: =#REF! -> #REF! | K27: =I27*J27 -> #REF! | O27: =K27/$K$85 -> #REF! | P27: 1.5429777e+08
C28: Subtotal | K28: =ROUND(SUM(K23:K27),0) -> #REF! | P28: 17508785668
C29: PAVIMENTOS ASFALTICOS
C30: =#REF!+1 -> #REF! | D30: 420.2 | E30: 420-13 | G30: Riego de imprimación con emulsión asfáltica CRL‐1 | H30: m2 | I30: =ROUND((#REF!+#REF!*1000)*11.5,0) -> #REF! | J30: =+#REF! -> #REF! | K30: =I30*J30 -> #REF! | M30: =14000*10.8 -> 151200 | O30: =K30/$K$85 -> #REF! | P30: 4.5860088e+08
C31: =C30+1 -> #REF! | D31: 421.1 | E31: 421-13 | G31: Riego de liga con emulsión asfáltica CRR-1 | H31: m2 | J31: =#REF! -> #REF! | K31: =I31*J31 -> #REF! | O31: =K31/$K$85 -> #REF! | P31: 2.9743713e+08
C32: =#REF!+1 -> #REF! | D32: 450.1.2P | F32: 450.1.2P | G32: Mezcla densa en caliente Tipo MDC-25 para capa intermedia | H32: m3 | J32: =#REF! -> #REF! | K32: =I32*J32 -> #REF! | O32: =K32/$K$85 -> #REF! | P32: 83724376
C33: =#REF!+1 -> #REF! | D33: 450.2.1P | F33: 450.2.1P | G33: Mezcla densa en caliente Tipo MDC-19 con suministro de cemento asfaltico modificado con polimieros tipo III | H33: m3 | I33: =ROUND(#REF!,0)-1887 -> #REF! | J33: =#REF! -> #REF! | K33: =I33*J33 -> #REF! | M33: =I33/(15000*11.8) -> #REF! | O33: =K33/$K$85 -> #REF! | P33: 1.9644839e+10
C34: =#REF!+1 -> #REF! | D34: 450.9P | F34: 450.9P | G34: Mezcla densa en caliente Tipo MDC-19 para bacheos | H34: m3 | J34: =#REF! -> #REF! | K34: =I34*J34 -> #REF! | P34: 0
C35: =#REF!+1 -> #REF! | D35: 460.1P | F35: 460.1P | G35: Fresado de pavimento asfaltico | H35: m3 | J35: =#REF! -> #REF! | K35: =I35*J35 -> #REF! | P35: 0
C36: =#REF!+1 -> #REF! | D36: 465.1 | E36: 465-13 | G36: Excavación para reparación de pavimento asfáltico existente incluyendo el corte y la remoción de las capas asfálticas y de las subyacentes. | H36: m3 | J36: =#REF! -> #REF! | K36: =I36*J36 -> #REF! | P36: 0
C37: =C36+1 -> #REF! | D37: 466.1 | E37: 466-13 | G37: Sello de grietas en pavimento asfaltico sin ruteo | H37: m | J37: =#REF! -> #REF! | K37: =I37*J37 -> #REF! | P37: 0
C38: =C37+1 -> #REF! | D38: 467.13P | F38: 467.13P | G38: Mezclas asfálticas en caliente con cemento asfáltico modificado con grano de caucho reciclado (GCR) (M-GCR-19) | H38: m3 | I38: 1887 | J38: =#REF! -> #REF! | K38: =I38*J38 -> #REF! | P38: 1922833068
C39: Subtotal | K39: =ROUND(SUM(K30:K38),0) -> #REF! | P39: 22407433995
C40: ESTRUCTURAS Y DRENAJES
C41: =C37+1 -> #REF! | D41: 600.1.1 | E41: 600-13 | G41: Excavaciones varias sin clasificar | H41: m3 | I41: =ROUND(#REF!+#REF!+#REF!,0) -> #REF! | J41: =+#REF! -> #REF! | K41: =I41*J41 -> #REF! | O41: =K41/$K$85 -> #REF! | P41: 1.3180449e+08
C42: =C41+1 -> #REF! | D42: 600.2.1 | E42: 600-13 | G42: Excavaciones varias en roca en seco | H42: m3 | I42: =I41*0.1 -> #REF! | J42: =+#REF! -> #REF! | K42: =I42*J42 -> #REF! | O42: =K42/$K$85 -> #REF! | P42: 0
C43: =#REF!+1 -> #REF! | D43: 600.2.3 | E43: 600-13 | G43: Excavaciones varias en material comun en seco | H43: m3 | I43: =ROUND(#REF!,0) -> #REF! | J43: =+#REF! -> #REF! | K43: =I43*J43 -> #REF! | O43: =K43/$K$85 -> #REF! | P43: 43003517
C44: =#REF!+1 -> #REF! | D44: 610.1 | E44: 610-13 | G44: Rellenos para Estructuras con suelo (producto de la excavaciòn) | H44: m3 | I44: =#REF!+#REF!+#REF!+#REF!+#REF!+#REF! -> #REF! | J44: =#REF! -> #REF! | K44: =I44*J44 -> #REF! | O44: =K44/$K$85 -> #REF! | P44: 1.4067802e+08
...

Sheet PRESUPUESTO ACUMULADO
C3: INSTITUTO NACIONAL DE VIAS
C4: DIRECCION OPERATIVA
C5: LICITACIÓN PÚBLICA
C6: =+#REF! -> #REF! | N6: =900*10.8*0.09 -> 874.8
N7: =N6*I65 -> #REF!
C8: PRESUPUESTO OFICIAL
C9: FORMULARIO 1 | M9: =K18+M18+O18+Q18+S18 -> 11.9 | P9: no lo tienen en las cantidades ani | R9: ok | AC9: ok
K10: ok | P10: 76800 | Q10: 77700
C12: Nº | D12: ITEM DE PAGO | E12: ESPECIFICACIONES | G12: DESCRIPCION | H12: UND. | I12: VALOR UNITARIO | J12: CANTIDAD H31N | K12: VALOR TOTAL H31 N | L12: CANTIDAD H32N | M12: VALOR TOTAL H32N | N12: CANTIDAD H34N | O12: VALOR TOTAL H34N | P12: CANTIDAD H35N | Q12: VALOR TOTAL H35N | R12: CANTIDAD H36N | S12: VALOR TOTAL H36N | T12: CANTIDAD ACUMULADO ANI | V12: VALOR TOTAL ANI | W12: CANTIDAD MANTENIMIENTO H18E AL H36E CALCULADAS APROX TRAMOS FALTANTES | X12: VALOR TOTAL MANTENIMIENTO H18E AL H36 E | Y12: CANTIDAD H 34N CALCULADAS APROX | Z12: VALOR TOTAL H34 N CALCULADAS APROX (PR 61+360 AL 63+227) | AA12: CANTIDAD H 35N CALCULADAS APROX | AB12: VALOR TOTAL H35 N CALCULADAS APROX (; PR 76+800 AL 77+700; 83+500 A 84+170; 84240 AL 84+285) | AC12: CANTIDAD ACUMULADO CALCULADAS APROX | AD12: VALOR TOTAL H36 N CALCULADAS APROX (PR 86+420 AL 87+900; PR 90+150 AL 90+715) | AE12: CANTIDAD TOTALCALCULADAS APROX | AF12: VALOR TOTAL CALCULADAS APROX | AG12: CANTIDAD TOTAL | AH12: VALOR TOTAL (ANI + INVIAS) | AI12: CANTIDAD TOTAL H31 N (PR30+537 al 31+896) | AJ12: VALOR TOTAL | AK12: CANTIDAD TOTAL H34 N (PR 66+000 al 66+580) | AL12: VALOR TOTAL | AM12: CANTIDAD TOTAL PROPUESTA INVIAS | AN12: VALOR TOTAL PROPUESTA INVIAS
E13: GENERAL | F13: PARTICULAR
J14: 30537 | K14: 31896 | L14: 40100 | M14: 40429 | N14: 58214 | O14: 61360 | P14: 74553 | Q14: 74575 | R14: 86365 | S14: 86420 | Y14: 61360 | Z14: 61420 | AA14: 76800 | AB14: 77750 | AC14: 86420 | AD14: 87900 | AI14: 30537 | AJ14: 31896 | AK14: 66000 | AL14: 66580
J15: 39200 | K15: 40100 | L15: 46210 | M15: 47053 | N15: 63227 | O15: 65737 | P15: 77700 | Q15: 77750 | R15: 87900 | S15: 88420 | Y15: 61420 | Z15: 63227 | AA15: 83500 | AB15: 84170 | AC15: 90150 | AD15: 90715
L16: 47090 | M16: 48183 | N16: 66000 | O16: 66580 | P16: 84170 | Q16: 84240 | R16: 89820 | S16: 90150 | AA16: 84240 | AB16: 84285
R17: 90715 | S17: 90770 | AI17: DIFERENCIA H31N | AJ17: =ROUND((AJ14-AI14)/1000,1) -> 1.4 | AK17: DIFERENCIA H31N | AL17: =ROUND((AL14-AK14)/1000,1) -> 0.6
C18: EXPLANACIONES | J18: CONSTRUCCION | K18: =ROUND(((K14-J14)+(K15-J15))/1000,1) -> 2.3 | L18: REHABILTAR | M18: =ROUND(((M14-L14)+(M15-L15)+(M16-L16))/1000,1) -> 2.3 | N18: CONSTRUCCION | O18: =ROUND(((O14-N14)+(O15-N15)+(O16-N16))/1000,1) -> 6.2 | P18: CONSTRUCCION | Q18: =ROUND(((Q14-P14)+(Q15-P15)+(Q16-P16))/1000,1) -> 0.1 | R18: CONSTRUCCION | S18: =ROUND(((S14-R14)+(S15-R15)+(S16-R16)+(S17-R17))/1000,1) -> 1 | Y18: CONSTRUCION | Z18: =ROUND(((Z14-Y14)+(Z15-Y15)+(Z16-Y16))/1000,1) -> 1.9 | AA18: CONSTRUCION | AB18: =ROUND(((AB14-AA14)+(AB15-AA15)+(AB16-AA16))/1000,1) -> 1.7 | AC18: CONSTRUCION | AD18: =ROUND(((AD14-AC14)+(AD15-AC15)+(AD16-AC16))/1000,1) -> 2
C19: 1 | D19: 1P | F19: 1P | G19: Localización y replanteo | H19: Ha | I19: =+#REF! -> #REF! | K19: =I19*J19 -> #REF! | M19: =L19*I19 -> #REF! | O19: =N19*I19 -> #REF! | Q19: =I19*P19 -> #REF! | S19: =R19*I19 -> #REF! | T19: =J19+L19+N19+P19+R19 -> 0 | V19: =I19*T19 -> #REF! | X19: =W19*I19 -> #REF! | Z19: =Y19*I19 -> #REF! | AB19: =AA19*I19 -> #REF! | AD19: =I19*AC19 -> #REF! | AE19: =Y19+AA19+AC19+W19 -> 0 | AF19: =AE19*I19 -> #REF! | AG19: =T19+AE19 -> 0 | AH19: =V19+AF19 -> #REF! | AJ19: =AI19*I19 -> #REF! | AL19: =AK19*I19 -> #REF! | AM19: =AG19-AI19-AK19 -> 0 | AN19: =AM19*I19 -> #REF!
C20: =C19+1 -> 2 | D20: 200.1 | E20: 200-13 | G20: Desmonte y limpieza en bosque | H20: Ha | I20: =#REF! -> #REF! | K20: =I20*J20 -> #REF! | M20: =L20*I20 -> #REF! | O20: =N20*I20 -> #REF! | Q20: =I20*P20 -> #REF! | S20: =R20*I20 -> #REF! | T20: =J20+L20+N20+P20+R20 -> 0 | V20: =I20*T20 -> #REF! | X20: =W20*I20 -> #REF! | Z20: =Y20*I20 -> #REF! | AB20: =AA20*I20 -> #REF! | AD20: =I20*AC20 -> #REF! | AE20: =Y20+AA20+AC20+W20 -> 0 | AF20: =AE20*I20 -> #REF! | AG20: =T20+AE20 -> 0 | AH20: =V20+AF20 -> #REF! | AJ20: =AI20*I20 -> #REF! | AL20: =AK20*I20 -> #REF! | AM20: =AG20-AI20-AK20 -> 0 | AN20: =AM20*I20 -> #REF!
C21: =C20+1 -> 3 | D21: 200.2 | E21: 200-13 | G21: Desmonte y limpieza en zonas no boscosas | H21: Ha | I21: =+#REF! -> #REF! | K21: =I21*J21 -> #REF! | M21: =L21*I21 -> #REF! | O21: =N21*I21 -> #REF! | Q21: =I21*P21 -> #REF! | S21: =R21*I21 -> #REF! | T21: =J21+L21+N21+P21+R21 -> 0 | V21: =I21*T21 -> #REF! | X21: =W21*I21 -> #REF! | Y21: =(1867*20)/10000 -> 3.734 | Z21: =Y21*I21 -> #REF! | AA21: =(AB18*1000)/10000 -> 0.17 | AB21: =AA21*I21 -> #REF! | AC21: =(2045*20)/10000 -> 4.09 | AD21: =I21*AC21 -> #REF! | AE21: =Y21+AA21+AC21+W21 -> 7.994 | AF21: =AE21*I21 -> #REF! | AG21: =T21+AE21 -> 7.994 | AH21: =V21+AF21 -> #REF! | AJ21: =AI21*I21 -> #REF! | AL21: =AK21*I21 -> #REF! | AM21: =AG21-AI21-AK21 -> 7.994 | AN21: =AM21*I21 -> #REF!
C22: =C21+1 -> 4 | D22: 201.7 | E22: 201-13 | G22: Demolición de Estructuras | H22: m3 | I22: =+#REF! -> #REF! | K22: =I22*J22 -> #REF! | M22: =L22*I22 -> #REF! | O22: =N22*I22 -> #REF! | Q22: =I22*P22 -> #REF! | S22: =R22*I22 -> #REF! | T22: =J22+L22+N22+P22+R22 -> 0 | V22: =I22*T22 -> #REF! | X22: =W22*I22 -> #REF! | Z22: =Y22*I22 -> #REF! | AB22: =AA22*I22 -> #REF! | AD22: =I22*AC22 -> #REF! | AE22: =Y22+AA22+AC22+W22 -> 0 | AF22: =AE22*I22 -> #REF! | AG22: =T22+AE22 -> 0 | AH22: =V22+AF22 -> #REF! | AJ22: =AI22*I22 -> #REF! | AL22: =AK22*I22 -> #REF! | AM22: =AG22-AI22-AK22 -> 0 | AN22: =AM22*I22 -> #REF!
C23: =C22+1 -> 5 | D23: 201.8 | E23: 201-13 | G23: Demolición de pavimentos rigidos | H23: m2 | I23: =#REF! -> #REF! | K23: =I23*J23 -> #REF! | M23: =L23*I23 -> #REF! | O23: =N23*I23 -> #REF! | Q23: =I23*P23 -> #REF! | S23: =R23*I23 -> #REF! | T23: =J23+L23+N23+P23+R23 -> 0 | V23: =I23*T23 -> #REF! | X23: =W23*I23 -> #REF! | Z23: =Y23*I23 -> #REF! | AB23: =AA23*I23 -> #REF! | AD23: =I23*AC23 -> #REF! | AE23: =Y23+AA23+AC23+W23 -> 0 | AF23: =AE23*I23 -> #REF! | AG23: =T23+AE23 -> 0 | AH23: =V23+AF23 -> #REF! | AJ23: =AI23*I23 -> #REF! | AL23: =AK23*I23 -> #REF! | AM23: =AG23-AI23-AK23 -> 0 | AN23: =AM23*I23 -> #REF!
C24: =C23+1 -> 6 | D24: 201.9 | E24: 201-13 | G24: Demoliciónde pisos y andenes de concreto | H24: m2 | I24: =#REF! -> #REF! | K24: =I24*J24 -> #REF! | M24: =L24*I24 -> #REF! | O24: =N24*I24 -> #REF! | Q24: =I24*P24 -> #REF! | S24: =R24*I24 -> #REF! | T24: =J24+L24+N24+P24+R24 -> 0 | V24: =I24*T24 -> #REF! | X24: =W24*I24 -> #REF! | Z24: =Y24*I24 -> #REF! | AB24: =AA24*I24 -> #REF! | AD24: =I24*AC24 -> #REF! | AE24: =Y24+AA24+AC24+W24 -> 0 | AF24: =AE24*I24 -> #REF! | AG24: =T24+AE24 -> 0 | AH24: =V24+AF24 -> #REF! | AJ24: =AI24*I24 -> #REF! | AL24: =AK24*I24 -> #REF! | AM24: =AG24-AI24-AK24 -> 0 | AN24: =AM24*I24 -> #REF!
C25: =C24+1 -> 7 | D25: 201.10 | E25: 201-13 | G25: Demolición de bordillos de concreto | H25: m | I25: =#REF! -> #REF! | K25: =I25*J25 -> #REF! | M25: =L25*I25 -> #REF! | O25: =N25*I25 -> #REF! | Q25: =I25*P25 -> #REF! | S25: =R25*I25 -> #REF! | T25: =J25+L25+N25+P25+R25 -> 0 | V25: =I25*T25 -> #REF! | X25: =W25*I25 -> #REF! | Z25: =Y25*I25 -> #REF! | AB25: =AA25*I25 -> #REF! | AD25: =I25*AC25 -> #REF! | AE25: =Y25+AA25+AC25+W25 -> 0 | AF25: =AE25*I25 -> #REF! | AG25: =T25+AE25 -> 0 | AH25: =V25+AF25 -> #REF! | AJ25: =AI25*I25 -> #REF! | AL25: =AK25*I25 -> #REF! | AM25: =AG25-AI25-AK25 -> 0 | AN25: =AM25*I25 -> #REF!
C26: =C25+1 -> 8 | D26: 201.15 | E26: 201.13 | G26: Remoción de alcantarillas | H26: m | I26: =+#REF! -> #REF! | K26: =I26*J26 -> #REF! | M26: =L26*I26 -> #REF! | O26: =N26*I26 -> #REF! | Q26: =I26*P26 -> #REF! | S26: =R26*I26 -> #REF! | T26: =J26+L26+N26+P26+R26 -> 0 | V26: =I26*T26 -> #REF! | X26: =W26*I26 -> #REF! | Z26: =Y26*I26 -> #REF! | AB26: =AA26*I26 -> #REF! | AD26: =I26*AC26 -> #REF! | AE26: =Y26+AA26+AC26+W26 -> 0 | AF26: =AE26*I26 -> #REF! | AG26: =T26+AE26 -> 0 | AH26: =V26+AF26 -> #REF! | AJ26: =AI26*I26 -> #REF! | AL26: =AK26*I26 -> #REF! | AM26: =AG26-AI26-AK26 -> 0 | AN26: =AM26*I26 -> #REF!
C27: =C26+1 -> 9 | D27: 201.16 | E27: 201-13 | G27: Remoción de cercas de alambre | H27: m | I27: =+#REF! -> #REF! | K27: =I27*J27 -> #REF! | M27: =L27*I27 -> #REF! | O27: =N27*I27 -> #REF! | Q27: =I27*P27 -> #REF! | S27: =R27*I27 -> #REF! | T27: =J27+L27+N27+P27+R27 -> 0 | V27: =I27*T27 -> #REF! | X27: =W27*I27 -> #REF! | Z27: =Y27*I27 -> #REF! | AB27: =AA27*I27 -> #REF! | AD27: =I27*AC27 -> #REF! | AE27: =Y27+AA27+AC27+W27 -> 0 | AF27: =AE27*I27 -> #REF! | AG27: =T27+AE27 -> 0 | AH27: =V27+AF27 -> #REF! | AJ27: =AI27*I27 -> #REF! | AL27: =AK27*I27 -> #REF! | AM27: =AG27-AI27-AK27 -> 0 | AN27: =AM27*I27 -> #REF!
C28: =C27+1 -> 10 | D28: 201.17 | E28: 201-13 | G28: Traslado de postes | H28: u | I28: =#REF! -> #REF! | K28: =I28*J28 -> #REF! | M28: =L28*I28 -> #REF! | O28: =N28*I28 -> #REF! | Q28: =I28*P28 -> #REF! | S28: =R28*I28 -> #REF! | T28: =J28+L28+N28+P28+R28 -> 0 | V28: =I28*T28 -> #REF! | X28: =W28*I28 -> #REF! | Z28: =Y28*I28 -> #REF! | AB28: =AA28*I28 -> #REF! | AD28: =I28*AC28 -> #REF! | AE28: =Y28+AA28+AC28+W28 -> 0 | AF28: =AE28*I28 -> #REF! | AG28: =T28+AE28 -> 0 | AH28: =V28+AF28 -> #REF! | AJ28: =AI28*I28 -> #REF! | AL28: =AK28*I28 -> #REF! | AM28: =AG28-AI28-AK28 -> 0 | AN28: =AM28*I28 -> #REF!
C29: =C28+1 -> 11 | D29: 210.2.1 | E29: 210-13 | G29: Excavación en roca de la explanación y canales | H29: m3 | I29: =+#REF! -> #REF! | K29: =I29*J29 -> #REF! | M29: =L29*I29 -> #REF! | O29: =N29*I29 -> #REF! | Q29: =I29*P29 -> #REF! | S29: =R29*I29 -> #REF! | T29: =J29+L29+N29+P29+R29 -> 0 | V29: =I29*T29 -> #REF! | X29: =W29*I29 -> #REF! | Y29: =Y30*0.05 -> #REF! | Z29: =Y29*I29 -> #REF! | AA29: =AA30*0.02 -> #REF! | AB29: =AA29*I29 -> #REF! | AC29: =AC30*0.05 -> #REF! | AD29: =I29*AC29 -> #REF! | AE29: =Y29+AA29+AC29+W29 -> #REF! | AF29: =AE29*I29 -> #REF! | AG29: =T29+AE29 -> #REF! | AH29: =V29+AF29 -> #REF! | AJ29: =AI29*I29 -> #REF! | AL29: =AK29*I29 -> #REF! | AM29: =AG29-AI29-AK29 -> #REF! | AN29: =AM29*I29 -> #REF!
C30: =C29+1 -> 12 | D30: 210.2.2 | E30: 210-13 | G30: Excavaciones en material común de la Explanación y Canales | H30: m3 | I30: =+#REF! -> #REF! | J30: =J32 -> 14436.186 | K30: =I30*J30 -> #REF! | L30: =+L32 -> 4843.665 | M30: =L30*I30 -> #REF! | N30: =N32 -> 98891.289 | O30: =N30*I30 -> #REF! | P30: =P32 -> 1520.7839 | Q30: =I30*P30 -> #REF! | R30: =R32 -> 1116.1388 | S30: =R30*I30 -> #REF! | T30: =J30+L30+N30+P30+R30 -> 120808.06 | V30: =I30*T30 -> #REF! | X30: =W30*I30 -> #REF! | Y30: =Y32+#REF! -> #REF! | Z30: =Y30*I30 -> #REF! | AA30: =#REF!+#REF!+#REF!+#REF!+#REF!+AA32 -> #REF! | AB30: =AA30*I30 -> #REF! | AC30: =#REF!+#REF!+AC32 -> #REF! | AD30: =I30*AC30 -> #REF! | AE30: =Y30+AA30+AC30+W30 -> #REF! | AF30: =AE30*I30 -> #REF! | AG30: =T30+AE30 -> #REF! | AH30: =V30+AF30 -> #REF! | AI30: =AI32 -> 11010.69 | AJ30: =AI30*I30 -> #REF! | AL30: =AK30*I30 -> #REF! | AM30: =AG30-AI30-AK30 -> #REF! | AN30: =AM30*I30 -> #REF! | AP30: =11.3*800*0.4 -> 3616
C31: =C30+1 -> 13 | D31: 211.1 | E31: 211-13 | G31: Remoción de Derrumbes | H31: m3 | I31: =+#REF! -> #REF! | K31: =I31*J31 -> #REF! | M31: =L31*I31 -> #REF! | O31: =N31*I31 -> #REF! | Q31: =I31*P31 -> #REF! | S31: =R31*I31 -> #REF! | T31: =J31+L31+N31+P31+R31 -> 0 | V31: =I31*T31 -> #REF! | X31: =W31*I31 -> #REF! | Z31: =Y31*I31 -> #REF! | AB31: =AA31*I31 -> #REF! | AD31: =I31*AC31 -> #REF! | AE31: =Y31+AA31+AC31+W31 -> 0 | AF31: =AE31*I31 -> #REF! | AG31: =T31+AE31 -> 0 | AH31: =V31+AF31 -> #REF! | AJ31: =AI31*I31 -> #REF! | AL31: =AK31*I31 -> #REF! | AM31: =AG31-AI31-AK31 -> 0 | AN31: =AM31*I31 -> #REF!
C32: =C31+1 -> 14 | D32: 220.1 | E32: 220-13 | G32: Terraplenes | H32: m3 | I32: =+#REF! -> #REF! | J32: ='[132]CANTIDADES TOTALIZADAS'!$AF$25+'[132]CANTIDADES TOTALIZADAS'!$AF$26 -> 14436.186 | K32: =I32*J32 -> #REF! | L32: ='[132]CANTIDADES TOTALIZADAS'!$AQ$25+'[132]CANTIDADES TOTALIZADAS'!$AQ$26 -> 4843.665 | M32: =L32*I32 -> #REF! | N32: ='[132]CANTIDADES TOTALIZADAS'!$AU$25+'[132]CANTIDADES TOTALIZADAS'!$AU$26 -> 98891.289 | O32: =N32*I32 -> #REF! | P32: ='[132]CANTIDADES TOTALIZADAS'!$BA$25+'[132]CANTIDADES TOTALIZADAS'!$BA$26 -> 1520.7839 | Q32: =I32*P32 -> #REF! | R32: ='[132]CANTIDADES TOTALIZADAS'!$BI$25+'[132]CANTIDADES TOTALIZADAS'!$BI$26 -> 1116.1388 | S32: =R32*I32 -> #REF! | T32: =J32+L32+N32+P32+R32 -> 120808.06 | U32: ='[132]CANTIDADES TOTALIZADAS'!$BJ$25+'[132]CANTIDADES TOTALIZADAS'!$BJ$26 -> 120808.06 | V32: =I32*T32 -> #REF! | X32: =W32*I32 -> #REF! | Y32: =#REF! -> #REF! | Z32: =Y32*I32 -> #REF! | AA32: =#REF!+#REF!+#REF!+#REF!+#REF! -> #REF! | AB32: =AA32*I32 -> #REF! | AC32: =#REF!+#REF! -> #REF! | AD32: =I32*AC32 -> #REF! | AE32: =Y32+AA32+AC32+W32 -> #REF! | AF32: =AE32*I32 -> #REF! | AG32: =T32+AE32 -> #REF! | AH32: =V32+AF32 -> #REF! | AI32: ='CANTIDADES TOTALIZADAS'!AD25+'CANTIDADES TOTALIZADAS'!AD26 -> 11010.69 | AJ32: =AI32*I32 -> #REF! | AL32: =AK32*I32 -> #REF! | AM32: =AG32-AI32-AK32 -> #REF! | AN32: =AM32*I32 -> #REF! | AP32: =11.3*800*0.4 -> 3616
C33: =C32+1 -> 15 | D33: 221.1 | E33: 221-13 | G33: Pedraplen compacto | H33: m3 | I33: =#REF! -> #REF! | K33: =I33*J33 -> #REF! | M33: =L33*I33 -> #REF! | O33: =N33*I33 -> #REF! | Q33: =I33*P33 -> #REF! | S33: =R33*I33 -> #REF! | T33: =J33+L33+N33+P33+R33 -> 0 | V33: =I33*T33 -> #REF! | X33: =W33*I33 -> #REF! | Z33: =Y33*I33 -> #REF! | AB33: =AA33*I33 -> #REF! | AD33: =I33*AC33 -> #REF! | AE33: =Y33+AA33+AC33+W33 -> 0 | AF33: =AE33*I33 -> #REF! | AG33: =T33+AE33 -> 0 | AH33: =V33+AF33 -> #REF! | AJ33: =AI33*I33 -> #REF! | AL33: =AK33*I33 -> #REF! | AM33: =AG33-AI33-AK33 -> 0 | AN33: =AM33*I33 -> #REF!
C34: =C33+1 -> 16 | D34: 221.1P | F34: 221.1P | G34: Material para Pedraplen | H34: m3 | I34: =#REF! -> #REF! | K34: =I34*J34 -> #REF! | M34: =L34*I34 -> #REF! | O34: =N34*I34 -> #REF! | Q34: =I34*P34 -> #REF! | S34: =R34*I34 -> #REF! | T34: =J34+L34+N34+P34+R34 -> 0 | V34: =I34*T34 -> #REF! | X34: =W34*I34 -> #REF! | Z34: =Y34*I34 -> #REF! | AB34: =AA34*I34 -> #REF! | AD34: =I34*AC34 -> #REF! | AE34: =Y34+AA34+AC34+W34 -> 0 | AF34: =AE34*I34 -> #REF! | AG34: =T34+AE34 -> 0 | AH34: =V34+AF34 -> #REF! | AJ34: =AI34*I34 -> #REF! | AL34: =AK34*I34 -> #REF! | AM34: =AG34-AI34-AK34 -> 0 | AN34: =AM34*I34 -> #REF!
C35: =C34+1 -> 17 | D35: 230.1 | F35: 230.1 | G35: Mejoramiento de la subrasante con adición de materiales | H35: m2 | I35: =+#REF! -> #REF! | K35: =I35*J35 -> #REF! | M35: =L35*I35 -> #REF! | O35: =N35*I35 -> #REF! | Q35: =I35*P35 -> #REF! | S35: =R35*I35 -> #REF! | T35: =J35+L35+N35+P35+R35 -> 0 | V35: =I35*T35 -> #REF! | X35: =W35*I35 -> #REF! | Z35: =Y35*I35 -> #REF! | AB35: =AA35*I35 -> #REF! | AD35: =I35*AC35 -> #REF! | AE35: =Y35+AA35+AC35+W35 -> 0 | AF35: =AE35*I35 -> #REF! | AG35: =T35+AE35 -> 0 | AH35: =V35+AF35 -> #REF! | AJ35: =AI35*I35 -> #REF! | AL35: =AK35*I35 -> #REF! | AM35: =AG35-AI35-AK35 -> 0 | AN35: =AM35*I35 -> #REF!
C36: =C35+1 -> 18 | D36: 230.1P | F36: 230.1P | G36: Mejoramiento de la subrasante con adición de materiales | H36: m3 | I36: =+#REF! -> #REF! | K36: =I36*J36 -> #REF! | M36: =L36*I36 -> #REF! | O36: =N36*I36 -> #REF! | Q36: =I36*P36 -> #REF! | S36: =R36*I36 -> #REF! | T36: =J36+L36+N36+P36+R36 -> 0 | V36: =I36*T36 -> #REF! | X36: =W36*I36 -> #REF! | Y36: =#REF! -> #REF! | Z36: =Y36*I36 -> #REF! | AA36: =#REF!+#REF!+#REF!+#REF!+#REF! -> #REF! | AB36: =AA36*I36 -> #REF! | AC36: =#REF!+#REF! -> #REF! | AD36: =I36*AC36 -> #REF! | AE36: =Y36+AA36+AC36+W36 -> #REF! | AF36: =AE36*I36 -> #REF! | AG36: =T36+AE36 -> #REF! | AH36: =V36+AF36 -> #REF! | AJ36: =AI36*I36 -> #REF! | AL36: =AK36*I36 -> #REF! | AM36: =AG36-AI36-AK36 -> #REF! | AN36: =AM36*I36 -> #REF!
C37: =C36+1 -> 19 | D37: 231.1 | E37: 231-13 | G37: Geotextil para separación de suelos de subrasante y capas granulares | H37: m2 | I37: =+#REF! -> #REF! | K37: =I37*J37 -> #REF! | M37: =L37*I37 -> #REF! | O37: =N37*I37 -> #REF! | Q37: =I37*P37 -> #REF! | S37: =R37*I37 -> #REF! | T37: =J37+L37+N37+P37+R37 -> 0 | V37: =I37*T37 -> #REF! | X37: =W37*I37 -> #REF! | Y37: =1837*24 -> 44088 | Z37: =Y37*I37 -> #REF! | AA37: =1700*24 -> 40800 | AB37: =AA37*I37 -> #REF! | AC37: =2045*24 -> 49080 | AD37: =I37*AC37 -> #REF! | AE37: =Y37+AA37+AC37+W37 -> 133968 | AF37: =AE37*I37 -> #REF! | AG37: =T37+AE37 -> 133968 | AH37: =V37+AF37 -> #REF! | AJ37: =AI37*I37 -> #REF! | AL37: =AK37*I37 -> #REF! | AM37: =AG37-AI37-AK37 -> 133968 | AN37: =AM37*I37 -> #REF!
C38: =C37+1 -> 20 | D38: 232.1 | E38: 232-13 | G38: Geotextil para estabilización de suelos de la subrasante y capas granulares | H38: m2 | I38: =+#REF! -> #REF! | K38: =I38*J38 -> #REF! | M38: =L38*I38 -> #REF! | O38: =N38*I38 -> #REF! | Q38: =I38*P38 -> #REF! | S38: =R38*I38 -> #REF! | T38: =J38+L38+N38+P38+R38 -> 0 | V38: =I38*T38 -> #REF! | X38: =W38*I38 -> #REF! | Z38: =Y38*I38 -> #REF! | AB38: =AA38*I38 -> #REF! | AD38: =I38*AC38 -> #REF! | AE38: =Y38+AA38+AC38+W38 -> 0 | AF38: =AE38*I38 -> #REF! | AG38: =T38+AE38 -> 0 | AH38: =V38+AF38 -> #REF! | AJ38: =AI38*I38 -> #REF! | AL38: =AK38*I38 -> #REF! | AM38: =AG38-AI38-AK38 -> 0 | AN38: =AM38*I38 -> #REF!
C39: =C38+1 -> 21 | D39: 232.1P | F39: 232.1P | G39: Geotextil tipo TR 4000 ó similar para refuerzo de muros en tierra armada | H39: m2 | I39: =#REF! -> #REF! | K39: =I39*J39 -> #REF! | M39: =L39*I39 -> #REF! | O39: =N39*I39 -> #REF! | Q39: =I39*P39 -> #REF! | S39: =R39*I39 -> #REF! | T39: =J39+L39+N39+P39+R39 -> 0 | V39: =I39*T39 -> #REF! | X39: =W39*I39 -> #REF! | Z39: =Y39*I39 -> #REF! | AB39: =AA39*I39 -> #REF! | AD39: =I39*AC39 -> #REF! | AE39: =Y39+AA39+AC39+W39 -> 0 | AF39: =AE39*I39 -> #REF! | AG39: =T39+AE39 -> 0 | AH39: =V39+AF39 -> #REF! | AJ39: =AI39*I39 -> #REF! | AL39: =AK39*I39 -> #REF! | AM39: =AG39-AI39-AK39 -> 0 | AN39: =AM39*I39 -> #REF!
C40: =C39+1 -> 22 | D40: 233.1P | F40: 233.1P | G40: Suministro e instalación geomalla Triax TX 160 o similar | H40: m2 | I40: =#REF! -> #REF! | K40: =I40*J40 -> #REF! | M40: =L40*I40 -> #REF! | O40: =N40*I40 -> #REF! | Q40: =I40*P40 -> #REF! | S40: =R40*I40 -> #REF! | T40: =J40+L40+N40+P40+R40 -> 0 | V40: =I40*T40 -> #REF! | X40: =W40*I40 -> #REF! | Z40: =Y40*I40 -> #REF! | AB40: =AA40*I40 -> #REF! | AD40: =I40*AC40 -> #REF! | AE40: =Y40+AA40+AC40+W40 -> 0 | AF40: =AE40*I40 -> #REF! | AG40: =T40+AE40 -> 0 | AH40: =V40+AF40 -> #REF! | AJ40: =AI40*I40 -> #REF! | AL40: =AK40*I40 -> #REF! | AM40: =AG40-AI40-AK40 -> 0 | AN40: =AM40*I40 -> #REF!
C41: =C40+1 -> 23 | D41: 233.2P | F41: 233.2P | G41: Suministro e instalación geomalla Uniaxial UX 100 o similar | H41: m2 | I41: =#REF! -> #REF! | K41: =I41*J41 -> #REF! | M41: =L41*I41 -> #REF! | O41: =N41*I41 -> #REF! | Q41: =I41*P41 -> #REF! | S41: =R41*I41 -> #REF! | T41: =J41+L41+N41+P41+R41 -> 0 | V41: =I41*T41 -> #REF! | X41: =W41*I41 -> #REF! | Z41: =Y41*I41 -> #REF! | AB41: =AA41*I41 -> #REF! | AD41: =I41*AC41 -> #REF! | AE41: =Y41+AA41+AC41+W41 -> 0 | AF41: =AE41*I41 -> #REF! | AG41: =T41+AE41 -> 0 | AH41: =V41+AF41 -> #REF! | AJ41: =AI41*I41 -> #REF! | AL41: =AK41*I41 -> #REF! | AM41: =AG41-AI41-AK41 -> 0 | AN41: =AM41*I41 -> #REF!
C42: =C41+1 -> 24 | D42: 2P | F42: 2P | G42: Conformación de sitios de disposicion de sobrantes | H42: m3 | I42: =+#REF! -> #REF! | K42: =I42*J42 -> #REF! | M42: =L42*I42 -> #REF! | O42: =N42*I42 -> #REF! | Q42: =I42*P42 -> #REF! | S42: =R42*I42 -> #REF! | T42: =J42+L42+N42+P42+R42 -> 0 | V42: =I42*T42 -> #REF! | X42: =W42*I42 -> #REF! | Z42: =Y42*I42 -> #REF! | AB42: =AA42*I42 -> #REF! | AD42: =I42*AC42 -> #REF! | AE42: =Y42+AA42+AC42+W42 -> 0 | AF42: =AE42*I42 -> #REF! | AG42: =T42+AE42 -> 0 | AH42: =V42+AF42 -> #REF! | AJ42: =AI42*I42 -> #REF! | AL42: =AK42*I42 -> #REF! | AM42: =AG42-AI42-AK42 -> 0 | AN42: =AM42*I42 -> #REF!
C43: =C42+1 -> 25 | D43: 3P | F43: 3P | G43: Suministro e instalacion de bolsacretos | H43: m3 | I43: =#REF! -> #REF! | K43: =I43*J43 -> #REF! | M43: =L43*I43 -> #REF! | O43: =N43*I43 -> #REF! | Q43: =I43*P43 -> #REF! | S43: =R43*I43 -> #REF! | T43: =J43+L43+N43+P43+R43 -> 0 | V43: =I43*T43 -> #REF! | X43: =W43*I43 -> #REF! | Z43: =Y43*I43 -> #REF! | AB43: =AA43*I43 -> #REF! | AD43: =I43*AC43 -> #REF! | AE43: =Y43+AA43+AC43+W43 -> 0 | AF43: =AE43*I43 -> #REF! | AG43: =T43+AE43 -> 0 | AH43: =V43+AF43 -> #REF! | AJ43: =AI43*I43 -> #REF! | AL43: =AK43*I43 -> #REF! | AM43: =AG43-AI43-AK43 -> 0 | AN43: =AM43*I43 -> #REF!
...

Sheet CANTIDADES Fase II todo
A1: ITEM | B1: ACTIVIDAD | C1: U. Med | D1: HITO 10E | F1: HITO 11E | I1: HITO 12E | K1: HITO 13N | N1: HITO 13E | Q1: HITO 16N | T1: HITO 16E | W1: TOTAL TRAMO 2 | X1: 31N | AB1: 31E | AE1: 32E | AG1: 33E | AI1: 34N | AP1: 34E | AR1: 35N | AV1: 35E | AY1: 36N | BA1: 36E | BD1: TOTAL TRAMO 4 | BE1: HITO 48E | BH1: HITO48E | BM1: HITO 49N | BP1: H50E | BV1: H51E | CD1: HITO 51N | CI1: HITO 53E | CP1: HITO H53N | CS1: HITO H54N | CX1: HITO 54E | CZ1: TOTAL TRAMO 7 | DA1: TOTAL CANT | DI1: TOTAL mantenimiento
D3: SEGMENTO | E3: TOTAL HITO | F3: SEGMENTO | H3: TOTAL HITO | I3: SEGMENTO | J3: TOTAL HITO | K3: SEGMENTO | M3: TOTAL HITO | N3: SEGMENTO | P3: TOTAL HITO | Q3: SEGMENTO | S3: TOTAL HITO | T3: SEGMENTO | V3: TOTAL HITO | X3: SEGMENTO | AA3: TOTAL HITO | AB3: SEGMENTO | AD3: TOTAL HITO | AE3: SEGMENTO | AF3: TOTAL HITO | AG3: SEGMENTO | AH3: TOTAL HITO | AI3: SEGMENTO | AM3: PUENTE LEBRIJA | AN3: PUENTE PAYANDÉ | AO3: TOTAL HITO | AP3: SEGMENTO | AQ3: TOTAL HITO | AR3: SEGMENTO | AU3: TOTAL HITO | AV3: SEGMENTO | AX3: TOTAL HITO | AY3: SEGMENTO | AZ3: TOTAL HITO | BA3: SEGMENTO | BC3: TOTAL HITO | BE3: Pte Peatonal | BF3: Pte Peatonal | BG3: TOTAL HITO | BH3: SEGMENTO | BL3: TOTAL HITO | BM3: SEGMENTO | BO3: TOTAL HITO | BP3: SEGMENTO | BU3: TOTAL HITO | BV3: SEGMENTO | CC3: TOTAL HITO | CD3: SEGMENTO | CH3: TOTAL HITO | CI3: SEGMENTO | CO3: TOTAL HITO | CR3: TOTAL HITO | CW3: TOTAL HITO | CX3: SEGMENTO | CY3: TOTAL HITO
D4: 123910 | F4: 124328 | G4: 125860 | I4: 0 | K4: 11170 | L4: 19000 | N4: 10000 | O4: 17500 | Q4: 41595 | R4: 45000 | T4: 40000 | U4: 45000 | X4: 30470 | Y4: 31896 | Z4: 38660 | AB4: 30436 | AC4: 38600 | AE4: 40100 | AG4: 50200 | AI4: 61360 | AJ4: 65737 | AK4: 66580 | AL4: 67578 | AM4: 58913.13 | AN4: 60495.7 | AP4: 60200 | AR4: 72660 | AS4: 79994 | AT4: 83424 | AV4: 70200 | AW4: 72540 | AY4: 86420 | BA4: 83427 | BB4: 87727 | BH4: 7210 | BI4: 7980 | BJ4: 8200 | BK4: 9200 | BM4: 8000 | BN4: 9200 | BP4: 22000 | BQ4: 27780 | BR4: 28600 | BS4: 29216 | BT4: 30300 | BV4: 32080 | BW4: 32240 | BX4: 32770 | BY4: 35160 | BZ4: 35430 | CA4: 36300 | CB4: 36630 | CD4: 27620 | CE4: 31950 | CF4: 32280 | CG4: 32400 | CI4: 56550 | CJ4: =+CI5 -> 57160 | CK4: =+CJ5 -> 57250 | CL4: =+CK5 -> 57960 | CM4: =+CL5 -> 58220 | CN4: 64340 | CP4: 56570 | CQ4: 64800 | CS4: 67044 | CT4: 68761 | CU4: 69569 | CV4: 69695 | CX4: 66000
F5: 125700 | G5: 134456 | I5: 10000 | K5: 11803 | L5: 19350 | N5: 12274 | O5: 19480 | Q5: 42500 | R5: 47030 | T5: 40870 | U5: 47030 | X5: 30537 | Y5: 32080 | Z5: 39200 | AB5: 32055 | AC5: 40100 | AE5: 50200 | AG5: 60200 | AI5: 63227 | AJ5: 66000 | AK5: 67552 | AL5: 70270 | AM5: 59063.13 | AN5: 60507.7 | AP5: 70200 | AR5: 74553 | AS5: 82146 | AT5: 84285 | AV5: 70260 | AW5: 79166 | AY5: 86960 | BA5: 86900 | BB5: 89700 | BE5: 3210 | BF5: 6570 | BH5: 7980 | BI5: 8200 | BJ5: 9200 | BK5: 9400 | BM5: 9200 | BN5: 9400 | BP5: 26120 | BQ5: 28390 | BR5: 28240 | BS5: 30300 | BT5: 30780 | BV5: 32240 | BW5: 32770 | BX5: 35160 | BY5: 35430 | BZ5: 36300 | CA5: 36630 | CB5: 37110 | CD5: 27680 | CE5: 32280 | CF5: 32400 | CG5: 32520 | CI5: 57160 | CJ5: 57250 | CK5: 57960 | CL5: 58220 | CM5: 60320 | CN5: 65995.42 | CP5: 57200 | CQ5: 65180 | CS5: 68271 | CT5: 69569 | CU5: 69695 | CV5: 70250 | CX5: 66240
B6: RUTA DEL SOL SECTOR 2 | D6: NORTE | F6: NORTE | G6: SUR | I6: NORTE | K6: NORTE | N6: SUR | O6: SUR | Q6: SUR | R6: SUR | T6: NORTE | U6: NORTE
B7: I. PRECONTRACTUAL
B8: 1 Pólizas | W8: =+IF(C8="",0,E8+H8+J8+M8+P8+S8+V8) -> 0 | X8: 0 | Y8: 0 | Z8: 0 | AA8: =SUM(X8:Z8) -> 0 | AB8: 0 | AC8: 0 | AD8: =SUM(AB8:AC8) -> 0 | AE8: 0 | AG8: 0 | AI8: 0 | AJ8: 0 | AK8: 0 | AL8: 0 | AM8: 0 | AN8: 0 | AP8: 0 | AR8: 0 | AS8: 0 | AT8: 0 | AU8: =SUM(AR8:AT8) -> 0 | AV8: 0 | AW8: 0 | AX8: =SUM(AV8:AW8) -> 0 | AY8: 0 | BA8: 0 | BB8: 0 | BC8: =SUM(BA8:BB8) -> 0
B9: II. PRECONSTRUCCIÓN
B10: 1 Elaboración de diseños de detalle | W10: =+IF(C10="",0,E10+H10+J10+M10+P10+S10+V10) -> 0 | X10: 0 | Y10: 0 | Z10: 0 | AA10: =SUM(X10:Z10) -> 0 | AB10: 0 | AC10: 0 | AD10: =SUM(AB10:AC10) -> 0 | AE10: 0 | AG10: 0 | AI10: 0 | AJ10: 0 | AK10: 0 | AL10: 0 | AM10: 0 | AN10: 0 | AO10: =SUM(AI10:AN10) -> 0 | AP10: 0 | AR10: 0 | AS10: 0 | AT10: 0 | AU10: =SUM(AR10:AT10) -> 0 | AV10: 0 | AW10: 0 | AX10: =SUM(AV10:AW10) -> 0 | AY10: 0 | BA10: 0 | BB10: 0 | BC10: =SUM(BA10:BB10) -> 0
B11: 2 Licencias ambientales | W11: =+IF(C11="",0,E11+H11+J11+M11+P11+S11+V11) -> 0 | X11: 0 | Y11: 0 | Z11: 0 | AA11: =SUM(X11:Z11) -> 0 | AB11: 0 | AC11: 0 | AD11: =SUM(AB11:AC11) -> 0 | AE11: 0 | AG11: 0 | AI11: 0 | AJ11: 0 | AK11: 0 | AL11: 0 | AM11: 0 | AN11: 0 | AO11: =SUM(AI11:AN11) -> 0 | AP11: 0 | AR11: 0 | AS11: 0 | AT11: 0 | AU11: =SUM(AR11:AT11) -> 0 | AV11: 0 | AW11: 0 | AX11: =SUM(AV11:AW11) -> 0 | AY11: 0 | BA11: 0 | BB11: 0 | BC11: =SUM(BA11:BB11) -> 0
B12: 3 Permisos, autorizaciones y concesiones | W12: =+IF(C12="",0,E12+H12+J12+M12+P12+S12+V12) -> 0 | X12: 0 | Y12: 0 | Z12: 0 | AA12: =SUM(X12:Z12) -> 0 | AB12: 0 | AC12: 0 | AD12: =SUM(AB12:AC12) -> 0 | AE12: 0 | AG12: 0 | AI12: 0 | AJ12: 0 | AK12: 0 | AL12: 0 | AM12: 0 | AN12: 0 | AO12: =SUM(AI12:AN12) -> 0 | AP12: 0 | AR12: 0 | AS12: 0 | AT12: 0 | AU12: =SUM(AR12:AT12) -> 0 | AV12: 0 | AW12: 0 | AX12: =SUM(AV12:AW12) -> 0 | AY12: 0 | BA12: 0 | BB12: 0 | BC12: =SUM(BA12:BB12) -> 0
B13: 4 Plan de Intervención prioritaria | W13: =+IF(C13="",0,E13+H13+J13+M13+P13+S13+V13) -> 0 | X13: 0 | Y13: 0 | Z13: 0 | AA13: =SUM(X13:Z13) -> 0 | AB13: 0 | AC13: 0 | AD13: =SUM(AB13:AC13) -> 0 | AE13: 0 | AG13: 0 | AI13: 0 | AJ13: 0 | AK13: 0 | AL13: 0 | AM13: 0 | AN13: 0 | AO13: =SUM(AI13:AN13) -> 0 | AP13: 0 | AR13: 0 | AS13: 0 | AT13: 0 | AU13: =SUM(AR13:AT13) -> 0 | AV13: 0 | AW13: 0 | AX13: =SUM(AV13:AW13) -> 0 | AY13: 0 | BA13: 0 | BB13: 0 | BC13: =SUM(BA13:BB13) -> 0
B14: III. CONSTRUCCIÓN
B15: 1 Preliminares
A16: 201.16 | B16: REMOCIÓN DE CERCAS DE ALAMBRE | C16: m | E16: =+IF(C16="", 0,D16) -> 0 | F16: 0 | G16: 0 | H16: =+IF(C16="", 0,SUM(F16:G16)) -> 0 | I16: 0 | J16: =+IF(C16="", 0,I16) -> 0 | K16: 0 | L16: 0 | M16: =+IF(C16="",0,K16+L16) -> 0 | N16: 0 | O16: 0 | P16: =+IF(C16="", 0,SUM(N16:O16)) -> 0 | Q16: 0 | R16: 0 | S16: =+IF(C16="",0,SUM(Q16:R16)) -> 0 | T16: 0 | U16: 0 | V16: =+IF(C16="",0,SUM(T16:U16)) -> 0 | W16: =+IF(C16="",0,E16+H16+J16+M16+P16+S16+V16) -> 0 | X16: 0 | Y16: 0 | Z16: 0 | AA16: =SUM(X16:Z16) -> 0 | AB16: 0 | AC16: 0 | AD16: =SUM(AB16:AC16) -> 0 | AE16: 0 | AF16: =+AE16 -> 0 | AG16: 0 | AH16: =+AG16 -> 0 | AI16: 0 | AJ16: 0 | AK16: 0 | AL16: 0 | AM16: 0 | AN16: 0 | AO16: =SUM(AI16:AN16) -> 0 | AP16: 500 | AQ16: =+AP16 -> 500 | AR16: 0 | AS16: 0 | AT16: 0 | AU16: =SUM(AR16:AT16) -> 0 | AV16: 0 | AW16: 0 | AX16: =SUM(AV16:AW16) -> 0 | AY16: 0 | AZ16: =+AY16 -> 0 | BA16: 173.853 | BB16: 98.65 | BC16: =SUM(BA16:BB16) -> 272.503 | BD16: =+IF(C16="",0,BC16+AZ16+AX16+AU16+AQ16+AO16+AH16+AF16+AD16+AA16) -> 772.503 | BG16: =+BE16+BF16 -> 0 | BL16: =+BH16+BI16+BJ16+BK16 -> 0 | BO16: =+BM16+BN16 -> 0 | BU16: =+SUM(BP16:BT16) -> 0 | CC16: =+SUM(BV16:CB16) -> 0 | CH16: =+SUM(CD16:CG16) -> 0 | CO16: =+SUM(CI16:CN16) -> 0 | CR16: =+SUM(CP16:CQ16) -> 0 | CW16: =+SUM(CS16:CV16) -> 0 | CY16: =+CX16 -> 0 | CZ16: =+IF(C16="",0,CY16+CR16+CH16+BU16+BO16+BL16+CO16+CW16+CC16+BG16) -> 0 | DA16: =IF(C16="",0,CZ16+BD16+W16) -> 772.503 | DI16: =BD16-BC16-AX16-AQ16-AF16-AD16 -> 0
A17: 201.14 | B17: REMOCIÓN DE DUCTOS DE SERVICIOS EXISTENTES | C17: m | E17: =+IF(C17="", 0,D17) -> 0 | F17: 0 | G17: 0 | H17: =+IF(C17="", 0,SUM(F17:G17)) -> 0 | I17: 0 | J17: =+IF(C17="", 0,I17) -> 0 | K17: 0 | L17: 0 | M17: =+IF(C17="",0,K17+L17) -> 0 | N17: 0 | O17: 0 | P17: =+IF(C17="", 0,SUM(N17:O17)) -> 0 | Q17: 0 | R17: 0 | S17: =+IF(C17="",0,SUM(Q17:R17)) -> 0 | T17: 0 | U17: 0 | V17: =+IF(C17="",0,SUM(T17:U17)) -> 0 | W17: =+IF(C17="",0,E17+H17+J17+M17+P17+S17+V17) -> 0 | X17: 0 | Y17: 0 | Z17: 0 | AA17: =SUM(X17:Z17) -> 0 | AB17: 0 | AC17: 0 | AD17: =SUM(AB17:AC17) -> 0 | AE17: 0 | AF17: =+AE17 -> 0 | AG17: 0 | AH17: =+AG17 -> 0 | AI17: 0 | AJ17: 0 | AK17: 0 | AL17: 0 | AM17: 0 | AN17: 0 | AO17: =SUM(AI17:AN17) -> 0 | AP17: 0 | AQ17: =+AP17 -> 0 | AR17: 0 | AS17: 0 | AT17: 0 | AU17: =SUM(AR17:AT17) -> 0 | AV17: 0 | AW17: 0 | AX17: =SUM(AV17:AW17) -> 0 | AY17: 0 | AZ17: =+AY17 -> 0 | BA17: 0 | BB17: 0 | BC17: =SUM(BA17:BB17) -> 0 | BD17: =+IF(C17="",0,BC17+AZ17+AX17+AU17+AQ17+AO17+AH17+AF17+AD17+AA17) -> 0 | BG17: =+BE17+BF17 -> 0 | BL17: =+BH17+BI17+BJ17+BK17 -> 0 | BO17: =+BM17+BN17 -> 0 | BU17: =+SUM(BP17:BT17) -> 0 | CC17: =+SUM(BV17:CB17) -> 0 | CH17: =+SUM(CD17:CG17) -> 0 | CO17: =+SUM(CI17:CN17) -> 0 | CR17: =+SUM(CP17:CQ17) -> 0 | CW17: =+SUM(CS17:CV17) -> 0 | CY17: =+CX17 -> 0 | CZ17: =+IF(C17="",0,CY17+CR17+CH17+BU17+BO17+BL17+CO17+CW17+CC17+BG17) -> 0 | DA17: =IF(C17="",0,CZ17+BD17+W17) -> 0 | DI17: =BD17-BC17-AX17-AQ17-AF17-AD17 -> 0
