Workbook

Sheet CONSOLIDADO necesidad ajustada
A1: LOTE 1. VESTUARIO Y ROPA DE DAMA
A2: ITEM | B2: CODIGO UNSPSC | C2: DESCRIPCION | D2: CANTIDAD | E2: TIPO DE TRABAJADOR | F2: ESPECIFICACIONES
A3: 1 | B3: 531016 | C3: BLUSA DE CALLE 11510025 | D3: 215 | E3: Empleado público | F3: Ver pestaña VESTUARIO DAMA Anexo No 2. Catalogo de dotacion y ropa de trabajo
A4: 2 | B4: 531025 | C4: CACHUCHA 11510040 | D4: 30
A5: 3 | B5: 531020 | C5: VESTIDO DAMA 11510049/11510220 | D5: 135
A6: 4 | B6: 531027 | C6: UNIFORME DE COCINA UNISEX 11510050 | D6: 3
A7: 5 | B7: 531020 | C7: FALDA 11510228 | D7: 84
A8: 6 | B8: 531021 | C8: OVEROL UNISEX 11510150/11510050 | D8: 34
A9: 7 | B9: 531015 | C9: BLUE JEAN UNISEX 11510161 | D9: 113
A10: 8 | B10: 531027 | C10: UNIFORME DE ENFERMERIA 11510216 | D10: 18
A11: 9 | B11: 531021 | C11: BATA 11510028 | D11: 414
A12: 10 | B12: 531027 | C12: IMPERMEABLE 11580425 | D12: 14
A13: 11 | B13: 531031 | C13: CHALECO 11550252 | D13: 1
A14: 12 | B14: 531027 | C14: UNIFORMES QUIRURGICOS 11510217 | D14: 12
A15: 13 | B15: 531027 | C15: UNIFORME DE BELLEZA 11510218 | D15: 2
A16: 14 | B16: 531020 | C16: VESTIDO DE CALLE PARA MUJER (TO) | D16: 75 | E16: Trabajador oficial | F16: Ver pestaña ROPA TO Anexo No 2. Catalogo de dotacion y ropa de trabajo
A17: 15 | B17: 531027 | C17: ANTIFLUIDO (TO) | D17: 32
C18: TOTAL LOTE 1 | D18: =SUM(D3:D17) -> 1182
A20: LOTE 2. VESTUARIO Y ROPA DE CABALLERO
A21: ITEM | B21: CODIGO UNSPSC | C21: DESCRIPCION | D21: CANTIDAD | E21: TIPO DE TRABAJADOR | F21: ESPECIFICACIONES
A22: 1 | B22: 531025 | C22: CACHUCHA 11510040 | D22: 117 | E22: Empleado público | F22: Ver pestaña VESTUARIO CABALLERO Anexo No 2. Catalogo de dotacion y ropa de trabajo
A23: 2 | B23: 531016 | C23: CAMISA 11510042 | D23: 282
A24: 3 | B24: 531019 | C24: VESTIDO HOMBRE 11510225 | D24: 84
A25: 4 | B25: 531027 | C25: UNIFORME DE COCINA UNISEX 11510050 | D25: 3
A26: 5 | B26: 531021 | C26: OVEROL UNISEX 11510150/11510050 | D26: 230
A27: 6 | B27: 531015 | C27: BLUE JEAN UNISEX 11510161 | D27: 205
A28: 7 | B28: 531015 | C28: PANTALONETA UNISEX 11510170 | D28: 6
A29: 8 | B29: 531027 | C29: UNIFORME DE ENFERMERIA 11510216 | D29: 6
A30: 9 | B30: 531015 | C30: SUDADERA UNISEX 11550250 | D30: 6
A31: 10 | B31: 531030 | C31: CAMISETA 11550260 | D31: 48
A32: 11 | B32: 531024 | C32: MEDIAS 11510414 | D32: 6
A33: 12 | B33: 531021 | C33: BATA 11510027 | D33: 427
A34: 13 | B34: 531017 | C34: BUZO 11550261 | D34: 6
... A36: 15 | B36: 531015 | C36: PANTALON 11510230 | D36: 38
A37: 16 | B37: 531016 | C37: CAMISA MANGA LARGA (TO) | D37: 133 | E37: Trabajador oficial | F37: Ver pestaña ROPA TO Anexo No 2. Catalogo de dotacion y ropa de trabajo
A38: 17 | B38: 531015 | C38: PANTALON FORMAL (TO) | D38: 115
A39: 18 | B39: 531019 | C39: VESTIDO PARA HOMBRE (TO) | D39: 24
A40: 19 | B40: 531021 | C40: OVEROL (TO) | D40: 62
C41: TOTAL LOTE 2 | D41: =SUM(D22:D40) -> 1816
A43: LOTE 3. CALZADO
A44: ITEM | B44: CODIGO UNSPSC | C44: DESCRIPCION | D44: CANTIDAD | E44: TIPO DE TRABAJADOR | F44: ESPECIFICACIONES
A45: 1 | B45: 531116 | C45: ZAPATOS ENFERMERIA DAMA 11580410 | D45: ='CALZADO DAMA'!K53 -> 12 | E45: Empleado público | F45: Ver pestaña CALZADO DAMA Anexo No 2. Catalogo de dotacion y ropa de trabajo
A46: 2 | C46: BOTAS DE CAUCHO DAMA 11520030 | D46: ='CALZADO DAMA'!L53 -> 15
A47: 3 | C47: BOTAS DE CUERO DAMA 11580025 | D47: ='CALZADO DAMA'!M53 -> 46
A48: 4 | C48: ZAPATOS DE COCINA DAMA 11580414 | D48: ='CALZADO DAMA'!N53 -> 2
A49: 5 | C49: ZAPATO DE ASEO PARA DAMA | D49: 60 | E49: Trabajador oficial | F49: Ver pestaña CALZADO TO Anexo No 2. Catalogo de dotacion y ropa de trabajo
A50: 6 | C50: ZAPATOS ENFERMERIA CABALLERO 11580410 | D50: ='CALZADO CABALLERO'!K133 -> 4 | E50: Empleado público | F50: Ver pestaña CALZADO CABALLERO Anexo No 2. Catalogo de dotacion y ropa de trabajo
A51: 7 | C51: TENIS 11550415 | D51: ='CALZADO CABALLERO'!L133 -> 4
A52: 8 | C52: BOTAS DE CUERO CABALLERO 11580025 | D52: ='CALZADO CABALLERO'!N133 -> 130
A53: 9 | C53: BOTA DE CAUCHO CABALLERO 11520030 | D53: ='CALZADO CABALLERO'!M133 -> 19
A54: 10 | C54: ZAPATO DE COCINA CABALLERO 11580414 | D54: ='CALZADO CABALLERO'!O133 -> 2
A55: 11 | C55: ZAPATO DE TRABAJO PARA HOMBRE TRABAJADOR OFICIAL | D55: 100 | E55: Trabajador oficial | F55: Ver pestaña CALZADO TO Anexo No 2. Catalogo de dotacion y ropa de trabajo
A56: 12 | C56: ZAPATO TRABAJO HOMBRE MANTENIMIENTO. | D56: 4
C57: TOTAL LOTE 3 | D57: =SUM(D45:D56) -> 398
C59: TOTAL UNIDADES | D59: =D18+D41+D57 -> 3396

Sheet CONSOLIDADO necesidad real
A1: LOTE 1. VESTUARIO Y ROPA DE DAMA
A2: ITEM | B2: CODIGO UNSPSC | C2: DESCRIPCION | D2: CANTIDAD | E2: TIPO DE TRABAJADOR | F2: ESPECIFICACIONES
A3: 1 | B3: 531016 | C3: BLUSA DE CALLE 11510025 | D3: ='VESTUARIO DAMA'!K191 -> 215 | E3: Empleado público | F3: Ver pestaña VESTUARIO DAMA Anexo No 2. Catalogo de dotacion y ropa de trabajo
A4: 2 | B4: 531025 | C4: CACHUCHA 11510040 | D4: ='VESTUARIO DAMA'!L191 -> 30
A5: 3 | B5: 531020 | C5: VESTIDO DAMA 11510049/11510220 | D5: ='VESTUARIO DAMA'!M191 -> 135
A6: 4 | B6: 531027 | C6: UNIFORME DE COCINA UNISEX 11510050 | D6: ='VESTUARIO DAMA'!N191 -> 3
A7: 5 | B7: 531020 | C7: FALDA 11510228 | D7: ='VESTUARIO DAMA'!O191 -> 84
A8: 6 | B8: 531021 | C8: OVEROL UNISEX 11510150/11510050 | D8: ='VESTUARIO DAMA'!P191 -> 34
A9: 7 | B9: 531015 | C9: BLUE JEAN UNISEX 11510161 | D9: ='VESTUARIO DAMA'!Q191 -> 113
A10: 8 | B10: 531027 | C10: UNIFORME DE ENFERMERIA 11510216 | D10: ='VESTUARIO DAMA'!R191 -> 18
A11: 9 | B11: 531021 | C11: BATA 11510028 | D11: ='VESTUARIO DAMA'!S191 -> 414
A12: 10 | B12: 531027 | C12: IMPERMEABLE 11580425 | D12: ='VESTUARIO DAMA'!T191 -> 14
A13: 11 | B13: 531031 | C13: CHALECO 11550252 | D13: ='VESTUARIO DAMA'!U191 -> 1
A14: 12 | B14: 531027 | C14: UNIFORMES QUIRURGICOS 11510217 | D14: ='VESTUARIO DAMA'!V191 -> 12
A15: 13 | B15: 531027 | C15: UNIFORME DE BELLEZA 11510218 | D15: ='VESTUARIO DAMA'!W191 -> 2
A16: 14 | B16: 531020 | C16: VESTIDO DE CALLE PARA MUJER (TO) | D16: 75 | E16: Trabajador oficial | F16: Ver pestaña ROPA TO Anexo No 2. Catalogo de dotacion y ropa de trabajo
A17: 15 | B17: 531027 | C17: ANTIFLUIDO (TO) | D17: 32
C18: TOTAL LOTE 1 | D18: =SUM(D3:D17) -> 1182
A20: LOTE 2. VESTUARIO Y ROPA DE CABALLERO
A21: ITEM | B21: CODIGO UNSPSC | C21: DESCRIPCION | D21: CANTIDAD | E21: TIPO DE TRABAJADOR | F21: ESPECIFICACIONES
A22: 1 | B22: 531025 | C22: CACHUCHA 11510040 | D22: ='VESTUARIO CABALLERO'!K245 -> 117 | E22: Empleado público | F22: Ver pestaña VESTUARIO CABALLERO Anexo No 2. Catalogo de dotacion y ropa de trabajo
A23: 2 | B23: 531016 | C23: CAMISA 11510042 | D23: ='VESTUARIO CABALLERO'!L245 -> 467
A24: 3 | B24: 531019 | C24: VESTIDO HOMBRE 11510225 | D24: ='VESTUARIO CABALLERO'!M245 -> 84
A25: 4 | B25: 531027 | C25: UNIFORME DE COCINA UNISEX 11510050 | D25: ='VESTUARIO CABALLERO'!N245 -> 3
A26: 5 | B26: 531021 | C26: OVEROL UNISEX 11510150/11510050 | D26: ='VESTUARIO CABALLERO'!O245 -> 230
A27: 6 | B27: 531015 | C27: BLUE JEAN UNISEX 11510161 | D27: ='VESTUARIO CABALLERO'!P245 -> 390
A28: 7 | B28: 531015 | C28: PANTALONETA UNISEX 11510170 | D28: ='VESTUARIO CABALLERO'!Q245 -> 6
A29: 8 | B29: 531027 | C29: UNIFORME DE ENFERMERIA 11510216 | D29: ='VESTUARIO CABALLERO'!R245 -> 6
A30: 9 | B30: 531015 | C30: SUDADERA UNISEX 11550250 | D30: ='VESTUARIO CABALLERO'!S245 -> 6
A31: 10 | B31: 531030 | C31: CAMISETA 11550260 | D31: ='VESTUARIO CABALLERO'!T245 -> 48
A32: 11 | B32: 531024 | C32: MEDIAS 11510414 | D32: ='VESTUARIO CABALLERO'!U245 -> 6
A33: 12 | B33: 531021 | C33: BATA 11510027 | D33: ='VESTUARIO CABALLERO'!V245 -> 581
A34: 13 | B34: 531017 | C34: BUZO 11550261 | D34: ='VESTUARIO CABALLERO'!W245 -> 6
A35: 14 | B35: 531027 | C35: IMPERMEABLE 11580425 | D35: ='VESTUARIO CABALLERO'!X245 -> 18
A36: 15 | B36: 531015 | C36: PANTALON 11510230 | D36: ='VESTUARIO CABALLERO'!Y245 -> 38
A37: 16 | B37: 531016 | C37: CAMISA MANGA LARGA (TO) | D37: 133 | E37: Trabajador oficial | F37: Ver pestaña ROPA TO Anexo No 2. Catalogo de dotacion y ropa de trabajo
A38: 17 | B38: 531015 | C38: PANTALON FORMAL (TO) | D38: 115
A39: 18 | B39: 531019 | C39: VESTIDO PARA HOMBRE (TO) | D39: 24
A40: 19 | B40: 531021 | C40: OVEROL (TO) | D40: 62
C41: TOTAL LOTE 2 | D41: =SUM(D22:D40) -> 2340
A43: LOTE 3. CALZADO
A44: ITEM | B44: CODIGO UNSPSC | C44: DESCRIPCION | D44: CANTIDAD | E44: TIPO DE TRABAJADOR | F44: ESPECIFICACIONES
A45: 1 | B45: 531116 | C45: ZAPATOS ENFERMERIA DAMA 11580410 | D45: ='CALZADO DAMA'!K53 -> 12 | E45: Empleado público | F45: Ver pestaña CALZADO DAMA Anexo No 2. Catalogo de dotacion y ropa de trabajo
A46: 2 | C46: BOTAS DE CAUCHO DAMA 11520030 | D46: ='CALZADO DAMA'!L53 -> 15
A47: 3 | C47: BOTAS DE CUERO DAMA 11580025 | D47: ='CALZADO DAMA'!M53 -> 46
A48: 4 | C48: ZAPATOS DE COCINA DAMA 11580414 | D48: ='CALZADO DAMA'!N53 -> 2
A49: 5 | C49: ZAPATO DE ASEO PARA DAMA | D49: 60 | E49: Trabajador oficial | F49: Ver pestaña CALZADO TO Anexo No 2. Catalogo de dotacion y ropa de trabajo
A50: 6 | C50: ZAPATOS ENFERMERIA CABALLERO 11580410 | D50: ='CALZADO CABALLERO'!K133 -> 4 | E50: Empleado público | F50: Ver pestaña CALZADO CABALLERO Anexo No 2. Catalogo de dotacion y ropa de trabajo
A51: 7 | C51: TENIS 11550415 | D51: ='CALZADO CABALLERO'!L133 -> 4
A52: 8 | C52: BOTAS DE CUERO CABALLERO 11580025 | D52: ='CALZADO CABALLERO'!N133 -> 130
A53: 9 | C53: BOTA DE CAUCHO CABALLERO 11520030 | D53: ='CALZADO CABALLERO'!M133 -> 19
A54: 10 | C54: ZAPATO DE COCINA CABALLERO 11580414 | D54: ='CALZADO CABALLERO'!O133 -> 2
A55: 11 | C55: ZAPATO DE TRABAJO PARA HOMBRE TRABAJADOR OFICIAL | D55: 100 | E55: Trabajador oficial | F55: Ver pestaña CALZADO TO Anexo No 2. Catalogo de dotacion y ropa de trabajo
A56: 12 | C56: ZAPATO TRABAJO HOMBRE MANTENIMIENTO. | D56: 4
C57: TOTAL LOTE 3 | D57: =SUM(D45:D56) -> 398
C59: TOTAL UNIDADES | D59: =D18+D41+D57 -> 3920

Sheet VESTUARIO DAMA
A1: IDENTIFICACIÓN | B1: NOMBRES | C1: APELLIDOS | D1: CENTRO | E1: CÓDIGO | F1: GRUPO | G1: RED | H1: AREA DE CONOCIMIENTO | I1: TIPO | K1: BLUSA DE CALLE 11510025 | L1: CACHUCHA 11510040 | M1: VESTIDO DAMA 11510049/11510220 | N1: UNIFORME DE COCINA UNISEX 11510050 | O1: FALDA 11510228 | P1: OVEROL UNISEX 11510150/11510050 | Q1: BLUE JEAN UNISEX 11510161 | R1: UNIFORME DE ENFERMERIA 11510216 | S1: BATA 11510028 | T1: IMPERMEABLE 11580425 | U1: CHALECO 11550252 | V1: UNIFORMES QUIRURGICOS 11510217 | W1: UNIFORME DE BELLEZA 11510218
A2: 22565741 | B2: KELLY JOHANNA | C2: ACUÑA TORRES | D2: Comercio | E2: 9302 | F2: Instructor | G2: COMERCIO Y VENTAS | H2: VENTAS | I2: EP | K2: 3 | M2: 3 | S2: 3
A3: 32728854 | B3: ILVA ROSA | C3: AHUMADA MAURY | D3: Comercio | E3: 9302 | F3: Instructor | G3: GESTIÓN ADMINISTRATIVA Y SERVICIOS FINANCIEROS | H3: TALENTO HUMANO | I3: EP | K3: 2 | O3: 2 | S3: 3
A4: 32779908 | B4: ALBA LUZ | C4: ALVAREZ BARRANCO | D4: Comercio | E4: 9302 | F4: Instructor | G4: GESTIÓN ADMINISTRATIVA Y SERVICIOS FINANCIEROS | H4: CONTABILIDAD | I4: EP | K4: 2 | O4: 2 | S4: 3
A5: 32683799 | B5: CLAUDIA PATRICIA | C5: ARDILA ARENAS | D5: Comercio | E5: 9302 | F5: Instructor | G5: SALUD. | H5: SERVICIOS FARMACÉUTICOS | I5: EP | R5: 3 | S5: 2
A6: 39775778 | B6: JACQUELINE | C6: ARIZA SALZEDO | D6: Comercio | E6: 9302 | F6: Instructor | G6: INTEGRALIDAD | H6: INTERACCIÓN CONSIGO MISMO, CON LOS DEMÁS, CON LA NATURALEZA Y CON LA TRASCENDENCIA | I6: EP | S6: 3
A7: 22618913 | B7: PAOLA MARGARITA | C7: BARCELO CANTILLO | D7: Comercio | E7: 9302 | F7: Instructor | G7: ENSEÑANZA DE IDIOMAS | H7: ENSEÑANZA DE IDIOMAS | I7: EP | K7: 2 | O7: 3 | S7: 3
A8: 32667867 | B8: DELMA MERCEDES | C8: BARRIOS HERAZO | D8: Comercio | E8: 9302 | F8: Instructor | G8: SALUD. | H8: APOYO TERAPÉUTICO Y REHABILITACIÓN | I8: EP | R8: 3 | S8: 2 | V8: 2
A9: 32703730 | B9: DOLORES | C9: BARRIOS VILLALBA | D9: Comercio | E9: 9302 | F9: Instructor | G9: SALUD. | H9: SALUD PÚBLICA | I9: EP | K9: 3 | O9: 3 | S9: 2
A10: 55307223 | B10: WUENDY YURANI | C10: BOHORQUEZ MIELES | D10: Comercio | E10: 9302 | F10: Instructor | G10: COMERCIO Y VENTAS | H10: VENTAS | I10: EP | K10: 3 | M10: 3 | S10: 3
A11: 49657951 | B11: EDIN FELIPA | C11: BORJA QUINONEZ | D11: Comercio | E11: 9302 | F11: Instructor | G11: PEDAGOGÍA | H11: EDUMÁTICA EN LA FORMACIÓN PROFESIONAL | I11: EP | S11: 3
A12: 32752474 | B12: OSIRIS AMELIA | C12: BUZON SALAS | D12: Comercio | E12: 9302 | F12: Instructor | G12: GESTIÓN ADMINISTRATIVA Y SERVICIOS FINANCIEROS | H12: GESTIÓN ADMINISTRATIVA | I12: EP | K12: 2 | M12: 3 | O12: 2 | S12: 3
A13: 22449722 | B13: NELLY | C13: CALA ARGUELLO | D13: Comercio | E13: 9302 | F13: Instructor | G13: HOTELERÍA Y TURISMO. | H13: TURISMO | I13: EP | K13: 3 | O13: 3 | S13: 2
A14: 32941989 | B14: ROSA LORENA | C14: CAMARGO PARDO | D14: Comercio | E14: 9302 | F14: Instructor | G14: COMERCIO Y VENTAS | H14: VENTAS | I14: EP | K14: 3 | M14: 3 | S14: 3
A15: 1121816286 | B15: DIANA CAROLINA | C15: CARDENAS GUTIERREZ | D15: Comercio | E15: 9302 | F15: Instructor | G15: GESTIÓN ADMINISTRATIVA Y SERVICIOS FINANCIEROS | H15: CONTABILIDAD | I15: EP | K15: 2 | O15: 2 | S15: 3
A16: 65741206 | B16: SOL MAGALY | C16: CASTILLA LOZANO | D16: Comercio | E16: 9302 | F16: Instructor | G16: COMERCIO Y VENTAS | H16: GESTIÓN DE MERCADOS | I16: EP | K16: 3 | M16: 3 | S16: 3
A17: 32752661 | B17: MONICA CECILIA | C17: CITARELLA ESPINOZA | D17: Comercio | E17: 9302 | F17: Instructor | G17: GESTIÓN ADMINISTRATIVA Y SERVICIOS FINANCIEROS | H17: CONTABILIDAD | I17: EP | K17: 2 | O17: 2 | S17: 3
A18: 22434588 | B18: DEBORA CLEMENCIA | C18: COBOS DE COBOS | D18: Comercio | E18: 9302 | F18: Instructor | G18: PEDAGOGÍA | H18: PEDAGOGIA Y DIDACTICA DE LA FP | I18: EP | S18: 3
B19: SUGEID | C19: CONEO PEREZ | D19: Comercio | E19: 9302 | F19: Instructor | G19: INTEGRALIDAD | H19: INTERACCIÓN CONSIGO MISMO, CON LOS DEMÁS, CON LA NATURALEZA Y CON LA TRASCENDENCIA | I19: EP | S19: 3
A20: 32636820 | B20: CARMELA ISABEL | C20: DE LA HOZ MONTENEGRO | D20: Comercio | E20: 9302 | F20: Instructor | G20: HOTELERÍA Y TURISMO. | H20: TURISMO | I20: EP | K20: 3 | O20: 3 | S20: 2
A21: 22580860 | B21: DORIS ESTER | C21: DEL TORO RUIZ | D21: Comercio | E21: 9302 | F21: Instructor | G21: COORDINACIÓN ACADÉMICA | H21: COMERCIO Y VENTAS, GESTIÓN ADMINISTRATIVA Y SERVICIOS FINANCIEROS; GESTIÓN DE LA PRODUCCIÓN; HOTELERÍA Y TURISMO; INFORMÁTICA, DISEÑO Y DESARROLLO DE SOFTWARE; SERVICIOS PERSONALES | I21: EP | K21: 2 | Q21: 2 | S21: 2
A22: 32864829 | B22: ILEANA | C22: DIAZ ORTEGA | D22: Comercio | E22: 9302 | F22: Instructor | G22: HOTELERÍA Y TURISMO. | H22: TURISMO | I22: EP | K22: 3 | O22: 3 | S22: 2
A23: 32674398 | B23: MARINA CONCEPCION | C23: FONTALVO GOMEZ | D23: Comercio | E23: 9302 | F23: Instructor | G23: COORDINACIÓN ACADÉMICA | H23: COMERCIO Y VENTAS, GESTIÓN ADMINISTRATIVA Y SERVICIOS FINANCIEROS; GESTIÓN DE LA PRODUCCIÓN; HOTELERÍA Y TURISMO; INFORMÁTICA, DISEÑO Y DESARROLLO DE SOFTWARE; SERVICIOS PERSONALES | I23: EP | K23: 2 | Q23: 2 | S23: 2
A24: 22464775 | B24: MARIA ISABEL | C24: GUIDO ALDANA | D24: Comercio | E24: 9302 | F24: Instructor | G24: LOGÍSTICA Y GESTIÓN DE LA PRODUCCIÓN | H24: SEGURIDAD Y SALUD EN EL TRABAJO | I24: EP | S24: 3
A25: 45527150 | B25: ARLEY MARGARITA | C25: HERNANDEZ | D25: Comercio | E25: 9302 | F25: Instructor | G25: SERVICIOS PERSONALES. | H25: BELLEZA | I25: EP | S25: 3 | W25: 2
A26: 32688026 | B26: EVA | C26: HERNANDEZ WILCHES | D26: Comercio | E26: 9302 | F26: Instructor | G26: INTEGRALIDAD | H26: INTERACCIÓN CONSIGO MISMO, CON LOS DEMÁS, CON LA NATURALEZA Y CON LA TRASCENDENCIA | I26: EP | S26: 3
A27: 22465128 | B27: MIROSLAVA | C27: HERRERA COBA | D27: Comercio | E27: 9302 | F27: Instructor | G27: TELEINFORMATICA | H27: SOFTWARE EN CENTROS Y ÁREAS URBANAS | I27: EP | K27: 2 | Q27: 2 | S27: 3
A28: 1143428182 | B28: TRILSE | C28: HERRERA MARTINEZ | D28: Comercio | E28: 9302 | F28: Instructor | G28: ENSEÑANZA DE IDIOMAS | H28: ENSEÑANZA DE IDIOMAS | I28: EP | K28: 2 | O28: 3 | S28: 3
A29: 32745112 | B29: CLAUDIA PATRICIA | C29: JIMENEZ DE LA HOZ | D29: Comercio | E29: 9302 | F29: Instructor | G29: ENSEÑANZA DE IDIOMAS | H29: ENSEÑANZA DE IDIOMAS | I29: EP | K29: 2 | O29: 3 | S29: 3
A30: 57416784 | B30: LUISA PATRICIA | C30: JUVINAO CARBONO | D30: Comercio | E30: 9302 | F30: Instructor | G30: GESTIÓN ADMINISTRATIVA Y SERVICIOS FINANCIEROS | H30: TALENTO HUMANO | I30: EP | K30: 2 | O30: 2 | S30: 3
A31: 57416784 | B31: XIOMARA DEL CARMEN | C31: LARA MIRANDA | D31: Comercio | E31: 9302 | F31: Instructor | G31: GESTIÓN ADMINISTRATIVA Y SERVICIOS FINANCIEROS | H31: GESTIÓN DOCUMENTAL | I31: EP | K31: 2 | O31: 2 | S31: 3
A32: 50984967 | B32: SANDRA PATRICIA | C32: LENGUA GALEANO | D32: Comercio | E32: 9302 | F32: Instructor | G32: COMERCIO Y VENTAS | H32: VENTAS | I32: EP | K32: 3 | M32: 3 | S32: 3
A33: 22521374 | B33: JHOHANA | C33: LLORENTE MORALES | D33: Comercio | E33: 9302 | F33: Instructor | G33: COMERCIO Y VENTAS | H33: VENTAS | I33: EP | K33: 3 | M33: 3 | S33: 3
A34: 49741251 | B34: CLAUDIA PATRICIA | C34: LOPEZ HERNANDEZ | D34: Comercio | E34: 9302 | F34: Instructor | G34: GESTIÓN ADMINISTRATIVA Y SERVICIOS FINANCIEROS | H34: GESTIÓN ADMINISTRATIVA | I34: EP | K34: 2 | O34: 2 | S34: 3
A35: 32869389 | B35: ISILA MARÍA | C35: MALDONADO PIZARRO | D35: Comercio | E35: 9302 | F35: Instructor | G35: SALUD. | H35: APOYO TERAPÉUTICO Y REHABILITACIÓN | I35: EP | R35: 3 | S35: 2 | V35: 2
A36: 22663636 | B36: CONSULEO JUDITH | C36: MALDONADO ROJANO | D36: Comercio | E36: 9302 | F36: Instructor | G36: HOTELERÍA Y TURISMO. | H36: COCINA | I36: EP | K36: 3 | N36: 3 | Q36: 3 | S36: 3
A37: 36546053 | B37: MARIA CECILIA | C37: MANJARRES | D37: Comercio | E37: 9302 | F37: Instructor | G37: GESTIÓN ADMINISTRATIVA Y SERVICIOS FINANCIEROS | H37: TALENTO HUMANO | I37: EP | K37: 2 | O37: 2 | S37: 3
A38: 32678970 | B38: ANA CECILIA | C38: MARRUGO PEREZ | D38: Comercio | E38: 9302 | F38: Instructor | G38: GESTIÓN ADMINISTRATIVA Y SERVICIOS FINANCIEROS | H38: GESTIÓN ADMINISTRATIVA | I38: EP | K38: 2 | O38: 2 | S38: 3
A39: 30658165 | B39: NORA ALBA | C39: MENDOZA MARTINEZ | D39: Comercio | E39: 9302 | F39: Instructor | G39: COMERCIO Y VENTAS | H39: VENTAS | I39: EP | K39: 3 | M39: 3 | S39: 3
A40: 44190517 | B40: DANNYS PATRICIA | C40: MENDOZA VALENCIA | D40: Comercio | E40: 9302 | F40: Instructor | G40: LOGÍSTICA Y GESTIÓN DE LA PRODUCCIÓN | H40: GESTIÓN LOGÍSTICA EN CENTRO Y AREA URBANA | I40: EP | K40: 2 | P40: 2 | Q40: 2 | S40: 2 | T40: 2
A41: 40796275 | B41: RUBY VICENTA | C41: ARREGOCES FUENTES | D41: Comercio | E41: 9302 | F41: Instructor | G41: SALUD. | H41: APOYO TERAPÉUTICO Y REHABILITACIÓN | I41: EP | R41: 3 | S41: 2 | V41: 2
A42: 32773313 | B42: ROSIRIS ELENA | C42: MERCADO GONZALEZ | D42: Comercio | E42: 9302 | F42: Instructor | G42: GESTIÓN ADMINISTRATIVA Y SERVICIOS FINANCIEROS | H42: GESTIÓN ADMINISTRATIVA | I42: EP | K42: 2 | O42: 2 | S42: 3
A43: 32693954 | B43: GEYHLER MARÍA | C43: MOLINA BLANCO | D43: Comercio | E43: 9302 | F43: Instructor | G43: ENSEÑANZA DE IDIOMAS | H43: ENSEÑANZA DE IDIOMAS | I43: EP | K43: 2 | O43: 3 | S43: 3
A44: 22691986 | B44: MARIA CONCEPCION | C44: MONTERO MARQUEZ | D44: Comercio | E44: 9302 | F44: Instructor | G44: PEDAGOGÍA | H44: EMPRENDIMIENTO | I44: EP | S44: 3
A45: 22492801 | B45: LILIANA ROSA | C45: NUÑEZ MACKENZIE | D45: Comercio | E45: 9302 | F45: Instructor | G45: COMERCIO Y VENTAS | H45: NEGOCIACION INTERNACIONAL | I45: EP | K45: 3 | M45: 3 | S45: 3
A46: 32757570 | B46: DAMARIS PATRICIA | C46: OROZCO HERNANDEZ | D46: Comercio | E46: 9302 | F46: Instructor | G46: INTEGRALIDAD | H46: EJERCICIO DE LOS DERECHOS FUNDAMENTALES EN EL TRABAJO | I46: EP | S46: 3 | V46: 2
A47: 32700092 | B47: VILMA PATRICIA | C47: PASCO DONADO | D47: Comercio | E47: 9302 | F47: Instructor | G47: HOTELERÍA Y TURISMO. | H47: BARISMO | I47: EP | K47: 3 | O47: 3 | S47: 2
A48: 32638768 | B48: AMANDA MARIELA | C48: PENA DONADO | D48: Comercio | E48: 9302 | F48: Instructor | G48: COMERCIO Y VENTAS | H48: GESTIÓN DE MERCADOS | I48: EP | K48: 3 | M48: 3 | S48: 3
A49: 1129564747 | B49: LEIDY | C49: PERTUZ | D49: Comercio | E49: 9302 | F49: Instructor | G49: INTEGRALIDAD | H49: INTERACCIÓN CONSIGO MISMO, CON LOS DEMÁS, CON LA NATURALEZA Y CON LA TRASCENDENCIA | I49: EP | S49: 3
A50: 32700367 | B50: LINDA EVELIN | C50: PICHON RONCALLO | D50: Comercio | E50: 9302 | F50: Instructor | G50: PEDAGOGÍA | H50: EDUMÁTICA EN LA FORMACIÓN PROFESIONAL | I50: EP | S50: 3
A51: 22731651 | B51: MELISSA MILENA | C51: PONTON JIMENEZ | D51: Comercio | E51: 9302 | F51: Instructor | G51: LOGÍSTICA Y GESTIÓN DE LA PRODUCCIÓN | H51: GESTIÓN LOGÍSTICA EN CENTRO Y AREA URBANA | I51: EP | K51: 2 | P51: 2 | Q51: 2 | S51: 2 | T51: 2
A52: 32737493 | B52: BRENDA MONICA | C52: PORTILLO VASQUEZ | D52: Comercio | E52: 9302 | F52: Instructor | G52: GESTIÓN ADMINISTRATIVA Y SERVICIOS FINANCIEROS | H52: TALENTO HUMANO | I52: EP | K52: 2 | O52: 2 | S52: 3
A53: 32874506 | B53: MILDRETH MARIA | C53: RANGEL CONSUEGRA | D53: Comercio | E53: 9302 | F53: Instructor | G53: GESTIÓN ADMINISTRATIVA Y SERVICIOS FINANCIEROS | H53: CONTABILIDAD | I53: EP
A54: 22431778 | B54: LILIA DE JESUS | C54: RODRIGUEZ DE LEON | D54: Comercio | E54: 9302 | F54: Instructor | G54: PEDAGOGÍA | H54: EMPRENDIMIENTO | I54: EP | S54: 3
A55: 32616326 | B55: MARIA HERMILDA | C55: SANCHEZ MEDINA | D55: Comercio | E55: 9302 | F55: Instructor | G55: INTEGRALIDAD | H55: INTERACCIÓN CONSIGO MISMO, CON LOS DEMÁS, CON LA NATURALEZA Y CON LA TRASCENDENCIA | I55: EP | S55: 3
A56: 32719644 | B56: PATRICIA ROSMARY | C56: SERRANO SANTIAGO | D56: Comercio | E56: 9302 | F56: Instructor | G56: COORDINACIÓN ACADÉMICA | H56: COMERCIO Y VENTAS, GESTIÓN ADMINISTRATIVA Y SERVICIOS FINANCIEROS; GESTIÓN DE LA PRODUCCIÓN; HOTELERÍA Y TURISMO; INFORMÁTICA, DISEÑO Y DESARROLLO DE SOFTWARE; SERVICIOS PERSONALES | I56: EP | K56: 2 | Q56: 2 | S56: 2
A57: 32682346 | B57: MARIA CECILIA | C57: SUAREZ BENAVIDES | D57: Comercio | E57: 9302 | F57: Instructor | G57: COORDINACIÓN ACADÉMICA | H57: COMERCIO Y VENTAS, GESTIÓN ADMINISTRATIVA Y SERVICIOS FINANCIEROS; GESTIÓN DE LA PRODUCCIÓN; HOTELERÍA Y TURISMO; INFORMÁTICA, DISEÑO Y DESARROLLO DE SOFTWARE; SERVICIOS PERSONALES | I57: EP | K57: 2 | Q57: 2 | S57: 2
A58: 44157618 | B58: ANGELLI JOAN | C58: SUAREZ VARGAS | D58: Comercio | E58: 9302 | F58: Instructor | G58: PEDAGOGÍA | H58: PEDAGOGIA Y DIDACTICA DE LA FP | I58: EP | S58: 3
A59: 32675072 | B59: LIBIA ISABEL | C59: VASQUEZ AVENDAÑO | D59: Comercio | E59: 9302 | F59: Instructor | G59: INTEGRALIDAD | H59: INTERACCIÓN CONSIGO MISMO, CON LOS DEMÁS, CON LA NATURALEZA Y CON LA TRASCENDENCIA | I59: EP | S59: 3
A60: 22600372 | B60: MARYIETH CECILIA | C60: VERGARA TORRENEGRA | D60: Comercio | E60: 9302 | F60: Instructor | G60: SALUD. | H60: APOYO TERAPÉUTICO Y REHABILITACIÓN | I60: EP | R60: 3 | S60: 2 | V60: 2
A61: 64563852 | B61: ADIS VIVIANA | C61: VITAL CRUZ | D61: Comercio | E61: 9302 | F61: Instructor | G61: INTEGRALIDAD | H61: INTERACCIÓN CONSIGO MISMO, CON LOS DEMÁS, CON LA NATURALEZA Y CON LA TRASCENDENCIA | I61: EP | S61: 3
A62: 1129495481 | B62: DIANA MARIA | C62: ARDILA RADA | D62: Comercio | E62: 9302 | F62: Asistencial | I62: EP | M62: 3
A63: 32710175 | B63: DENIS YANETH | C63: CASTRO CARBONELL | D63: Comercio | E63: 9302 | F63: Técnico | I63: EP | M63: 3
A64: 40987948 | B64: MARISOL | C64: DURAN CASTILLO | D64: Comercio | E64: 9302 | F64: Asistencial | I64: EP | M64: 3
A65: 32710998 | B65: NUBIA ESTELA | C65: SOLORZANO GUZMAN | D65: Comercio | E65: 9302 | F65: Asistencial | I65: EP | M65: 3
A66: 32716398 | B66: MARELYS DEL CARMEN | C66: NOVOA ESCORCIA | D66: Comercio | E66: 9302 | F66: Asistencial | I66: EP | M66: 3
A67: 32874510 | B67: IVETH | C67: LUCIA CARO | D67: Comercio | E67: 9302 | F67: Asistencial | I67: EP | M67: 3
A68: 22737897 | B68: MARTHA CECILIA | C68: BERMUDEZ RIVERA | D68: Comercio | E68: 9302 | F68: Asistencial | I68: EP | M68: 3
A69: 32607396 | B69: YOLANDA | C69: CORREA CHACON | D69: Comercio | E69: 9302 | F69: Asistencial | I69: EP | M69: 3
A70: 40986274 | B70: MONICA ROCIO | C70: VERGARA CARRILLO | D70: Industrial | E70: 9208 | F70: Técnico | I70: EP | M70: 3
A71: 32880145 | B71: SUNEM | C71: CAMPO GARCIA | D71: Comercio | E71: 9302 | F71: Asistencial | I71: EP | M71: 3
A72: 32936503 | B72: NORIS DEL CARMEN | C72: STAVE MENDOZA | D72: Comercio | E72: 9302 | F72: Técnico | I72: EP | M72: 3
A73: 50911711 | B73: GEORGINA | C73: LÓPEZ MENDOZA | D73: Industrial | E73: 9208 | F73: Profesional | G73: NORMALIZACIÓN | I73: EP | S73: 3
A74: 32651013 | B74: NUBIS | C74: SIERRA TOBAR | D74: Comercio | E74: 9302 | F74: Técnico | I74: EP | M74: 3
A75: 32822521 | B75: ELINORE BIBIANA | C75: GASTELBONDO MARTINEZ | D75: Comercio | E75: 9302 | F75: Profesional | G75: CONTRATO DE APRENDIZAJE | I75: EP | S75: 3
A76: 32785769 | B76: MARELVIS | C76: MUÑOZ OCHOA | D76: Comercio | E76: 9302 | F76: Profesional | G76: BIENESTAR AL APRENDIZ | I76: EP | S76: 3
A77: 32880419 | B77: YARA CRISTINA | C77: AMARIS CAMPBELL | D77: Comercio | E77: 9302 | F77: Profesional | G77: CERTIFICACIÓN DE COMPETENCIAS LABORALES | I77: EP | S77: 3
A78: 32883611 | B78: ENEDITH LUCIA | C78: COLMENARES OROZCO | D78: Despacho | E78: 1010 | F78: Asistencial | I78: EP | M78: 3
A79: 32795223 | B79: RINA BEATRIZ | C79: PABOLA ELIAS | D79: Despacho | E79: 1010 | F79: Asistencial | I79: EP | M79: 3
A80: 22458052 | B80: MARLY ESTHER | C80: BOLIVAR DE LA ASUNCION | D80: Despacho | E80: 1010 | F80: Profesional | G80: CERTIFICACIÓN DE COMPETENCIAS LABORALES | I80: EP | S80: 3
A81: 32637412 | B81: MARIA HELENA | C81: SERNA DE GAMEZ | D81: Comercio | E81: 9302 | F81: Técnico | I81: EP | M81: 3
A82: 32798056 | B82: TERESA DE JESUS | C82: ALTAMAR PEREZ | D82: Cedagro | E82: 9103 | F82: Instructor | G82: AGRÍCOLA | H82: AGROINDUSTRIAL - CONTROL DE CALIDAD E INOCUIDAD | I82: EP | K82: 3 | L82: 2 | Q82: 3 | S82: 2 | T82: 2
A83: 32783110 | B83: JUANA ESTHER | C83: ARIZA PASTOR | D83: Cedagro | E83: 9103 | F83: Instructor | G83: GESTIÓN ADMINISTRATIVA Y SERVICIOS FINANCIEROS | H83: TALENTO HUMANO | I83: EP | K83: 2 | O83: 2 | S83: 3
A84: 22549948 | B84: PILAR HELENA | C84: ARRIETA STAND | D84: Industrial | E84: 9208 | F84: Técnico | I84: EP | M84: 3
A85: 28558883 | B85: LUZ ANGELA | C85: BEDOYA MEJIA | D85: Cedagro | E85: 9103 | F85: Instructor | G85: AMBIENTAL | H85: FORESTAL | I85: EP | K85: 3 | L85: 1 | Q85: 3 | S85: 2
A86: 1143240735 | B86: MEIDYS EDITSHEN | C86: BELENO LOZANO | D86: Cedagro | E86: 9103 | F86: Asistencial | I86: EP | M86: 3
A87: 22521355 | B87: PAOLA CECILIA | C87: CAMPO RUZ | D87: Cedagro | E87: 9103 | F87: Instructor | G87: LOGÍSTICA Y GESTIÓN DE LA PRODUCCIÓN | H87: GESTIÓN LOGÍSTICA EN CENTRO Y AREA RURAL | I87: EP | K87: 2 | Q87: 2 | S87: 2
A88: 32676374 | B88: VIRGINIA ASUNCION | C88: CANTILLO MORON | D88: Cedagro | E88: 9103 | F88: Instructor | G88: PEDAGOGÍA | H88: PEDAGOGIA Y DIDACTICA DE LA FP | I88: EP | K88: 2 | Q88: 2 | S88: 3
A89: 32850044 | B89: YACERIS MERCEDES | C89: CASTRO ESCORCIA | D89: Cedagro | E89: 9103 | F89: Instructor | G89: AGRÍCOLA | H89: PROCESAMIENTO DE ALIMENTOS - LÁCTEOS Y DERIVADOS | I89: EP | K89: 3 | L89: 2 | Q89: 3 | S89: 2 | T89: 2
A90: 32816364 | B90: GILMA ROSA | C90: CASTRO GONZALEZ | D90: Cedagro | E90: 9103 | F90: Instructor | G90: COORDINACIÓN ACADÉMICA | H90: ACUÍCOLA Y PESCA; AGRÍCOLA; AMBIENTAL; BIOTECNOLOGÍA, MINERÍA , PECUARIA | I90: EP | K90: 2 | L90: 1 | P90: 2 | Q90: 2 | S90: 2
A91: 45455739 | B91: YALILE | C91: CHAUX DORADO | D91: Cedagro | E91: 9103 | F91: Instructor | G91: GESTIÓN ADMINISTRATIVA Y SERVICIOS FINANCIEROS | H91: GESTIÓN ADMINISTRATIVA | I91: EP | K91: 2 | Q91: 2 | S91: 2
A92: 1001798315 | B92: SHIRLEY DANIELA | C92: CORONELL SALAS | D92: Cedagro | E92: 9103 | F92: Asistencial | I92: EP | M92: 3
A93: 32694985 | B93: NELLY | C93: FACETTE DIAZ | D93: Cedagro | E93: 9103 | F93: Asistencial | I93: EP | M93: 3
A94: 32756502 | B94: ORITZA MERY | C94: GUTIERREZ RONCANCIO | D94: Cedagro | E94: 9103 | F94: Asistencial | I94: EP | M94: 3
A95: 32810252 | B95: VERA JUDITH | C95: IBANEZ DE JURE | D95: Cedagro | E95: 9103 | F95: Técnico | I95: EP | P95: 2 | S95: 2
A96: 1050950196 | B96: MARIA JULIANA | C96: LOZADA PUA | D96: Cedagro | E96: 9103 | F96: Asistencial | I96: EP | M96: 3
A97: 44154839 | B97: AILIN | C97: MONTERROSA CHAMORRO | D97: Cedagro | E97: 9103 | F97: Instructor | G97: ENSEÑANZA DE IDIOMAS | H97: ENSEÑANZA DE IDIOMAS | I97: EP | K97: 2 | L97: 2 | Q97: 2 | S97: 3 | U97: 1
A98: 1043011783 | B98: CARMELA LUCIA | C98: NAVARRO FERNANDEZ | D98: Cedagro | E98: 9103 | F98: Asistencial | I98: EP | M98: 3
A99: 39622142 | B99: YAZMIN | C99: OLARTE PARDO | D99: Cedagro | E99: 9103 | F99: Instructor | G99: PECUARIA | H99: PRODUCCIÓN ESPECIES MENORES Y PRODUCCION GANADERA | I99: EP | K99: 3 | L99: 2 | Q99: 3 | S99: 2
A100: 32714995 | B100: LISBETH LETICIA | C100: OLMOS BLANQUICET | D100: Cedagro | E100: 9103 | F100: Instructor | G100: AGRÍCOLA | H100: PROCESAMIENTO DE ALIMENTOS - FRUTAS Y VERDURAS | I100: EP | K100: 3 | L100: 2 | Q100: 3 | S100: 2 | T100: 2
...

Sheet CALZADO DAMA
A1: IDENTIFICACIÓN | B1: NOMBRES | C1: APELLIDOS | D1: CENTRO | E1: CÓDIGO | F1: GRUPO | G1: RED | H1: AREA DE CONOCIMIENTO | I1: DAMA/ CABALLERO | K1: ZAPATOS ENFERMERIA DAMA 11580410 | L1: BOTA DE CAUCHO 11520030 | M1: BOTAS DE CUERO 11580025 | N1: ZAPATO DE COCINA 11580414
A2: 32683799 | B2: CLAUDIA PATRICIA | C2: ARDILA ARENAS | D2: Comercio | E2: 9302 | F2: Instructor | G2: SALUD. | H2: SERVICIOS FARMACÉUTICOS | I2: Dama | K2: 2
A3: 22618913 | B3: PAOLA MARGARITA | C3: BARCELO CANTILLO | D3: Comercio | E3: 9302 | F3: Instructor | G3: ENSEÑANZA DE IDIOMAS | H3: ENSEÑANZA DE IDIOMAS | I3: Dama | M3: 1
A4: 32667867 | B4: DELMA MERCEDES | C4: BARRIOS HERAZO | D4: Comercio | E4: 9302 | F4: Instructor | G4: SALUD. | H4: APOYO TERAPÉUTICO Y REHABILITACIÓN | I4: Dama | K4: 2
A5: 22580860 | B5: DORIS ESTER | C5: DEL TORO RUIZ | D5: Comercio | E5: 9302 | F5: Instructor | G5: COORDINACIÓN ACADÉMICA | H5: COMERCIO Y VENTAS, GESTIÓN ADMINISTRATIVA Y SERVICIOS FINANCIEROS; GESTIÓN DE LA PRODUCCIÓN; HOTELERÍA Y TURISMO; INFORMÁTICA, DISEÑO Y DESARROLLO DE SOFTWARE; SERVICIOS PERSONALES | I5: Dama | L5: 1 | M5: 1
A6: 32674398 | B6: MARINA CONCEPCION | C6: FONTALVO GOMEZ | D6: Comercio | E6: 9302 | F6: Instructor | G6: COORDINACIÓN ACADÉMICA | H6: COMERCIO Y VENTAS, GESTIÓN ADMINISTRATIVA Y SERVICIOS FINANCIEROS; GESTIÓN DE LA PRODUCCIÓN; HOTELERÍA Y TURISMO; INFORMÁTICA, DISEÑO Y DESARROLLO DE SOFTWARE; SERVICIOS PERSONALES | I6: Dama | L6: 1 | M6: 1
A7: 1143428182 | B7: TRILSE | C7: HERRERA MARTINEZ | D7: Comercio | E7: 9302 | F7: Instructor | G7: ENSEÑANZA DE IDIOMAS | H7: ENSEÑANZA DE IDIOMAS | I7: Dama | M7: 1
A8: 32745112 | B8: CLAUDIA PATRICIA | C8: JIMENEZ DE LA HOZ | D8: Comercio | E8: 9302 | F8: Instructor | G8: ENSEÑANZA DE IDIOMAS | H8: ENSEÑANZA DE IDIOMAS | I8: Dama | M8: 1
A9: 32869389 | B9: ISILA MARÍA | C9: MALDONADO PIZARRO | D9: Comercio | E9: 9302 | F9: Instructor | G9: SALUD. | H9: APOYO TERAPÉUTICO Y REHABILITACIÓN | I9: Dama | K9: 2
A10: 22663636 | B10: CONSULEO JUDITH | C10: MALDONADO ROJANO | D10: Comercio | E10: 9302 | F10: Instructor | G10: HOTELERÍA Y TURISMO. | H10: COCINA | I10: Dama | M10: 1 | N10: 2
A11: 44190517 | B11: DANNYS PATRICIA | C11: MENDOZA VALENCIA | D11: Comercio | E11: 9302 | F11: Instructor | G11: LOGÍSTICA Y GESTIÓN DE LA PRODUCCIÓN | H11: GESTIÓN LOGÍSTICA EN CENTRO Y AREA URBANA | I11: Dama | M11: 1
A12: 40796275 | B12: RUBY VICENTA | C12: ARREGOCES FUENTES | D12: Comercio | E12: 9302 | F12: Instructor | G12: SALUD. | H12: APOYO TERAPÉUTICO Y REHABILITACIÓN | I12: Dama | K12: 2
A13: 1045681732 | B13: KATHERINE | C13: MENESES RAMIREZ | D13: Comercio | E13: 9302 | F13: Instructor | G13: SALUD. | H13: SALUD PÚBLICA | I13: Dama | M13: 1
A14: 32693954 | B14: GEYHLER MARÍA | C14: MOLINA BLANCO | D14: Comercio | E14: 9302 | F14: Instructor | G14: ENSEÑANZA DE IDIOMAS | H14: ENSEÑANZA DE IDIOMAS | I14: Dama | M14: 1
A15: 32700092 | B15: VILMA PATRICIA | C15: PASCO DONADO | D15: Comercio | E15: 9302 | F15: Instructor | G15: HOTELERÍA Y TURISMO. | H15: BARISMO | I15: Dama | M15: 1
A16: 22731651 | B16: MELISSA MILENA | C16: PONTON JIMENEZ | D16: Comercio | E16: 9302 | F16: Instructor | G16: LOGÍSTICA Y GESTIÓN DE LA PRODUCCIÓN | H16: GESTIÓN LOGÍSTICA EN CENTRO Y AREA URBANA | I16: Dama | M16: 1
A17: 32719644 | B17: PATRICIA ROSMARY | C17: SERRANO SANTIAGO | D17: Comercio | E17: 9302 | F17: Instructor | G17: COORDINACIÓN ACADÉMICA | H17: COMERCIO Y VENTAS, GESTIÓN ADMINISTRATIVA Y SERVICIOS FINANCIEROS; GESTIÓN DE LA PRODUCCIÓN; HOTELERÍA Y TURISMO; INFORMÁTICA, DISEÑO Y DESARROLLO DE SOFTWARE; SERVICIOS PERSONALES | I17: Dama | L17: 1 | M17: 1
A18: 32682346 | B18: MARIA CECILIA | C18: SUAREZ BENAVIDES | D18: Comercio | E18: 9302 | F18: Instructor | G18: COORDINACIÓN ACADÉMICA | H18: COMERCIO Y VENTAS, GESTIÓN ADMINISTRATIVA Y SERVICIOS FINANCIEROS; GESTIÓN DE LA PRODUCCIÓN; HOTELERÍA Y TURISMO; INFORMÁTICA, DISEÑO Y DESARROLLO DE SOFTWARE; SERVICIOS PERSONALES | I18: Dama | L18: 1 | M18: 1
A19: 22600372 | B19: MARYIETH CECILIA | C19: VERGARA TORRENEGRA | D19: Comercio | E19: 9302 | F19: Instructor | G19: SALUD. | H19: APOYO TERAPÉUTICO Y REHABILITACIÓN | I19: Dama | K19: 2
A20: 32798056 | B20: TERESA DE JESUS | C20: ALTAMAR PEREZ | D20: Cedagro | E20: 9103 | F20: Instructor | G20: AGRÍCOLA | H20: AGROINDUSTRIAL - CONTROL DE CALIDAD E INOCUIDAD | I20: Dama | L20: 1 | M20: 1
A21: 28558883 | B21: LUZ ANGELA | C21: BEDOYA MEJIA | D21: Cedagro | E21: 9103 | F21: Instructor | G21: AMBIENTAL | H21: FORESTAL | I21: Dama | L21: 1 | M21: 1
A22: 22521355 | B22: PAOLA CECILIA | C22: CAMPO RUZ | D22: Cedagro | E22: 9103 | F22: Instructor | G22: LOGÍSTICA Y GESTIÓN DE LA PRODUCCIÓN | H22: GESTIÓN LOGÍSTICA EN CENTRO Y AREA RURAL | I22: Dama | M22: 1
A23: 32676374 | B23: VIRGINIA ASUNCION | C23: CANTILLO MORON | D23: Cedagro | E23: 9103 | F23: Instructor | G23: PEDAGOGÍA | H23: PEDAGOGÍA Y DIDÁCTICA PARA LA FORMACIÓN PROFESIONAL | I23: Dama | L23: 1 | M23: 1
A24: 32850044 | B24: YACERIS MERCEDES | C24: CASTRO ESCORCIA | D24: Cedagro | E24: 9103 | F24: Instructor | G24: AGRÍCOLA | H24: PROCESAMIENTO DE ALIMENTOS - LÁCTEOS Y DERIVADOS | I24: Dama | L24: 1 | M24: 1
A25: 32816364 | B25: GILMA ROSA | C25: CASTRO GONZALEZ | D25: Cedagro | E25: 9103 | F25: Instructor | G25: COORDINACIÓN ACADÉMICA | H25: ACUÍCOLA Y PESCA; AGRÍCOLA; AMBIENTAL; BIOTECNOLOGÍA, MINERÍA , PECUARIA | I25: Dama | M25: 1
A26: 45455739 | B26: YALILE | C26: CHAUX DORADO | D26: Cedagro | E26: 9103 | F26: Instructor | G26: GESTIÓN ADMINISTRATIVA Y SERVICIOS FINANCIEROS | H26: ACUÍCOLA Y PESCA; AGRÍCOLA; AMBIENTAL; BIOTECNOLOGÍA, MINERÍA , PECUARIA | I26: Dama | M26: 1
A27: 44154839 | B27: AILIN | C27: MONTERROSA CHAMORRO | D27: Cedagro | E27: 9103 | F27: Instructor | G27: ENSEÑANZA DE IDIOMAS | H27: ENSEÑANZA DE IDIOMAS | I27: Dama | L27: 1 | M27: 1
A28: 39622142 | B28: YAZMIN | C28: OLARTE PARDO | D28: Cedagro | E28: 9103 | F28: Instructor | G28: PECUARIA | H28: PRODUCCIÓN ESPECIES MENORES Y PRODUCCION GANADERA | I28: Dama | L28: 2 | M28: 2
A29: 32714995 | B29: LISBETH LETICIA | C29: OLMOS BLANQUICET | D29: Cedagro | E29: 9103 | F29: Instructor | G29: AGRÍCOLA | H29: PROCESAMIENTO DE ALIMENTOS - FRUTAS Y VERDURAS | I29: Dama | L29: 1 | M29: 1
A30: 49698695 | B30: NORYS MILENA | C30: ORTIZ SALAZAR | D30: Cedagro | E30: 9103 | F30: Instructor | G30: CONSTRUCCIÓN | H30: CONSTRUCCIÓN | I30: Dama | M30: 1
A31: 49689628 | B31: HILDA ESTHER | C31: ORTIZ SALAZAR | D31: Cedagro | E31: 9103 | F31: Instructor | G31: COORDINACIÓN ACADÉMICA | H31: ACUÍCOLA Y PESCA; AGRÍCOLA; AMBIENTAL; BIOTECNOLOGÍA, MINERÍA , PECUARIA | I31: Dama | M31: 1
A32: 1042999648 | B32: CINDY MILAGRO | C32: PUCHE CASTRO | D32: Cedagro | E32: 9103 | F32: Instructor | G32: AMBIENTAL | H32: FORESTAL | I32: Dama | L32: 1 | M32: 1
A33: 32724352 | B33: LUZ MARINA | C33: PULIDO PEÑALOZA | D33: Cedagro | E33: 9103 | F33: Instructor | G33: AGRÍCOLA | H33: AGROINDUSTRIAL - CONTROL DE CALIDAD E INOCUIDAD | I33: Dama | L33: 1 | M33: 1
A34: 45764859 | B34: MONICA | C34: SILVA LOPEZ | D34: Cedagro | E34: 9103 | F34: Instructor | G34: AGRÍCOLA | H34: AGROINDUSTRIAL - CONTROL DE CALIDAD E INOCUIDAD | I34: Dama | L34: 1 | M34: 1
A35: 32865021 | B35: MILDRE MERCEDES | C35: BELTRAN MEDINA | D35: Industrial | E35: 9208 | F35: Instructor | G35: COORDINACIÓN ACADÉMICA | H35: AEROPARCIAL; ARTES GRÁFICAS, ARTESANÍA Y JOYERÍA; AUTOMOTOR; CONSTRUCCIÓN; INFRAESTRUCTURA; CUERO CALZADO Y MARROQUINERÍA; ELECTRÓNICA, INSTRUMENTALIZACIÓN Y AUTOMATIZACIÓN; ENERGÍA ELÉCTRICA; HIDROCARBUROS, TRANSPORTE; MATERIALES PARA LA CONSTRUCCIÓN; MECÁNICA INDUSTRIAL, QUÍMICA APLICADA ;TELECOMUNICACIONES; TEXTIL, CONFECCIÓN, DISEÑO Y MODA | I35: Dama | M35: 1
A36: 55224804 | B36: ZULLY DEL SOCORRO | C36: CABALLERO ARRIETA | D36: Industrial | E36: 9208 | F36: Instructor | G36: ENSEÑANZA DE IDIOMAS | H36: ENSEÑANZA DE IDIOMAS | I36: Dama | M36: 1
A37: 32831070 | B37: PATRICIA MARIA | C37: DOVALE PEREZ | D37: Industrial | E37: 9208 | F37: Instructor | G37: CONSTRUCCIÓN | H37: ARQUITECTURA Y DECORACION | I37: Dama | M37: 1
A38: 22437677 | B38: NANCY | C38: FABREGAS CARRILLO | D38: Industrial | E38: 9208 | F38: Instructor | G38: CONSTRUCCIÓN | H38: CONSTRUCCION | I38: Dama | M38: 1
A39: 32743040 | B39: LINDA | C39: GARCIA ANAYA | D39: Industrial | E39: 9208 | F39: Instructor | G39: COORDINACIÓN ACADÉMICA | H39: AEROPARCIAL; ARTES GRÁFICAS, ARTESANÍA Y JOYERÍA; AUTOMOTOR; CONSTRUCCIÓN; INFRAESTRUCTURA; CUERO CALZADO Y MARROQUINERÍA; ELECTRÓNICA, INSTRUMENTALIZACIÓN Y AUTOMATIZACIÓN; ENERGÍA ELÉCTRICA; HIDROCARBUROS, TRANSPORTE; MATERIALES PARA LA CONSTRUCCIÓN; MECÁNICA INDUSTRIAL, QUÍMICA APLICADA ;TELECOMUNICACIONES; TEXTIL, CONFECCIÓN, DISEÑO Y MODA | I39: Dama | M39: 1
A40: 32896004 | B40: KATHERINE ISABEL | C40: HERRERA RUÍZ | D40: Industrial | E40: 9208 | F40: Instructor | G40: ENSEÑANZA DE IDIOMAS | H40: ENSEÑANZA DE IDIOMAS | I40: Dama | M40: 1
A41: 32778012 | B41: YONEID PATRICIA | C41: VILLA GARCIA | D41: Industrial | E41: 9208 | F41: Instructor | G41: ENSEÑANZA DE IDIOMAS | H41: ENSEÑANZA DE IDIOMAS | I41: Dama | M41: 1
A42: 55224228 | B42: ANA MARIA | C42: BARRIOS OROZCO | D42: Colombo | E42: 9207 | F42: Instructor | G42: MECANICA INDUSTRIAL | H42: MECANIZADO | I42: Dama | M42: 1
A43: 59829595 | B43: YADIRA ELENA | C43: CALDERON DELGADO | D43: Colombo | E43: 9207 | F43: Instructor | G43: ENSEÑANZA DE IDIOMAS | H43: ENSEÑANZA DE IDIOMAS | I43: Dama | M43: 1
A44: 32799317 | B44: PAOLA ANDREA | C44: CARRILLO VALDERRAMA | D44: Colombo | E44: 9207 | F44: Instructor | G44: TELEINFORMATICA | H44: INFRAESTRUCTURA EN CENTROS Y ÁREAS URBANAS | I44: Dama | M44: 1
A45: 55235464 | B45: LUZ ELENA | C45: JIMENEZ ROA | D45: Colombo | E45: 9207 | F45: Instructor | G45: TELECOMUNICACIONES | H45: REDES CABLEADAS PARA TELECOMUNICACIONES | I45: Dama | M45: 1
A46: 63479769 | B46: ISABEL CRISTINA | C46: NINO CAMACHO | D46: Colombo | E46: 9207 | F46: Instructor | G46: MATERIALES PARA LA INDUSTRIA | H46: MATERIALES COMPUESTOS POLIMERICOS | I46: Dama | M46: 1
... A51: 32894435 | B51: ANA ISABEL | C51: MEJÍA BRUNVIG | D51: Colombo | E51: 9207 | F51: Instructor | G51: ELECTRONICA Y AUTOMATIZACION | H51: MANTENINIEMTO DE EQUIPO BIOMEDICO | I51: Dama | M51: 1
A52: 1128125613 | B52: MORALYS DEL SOCORRO | C52: MORALES SUAREZ | D52: Comercio | E52: 9302 | F52: Instructor | G52: SALUD. | H52: APOYO TERAPÉUTICO Y REHABILITACIÓN | I52: Dama | K52: 2
K53: =SUM(K2:K52) -> 12 | L53: =SUM(L2:L52) -> 15 | M53: =SUM(M2:M52) -> 46 | N53: =SUM(N2:N52) -> 2

Sheet VESTUARIO CABALLERO
A1: IDENTIFICACIÓN | B1: NOMBRES | C1: APELLIDOS | D1: CENTRO | E1: CÓDIGO | F1: GRUPO | G1: RED | H1: AREA DE CONOCIMIENTO | I1: TIPO | K1: CACHUCHA 11510040 | L1: CAMISA 11510042 | M1: VESTIDO HOMBRE 11510225 | N1: UNIFORME DE COCINA UNISEX 11510050 | O1: OVEROL UNISEX 11510150/11510050 | P1: BLUE JEAN UNISEX 11510161 | Q1: PANTALONETA UNISEX 11510170 | R1: UNIFORME DE ENFERMERIA 11510216 | S1: SUDADERA UNISEX 11550250 | T1: CAMISETA 11550260 | U1: MEDIAS 11510414 | V1: BATA 11510027 | W1: BUZO 11550261 | X1: IMPERMEABLE 11580425 | Y1: PANTALON 11510230
A2: 1047334893 | B2: YAMIR ENRIQUE | C2: ACOSTA GONZALEZ | D2: Comercio | E2: 9302 | F2: Instructor | G2: GESTIÓN ADMINISTRATIVA Y SERVICIOS FINANCIEROS | H2: GESTIÓN DOCUMENTAL EN CENTROS Y AREA URBANA | I2: EP | L2: 2 | V2: 3 | Y2: 2
A3: 72204606 | B3: MILTON RAFAEL | C3: ALFARO JIMENEZ | D3: Comercio | E3: 9302 | F3: Instructor | G3: TELEINFORMATICA | H3: CONTENIDO AUDIVISUALES DIGITALES EN CENTROS Y ÁREAS URBANAS | I3: EP | V3: 3
A4: 3763862 | B4: OSCAR JAVIER | C4: ALFORD MUÑOZ | D4: Comercio | E4: 9302 | F4: Instructor | G4: SALUD. | H4: SERVICIOS FARMACÉUTICOS Y REGENCIA DE FARMACIA | I4: EP | R4: 3 | V4: 2
A5: 6763555 | B5: GABIS DE JESUS | C5: AMAYA TORRES | D5: Comercio | E5: 9302 | F5: Instructor | G5: COORDINACIÓN ACADÉMICA | H5: COMERCIO Y VENTAS, GESTIÓN ADMINISTRATIVA Y SERVICIOS FINANCIEROS; GESTIÓN DE LA PRODUCCIÓN; HOTELERÍA Y TURISMO; INFORMÁTICA, DISEÑO Y DESARROLLO DE SOFTWARE; SERVICIOS PERSONALES | I5: EP | L5: 2 | P5: 2 | V5: 2
A6: 72248537 | B6: GUILLERMO RAFAEL | C6: ANGULO VEGA | D6: Comercio | E6: 9302 | F6: Instructor | G6: LOGÍSTICA Y GESTIÓN DE LA PRODUCCIÓN | H6: GESTIÓN LOGÍSTICA EN CENTRO Y AREA URBANA | I6: EP | L6: 3 | M6: 3 | V6: 3
A7: 92557713 | B7: RENE GREGORIO | C7: BARBOZA PEREZ | D7: Comercio | E7: 9302 | F7: Instructor | G7: LOGÍSTICA Y GESTIÓN DE LA PRODUCCIÓN | H7: GESTIÓN LOGÍSTICA EN CENTRO Y AREA URBANA | I7: EP | L7: 2 | O7: 2 | P7: 2 | V7: 2 | X7: 2
A8: 8758722 | B8: ALVARO DE JESUS | C8: BARCELO THOMAS | D8: Comercio | E8: 9302 | F8: Instructor | G8: COMERCIO Y VENTAS | H8: VENTAS EN CENTROS Y URBANOS | I8: EP | L8: 3 | M8: 3 | V8: 3
A9: 72170339 | B9: ANDRES FERNANDO | C9: BARRIOS BOLAÑOS | D9: Comercio | E9: 9302 | F9: Instructor | G9: PEDAGOGÍA | H9: PEDAGOGÍA Y DIDÁCTICA PARA LA FORMACIÓN PROFESIONAL | I9: EP | V9: 3
A10: 72150767 | B10: ORLANDO JOSE | C10: BERMUDEZ PADILLA | D10: Comercio | E10: 9302 | F10: Instructor | G10: GESTIÓN ADMINISTRATIVA Y SERVICIOS FINANCIEROS | H10: CONTABILIDAD EN CENTRO Y AREA URBANA | I10: EP | L10: 2 | V10: 3 | Y10: 2
A11: 72200918 | B11: KENNY MAURICIO | C11: CABALLERO CASTAÑO | D11: Comercio | E11: 9302 | F11: Instructor | G11: COMERCIO Y VENTAS | H11: GESTIÓN DE MERCADOS EN CENTROS Y URBANOS | I11: EP | L11: 3 | M11: 3 | V11: 3
A12: 84041115 | B12: MANUEL | C12: CABALLERO GOMEZ | D12: Comercio | E12: 9302 | F12: Instructor | G12: GESTIÓN ADMINISTRATIVA Y SERVICIOS FINANCIEROS | H12: GESTIÓN ADMINISTRATIVA EN CENTRO Y AREA URBANA | I12: EP | L12: 2 | V12: 3 | Y12: 2
A13: 8737215 | B13: MANUEL | C13: CANTILLO CANTILLO | D13: Comercio | E13: 9302 | F13: Instructor | G13: COMERCIO Y VENTAS | H13: GESTIÓN DE MERCADOS EN CENTROS Y URBANOS | I13: EP | L13: 3 | M13: 3 | V13: 3
A14: 1082923643 | B14: JEFERSON ANDRES | C14: COLON NUÑEZ | D14: Comercio | E14: 9302 | F14: Instructor | G14: GESTIÓN ADMINISTRATIVA Y SERVICIOS FINANCIEROS | H14: TALENTO HUMANO EN CENTRO Y ÁREA URBANA | I14: EP | L14: 2 | V14: 3 | Y14: 2
A15: 8718428 | B15: RUBEN DARIO | C15: CUBILLOS COLL | D15: Comercio | E15: 9302 | F15: Instructor | G15: COMERCIO Y VENTAS | H15: GESTIÓN DE MERCADOS EN CENTROS Y URBANOS | I15: EP | L15: 3 | M15: 3 | V15: 3
A16: 9268144 | B16: JUAN CARLOS | C16: DE LA HOZ GUTIERREZ | D16: Comercio | E16: 9302 | F16: Instructor | G16: COMERCIO Y VENTAS | H16: GESTIÓN DE MERCADOS EN CENTROS Y URBANOS | I16: EP | L16: 3 | M16: 3 | V16: 3
A17: 72008500 | B17: ROTNY ALEXANDER | C17: DELGADO VILLADIEGO | D17: Comercio | E17: 9302 | F17: Instructor | G17: LOGÍSTICA Y GESTIÓN DE LA PRODUCCIÓN | H17: GESTIÓN LOGÍSTICA EN CENTRO Y AREA URBANA | I17: EP | L17: 2 | O17: 2 | P17: 2 | V17: 2 | X17: 2
A18: 72250513 | B18: HERNANDO RAFAEL | C18: DOMINGUEZ GUTIERREZ | D18: Comercio | E18: 9302 | F18: Instructor | G18: GESTIÓN ADMINISTRATIVA Y SERVICIOS FINANCIEROS | H18: GESTIÓN DOCUMENTAL EN CENTROS Y AREA URBANA | I18: EP | L18: 2 | V18: 3 | Y18: 2
A19: 1045701401 | B19: FRANCISCO JAVIER | C19: DONADO PALACIO | D19: Comercio | E19: 9302 | F19: Instructor | G19: HOTELERÍA Y TURISMO. | H19: COCINA | I19: EP | L19: 3 | N19: 3 | P19: 3 | V19: 3
A20: 72130990 | B20: JUAN CARLOS | C20: FORNARIS RENGIFO | D20: Comercio | E20: 9302 | F20: Instructor | G20: LOGÍSTICA Y GESTIÓN DE LA PRODUCCIÓN | H20: GESTIÓN LOGÍSTICA EN CENTRO Y AREA URBANA | I20: EP | L20: 2 | O20: 2 | P20: 2 | V20: 2 | X20: 2
A21: 8689630 | B21: LUIS JORGE | C21: GNECCO POLO | D21: Comercio | E21: 9302 | F21: Instructor | G21: GESTIÓN ADMINISTRATIVA Y SERVICIOS FINANCIEROS | H21: CONTABILIDAD EN CENTRO Y AREA URBANA | I21: EP | L21: 2 | V21: 3 | Y21: 2
A22: 72195742 | B22: ADOLFO LEON | C22: GOMEZ ROJAS | D22: Comercio | E22: 9302 | F22: Instructor | G22: GESTIÓN ADMINISTRATIVA Y SERVICIOS FINANCIEROS | H22: GESTIÓN ADMINISTRATIVA EN CENTRO Y AREA URBANA | I22: EP | L22: 2 | V22: 3 | Y22: 2
A23: 1129527929 | B23: HENRY | C23: GONZALEZ CERVANTES | D23: Comercio | E23: 9302 | F23: Instructor | G23: COMERCIO Y VENTAS | H23: CONTACT CENTER Y B.P.O EN CENTROS Y URBANO | I23: EP | L23: 3 | M23: 3 | V23: 3
A24: 91486913 | B24: EDWARD ALBERTO | C24: GUERRERO PINEDA | D24: Comercio | E24: 9302 | F24: Instructor | G24: GESTIÓN ADMINISTRATIVA Y SERVICIOS FINANCIEROS | H24: CONTACT CENTER Y B.P.O EN CENTROS Y URBANO | I24: EP | L24: 2 | V24: 3 | Y24: 2
A25: 12542422 | B25: ALVARO GUILLERMO | C25: GUZMAN CONSUEGRA | D25: Comercio | E25: 9302 | F25: Instructor | G25: PEDAGOGÍA | H25: PEDAGOGÍA Y DIDÁCTICA PARA LA FORMACIÓN PROFESIONAL | I25: EP | V25: 3
A26: 8664865 | B26: JOSE ISAAC | C26: JALK GUERRERO | D26: Comercio | E26: 9302 | F26: Instructor | G26: GESTIÓN ADMINISTRATIVA Y SERVICIOS FINANCIEROS | H26: SERVICIOS FINANCIEROS EN CENTRO Y AREA URBANA | I26: EP | L26: 2 | V26: 3 | Y26: 2
A27: 8725238 | B27: ANTONIO ALEXANDER | C27: LOPEZ CLARO | D27: Comercio | E27: 9302 | F27: Instructor | G27: TRANSPORTE. | H27: TRANSPORTE MARITIMO Y FLUVIAL | I27: EP | K27: 1 | L27: 2 | O27: 2 | P27: 2 | V27: 2 | X27: 1
A28: 8672155 | B28: RAMIRO ANTONIO | C28: LÓPEZ MIZUNO | D28: Comercio | E28: 9302 | F28: Instructor | G28: GESTIÓN ADMINISTRATIVA Y SERVICIOS FINANCIEROS | H28: GESTIÓN ADMINISTRATIVA EN CENTRO Y AREA URBANA | I28: EP | L28: 2 | V28: 3 | Y28: 2
A29: 8673483 | B29: HUGO HERNAN | C29: MALDONADO FONSECA | D29: Comercio | E29: 9302 | F29: Instructor | G29: GESTIÓN ADMINISTRATIVA Y SERVICIOS FINANCIEROS | H29: TALENTO HUMANO EN CENTRO Y ÁREA URBANA | I29: EP | L29: 2 | V29: 3 | Y29: 2
A30: 72313168 | B30: JAIR LORENZO | C30: MARCHENA DE LA HOZ | D30: Comercio | E30: 9302 | F30: Instructor | G30: TELEINFORMATICA | H30: SOFTWARE EN CENTROS Y ÁREAS URBANAS | I30: EP | L30: 2 | P30: 2 | V30: 3
A31: 73162643 | B31: MAURICIO ALFONSO | C31: MARRUGO PITALUA | D31: Comercio | E31: 9302 | F31: Instructor | G31: COMERCIO Y VENTAS | H31: GESTIÓN DE MERCADOS EN CENTROS Y URBANOS | I31: EP | L31: 3 | M31: 3 | V31: 3
A32: 8660743 | B32: ARTURO | C32: MAYORAL ROMERO | D32: Comercio | E32: 9302 | F32: Instructor | G32: PEDAGOGÍA | H32: EMPRENDIMIENTO | I32: EP | V32: 3
A33: 8738222 | B33: SERGIO IGNACIO | C33: MENESES CUDRIZ | D33: Comercio | E33: 9302 | F33: Instructor | G33: TELEINFORMATICA | H33: SOFTWARE EN CENTROS Y ÁREAS URBANAS | I33: EP | L33: 2 | P33: 2 | V33: 3
A34: 73350896 | B34: OSCAR LUIS | C34: MEZA MARRUGO | D34: Comercio | E34: 9302 | F34: Instructor | G34: SALUD. | H34: SERVICIOS FARMACÉUTICOS Y REGENCIA DE FARMACIA | I34: EP | R34: 3 | V34: 2
A35: 8771982 | B35: SERGIO ISAAC | C35: MIRANDA BLANQUICETT | D35: Comercio | E35: 9302 | F35: Instructor | G35: GESTIÓN ADMINISTRATIVA Y SERVICIOS FINANCIEROS | H35: CONTABILIDAD EN CENTRO Y AREA URBANA | I35: EP | L35: 2 | V35: 3 | Y35: 2
A36: 85478818 | B36: JORGE ELIECER | C36: NAVARRO OROZCO | D36: Comercio | E36: 9302 | F36: Instructor | G36: GESTIÓN ADMINISTRATIVA Y SERVICIOS FINANCIEROS | H36: CONTABILIDAD EN CENTRO Y AREA URBANA | I36: EP | L36: 2 | V36: 3 | Y36: 2
A37: 72195495 | B37: ROGER EDUARDO | C37: NIETO BORREGO | D37: Comercio | E37: 9302 | F37: Instructor | G37: COMERCIO Y VENTAS | H37: Negocios internacionales | I37: EP | L37: 3 | M37: 3 | V37: 3
A38: 70561835 | B38: JUAN CARLOS | C38: OSPINA ARIAS | D38: Comercio | E38: 9302 | F38: Instructor | G38: LOGÍSTICA Y GESTIÓN DE LA PRODUCCIÓN | H38: GESTIÓN LOGÍSTICA EN CENTRO Y AREA URBANA | I38: EP | L38: 2 | O38: 2 | P38: 2 | V38: 2 | X38: 2
A39: 8711995 | B39: PAUL ANTONIO | C39: PADILLA GALOFRE | D39: Comercio | E39: 9302 | F39: Instructor | G39: TELEINFORMATICA | H39: INFRAESTRUCTURA EN CENTRO Y AREAS URBANAS | I39: EP | L39: 2 | P39: 2 | V39: 3
A40: 8801556 | B40: RAFAEL ENRIQUE | C40: PLATA PATERNINA | D40: Comercio | E40: 9302 | F40: Instructor | G40: INTEGRALIDAD | H40: INTERACCIÓN CONSIGO MISMO- CON LOS DEMAS-CON LA NATURALEZA Y CON LA TRASCENDENCIA | I40: EP | V40: 3
A41: 93118765 | B41: JOSE ALBERTO | C41: PULIDO CHARRY | D41: Comercio | E41: 9302 | F41: Instructor | G41: COMERCIO Y VENTAS | H41: VENTAS EN CENTROS Y URBANOS | I41: EP | L41: 3 | M41: 3 | V41: 3
A42: 12544096 | B42: RAFAEL ROBERTO | C42: RACEDO MIRANDA | D42: Comercio | E42: 9302 | F42: Instructor | G42: COMERCIO Y VENTAS | H42: VENTAS EN CENTROS Y URBANOS | I42: EP | L42: 3 | M42: 3 | V42: 3
A43: 73090187 | B43: ISAAC DE JESUS | C43: RANGEL MONTERO | D43: Comercio | E43: 9302 | F43: Instructor | G43: AGRÍCOLA | H43: PROCESAMIENTO DE ALIMENTOS - PANADERÍA Y REPOSTERÍA | I43: EP | K43: 2 | L43: 3 | P43: 3 | V43: 2 | X43: 2
A44: 80240768 | B44: ANDRES LEONARDO | C44: RODRIGUEZ URBINA | D44: Comercio | E44: 9302 | F44: Instructor | G44: COMERCIO Y VENTAS | H44: Negocios internacionales | I44: EP | L44: 2 | O44: 2 | P44: 2 | V44: 2 | X44: 2
A45: 8765967 | B45: FERNANDO LUIS | C45: ROLON NIETO | D45: Comercio | E45: 9302 | F45: Instructor | G45: GESTIÓN ADMINISTRATIVA Y SERVICIOS FINANCIEROS | H45: SERVICIOS FINANCIEROS EN CENTRO Y AREA URBANA | I45: EP | L45: 2 | V45: 3 | Y45: 2
A46: 8729787 | B46: RAFAEL ARMANDO | C46: SALTARIN DE LA HOZ | D46: Comercio | E46: 9302 | F46: Instructor | G46: TELEINFORMATICA | H46: SOFTWARE EN CENTROS Y ÁREAS URBANAS | I46: EP | L46: 2 | P46: 2 | V46: 3
A47: 72180954 | B47: CARLOS IVAN | C47: TORRES AGRESSOTT | D47: Comercio | E47: 9302 | F47: Instructor | G47: GESTIÓN ADMINISTRATIVA Y SERVICIOS FINANCIEROS | H47: GESTIÓN ADMINISTRATIVA EN CENTRO Y AREA URBANA | I47: EP | L47: 2 | V47: 3 | Y47: 2
A48: 73202128 | B48: JORGE LUIS | C48: TURIZO CORREA | D48: Comercio | E48: 9302 | F48: Instructor | G48: GESTIÓN ADMINISTRATIVA Y SERVICIOS FINANCIEROS | H48: GESTIÓN ADMINISTRATIVA EN CENTRO Y AREA URBANA | I48: EP | L48: 2 | V48: 3 | Y48: 2
A49: 7462460 | B49: DANILO DANIEL | C49: ULLOQUE GERMAN | D49: Comercio | E49: 9302 | F49: Instructor | G49: GESTIÓN ADMINISTRATIVA Y SERVICIOS FINANCIEROS | H49: GESTIÓN DOCUMENTAL EN CENTROS Y AREA URBANA | I49: EP | L49: 2 | V49: 3 | Y49: 2
A50: 73578985 | B50: CARLOS ALBERTO | C50: URUETA GONZALEZ | D50: Comercio | E50: 9302 | F50: Instructor | G50: GESTIÓN ADMINISTRATIVA Y SERVICIOS FINANCIEROS | H50: GESTIÓN ADMINISTRATIVA EN CENTRO Y AREA URBANA | I50: EP | L50: 2 | V50: 3 | Y50: 2
A51: 73155773 | B51: ENRIQUE JOSE | C51: VEGA PEREZ | D51: Comercio | E51: 9302 | F51: Instructor | G51: COMERCIO Y VENTAS | H51: GESTIÓN DE MERCADOS EN CENTROS Y URBANOS | I51: EP | L51: 3 | M51: 3 | V51: 3
A52: 72199597 | B52: FABIAN RICARDO | C52: VILLANUEVA SANCHEZ | D52: Comercio | E52: 9302 | F52: Instructor | G52: LOGÍSTICA Y GESTIÓN DE LA PRODUCCIÓN | H52: GESTIÓN LOGÍSTICA EN CENTRO Y AREA URBANA | I52: EP | L52: 2 | O52: 2 | P52: 2 | V52: 2 | X52: 2
A53: 72255907 | B53: JESUS DAVID | C53: ZAMORA THOWINSSON | D53: Comercio | E53: 9302 | F53: Instructor | G53: COMERCIO Y VENTAS | H53: GESTIÓN DE MERCADOS EN CENTROS Y URBANOS | I53: EP | L53: 3 | M53: 3 | V53: 3
A54: 8760224 | B54: CARLOS ALBERTO | C54: RODRIGUEZ PEREZ | D54: Comercio | E54: 9302 | F54: Asistencial | I54: EP | M54: 3
A55: 7631809 | B55: JOSE MARIO | C55: PACHECO DEL PORTILLO | D55: Comercio | E55: 9302 | F55: Asistencial | I55: EP | M55: 3
A56: 1127575646 | B56: CARLOS GREGORIO | C56: BARRIOS ARRIETA | D56: Comercio | E56: 9302 | F56: Asistencial | I56: EP | M56: 3
A57: 72013686 | B57: GERARDO SAUL | C57: LLANOS CONTRERAS | D57: Comercio | E57: 9302 | F57: Técnico | I57: EP | M57: 3
A58: 16474671 | B58: CARLOS ARTURO | C58: RIOS SANZ | D58: Despacho | E58: 1010 | F58: Técnico | I58: EP | M58: 3
A59: 3779108 | B59: JAVIER | C59: CAPUTO ARIZA | D59: Comercio | E59: 9302 | F59: Técnico | I59: EP | V59: 3
A60: 3836888 | B60: JAVIER JOSE | C60: MESA SARMIENTO | D60: Comercio | E60: 9302 | F60: Técnico | G60: Almacen | I60: EP | O60: 2 | V60: 2
A61: 72097961 | B61: HERNAN ALBERTO | C61: BERDEJO MARTINEZ | D61: Comercio | E61: 9302 | F61: Profesional | G61: CERTIFICACIÓN DE COMPETENCIAS LABORALES | I61: EP | V61: 3
A62: 72134687 | B62: FRANKLIN | C62: FERRER MANOTAS | D62: Comercio | E62: 9302 | F62: Profesional | G62: CERTIFICACIÓN DE COMPETENCIAS LABORALES | I62: EP | V62: 3
A63: 72151676 | B63: FELIX DAVID | C63: BADRAN LOREO | D63: Comercio | E63: 9302 | F63: Profesional | G63: ADMINISTRACION DE EDIFICIO | I63: EP | V63: 3
A64: 72145981 | B64: EDIE ANTONIO | C64: CERPA GARCIA | D64: Despacho | E64: 1010 | F64: Asistencial | I64: EP | M64: 3
A65: 15047679 | B65: JOSE ELIAS | C65: AYUS FARIÑO | D65: Cedagro | E65: 9103 | F65: Instructor | G65: ACUÍCOLA Y DE PESCA | H65: ACUICULTURA | I65: EP | K65: 2 | L65: 3 | P65: 3 | Q65: 2 | V65: 3 | W65: 3
A66: 8668134 | B66: LUIS JOSE | C66: BARRIOS DE LA HOZ | D66: Cedagro | E66: 9103 | F66: Instructor | G66: PEDAGOGÍA | H66: PEDAGOGÍA Y DIDÁCTICA PARA LA FORMACIÓN PROFESIONAL -RURAL | I66: EP | L66: 2 | P66: 2 | V66: 3
A67: 72244004 | B67: ALFREDO | C67: BERMEJO | D67: Cedagro | E67: 9103 | F67: Instructor | G67: TELEINFORMATICA | H67: SOFTWARE EN AREA RURAL | I67: EP | L67: 2 | P67: 2 | V67: 2
A68: 72308250 | B68: JORGE LUIS | C68: BURITICA VELEZ | D68: Cedagro | E68: 9103 | F68: Instructor | G68: GESTIÓN ADMINISTRATIVA Y SERVICIOS FINANCIEROS | H68: CONTABILIDAD EN AREA RURAL | I68: EP | L68: 2 | P68: 2 | V68: 2
A69: 73143623 | B69: ROLAND | C69: CAMACHO MENDEZ | D69: Cedagro | E69: 9103 | F69: Instructor | G69: PECUARIA | H69: PRODUCCIÓN ESPECIES MENORES | I69: EP | K69: 2 | L69: 3 | O69: 2 | P69: 3 | V69: 2
A70: 8725858 | B70: EDGARDO | C70: CORONELL LUNA | D70: Cedagro | E70: 9103 | F70: Técnico | I70: EP | M70: 3
A71: 8678141 | B71: ALBERTO ANTONIO | C71: DE LA CRUZ LLANOS | D71: Cedagro | E71: 9103 | F71: Instructor | G71: ACUÍCOLA Y DE PESCA | H71: PESCA | I71: EP | K71: 2 | L71: 3 | P71: 3 | Q71: 2 | V71: 3 | W71: 3
A72: 8750842 | B72: ARTURO RAFAEL | C72: DIAZ GUTIERREZ | D72: Cedagro | E72: 9103 | F72: Instructor | G72: AGRÍCOLA | H72: AGRICULTURA | I72: EP | K72: 2 | L72: 3 | O72: 1 | P72: 3 | V72: 2 | X72: 1
A73: 12539771 | B73: ALBERTO | C73: ESCANDON CAMARGO | D73: Cedagro | E73: 9103 | F73: Instructor | G73: AGRÍCOLA | H73: AGRICULTURA DE PRECISIÓN | I73: EP | K73: 2 | L73: 3 | O73: 1 | P73: 3 | V73: 2 | X73: 1
A74: 3735980 | B74: JAVIER EMILIO | C74: FERNANDEZ MARQUEZ | D74: Cedagro | E74: 9103 | F74: Instructor | G74: GESTIÓN ADMINISTRATIVA Y SERVICIOS FINANCIEROS | H74: GESTIÓN ADMINISTRATIVA EN AREA RURAL | I74: EP | L74: 2 | P74: 2 | V74: 2
A75: 72218427 | B75: JAVIER ENRIQUE | C75: GARCIA NORIEGA | D75: Cedagro | E75: 9103 | F75: Instructor | G75: AMBIENTAL | H75: BIODIVERSIDAD | I75: EP | K75: 1 | L75: 3 | P75: 3 | V75: 2
A76: 8736558 | B76: GIOVANNY WALTER | C76: IBANEZ PRADA | D76: Cedagro | E76: 9103 | F76: Instructor | G76: COORDINACIÓN ACADÉMICA | H76: ACUÍCOLA Y PESCA; AGRÍCOLA; AMBIENTAL; BIOTECNOLOGÍA, MINERÍA , PECUARIA | I76: EP | K76: 1 | L76: 2 | O76: 2 | P76: 2 | V76: 2
A77: 91279157 | B77: GERMAN DIEGO | C77: JAIMES AMAYA | D77: Cedagro | E77: 9103 | F77: Instructor | G77: AGRÍCOLA | H77: AGRICULTURA | I77: EP | K77: 2 | L77: 3 | O77: 1 | P77: 3 | V77: 2 | X77: 1
A78: 72336137 | B78: DANIEL EDUARDO | C78: MARTINEZ FLOREZ | D78: Cedagro | E78: 9103 | F78: Instructor | G78: LOGÍSTICA Y GESTIÓN DE LA PRODUCCIÓN | H78: SEGURIDAD Y SALUD EN EL TRABAJO EN AREA RURAL | I78: EP | L78: 2 | P78: 2 | V78: 2
A79: 18856398 | B79: ALFREDO DEL CRISTO | C79: MARTINEZ JARABA | D79: Cedagro | E79: 9103 | F79: Instructor | G79: PECUARIA | H79: PRODUCCIÓN ESPECIES MENORES | I79: EP | K79: 2 | L79: 3 | O79: 2 | P79: 3 | V79: 2
A80: 8736056 | B80: RICARDO ANTONIO | C80: MAURY MARQUEZ | D80: Cedagro | E80: 9103 | F80: Instructor | G80: GESTIÓN ADMINISTRATIVA Y SERVICIOS FINANCIEROS | H80: GESTIÓN ADMINISTRATIVA EN AREA RURAL | I80: EP | L80: 2 | P80: 2 | V80: 2
A81: 84079411 | B81: CESAR | C81: MENDOZA ALVARADO | D81: Cedagro | E81: 9103 | F81: Instructor | G81: AMBIENTAL | H81: GESTIÓN AMBIENTAL SECTORIAL Y URBANA | I81: EP | K81: 1 | L81: 3 | P81: 3 | V81: 2
A82: 8685047 | B82: RICARDO ISRAEL | C82: NORIEGA CABRALES | D82: Cedagro | E82: 9103 | F82: Instructor | G82: INTEGRALIDAD | H82: EJERCICIO DE LOS DERECHOS FUNDAMENTALES EN EL TRABAJO EN EL AREA RURAL | I82: EP | V82: 3
A83: 12546499 | B83: ROBINSON ANTONIO | C83: OROZCO NIEBLES | D83: Cedagro | E83: 9103 | F83: Instructor | G83: COORDINACIÓN ACADÉMICA | H83: ACUÍCOLA Y PESCA; AGRÍCOLA; AMBIENTAL; BIOTECNOLOGÍA, MINERÍA , PECUARIA | I83: EP | K83: 1 | L83: 2 | O83: 2 | P83: 2 | V83: 2
A84: 8681710 | B84: EDUARDO | C84: PEÑA DAZA | D84: Cedagro | E84: 9103 | F84: Instructor | G84: AMBIENTAL | H84: BIODIVERSIDAD | I84: EP | K84: 1 | L84: 3 | P84: 3 | V84: 2
A85: 73071447 | B85: OSCAR DE JESUS | C85: PEREZ HERNANDEZ | D85: Cedagro | E85: 9103 | F85: Instructor | G85: AMBIENTAL | H85: FORESTAL | I85: EP | K85: 1 | L85: 3 | P85: 3 | V85: 2
A86: 12558474 | B86: HECTOR LEONIDAS | C86: POLO CALDERIN | D86: Cedagro | E86: 9103 | F86: Técnico | I86: EP | O86: 2 | V86: 2
A87: 72245421 | B87: VICTOR HUGO | C87: POLO CALVO | D87: Cedagro | E87: 9103 | F87: Instructor | G87: AMBIENTAL | H87: GESTIÓN AMBIENTAL SECTORIAL Y URBANA | I87: EP | K87: 1 | L87: 3 | P87: 3 | V87: 2
A88: 72213859 | B88: ERMIT ANTONIO | C88: SANDOVAL GUEVARA | D88: Cedagro | E88: 9103 | F88: Instructor | G88: INTEGRALIDAD | H88: EJERCICIO DE LOS DERECHOS FUNDAMENTALES EN EL TRABAJO EN EL AREA RURAL | I88: EP | V88: 3
A89: 8767113 | B89: JESER JOSUE | C89: SARMIENTO CORCHO | D89: Cedagro | E89: 9103 | F89: Instructor | G89: GESTIÓN ADMINISTRATIVA Y SERVICIOS FINANCIEROS | H89: TALENTO HUMANO AREA RURAL | I89: EP | L89: 2 | P89: 2 | V89: 2
A90: 1001993646 | B90: CARLOS ANDRES | C90: SUAZA MORENO | D90: Cedagro | E90: 9103 | F90: Instructor | G90: ENERGÍA ELÉCTRICA | H90: USO FINAL DE LA ENERGÍA ELÉCTRICA | I90: EP | K90: 1 | L90: 3 | O90: 2 | P90: 3 | V90: 2
A91: 72334620 | B91: GUILLERMO | C91: VEGA ORTEGA | D91: Cedagro | E91: 9103 | F91: Instructor | G91: AMBIENTAL | H91: GESTIÓN DEL RECURSO HIDRÍCO | I91: EP | K91: 1 | L91: 3 | P91: 3 | V91: 2
A92: 8711005 | B92: EDGARDO ANTONIO | C92: VILLALBA PEREZ | D92: Cedagro | E92: 9103 | F92: Instructor | G92: TELEINFORMATICA | H92: SOFTWARE EN AREA RURAL | I92: EP | L92: 2 | P92: 2 | V92: 2
A93: 94552425 | B93: ANDRES MAURICIO | C93: AGUIRRE ANTOLINEZ | D93: Colombo | E93: 9207 | F93: Instructor | G93: TELECOMUNICACIONES | H93: ADMINISTRACION DE PROYECTOS | I93: EP | L93: 2 | O93: 2 | P93: 2 | V93: 2
A94: 72150869 | B94: ARMANDO | C94: ACEVEDO TIRIA | D94: Industrial | E94: 9208 | F94: Instructor | G94: CUERO CALZADO Y MARROQUINERIA | H94: FABRICACION DE CALZADO | I94: EP | L94: 2 | P94: 2 | V94: 2
A95: 8508887 | B95: MARLON | C95: AFRICANO FERRER | D95: Industrial | E95: 9208 | F95: Instructor | G95: AEROESPACIAL | H95: TLA / TLH AVIONES Y HELICÓPTEROS | I95: EP | K95: 1 | L95: 3 | O95: 3 | P95: 3 | T95: 2 | V95: 3
A96: 8704399 | B96: ALFREDO JUAQUIN | C96: ALCOCER CORVACHO | D96: Industrial | E96: 9208 | F96: Instructor | G96: CONSTRUCCION | H96: CONSTRUCCION EN CENTRO Y URBANO | I96: EP | K96: 2 | L96: 3 | O96: 2 | P96: 3 | V96: 2
A97: 72207873 | B97: MANUEL JULIAN | C97: ALZAMORA NIEBLES | D97: Industrial | E97: 9208 | F97: Instructor | G97: ARTES GRAFICAS | H97: PREPRENSA | I97: EP | L97: 3 | P97: 3 | V97: 3
A98: 8667308 | B98: FELIX JOSE | C98: AMARIS JACOME | D98: Industrial | E98: 9208 | F98: Instructor | G98: CONSTRUCCION | H98: CONSTRUCCION EN CENTRO Y URBANO | I98: EP | K98: 2 | L98: 3 | O98: 2 | P98: 3 | V98: 2
A99: 13494656 | B99: JESUS EMEL | C99: AREVALO VELASQUEZ | D99: Industrial | E99: 9208 | F99: Instructor | G99: AEROESPACIAL | H99: TLA / TLH AVIONES Y HELICÓPTEROS | I99: EP | K99: 1 | L99: 3 | O99: 3 | P99: 3 | T99: 2 | V99: 3
A100: 72139424 | B100: LUIS CARLOS | C100: ARIAS BUTRON | D100: Industrial | E100: 9208 | F100: Instructor | G100: CONSTRUCCION | H100: ARQUITECTURA Y DECORACION | I100: EP | K100: 1 | L100: 3 | O100: 2 | P100: 3 | V100: 2
...

Sheet CALZADO CABALLERO
A1: IDENTIFICACIÓN | B1: NOMBRES | C1: APELLIDOS | D1: CENTRO | E1: CÓDIGO | F1: GRUPO | G1: RED | H1: AREA DE CONOCIMIENTO | I1: DAMA/ CABALLERO | K1: ZAPATOS ENFERMERIA CABALLERO 11580410 | L1: TENIS 11550415 | M1: BOTA DE CAUCHO 11520030 | N1: BOTAS DE CUERO 11580025 | O1: ZAPATO DE COCINA 11580414
A2: 3763862 | B2: OSCAR JAVIER | C2: ALFORD MUÑOZ | D2: Comercio | E2: 9302 | F2: Instructor | G2: SALUD. | H2: SERVICIOS FARMACÉUTICOS Y REGENCIA DE FARMACIA | I2: Caballero | K2: 2
A3: 6763555 | B3: GABIS DE JESUS | C3: AMAYA TORRES | D3: Comercio | E3: 9302 | F3: Instructor | G3: COORDINACIÓN ACADÉMICA | H3: COMERCIO Y VENTAS, GESTIÓN ADMINISTRATIVA Y SERVICIOS FINANCIEROS; GESTIÓN DE LA PRODUCCIÓN; HOTELERÍA Y TURISMO; INFORMÁTICA, DISEÑO Y DESARROLLO DE SOFTWARE; SERVICIOS PERSONALES | I3: Caballero | M3: 1 | N3: 1
A4: 92557713 | B4: RENE GREGORIO | C4: BARBOZA PEREZ | D4: Comercio | E4: 9302 | F4: Instructor | G4: LOGÍSTICA Y GESTIÓN DE LA PRODUCCIÓN | H4: GESTIÓN LOGÍSTICA EN CENTRO Y AREA URBANA | I4: Caballero | N4: 1
A5: 72008500 | B5: ROTNY ALEXANDER | C5: DELGADO VILLADIEGO | D5: Comercio | E5: 9302 | F5: Instructor | G5: LOGÍSTICA Y GESTIÓN DE LA PRODUCCIÓN | H5: GESTIÓN LOGÍSTICA EN CENTRO Y AREA URBANA | I5: Caballero | N5: 1
A6: 1045701401 | B6: FRANCISCO JAVIER | C6: DONADO PALACIO | D6: Comercio | E6: 9302 | F6: Instructor | G6: HOTELERÍA Y TURISMO. | H6: COCINA | I6: Caballero | N6: 1 | O6: 2
A7: 72248537 | B7: GUILLERMO RAFAEL | C7: ANGULO VEGA | D7: Comercio | E7: 9302 | F7: Instructor | G7: COMERCIO Y VENTAS | H7: NEGOCIACIÓN INTERNACIONAL EN CENTROS URBANOS | I7: Caballero | N7: 2
A8: 72130990 | B8: JUAN CARLOS | C8: FORNARIS RENGIFO | D8: Comercio | E8: 9302 | F8: Instructor | G8: LOGÍSTICA Y GESTIÓN DE LA PRODUCCIÓN | H8: GESTIÓN LOGÍSTICA EN CENTRO Y AREA URBANA | I8: Caballero | N8: 1
A9: 8725238 | B9: ANTONIO ALEXANDER | C9: LOPEZ CLARO | D9: Comercio | E9: 9302 | F9: Instructor | G9: TRANSPORTE. | H9: TRANSPORTE MARITIMO Y FLUVIAL | I9: Caballero | N9: 1
A10: 73350896 | B10: OSCAR LUIS | C10: MEZA MARRUGO | D10: Comercio | E10: 9302 | F10: Instructor | G10: SALUD. | H10: SERVICIOS FARMACÉUTICOS Y REGENCIA DE FARMACIA | I10: Caballero | K10: 2
A11: 70561835 | B11: JUAN CARLOS | C11: OSPINA ARIAS | D11: Comercio | E11: 9302 | F11: Instructor | G11: LOGÍSTICA Y GESTIÓN DE LA PRODUCCIÓN | H11: GESTIÓN LOGÍSTICA EN CENTRO Y AREA URBANA | I11: Caballero | N11: 1
A12: 8711995 | B12: PAUL ANTONIO | C12: PADILLA GALOFRE | D12: Comercio | E12: 9302 | F12: Instructor | G12: TELEINFORMATICA | H12: INFRAESTRUCTURA EN CENTRO Y AREAS URBANAS | I12: Caballero | N12: 1
A13: 73090187 | B13: ISAAC DE JESUS | C13: RANGEL MONTERO | D13: Comercio | E13: 9302 | F13: Instructor | G13: AGRÍCOLA | H13: PROCESAMIENTO DE ALIMENTOS - PANADERÍA Y REPOSTERÍA | I13: Caballero | M13: 1 | N13: 1
A14: 80240768 | B14: ANDRES LEONARDO | C14: RODRIGUEZ URBINA | D14: Comercio | E14: 9302 | F14: Instructor | G14: LOGÍSTICA Y GESTIÓN DE LA PRODUCCIÓN | H14: GESTIÓN LOGÍSTICA EN CENTRO Y AREA URBANA | I14: Caballero | N14: 1
A15: 72199597 | B15: FABIAN RICARDO | C15: VILLANUEVA SANCHEZ | D15: Comercio | E15: 9302 | F15: Instructor | G15: LOGÍSTICA Y GESTIÓN DE LA PRODUCCIÓN | H15: GESTIÓN LOGÍSTICA EN CENTRO Y AREA URBANA | I15: Caballero | N15: 1
A16: 15047679 | B16: JOSE ELIAS | C16: AYUS FARIÑO | D16: Cedagro | E16: 9103 | F16: Instructor | G16: ACUÍCOLA Y DE PESCA | H16: ACUICULTURA | I16: Caballero | M16: 1 | N16: 1
A17: 8668134 | B17: LUIS JOSE | C17: BARRIOS DE LA HOZ | D17: Cedagro | E17: 9103 | F17: Instructor | G17: PEDAGOGÍA | H17: PEDAGOGÍA Y DIDÁCTICA PARA LA FORMACIÓN PROFESIONAL- RURAL | I17: Caballero | M17: 1 | N17: 1
A18: 72244004 | B18: ALFREDO | C18: BERMEJO | D18: Cedagro | E18: 9103 | F18: Instructor | G18: TELEINFORMATICA | H18: SOFTWARE EN AREA RURAL | I18: Caballero | N18: 1
A19: 72308250 | B19: JORGE LUIS | C19: BURITICA VELEZ | D19: Cedagro | E19: 9103 | F19: Instructor | G19: GESTIÓN ADMINISTRATIVA Y SERVICIOS FINANCIEROS | H19: CONTABILIDAD EN AREA RURAL | I19: Caballero | N19: 1
A20: 73143623 | B20: ROLAND | C20: CAMACHO MENDEZ | D20: Cedagro | E20: 9103 | F20: Instructor | G20: PECUARIA | H20: PRODUCCIÓN ESPECIES MENORES | I20: Caballero | M20: 2 | N20: 2
A21: 8678141 | B21: ALBERTO ANTONIO | C21: DE LA CRUZ LLANOS | D21: Cedagro | E21: 9103 | F21: Instructor | G21: ACUÍCOLA Y DE PESCA | H21: PESCA | I21: Caballero | M21: 1 | N21: 1
A22: 8750842 | B22: ARTURO RAFAEL | C22: DIAZ GUTIERREZ | D22: Cedagro | E22: 9103 | F22: Instructor | G22: AGRÍCOLA | H22: AGRICULTURA | I22: Caballero | M22: 1 | N22: 1
A23: 12539771 | B23: ALBERTO | C23: ESCANDON CAMARGO | D23: Cedagro | E23: 9103 | F23: Instructor | G23: AGRÍCOLA | H23: AGRICULTURA DE PRECISIÓN | I23: Caballero | M23: 1 | N23: 1
A24: 3735980 | B24: JAVIER EMILIO | C24: FERNANDEZ MARQUEZ | D24: Cedagro | E24: 9103 | F24: Instructor | G24: GESTIÓN ADMINISTRATIVA Y SERVICIOS FINANCIEROS | H24: GESTIÓN ADMINISTRATIVA EN AREA RURAL | I24: Caballero | N24: 1
A25: 72218427 | B25: JAVIER ENRIQUE | C25: GARCIA NORIEGA | D25: Cedagro | E25: 9103 | F25: Instructor | G25: AMBIENTAL | H25: BIODIVERSIDAD | I25: Caballero | M25: 1 | N25: 1
A26: 8736558 | B26: GIOVANNY WALTER | C26: IBANEZ PRADA | D26: Cedagro | E26: 9103 | F26: Instructor | G26: COORDINACIÓN ACADÉMICA | H26: ACUÍCOLA Y PESCA; AGRÍCOLA; AMBIENTAL; BIOTECNOLOGÍA, MINERÍA , PECUARIA | I26: Caballero | N26: 1
A27: 91279157 | B27: GERMAN DIEGO | C27: JAIMES AMAYA | D27: Cedagro | E27: 9103 | F27: Instructor | G27: AGRÍCOLA | H27: AGRICULTURA | I27: Caballero | M27: 1 | N27: 1
A28: 72336137 | B28: DANIEL EDUARDO | C28: MARTINEZ FLOREZ | D28: Cedagro | E28: 9103 | F28: Instructor | G28: LOGÍSTICA Y GESTIÓN DE LA PRODUCCIÓN | H28: SEGURIDAD Y SALUD EN EL TRABAJO EN AREA RURAL | I28: Caballero | N28: 1
A29: 18856398 | B29: ALFREDO DEL CRISTO | C29: MARTINEZ JARABA | D29: Cedagro | E29: 9103 | F29: Instructor | G29: PECUARIA | H29: PRODUCCIÓN ESPECIES MENORES | I29: Caballero | M29: 2 | N29: 2
A30: 8736056 | B30: RICARDO ANTONIO | C30: MAURY MARQUEZ | D30: Cedagro | E30: 9103 | F30: Instructor | G30: GESTIÓN ADMINISTRATIVA Y SERVICIOS FINANCIEROS | H30: GESTIÓN ADMINISTRATIVA EN AREA RURAL | I30: Caballero | N30: 1
A31: 84079411 | B31: CESAR | C31: MENDOZA ALVARADO | D31: Cedagro | E31: 9103 | F31: Instructor | G31: AMBIENTAL | H31: GESTIÓN AMBIENTAL SECTORIAL Y URBANA | I31: Caballero | N31: 1
A32: 12546499 | B32: ROBINSON ANTONIO | C32: OROZCO NIEBLES | D32: Cedagro | E32: 9103 | F32: Instructor | G32: COORDINACIÓN ACADÉMICA | H32: ACUÍCOLA Y PESCA; AGRÍCOLA; AMBIENTAL; BIOTECNOLOGÍA, MINERÍA , PECUARIA | I32: Caballero | N32: 1
A33: 8681710 | B33: EDUARDO | C33: PEÑA DAZA | D33: Cedagro | E33: 9103 | F33: Instructor | G33: AMBIENTAL | H33: BIODIVERSIDAD | I33: Caballero | M33: 1 | N33: 1
A34: 73071447 | B34: OSCAR DE JESUS | C34: PEREZ HERNANDEZ | D34: Cedagro | E34: 9103 | F34: Instructor | G34: AMBIENTAL | H34: FORESTAL | I34: Caballero | M34: 1 | N34: 1
A35: 72245421 | B35: VICTOR HUGO | C35: POLO CALVO | D35: Cedagro | E35: 9103 | F35: Instructor | G35: AMBIENTAL | H35: GESTIÓN AMBIENTAL SECTORIAL Y URBANA | I35: Caballero | N35: 1
A36: 8767113 | B36: JESER JOSUE | C36: SARMIENTO CORCHO | D36: Cedagro | E36: 9103 | F36: Instructor | G36: GESTIÓN ADMINISTRATIVA Y SERVICIOS FINANCIEROS | H36: TALENTO HUMANO EN AREA RURAL | I36: Caballero | N36: 1
A37: 1001993646 | B37: CARLOS ANDRES | C37: SUAZA MORENO | D37: Cedagro | E37: 9103 | F37: Instructor | G37: ENERGÍA ELÉCTRICA | H37: USO FINAL DE LA ENERGÍA ELÉCTRICA | I37: Caballero | N37: 1
A38: 72334620 | B38: GUILLERMO | C38: VEGA ORTEGA | D38: Cedagro | E38: 9103 | F38: Instructor | G38: AMBIENTAL | H38: GESTIÓN DEL RECURSO HIDRÍCO | I38: Caballero | M38: 1 | N38: 1
A39: 8711005 | B39: EDGARDO ANTONIO | C39: VILLALBA PEREZ | D39: Cedagro | E39: 9103 | F39: Instructor | G39: TELEINFORMATICA | H39: SOFTWARE EN AREA RURAL | I39: Caballero | N39: 1
A40: 94552425 | B40: ANDRES MAURICIO | C40: AGUIRRE ANTOLINEZ | D40: Colombo | E40: 9207 | F40: Instructor | G40: TELECOMUNICACIONES | H40: ADMINISTRACION DE PROYECTOS | I40: Caballero | N40: 1
A41: 8508887 | B41: MARLON | C41: AFRICANO FERRER | D41: Industrial | E41: 9208 | F41: Instructor | G41: AEROESAECIAL | H41: TLA / TLH AVIONES Y HELICÓPTEROS | I41: Caballero | N41: 1
A42: 8704399 | B42: ALFREDO JUAQUIN | C42: ALCOCER CORVACHO | D42: Industrial | E42: 9208 | F42: Instructor | G42: CONSTRUCCION | H42: CONSTRUCCION EN CENTRO Y URBANO | I42: Caballero | N42: 1
A43: 8667308 | B43: FELIX JOSE | C43: AMARIS JACOME | D43: Industrial | E43: 9208 | F43: Instructor | G43: CONSTRUCCION | H43: CONSTRUCCION EN CENTRO Y URBANO | I43: Caballero | N43: 1
A44: 13494656 | B44: JESUS EMEL | C44: AREVALO VELASQUEZ | D44: Industrial | E44: 9208 | F44: Instructor | G44: AEROESAECIAL | H44: TLA / TLH AVIONES Y HELICÓPTEROS | I44: Caballero | N44: 1
A45: 72139424 | B45: LUIS CARLOS | C45: ARIAS BUTRON | D45: Industrial | E45: 9208 | F45: Instructor | G45: CONSTRUCCION | H45: ARQUITECTURA Y DECORACION | I45: Caballero | N45: 1
A46: 8675081 | B46: ALVARO JOSE | C46: ARRAZOLA BENITEZ | D46: Industrial | E46: 9208 | F46: Instructor | G46: MATERIALES PARA LA INDUSTRIA | H46: TRASNFORMACIÓN DE LA MADERA TAPIZ ADO Y PINTURA | I46: Caballero | N46: 1
A47: 8667023 | B47: RAFAEL | C47: BARRAZA FERNANDEZ | D47: Industrial | E47: 9208 | F47: Instructor | G47: CONSTRUCCION | H47: CONSTRUCCION EN CENTRO Y URBANO | I47: Caballero | N47: 1
A48: 19473985 | B48: JORGE ARTURO | C48: BENAVIDES DUARTE | D48: Industrial | E48: 9208 | F48: Instructor | G48: AUTOMOTOR | H48: MECATRÓNICA AUTOMOTRIZ | I48: Caballero | N48: 1
A49: 92531299 | B49: HEBER | C49: CASTRO BARRETO | D49: Industrial | E49: 9208 | F49: Instructor | G49: AEROESAECIAL | H49: TEEI ELECTRICIDAD ELECTRÓNICA E INSTRUMENTOS DE AERONAVES | I49: Caballero | N49: 1
A50: 8772657 | B50: OSVALDO JOSE | C50: CASTRO MOLINA | D50: Industrial | E50: 9208 | F50: Instructor | G50: INFRAESTRUCTURA | H50: OBRAS CIVILES | I50: Caballero | N50: 1
... A66: 12613007 | B66: RAMIRO | C66: MANRIQUE NAVARRO | D66: Industrial | E66: 9208 | F66: Instructor | G66: AUTOMOTOR | H66: MECATRÓNICA AUTOMOTRIZ | I66: Caballero | N66: 1
A67: 92642283 | B67: ROBERTO CARLOS | C67: MENDOZA CARDENAS | D67: Industrial | E67: 9208 | F67: Instructor | G67: ACTIVIDAD FÍSICA, DEPORTE Y RECREACIÓN | H67: DEPORTE | I67: Caballero | L67: 2
A68: 79334598 | B68: OSCAR YEZID | C68: NEIRA PEREZ | D68: Industrial | E68: 9208 | F68: Instructor | G68: COORDINACIÓN ACADÉMICA | H68: AEROPARCIAL; ARTES GRÁFICAS, ARTESANÍA Y JOYERÍA; AUTOMOTOR; CONSTRUCCIÓN; INFRAESTRUCTURA; CUERO CALZADO Y MARROQUINERÍA; ELECTRÓNICA, INSTRUMENTALIZACIÓN Y AUTOMATIZACIÓN; ENERGÍA ELÉCTRICA; HIDROCARBUROS, TRANSPORTE; MATERIALES PARA LA CONSTRUCCIÓN; MECÁNICA INDUSTRIAL, QUÍMICA APLICADA ;TELECOMUNICACIONES; TEXTIL, CONFECCIÓN, DISEÑO Y MODA | I68: Caballero | N68: 1
A69: 72201126 | B69: RODOLFO DE JESÚS | C69: NUÑEZ CAMPO | D69: Industrial | E69: 9208 | F69: Instructor | G69: ACTIVIDAD FÍSICA, DEPORTE Y RECREACIÓN | H69: DEPORTE | I69: Caballero | L69: 2
A70: 72162104 | B70: ALEJANDRO | C70: OLASCUAGA ARRAZOLA | D70: Industrial | E70: 9208 | F70: Instructor | G70: AUTOMOTOR | H70: MANTENIMIENTO ELECTRONICO DE EQUIPO PESADO | I70: Caballero | N70: 1
A71: 79473263 | B71: FERNEY | C71: ORTIZ ACERO | D71: Industrial | E71: 9208 | F71: Instructor | G71: AEROESAECIAL | H71: TEEI ELECTRICIDAD ELECTRÓNICA E INSTRUMENTOS DE AERONAVES | I71: Caballero | N71: 1
A72: 8719788 | B72: ARMANDO DE JESUS | C72: PABON PACHECO | D72: Industrial | E72: 9208 | F72: Instructor | G72: AUTOMOTOR | H72: MECATRÓNICA AUTOMOTRIZ | I72: Caballero | N72: 1
A73: 8741693 | B73: WILLIAM | C73: PATINO CUBEROS | D73: Industrial | E73: 9208 | F73: Instructor | G73: AEROESAECIAL | H73: TLA / TLH AVIONES Y HELICÓPTEROS | I73: Caballero | N73: 1
A74: 7594044 | B74: JORGE LUIS | C74: PEDROZA CABALLERO | D74: Industrial | E74: 9208 | F74: Instructor | G74: COORDINACIÓN ACADÉMICA | H74: AEROPARCIAL; ARTES GRÁFICAS, ARTESANÍA Y JOYERÍA; AUTOMOTOR; CONSTRUCCIÓN; INFRAESTRUCTURA; CUERO CALZADO Y MARROQUINERÍA; ELECTRÓNICA, INSTRUMENTALIZACIÓN Y AUTOMATIZACIÓN; ENERGÍA ELÉCTRICA; HIDROCARBUROS, TRANSPORTE; MATERIALES PARA LA CONSTRUCCIÓN; MECÁNICA INDUSTRIAL, QUÍMICA APLICADA ;TELECOMUNICACIONES; TEXTIL, CONFECCIÓN, DISEÑO Y MODA | I74: Caballero | N74: 1
A75: 73132698 | B75: HARVEY ENRIQUE | C75: PEREZ GONZALEZ | D75: Industrial | E75: 9208 | F75: Instructor | G75: AUTOMOTOR | H75: MECATRÓNICA AUTOMOTRIZ | I75: Caballero | N75: 1
A76: 72124739 | B76: ELBERTO | C76: PERTUZ DE LA HOZ | D76: Industrial | E76: 9208 | F76: Instructor | G76: INFRAESTRUCTURA | H76: OBRAS CIVILES | I76: Caballero | N76: 1
A77: 72156802 | B77: EDWIN RAFAEL | C77: POLO OSORIO | D77: Industrial | E77: 9208 | F77: Instructor | G77: AUTOMOTOR | H77: HIDRAULICA Y NEUMATICA | I77: Caballero | N77: 1
A78: 8728323 | B78: KENDRY ALEXANDER | C78: PRIETO GARCIA | D78: Industrial | E78: 9208 | F78: Instructor | G78: AUTOMOTOR | H78: MECATRÓNICA AUTOMOTRIZ | I78: Caballero | N78: 1
A79: 8748194 | B79: EUGENIO NELSON | C79: REY CELI | D79: Industrial | E79: 9208 | F79: Instructor | G79: AUTOMOTOR | H79: MECATRÓNICA AUTOMOTRIZ | I79: Caballero | N79: 1
A80: 79222408 | B80: JHON JAIRO | C80: RODRIGUEZ TORRES | D80: Industrial | E80: 9208 | F80: Instructor | G80: MATERIALES PARA LA INDUSTRIA | H80: DISEÑO MOBILARIO Y DE PRODUCTOS INDUSTRIALES | I80: Caballero | N80: 1
A81: 72002742 | B81: JANSEN JOAN MICHELL | C81: RUEDA LEON | D81: Industrial | E81: 9208 | F81: Instructor | G81: INFRAESTRUCTURA | H81: TOPOGRAFIA | I81: Caballero | N81: 1
... A88: 72005788 | B88: JHONNY ALBERTO | C88: ARIZA ARNEDO | D88: Colombo | E88: 9207 | F88: Instructor | G88: TELEINFORMATICA | H88: INFRAESTRUCTURA EN CENTRO Y AREAS URBANAS | I88: Caballero | N88: 1
A89: 72270791 | B89: WILMAN ENRIQUE | C89: ARIZA CEPEDA | D89: Colombo | E89: 9207 | F89: Instructor | G89: ELECTRONICA Y AUTOMATIZACION | H89: AUTOMATICACION INDUSTRIAL | I89: Caballero | M89: 1 | N89: 1
A90: 8731192 | B90: ALFREDO WILLIAM | C90: BARRIOS GALVEZ | D90: Colombo | E90: 9207 | F90: Instructor | G90: MECANICA INDUSTRIAL | H90: SOLDADURA | I90: Caballero | N90: 1
A91: 8666232 | B91: ALFONSO | C91: CAMPOS DE LOS REYES | D91: Colombo | E91: 9207 | F91: Instructor | G91: ELECTRONICA Y AUTOMATIZACION | H91: ELECTRÓNICA EN CENTRO Y ÁREA URBANA | I91: Caballero | N91: 1
A92: 72221851 | B92: ROBERTO DE JESUS | C92: CANTILLO ORTIZ | D92: Colombo | E92: 9207 | F92: Instructor | G92: TELEINFORMATICA | H92: INFRAESTRUCTURA EN CENTRO Y AREAS URBANAS | I92: Caballero | N92: 1
A93: 8731316 | B93: CARLOS ARTURO | C93: CHARRIS GOMEZ | D93: Colombo | E93: 9207 | F93: Instructor | G93: MECANICA INDUSTRIAL | H93: MECANIZADO | I93: Caballero | N93: 1
A94: 72278541 | B94: Oscar Rogers | C94: Coley Sisa | D94: Colombo | E94: 9207 | F94: Instructor | G94: MECANICA INDUSTRIAL | H94: SOLDADURA | I94: Caballero | N94: 1
A95: 8750762 | B95: ERNESTO ERASMO | C95: DIAZ REDONDO | D95: Colombo | E95: 9207 | F95: Instructor | G95: ENERGÍA ELÉCTRICA | H95: GENERACION DE LA ENERGIA ELECTRICA | I95: Caballero | N95: 1
A96: 72281593 | B96: RODOLFO ANDRES | C96: DONADO CARDOZA | D96: Colombo | E96: 9207 | F96: Instructor | G96: MECANICA INDUSTRIAL | H96: DISEÑO MECANICO | I96: Caballero | N96: 1
A97: 72128522 | B97: NICOLAS JOSE | C97: ESCORCIA GALVAN | D97: Colombo | E97: 9207 | F97: Instructor | G97: MECANICA INDUSTRIAL | H97: MECANIZADO | I97: Caballero | N97: 1
A98: 12598159 | B98: GEWIN ALFONSO | C98: FERNANDEZ CACERES | D98: Colombo | E98: 9207 | F98: Instructor | G98: ELECTRONICA Y AUTOMATIZACION | H98: ELECTRÓNICA EN CENTRO Y ÁREA URBANA | I98: Caballero | N98: 1
A99: 72126546 | B99: NARCISO ELIAS | C99: GARAVITO SERRANO | D99: Colombo | E99: 9207 | F99: Instructor | G99: MECANICA INDUSTRIAL | H99: MANTENIMIENTO MECANICO INDUSTRIAL | I99: Caballero | N99: 1
A100: 14702991 | B100: EFREN HUMBERTO | C100: GARCÍA CLAVIJO | D100: Colombo | E100: 9207 | F100: Instructor | G100: MATERIALES PARA LA INDUSTRIA | H100: DISEÑO MOBILARIO Y DE PRODUCTOS INDUSTRIALES | I100: Caballero | N100: 1
A101: 72196390 | B101: SALIM | C101: GIHA YIDI | D101: Colombo | E101: 9207 | F101: Instructor | G101: ENERGÍA ELÉCTRICA | H101: USO FINAL DE LA ENERGÍA ELÉCTRICA | I101: Caballero | N101: 1
... A113: 70551765 | B113: ROBERTO | C113: MORALES HEILBRON | D113: Colombo | E113: 9207 | F113: Instructor | G113: COORDINACIÓN ACADÉMICA | H113: AEROPARCIAL; ARTES GRÁFICAS, ARTESANÍA Y JOYERÍA; AUTOMOTOR; CONSTRUCCIÓN; INFRAESTRUCTURA; CUERO CALZADO Y MARROQUINERÍA; ELECTRÓNICA, INSTRUMENTALIZACIÓN Y AUTOMATIZACIÓN; ENERGÍA ELÉCTRICA; HIDROCARBUROS, TRANSPORTE; | I113: Caballero | N113: 1
A114: 8534354 | B114: JAVIER ANTONIO | C114: MORENO SALTARIN | D114: Colombo | E114: 9207 | F114: Instructor | G114: ELECTRONICA Y AUTOMATIZACION | H114: AUTOMATICACION INDUSTRIAL | I114: Caballero | M114: 1 | N114: 1
A115: 8499290 | B115: GERMAN EMILIANO | C115: OCHOA ESCORCIA | D115: Colombo | E115: 9207 | F115: Instructor | G115: ELECTRONICA Y AUTOMATIZACION | H115: INSTRUMENTACION Y CONTROL DE PROCESOS | I115: Caballero | N115: 1
A116: 73431460 | B116: SEGUNDO RAFAEL | C116: OLIVERA MARTÍNEZ | D116: Colombo | E116: 9207 | F116: Instructor | G116: MECANICA INDUSTRIAL | H116: SOLDADURA | I116: Caballero | N116: 1
A117: 8713007 | B117: JONIS ALFONSO | C117: ORTEGA GUTIERREZ | D117: Colombo | E117: 9207 | F117: Instructor | G117: ELECTRONICA Y AUTOMATIZACION | H117: ELECTRÓNICA EN CENTRO Y ÁREA URBANA | I117: Caballero | N117: 1
A118: 8678219 | B118: MIGUEL ENRIQUE | C118: PENA SARA | D118: Colombo | E118: 9207 | F118: Instructor | G118: MECANICA INDUSTRIAL | H118: MANTENIMIENTO MECANICO INDUSTRIAL | I118: Caballero | N118: 1
A119: 72008206 | B119: ELKIN DAVID | C119: PERTUZ RADA | D119: Colombo | E119: 9207 | F119: Instructor | G119: ELECTRONICA Y AUTOMATIZACION | H119: INSTRUMENTACION Y CONTROL DE PROCESOS | I119: Caballero | N119: 1
A120: 72216082 | B120: RAFAEL HUMBERTO | C120: QUIROZ ROMERO | D120: Colombo | E120: 9207 | F120: Instructor | G120: MECANICA INDUSTRIAL | H120: SOLDADURA | I120: Caballero | N120: 1
A121: 72127081 | B121: JOSE JAVIER | C121: RAMIREZ GOMEZ | D121: Colombo | E121: 9207 | F121: Instructor | G121: ELECTRONICA Y AUTOMATIZACION | H121: AUTOMATICACION INDUSTRIAL | I121: Caballero | M121: 1 | N121: 1
A122: 72208727 | B122: CARLOS ALBERTO | C122: RODRIGUEZ BAEZ | D122: Colombo | E122: 9207 | F122: Instructor | G122: TELECOMUNICACIONES | H122: ADMINISTRACION DE PROYECTOS | I122: Caballero | N122: 1
A123: 72126318 | B123: ALBEIRO PASTOR | C123: RODRIGUEZ RAMIREZ | D123: Colombo | E123: 9207 | F123: Instructor | G123: MECANICA INDUSTRIAL | H123: METROLOGIA | I123: Caballero | N123: 1
A124: 72338867 | B124: WILFRIDO | C124: ROMERO DOMINGUEZ | D124: Colombo | E124: 9207 | F124: Instructor | G124: MECANICA INDUSTRIAL | H124: MECANIZADO | I124: Caballero | N124: 1
A125: 1143115362 | B125: CARLOS ALBERTO | C125: SABALZA ROJANO | D125: Colombo | E125: 9207 | F125: Instructor | G125: MECANICA INDUSTRIAL | H125: MECANIZADO | I125: Caballero | N125: 1
A126: 1045676011 | B126: JOHN JAIRO | C126: SALZEDO VILORIA | D126: Colombo | E126: 9207 | F126: Instructor | G126: ELECTRONICA Y AUTOMATIZACION | H126: MECATRONICA | I126: Caballero | N126: 1
A127: 72214669 | B127: FREDDY | C127: SANJUAN SALCEDO | D127: Colombo | E127: 9207 | F127: Instructor | G127: MECANICA INDUSTRIAL | H127: METROLOGIA | I127: Caballero | N127: 1
A128: 72233468 | B128: CARLOS ANDRÉS | C128: SCHOONEWOLF DE LA ASUNCIÓ | D128: Colombo | E128: 9207 | F128: Instructor | G128: ELECTRONICA Y AUTOMATIZACION | H128: ELECTRÓNICA EN CENTRO Y ÁREA URBANA | I128: Caballero | N128: 1
A129: 72216615 | B129: JOSE ANTONIO | C129: SIERRA SALAZAR | D129: Colombo | E129: 9207 | F129: Instructor | G129: MECANICA INDUSTRIAL | H129: MANTENIMIENTO MECANICO INDUSTRIAL | I129: Caballero | N129: 1
A130: 8508352 | B130: ALDO JOSE | C130: SILVERA SERRANO | D130: Colombo | E130: 9207 | F130: Instructor | G130: MECANICA INDUSTRIAL | H130: MANTENIMIENTO MECANICO INDUSTRIAL | I130: Caballero | N130: 1
A131: 3715005 | B131: JACINTO | C131: TORRES CARVAJAL | D131: Colombo | E131: 9207 | F131: Instructor | G131: ELECTRONICA Y AUTOMATIZACION | H131: INSTRUMENTACION Y CONTROL DE PROCESOS | I131: Caballero | N131: 1
A132: 8702387 | B132: CESAR AUGUSTO | C132: VELEZ BETANCOURT | D132: Colombo | E132: 9207 | F132: Instructor | G132: COORDINACIÓN ACADÉMICA | H132: AEROPARCIAL; ARTES GRÁFICAS, ARTESANÍA Y JOYERÍA; AUTOMOTOR; CONSTRUCCIÓN; INFRAESTRUCTURA; CUERO CALZADO Y MARROQUINERÍA; ELECTRÓNICA, INSTRUMENTALIZACIÓN Y AUTOMATIZACIÓN; ENERGÍA ELÉCTRICA; HIDROCARBUROS, TRANSPORTE; | I132: Caballero | N132: 1
...

Sheet ROPA TO
A1: TRABAJADORES OFICIALES CENTRO NACIONAL COLOMBO ALEMAN | E1: Cantidad De Prendas Según Lo Establecido En El Artículo 79 De La Convención Colectiva De Trabajo
A2: Identificación | B2: Nombres | C2: Apellidos | D2: Descripción Cargo | E2: VESTIDO DE CALLE PARA MUJER | F2: ANTIFLUIDO | G2: CAMISA MANGA LARGA | H2: PANTALON FORMAL | I2: VESTIDO PARA HOMBRE | J2: OVEROL
A3: 8734424 | B3: JOSE LUIS | C3: MAESTRE BADDINES | D3: Conductor G10 | E3: 0 | F3: 0 | G3: 3 | H3: 0 | I3: 4 | J3: 3
A4: 32832041 | B4: DIANA MARCEL | C4: LUBO SOBRINO | D4: Aseador(a) G10 | E4: 5 | F4: 2 | G4: 0 | H4: 0 | I4: 0 | J4: 0
A5: 32689082 | B5: OSIRIS CARINA | C5: OROZCO REJTMAN | D5: Aseador(a) G10 | E5: 5 | F5: 2 | G5: 0 | H5: 0 | I5: 0 | J5: 0
A6: 32863190 | B6: XIOMARA DEL SOCORRO | C6: MORA GENECCO | D6: Aseador(a) G10 | E6: 5 | F6: 2 | G6: 0 | H6: 0 | I6: 0 | J6: 0
A7: 32776061 | B7: ELIZABETH | C7: QUIROGA LUQUE | D7: Aseador(a) G08 | E7: 5 | F7: 2 | G7: 0 | H7: 0 | I7: 0 | J7: 0
A8: 3741101 | B8: SIGIFREDO | C8: MARTINEZ SANTIAGO | D8: Operario Mtto Gral.G10 | E8: 0 | F8: 0 | G8: 5 | H8: 5 | I8: 0 | J8: 2
A9: 72204326 | B9: BENJAMIN ENRIQUE | C9: PEDROZO ROCHA | D9: Oficial Mantto Gral.G10 | E9: 0 | F9: 0 | G9: 5 | H9: 5 | I9: 0 | J9: 2
A10: 72307469 | B10: LUIS GUILLERMO | C10: MARTINEZ CASTRO | D10: Oficial Mantto Gral.G10 | E10: 0 | F10: 0 | G10: 5 | H10: 5 | I10: 0 | J10: 2
A11: 72212081 | B11: ANTONIO ENRIQUE | C11: RIOS PALMA | D11: Oficial Mantto Gral.G10 | E11: 0 | F11: 0 | G11: 5 | H11: 5 | I11: 0 | J11: 2
A12: 1129537158 | B12: HERMINZUL RAFAEL | C12: MARTINEZ CASTRO | D12: Oficial Mantto Gral.G10 | E12: 0 | F12: 0 | G12: 5 | H12: 5 | I12: 0 | J12: 2
A13: 77168360 | B13: ISAAC ELIAS | C13: BLANCO GULLO | D13: Trabajador de Campo G10 | E13: 0 | F13: 0 | G13: 5 | H13: 5 | I13: 0 | J13: 2
A14: TOTALES | E14: =+E3+E4+E5+E6+E7+E8+E9+E10+E11+E12+E13 -> 20 | F14: =SUM(F3:F13) -> 8 | G14: =SUM(G3:G13) -> 33 | H14: =SUM(H3:H13) -> 30 | I14: =SUM(I3:I13) -> 4 | J14: =SUM(J3:J13) -> 15
A16: TRABAJADORES OFICIALES CENTRO INDUSTRIAL Y DE AVIACION | E16: Cantidad De Prendas Según Lo Establecido En El Artículo 79 De La Convención Colectiva De Trabajo
A17: Identificación | B17: Nombres | C17: Apellidos | D17: Descripción Cargo | E17: VESTIDO DE CALLE PARA MUJER | F17: ANTIFLUIDO | G17: CAMISA MANGA LARGA | H17: PANTALON FORMAL | I17: VESTIDO PARA HOMBRE | J17: OVEROL
A18: 72129758 | B18: SURIO | C18: CHARRIS ECHAVEZ | D18: Conductor G09 | E18: 0 | F18: 0 | G18: 3 | H18: 0 | I18: 4 | J18: 3
A19: 72149309 | B19: VICTOR MANUEL | C19: URINA ELJAIEK | D19: Conductor G10 | E19: 0 | F19: 0 | G19: 3 | H19: 0 | I19: 4 | J19: 3
A20: 19581944 | B20: PEDRO ANTONIO | C20: TOBIAS RANGEL | D20: Oficial Mantto Gral.G10 | E20: 0 | F20: 0 | G20: 5 | H20: 5 | I20: 0 | J20: 2
A21: 72215198 | B21: HUGO RAMON | C21: PEREZ MARQUEZ | D21: Oficial Mantto Gral.G10 | E21: 0 | F21: 0 | G21: 5 | H21: 5 | I21: 0 | J21: 2
A22: 72095909 | B22: ORLANDO JESUS | C22: SARMIENTO ACENDRA | D22: Oficial Mantto Gral.G09 | E22: 0 | F22: 0 | G22: 5 | H22: 5 | I22: 0 | J22: 2
A23: 72016351 | B23: NELSON ENRIQUE | C23: LUBO SOBRINO | D23: Oficial Mantto Gral.G10 | E23: 0 | F23: 0 | G23: 5 | H23: 5 | I23: 0 | J23: 2
A24: 8637502 | B24: ALFREDO RAFAEL | C24: HURTADO NAVARRO | D24: Trabajador de Campo G10 | E24: 0 | F24: 0 | G24: 5 | H24: 5 | I24: 0 | J24: 2
A25: 72052410 | B25: DAIRO ANTONIO | C25: CHARRIS TERNERA | D25: Operario Mtto Gral.G08 | E25: 0 | F25: 0 | G25: 5 | H25: 5 | I25: 0 | J25: 2
A26: 72003459 | B26: JOSE LUIS | C26: PEDROZO ROCHA | D26: Operario Mtto Gral.G10 | E26: 0 | F26: 0 | G26: 5 | H26: 5 | I26: 0 | J26: 2
A27: 1143431792 | B27: ANDERSON | C27: MEZA CASTILLO | D27: Operario Mtto Gral.G10 | E27: 0 | F27: 0 | G27: 5 | H27: 5 | I27: 0 | J27: 2
A28: 18936295 | B28: FABIO ALBERTO | C28: PINZON REALES | D28: Trabajador de Campo G10 | E28: 0 | F28: 0 | G28: 5 | H28: 5 | I28: 0 | J28: 2
A29: 3741720 | B29: JULIO ALBERTO | C29: ORELLANO VARELA | D29: Trabajador de Campo G10 | E29: 0 | F29: 0 | G29: 5 | H29: 5 | I29: 0 | J29: 2
... A32: 32644510 | B32: ELIZABETH | C32: DIAZ ESTRADA | D32: Aseador(a) G10 | E32: 5 | F32: 2 | G32: 0 | H32: 0 | I32: 0 | J32: 0
A33: TOTALES | E33: =+E30+E31+E32 -> 15 | F33: =+F30+F31+F32 -> 6 | G33: =+G18+G19+G20+G21+G22+G24+G23+G25+G26+G27+G28+G29 -> 56 | H33: =+H20+H21+H22+H23+H24+H25+H26+H27+H28+H29 -> 50 | I33: =+I18+I19 -> 8 | J33: =+J18+J19+J20+J21+J22+J23+J24+J25+J26+J27+J28+J29 -> 26
A35: TRABAJADORES OFICIALES CENTRO DE COMERCIO Y SERVICIOS | E35: Cantidad De Prendas Según Lo Establecido En El Artículo 79 De La Convención Colectiva De Trabajo
A36: Identificación | B36: Nombres | C36: Apellidos | D36: Descripción Cargo | E36: VESTIDO DE CALLE PARA MUJER | F36: ANTIFLUIDO | G36: CAMISA MANGA LARGA | H36: PANTALON FORMAL | I36: VESTIDO PARA HOMBRE | J36: OVEROL
A37: 50904874 | B37: JAIDITH MARIA | C37: LOPEZ MENDOZA | D37: Aseador(a) G10 | E37: 5 | F37: 2 | G37: 0 | H37: 0 | I37: 0 | J37: 0
A38: 33218039 | B38: LUDYS | C38: MEDINA VILLARREAL | D38: Aseador(a) G10 | E38: 5 | F38: 2 | G38: 0 | H38: 0 | I38: 0 | J38: 0
A39: 32724514 | B39: ENEIDA MARIA | C39: JIMENEZ MARQUEZ | D39: Aseador(a) G10 | E39: 5 | F39: 2 | G39: 0 | H39: 0 | I39: 0 | J39: 0
A40: 22569347 | B40: MARIA ANGELICA | C40: CASTRO SARMIENTO | D40: Aseador(a) G10 | E40: 5 | F40: 2 | G40: 0 | H40: 0 | I40: 0 | J40: 0
A41: 22426931 | B41: HELENA ISABEL | C41: STAND BUITRAGO | D41: Aseador(a) G10 | E41: 5 | F41: 2 | G41: 0 | H41: 0 | I41: 0 | J41: 0
A42: 32713496 | B42: CARMEN EUGENIA | C42: MONSALVO PADILLA | D42: Aseador(a) G10 | E42: 5 | F42: 2 | G42: 0 | H42: 0 | I42: 0 | J42: 0
A43: 55227929 | B43: DIANA MARCELA | C43: MUÑOZ ALMARIO | D43: Aseador(a) G05 | E43: 5 | F43: 2 | G43: 0 | H43: 0 | I43: 0 | J43: 0
A44: 8691864 | B44: MANUEL SALVADOR | C44: BUSTOS HERNANDES | D44: Conductor G10 | E44: 0 | F44: 0 | G44: 3 | H44: 0 | I44: 4 | J44: 3
A45: 8692408 | B45: EMIRO RAFAEL | C45: MEZA MEZA | D45: Conductor G10 | E45: 0 | F45: 0 | G45: 3 | H45: 0 | I45: 4 | J45: 3
A46: 10897324 | B46: OSCAR | C46: HERNANDEZ CHIMA | D46: Oficial Mantto Gral.G10 | E46: 0 | F46: 0 | G46: 5 | H46: 5 | I46: 0 | J46: 2
A47: 7601428 | B47: ALFREDO EUGENIO | C47: GRANADOS GARAY | D47: Oficial Mantto Gral.G06 | E47: 0 | F47: 0 | G47: 5 | H47: 5 | I47: 0 | J47: 2
A48: 8372179 | B48: ADOLFO | C48: CHAVEZ GOMEZ | D48: Operario Mtto Gral.G08 | E48: 0 | F48: 0 | G48: 5 | H48: 5 | I48: 0 | J48: 2
... A51: 3741363 | B51: FILIBERTO | C51: MARTES MENDOZA | D51: Trabajador de Campo G09 | E51: 0 | F51: 0 | G51: 5 | H51: 5 | I51: 0 | J51: 2
A52: TOTALES | E52: =+E37+E38+E39+E40+E41+E42+E43 -> 35 | F52: =+F37+F38+F39+F40+F41+F42+F43+F50 -> 16 | G52: =+G44+G45+G46+G47+G48+G49+G51+G50 -> 36 | H52: =+H46+H47+H48+H49+H50+H51 -> 30 | I52: =+I44+I45 -> 8 | J52: =+J44+J45+J46+J47+J48+J49+J50+J51 -> 16
A54: TRABAJADORES OFICIALES CEDAGRO | E54: Cantidad De Prendas Según Lo Establecido En El Artículo 79 De La Convención Colectiva De Trabajo
A55: Identificación | B55: Nombres | C55: Apellidos | D55: Descripción Cargo | E55: VESTIDO DE CALLE PARA MUJER | F55: ANTIFLUIDO | G55: CAMISA MANGA LARGA | H55: PANTALON FORMAL | I55: VESTIDO PARA HOMBRE | J55: OVEROL
A56: 22662208 | B56: MABEL LUZ | C56: SALAS FERRER | D56: Aseador(a) G10 | E56: 5 | F56: 2 | G56: 0 | H56: 0 | I56: 0 | J56: 0
A57: 8722504 | B57: MARVIN JOAQUIN | C57: ACOSTA CHEGWIN | D57: Conductor G10 | E57: 0 | F57: 0 | G57: 3 | H57: 0 | I57: 4 | J57: 3
A58: 8635934 | B58: ZOILO ENRIQ | C58: MACHACON SARMIENTO | D58: Trabajador de Campo G10 | E58: 0 | F58: 0 | G58: 5 | H58: 5 | I58: 0 | J58: 2
A59: TOTALES | E59: =+E56 -> 5 | F59: =+F56 -> 2 | G59: =+G57+G58 -> 8 | H59: =+H58 -> 5 | I59: =+I57 -> 4 | J59: =+J57+J58 -> 5
A60: TOTAL TODO EL PROCESO | E60: =+E14+E33+E52+E59 -> 75 | F60: =+F14+F33+F52+F59 -> 32 | G60: =+G59+G52+G33+G14 -> 133 | H60: =+H59+H52+H33+H14 -> 115 | I60: =+I59+I52+I33+I14 -> 24 | J60: =+J59+J52+J33+J14 -> 62

Sheet CALZADO TO
A1: TRABAJADORES OFICIALES CENTRO NACIONAL COLOMBO ALEMAN | E1: Cantidad De calzado Según Lo Establecido En El Artículo 79 De La Convención Colectiva De Trabajo
A2: Identificación | B2: Nombres | C2: Apellidos | D2: Descripción Cargo | E2: CALZADO (MTTO Y CONDUCTOR) HOMBRE | F2: CALZADO MUJER
A3: 8734424 | B3: JOSE LUIS | C3: MAESTRE BADDINES | D3: Conductor G10 | E3: 2
A4: 32832041 | B4: DIANA MARCEL | C4: LUBO SOBRINO | D4: Aseador(a) G10 | F4: 4
A5: 32689082 | B5: OSIRIS CARINA | C5: OROZCO REJTMAN | D5: Aseador(a) G10 | F5: 4
A6: 32863190 | B6: XIOMARA DEL SOCORRO | C6: MORA GENECCO | D6: Aseador(a) G10 | F6: 4
A7: 32776061 | B7: ELIZABETH | C7: QUIROGA LUQUE | D7: Aseador(a) G08 | F7: 4
A8: 3741101 | B8: SIGIFREDO | C8: MARTINEZ SANTIAGO | D8: Operario Mtto Gral.G10 | E8: 4
A9: 72204326 | B9: BENJAMIN ENRIQUE | C9: PEDROZO ROCHA | D9: Oficial Mantto Gral.G10 | E9: 4
A10: 72307469 | B10: LUIS GUILLERMO | C10: MARTINEZ CASTRO | D10: Oficial Mantto Gral.G10 | E10: 4
A11: 72212081 | B11: ANTONIO ENRIQUE | C11: RIOS PALMA | D11: Oficial Mantto Gral.G10 | E11: 4
A12: 1129537158 | B12: HERMINZUL RAFAEL | C12: MARTINEZ CASTRO | D12: Oficial Mantto Gral.G10 | E12: 4
A13: 77168360 | B13: ISAAC ELIAS | C13: BLANCO GULLO | D13: Trabajador de Campo G10 | E13: 4
A14: TOTALES | E14: =+E3+E8+E10+E9+E11+E12+E13 -> 26 | F14: =+F4+F5+F6+F7 -> 16
A16: TRABAJADORES OFICIALES CENTRO INDUSTRIAL Y DE AVIACION | E16: Cantidad De calzado Según Lo Establecido En El Artículo 79 De La Convención Colectiva De Trabajo
A17: Identificación | B17: Nombres | C17: Apellidos | D17: Descripción Cargo | E17: CALZADO (MTTO Y CONDUCTOR) HOMBRE | F17: CALZADO MUJER
A18: 72129758 | B18: SURIO | C18: CHARRIS ECHAVEZ | D18: Conductor G09 | E18: 2
A19: 72149309 | B19: VICTOR MANUEL | C19: URINA ELJAIEK | D19: Conductor G10 | E19: 2
A20: 19581944 | B20: PEDRO ANTONIO | C20: TOBIAS RANGEL | D20: Oficial Mantto Gral.G10 | E20: 4
A21: 72215198 | B21: HUGO RAMON | C21: PEREZ MARQUEZ | D21: Oficial Mantto Gral.G10 | E21: 4
A22: 72095909 | B22: ORLANDO JESUS | C22: SARMIENTO ACENDRA | D22: Oficial Mantto Gral.G09 | E22: 4
A23: 72016351 | B23: NELSON ENRIQUE | C23: LUBO SOBRINO | D23: Oficial Mantto Gral.G10 | E23: 4
A24: 8637502 | B24: ALFREDO RAFAEL | C24: HURTADO NAVARRO | D24: Trabajador de Campo G10 | E24: 4
A25: 72052410 | B25: DAIRO ANTONIO | C25: CHARRIS TERNERA | D25: Operario Mtto Gral.G08 | E25: 4
A26: 72003459 | B26: JOSE LUIS | C26: PEDROZO ROCHA | D26: Operario Mtto Gral.G10 | E26: 4
A27: 1143431792 | B27: ANDERSON | C27: MEZA CASTILLO | D27: Operario Mtto Gral.G10 | E27: 4
A28: 18936295 | B28: FABIO ALBERTO | C28: PINZON REALES | D28: Trabajador de Campo G10 | E28: 4
A29: 3741720 | B29: JULIO ALBERTO | C29: ORELLANO VARELA | D29: Trabajador de Campo G10 | E29: 4
A30: 32864190 | B30: PATRICIA JUDI | C30: MARTINEZ GUTIERREZ | D30: Aseador(a) G10 | F30: 4
A31: 51766110 | B31: MARIA DE LOS SANT | C31: ALMARIO PEÑA | D31: Aseador(a) G10 | F31: 4
A32: 32644510 | B32: ELIZABETH | C32: DIAZ ESTRADA | D32: Aseador(a) G10 | F32: 4
A33: TOTALES | E33: =+E18+E19+E20+E21+E22+E23+E24+E25+E26+E27+E28+E29 -> 44 | F33: =+F30+F31+F32 -> 12
A35: TRABAJADORES OFICIALES CENTRO DE COMERCIO Y SERVICIOS | E35: Cantidad De calzado Según Lo Establecido En El Artículo 79 De La Convención Colectiva De Trabajo
A36: Identificación | B36: Nombres | C36: Apellidos | D36: Descripción Cargo | E36: CALZADO (MTTO Y CONDUCTOR) HOMBRE | F36: CALZADO MUJER
A37: 50904874 | B37: JAIDITH MARIA | C37: LOPEZ MENDOZA | D37: Aseador(a) G10 | F37: 4
A38: 33218039 | B38: LUDYS | C38: MEDINA VILLARREAL | D38: Aseador(a) G10 | F38: 4
A39: 32724514 | B39: ENEIDA MARIA | C39: JIMENEZ MARQUEZ | D39: Aseador(a) G10 | F39: 4
A40: 22569347 | B40: MARIA ANGELICA | C40: CASTRO SARMIENTO | D40: Aseador(a) G10 | F40: 4
A41: 22426931 | B41: HELENA ISABEL | C41: STAND BUITRAGO | D41: Aseador(a) G10 | F41: 4
A42: 32713496 | B42: CARMEN EUGENIA | C42: MONSALVO PADILLA | D42: Aseador(a) G10 | F42: 4
A43: 55227929 | B43: DIANA MARCELA | C43: MUÑOZ ALMARIO | D43: Aseador(a) G05 | F43: 4
A44: 8691864 | B44: MANUEL SALVADOR | C44: BUSTOS HERNANDES | D44: Conductor G10 | E44: 2
A45: 8692408 | B45: EMIRO RAFAEL | C45: MEZA MEZA | D45: Conductor G10 | E45: 2
A46: 10897324 | B46: OSCAR | C46: HERNANDEZ CHIMA | D46: Oficial Mantto Gral.G10 | E46: 4
A47: 7601428 | B47: ALFREDO EUGENIO | C47: GRANADOS GARAY | D47: Oficial Mantto Gral.G06 | E47: 4
A48: 8372179 | B48: ADOLFO | C48: CHAVEZ GOMEZ | D48: Operario Mtto Gral.G08 | E48: 4
A49: 72315196 | B49: JORGE ARMANDO | C49: CANTILLO TORRES | D49: Operario Mtto Gral.G10 | E49: 4
A50: 8760502 | B50: GERMAN ANTONIO | C50: MONTERO SANDOVAL | D50: Aseador(a) G10 | E50: 4
A51: 3741363 | B51: FILIBERTO | C51: MARTES MENDOZA | D51: Trabajador de Campo G09 | E51: 4
A52: TOTALES | E52: =SUM(E37:E51) -> 28 | F52: =SUM(F37:F51) -> 28
A54: TRABAJADORES OFICIALES CEDAGRO | E54: Cantidad De calzado Según Lo Establecido En El Artículo 79 De La Convención Colectiva De Trabajo
A55: Identificación | B55: Nombres | C55: Apellidos | D55: Descripción Cargo | E55: CALZADO (MTTO Y CONDUCTOR) HOMBRE | F55: CALZADO MUJER
A56: 22662208 | B56: MABEL LUZ | C56: SALAS FERRER | D56: Aseador(a) G10 | F56: 4
A57: 8722504 | B57: MARVIN JOAQUIN | C57: ACOSTA CHEGWIN | D57: Conductor G10 | E57: 2
A58: 8635934 | B58: ZOILO ENRIQ | C58: MACHACON SARMIENTO | D58: Trabajador de Campo G10 | E58: 4
A59: TOTALES | E59: =SUM(E56:E58) -> 6 | F59: =SUM(F56:F58) -> 4
A60: TOTAL TODO EL PROCESO | E60: =E14+E33+E52+E59 -> 104 | F60: =F14+F33+F52+F59 -> 60
