Workbook

Sheet CONSOLIDADO necesidad ajustada
A1: LOTE 1. VESTUARIO Y ROPA DE DAMA
A2: ITEM | B2: CODIGO UNSPSC | C2: DESCRIPCION | D2: CANTIDAD | E2: TIPO DE TRABAJADOR | F2: ESPECIFICACIONES
A3: 1 | B3: 531016 | C3: BLUSA DE CALLE 11510025 | D3: 215 | E3: Empleado público | F3: Ver pestaña VESTUARIO DAMA Anexo No 2. Catalogo de dotacion y ropa de trabajo
A4: 2 | B4: 531025 | C4: CACHUCHA 11510040 | D4: 30
A5: 3 | B5: 531020 | C5: VESTIDO DAMA 11510049/11510220 | D5: 135
A6: 4 | B6: 531027 | C6: UNIFORME DE COCINA UNISEX 11510050 | D6: 3
A7: 5 | B7: 531020 | C7: FALDA 11510228 | D7: 84
A8: 6 | B8: 531021 | C8: OVEROL UNISEX 11510150/11510050 | D8: 34
A9: 7 | B9: 531015 | C9: BLUE JEAN UNISEX 11510161 | D9: 113
A10: 8 | B10: 531027 | C10: UNIFORME DE ENFERMERIA 11510216 | D10: 18
A11: 9 | B11: 531021 | C11: BATA 11510028 | D11: 414
A12: 10 | B12: 531027 | C12: IMPERMEABLE 11580425 | D12: 14
A13: 11 | B13: 531031 | C13: CHALECO 11550252 | D13: 1
A14: 12 | B14: 531027 | C14: UNIFORMES QUIRURGICOS 11510217 | D14: 12
A15: 13 | B15: 531027 | C15: UNIFORME DE BELLEZA 11510218 | D15: 2
A16: 14 | B16: 531020 | C16: VESTIDO DE CALLE PARA MUJER (TO) | D16: 75 | E16: Trabajador oficial | F16: Ver pestaña ROPA TO Anexo No 2. Catalogo de dotacion y ropa de trabajo
A17: 15 | B17: 531027 | C17: ANTIFLUIDO (TO) | D17: 32
C18: TOTAL LOTE 1 | D18: =SUM(D3:D17) -> 1182
A20: LOTE 2. VESTUARIO Y ROPA DE CABALLERO
A21: ITEM | B21: CODIGO UNSPSC | C21: DESCRIPCION | D21: CANTIDAD | E21: TIPO DE TRABAJADOR | F21: ESPECIFICACIONES
A22: 1 | B22: 531025 | C22: CACHUCHA 11510040 | D22: 117 | E22: Empleado público | F22: Ver pestaña VESTUARIO CABALLERO Anexo No 2. Catalogo de dotacion y ropa de trabajo
A23: 2 | B23: 531016 | C23: CAMISA 11510042 | D23: 282
A24: 3 | B24: 531019 | C24: VESTIDO HOMBRE 11510225 | D24: 84
A25: 4 | B25: 531027 | C25: UNIFORME DE COCINA UNISEX 11510050 | D25: 3
A26: 5 | B26: 531021 | C26: OVEROL UNISEX 11510150/11510050 | D26: 230
A27: 6 | B27: 531015 | C27: BLUE JEAN UNISEX 11510161 | D27: 205
A28: 7 | B28: 531015 | C28: PANTALONETA UNISEX 11510170 | D28: 6
A29: 8 | B29: 531027 | C29: UNIFORME DE ENFERMERIA 11510216 | D29: 6
A30: 9 | B30: 531015 | C30: SUDADERA UNISEX 11550250 | D30: 6
A31: 10 | B31: 531030 | C31: CAMISETA 11550260 | D31: 48
A32: 11 | B32: 531024 | C32: MEDIAS 11510414 | D32: 6
A33: 12 | B33: 531021 | C33: BATA 11510027 | D33: 427
A34: 13 | B34: 531017 | C34: BUZO 11550261 | D34: 6
... A36: 15 | B36: 531015 | C36: PANTALON 11510230 | D36: 38
A37: 16 | B37: 531016 | C37: CAMISA MANGA LARGA (TO) | D37: 133 | E37: Trabajador oficial | F37: Ver pestaña ROPA TO Anexo No 2. Catalogo de dotacion y ropa de trabajo
A38: 17 | B38: 531015 | C38: PANTALON FORMAL (TO) | D38: 115
A39: 18 | B39: 531019 | C39: VESTIDO PARA HOMBRE (TO) | D39: 24
A40: 19 | B40: 531021 | C40: OVEROL (TO) | D40: 62
C41: TOTAL LOTE 2 | D41: =SUM(D22:D40) -> 1816
A43: LOTE 3. CALZADO
...

Sheet CONSOLIDADO necesidad real
A1: LOTE 1. VESTUARIO Y ROPA DE DAMA
A2: ITEM | B2: CODIGO UNSPSC | C2: DESCRIPCION | D2: CANTIDAD | E2: TIPO DE TRABAJADOR | F2: ESPECIFICACIONES
A3: 1 | B3: 531016 | C3: BLUSA DE CALLE 11510025 | D3: ='VESTUARIO DAMA'!K191 -> 215 | E3: Empleado público | F3: Ver pestaña VESTUARIO DAMA Anexo No 2. Catalogo de dotacion y ropa de trabajo
A4: 2 | B4: 531025 | C4: CACHUCHA 11510040 | D4: ='VESTUARIO DAMA'!L191 -> 30
A5: 3 | B5: 531020 | C5: VESTIDO DAMA 11510049/11510220 | D5: ='VESTUARIO DAMA'!M191 -> 135
A6: 4 | B6: 531027 | C6: UNIFORME DE COCINA UNISEX 11510050 | D6: ='VESTUARIO DAMA'!N191 -> 3
A7: 5 | B7: 531020 | C7: FALDA 11510228 | D7: ='VESTUARIO DAMA'!O191 -> 84
A8: 6 | B8: 531021 | C8: OVEROL UNISEX 11510150/11510050 | D8: ='VESTUARIO DAMA'!P191 -> 34
A9: 7 | B9: 531015 | C9: BLUE JEAN UNISEX 11510161 | D9: ='VESTUARIO DAMA'!Q191 -> 113
A10: 8 | B10: 531027 | C10: UNIFORME DE ENFERMERIA 11510216 | D10: ='VESTUARIO DAMA'!R191 -> 18
A11: 9 | B11: 531021 | C11: BATA 11510028 | D11: ='VESTUARIO DAMA'!S191 -> 414
A12: 10 | B12: 531027 | C12: IMPERMEABLE 11580425 | D12: ='VESTUARIO DAMA'!T191 -> 14
A13: 11 | B13: 531031 | C13: CHALECO 11550252 | D13: ='VESTUARIO DAMA'!U191 -> 1
A14: 12 | B14: 531027 | C14: UNIFORMES QUIRURGICOS 11510217 | D14: ='VESTUARIO DAMA'!V191 -> 12
A15: 13 | B15: 531027 | C15: UNIFORME DE BELLEZA 11510218 | D15: ='VESTUARIO DAMA'!W191 -> 2
A16: 14 | B16: 531020 | C16: VESTIDO DE CALLE PARA MUJER (TO) | D16: 75 | E16: Trabajador oficial | F16: Ver pestaña ROPA TO Anexo No 2. Catalogo de dotacion y ropa de trabajo
A17: 15 | B17: 531027 | C17: ANTIFLUIDO (TO) | D17: 32
C18: TOTAL LOTE 1 | D18: =SUM(D3:D17) -> 1182
A20: LOTE 2. VESTUARIO Y ROPA DE CABALLERO
A21: ITEM | B21: CODIGO UNSPSC | C21: DESCRIPCION | D21: CANTIDAD | E21: TIPO DE TRABAJADOR | F21: ESPECIFICACIONES
A22: 1 | B22: 531025 | C22: CACHUCHA 11510040 | D22: ='VESTUARIO CABALLERO'!K245 -> 117 | E22: Empleado público | F22: Ver pestaña VESTUARIO CABALLERO Anexo No 2. Catalogo de dotacion y ropa de trabajo
A23: 2 | B23: 531016 | C23: CAMISA 11510042 | D23: ='VESTUARIO CABALLERO'!L245 -> 467
A24: 3 | B24: 531019 | C24: VESTIDO HOMBRE 11510225 | D24: ='VESTUARIO CABALLERO'!M245 -> 84
A25: 4 | B25: 531027 | C25: UNIFORME DE COCINA UNISEX 11510050 | D25: ='VESTUARIO CABALLERO'!N245 -> 3
A26: 5 | B26: 531021 | C26: OVEROL UNISEX 11510150/11510050 | D26: ='VESTUARIO CABALLERO'!O245 -> 230
A27: 6 | B27: 531015 | C27: BLUE JEAN UNISEX 11510161 | D27: ='VESTUARIO CABALLERO'!P245 -> 390
A28: 7 | B28: 531015 | C28: PANTALONETA UNISEX 11510170 | D28: ='VESTUARIO CABALLERO'!Q245 -> 6
A29: 8 | B29: 531027 | C29: UNIFORME DE ENFERMERIA 11510216 | D29: ='VESTUARIO CABALLERO'!R245 -> 6
A30: 9 | B30: 531015 | C30: SUDADERA UNISEX 11550250 | D30: ='VESTUARIO CABALLERO'!S245 -> 6
A31: 10 | B31: 531030 | C31: CAMISETA 11550260 | D31: ='VESTUARIO CABALLERO'!T245 -> 48
A32: 11 | B32: 531024 | C32: MEDIAS 11510414 | D32: ='VESTUARIO CABALLERO'!U245 -> 6
A33: 12 | B33: 531021 | C33: BATA 11510027 | D33: ='VESTUARIO CABALLERO'!V245 -> 581
A34: 13 | B34: 531017 | C34: BUZO 11550261 | D34: ='VESTUARIO CABALLERO'!W245 -> 6
A35: 14 | B35: 531027 | C35: IMPERMEABLE 11580425 | D35: ='VESTUARIO CABALLERO'!X245 -> 18
A36: 15 | B36: 531015 | C36: PANTALON 11510230 | D36: ='VESTUARIO CABALLERO'!Y245 -> 38
A37: 16 | B37: 531016 | C37: CAMISA MANGA LARGA (TO) | D37: 133 | E37: Trabajador oficial | F37: Ver pestaña ROPA TO Anexo No 2. Catalogo de dotacion y ropa de trabajo
A38: 17 | B38: 531015 | C38: PANTALON FORMAL (TO) | D38: 115
A39: 18 | B39: 531019 | C39: VESTIDO PARA HOMBRE (TO) | D39: 24
A40: 19 | B40: 531021 | C40: OVEROL (TO) | D40: 62
C41: TOTAL LOTE 2 | D41: =SUM(D22:D40) -> 2340
...

Sheet VESTUARIO DAMA
A1: IDENTIFICACIÓN | B1: NOMBRES | C1: APELLIDOS | D1: CENTRO | E1: CÓDIGO | F1: GRUPO | G1: RED | H1: AREA DE CONOCIMIENTO | I1: TIPO | K1: BLUSA DE CALLE 11510025 | L1: CACHUCHA 11510040 | M1: VESTIDO DAMA 11510049/11510220 | N1: UNIFORME DE COCINA UNISEX 11510050 | O1: FALDA 11510228 | P1: OVEROL UNISEX 11510150/11510050 | Q1: BLUE JEAN UNISEX 11510161 | R1: UNIFORME DE ENFERMERIA 11510216 | S1: BATA 11510028 | T1: IMPERMEABLE 11580425 | U1: CHALECO 11550252 | V1: UNIFORMES QUIRURGICOS 11510217 | W1: UNIFORME DE BELLEZA 11510218
A2: 22565741 | B2: KELLY JOHANNA | C2: ACUÑA TORRES | D2: Comercio | E2: 9302 | F2: Instructor | G2: COMERCIO Y VENTAS | H2: VENTAS | I2: EP | K2: 3 | M2: 3 | S2: 3
A3: 32728854 | B3: ILVA ROSA | C3: AHUMADA MAURY | D3: Comercio | E3: 9302 | F3: Instructor | G3: GESTIÓN ADMINISTRATIVA Y SERVICIOS FINANCIEROS | H3: TALENTO HUMANO | I3: EP | K3: 2 | O3: 2 | S3: 3
A4: 32779908 | B4: ALBA LUZ | C4: ALVAREZ BARRANCO | D4: Comercio | E4: 9302 | F4: Instructor | G4: GESTIÓN ADMINISTRATIVA Y SERVICIOS FINANCIEROS | H4: CONTABILIDAD | I4: EP | K4: 2 | O4: 2 | S4: 3
A5: 32683799 | B5: CLAUDIA PATRICIA | C5: ARDILA ARENAS | D5: Comercio | E5: 9302 | F5: Instructor | G5: SALUD. | H5: SERVICIOS FARMACÉUTICOS | I5: EP | R5: 3 | S5: 2
A6: 39775778 | B6: JACQUELINE | C6: ARIZA SALZEDO | D6: Comercio | E6: 9302 | F6: Instructor | G6: INTEGRALIDAD | H6: INTERACCIÓN CONSIGO MISMO, CON LOS DEMÁS, CON LA NATURALEZA Y CON LA TRASCENDENCIA | I6: EP | S6: 3
A7: 22618913 | B7: PAOLA MARGARITA | C7: BARCELO CANTILLO | D7: Comercio | E7: 9302 | F7: Instructor | G7: ENSEÑANZA DE IDIOMAS | H7: ENSEÑANZA DE IDIOMAS | I7: EP | K7: 2 | O7: 3 | S7: 3
A8: 32667867 | B8: DELMA MERCEDES | C8: BARRIOS HERAZO | D8: Comercio | E8: 9302 | F8: Instructor | G8: SALUD. | H8: APOYO TERAPÉUTICO Y REHABILITACIÓN | I8: EP | R8: 3 | S8: 2 | V8: 2
A9: 32703730 | B9: DOLORES | C9: BARRIOS VILLALBA | D9: Comercio | E9: 9302 | F9: Instructor | G9: SALUD. | H9: SALUD PÚBLICA | I9: EP | K9: 3 | O9: 3 | S9: 2
A10: 55307223 | B10: WUENDY YURANI | C10: BOHORQUEZ MIELES | D10: Comercio | E10: 9302 | F10: Instructor | G10: COMERCIO Y VENTAS | H10: VENTAS | I10: EP | K10: 3 | M10: 3 | S10: 3
A11: 49657951 | B11: EDIN FELIPA | C11: BORJA QUINONEZ | D11: Comercio | E11: 9302 | F11: Instructor | G11: PEDAGOGÍA | H11: EDUMÁTICA EN LA FORMACIÓN PROFESIONAL | I11: EP | S11: 3
A12: 32752474 | B12: OSIRIS AMELIA | C12: BUZON SALAS | D12: Comercio | E12: 9302 | F12: Instructor | G12: GESTIÓN ADMINISTRATIVA Y SERVICIOS FINANCIEROS | H12: GESTIÓN ADMINISTRATIVA | I12: EP | K12: 2 | M12: 3 | O12: 2 | S12: 3
A13: 22449722 | B13: NELLY | C13: CALA ARGUELLO | D13: Comercio | E13: 9302 | F13: Instructor | G13: HOTELERÍA Y TURISMO. | H13: TURISMO | I13: EP | K13: 3 | O13: 3 | S13: 2
A14: 32941989 | B14: ROSA LORENA | C14: CAMARGO PARDO | D14: Comercio | E14: 9302 | F14: Instructor | G14: COMERCIO Y VENTAS | H14: VENTAS | I14: EP | K14: 3 | M14: 3 | S14: 3
A15: 1121816286 | B15: DIANA CAROLINA | C15: CARDENAS GUTIERREZ | D15: Comercio | E15: 9302 | F15: Instructor | G15: GESTIÓN ADMINISTRATIVA Y SERVICIOS FINANCIEROS | H15: CONTABILIDAD | I15: EP | K15: 2 | O15: 2 | S15: 3
A16: 65741206 | B16: SOL MAGALY | C16: CASTILLA LOZANO | D16: Comercio | E16: 9302 | F16: Instructor | G16: COMERCIO Y VENTAS | H16: GESTIÓN DE MERCADOS | I16: EP | K16: 3 | M16: 3 | S16: 3
A17: 32752661 | B17: MONICA CECILIA | C17: CITARELLA ESPINOZA | D17: Comercio | E17: 9302 | F17: Instructor | G17: GESTIÓN ADMINISTRATIVA Y SERVICIOS FINANCIEROS | H17: CONTABILIDAD | I17: EP | K17: 2 | O17: 2 | S17: 3
A18: 22434588 | B18: DEBORA CLEMENCIA | C18: COBOS DE COBOS | D18: Comercio | E18: 9302 | F18: Instructor | G18: PEDAGOGÍA | H18: PEDAGOGIA Y DIDACTICA DE LA FP | I18: EP | S18: 3
B19: SUGEID | C19: CONEO PEREZ | D19: Comercio | E19: 9302 | F19: Instructor | G19: INTEGRALIDAD | H19: INTERACCIÓN CONSIGO MISMO, CON LOS DEMÁS, CON LA NATURALEZA Y CON LA TRASCENDENCIA | I19: EP | S19: 3
A20: 32636820 | B20: CARMELA ISABEL | C20: DE LA HOZ MONTENEGRO | D20: Comercio | E20: 9302 | F20: Instructor | G20: HOTELERÍA Y TURISMO. | H20: TURISMO | I20: EP | K20: 3 | O20: 3 | S20: 2
A21: 22580860 | B21: DORIS ESTER | C21: DEL TORO RUIZ | D21: Comercio | E21: 9302 | F21: Instructor | G21: COORDINACIÓN ACADÉMICA | H21: COMERCIO Y VENTAS, GESTIÓN ADMINISTRATIVA Y SERVICIOS FINANCIEROS; GESTIÓN DE LA PRODUCCIÓN; HOTELERÍA Y TURISMO; INFORMÁTICA, DISEÑO Y DESARROLLO DE SOFTWARE; SERVICIOS PERSONALES | I21: EP | K21: 2 | Q21: 2 | S21: 2
A22: 32864829 | B22: ILEANA | C22: DIAZ ORTEGA | D22: Comercio | E22: 9302 | F22: Instructor | G22: HOTELERÍA Y TURISMO. | H22: TURISMO | I22: EP | K22: 3 | O22: 3 | S22: 2
A23: 32674398 | B23: MARINA CONCEPCION | C23: FONTALVO GOMEZ | D23: Comercio | E23: 9302 | F23: Instructor | G23: COORDINACIÓN ACADÉMICA | H23: COMERCIO Y VENTAS, GESTIÓN ADMINISTRATIVA Y SERVICIOS FINANCIEROS; GESTIÓN DE LA PRODUCCIÓN; HOTELERÍA Y TURISMO; INFORMÁTICA, DISEÑO Y DESARROLLO DE SOFTWARE; SERVICIOS PERSONALES | I23: EP | K23: 2 | Q23: 2 | S23: 2
A24: 22464775 | B24: MARIA ISABEL | C24: GUIDO ALDANA | D24: Comercio | E24: 9302 | F24: Instructor | G24: LOGÍSTICA Y GESTIÓN DE LA PRODUCCIÓN | H24: SEGURIDAD Y SALUD EN EL TRABAJO | I24: EP | S24: 3
A25: 45527150 | B25: ARLEY MARGARITA | C25: HERNANDEZ | D25: Comercio | E25: 9302 | F25: Instructor | G25: SERVICIOS PERSONALES. | H25: BELLEZA | I25: EP | S25: 3 | W25: 2
A26: 32688026 | B26: EVA | C26: HERNANDEZ WILCHES | D26: Comercio | E26: 9302 | F26: Instructor | G26: INTEGRALIDAD | H26: INTERACCIÓN CONSIGO MISMO, CON LOS DEMÁS, CON LA NATURALEZA Y CON LA TRASCENDENCIA | I26: EP | S26: 3
A27: 22465128 | B27: MIROSLAVA | C27: HERRERA COBA | D27: Comercio | E27: 9302 | F27: Instructor | G27: TELEINFORMATICA | H27: SOFTWARE EN CENTROS Y ÁREAS URBANAS | I27: EP | K27: 2 | Q27: 2 | S27: 3
A28: 1143428182 | B28: TRILSE | C28: HERRERA MARTINEZ | D28: Comercio | E28: 9302 | F28: Instructor | G28: ENSEÑANZA DE IDIOMAS | H28: ENSEÑANZA DE IDIOMAS | I28: EP | K28: 2 | O28: 3 | S28: 3
A29: 32745112 | B29: CLAUDIA PATRICIA | C29: JIMENEZ DE LA HOZ | D29: Comercio | E29: 9302 | F29: Instructor | G29: ENSEÑANZA DE IDIOMAS | H29: ENSEÑANZA DE IDIOMAS | I29: EP | K29: 2 | O29: 3 | S29: 3
A30: 57416784 | B30: LUISA PATRICIA | C30: JUVINAO CARBONO | D30: Comercio | E30: 9302 | F30: Instructor | G30: GESTIÓN ADMINISTRATIVA Y SERVICIOS FINANCIEROS | H30: TALENTO HUMANO | I30: EP | K30: 2 | O30: 2 | S30: 3
A31: 57416784 | B31: XIOMARA DEL CARMEN | C31: LARA MIRANDA | D31: Comercio | E31: 9302 | F31: Instructor | G31: GESTIÓN ADMINISTRATIVA Y SERVICIOS FINANCIEROS | H31: GESTIÓN DOCUMENTAL | I31: EP | K31: 2 | O31: 2 | S31: 3
A32: 50984967 | B32: SANDRA PATRICIA | C32: LENGUA GALEANO | D32: Comercio | E32: 9302 | F32: Instructor | G32: COMERCIO Y VENTAS | H32: VENTAS | I32: EP | K32: 3 | M32: 3 | S32: 3
A33: 22521374 | B33: JHOHANA | C33: LLORENTE MORALES | D33: Comercio | E33: 9302 | F33: Instructor | G33: COMERCIO Y VENTAS | H33: VENTAS | I33: EP | K33: 3 | M33: 3 | S33: 3
A34: 49741251 | B34: CLAUDIA PATRICIA | C34: LOPEZ HERNANDEZ | D34: Comercio | E34: 9302 | F34: Instructor | G34: GESTIÓN ADMINISTRATIVA Y SERVICIOS FINANCIEROS | H34: GESTIÓN ADMINISTRATIVA | I34: EP | K34: 2 | O34: 2 | S34: 3
A35: 32869389 | B35: ISILA MARÍA | C35: MALDONADO PIZARRO | D35: Comercio | E35: 9302 | F35: Instructor | G35: SALUD. | H35: APOYO TERAPÉUTICO Y REHABILITACIÓN | I35: EP | R35: 3 | S35: 2 | V35: 2
A36: 22663636 | B36: CONSULEO JUDITH | C36: MALDONADO ROJANO | D36: Comercio | E36: 9302 | F36: Instructor | G36: HOTELERÍA Y TURISMO. | H36: COCINA | I36: EP | K36: 3 | N36: 3 | Q36: 3 | S36: 3
A37: 36546053 | B37: MARIA CECILIA | C37: MANJARRES | D37: Comercio | E37: 9302 | F37: Instructor | G37: GESTIÓN ADMINISTRATIVA Y SERVICIOS FINANCIEROS | H37: TALENTO HUMANO | I37: EP | K37: 2 | O37: 2 | S37: 3
A38: 32678970 | B38: ANA CECILIA | C38: MARRUGO PEREZ | D38: Comercio | E38: 9302 | F38: Instructor | G38: GESTIÓN ADMINISTRATIVA Y SERVICIOS FINANCIEROS | H38: GESTIÓN ADMINISTRATIVA | I38: EP | K38: 2 | O38: 2 | S38: 3
A39: 30658165 | B39: NORA ALBA | C39: MENDOZA MARTINEZ | D39: Comercio | E39: 9302 | F39: Instructor | G39: COMERCIO Y VENTAS | H39: VENTAS | I39: EP | K39: 3 | M39: 3 | S39: 3
A40: 44190517 | B40: DANNYS PATRICIA | C40: MENDOZA VALENCIA | D40: Comercio | E40: 9302 | F40: Instructor | G40: LOGÍSTICA Y GESTIÓN DE LA PRODUCCIÓN | H40: GESTIÓN LOGÍSTICA EN CENTRO Y AREA URBANA | I40: EP | K40: 2 | P40: 2 | Q40: 2 | S40: 2 | T40: 2
...

Sheet CALZADO DAMA
A1: IDENTIFICACIÓN | B1: NOMBRES | C1: APELLIDOS | D1: CENTRO | E1: CÓDIGO | F1: GRUPO | G1: RED | H1: AREA DE CONOCIMIENTO | I1: DAMA/ CABALLERO | K1: ZAPATOS ENFERMERIA DAMA 11580410 | L1: BOTA DE CAUCHO 11520030 | M1: BOTAS DE CUERO 11580025 | N1: ZAPATO DE COCINA 11580414
A2: 32683799 | B2: CLAUDIA PATRICIA | C2: ARDILA ARENAS | D2: Comercio | E2: 9302 | F2: Instructor | G2: SALUD. | H2: SERVICIOS FARMACÉUTICOS | I2: Dama | K2: 2
A3: 22618913 | B3: PAOLA MARGARITA | C3: BARCELO CANTILLO | D3: Comercio | E3: 9302 | F3: Instructor | G3: ENSEÑANZA DE IDIOMAS | H3: ENSEÑANZA DE IDIOMAS | I3: Dama | M3: 1
A4: 32667867 | B4: DELMA MERCEDES | C4: BARRIOS HERAZO | D4: Comercio | E4: 9302 | F4: Instructor | G4: SALUD. | H4: APOYO TERAPÉUTICO Y REHABILITACIÓN | I4: Dama | K4: 2
A5: 22580860 | B5: DORIS ESTER | C5: DEL TORO RUIZ | D5: Comercio | E5: 9302 | F5: Instructor | G5: COORDINACIÓN ACADÉMICA | H5: COMERCIO Y VENTAS, GESTIÓN ADMINISTRATIVA Y SERVICIOS FINANCIEROS; GESTIÓN DE LA PRODUCCIÓN; HOTELERÍA Y TURISMO; INFORMÁTICA, DISEÑO Y DESARROLLO DE SOFTWARE; SERVICIOS PERSONALES | I5: Dama | L5: 1 | M5: 1
A6: 32674398 | B6: MARINA CONCEPCION | C6: FONTALVO GOMEZ | D6: Comercio | E6: 9302 | F6: Instructor | G6: COORDINACIÓN ACADÉMICA | H6: COMERCIO Y VENTAS, GESTIÓN ADMINISTRATIVA Y SERVICIOS FINANCIEROS; GESTIÓN DE LA PRODUCCIÓN; HOTELERÍA Y TURISMO; INFORMÁTICA, DISEÑO Y DESARROLLO DE SOFTWARE; SERVICIOS PERSONALES | I6: Dama | L6: 1 | M6: 1
A7: 1143428182 | B7: TRILSE | C7: HERRERA MARTINEZ | D7: Comercio | E7: 9302 | F7: Instructor | G7: ENSEÑANZA DE IDIOMAS | H7: ENSEÑANZA DE IDIOMAS | I7: Dama | M7: 1
A8: 32745112 | B8: CLAUDIA PATRICIA | C8: JIMENEZ DE LA HOZ | D8: Comercio | E8: 9302 | F8: Instructor | G8: ENSEÑANZA DE IDIOMAS | H8: ENSEÑANZA DE IDIOMAS | I8: Dama | M8: 1
A9: 32869389 | B9: ISILA MARÍA | C9: MALDONADO PIZARRO | D9: Comercio | E9: 9302 | F9: Instructor | G9: SALUD. | H9: APOYO TERAPÉUTICO Y REHABILITACIÓN | I9: Dama | K9: 2
A10: 22663636 | B10: CONSULEO JUDITH | C10: MALDONADO ROJANO | D10: Comercio | E10: 9302 | F10: Instructor | G10: HOTELERÍA Y TURISMO. | H10: COCINA | I10: Dama | M10: 1 | N10: 2
A11: 44190517 | B11: DANNYS PATRICIA | C11: MENDOZA VALENCIA | D11: Comercio | E11: 9302 | F11: Instructor | G11: LOGÍSTICA Y GESTIÓN DE LA PRODUCCIÓN | H11: GESTIÓN LOGÍSTICA EN CENTRO Y AREA URBANA | I11: Dama | M11: 1
A12: 40796275 | B12: RUBY VICENTA | C12: ARREGOCES FUENTES | D12: Comercio | E12: 9302 | F12: Instructor | G12: SALUD. | H12: APOYO TERAPÉUTICO Y REHABILITACIÓN | I12: Dama | K12: 2
A13: 1045681732 | B13: KATHERINE | C13: MENESES RAMIREZ | D13: Comercio | E13: 9302 | F13: Instructor | G13: SALUD. | H13: SALUD PÚBLICA | I13: Dama | M13: 1
A14: 32693954 | B14: GEYHLER MARÍA | C14: MOLINA BLANCO | D14: Comercio | E14: 9302 | F14: Instructor | G14: ENSEÑANZA DE IDIOMAS | H14: ENSEÑANZA DE IDIOMAS | I14: Dama | M14: 1
A15: 32700092 | B15: VILMA PATRICIA | C15: PASCO DONADO | D15: Comercio | E15: 9302 | F15: Instructor | G15: HOTELERÍA Y TURISMO. | H15: BARISMO | I15: Dama | M15: 1
A16: 22731651 | B16: MELISSA MILENA | C16: PONTON JIMENEZ | D16: Comercio | E16: 9302 | F16: Instructor | G16: LOGÍSTICA Y GESTIÓN DE LA PRODUCCIÓN | H16: GESTIÓN LOGÍSTICA EN CENTRO Y AREA URBANA | I16: Dama | M16: 1
A17: 32719644 | B17: PATRICIA ROSMARY | C17: SERRANO SANTIAGO | D17: Comercio | E17: 9302 | F17: Instructor | G17: COORDINACIÓN ACADÉMICA | H17: COMERCIO Y VENTAS, GESTIÓN ADMINISTRATIVA Y SERVICIOS FINANCIEROS; GESTIÓN DE LA PRODUCCIÓN; HOTELERÍA Y TURISMO; INFORMÁTICA, DISEÑO Y DESARROLLO DE SOFTWARE; SERVICIOS PERSONALES | I17: Dama | L17: 1 | M17: 1
A18: 32682346 | B18: MARIA CECILIA | C18: SUAREZ BENAVIDES | D18: Comercio | E18: 9302 | F18: Instructor | G18: COORDINACIÓN ACADÉMICA | H18: COMERCIO Y VENTAS, GESTIÓN ADMINISTRATIVA Y SERVICIOS FINANCIEROS; GESTIÓN DE LA PRODUCCIÓN; HOTELERÍA Y TURISMO; INFORMÁTICA, DISEÑO Y DESARROLLO DE SOFTWARE; SERVICIOS PERSONALES | I18: Dama | L18: 1 | M18: 1
A19: 22600372 | B19: MARYIETH CECILIA | C19: VERGARA TORRENEGRA | D19: Comercio | E19: 9302 | F19: Instructor | G19: SALUD. | H19: APOYO TERAPÉUTICO Y REHABILITACIÓN | I19: Dama | K19: 2
A20: 32798056 | B20: TERESA DE JESUS | C20: ALTAMAR PEREZ | D20: Cedagro | E20: 9103 | F20: Instructor | G20: AGRÍCOLA | H20: AGROINDUSTRIAL - CONTROL DE CALIDAD E INOCUIDAD | I20: Dama | L20: 1 | M20: 1
A21: 28558883 | B21: LUZ ANGELA | C21: BEDOYA MEJIA | D21: Cedagro | E21: 9103 | F21: Instructor | G21: AMBIENTAL | H21: FORESTAL | I21: Dama | L21: 1 | M21: 1
A22: 22521355 | B22: PAOLA CECILIA | C22: CAMPO RUZ | D22: Cedagro | E22: 9103 | F22: Instructor | G22: LOGÍSTICA Y GESTIÓN DE LA PRODUCCIÓN | H22: GESTIÓN LOGÍSTICA EN CENTRO Y AREA RURAL | I22: Dama | M22: 1
A23: 32676374 | B23: VIRGINIA ASUNCION | C23: CANTILLO MORON | D23: Cedagro | E23: 9103 | F23: Instructor | G23: PEDAGOGÍA | H23: PEDAGOGÍA Y DIDÁCTICA PARA LA FORMACIÓN PROFESIONAL | I23: Dama | L23: 1 | M23: 1
A24: 32850044 | B24: YACERIS MERCEDES | C24: CASTRO ESCORCIA | D24: Cedagro | E24: 9103 | F24: Instructor | G24: AGRÍCOLA | H24: PROCESAMIENTO DE ALIMENTOS - LÁCTEOS Y DERIVADOS | I24: Dama | L24: 1 | M24: 1
A25: 32816364 | B25: GILMA ROSA | C25: CASTRO GONZALEZ | D25: Cedagro | E25: 9103 | F25: Instructor | G25: COORDINACIÓN ACADÉMICA | H25: ACUÍCOLA Y PESCA; AGRÍCOLA; AMBIENTAL; BIOTECNOLOGÍA, MINERÍA , PECUARIA | I25: Dama | M25: 1
A26: 45455739 | B26: YALILE | C26: CHAUX DORADO | D26: Cedagro | E26: 9103 | F26: Instructor | G26: GESTIÓN ADMINISTRATIVA Y SERVICIOS FINANCIEROS | H26: ACUÍCOLA Y PESCA; AGRÍCOLA; AMBIENTAL; BIOTECNOLOGÍA, MINERÍA , PECUARIA | I26: Dama | M26: 1
A27: 44154839 | B27: AILIN | C27: MONTERROSA CHAMORRO | D27: Cedagro | E27: 9103 | F27: Instructor | G27: ENSEÑANZA DE IDIOMAS | H27: ENSEÑANZA DE IDIOMAS | I27: Dama | L27: 1 | M27: 1
A28: 39622142 | B28: YAZMIN | C28: OLARTE PARDO | D28: Cedagro | E28: 9103 | F28: Instructor | G28: PECUARIA | H28: PRODUCCIÓN ESPECIES MENORES Y PRODUCCION GANADERA | I28: Dama | L28: 2 | M28: 2
A29: 32714995 | B29: LISBETH LETICIA | C29: OLMOS BLANQUICET | D29: Cedagro | E29: 9103 | F29: Instructor | G29: AGRÍCOLA | H29: PROCESAMIENTO DE ALIMENTOS - FRUTAS Y VERDURAS | I29: Dama | L29: 1 | M29: 1
A30: 49698695 | B30: NORYS MILENA | C30: ORTIZ SALAZAR | D30: Cedagro | E30: 9103 | F30: Instructor | G30: CONSTRUCCIÓN | H30: CONSTRUCCIÓN | I30: Dama | M30: 1
A31: 49689628 | B31: HILDA ESTHER | C31: ORTIZ SALAZAR | D31: Cedagro | E31: 9103 | F31: Instructor | G31: COORDINACIÓN ACADÉMICA | H31: ACUÍCOLA Y PESCA; AGRÍCOLA; AMBIENTAL; BIOTECNOLOGÍA, MINERÍA , PECUARIA | I31: Dama | M31: 1
A32: 1042999648 | B32: CINDY MILAGRO | C32: PUCHE CASTRO | D32: Cedagro | E32: 9103 | F32: Instructor | G32: AMBIENTAL | H32: FORESTAL | I32: Dama | L32: 1 | M32: 1
A33: 32724352 | B33: LUZ MARINA | C33: PULIDO PEÑALOZA | D33: Cedagro | E33: 9103 | F33: Instructor | G33: AGRÍCOLA | H33: AGROINDUSTRIAL - CONTROL DE CALIDAD E INOCUIDAD | I33: Dama | L33: 1 | M33: 1
A34: 45764859 | B34: MONICA | C34: SILVA LOPEZ | D34: Cedagro | E34: 9103 | F34: Instructor | G34: AGRÍCOLA | H34: AGROINDUSTRIAL - CONTROL DE CALIDAD E INOCUIDAD | I34: Dama | L34: 1 | M34: 1
A35: 32865021 | B35: MILDRE MERCEDES | C35: BELTRAN MEDINA | D35: Industrial | E35: 9208 | F35: Instructor | G35: COORDINACIÓN ACADÉMICA | H35: AEROPARCIAL; ARTES GRÁFICAS, ARTESANÍA Y JOYERÍA; AUTOMOTOR; CONSTRUCCIÓN; INFRAESTRUCTURA; CUERO CALZADO Y MARROQUINERÍA; ELECTRÓNICA, INSTRUMENTALIZACIÓN Y AUTOMATIZACIÓN; ENERGÍA ELÉCTRICA; HIDROCARBUROS, TRANSPORTE; MATERIALES PARA LA CONSTRUCCIÓN; MECÁNICA INDUSTRIAL, QUÍMICA APLICADA ;TELECOMUNICACIONES; TEXTIL, CONFECCIÓN, DISEÑO Y MODA | I35: Dama | M35: 1
A36: 55224804 | B36: ZULLY DEL SOCORRO | C36: CABALLERO ARRIETA | D36: Industrial | E36: 9208 | F36: Instructor | G36: ENSEÑANZA DE IDIOMAS | H36: ENSEÑANZA DE IDIOMAS | I36: Dama | M36: 1
A37: 32831070 | B37: PATRICIA MARIA | C37: DOVALE PEREZ | D37: Industrial | E37: 9208 | F37: Instructor | G37: CONSTRUCCIÓN | H37: ARQUITECTURA Y DECORACION | I37: Dama | M37: 1
A38: 22437677 | B38: NANCY | C38: FABREGAS CARRILLO | D38: Industrial | E38: 9208 | F38: Instructor | G38: CONSTRUCCIÓN | H38: CONSTRUCCION | I38: Dama | M38: 1
A39: 32743040 | B39: LINDA | C39: GARCIA ANAYA | D39: Industrial | E39: 9208 | F39: Instructor | G39: COORDINACIÓN ACADÉMICA | H39: AEROPARCIAL; ARTES GRÁFICAS, ARTESANÍA Y JOYERÍA; AUTOMOTOR; CONSTRUCCIÓN; INFRAESTRUCTURA; CUERO CALZADO Y MARROQUINERÍA; ELECTRÓNICA, INSTRUMENTALIZACIÓN Y AUTOMATIZACIÓN; ENERGÍA ELÉCTRICA; HIDROCARBUROS, TRANSPORTE; MATERIALES PARA LA CONSTRUCCIÓN; MECÁNICA INDUSTRIAL, QUÍMICA APLICADA ;TELECOMUNICACIONES; TEXTIL, CONFECCIÓN, DISEÑO Y MODA | I39: Dama | M39: 1
A40: 32896004 | B40: KATHERINE ISABEL | C40: HERRERA RUÍZ | D40: Industrial | E40: 9208 | F40: Instructor | G40: ENSEÑANZA DE IDIOMAS | H40: ENSEÑANZA DE IDIOMAS | I40: Dama | M40: 1
...

Sheet VESTUARIO CABALLERO
A1: IDENTIFICACIÓN | B1: NOMBRES | C1: APELLIDOS | D1: CENTRO | E1: CÓDIGO | F1: GRUPO | G1: RED | H1: AREA DE CONOCIMIENTO | I1: TIPO | K1: CACHUCHA 11510040 | L1: CAMISA 11510042 | M1: VESTIDO HOMBRE 11510225 | N1: UNIFORME DE COCINA UNISEX 11510050 | O1: OVEROL UNISEX 11510150/11510050 | P1: BLUE JEAN UNISEX 11510161 | Q1: PANTALONETA UNISEX 11510170 | R1: UNIFORME DE ENFERMERIA 11510216 | S1: SUDADERA UNISEX 11550250 | T1: CAMISETA 11550260 | U1: MEDIAS 11510414 | V1: BATA 11510027 | W1: BUZO 11550261 | X1: IMPERMEABLE 11580425 | Y1: PANTALON 11510230
A2: 1047334893 | B2: YAMIR ENRIQUE | C2: ACOSTA GONZALEZ | D2: Comercio | E2: 9302 | F2: Instructor | G2: GESTIÓN ADMINISTRATIVA Y SERVICIOS FINANCIEROS | H2: GESTIÓN DOCUMENTAL EN CENTROS Y AREA URBANA | I2: EP | L2: 2 | V2: 3 | Y2: 2
A3: 72204606 | B3: MILTON RAFAEL | C3: ALFARO JIMENEZ | D3: Comercio | E3: 9302 | F3: Instructor | G3: TELEINFORMATICA | H3: CONTENIDO AUDIVISUALES DIGITALES EN CENTROS Y ÁREAS URBANAS | I3: EP | V3: 3
A4: 3763862 | B4: OSCAR JAVIER | C4: ALFORD MUÑOZ | D4: Comercio | E4: 9302 | F4: Instructor | G4: SALUD. | H4: SERVICIOS FARMACÉUTICOS Y REGENCIA DE FARMACIA | I4: EP | R4: 3 | V4: 2
A5: 6763555 | B5: GABIS DE JESUS | C5: AMAYA TORRES | D5: Comercio | E5: 9302 | F5: Instructor | G5: COORDINACIÓN ACADÉMICA | H5: COMERCIO Y VENTAS, GESTIÓN ADMINISTRATIVA Y SERVICIOS FINANCIEROS; GESTIÓN DE LA PRODUCCIÓN; HOTELERÍA Y TURISMO; INFORMÁTICA, DISEÑO Y DESARROLLO DE SOFTWARE; SERVICIOS PERSONALES | I5: EP | L5: 2 | P5: 2 | V5: 2
A6: 72248537 | B6: GUILLERMO RAFAEL | C6: ANGULO VEGA | D6: Comercio | E6: 9302 | F6: Instructor | G6: LOGÍSTICA Y GESTIÓN DE LA PRODUCCIÓN | H6: GESTIÓN LOGÍSTICA EN CENTRO Y AREA URBANA | I6: EP | L6: 3 | M6: 3 | V6: 3
A7: 92557713 | B7: RENE GREGORIO | C7: BARBOZA PEREZ | D7: Comercio | E7: 9302 | F7: Instructor | G7: LOGÍSTICA Y GESTIÓN DE LA PRODUCCIÓN | H7: GESTIÓN LOGÍSTICA EN CENTRO Y AREA URBANA | I7: EP | L7: 2 | O7: 2 | P7: 2 | V7: 2 | X7: 2
A8: 8758722 | B8: ALVARO DE JESUS | C8: BARCELO THOMAS | D8: Comercio | E8: 9302 | F8: Instructor | G8: COMERCIO Y VENTAS | H8: VENTAS EN CENTROS Y URBANOS | I8: EP | L8: 3 | M8: 3 | V8: 3
A9: 72170339 | B9: ANDRES FERNANDO | C9: BARRIOS BOLAÑOS | D9: Comercio | E9: 9302 | F9: Instructor | G9: PEDAGOGÍA | H9: PEDAGOGÍA Y DIDÁCTICA PARA LA FORMACIÓN PROFESIONAL | I9: EP | V9: 3
A10: 72150767 | B10: ORLANDO JOSE | C10: BERMUDEZ PADILLA | D10: Comercio | E10: 9302 | F10: Instructor | G10: GESTIÓN ADMINISTRATIVA Y SERVICIOS FINANCIEROS | H10: CONTABILIDAD EN CENTRO Y AREA URBANA | I10: EP | L10: 2 | V10: 3 | Y10: 2
A11: 72200918 | B11: KENNY MAURICIO | C11: CABALLERO CASTAÑO | D11: Comercio | E11: 9302 | F11: Instructor | G11: COMERCIO Y VENTAS | H11: GESTIÓN DE MERCADOS EN CENTROS Y URBANOS | I11: EP | L11: 3 | M11: 3 | V11: 3
A12: 84041115 | B12: MANUEL | C12: CABALLERO GOMEZ | D12: Comercio | E12: 9302 | F12: Instructor | G12: GESTIÓN ADMINISTRATIVA Y SERVICIOS FINANCIEROS | H12: GESTIÓN ADMINISTRATIVA EN CENTRO Y AREA URBANA | I12: EP | L12: 2 | V12: 3 | Y12: 2
A13: 8737215 | B13: MANUEL | C13: CANTILLO CANTILLO | D13: Comercio | E13: 9302 | F13: Instructor | G13: COMERCIO Y VENTAS | H13: GESTIÓN DE MERCADOS EN CENTROS Y URBANOS | I13: EP | L13: 3 | M13: 3 | V13: 3
A14: 1082923643 | B14: JEFERSON ANDRES | C14: COLON NUÑEZ | D14: Comercio | E14: 9302 | F14: Instructor | G14: GESTIÓN ADMINISTRATIVA Y SERVICIOS FINANCIEROS | H14: TALENTO HUMANO EN CENTRO Y ÁREA URBANA | I14: EP | L14: 2 | V14: 3 | Y14: 2
A15: 8718428 | B15: RUBEN DARIO | C15: CUBILLOS COLL | D15: Comercio | E15: 9302 | F15: Instructor | G15: COMERCIO Y VENTAS | H15: GESTIÓN DE MERCADOS EN CENTROS Y URBANOS | I15: EP | L15: 3 | M15: 3 | V15: 3
A16: 9268144 | B16: JUAN CARLOS | C16: DE LA HOZ GUTIERREZ | D16: Comercio | E16: 9302 | F16: Instructor | G16: COMERCIO Y VENTAS | H16: GESTIÓN DE MERCADOS EN CENTROS Y URBANOS | I16: EP | L16: 3 | M16: 3 | V16: 3
A17: 72008500 | B17: ROTNY ALEXANDER | C17: DELGADO VILLADIEGO | D17: Comercio | E17: 9302 | F17: Instructor | G17: LOGÍSTICA Y GESTIÓN DE LA PRODUCCIÓN | H17: GESTIÓN LOGÍSTICA EN CENTRO Y AREA URBANA | I17: EP | L17: 2 | O17: 2 | P17: 2 | V17: 2 | X17: 2
A18: 72250513 | B18: HERNANDO RAFAEL | C18: DOMINGUEZ GUTIERREZ | D18: Comercio | E18: 9302 | F18: Instructor | G18: GESTIÓN ADMINISTRATIVA Y SERVICIOS FINANCIEROS | H18: GESTIÓN DOCUMENTAL EN CENTROS Y AREA URBANA | I18: EP | L18: 2 | V18: 3 | Y18: 2
A19: 1045701401 | B19: FRANCISCO JAVIER | C19: DONADO PALACIO | D19: Comercio | E19: 9302 | F19: Instructor | G19: HOTELERÍA Y TURISMO. | H19: COCINA | I19: EP | L19: 3 | N19: 3 | P19: 3 | V19: 3
A20: 72130990 | B20: JUAN CARLOS | C20: FORNARIS RENGIFO | D20: Comercio | E20: 9302 | F20: Instructor | G20: LOGÍSTICA Y GESTIÓN DE LA PRODUCCIÓN | H20: GESTIÓN LOGÍSTICA EN CENTRO Y AREA URBANA | I20: EP | L20: 2 | O20: 2 | P20: 2 | V20: 2 | X20: 2
A21: 8689630 | B21: LUIS JORGE | C21: GNECCO POLO | D21: Comercio | E21: 9302 | F21: Instructor | G21: GESTIÓN ADMINISTRATIVA Y SERVICIOS FINANCIEROS | H21: CONTABILIDAD EN CENTRO Y AREA URBANA | I21: EP | L21: 2 | V21: 3 | Y21: 2
A22: 72195742 | B22: ADOLFO LEON | C22: GOMEZ ROJAS | D22: Comercio | E22: 9302 | F22: Instructor | G22: GESTIÓN ADMINISTRATIVA Y SERVICIOS FINANCIEROS | H22: GESTIÓN ADMINISTRATIVA EN CENTRO Y AREA URBANA | I22: EP | L22: 2 | V22: 3 | Y22: 2
A23: 1129527929 | B23: HENRY | C23: GONZALEZ CERVANTES | D23: Comercio | E23: 9302 | F23: Instructor | G23: COMERCIO Y VENTAS | H23: CONTACT CENTER Y B.P.O EN CENTROS Y URBANO | I23: EP | L23: 3 | M23: 3 | V23: 3
A24: 91486913 | B24: EDWARD ALBERTO | C24: GUERRERO PINEDA | D24: Comercio | E24: 9302 | F24: Instructor | G24: GESTIÓN ADMINISTRATIVA Y SERVICIOS FINANCIEROS | H24: CONTACT CENTER Y B.P.O EN CENTROS Y URBANO | I24: EP | L24: 2 | V24: 3 | Y24: 2
A25: 12542422 | B25: ALVARO GUILLERMO | C25: GUZMAN CONSUEGRA | D25: Comercio | E25: 9302 | F25: Instructor | G25: PEDAGOGÍA | H25: PEDAGOGÍA Y DIDÁCTICA PARA LA FORMACIÓN PROFESIONAL | I25: EP | V25: 3
A26: 8664865 | B26: JOSE ISAAC | C26: JALK GUERRERO | D26: Comercio | E26: 9302 | F26: Instructor | G26: GESTIÓN ADMINISTRATIVA Y SERVICIOS FINANCIEROS | H26: SERVICIOS FINANCIEROS EN CENTRO Y AREA URBANA | I26: EP | L26: 2 | V26: 3 | Y26: 2
A27: 8725238 | B27: ANTONIO ALEXANDER | C27: LOPEZ CLARO | D27: Comercio | E27: 9302 | F27: Instructor | G27: TRANSPORTE. | H27: TRANSPORTE MARITIMO Y FLUVIAL | I27: EP | K27: 1 | L27: 2 | O27: 2 | P27: 2 | V27: 2 | X27: 1
A28: 8672155 | B28: RAMIRO ANTONIO | C28: LÓPEZ MIZUNO | D28: Comercio | E28: 9302 | F28: Instructor | G28: GESTIÓN ADMINISTRATIVA Y SERVICIOS FINANCIEROS | H28: GESTIÓN ADMINISTRATIVA EN CENTRO Y AREA URBANA | I28: EP | L28: 2 | V28: 3 | Y28: 2
A29: 8673483 | B29: HUGO HERNAN | C29: MALDONADO FONSECA | D29: Comercio | E29: 9302 | F29: Instructor | G29: GESTIÓN ADMINISTRATIVA Y SERVICIOS FINANCIEROS | H29: TALENTO HUMANO EN CENTRO Y ÁREA URBANA | I29: EP | L29: 2 | V29: 3 | Y29: 2
A30: 72313168 | B30: JAIR LORENZO | C30: MARCHENA DE LA HOZ | D30: Comercio | E30: 9302 | F30: Instructor | G30: TELEINFORMATICA | H30: SOFTWARE EN CENTROS Y ÁREAS URBANAS | I30: EP | L30: 2 | P30: 2 | V30: 3
A31: 73162643 | B31: MAURICIO ALFONSO | C31: MARRUGO PITALUA | D31: Comercio | E31: 9302 | F31: Instructor | G31: COMERCIO Y VENTAS | H31: GESTIÓN DE MERCADOS EN CENTROS Y URBANOS | I31: EP | L31: 3 | M31: 3 | V31: 3
A32: 8660743 | B32: ARTURO | C32: MAYORAL ROMERO | D32: Comercio | E32: 9302 | F32: Instructor | G32: PEDAGOGÍA | H32: EMPRENDIMIENTO | I32: EP | V32: 3
A33: 8738222 | B33: SERGIO IGNACIO | C33: MENESES CUDRIZ | D33: Comercio | E33: 9302 | F33: Instructor | G33: TELEINFORMATICA | H33: SOFTWARE EN CENTROS Y ÁREAS URBANAS | I33: EP | L33: 2 | P33: 2 | V33: 3
A34: 73350896 | B34: OSCAR LUIS | C34: MEZA MARRUGO | D34: Comercio | E34: 9302 | F34: Instructor | G34: SALUD. | H34: SERVICIOS FARMACÉUTICOS Y REGENCIA DE FARMACIA | I34: EP | R34: 3 | V34: 2
A35: 8771982 | B35: SERGIO ISAAC | C35: MIRANDA BLANQUICETT | D35: Comercio | E35: 9302 | F35: Instructor | G35: GESTIÓN ADMINISTRATIVA Y SERVICIOS FINANCIEROS | H35: CONTABILIDAD EN CENTRO Y AREA URBANA | I35: EP | L35: 2 | V35: 3 | Y35: 2
A36: 85478818 | B36: JORGE ELIECER | C36: NAVARRO OROZCO | D36: Comercio | E36: 9302 | F36: Instructor | G36: GESTIÓN ADMINISTRATIVA Y SERVICIOS FINANCIEROS | H36: CONTABILIDAD EN CENTRO Y AREA URBANA | I36: EP | L36: 2 | V36: 3 | Y36: 2
A37: 72195495 | B37: ROGER EDUARDO | C37: NIETO BORREGO | D37: Comercio | E37: 9302 | F37: Instructor | G37: COMERCIO Y VENTAS | H37: Negocios internacionales | I37: EP | L37: 3 | M37: 3 | V37: 3
A38: 70561835 | B38: JUAN CARLOS | C38: OSPINA ARIAS | D38: Comercio | E38: 9302 | F38: Instructor | G38: LOGÍSTICA Y GESTIÓN DE LA PRODUCCIÓN | H38: GESTIÓN LOGÍSTICA EN CENTRO Y AREA URBANA | I38: EP | L38: 2 | O38: 2 | P38: 2 | V38: 2 | X38: 2
A39: 8711995 | B39: PAUL ANTONIO | C39: PADILLA GALOFRE | D39: Comercio | E39: 9302 | F39: Instructor | G39: TELEINFORMATICA | H39: INFRAESTRUCTURA EN CENTRO Y AREAS URBANAS | I39: EP | L39: 2 | P39: 2 | V39: 3
A40: 8801556 | B40: RAFAEL ENRIQUE | C40: PLATA PATERNINA | D40: Comercio | E40: 9302 | F40: Instructor | G40: INTEGRALIDAD | H40: INTERACCIÓN CONSIGO MISMO- CON LOS DEMAS-CON LA NATURALEZA Y CON LA TRASCENDENCIA | I40: EP | V40: 3
...

Sheet CALZADO CABALLERO
A1: IDENTIFICACIÓN | B1: NOMBRES | C1: APELLIDOS | D1: CENTRO | E1: CÓDIGO | F1: GRUPO | G1: RED | H1: AREA DE CONOCIMIENTO | I1: DAMA/ CABALLERO | K1: ZAPATOS ENFERMERIA CABALLERO 11580410 | L1: TENIS 11550415 | M1: BOTA DE CAUCHO 11520030 | N1: BOTAS DE CUERO 11580025 | O1: ZAPATO DE COCINA 11580414
A2: 3763862 | B2: OSCAR JAVIER | C2: ALFORD MUÑOZ | D2: Comercio | E2: 9302 | F2: Instructor | G2: SALUD. | H2: SERVICIOS FARMACÉUTICOS Y REGENCIA DE FARMACIA | I2: Caballero | K2: 2
A3: 6763555 | B3: GABIS DE JESUS | C3: AMAYA TORRES | D3: Comercio | E3: 9302 | F3: Instructor | G3: COORDINACIÓN ACADÉMICA | H3: COMERCIO Y VENTAS, GESTIÓN ADMINISTRATIVA Y SERVICIOS FINANCIEROS; GESTIÓN DE LA PRODUCCIÓN; HOTELERÍA Y TURISMO; INFORMÁTICA, DISEÑO Y DESARROLLO DE SOFTWARE; SERVICIOS PERSONALES | I3: Caballero | M3: 1 | N3: 1
A4: 92557713 | B4: RENE GREGORIO | C4: BARBOZA PEREZ | D4: Comercio | E4: 9302 | F4: Instructor | G4: LOGÍSTICA Y GESTIÓN DE LA PRODUCCIÓN | H4: GESTIÓN LOGÍSTICA EN CENTRO Y AREA URBANA | I4: Caballero | N4: 1
A5: 72008500 | B5: ROTNY ALEXANDER | C5: DELGADO VILLADIEGO | D5: Comercio | E5: 9302 | F5: Instructor | G5: LOGÍSTICA Y GESTIÓN DE LA PRODUCCIÓN | H5: GESTIÓN LOGÍSTICA EN CENTRO Y AREA URBANA | I5: Caballero | N5: 1
A6: 1045701401 | B6: FRANCISCO JAVIER | C6: DONADO PALACIO | D6: Comercio | E6: 9302 | F6: Instructor | G6: HOTELERÍA Y TURISMO. | H6: COCINA | I6: Caballero | N6: 1 | O6: 2
A7: 72248537 | B7: GUILLERMO RAFAEL | C7: ANGULO VEGA | D7: Comercio | E7: 9302 | F7: Instructor | G7: COMERCIO Y VENTAS | H7: NEGOCIACIÓN INTERNACIONAL EN CENTROS URBANOS | I7: Caballero | N7: 2
A8: 72130990 | B8: JUAN CARLOS | C8: FORNARIS RENGIFO | D8: Comercio | E8: 9302 | F8: Instructor | G8: LOGÍSTICA Y GESTIÓN DE LA PRODUCCIÓN | H8: GESTIÓN LOGÍSTICA EN CENTRO Y AREA URBANA | I8: Caballero | N8: 1
A9: 8725238 | B9: ANTONIO ALEXANDER | C9: LOPEZ CLARO | D9: Comercio | E9: 9302 | F9: Instructor | G9: TRANSPORTE. | H9: TRANSPORTE MARITIMO Y FLUVIAL | I9: Caballero | N9: 1
A10: 73350896 | B10: OSCAR LUIS | C10: MEZA MARRUGO | D10: Comercio | E10: 9302 | F10: Instructor | G10: SALUD. | H10: SERVICIOS FARMACÉUTICOS Y REGENCIA DE FARMACIA | I10: Caballero | K10: 2
A11: 70561835 | B11: JUAN CARLOS | C11: OSPINA ARIAS | D11: Comercio | E11: 9302 | F11: Instructor | G11: LOGÍSTICA Y GESTIÓN DE LA PRODUCCIÓN | H11: GESTIÓN LOGÍSTICA EN CENTRO Y AREA URBANA | I11: Caballero | N11: 1
A12: 8711995 | B12: PAUL ANTONIO | C12: PADILLA GALOFRE | D12: Comercio | E12: 9302 | F12: Instructor | G12: TELEINFORMATICA | H12: INFRAESTRUCTURA EN CENTRO Y AREAS URBANAS | I12: Caballero | N12: 1
A13: 73090187 | B13: ISAAC DE JESUS | C13: RANGEL MONTERO | D13: Comercio | E13: 9302 | F13: Instructor | G13: AGRÍCOLA | H13: PROCESAMIENTO DE ALIMENTOS - PANADERÍA Y REPOSTERÍA | I13: Caballero | M13: 1 | N13: 1
A14: 80240768 | B14: ANDRES LEONARDO | C14: RODRIGUEZ URBINA | D14: Comercio | E14: 9302 | F14: Instructor | G14: LOGÍSTICA Y GESTIÓN DE LA PRODUCCIÓN | H14: GESTIÓN LOGÍSTICA EN CENTRO Y AREA URBANA | I14: Caballero | N14: 1
A15: 72199597 | B15: FABIAN RICARDO | C15: VILLANUEVA SANCHEZ | D15: Comercio | E15: 9302 | F15: Instructor | G15: LOGÍSTICA Y GESTIÓN DE LA PRODUCCIÓN | H15: GESTIÓN LOGÍSTICA EN CENTRO Y AREA URBANA | I15: Caballero | N15: 1
A16: 15047679 | B16: JOSE ELIAS | C16: AYUS FARIÑO | D16: Cedagro | E16: 9103 | F16: Instructor | G16: ACUÍCOLA Y DE PESCA | H16: ACUICULTURA | I16: Caballero | M16: 1 | N16: 1
A17: 8668134 | B17: LUIS JOSE | C17: BARRIOS DE LA HOZ | D17: Cedagro | E17: 9103 | F17: Instructor | G17: PEDAGOGÍA | H17: PEDAGOGÍA Y DIDÁCTICA PARA LA FORMACIÓN PROFESIONAL- RURAL | I17: Caballero | M17: 1 | N17: 1
A18: 72244004 | B18: ALFREDO | C18: BERMEJO | D18: Cedagro | E18: 9103 | F18: Instructor | G18: TELEINFORMATICA | H18: SOFTWARE EN AREA RURAL | I18: Caballero | N18: 1
A19: 72308250 | B19: JORGE LUIS | C19: BURITICA VELEZ | D19: Cedagro | E19: 9103 | F19: Instructor | G19: GESTIÓN ADMINISTRATIVA Y SERVICIOS FINANCIEROS | H19: CONTABILIDAD EN AREA RURAL | I19: Caballero | N19: 1
A20: 73143623 | B20: ROLAND | C20: CAMACHO MENDEZ | D20: Cedagro | E20: 9103 | F20: Instructor | G20: PECUARIA | H20: PRODUCCIÓN ESPECIES MENORES | I20: Caballero | M20: 2 | N20: 2
A21: 8678141 | B21: ALBERTO ANTONIO | C21: DE LA CRUZ LLANOS | D21: Cedagro | E21: 9103 | F21: Instructor | G21: ACUÍCOLA Y DE PESCA | H21: PESCA | I21: Caballero | M21: 1 | N21: 1
A22: 8750842 | B22: ARTURO RAFAEL | C22: DIAZ GUTIERREZ | D22: Cedagro | E22: 9103 | F22: Instructor | G22: AGRÍCOLA | H22: AGRICULTURA | I22: Caballero | M22: 1 | N22: 1
A23: 12539771 | B23: ALBERTO | C23: ESCANDON CAMARGO | D23: Cedagro | E23: 9103 | F23: Instructor | G23: AGRÍCOLA | H23: AGRICULTURA DE PRECISIÓN | I23: Caballero | M23: 1 | N23: 1
A24: 3735980 | B24: JAVIER EMILIO | C24: FERNANDEZ MARQUEZ | D24: Cedagro | E24: 9103 | F24: Instructor | G24: GESTIÓN ADMINISTRATIVA Y SERVICIOS FINANCIEROS | H24: GESTIÓN ADMINISTRATIVA EN AREA RURAL | I24: Caballero | N24: 1
A25: 72218427 | B25: JAVIER ENRIQUE | C25: GARCIA NORIEGA | D25: Cedagro | E25: 9103 | F25: Instructor | G25: AMBIENTAL | H25: BIODIVERSIDAD | I25: Caballero | M25: 1 | N25: 1
A26: 8736558 | B26: GIOVANNY WALTER | C26: IBANEZ PRADA | D26: Cedagro | E26: 9103 | F26: Instructor | G26: COORDINACIÓN ACADÉMICA | H26: ACUÍCOLA Y PESCA; AGRÍCOLA; AMBIENTAL; BIOTECNOLOGÍA, MINERÍA , PECUARIA | I26: Caballero | N26: 1
A27: 91279157 | B27: GERMAN DIEGO | C27: JAIMES AMAYA | D27: Cedagro | E27: 9103 | F27: Instructor | G27: AGRÍCOLA | H27: AGRICULTURA | I27: Caballero | M27: 1 | N27: 1
A28: 72336137 | B28: DANIEL EDUARDO | C28: MARTINEZ FLOREZ | D28: Cedagro | E28: 9103 | F28: Instructor | G28: LOGÍSTICA Y GESTIÓN DE LA PRODUCCIÓN | H28: SEGURIDAD Y SALUD EN EL TRABAJO EN AREA RURAL | I28: Caballero | N28: 1
A29: 18856398 | B29: ALFREDO DEL CRISTO | C29: MARTINEZ JARABA | D29: Cedagro | E29: 9103 | F29: Instructor | G29: PECUARIA | H29: PRODUCCIÓN ESPECIES MENORES | I29: Caballero | M29: 2 | N29: 2
A30: 8736056 | B30: RICARDO ANTONIO | C30: MAURY MARQUEZ | D30: Cedagro | E30: 9103 | F30: Instructor | G30: GESTIÓN ADMINISTRATIVA Y SERVICIOS FINANCIEROS | H30: GESTIÓN ADMINISTRATIVA EN AREA RURAL | I30: Caballero | N30: 1
A31: 84079411 | B31: CESAR | C31: MENDOZA ALVARADO | D31: Cedagro | E31: 9103 | F31: Instructor | G31: AMBIENTAL | H31: GESTIÓN AMBIENTAL SECTORIAL Y URBANA | I31: Caballero | N31: 1
A32: 12546499 | B32: ROBINSON ANTONIO | C32: OROZCO NIEBLES | D32: Cedagro | E32: 9103 | F32: Instructor | G32: COORDINACIÓN ACADÉMICA | H32: ACUÍCOLA Y PESCA; AGRÍCOLA; AMBIENTAL; BIOTECNOLOGÍA, MINERÍA , PECUARIA | I32: Caballero | N32: 1
A33: 8681710 | B33: EDUARDO | C33: PEÑA DAZA | D33: Cedagro | E33: 9103 | F33: Instructor | G33: AMBIENTAL | H33: BIODIVERSIDAD | I33: Caballero | M33: 1 | N33: 1
A34: 73071447 | B34: OSCAR DE JESUS | C34: PEREZ HERNANDEZ | D34: Cedagro | E34: 9103 | F34: Instructor | G34: AMBIENTAL | H34: FORESTAL | I34: Caballero | M34: 1 | N34: 1
A35: 72245421 | B35: VICTOR HUGO | C35: POLO CALVO | D35: Cedagro | E35: 9103 | F35: Instructor | G35: AMBIENTAL | H35: GESTIÓN AMBIENTAL SECTORIAL Y URBANA | I35: Caballero | N35: 1
A36: 8767113 | B36: JESER JOSUE | C36: SARMIENTO CORCHO | D36: Cedagro | E36: 9103 | F36: Instructor | G36: GESTIÓN ADMINISTRATIVA Y SERVICIOS FINANCIEROS | H36: TALENTO HUMANO EN AREA RURAL | I36: Caballero | N36: 1
A37: 1001993646 | B37: CARLOS ANDRES | C37: SUAZA MORENO | D37: Cedagro | E37: 9103 | F37: Instructor | G37: ENERGÍA ELÉCTRICA | H37: USO FINAL DE LA ENERGÍA ELÉCTRICA | I37: Caballero | N37: 1
A38: 72334620 | B38: GUILLERMO | C38: VEGA ORTEGA | D38: Cedagro | E38: 9103 | F38: Instructor | G38: AMBIENTAL | H38: GESTIÓN DEL RECURSO HIDRÍCO | I38: Caballero | M38: 1 | N38: 1
A39: 8711005 | B39: EDGARDO ANTONIO | C39: VILLALBA PEREZ | D39: Cedagro | E39: 9103 | F39: Instructor | G39: TELEINFORMATICA | H39: SOFTWARE EN AREA RURAL | I39: Caballero | N39: 1
A40: 94552425 | B40: ANDRES MAURICIO | C40: AGUIRRE ANTOLINEZ | D40: Colombo | E40: 9207 | F40: Instructor | G40: TELECOMUNICACIONES | H40: ADMINISTRACION DE PROYECTOS | I40: Caballero | N40: 1
...

Sheet ROPA TO
A1: TRABAJADORES OFICIALES CENTRO NACIONAL COLOMBO ALEMAN | E1: Cantidad De Prendas Según Lo Establecido En El Artículo 79 De La Convención Colectiva De Trabajo
A2: Identificación | B2: Nombres | C2: Apellidos | D2: Descripción Cargo | E2: VESTIDO DE CALLE PARA MUJER | F2: ANTIFLUIDO | G2: CAMISA MANGA LARGA | H2: PANTALON FORMAL | I2: VESTIDO PARA HOMBRE | J2: OVEROL
A3: 8734424 | B3: JOSE LUIS | C3: MAESTRE BADDINES | D3: Conductor G10 | E3: 0 | F3: 0 | G3: 3 | H3: 0 | I3: 4 | J3: 3
A4: 32832041 | B4: DIANA MARCEL | C4: LUBO SOBRINO | D4: Aseador(a) G10 | E4: 5 | F4: 2 | G4: 0 | H4: 0 | I4: 0 | J4: 0
A5: 32689082 | B5: OSIRIS CARINA | C5: OROZCO REJTMAN | D5: Aseador(a) G10 | E5: 5 | F5: 2 | G5: 0 | H5: 0 | I5: 0 | J5: 0
A6: 32863190 | B6: XIOMARA DEL SOCORRO | C6: MORA GENECCO | D6: Aseador(a) G10 | E6: 5 | F6: 2 | G6: 0 | H6: 0 | I6: 0 | J6: 0
A7: 32776061 | B7: ELIZABETH | C7: QUIROGA LUQUE | D7: Aseador(a) G08 | E7: 5 | F7: 2 | G7: 0 | H7: 0 | I7: 0 | J7: 0
A8: 3741101 | B8: SIGIFREDO | C8: MARTINEZ SANTIAGO | D8: Operario Mtto Gral.G10 | E8: 0 | F8: 0 | G8: 5 | H8: 5 | I8: 0 | J8: 2
A9: 72204326 | B9: BENJAMIN ENRIQUE | C9: PEDROZO ROCHA | D9: Oficial Mantto Gral.G10 | E9: 0 | F9: 0 | G9: 5 | H9: 5 | I9: 0 | J9: 2
A10: 72307469 | B10: LUIS GUILLERMO | C10: MARTINEZ CASTRO | D10: Oficial Mantto Gral.G10 | E10: 0 | F10: 0 | G10: 5 | H10: 5 | I10: 0 | J10: 2
A11: 72212081 | B11: ANTONIO ENRIQUE | C11: RIOS PALMA | D11: Oficial Mantto Gral.G10 | E11: 0 | F11: 0 | G11: 5 | H11: 5 | I11: 0 | J11: 2
A12: 1129537158 | B12: HERMINZUL RAFAEL | C12: MARTINEZ CASTRO | D12: Oficial Mantto Gral.G10 | E12: 0 | F12: 0 | G12: 5 | H12: 5 | I12: 0 | J12: 2
A13: 77168360 | B13: ISAAC ELIAS | C13: BLANCO GULLO | D13: Trabajador de Campo G10 | E13: 0 | F13: 0 | G13: 5 | H13: 5 | I13: 0 | J13: 2
A14: TOTALES | E14: =+E3+E4+E5+E6+E7+E8+E9+E10+E11+E12+E13 -> 20 | F14: =SUM(F3:F13) -> 8 | G14: =SUM(G3:G13) -> 33 | H14: =SUM(H3:H13) -> 30 | I14: =SUM(I3:I13) -> 4 | J14: =SUM(J3:J13) -> 15
A16: TRABAJADORES OFICIALES CENTRO INDUSTRIAL Y DE AVIACION | E16: Cantidad De Prendas Según Lo Establecido En El Artículo 79 De La Convención Colectiva De Trabajo
A17: Identificación | B17: Nombres | C17: Apellidos | D17: Descripción Cargo | E17: VESTIDO DE CALLE PARA MUJER | F17: ANTIFLUIDO | G17: CAMISA MANGA LARGA | H17: PANTALON FORMAL | I17: VESTIDO PARA HOMBRE | J17: OVEROL
A18: 72129758 | B18: SURIO | C18: CHARRIS ECHAVEZ | D18: Conductor G09 | E18: 0 | F18: 0 | G18: 3 | H18: 0 | I18: 4 | J18: 3
A19: 72149309 | B19: VICTOR MANUEL | C19: URINA ELJAIEK | D19: Conductor G10 | E19: 0 | F19: 0 | G19: 3 | H19: 0 | I19: 4 | J19: 3
A20: 19581944 | B20: PEDRO ANTONIO | C20: TOBIAS RANGEL | D20: Oficial Mantto Gral.G10 | E20: 0 | F20: 0 | G20: 5 | H20: 5 | I20: 0 | J20: 2
A21: 72215198 | B21: HUGO RAMON | C21: PEREZ MARQUEZ | D21: Oficial Mantto Gral.G10 | E21: 0 | F21: 0 | G21: 5 | H21: 5 | I21: 0 | J21: 2
A22: 72095909 | B22: ORLANDO JESUS | C22: SARMIENTO ACENDRA | D22: Oficial Mantto Gral.G09 | E22: 0 | F22: 0 | G22: 5 | H22: 5 | I22: 0 | J22: 2
A23: 72016351 | B23: NELSON ENRIQUE | C23: LUBO SOBRINO | D23: Oficial Mantto Gral.G10 | E23: 0 | F23: 0 | G23: 5 | H23: 5 | I23: 0 | J23: 2
A24: 8637502 | B24: ALFREDO RAFAEL | C24: HURTADO NAVARRO | D24: Trabajador de Campo G10 | E24: 0 | F24: 0 | G24: 5 | H24: 5 | I24: 0 | J24: 2
A25: 72052410 | B25: DAIRO ANTONIO | C25: CHARRIS TERNERA | D25: Operario Mtto Gral.G08 | E25: 0 | F25: 0 | G25: 5 | H25: 5 | I25: 0 | J25: 2
A26: 72003459 | B26: JOSE LUIS | C26: PEDROZO ROCHA | D26: Operario Mtto Gral.G10 | E26: 0 | F26: 0 | G26: 5 | H26: 5 | I26: 0 | J26: 2
A27: 1143431792 | B27: ANDERSON | C27: MEZA CASTILLO | D27: Operario Mtto Gral.G10 | E27: 0 | F27: 0 | G27: 5 | H27: 5 | I27: 0 | J27: 2
A28: 18936295 | B28: FABIO ALBERTO | C28: PINZON REALES | D28: Trabajador de Campo G10 | E28: 0 | F28: 0 | G28: 5 | H28: 5 | I28: 0 | J28: 2
A29: 3741720 | B29: JULIO ALBERTO | C29: ORELLANO VARELA | D29: Trabajador de Campo G10 | E29: 0 | F29: 0 | G29: 5 | H29: 5 | I29: 0 | J29: 2
... A32: 32644510 | B32: ELIZABETH | C32: DIAZ ESTRADA | D32: Aseador(a) G10 | E32: 5 | F32: 2 | G32: 0 | H32: 0 | I32: 0 | J32: 0
A33: TOTALES | E33: =+E30+E31+E32 -> 15 | F33: =+F30+F31+F32 -> 6 | G33: =+G18+G19+G20+G21+G22+G24+G23+G25+G26+G27+G28+G29 -> 56 | H33: =+H20+H21+H22+H23+H24+H25+H26+H27+H28+H29 -> 50 | I33: =+I18+I19 -> 8 | J33: =+J18+J19+J20+J21+J22+J23+J24+J25+J26+J27+J28+J29 -> 26
A35: TRABAJADORES OFICIALES CENTRO DE COMERCIO Y SERVICIOS | E35: Cantidad De Prendas Según Lo Establecido En El Artículo 79 De La Convención Colectiva De Trabajo
A36: Identificación | B36: Nombres | C36: Apellidos | D36: Descripción Cargo | E36: VESTIDO DE CALLE PARA MUJER | F36: ANTIFLUIDO | G36: CAMISA MANGA LARGA | H36: PANTALON FORMAL | I36: VESTIDO PARA HOMBRE | J36: OVEROL
A37: 50904874 | B37: JAIDITH MARIA | C37: LOPEZ MENDOZA | D37: Aseador(a) G10 | E37: 5 | F37: 2 | G37: 0 | H37: 0 | I37: 0 | J37: 0
A38: 33218039 | B38: LUDYS | C38: MEDINA VILLARREAL | D38: Aseador(a) G10 | E38: 5 | F38: 2 | G38: 0 | H38: 0 | I38: 0 | J38: 0
A39: 32724514 | B39: ENEIDA MARIA | C39: JIMENEZ MARQUEZ | D39: Aseador(a) G10 | E39: 5 | F39: 2 | G39: 0 | H39: 0 | I39: 0 | J39: 0
A40: 22569347 | B40: MARIA ANGELICA | C40: CASTRO SARMIENTO | D40: Aseador(a) G10 | E40: 5 | F40: 2 | G40: 0 | H40: 0 | I40: 0 | J40: 0
A41: 22426931 | B41: HELENA ISABEL | C41: STAND BUITRAGO | D41: Aseador(a) G10 | E41: 5 | F41: 2 | G41: 0 | H41: 0 | I41: 0 | J41: 0
A42: 32713496 | B42: CARMEN EUGENIA | C42: MONSALVO PADILLA | D42: Aseador(a) G10 | E42: 5 | F42: 2 | G42: 0 | H42: 0 | I42: 0 | J42: 0
A43: 55227929 | B43: DIANA MARCELA | C43: MUÑOZ ALMARIO | D43: Aseador(a) G05 | E43: 5 | F43: 2 | G43: 0 | H43: 0 | I43: 0 | J43: 0
A44: 8691864 | B44: MANUEL SALVADOR | C44: BUSTOS HERNANDES | D44: Conductor G10 | E44: 0 | F44: 0 | G44: 3 | H44: 0 | I44: 4 | J44: 3
...

Sheet CALZADO TO
A1: TRABAJADORES OFICIALES CENTRO NACIONAL COLOMBO ALEMAN | E1: Cantidad De calzado Según Lo Establecido En El Artículo 79 De La Convención Colectiva De Trabajo
A2: Identificación | B2: Nombres | C2: Apellidos | D2: Descripción Cargo | E2: CALZADO (MTTO Y CONDUCTOR) HOMBRE | F2: CALZADO MUJER
A3: 8734424 | B3: JOSE LUIS | C3: MAESTRE BADDINES | D3: Conductor G10 | E3: 2
A4: 32832041 | B4: DIANA MARCEL | C4: LUBO SOBRINO | D4: Aseador(a) G10 | F4: 4
A5: 32689082 | B5: OSIRIS CARINA | C5: OROZCO REJTMAN | D5: Aseador(a) G10 | F5: 4
A6: 32863190 | B6: XIOMARA DEL SOCORRO | C6: MORA GENECCO | D6: Aseador(a) G10 | F6: 4
A7: 32776061 | B7: ELIZABETH | C7: QUIROGA LUQUE | D7: Aseador(a) G08 | F7: 4
A8: 3741101 | B8: SIGIFREDO | C8: MARTINEZ SANTIAGO | D8: Operario Mtto Gral.G10 | E8: 4
A9: 72204326 | B9: BENJAMIN ENRIQUE | C9: PEDROZO ROCHA | D9: Oficial Mantto Gral.G10 | E9: 4
A10: 72307469 | B10: LUIS GUILLERMO | C10: MARTINEZ CASTRO | D10: Oficial Mantto Gral.G10 | E10: 4
A11: 72212081 | B11: ANTONIO ENRIQUE | C11: RIOS PALMA | D11: Oficial Mantto Gral.G10 | E11: 4
A12: 1129537158 | B12: HERMINZUL RAFAEL | C12: MARTINEZ CASTRO | D12: Oficial Mantto Gral.G10 | E12: 4
A13: 77168360 | B13: ISAAC ELIAS | C13: BLANCO GULLO | D13: Trabajador de Campo G10 | E13: 4
A14: TOTALES | E14: =+E3+E8+E10+E9+E11+E12+E13 -> 26 | F14: =+F4+F5+F6+F7 -> 16
A16: TRABAJADORES OFICIALES CENTRO INDUSTRIAL Y DE AVIACION | E16: Cantidad De calzado Según Lo Establecido En El Artículo 79 De La Convención Colectiva De Trabajo
A17: Identificación | B17: Nombres | C17: Apellidos | D17: Descripción Cargo | E17: CALZADO (MTTO Y CONDUCTOR) HOMBRE | F17: CALZADO MUJER
A18: 72129758 | B18: SURIO | C18: CHARRIS ECHAVEZ | D18: Conductor G09 | E18: 2
A19: 72149309 | B19: VICTOR MANUEL | C19: URINA ELJAIEK | D19: Conductor G10 | E19: 2
A20: 19581944 | B20: PEDRO ANTONIO | C20: TOBIAS RANGEL | D20: Oficial Mantto Gral.G10 | E20: 4
A21: 72215198 | B21: HUGO RAMON | C21: PEREZ MARQUEZ | D21: Oficial Mantto Gral.G10 | E21: 4
A22: 72095909 | B22: ORLANDO JESUS | C22: SARMIENTO ACENDRA | D22: Oficial Mantto Gral.G09 | E22: 4
A23: 72016351 | B23: NELSON ENRIQUE | C23: LUBO SOBRINO | D23: Oficial Mantto Gral.G10 | E23: 4
A24: 8637502 | B24: ALFREDO RAFAEL | C24: HURTADO NAVARRO | D24: Trabajador de Campo G10 | E24: 4
A25: 72052410 | B25: DAIRO ANTONIO | C25: CHARRIS TERNERA | D25: Operario Mtto Gral.G08 | E25: 4
A26: 72003459 | B26: JOSE LUIS | C26: PEDROZO ROCHA | D26: Operario Mtto Gral.G10 | E26: 4
A27: 1143431792 | B27: ANDERSON | C27: MEZA CASTILLO | D27: Operario Mtto Gral.G10 | E27: 4
A28: 18936295 | B28: FABIO ALBERTO | C28: PINZON REALES | D28: Trabajador de Campo G10 | E28: 4
A29: 3741720 | B29: JULIO ALBERTO | C29: ORELLANO VARELA | D29: Trabajador de Campo G10 | E29: 4
A30: 32864190 | B30: PATRICIA JUDI | C30: MARTINEZ GUTIERREZ | D30: Aseador(a) G10 | F30: 4
A31: 51766110 | B31: MARIA DE LOS SANT | C31: ALMARIO PEÑA | D31: Aseador(a) G10 | F31: 4
A32: 32644510 | B32: ELIZABETH | C32: DIAZ ESTRADA | D32: Aseador(a) G10 | F32: 4
A33: TOTALES | E33: =+E18+E19+E20+E21+E22+E23+E24+E25+E26+E27+E28+E29 -> 44 | F33: =+F30+F31+F32 -> 12
A35: TRABAJADORES OFICIALES CENTRO DE COMERCIO Y SERVICIOS | E35: Cantidad De calzado Según Lo Establecido En El Artículo 79 De La Convención Colectiva De Trabajo
A36: Identificación | B36: Nombres | C36: Apellidos | D36: Descripción Cargo | E36: CALZADO (MTTO Y CONDUCTOR) HOMBRE | F36: CALZADO MUJER
A37: 50904874 | B37: JAIDITH MARIA | C37: LOPEZ MENDOZA | D37: Aseador(a) G10 | F37: 4
A38: 33218039 | B38: LUDYS | C38: MEDINA VILLARREAL | D38: Aseador(a) G10 | F38: 4
A39: 32724514 | B39: ENEIDA MARIA | C39: JIMENEZ MARQUEZ | D39: Aseador(a) G10 | F39: 4
A40: 22569347 | B40: MARIA ANGELICA | C40: CASTRO SARMIENTO | D40: Aseador(a) G10 | F40: 4
A41: 22426931 | B41: HELENA ISABEL | C41: STAND BUITRAGO | D41: Aseador(a) G10 | F41: 4
A42: 32713496 | B42: CARMEN EUGENIA | C42: MONSALVO PADILLA | D42: Aseador(a) G10 | F42: 4
...
