Workbook

Sheet CÓDIGOS UNSPSC
C2: CLASIFICACIÓN UNSPSC | D2: DESCRIPCIÓN
C3: 53102506 | D3: Gorras
C4: 53101801 | D4: Chaquetas y abrigos
C5: 53101802 | D5: Camiseta tipo buzo o sudadera

Sheet PROVEEDOR_No_1
B2: CMC2025-0000
B3: ITEM | C3: PRODUCTO | D3: UNIDAD DE MEDIDA | E3: CANTIDAD | F3: VALOR UNITARIO | G3: VALOR UNITARIO CON IVA
B4: 1 | C4: Diseño y elaboración de chaqueta en tela antifluido, con las siguientes características: Forro interno, Cuello tipo chompa, Cinta reflectiva, Bolsillos con fuelle y cierre, Mangas separables. Elaborada en colores institucionales: Verde bosque (Pantone 355), Verde cítrico (Pantone 375), Gris (Pantone Cool Gray 8) Logos institucionales: Logo de EPM en el lado derecho, en color blanco, Logo del Municipio en el lado izquierdo, también en color blanco a full color (colores oficiales.) a full color (colores oficiales.) Tallas: S-M-L-XL | D4: Unidad Talla M | E4: 11 | F4: 226000 | G4: =F4*E4 -> 2486000
D5: Unidad Talla L | E5: 8 | F5: 226000 | G5: =F5*E5 -> 1808000
C6: Diseño y elaboración de camibuzo deportivo de manga larga y cuello redondo. El color principal es gris claro, complementado con detalles en verde en los costados y mangas, elaborados en tela tipo Qatar Elaborada en colores institucionales: Verde bosque (Pantone 355), Verde cítrico (Pantone 375), Gris (Pantone Cool Gray 8) predominante el color gris Logos institucionales: Logo del Municipio en el lado izquierdo a full color (colores oficiales.) Tallas: S-M-L | D6: Unidad Talla M | E6: 7 | F6: 72000 | G6: =F6*E6 -> 504000
D7: Unidad Talla L | E7: 4 | F7: 72000 | G7: =F7*E7 -> 288000
C8: Diseño y elaboración de camibuzo deportivo de manga larga y cuello redondo. El color principal es gris claro, complementado con detalles en verde en los costados y mangas, elaborados en tela tipo Qatar Elaborada en colores institucionales: Verde bosque (Pantone 355), Verde cítrico (Pantone 375), Gris (Pantone Cool Gray 8) predominante el color gris Logos institucionales: Logo de EPM en el lado derecho, Logo del Municipio en el lado izquierdo a full color (colores oficiales.) (ambos en sus colores oficiales.) Tallas: S-M-L | D8: Unidad Talla M | E8: 10 | F8: 72000 | G8: =F8*E8 -> 720000
D9: Unidad Talla L | E9: 7 | F9: 72000 | G9: =F9*E9 -> 504000
B10: 4 | C10: Diseño y elaboración de gorras en color negro, con detalle en color verde cítrico (Pantone 375) en el borde inferior de la visera. Logos institucionales:Logo del Municipio adelante centrado a full color (colores oficiales.) | D10: Unidad | E10: 10 | F10: 25000 | G10: =F10*E10 -> 250000
B11: 5 | C11: Diseño y elaboración de gorras en color negro, con detalle en color verde cítrico (Pantone 375) en el borde inferior de la visera. Logos institucionales: Logo de EPM en el lado derecho, Logo del Municipio en el lado izquierdo a full color (colores oficiales.) | D11: Unidad | E11: 18 | F11: 25000 | G11: =F11*E11 -> 450000
B12: TOTAL | G12: =SUM(G4:G11) -> 7010000

Sheet PROVEEDOR_No_2
B2: CMC2025-0000
B3: ITEM | C3: PRODUCTO | D3: UNIDAD DE MEDIDA | E3: CANTIDAD | F3: VALOR UNITARIO | G3: VALOR UNITARIO CON IVA
B4: 1 | C4: Diseño y elaboración de chaqueta en tela antifluido, con las siguientes características: Forro interno, Cuello tipo chompa, Cinta reflectiva, Bolsillos con fuelle y cierre, Mangas separables. Elaborada en colores institucionales: Verde bosque (Pantone 355), Verde cítrico (Pantone 375), Gris (Pantone Cool Gray 8) Logos institucionales: Logo de EPM en el lado derecho, en color blanco, Logo del Municipio en el lado izquierdo, también en color blanco a full color (colores oficiales.) a full color (colores oficiales.) Tallas: S-M-L-XL | D4: Unidad Talla M | E4: 11 | F4: 230000 | G4: =F4*E4 -> 2530000
D5: Unidad Talla L | E5: 8 | F5: 230000 | G5: =F5*E5 -> 1840000
C6: Diseño y elaboración de camibuzo deportivo de manga larga y cuello redondo. El color principal es gris claro, complementado con detalles en verde en los costados y mangas, elaborados en tela tipo Qatar Elaborada en colores institucionales: Verde bosque (Pantone 355), Verde cítrico (Pantone 375), Gris (Pantone Cool Gray 8) predominante el color gris Logos institucionales: Logo del Municipio en el lado izquierdo a full color (colores oficiales.) Tallas: S-M-L | D6: Unidad Talla M | E6: 7 | F6: 73000 | G6: =F6*E6 -> 511000
D7: Unidad Talla L | E7: 4 | F7: 73000 | G7: =F7*E7 -> 292000
C8: Diseño y elaboración de camibuzo deportivo de manga larga y cuello redondo. El color principal es gris claro, complementado con detalles en verde en los costados y mangas, elaborados en tela tipo Qatar Elaborada en colores institucionales: Verde bosque (Pantone 355), Verde cítrico (Pantone 375), Gris (Pantone Cool Gray 8) predominante el color gris Logos institucionales: Logo de EPM en el lado derecho, Logo del Municipio en el lado izquierdo a full color (colores oficiales.) (ambos en sus colores oficiales.) Tallas: S-M-L | D8: Unidad Talla M | E8: 10 | F8: 73000 | G8: =F8*E8 -> 730000
D9: Unidad Talla L | E9: 7 | F9: 73000 | G9: =F9*E9 -> 511000
B10: 4 | C10: Diseño y elaboración de gorras en color negro, con detalle en color verde cítrico (Pantone 375) en el borde inferior de la visera. Logos institucionales:Logo del Municipio adelante centrado a full color (colores oficiales.) | D10: Unidad | E10: 10 | F10: 28000 | G10: =F10*E10 -> 280000
B11: 5 | C11: Diseño y elaboración de gorras en color negro, con detalle en color verde cítrico (Pantone 375) en el borde inferior de la visera. Logos institucionales: Logo de EPM en el lado derecho, Logo del Municipio en el lado izquierdo a full color (colores oficiales.) | D11: Unidad | E11: 18 | F11: 28000 | G11: =F11*E11 -> 504000
B12: TOTAL | G12: =SUM(G4:G11) -> 7198000

Sheet CONSOLIDADO
B2: CMC2025-0000
B3: ITEM | C3: PRODUCTO | D3: UNIDAD DE MEDIDA | E3: CAN | F3: VALOR UNITARIO | G3: VALOR UNITARIO CON IVA
B4: 1 | C4: Diseño y elaboración de chaqueta en tela antifluido, con las siguientes características: Forro interno, Cuello tipo chompa, Cinta reflectiva, Bolsillos con fuelle y cierre, Mangas separables. Elaborada en colores institucionales: Verde bosque (Pantone 355), Verde cítrico (Pantone 375), Gris (Pantone Cool Gray 8) Logos institucionales: Logo de EPM en el lado derecho, en color blanco, Logo del Municipio en el lado izquierdo, también en color blanco a full color (colores oficiales.) a full color (colores oficiales.) Tallas: S-M-L-XL | D4: Unidad Talla M | E4: 11 | F4: =AVERAGE(PROVEEDOR_No_1!F4,PROVEEDOR_No_2!F4) -> 228000 | G4: =F4*E4 -> 2508000
D5: Unidad Talla L | E5: 8 | F5: =AVERAGE(PROVEEDOR_No_1!F5,PROVEEDOR_No_2!F5) -> 228000 | G5: =F5*E5 -> 1824000
C6: Diseño y elaboración de camibuzo deportivo de manga larga y cuello redondo. El color principal es gris claro, complementado con detalles en verde en los costados y mangas, elaborados en tela tipo Qatar Elaborada en colores institucionales: Verde bosque (Pantone 355), Verde cítrico (Pantone 375), Gris (Pantone Cool Gray 8) predominante el color gris Logos institucionales: Logo del Municipio en el lado izquierdo a full color (colores oficiales.) Tallas: S-M-L | D6: Unidad Talla M | E6: 7 | F6: =AVERAGE(PROVEEDOR_No_1!F6,PROVEEDOR_No_2!F6) -> 72500 | G6: =F6*E6 -> 507500
D7: Unidad Talla L | E7: 4 | F7: =AVERAGE(PROVEEDOR_No_1!F7,PROVEEDOR_No_2!F7) -> 72500 | G7: =F7*E7 -> 290000
C8: Diseño y elaboración de camibuzo deportivo de manga larga y cuello redondo. El color principal es gris claro, complementado con detalles en verde en los costados y mangas, elaborados en tela tipo Qatar Elaborada en colores institucionales: Verde bosque (Pantone 355), Verde cítrico (Pantone 375), Gris (Pantone Cool Gray 8) predominante el color gris Logos institucionales: Logo de EPM en el lado derecho, Logo del Municipio en el lado izquierdo a full color (colores oficiales.) (ambos en sus colores oficiales.) Tallas: S-M-L | D8: Unidad Talla M | E8: 10 | F8: =AVERAGE(PROVEEDOR_No_1!F8,PROVEEDOR_No_2!F8) -> 72500 | G8: =F8*E8 -> 725000
D9: Unidad Talla L | E9: 7 | F9: =AVERAGE(PROVEEDOR_No_1!F9,PROVEEDOR_No_2!F9) -> 72500 | G9: =F9*E9 -> 507500
B10: 4 | C10: Diseño y elaboración de gorras en color negro, con detalle en color verde cítrico (Pantone 375) en el borde inferior de la visera. Logos institucionales:Logo del Municipio adelante centrado a full color (colores oficiales.) | D10: Unidad | E10: 10 | F10: =AVERAGE(PROVEEDOR_No_1!F10,PROVEEDOR_No_2!F10) -> 26500 | G10: =F10*E10 -> 265000
B11: 5 | C11: Diseño y elaboración de gorras en color negro, con detalle en color verde cítrico (Pantone 375) en el borde inferior de la visera. Logos institucionales: Logo de EPM en el lado derecho, Logo del Municipio en el lado izquierdo a full color (colores oficiales.) | D11: Unidad | E11: 18 | F11: =AVERAGE(PROVEEDOR_No_1!F11,PROVEEDOR_No_2!F11) -> 26500 | G11: =F11*E11 -> 477000
B12: TOTAL | G12: =SUM(G4:G11) -> 7104000
