Workbook

Sheet LOTE 1
C1: INSTITUTO NACIONAL DE MEDICINA LEGAL DE CIENCIAS FORENSES SUMINISTRO DE INSUMOS PARA LOS LABORATORIOS FORENSES Y ORGANISMOS DE INSPECCIÓN DEL INSTITUTO NACIONAL DE MEDICINA LEGAL Y CIENCIAS FORENSES CUADRO PARA DILIGENCIAR
C3: LOTE | D3: ÍTEM | E3: DESCRIPCIÓN | F3: ESPECIFICACIONES (medidas, capacidad, etc.) | G3: UNIDAD DE MEDIDA PRESENTACIÓN | H3: GARANTIA | I3: CANTIDAD TOTAL | J3: NOMBRE DE EMPRESA PROPONENTE | K3: MARCA OFRECIDO | L3: REFERENCIA DE LO OFRECIDO | M3: PAGINA WEB DEL FABRICANTE (donde se puedan revisar las características técnicas de cada item ofertado). | N3: OBSERVACIONES
C6: 1 | D6: 1 | E6: Papel filtro cualitativo, de flujo lento, grosor nominal entre 140 y 200 um, rango de retención entre 2 y 4 um, peso base entre 80-100 g/m2. | F6: Diámetro 12.5 cm | G6: Caja por100 | H6: MINIMO UN (1) AÑO | I6: 27
C7: 1 | D7: =+D6+1 -> 2 | E7: Papel filtro cualitativo, dde flujo lento, grosor nominal entre 140 y 200 um, rango de retención entre 2 y 4 um, peso base entre 80-100 g/m2. | F7: Diámetro 15 cm | G7: Caja por100 | H7: MINIMO UN (1) AÑO | I7: 27
C8: 1 | D8: =+D7+1 -> 3 | E8: Espátula combinada, con un extremo en forma de cuchara y el otro extremo de forma plana en acero inoxidable. | F8: Largo: 15-23 cm. | G8: Unidad | H8: MINIMO UN (1) AÑO | I8: 17
C9: 1 | D9: =+D8+1 -> 4 | E9: Lapiz punta de diamante para escritura sobre vidrio | F9: na | G9: unidad | H9: MINIMO UN (1) AÑO | I9: 1
C10: 1 | D10: =+D9+1 -> 5 | E10: Varillas (strips) indicadoras de pH con escala colorimétrica, 4 pads o almohadillas (No papel indicador). | F10: Rango: pH 0/1-14 | G10: Paquete de 100 varillas | H10: MINIMO UN (1) AÑO | I10: 37
C11: 1 | D11: =+D10+1 -> 6 | E11: Reloj con Temporizador / timer para laboratorio: | F11: Digital, con dos o tres temporizadores independientes, --realice conteo del tiempo de forma ascendente y descendente, la medición del tiempo hasta 99 horas 59 minutos, 59 segundos, -alarma de sonido con durabilidad de 1 minuto cuando el contabilizador llegue a cero, -Con capacidad de memoria, con clip de fijacion magnetica para superficies metálicas. | G11: Unidad | H11: MINIMO UN (1) AÑO | I11: 5
C12: 1 | D12: =+D11+1 -> 7 | E12: Escobillón de limpieza o churrusco para pipeta de 2ml. Material: Lana/Nylon y alambre | F12: Largo total: 380- 610 mm Diámetro del cepillo: 5-9 mm | G12: Unidad | H12: MINIMO UN (1) AÑO | I12: 8
C13: 1 | D13: =+D12+1 -> 8 | E13: Escobillón de limpieza o churrusco para pipeta de 5 mL. Material: Lana/ Nylon y alambre. | F13: largo total: 380-600 mm. Diametro de cepillo: 9 - 15 mm | G13: Unidad | H13: MINIMO UN (1) AÑO | I13: 11
C14: 1 | D14: =+D13+1 -> 9 | E14: Escobillón de limpieza o churrusco para bureta de 10 ml. Material: cerda y alambre. | F14: Largo total: 600- 800mm Diametro del cepillo: 13-18mm | G14: unidad | H14: MINIMO UN (1) AÑO | I14: 8
C15: 1 | D15: =+D14+1 -> 10 | E15: Gasa hospitalaria precortada, no tejida, de mínimo cuatro pliegues | F15: Medidas: 7,5 cm X 7,5 cm, hasta 10 x 10 cm estéril, empacada en sobres sellados, sin manipular | G15: Sobre x 5 unidades | H15: MINIMO UN (1) AÑO | I15: 41100
C16: 1 | D16: =+D15+1 -> 11 | E16: Varilla o barra agitadora de vidrio macizo | F16: Largo: 25-30cm, Diámetro: 6-8mm . | G16: Unidad | H16: MINIMO UN (1) AÑO | I16: 20
C17: 1 | D17: =+D16+1 -> 12 | E17: Chupa o Tetina de látex natural para pipetas pasteur | F17: Capacidad: 2mL. | G17: Paquete x 100 unidades | H17: MINIMO UN (1) AÑO | I17: 2
C18: 1 | D18: =+D17+1 -> 13 | E18: Pesasustancias cuadradas o hexagonales en poliestireno antiestático, color natural/blanco | F18: Capacidad:100 ml ó Largo/acho/alto: 90x90x20mm (+/- 10 mm de tolerancia en estas dimensiones ) | G18: Paquete de 500 unidades | H18: MINIMO UN (1) AÑO | I18: 12
... C24: 1 | D24: =+D23+1 -> 19 | E24: Fresas de alta velocidad para motor tool, referencia Dremel 115 | F24: No aplica | G24: Paquete x 2 unidades | H24: MINIMO UN (1) AÑO | I24: 50
E26: CLASIFICACIÓN DEL BIEN O SERVICIO DE ACUERDO CON EL CLASIFICADOR DE BIENES Y SERVICIOS | F26: 42281800
F27: 24112600
F28: 40161500
F29: 41104900
F30: 41121800
F31: 41122400
F32: 41122800
F33: 41111600
F34: 41104800
F35: 41121700
E36: CALIDAD MINIMA | F36: GARANTIA MINIMA 1 AÑO
E37: PATRONES DE DESEMPEÑO MINIMOS | F37: NO APLICA

Sheet LOTE 2
C1: INSTITUTO NACIONAL DE MEDICINA LEGAL DE CIENCIAS FORENSES SUMINISTRO DE INSUMOS PARA LOS LABORATORIOS FORENSES Y ORGANISMOS DE INSPECCIÓN DEL INSTITUTO NACIONAL DE MEDICINA LEGAL Y CIENCIAS FORENSES CUADRO PARA DILIGENCIAR
C3: LOTE | D3: ÍTEM | E3: DESCRIPCIÓN | F3: ESPECIFICACIONES (medidas, capacidad, etc.) | G3: UNIDAD DE MEDIDA PRESENTACIÓN | H3: GARANTIA | I3: CANTIDAD TOTAL | J3: NOMBRE DE EMPRESA PROPONENTE | K3: MARCA OFRECIDO | L3: REFERENCIA DE LO OFRECIDO | M3: PAGINA WEB DEL FABRICANTE (donde se puedan revisar las características técnicas de cada item ofertado). | N3: OBSERVACIONES
C6: 2 | D6: =1+'LOTE 1'!D24 -> 20 | E6: Gradilla en polipropileno o PTFE (no armables), para tubos de 1,5/2,0 ml de fondo cónico | F6: Capacidad: 80-100 tubos. | G6: Unidad | H6: MINIMO UN (1) AÑO | I6: 20
B7: 4 | C7: 2 | D7: =+D6+1 -> 21 | E7: Gradilla en polipropileno o PTFE para tubos falcon (cónicos) de 15 mL o tubos de ensayo | F7: Capacidad: 40-60 tubos. diametro de 16 a 18 mm | G7: Unidad | H7: MINIMO UN (1) AÑO | I7: 4
C8: 2 | D8: =+D7+1 -> 22 | E8: Caja con tapa, en policarbonato, para almacenamiento de viales de 2 mL. | F8: con capacidad igual o mayor a 81 posiciones | G8: Unidad | H8: MINIMO UN (1) AÑO | I8: 12
C9: 2 | D9: =+D8+1 -> 23 | E9: Gradilla o soporte para embudos analíticos en polipropileno, PTFE u otro material con resistencia química | F9: 4 posiciones | G9: Unidad | H9: MINIMO UN (1) AÑO | I9: 1
E12: CLASIFICACIÓN DEL BIEN O SERVICIO DE ACUERDO CON EL CLASIFICADOR DE BIENES Y SERVICIOS | F12: 24112600
F13: 41104900
F14: 41121800
F15: 41122400
F16: 41121700
E17: CALIDAD MINIMA | F17: GARANTIA MINIMA 12 MESES
E18: PATRONES DE DESEMPEÑO MINIMOS | F18: NO APLICA

Sheet LOTE 3
C2: INSTITUTO NACIONAL DE MEDICINA LEGAL DE CIENCIAS FORENSES SUMINISTRO DE INSUMOS PARA LOS LABORATORIOS FORENSES Y ORGANISMOS DE INSPECCIÓN DEL INSTITUTO NACIONAL DE MEDICINA LEGAL Y CIENCIAS FORENSES CUADRO PARA DILIGENCIA
C4: LOTE | D4: ÍTEM | E4: DESCRIPCIÓN | F4: ESPECIFICACIONES (medidas, capacidad, etc.) | G4: UNIDAD DE MEDIDA PRESENTACIÓN | H4: CANTIDAD TOTAL | I4: NOMBRE DE EMPRESA PROPONENTE | J4: MARCA OFRECIDO | K4: REFERENCIA DE LO OFRECIDO | L4: PAGINA WEB DEL FABRICANTE (donde se puedan revisar las características técnicas de cada item ofertado). | M4: OBSERVACIONES
C7: 3 | D7: =1+'LOTE 2'!D9 -> 24 | E7: Tubos de ensayo en vidrio borosilicato fondo redondo con tapa rosca | F7: Volumen de 15/16 mL Dimensiones: 125mm de longitud y 16mm de diámetro (16x125) | G7: unidad | H7: 10000
C8: 3 | D8: =1+D7 -> 25 | E8: Balón volumétrico o aforado, clase A, con tapa de teflón o vidrio. | F8: Volumen: 5 mL | G8: Unidad | H8: 10
C9: 3 | D9: =1+D8 -> 26 | E9: Balón volumétrico o aforado clase A, con tapa de teflón o vidrio. | F9: Volumen: 10 mL | G9: Unidad | H9: 10
C10: 3 | D10: =1+D9 -> 27 | E10: Balón volumétrico o aforado, clase A, con tapa de teflón o vidrio. | F10: Volumen: 100 mL | G10: Unidad | H10: 5
C11: 3 | D11: =1+D10 -> 28 | E11: Matraz aforado clase A con certificado de calibración individual (con un año de vigencia) | F11: Volumen:5 mL | G11: Unidad | H11: 5
C12: 3 | D12: =1+D11 -> 29 | E12: Matraz aforado clase A con certificado de calibración individual (con un año de vigencia) | F12: Volumen: 25 mL | G12: Unidad | H12: 6
C13: 3 | D13: =1+D12 -> 30 | E13: Matraz aforado clase A con certificado de calibración individual (con un año de vigencia) | F13: Volumen: 50 mL | G13: Unidad | H13: 6
C14: 3 | D14: =1+D13 -> 31 | E14: Matraz aforado clase A con certificado de calibración individual (con un año de vigencia) | F14: Volumen: 100 mL | G14: Unidad | H14: 6
C15: 3 | D15: =1+D14 -> 32 | E15: Bureta graduada en vidrio de borosilicato, con llave en PTFE | F15: Volumen 10 mL | G15: Unidad | H15: 4
C16: 3 | D16: =1+D15 -> 33 | E16: Pipetas pasteur de vidrio sodico-calcico, no esteriles. | F16: Longitud: 140-160 mm | G16: Caja x 250 unidades | H16: 30
C17: 3 | D17: =1+D16 -> 34 | E17: Pipetas pasteur de vidrio sodico-calcico, no esteriles. | F17: Longitud: 220 a 250 mm | G17: Caja x 250 unidades | H17: 36
C18: 3 | D18: =1+D17 -> 35 | E18: Pipetas pasteur plástica graduadas. | F18: Capacidad: 3 ml Longitud: 140-160 mm | G18: Caja x 500 unidades | H18: 2
C19: 3 | D19: =1+D18 -> 36 | E19: Probeta graduada en vidrio borosilicato, con pico, base de plastico o vidrio. | F19: Volumen: 5 mL | G19: Unidad | H19: 5
... C51: 3 | D51: =1+D50 -> 68 | E51: Dispensador de volúmenes variables para botella. Para dispensación directa desde frascos de reactivos (sales, bases y solventes) | F51: Rango de volumen: 5 - 50 mL incrementos de 1 mL o mejor. | G51: Unidad | H51: 12
E53: CLASIFICACIÓN DEL BIEN O SERVICIO DE ACUERDO CON EL CLASIFICADOR DE BIENES Y SERVICIOS | F53: 42281800
F54: 24112600
F55: 40161500
F56: 41104900
F57: 41121800
F58: 41122400
F59: 41111600
F60: 41104800
F61: 41121700
E62: CALIDAD MINIMA | F62: GARANTIA MINIMA 12 MESES PARA TODOS LOS ÍTEMS
E63: PATRONES DE DESEMPEÑO MINIMOS | F63: NO APLICA

Sheet LOTE 4
C1: INSTITUTO NACIONAL DE MEDICINA LEGAL DE CIENCIAS FORENSES SUMINISTRO DE INSUMOS PARA LOS LABORATORIOS FORENSES Y ORGANISMOS DE INSPECCIÓN DEL INSTITUTO NACIONAL DE MEDICINA LEGAL Y CIENCIAS FORENSES CUADRO PARA DILIGENCIA
C3: LOTE | D3: ÍTEM | E3: DESCRIPCIÓN | F3: ESPECIFICACIONES (medidas, capacidad, etc.) | G3: UNIDAD DE MEDIDA PRESENTACIÓN | H3: GARANTIA | I3: CANTIDAD TOTAL | J3: NOMBRE DE EMPRESA PROPONENTE | K3: MARCA OFRECIDO | L3: REFERENCIA DE LO OFRECIDO | M3: PAGINA WEB DEL FABRICANTE (donde se puedan revisar las características técnicas de cada item ofertado). | N3: OBSERVACIONES
C6: 4 | D6: =1+'LOTE 3'!D51 -> 69 | E6: Tubos de ultrafiltración, con volumen de filtrado (inicial) de 15 ml y volumen final de recuperación 100 a 200 microlitros, Recuperación mayor del 90%. Resistente a fuerza centrífuga de 3000g o superior en rotor libre y de 4000g o superior en rotor de ángulo fijo. Membrana vertical de celulosa regenerada. Tubo traslúcido. con superficie de escritura. Referencia UFC903096 o su equivalente. | F6: Ultrafiltración: 30.000 daltons | G6: Caja x 96 unidades | H6: MINIMO 12 MESES | I6: 80
E8: CLASIFICACIÓN DEL BIEN O SERVICIO DE ACUERDO CON EL CLASIFICADOR DE BIENES Y SERVICIOS | F8: 24112600
F9: 40161500
F10: 41104900
F11: 41121800
F12: 41122400
F13: 41104800
F14: 41121700
E15: CALIDAD MINIMA | F15: GARANTIA MINIMA 12 MESES
E16: PATRONES DE DESEMPEÑO MINIMOS | F16: NO APLICA

Sheet LOTE 5
C1: INSTITUTO NACIONAL DE MEDICINA LEGAL DE CIENCIAS FORENSES SUMINISTRO DE INSUMOS PARA LOS LABORATORIOS FORENSES Y ORGANISMOS DE INSPECCIÓN DEL INSTITUTO NACIONAL DE MEDICINA LEGAL Y CIENCIAS FORENSES CUADRO PARA DILIGENCIA
C3: LOTE | D3: ÍTEM | E3: DESCRIPCIÓN | F3: ESPECIFICACIONES (medidas, capacidad, etc.) | G3: UNIDAD DE MEDIDA PRESENTACIÓN | H3: VIGENCIA | I3: REGIONAL BOGOTA | K3: TOTAL REGIONAL BOGOTÁ | L3: REGIONAL NOROCCIDENTE | N3: TOTAL REGIONAL NOROCCIDENTE | O3: REGIONAL NORORIENTE | Q3: TOTAL REGIONAL NORORIENTE | R3: REGIONAL NORTE | U3: TOTAL REGIONAL NORTE | V3: REGIONAL SUR | X3: TOTAL REGIONAL SUR | Y3: CANTIDAD TOTAL | Z3: NOMBRE DE EMPRESA PROPONENTE | AA3: MARCA OFRECIDO | AB3: REFERENCIA DE LO OFRECIDO | AC3: PAGINA WEB DEL FABRICANTE (donde se puedan revisar las características técnicas de cada item ofertado). | AD3: OBSERVACIONES
I4: ESTUPEFACIENTES | J4: LOFOSCOPIA | L4: GENETICA | M4: LOFOSCOPIA | O4: LOFOSCOPIA | P4: TOTAL SECCIONAL SANTANDER | R4: SECCIONAL ATLÁNTICO | T4: TOTAL SECCIONAL ATLÁNTICO | V4: SECCIONAL TOLIMA | W4: TOTAL SECCIONAL TOLIMA
R5: ESTUPEFACIENTES | S5: LOFOSCOPIA | V5: LOFOSCOPIA
C6: 5 | D6: =1+'LOTE 4'!D6 -> 70 | E6: Bandejas desechables de ahumado | F6: na | G6: Paquete * 25 | H6: No aplica | I6: 0 | K6: =SUM(I6:J6) -> 0 | M6: 6 | N6: =SUM(L6:M6) -> 6 | P6: =SUM(O6:O6) -> 0 | Q6: =+P6 -> 0 | T6: =SUM(R6:S6) -> 0 | U6: =SUM(T6) -> 0 | W6: =SUM(V6:V6) -> 0 | X6: =+W6 -> 0 | Y6: =+X6+U6+Q6+N6+K6 -> 6
C7: 5 | D7: =1+D6 -> 71 | E7: Cianoacrilato de metilo/etilo en solución, tipo CNA103 o su equivalente. | F7: Frasco: 16 onzas | G7: Unidad | H7: No aplica | N7: =SUM(L7:M7) -> 0 | O7: 3 | P7: =SUM(O7:O7) -> 3 | Q7: =+P7 -> 3 | T7: =SUM(R7:S7) -> 0 | U7: =SUM(T7) -> 0 | X7: =+W7 -> 0 | Y7: =+X7+U7+Q7+N7+K7 -> 3
C8: 5 | D8: =1+D7 -> 72 | E8: cepillo de fibra de vidrio de tamaño estándar con mango de plástico. | F8: Largo: Cerda de mímimo 5cm | G8: Unidad | H8: No aplica | I8: 0 | K8: =SUM(I8:J8) -> 0 | M8: 4 | N8: =SUM(L8:M8) -> 4 | P8: =SUM(O8:O8) -> 0 | Q8: =+P8 -> 0 | R8: 2 | T8: =SUM(R8:S8) -> 2 | U8: =SUM(T8) -> 2 | W8: =SUM(V8:V8) -> 0 | X8: =+W8 -> 0 | Y8: =+X8+U8+Q8+N8+K8 -> 6
C9: 5 | D9: =1+D8 -> 73 | E9: Planchas rectangulares de acero inoxidable para reseña dactilar | F9: Largo: 25 cm Ancho: 10 cm | G9: Unidad | H9: No aplica | I9: 0 | J9: 20 | K9: =SUM(I9:J9) -> 20 | M9: 10 | N9: =SUM(L9:M9) -> 10 | O9: 20 | P9: =SUM(O9:O9) -> 20 | Q9: =+P9 -> 20 | T9: =SUM(R9:S9) -> 0 | U9: =SUM(T9) -> 0 | W9: =SUM(V9:V9) -> 0 | X9: =+W9 -> 0 | Y9: =+X9+U9+Q9+N9+K9 -> 50
C10: 5 | D10: =1+D9 -> 74 | E10: Rodillo de tinta para huellas dactilares, de fácil agarre | F10: Tamaño 3" | G10: Unidad | H10: No aplica | I10: 0 | J10: 20 | K10: =SUM(I10:J10) -> 20 | M10: 10 | N10: =SUM(L10:M10) -> 10 | O10: 25 | P10: =SUM(O10:O10) -> 25 | Q10: =+P10 -> 25 | T10: =SUM(R10:S10) -> 0 | U10: =SUM(T10) -> 0 | W10: =SUM(V10:V10) -> 0 | X10: =+W10 -> 0 | Y10: =+X10+U10+Q10+N10+K10 -> 55
C11: 5 | D11: =1+D10 -> 75 | E11: Tinta para huellas dactilares. (Uso Lofoscopia). | F11: Tubo : 2 onzas | G11: UNIDAD | H11: No aplica | I11: 0 | J11: 30 | K11: =SUM(I11:J11) -> 30 | M11: 15 | N11: =SUM(L11:M11) -> 15 | O11: 20 | P11: =SUM(O11:O11) -> 20 | Q11: =+P11 -> 20 | S11: 7 | T11: =SUM(R11:S11) -> 7 | U11: =SUM(T11) -> 7 | V11: 20 | W11: =SUM(V11:V11) -> 20 | X11: =+W11 -> 20 | Y11: =+X11+U11+Q11+N11+K11 -> 92
C12: 5 | D12: =1+D11 -> 76 | E12: Almohadillas de tinta referencia PRINTMATIC™ con estuche de polipropileno, tapa con cierre a presión positivo (Uso Lofoscopia). | F12: Largo: 16 cm Ancho: 8 cm | G12: Unidad | H12: No aplica | I12: 0 | J12: 0 | K12: =SUM(I12:J12) -> 0 | M12: 4 | N12: =SUM(L12:M12) -> 4 | P12: =SUM(O12:O12) -> 0 | Q12: =+P12 -> 0 | S12: 4 | T12: =SUM(R12:S12) -> 4 | U12: =SUM(T12) -> 4 | W12: =SUM(V12:V12) -> 0 | X12: =+W12 -> 0 | Y12: =+X12+U12+Q12+N12+K12 -> 8
C13: 5 | D13: =1+D12 -> 77 | E13: Removedor de cintas adhesivas, etiquetas y sellos | F13: Frasco: 4 onzas | G13: UNIDAD | H13: No aplica | I13: 0 | J13: 4 | K13: =SUM(I13:J13) -> 4 | L13: 5 | M13: 5 | N13: =SUM(L13:M13) -> 10 | P13: =SUM(O13:O13) -> 0 | Q13: =+P13 -> 0 | S13: 2 | T13: =SUM(R13:S13) -> 2 | U13: =SUM(T13) -> 2 | W13: =SUM(V13:V13) -> 0 | X13: =+W13 -> 0 | Y13: =+X13+U13+Q13+N13+K13 -> 16
C14: 5 | D14: =1+D13 -> 78 | E14: Rojo Húngaro en spray para teñir las impresiones que se encuentran en la sangre | F14: Frasco: 500 ml | G14: UNIDAD | H14: Mínima de 1 año a partir de la entrega | I14: 0 | J14: 1 | K14: =SUM(I14:J14) -> 1 | M14: 2 | N14: =SUM(L14:M14) -> 2 | P14: =SUM(O14:O14) -> 0 | Q14: =+P14 -> 0 | S14: 1 | T14: =SUM(R14:S14) -> 1 | U14: =SUM(T14) -> 1 | W14: =SUM(V14:V14) -> 0 | X14: =+W14 -> 0 | Y14: =+X14+U14+Q14+N14+K14 -> 4
C15: 5 | D15: =1+D14 -> 79 | E15: Tinte fluorescente Ardrox en spray | F15: Frasco: 500 ml | G15: UNIDAD | H15: Mínima de 1 año a partir de la entrega | I15: 0 | J15: 0 | K15: =SUM(I15:J15) -> 0 | M15: 6 | N15: =SUM(L15:M15) -> 6 | O15: 1 | P15: =SUM(O15:O15) -> 1 | Q15: =+P15 -> 1 | T15: =SUM(R15:S15) -> 0 | U15: =SUM(T15) -> 0 | W15: =SUM(V15:V15) -> 0 | X15: =+W15 -> 0 | Y15: =+X15+U15+Q15+N15+K15 -> 7
C16: 5 | D16: =1+D15 -> 80 | E16: Nitrato de plata en spray. | F16: Frasco: 8 onzas | G16: UNIDAD | H16: Mínima de 1 año a partir de la entrega | I16: 0 | J16: 2 | K16: =SUM(I16:J16) -> 2 | M16: 3 | N16: =SUM(L16:M16) -> 3 | P16: =SUM(O16:O16) -> 0 | Q16: =+P16 -> 0 | S16: 2 | T16: =SUM(R16:S16) -> 2 | U16: =SUM(T16) -> 2 | W16: =SUM(V16:V16) -> 0 | X16: =+W16 -> 0 | Y16: =+X16+U16+Q16+N16+K16 -> 7
C17: 5 | D17: =1+D16 -> 81 | E17: Solución de nitrato de plata en spray. | F17: Frasco: 8 onzas | G17: UNIDAD | H17: Mínima de 1 año a partir de la entrega | I17: 0 | J17: 2 | K17: =SUM(I17:J17) -> 2 | M17: 2 | N17: =SUM(L17:M17) -> 2 | P17: =SUM(O17:O17) -> 0 | Q17: =+P17 -> 0 | T17: =SUM(R17:S17) -> 0 | U17: =SUM(T17) -> 0 | W17: =SUM(V17:V17) -> 0 | X17: =+W17 -> 0 | Y17: =+X17+U17+Q17+N17+K17 -> 4
C18: 5 | D18: =1+D17 -> 82 | E18: Reactivo fluorescente naranja. | F18: Frasco: 2 onzas | G18: UNIDAD | H18: Mínima de 1 año a partir de la entrega | I18: 0 | J18: 0 | K18: =SUM(I18:J18) -> 0 | M18: 2 | N18: =SUM(L18:M18) -> 2 | P18: =SUM(O18:O18) -> 0 | Q18: =+P18 -> 0 | S18: 1 | T18: =SUM(R18:S18) -> 1 | U18: =SUM(T18) -> 1 | W18: =SUM(V18:V18) -> 0 | X18: =+W18 -> 0 | Y18: =+X18+U18+Q18+N18+K18 -> 3
C19: 5 | D19: =1+D18 -> 83 | E19: Tarjetas control para cámara cianocrilato | F19: Dimensiones: 5X10cm aproximadamente | G19: Libro de 50 Unidades | H19: No aplica | I19: 0 | J19: 0 | K19: =SUM(I19:J19) -> 0 | M19: 0 | N19: =SUM(L19:M19) -> 0 | P19: =SUM(O19:O19) -> 0 | Q19: =+P19 -> 0 | S19: 2 | T19: =SUM(R19:S19) -> 2 | U19: =SUM(T19) -> 2 | W19: =SUM(V19:V19) -> 0 | X19: =+W19 -> 0 | Y19: =+X19+U19+Q19+N19+K19 -> 2
C20: 5 | D20: =1+D19 -> 84 | E20: Reactivo pequeña particula negro referencia SPR1001 | F20: Frasco: 500 ml | G20: UNIDAD | H20: Mínima de 1 año a partir de la entrega | I20: 0 | J20: 2 | K20: =SUM(I20:J20) -> 2 | M20: 1 | N20: =SUM(L20:M20) -> 1 | P20: =SUM(O20:O20) -> 0 | Q20: =+P20 -> 0 | T20: =SUM(R20:S20) -> 0 | U20: =SUM(T20) -> 0 | W20: =SUM(V20:V20) -> 0 | X20: =+W20 -> 0 | Y20: =+X20+U20+Q20+N20+K20 -> 3
C21: 5 | D21: =1+D20 -> 85 | E21: Reactivo pequeña particula blanco referencia SPR2001 | F21: Frasco: 500 ml | G21: UNIDAD | H21: Mínima de 1 año a partir de la entrega | I21: 0 | J21: 2 | K21: =SUM(I21:J21) -> 2 | M21: 1 | N21: =SUM(L21:M21) -> 1 | P21: =SUM(O21:O21) -> 0 | Q21: =+P21 -> 0 | T21: =SUM(R21:S21) -> 0 | U21: =SUM(T21) -> 0 | W21: =SUM(V21:V21) -> 0 | X21: =+W21 -> 0 | Y21: =+X21+U21+Q21+N21+K21 -> 3
C22: 5 | D22: =1+D21 -> 86 | E22: Reactivo pequeña particula fluorescente SPR400UV | F22: Frasco: 500 ml | G22: UNIDAD | H22: Mínima de 1 año a partir de la entrega | I22: 0 | J22: 1 | K22: =SUM(I22:J22) -> 1 | M22: 1 | N22: =SUM(L22:M22) -> 1 | P22: =SUM(O22:O22) -> 0 | Q22: =+P22 -> 0 | T22: =SUM(R22:S22) -> 0 | U22: =SUM(T22) -> 0 | W22: =SUM(V22:V22) -> 0 | X22: =+W22 -> 0 | Y22: =+X22+U22+Q22+N22+K22 -> 2
C23: 5 | D23: =1+D22 -> 87 | E23: Escala de evidencia fotográfica, para toma de fotografías con testigo métrico en Lofoscopia. | F23: Vinilo de 15 centímetros fluorescente | G23: Paquete 10 unidades | H23: No aplica | I23: 3 | J23: 2 | K23: =SUM(I23:J23) -> 5 | M23: 1 | N23: =SUM(L23:M23) -> 1 | P23: =SUM(O23:O23) -> 0 | Q23: =+P23 -> 0 | S23: 2 | T23: =SUM(R23:S23) -> 2 | U23: =SUM(T23) -> 2 | W23: =SUM(V23:V23) -> 0 | X23: =+W23 -> 0 | Y23: =+X23+U23+Q23+N23+K23 -> 8
C24: 5 | D24: =1+D23 -> 88 | E24: Escala de evidencia fotográfica en “L “blanca y negra, para toma de fotografías con testigo métrico en Lofoscopia. | F24: Vinilo de 5 centímetros | G24: Paquete 10 unidades | H24: No aplica | I24: 3 | J24: 2 | K24: =SUM(I24:J24) -> 5 | M24: 1 | N24: =SUM(L24:M24) -> 1 | P24: =SUM(O24:O24) -> 0 | Q24: =+P24 -> 0 | S24: 2 | T24: =SUM(R24:S24) -> 2 | U24: =SUM(T24) -> 2 | W24: =SUM(V24:V24) -> 0 | X24: =+W24 -> 0 | Y24: =+X24+U24+Q24+N24+K24 -> 8
C25: 5 | D25: =1+D24 -> 89 | E25: Polvo magnético para impresiones latentes, blanco indestructible | F25: 177 ml ( 6 0Z) | G25: UNIDAD | H25: Mínima de 1 año a partir de la entrega | J25: 0 | K25: =SUM(I25:J25) -> 0 | M25: 0 | N25: =SUM(L25:M25) -> 0 | P25: =SUM(O25:O25) -> 0 | Q25: =+P25 -> 0 | S25: 1 | T25: =SUM(R25:S25) -> 1 | U25: =SUM(T25) -> 1 | W25: =SUM(V25:V25) -> 0 | X25: =+W25 -> 0 | Y25: =+X25+U25+Q25+N25+K25 -> 1
C26: 5 | D26: =1+D25 -> 90 | E26: Amarillo básico (basic yelow) en spray. | F26: Frasco: 500 ml | G26: unidad | H26: Mínima de 1 año a partir de la entrega | K26: =SUM(I26:J26) -> 0 | M26: 20 | N26: =SUM(L26:M26) -> 20 | Q26: =+P26 -> 0 | U26: =SUM(T26) -> 0 | X26: =+W26 -> 0 | Y26: =+X26+U26+Q26+N26+K26 -> 20
C27: 5 | D27: =1+D26 -> 91 | E27: Limpiador seco magico, remueve la tinta de la toma de huellas dactilares y manos sin necesidad de utilizar agua, ademas limpia polvos quimicos para huellas dactilares. | F27: 473 ml | G27: Unidad | H27: No aplica | J27: 1 | K27: =SUM(I27:J27) -> 1 | N27: =SUM(L27:M27) -> 0 | P27: =SUM(O27:O27) -> 0 | Q27: =+P27 -> 0 | T27: =SUM(R27:S27) -> 0 | U27: =SUM(T27) -> 0 | W27: =SUM(V27:V27) -> 0 | X27: =+W27 -> 0 | Y27: =+X27+U27+Q27+N27+K27 -> 1
C28: 5 | D28: =1+D27 -> 92 | E28: Frasco de boca extra ancha para cribado con malla, Tipo referenciaWMSS100A. | F28: Capacidad de 59ml (02 oz). | G28: PAQ X 3 UNIDADES | H28: No aplica | J28: 3 | K28: =SUM(I28:J28) -> 3 | N28: =SUM(L28:M28) -> 0 | P28: =SUM(O28:O28) -> 0 | Q28: =+P28 -> 0 | T28: =SUM(R28:S28) -> 0 | U28: =SUM(T28) -> 0 | W28: =SUM(V28:V28) -> 0 | X28: =+W28 -> 0 | Y28: =+X28+U28+Q28+N28+K28 -> 3
C29: 5 | D29: =1+D28 -> 93 | E29: DFO Spray eficaz para revelar huellas dactilares latentes en superficies porosas. Tipo DFS300 | F29: 100ml | G29: Unidad | H29: No aplica | J29: 2 | K29: =SUM(I29:J29) -> 2 | N29: =SUM(L29:M29) -> 0 | P29: =SUM(O29:O29) -> 0 | Q29: =+P29 -> 0 | T29: =SUM(R29:S29) -> 0 | U29: =SUM(T29) -> 0 | W29: =SUM(V29:V29) -> 0 | X29: =+W29 -> 0 | Y29: =+X29+U29+Q29+N29+K29 -> 2
C30: 5 | D30: =1+D29 -> 94 | E30: Rodamina 6G ( para mejorar las impresiones latentes reveladas con cianoacrilato) | F30: 25g | G30: Unidad | H30: No aplica | J30: 1 | K30: =SUM(I30:J30) -> 1 | N30: =SUM(L30:M30) -> 0 | P30: =SUM(O30:O30) -> 0 | Q30: =+P30 -> 0 | T30: =SUM(R30:S30) -> 0 | U30: =SUM(T30) -> 0 | W30: =SUM(V30:V30) -> 0 | X30: =+W30 -> 0 | Y30: =+X30+U30+Q30+N30+K30 -> 1
C31: 5 | D31: =1+D30 -> 95 | E31: Resaltador de crestas EZ SCAN ( Fue desarrollado para resaltar el detalle de las crestas en estos casos, utilizando una nueva fórmula patentada de rehidratación, rehidrata la piel y expande las crestas ásperas) | F31: 1,5 oz | G31: Unidad | H31: No aplica | J31: 2 | K31: =SUM(I31:J31) -> 2 | N31: =SUM(L31:M31) -> 0 | P31: =SUM(O31:O31) -> 0 | Q31: =+P31 -> 0 | T31: =SUM(R31:S31) -> 0 | U31: =SUM(T31) -> 0 | W31: =SUM(V31:V31) -> 0 | X31: =+W31 -> 0 | Y31: =+X31+U31+Q31+N31+K31 -> 2
E33: CLASIFICACIÓN DEL BIEN O SERVICIO DE ACUERDO CON EL CLASIFICADOR DE BIENES Y SERVICIOS | F33: 41116100
F34: 46151700
E35: CALIDAD MINIMA | F35: VIGENCIA MINIMA DE 12 MESES PARA ÍTEMS 79,80,81,82,84,85,86,89 Y 90
E36: PATRONES DE DESEMPEÑO MINIMOS | F36: Procesamiento Muestras de Lofoscopia

Sheet LOTE 6
C1: INSTITUTO NACIONAL DE MEDICINA LEGAL DE CIENCIAS FORENSES SUMINISTRO DE INSUMOS PARA LOS LABORATORIOS FORENSES Y ORGANISMOS DE INSPECCIÓN DEL INSTITUTO NACIONAL DE MEDICINA LEGAL Y CIENCIAS FORENSES CUADRO PARA DILIGENCIA
C3: LOTE | D3: ÍTEM | E3: DESCRIPCIÓN | F3: ESPECIFICACIONES (medidas, capacidad, etc.) | G3: UNIDAD DE MEDIDA PRESENTACIÓN | H3: GARANTIA | I3: DIRECCIÓN GENERAL | J3: TOTAL DIRECCION GENERAL | K3: CANTIDAD TOTAL | L3: NOMBRE DE EMPRESA PROPONENTE | M3: MARCA OFRECIDO | N3: REFERENCIA DE LO OFRECIDO | O3: PAGINA WEB DEL FABRICANTE (donde se puedan revisar las características técnicas de cada item ofertado). | P3: OBSERVACIONES
I4: GRUPO NACIONAL DE APOYO AL SISTEMA DE VERDAD JUSTICIA REPARACIÓN Y NO REPETICIÓN
C6: 6 | D6: =+'LOTE 5'!D31+1 -> 96 | E6: Película Sellante no óptica termoresistente (PCR) , libre DNAsa y RNAsa, para platos de 96 pozos de PCR PRESENTAR MUESTRAS POR 5 UNIDADES | F6: NA | G6: Caja por 100 unidades | H6: MINIMO 12 MESES | I6: 3 | J6: =SUM(I6:I6) -> 3 | K6: =+J6 -> 3
C7: 6 | D7: =1+D6 -> 97 | E7: Película Sellante óptica (para uso en proceso de RT-PCR), termoresistente, libre DNAsa y RNAsa, para platos de 96 pozos de PCR PRESENTAR MUESTRAS POR 5 UNIDADES | F7: NA | G7: Caja por 100 unidades | H7: MINIMO 12 MESES | I7: 5 | J7: =SUM(I7:I7) -> 5 | K7: =+J7 -> 5
E9: CLASIFICACIÓN DEL BIEN O SERVICIO DE ACUERDO CON EL CLASIFICADOR DE BIENES Y SERVICIOS | F9: 41121700
F10: 41121800
E12: CALIDAD MINIMA | F12: GARANTIA MINIMA 12 MESES
E13: PATRONES DE DESEMPEÑO MINIMOS | F13: NO APLICA

Sheet LOTE 7
C2: INSTITUTO NACIONAL DE MEDICINA LEGAL DE CIENCIAS FORENSES SUMINISTRO DE INSUMOS PARA LOS LABORATORIOS FORENSES Y ORGANISMOS DE INSPECCIÓN DEL INSTITUTO NACIONAL DE MEDICINA LEGAL Y CIENCIAS FORENSES CUADRO PARA DILIGENCIA
B3: LOTE | C3: ÍTEM | D3: DESCRIPCIÓN | E3: UNIDAD DE MEDIDA (PRESENTACIÓN) | F3: GARANTÍA | G3: REGIONAL BOGOTA PATOLOGIA | H3: REGIONAL ORIENTE PATOLOGIA | I3: REGIONAL OCCIDENTE PATOLOGIA | J3: REGIONAL SUROCCIDENTE PATOLOGIA | K3: REGIONAL NORORIENTE PATOLOGIA | L3: REGIONAL NOROCIDENTE PATOLOGIA | M3: REGIONAL SUR PATOLOGIA | N3: REGIONAL NORTE PATOLOGIA | O3: TOTAL PATOLOGIA | P3: REGIONAL BOGOTA GENETICA | Q3: REGIONAL NORORIENTE SECCIONAL SANTANDER BIOLOGIA | R3: REGIONAL NORORIENTE SECCIONAL CUCUTA BIOLOGIA | S3: REGIONAL NORTE SECCIONAL ATLANTICO BIOLOGIA | T3: REGIONAL SUR SECCIONAL HUILA BIOLOGIA | U3: REGONAL NOROCCIDENTE GENETICA | V3: TOTAL GENETICA | W3: TOTAL | X3: NOMBRE DE EMPRESA PROPONENTE | Y3: MARCA OFRECIDO | Z3: REFERENCIA DE LO OFRECIDO | AA3: PAGINA WEB DEL FABRICANTE (donde se puedan revisar las características técnicas de cada item ofertado). | AB3: OBSERVACIONES
B4: 7 | C4: 98 | D4: Tarjetas tipo FTA para recolección de muestras de sangre, dos (2) círculos prediseñados, capacidad mínima 250 micro litros de muestra por tarjeta. | E4: Caja X 100 | F4: Minimo 12 meses | G4: 0 | H4: 14 | I4: 15 | J4: 15 | K4: 66 | L4: 20 | M4: 25 | N4: 70 | O4: 225 | V4: 0 | W4: 225
B5: 7 | C5: 99 | D5: Bolsa multibarrera metalizada con cierre de seguridad autoadhesivo para almacenamiento y transportede tarjetas FTA de dos círculos (bolsa small), que inlcuya bolsa desecante, medidas externas: 9.5 cm (+1 cm) de ancho x 7.6 cm (+1 cm) de largo. | E5: Paquete X 100 | F5: Minimo 12 meses | G5: 0 | H5: 24 | I5: 0 | J5: 12 | K5: 30 | L5: 20 | M5: 25 | N5: 70 | O5: 181 | P5: 5 | Q5: 5 | R5: 5 | S5: 3 | T5: 2 | U5: 5 | V5: 25 | W5: 206
D7: CLASIFICACIÓN DEL BIEN O SERVICIO DE ACUERDO CON EL CLASIFICADOR DE BIENES Y SERVICIOS | E7: 41121800
E8: 41104100
D9: CALIDAD MINIMA | E9: GARANTIA MINIMA 12 MESES
D10: PATRONES DE DESEMPEÑO MINIMOS | E10: Almacenamiento y recolección de muestras

Sheet LOTE 8
B1: INSTITUTO NACIONAL DE MEDICINA LEGAL DE CIENCIAS FORENSES SUMINISTRO DE INSUMOS PARA LOS LABORATORIOS FORENSES Y ORGANISMOS DE INSPECCIÓN DEL INSTITUTO NACIONAL DE MEDICINA LEGAL Y CIENCIAS FORENSES CUADRO PARA DILIGENCIA
B3: LOTE | C3: ÍTEMS | D3: DESCRIPCIÓN | E3: UNIDAD DE MEDIDA (PRESENTACIÓN) | F3: REGIONAL BOGOTA | G3: REGIONAL ORIENTE | H3: REGIONAL OCCIDENTE | I3: REGIONAL SUROCCIDENTE | J3: REGIONAL NORORIENTE | K3: REGIONAL NOROCIDENTE | L3: REGIONAL SUR | M3: REGIONAL NORTE | N3: GRUPO NACIONAL DE APOYO AL SISTEMA DE VERDAD JUSTICIA REPARACIÓN Y NO REPETICIÓN | O3: TOTAL | P3: NOMBRE DE EMPRESA PROPONENTE | Q3: MARCA OFRECIDO | R3: REFERENCIA DE LO OFRECIDO | S3: PAGINA WEB DEL FABRICANTE (donde se puedan revisar las características técnicas de cada item ofertado). | T3: OBSERVACIONES
B4: 8 | C4: =1+'LOTE 7'!C5 -> 100 | D4: Hisopo de nylon flocado en la punta, con diámetro cabeza de 5 mm +/- 0.2 mm,bastón de poliestireno de 150 mm +/- 1 m Tubo de transporte de poliestireno diámetro 13 +/- 0.2 mm Esterilizado. | E4: caja x 100 | F4: 5 | G4: 7 | H4: 0 | I4: 5 | J4: 20 | K4: 0 | L4: 10 | M4: 20 | N4: 0 | O4: =SUM(F4:N4) -> 67
B5: 8 | C5: =1+C4 -> 101 | D5: Hisopo de nylon flocado en la punta, con diámetro cabeza de 5 mm /- 0.2 mm, bastón de poliestireno con punto de corte sin tubo de transporte. | E5: caja x 100 | F5: 5 | G5: 7 | H5: 0 | I5: 5 | J5: 20 | K5: 0 | L5: 10 | M5: 20 | N5: 0 | O5: =SUM(F5:N5) -> 67
B6: 8 | C6: =1+C5 -> 102 | D6: Bajalenguas en madera de 130 a 150 mm de largo y de 18 a 20 mm de ancho. | E6: Paquete x 20 unidades | F6: 0 | G6: 50 | H6: 0 | I6: 50 | J6: 50 | K6: 0 | L6: 36 | M6: 50 | N6: 0 | O6: =SUM(F6:N6) -> 236
B7: 8 | C7: =1+C6 -> 103 | D7: Jeringa en polipropileno grado médico, de 10 mL con aguja de 21 x 1 ½ de acero inoxidable tribiselada, estéril, desechable, de tres partes, libre de pirógenos, con sistema rosca para un mejor ajuste, cilindro de alta transparencia en polipropileno grado médico, escala de medición de fácil lectura e imborrable. Émbolo en polipropileno grado médico con pistón en caucho o hule para fácil deslizamiento. | E7: Caja x 100 | F7: 0 | G7: 36 | H7: 0 | I7: 80 | J7: 50 | K7: 0 | L7: 20 | M7: 25 | N7: 0 | O7: =SUM(F7:N7) -> 211
B8: 8 | C8: =1+C7 -> 104 | D8: Jeringa en polipropileno grado médico, de 20 mL con aguja de 21 x 1 ½ de acero inoxidable tribiselada, estéril, desechable, de tres partes, libre de pirógenos, con sistema rosca para un mejor ajuste, cilindro de alta transparencia en polipropileno grado médico, escala de medición de fácil lectura e imborrable. Émbolo en polipropileno grado médico con pistón en caucho o hule para fácil deslizamiento. | E8: Caja x 50 | F8: 0 | G8: 25 | H8: 0 | I8: 40 | J8: 50 | K8: 0 | L8: 20 | M8: 20 | N8: 0 | O8: =SUM(F8:N8) -> 155
B9: 8 | C9: =1+C8 -> 105 | D9: Jeringa en polipropileno grado médico, de 50 mL con aguja de 21 x 1 ½ de acero inoxidable tribiselada, estéril, desechable, de tres partes, libre de pirógenos, con sistema rosca para un mejor ajuste, cilindro de alta transparencia en polipropileno grado médico, escala de medición de fácil lectura e imborrable. Émbolo en polipropileno grado médico con pistón en caucho o hule para fácil deslizamiento. | E9: Caja x 25 | F9: 0 | G9: 0 | H9: 0 | I9: 0 | J9: 0 | K9: 0 | L9: 5 | M9: 4 | N9: 0 | O9: =SUM(F9:N9) -> 9
B10: 8 | C10: =1+C9 -> 106 | D10: Gasa hospitalaria precortada, no tejida, de cuatro pliegues, de 7,5 cm X 7,5 cm, estéril, empacada en sobres sellados, sin manipular | E10: Sobre x 2 unidades | F10: 30000 | G10: 3800 | H10: 0 | I10: 1000 | J10: 1000 | K10: 400 | L10: 310 | M10: 850 | N10: 3000 | O10: =SUM(F10:N10) -> 40360
B11: 8 | C11: =1+C10 -> 107 | D11: Alcohol antiséptico al 70% | E11: Botella x 700 ml o cc | F11: 0 | G11: 20 | H11: 0 | I11: 0 | J11: 20 | K11: 100 | L11: 45 | M11: 100 | N11: 100 | O11: =SUM(F11:N11) -> 385
B12: 8 | C12: =1+C11 -> 108 | D12: Algodón blanco en torunda | E12: Bolsa x 500 gr | F12: 0 | G12: 35 | H12: 0 | I12: 10 | J12: 4 | K12: 0 | L12: 35 | M12: 165 | N12: 0 | O12: =SUM(F12:N12) -> 249
B13: 8 | C13: =1+C12 -> 109 | D13: Compresas estériles de 45 X 45 cm de 4 pliegues | E13: Paquete x 5 unidades | F13: 2000 | O13: =SUM(F13:N13) -> 2000
B14: 8 | C14: =1+C13 -> 110 | D14: KIT para examen odontologico, instrumental desechable básico para odontología. con tres elementos Espejo bucal con mango,explorador doble, pinza de exploración | E14: Juego | F14: 100 | G14: 50 | H14: 50 | I14: 100 | J14: 50 | K14: 100 | L14: 50 | M14: 50 | O14: =SUM(F14:N14) -> 550
B15: 8 | C15: =1+C14 -> 111 | D15: Lancetas estériles desechables (para obtención de muestras de sangre) con mecanismo de disparo automático al contacto; cuerpo y tapa en plástico, que cubra/resguarde la aguja (tipo lanceta para glucómetro). | E15: Unidad | J15: 1000 | O15: =SUM(F15:N15) -> 1000
D19: CLASIFICACIÓN DEL BIEN O SERVICIO DE ACUERDO CON EL CLASIFICADOR DE BIENES Y SERVICIOS | E19: 42281900
E20: 41121800
E21: 41121700
E22: 41122000
E23: 41104100
E24: 24112600
D25: CALIDAD MINIMA | E25: GARANTIA MINIMA 12 MESES
D26: PATRONES DE DESEMPEÑO MINIMOS | E26: Los elementos que se utilizan para la recolección de las muestras deben cumplir con requerimientos mínimos como materiales que faciliten su transporte, la capacidad en volumen según el tipo de muestra a recolectar, los aditivos o conservantes que permitan su preservación ante factores como los microbiológicos que puedan afectar la calidad de las muestras y no altere su composición. En caso de muestras que requieran intervención corporal en personas vivas, deben cumplir con requisitos mínimos que no afecten la salud de las personas sobres las cuales se toma las muestras y que garanticen la mayor recuperación de evidencia.

Sheet LOTE 9
B1: INSTITUTO NACIONAL DE MEDICINA LEGAL DE CIENCIAS FORENSES SUMINISTRO DE INSUMOS PARA LOS LABORATORIOS FORENSES Y ORGANISMOS DE INSPECCIÓN DEL INSTITUTO NACIONAL DE MEDICINA LEGAL Y CIENCIAS FORENSES CUADRO PARA DILIGENCIAR
B3: LOTE | C3: ÍTEM | D3: DESCRIPCIÓN | E3: UNIDAD DE MEDIDA PRESENTACION | F3: REGIONAL BOGOTA | G3: REGIONAL ORIENTE | H3: REGIONAL OCCIDENTE | I3: REGIONAL SUROCCIDENTE | J3: REGIONAL NORORIENTE | K3: REGIONAL NOROCCIDENTE | L3: REGIONAL SUR | M3: REGIONAL NORTE | N3: CANTIDAD TOTAL | O3: NOMBRE DE EMPRESA PROPONENTE | P3: MARCA OFRECIDO | Q3: REFERENCIA DE LO OFRECIDO | R3: PAGINA WEB DEL FABRICANTE (donde se puedan revisar las características técnicas de cada item ofertado). | S3: OBSERVACIONES
B4: 9 | C4: =1+'LOTE 8'!C15 -> 112 | D4: Tubos con sistema de vacío, tapon gris de caucho, estéril, de 6 ml, con etiqueta de papel. Con fluoruro de sodio/oxalato de potasio 15 mg/12 mg. Dimensiones 13 x 100 mm. Material PET. Con fecha de vencimiento de mínimo seis (6) meses a partir de cada entrega. | E4: Gradilla o caja X100 Unidades | F4: 50 | G4: 70 | H4: 30 | I4: 50 | J4: 150 | K4: 40 | L4: 150 | M4: 80 | N4: =SUM(F4:M4) -> 620
B5: 9 | C5: =1+C4 -> 113 | D5: Tubo al vacío tapa roja de caucho, de 6 ml. Dimensiones 13 X 100 mm (con aditivo en paredes internas y sin activador de coagulación), en material PET. Estéril | E5: Gradilla o caja x 100 unidades | F5: 20 | G5: 5 | H5: 15 | I5: 0 | J5: 0 | K5: 20 | L5: 40 | M5: 20 | N5: =SUM(F5:M5) -> 120
B6: 9 | C6: =1+C5 -> 114 | D6: Tubos de centrífuga en polipropileno, transparente, fondo cónico, con faldon o base, tapa rosca plana y lisa con cierre hermético, graduados, volumen de 50 ml (tipo falcon). Esteril. | E6: UNIDAD | F6: 3500 | G6: 3000 | H6: 2000 | I6: 3700 | J6: 3000 | K6: 2000 | L6: 3000 | M6: 3700 | N6: =SUM(F6:M6) -> 23900
D8: CLASIFICACIÓN DEL BIEN O SERVICIO DE ACUERDO CON EL CLASIFICADOR DE BIENES Y SERVICIOS | E8: 41121700
E9: 41121800
D10: CALIDAD MINIMA | E10: GARANTIA MINIMA 12 MESES
D11: PATRONES DE DESEMPEÑO MINIMOS | E11: NO APLICA

Sheet LOTE 10
B1: INSTITUTO NACIONAL DE MEDICINA LEGAL DE CIENCIAS FORENSES SUMINISTRO DE INSUMOS PARA LOS LABORATORIOS FORENSES Y ORGANISMOS DE INSPECCIÓN DEL INSTITUTO NACIONAL DE MEDICINA LEGAL Y CIENCIAS FORENSES CUADRO PARA DILIGENCIAR
B3: LOTE | C3: ITEM | D3: DESCRIPCIÓN | E3: UNIDAD DE MEDIDA PRESENTACIÓN | F3: REGIONAL BOGOTA | G3: REGIONAL ORIENTE | H3: REGIONAL OCCIDENTE | I3: REGIONAL SUROCCIDENTE | J3: REGIONAL NORORIENTE | K3: REGIONAL NOROCCIDENTE | L3: REGIONAL SUR | M3: REGIONAL NORTE | N3: CANTIDADES TOTALES | O3: NOMBRE DE EMPRESA PROPONENTE | P3: MARCA OFRECIDO | Q3: REFERENCIA DE LO OFRECIDO | R3: PAGINA WEB DEL FABRICANTE (donde se puedan revisar las características técnicas de cada item ofertado). | S3: OBSERVACIONES
B4: 10 | C4: =1+'LOTE 9'!C6 -> 115 | D4: Frascos en polipropileno (PP) de baja densidad, transparente, de 250 ml de capacidad, altura 82+/-5 mm, diámetro interno de la boca 72 +/- 7 mm; tapa preferiblemente de color rojo en polietileno de alta densidad que proporcione cierre hermético; con linner en icopor, para recolección de muestras de visceras. | E4: Unidad | F4: 2000 | G4: 1000 | H4: 500 | I4: 1000 | J4: 2500 | K4: 880 | L4: 1500 | M4: 4800 | N4: =SUM(F4:M4) -> 14180
D7: CLASIFICACIÓN DEL BIEN O SERVICIO DE ACUERDO CON EL CLASIFICADOR DE BIENES Y SERVICIOS | E7: 41121700
E8: 41121800
D9: CALIDAD MINIMA | E9: GARANTIA MINIMA 12 MESES
D10: PATRONES DE DESEMPEÑO MINIMOS | E10: NO APLICA
