Workbook
Name \a: [1]Insumos!#REF!
Name \a: [1]Insumos!#REF!
Name \a: [1]Insumos!#REF!
Name \b: [2]INSUMOS!#REF!
Name \b: [2]INSUMOS!#REF!
Name \b: [2]INSUMOS!#REF!
Name \i: [2]INSUMOS!#REF!
Name \i: [2]INSUMOS!#REF!
Name \i: [2]INSUMOS!#REF!
Name \m: [2]INSUMOS!#REF!
Name \m: [2]INSUMOS!#REF!
Name \m: [2]INSUMOS!#REF!
Name \r: [2]INSUMOS!#REF!
Name \r: [2]INSUMOS!#REF!
Name \r: [2]INSUMOS!#REF!
Name \t: [2]INSUMOS!#REF!
Name \t: [2]INSUMOS!#REF!
Name \t: [2]INSUMOS!#REF!
Name \x: [2]INSUMOS!#REF!
Name \x: [2]INSUMOS!#REF!
Name \x: [2]INSUMOS!#REF!
Name _________________________________apu1: [2]INSUMOS!#REF!
Name _________________________________apu1: [2]INSUMOS!#REF!
Name _________________________________apu1: [2]INSUMOS!#REF!
Name ________________________________apu1: [2]INSUMOS!#REF!
Name ________________________________apu1: [2]INSUMOS!#REF!
Name ________________________________apu1: [2]INSUMOS!#REF!
Name _______________________________apu1: [2]INSUMOS!#REF!
Name _______________________________apu1: [2]INSUMOS!#REF!
Name _______________________________apu1: [2]INSUMOS!#REF!
Name ______________________________apu1: [2]INSUMOS!#REF!
Name ______________________________apu1: [2]INSUMOS!#REF!
Name ______________________________apu1: [2]INSUMOS!#REF!
Name ____________________________apu1: [2]INSUMOS!#REF!
Name ____________________________apu1: [2]INSUMOS!#REF!
Name ____________________________apu1: [2]INSUMOS!#REF!
Name ___________________________apu1: [2]INSUMOS!#REF!
Name ___________________________apu1: [2]INSUMOS!#REF!
Name ___________________________apu1: [2]INSUMOS!#REF!
Name __________________________apu1: [2]INSUMOS!#REF!
Name __________________________apu1: [2]INSUMOS!#REF!
Name __________________________apu1: [2]INSUMOS!#REF!
Name _________________________apu1: [2]INSUMOS!#REF!
Name _________________________apu1: [2]INSUMOS!#REF!
Name _________________________apu1: [2]INSUMOS!#REF!
Name ________________________apu1: [2]INSUMOS!#REF!
Name ________________________apu1: [2]INSUMOS!#REF!
Name ________________________apu1: [2]INSUMOS!#REF!
Name _______________________apu1: [2]INSUMOS!#REF!
Name _______________________apu1: [2]INSUMOS!#REF!
Name _______________________apu1: [2]INSUMOS!#REF!
Name _____________________apu1: [2]INSUMOS!#REF!
Name _____________________apu1: [2]INSUMOS!#REF!
Name _____________________apu1: [2]INSUMOS!#REF!
Name ____________________apu1: [2]INSUMOS!#REF!
Name ____________________apu1: [2]INSUMOS!#REF!
Name ____________________apu1: [2]INSUMOS!#REF!
Name ___________________apu1: [2]INSUMOS!#REF!
Name ___________________apu1: [2]INSUMOS!#REF!
Name ___________________apu1: [2]INSUMOS!#REF!

Sheet BASICO
A1: REPUBLICA DE COLOMBIA
A2: DEPARTAMENTO DEL PUTUMAYO
A3: MUNICIPIO DE SAN MIGUEL
A5: APU-BASICO
A7: =+Presupuesto!#REF! -> #REF!
A9: ACTIVIDAD:
B10: Concreto MR 21 Mpa | G10: Unidad: | H10: m3
A12: I | B12: EQUIPO
B13: DESCRIPCIÓN | D13: Tipo | E13: Tarifa/Día | F13: Rend | G13: V. Unitario.
B14: Herremienta menor | F14: 0.1 | G14: =H34*F14 -> 5130.9
E20: SUBTOTAL. | H20: =ROUND(SUM(G14:G19),0) -> 5131
A21: II | B21: MATERIALES EN OBRA.
B22: DESCRIPCIÓN | D22: Unidad | E22: Cant. | F22: Precio Unit. | G22: V. Unitario.
B23: Cemento gris | D23: kg | E23: 420 | F23: 650 | G23: =+F23*E23 -> 273000
B24: Arena | D24: m3 | E24: 0.67 | F24: 60000 | G24: =+F24*E24 -> 40200
B25: Triturado | D25: m3 | E25: 0.67 | F25: 70000 | G25: =--E25*F25 -> 46900
B26: Agua | D26: lt | E26: 210 | F26: 50 | G26: =--E26*F26 -> 10500
E28: SUBTOTAL | H28: =(SUM(G23:G26)) -> 370600
A29: III | B29: MANO DE OBRA.
A30: CAN | B30: DESCRIPCIÓN | C30: Jornal | D30: Prestac | E30: Jornal Total | F30: Rend. | G30: V. Unitario.
A31: 6 | B31: Ayudante | C31: 30000 | D31: 0.75 | E31: =+(A31*C31)+(A31*C31*D31) -> 315000 | F31: 7.5035876 | G31: =(E31)/(F31) -> 41979.919
A32: 1 | B32: Oficial | C32: 40000 | D32: 0.75 | E32: =(A32*C32)+(D32*C32*A32) -> 70000 | F32: =--F31 -> 7.5035876 | G32: =E32/F32 -> 9328.871
E34: SUBTOTAL | H34: =ROUND(SUM(G31)+(G32),0) -> 51309
A35: IV | B35: TRANSPORTE
B36: DESCRIPCIÓN | C36: Unidad | D36: Cantidad | E36: Prec.Unitario | G36: Vr. Unitario
E40: SUBTOTAL | H40: =ROUND(SUM(G37)+(G38),0) -> 0
D42: TOTAL COSTOS DIRECTOS. | H42: =SUM(H20:H41) -> 427040
A44: V | B44: COSTOS INDIRECTOS.
B45: DESCRIPCIÓN | C45: % | D45: COSTO DIRECTO | F45: V. UNITARIO
B46: ADMINISTRACIÓN | C46: 0.23 | G46: =+H42*C46 -> 98219.2
B47: IMPREVISTOS | C47: 0.04 | G47: =+H42*C47 -> 17081.6
B48: UTILIDAD | C48: 0.03 | G48: =+H42*C48 -> 12811.2
D49: TOTAL COSTOS INDIRECTOS | H49: =SUM(G45:G48) -> 128112
D51: TOTAL PRECIO UNITARIO. | H51: =H42+H49 -> 555152
A56: =+Presupuesto!A45 -> 0 | D56: =+Presupuesto!C44 -> 0
A57: =+Presupuesto!A46 -> 0 | D57: =+Presupuesto!C45 -> 0
A58: =APU!#REF! -> #REF! | D58: =+Presupuesto!C46 -> 0

Sheet MEMORIA DE CANTIDADES DE OBRA 
B1: SECRETARIA DE PLANEACIÓN Y OBRAS PÚBLICAS | C1: CODIGO | E1: 103
C2: SERIE Y SUBSERIE | E2: 51
B3: NIT. 800252922-2
B4: Modelo Integrado de Planeación y Gestión | C4: VERSIÓN | E4: 1
B5: PRESUPUESTO | C5: FECHA DEL FORMATO | E5: D/M/A
E6: 45797
A8: =Presupuesto!A8 -> ADECUACION Y MEJORAMIENTO DE (C.I.C) CENTRO DE INTEGACION CIUDADANA DEL MUNICIPIO DE SAN MIGUEL PUTUMAYO
A11: MEMORIA DE CANTIDADES
A13: =Presupuesto!B14 -> PRELIMINARES
A14: ITEM: 1.1
A15: =Presupuesto!B15 -> REPLANTEO Y LOCALIZACIÓN | I15: M2
A16: Observación | B16: Direccion | C16: Cant | D16: Largo | E16: Ancho | F16: Alto | G16: Área | H16: Volumen | I16: Total
B17: muro bajo de cerramiento perimetral polideportivo | C17: 1 | D17: 104.8 | E17: 0.7 | G17: =C17*D17*E17 -> 73.36 | I17: =G17 -> 73.36
B18: muro alto de cerramiento perimetral polideportivo | C18: 1 | D18: 48.2 | E18: 3.2 | G18: =C18*D18*E18 -> 154.24 | I18: =G18 -> 154.24
B19: muro de tarima | C19: 1 | D19: 55.8 | E19: 1.53 | G19: =C19*D19*E19 -> 85.374 | I19: =G19 -> 85.374
B20: superficie de escaleras | C20: 2 | D20: 30.15 | E20: 4.2 | G20: =C20*D20*E20 -> 253.26 | I20: =G20 -> 253.26
C21: 2 | D21: 30.15 | E21: 3.5 | G21: =C21*D21*E21 -> 211.05 | I21: =G21 -> 211.05
C22: 3 | D22: 5.48 | E22: 3.5 | G22: =C22*D22*E22 -> 57.54 | I22: =G22 -> 57.54
B23: canal de aguas yuvias | C23: 1 | D23: 140.8 | E23: 0.4 | G23: =C23*D23*E23 -> 56.32 | I23: =G23 -> 56.32
I24: =+D24 -> 0
A25: total | I25: =ROUND((SUM(I17:I24)),2) -> 891.14
A28: =Presupuesto!B17 -> MANTENIMIENTO DE CANAL AGUAS LLUVIAS
A30: ITEM: 2,1 | I30: =Presupuesto!D18 -> ML
A31: =Presupuesto!B18 -> LIMPIEZA CANAL DE AGUAS LLUVIAS | B31: Direccion | C31: Cant | D31: Largo | E31: Ancho | F31: Alto | G31: Área | H31: Volumen | I31: Total
A32: Observación | I32: =D32 -> 0
B33: limpieza canal de aguas lluvias sobre superficie externa direccion perimetral de polieportivo | C33: 1 | D33: 140.8 | H33: =C33*D33 -> 140.8 | I33: =H33 -> 140.8
I35: =G35 -> 0
A36: total | I36: =ROUND((SUM(I32:I35)),2) -> 140.8
A39: =Presupuesto!B20 -> SUMINISTRO Y APLICACION DE PINTURA
A41: ITEM: 3,1 | I41: =Presupuesto!#REF! -> #REF!
A42: =Presupuesto!B21 -> SUMINISTRO Y APLICACIÓN PINTURA ACRILICO SOBRE MUROS DE CERRAMIENTO PERIMETRAL DE POLIDEPORTIVO | B42: Direccion | C42: Cant | D42: Largo | E42: Ancho | F42: Alto | G42: Área | H42: Volumen | I42: Total
A43: Observación | B43: muro bajo de cerramiento perimetral polideportivo | C43: 1 | D43: 104.8 | F43: 0.7 | G43: =C43*D43*F43 -> 73.36 | I43: =G43 -> 73.36
B44: muro alto de cerramiento perimetral polideportivo | C44: 1 | D44: 48.2 | F44: 3.2 | G44: =C44*D44*F44 -> 154.24 | I44: =G44 -> 154.24
I45: =G45 -> 0
I46: =G46 -> 0
A49: total | I49: =ROUND((SUM(I43:I48)),2) -> 227.6
A51: ITEM: 3,2 | I51: =Presupuesto!D21 -> M2
A52: =Presupuesto!B22 -> SUMINISTRO Y APLICACIÓN PINTURA ACRILICO SOBRE ESCALERAS DE POLIDEPORTIVO | B52: Direccion | C52: Cant | D52: Largo | E52: Ancho | F52: Alto | G52: Área | H52: Volumen | I52: Total
A53: Observación | B53: suministro y aplicasion de pintura a superficie de escaleras | C53: 2 | D53: 30.15 | F53: 4.2 | G53: =C53*D53*F53 -> 253.26 | I53: =G53 -> 253.26
C54: 2 | D54: 30.15 | F54: 3.5 | G54: =C54*D54*F54 -> 211.05 | I54: =G54 -> 211.05
...

Sheet APU
C1: SECRETARIA DE PLANEACIÓN Y OBRAS PÚBLICAS | D1: CODIGO | F1: 103
D2: SERIE Y SUBSERIE | F2: 51
C3: NIT. 800252922-2
C4: Modelo Integrado de Planeación y Gestión | D4: VERSIÓN | F4: 1
C5: PRESUPUESTO | D5: FECHA DEL FORMATO | F5: D/M/A
F6: 45797
A8: =Presupuesto!A8 -> ADECUACION Y MEJORAMIENTO DE (C.I.C) CENTRO DE INTEGACION CIUDADANA DEL MUNICIPIO DE SAN MIGUEL PUTUMAYO
A11: ANALISIS DE PRECIOS UNITARIOS
A13: =Presupuesto!A15 -> 1.1 | B13: =Presupuesto!B15 -> REPLANTEO Y LOCALIZACIÓN | G13: Unidad: | H13: ='MEMORIA DE CANTIDADES DE OBRA '!I15 -> M2
A15: I | B15: EQUIPO
B16: DESCRIPCIÓN | D16: Tipo | E16: Tarifa/Día | F16: Rend | G16: V. Unitario.
B17: Herremienta menor | F17: 0.1 | G17: =ROUND((H34*F17),2) -> 185.94
E20: SUBTOTAL. | H20: =SUM(G17:G19) -> 185.94
A21: II | B21: MATERIALES EN OBRA.
B22: DESCRIPCIÓN | D22: Unidad | E22: Cant. | F22: Precio Unit. | G22: V. Unitario.
G23: =ROUND((E23*F23),0) -> 0
G24: =ROUND((E24*F24),0) -> 0
G25: =ROUND((E25*F25),0) -> 0
E28: SUBTOTAL | H28: =(SUM(G23:G25)) -> 0
A29: III | B29: MANO DE OBRA.
A30: CAN | B30: DESCRIPCIÓN | C30: Jornal | D30: Prestac | E30: Jornal Total | F30: Rend | G30: V. Unitario.
A31: 1 | B31: OBREROS | C31: 60000 | D31: 0.75 | E31: =+(A31*C31)+(A31*C31*D31) -> 105000 | F31: 160 | G31: =ROUND((E31)/(F31),2) -> 656.25
A32: 1 | B32: OFICIAL | C32: 110000 | D32: 0.75 | E32: =+(A32*C32)+(A32*C32*D32) -> 192500 | F32: 160 | G32: =ROUND((E32)/(F32),2) -> 1203.13
E34: SUBTOTAL | H34: =SUM(G31)+(G32) -> 1859.38
A35: IV | B35: TRANSPORTE
B36: DESCRIPCIÓN | C36: Unidad | D36: Cantidad | E36: Prec.Unitario | G36: Vr. Unitario
E40: SUBTOTAL | H40: =ROUND(SUM(G37)+(G38),0) -> 0
D42: TOTAL COSTOS DIRECTOS. | H42: =ROUND((SUM(H20:H41)),2) -> 2045.32
A44: V | B44: COSTOS INDIRECTOS.
B45: DESCRIPCIÓN | C45: % | D45: COSTO DIRECTO | F45: V. UNITARIO
B46: ADMINISTRACIÓN | C46: 0.27 | G46: =ROUND((H42*C46),2) -> 552.24
B47: IMPREVISTOS | C47: 0.02 | G47: =ROUND((H42*C47),2) -> 40.91
B48: UTILIDAD | C48: 0.03 | G48: =ROUND((H42*C48),2) -> 61.36
D49: TOTAL COSTOS INDIRECTOS | H49: =SUM(G45:G48) -> 654.51
D51: TOTAL PRECIO UNITARIO. | H51: =H42+H49 -> 2699.83
C58: SECRETARIA DE PLANEACIÓN Y OBRAS PÚBLICAS | D58: CODIGO | F58: 103
D59: SERIE Y SUBSERIE | F59: 51
C60: NIT. 800252922-2
C61: Modelo Integrado de Planeación y Gestión | D61: VERSIÓN | F61: 1
C62: PRESUPUESTO | D62: FECHA DEL FORMATO | F62: D/M/A
...

Sheet CRONOGRAMA
A2: CRONOGRAMA DE ACTIVIDADES | G2: SEMANA 1 | H2: SEMANA 2
A3: REHABILITACIÓN DEL SISTEMA DE ALCANTARILLADO SANITARIO Y PLUVIAL - CALLE 5, CARRERA 3, CALLE 4, CALLE 3, CARRERA 2, CARRERA 5 , CARRERA 1ª CARRERA 6- EN EL CORREGIMIENTO DE PUERTO COLÓN MUNICIPIO DE SAN MIGUEL DEPARTAMENTO DEL PUTUMAYO
A5: ITEM | B5: DESCRIPCION | C5: UNIDAD | D5: CANTIDAD | E5: VR/UNITARIO | F5: VR/TOTAL
A6: 1 | B6: PRELIMINARES
A7: 1.1 | B7: Localizacion y replanteo | C7: m2 | D7: =+Presupuesto!#REF! -> #REF! | E7: =+Presupuesto!#REF! -> #REF! | F7: =ROUND((D7*E7),0) -> #REF! | G7: =+F7 -> #REF!
B8: SUBTOTAL | F8: =+F7 -> #REF!
A9: 2 | B9: ESTRUCTURA SANITARIA Y DE PAVIMENTO | J9: 2.55
A10: 2.1 | B10: Excavacion manual | C10: m3 | D10: =+Presupuesto!#REF! -> #REF! | E10: =+Presupuesto!#REF! -> #REF! | F10: =ROUND((D10*E10),0) -> #REF! | G10: =+F10 -> #REF! | J10: 5
A11: 2.2 | B11: Retiro tuberia existente en mal estado | C11: ml | D11: =+Presupuesto!#REF! -> #REF! | E11: =+Presupuesto!#REF! -> #REF! | F11: =ROUND((D11*E11),0) -> #REF! | G11: =+F11 -> #REF! | J11: 2.4
A12: 2.3 | B12: Retiro de material de excavacion y demolicion | C12: m3 | D12: =+Presupuesto!#REF! -> #REF! | E12: =+Presupuesto!#REF! -> #REF! | F12: =ROUND((D12*E12),0) -> #REF! | G12: =+F12 -> #REF! | J12: 1.8
A13: 2.4 | B13: Relleno con material grudo de rio | C13: m3 | D13: =+Presupuesto!#REF! -> #REF! | E13: =+Presupuesto!#REF! -> #REF! | F13: =ROUND((D13*E13),0) -> #REF! | G13: =+F13 -> #REF! | J13: 3.4
A14: 2.5 | B14: Instalacion de tuberia 8" (incluye encamado en arena) | C14: ml | D14: =+Presupuesto!#REF! -> #REF! | E14: =+Presupuesto!#REF! -> #REF! | F14: =ROUND((D14*E14),0) -> #REF! | G14: =+F14 -> #REF! | J14: 2
A15: 2.6 | B15: Kit silla Yee 6" a 8" | C15: und | D15: =+Presupuesto!#REF! -> #REF! | E15: =+Presupuesto!#REF! -> #REF! | F15: =ROUND((D15*E15),0) -> #REF! | G15: =+F15 -> #REF! | J15: 6.6
A16: 2.7 | B16: Relleno con material de excavación seleccionado, compactado | C16: m3 | D16: =+Presupuesto!#REF! -> #REF! | E16: =+Presupuesto!#REF! -> #REF! | F16: =ROUND((D16*E16),0) -> #REF! | H16: =+F16 -> #REF! | J16: 1.2
A17: 2.8 | B17: Subbase compactada con material de selección | C17: m3 | D17: =+Presupuesto!#REF! -> #REF! | E17: =+Presupuesto!#REF! -> #REF! | F17: =ROUND((D17*E17),0) -> #REF! | H17: =+F17 -> #REF! | J17: 2.4
A18: 2.9 | B18: Placa en concreto rigido de 3.8 MPA, e=20 cm incluye juntas de expansion y sellado | C18: m2 | D18: =+Presupuesto!#REF! -> #REF! | E18: =+Presupuesto!#REF! -> #REF! | F18: =ROUND((D18*E18),0) -> #REF! | H18: =+F18 -> #REF! | J18: 6
A19: =+Presupuesto!#REF! -> #REF! | B19: Suministro y aplicación de curador tipo antisol para concreto rigido | C19: m2 | D19: =+Presupuesto!#REF! -> #REF! | E19: =+Presupuesto!#REF! -> #REF! | F19: =ROUND((D19*E19),0) -> #REF! | H19: =+F19 -> #REF!
B20: SUBTOTAL | F20: =+F10+F11+F12+F13+F14+F15+F16+F17+F18+F19 -> #REF!
A21: 3 | B21: ALCANTARILLADO PLUVIAL
A22: 3.1 | B22: Limpieza y sondeo de tuberia 8 y 10" | C22: ml | D22: =+Presupuesto!#REF! -> #REF! | E22: =+Presupuesto!#REF! -> #REF! | F22: =ROUND((D22*E22),0) -> #REF! | H22: =+F22 -> #REF!
A23: 3.2 | B23: Limpieza de camras de inspeción | C23: und | D23: =+'Memoria de Cantidades'!J48 -> 34 | E23: =+Presupuesto!#REF! -> #REF! | F23: =ROUND((D23*E23),0) -> #REF! | H23: =+F23 -> #REF!
A24: 3.3 | B24: Limpieza de sumideros y cajillas (inclulle tuberia sumideros a tubo principal) | C24: und | D24: =+'Memoria de Cantidades'!J50 -> 11 | E24: =+Presupuesto!#REF! -> #REF! | F24: =ROUND((D24*E24),0) -> #REF! | H24: =+F24 -> #REF!
B25: SUBTOTAL | F25: =+F22+F23+F24 -> #REF! | G25: =SUM(G7:G24) -> #REF! | H25: =SUM(H16:H24) -> #REF!
B26: TOTAL COSTO DIRECTO OBRA | F26: =+F8+F20+F25 -> #REF!
B29: =+'Memoria de Cantidades'!B52 -> ALABORÓ: | F29: =+'Memoria de Cantidades'!E52 -> Vo.Bo.
B34: =+'Memoria de Cantidades'!B56 -> 0 | F34: =+'Memoria de Cantidades'!E56 -> 0
B35: =+'Memoria de Cantidades'!B57 -> 0 | F35: =+'Memoria de Cantidades'!E57 -> 0
B36: =+'Memoria de Cantidades'!B58 -> #REF! | F36: =+'Memoria de Cantidades'!E58 -> 0

Sheet Memoria de Cantidades
A1: REPUBLICA DE COLOMBIA
A2: DEPARTAMENTO DEL PUTUMAYO
A3: MUNICIPIO DE SAN MIGUEL
A5: MEMORIA DE CANTIDADES
A6: =+Presupuesto!#REF! -> #REF!
A7: ITEM | B7: Descripción | C7: Und | D7: L (m) | E7: A (m) | F7: H(m) | G7: Área(m2) | H7: Volumen(m3) | I7: Kg | J7: Unidad | K7: Cantidad
A8: 1 | B8: PRELIMINARES
A9: 1.1 | B9: Localización y replanteo | C9: m2 | K9: =+G10 -> 3.5
B10: Sector la Vega calle 3 entre crr 2 y 3 | D10: 7 | E10: 0.5 | G10: =--D10*E10 -> 3.5
A11: 1.2 | B11: Demolicion placa existente | C11: m2 | K11: =+G12 -> 1
B12: =B10 -> Sector la Vega calle 3 entre crr 2 y 3 | D12: 2.5 | E12: 0.4 | G12: =--E12*D12 -> 1
A13: 2 | B13: ESTRUCTURA SANITARIA Y DE PAVIMENTO
A14: 2.1 | B14: Excavacion manual | C14: m3 | K14: =SUM(H15:H15) -> 2.55
B15: =B12 -> Sector la Vega calle 3 entre crr 2 y 3 | D15: 3.4 | E15: 0.5 | F15: 1.5 | H15: =+D15*E15*F15 -> 2.55
A16: 2.2 | B16: Retiro tuberia existente en mal estado | C16: ml | K16: =--D17 -> 2.5
B17: =B15 -> Sector la Vega calle 3 entre crr 2 y 3 | D17: 2.5
A18: 2.3 | B18: Retiro de material de excavacion y demolicion | C18: m3 | K18: =--H19 -> 1.7
B19: =B17 -> Sector la Vega calle 3 entre crr 2 y 3 | D19: 2.5 | E19: 1.7 | F19: 0.4 | H19: =+D19*E19*F19 -> 1.7
A20: 2.4 | B20: Relleno con material crudo de rio | C20: m3 | K20: =--H21 -> 0.375
B21: =B19 -> Sector la Vega calle 3 entre crr 2 y 3 | D21: =+D19 -> 2.5 | E21: 0.5 | F21: 0.3 | H21: =+D21*E21*F21 -> 0.375
A22: 2.5 | B22: Instalacion de tuberia 6" (incluye encamado en arena) | C22: ml | K22: =D23 -> 3.4
B23: =B21 -> Sector la Vega calle 3 entre crr 2 y 3 | D23: 3.4
A24: 2.6 | B24: Kit silla tee 6" a 12" | C24: und | K24: =--J25 -> 1
B25: =B23 -> Sector la Vega calle 3 entre crr 2 y 3 | J25: 1
A26: 2.7 | B26: Relleno con material de sitio seleccionado, compactado | C26: m3 | K26: =SUM(H27:H27) -> 1.625
B27: =B25 -> Sector la Vega calle 3 entre crr 2 y 3 | D27: 2.5 | E27: 0.5 | F27: 1.3 | H27: =+D27*E27*F27 -> 1.625
A28: 2.8 | B28: Subbase compactada con material de selección | C28: m3 | K28: =SUM(H29:H29) -> 0.5
B29: =B27 -> Sector la Vega calle 3 entre crr 2 y 3 | D29: 2.5 | E29: 1 | F29: 0.2 | H29: =--D29*E29*F29 -> 0.5
A30: 2.9 | B30: Placa en concreto rigido de 21 MPA, e=20 cm incluye juntas de expansion y sellado | C30: m2 | K30: =--G31 -> 0.88
B31: =B29 -> Sector la Vega calle 3 entre crr 2 y 3 | D31: 2.2 | E31: 0.4 | G31: =--D31*E31 -> 0.88
A32: 2.1 | B32: Suministro y aplicación de curador tipo antisol para concreto rigido | C32: m2 | K32: =--G33 -> 3
B33: =B31 -> Sector la Vega calle 3 entre crr 2 y 3 | D33: 3 | E33: 1 | G33: =--D33*E33 -> 3
A34: 3 | B34: ALCANTARILLADO SANITARIO Y PLUVIAL
A35: 4.1 | B35: =+Presupuesto!#REF! -> #REF! | C35: ml | K35: =SUM(K36:K46) -> 2328
B36: Carrera 3 sector de la entrada hasta estación de policia. | D36: =39.92+79.82+74.24+103.26+60.09+66.59+18.82+27 -> 469.74 | K36: =+D36 -> 469.74
B37: Calle 5 entre crr 5 a crr 3. | D37: =34.26+85.26+80.22+90.32+14.17 -> 304.23 | K37: =+D37 -> 304.23
B38: Carrera 3 entre calles 5 y 3. | D38: =21.71+11.22+12.57+47.95+38.64+14.74 -> 146.83 | K38: =+D38 -> 146.83
B39: Calle 3 entre crr 2 y crr 3 | D39: =42.91+56.52+56.63 -> 156.06 | K39: =+D39 -> 156.06
B40: Carrera 2 al descole del aserradero | D40: 180 | K40: =+D40 -> 180
B41: carrera 2 | D41: =40.24+23.31+79.03 -> 142.58 | K41: =+D41 -> 142.58
...

Sheet Presupuesto
C1: SECRETARIA DE PLANEACIÓN Y OBRAS PÚBLICAS | D1: CODIGO | F1: 103
D2: SERIE Y SUBSERIE | F2: 51
C3: NIT. 800252922-2
C4: Modelo Integrado de Planeación y Gestión | D4: VERSIÓN | F4: 1
C5: PRESUPUESTO | D5: FECHA DEL FORMATO | F5: D/M/A
F6: 45797
A8: ADECUACION Y MEJORAMIENTO DE (C.I.C) CENTRO DE INTEGACION CIUDADANA DEL MUNICIPIO DE SAN MIGUEL PUTUMAYO
A11: PRESUPUESTO GENERAL
A13: ITEM | B13: DESCRIPCION | D13: UNIDAD | E13: CANTIDAD | F13: VR/UNITARIO | G13: VR/TOTAL
A14: 1 | B14: PRELIMINARES
A15: 1.1 | B15: REPLANTEO Y LOCALIZACIÓN | D15: M2 | E15: =+'MEMORIA DE CANTIDADES DE OBRA '!I25 -> 891.14 | F15: =+APU!H51 -> 2699.83 | G15: =ROUND(E15*F15,2) -> 2405926.5
B16: subtotal | G16: =ROUND((SUM(G15:G15)),2) -> 2405926.5
A17: 2 | B17: MANTENIMIENTO DE CANAL AGUAS LLUVIAS
A18: 2.1 | B18: LIMPIEZA CANAL DE AGUAS LLUVIAS | D18: ML | E18: ='MEMORIA DE CANTIDADES DE OBRA '!I36 -> 140.8 | F18: =+APU!H106 -> 18895.8 | G18: =ROUND(E18*F18,2) -> 2660528.6
B19: subtotal | G19: =ROUND((SUM(G18:G18)),2) -> 2660528.6
A20: 3 | B20: SUMINISTRO Y APLICACION DE PINTURA
A21: 3.1 | B21: SUMINISTRO Y APLICACIÓN PINTURA ACRILICO SOBRE MUROS DE CERRAMIENTO PERIMETRAL DE POLIDEPORTIVO | D21: M2 | E21: =+'MEMORIA DE CANTIDADES DE OBRA '!I49 -> 227.6 | F21: =+APU!H155 -> 24933.75 | G21: =ROUND(E21*F21,2) -> 5674921.5
A22: 3.2 | B22: SUMINISTRO Y APLICACIÓN PINTURA ACRILICO SOBRE ESCALERAS DE POLIDEPORTIVO | D22: M2 | E22: =+'MEMORIA DE CANTIDADES DE OBRA '!I58 -> 521.85 | F22: =+APU!H212 -> 24933.75 | G22: =ROUND(E22*F22,2) -> 13011677
A23: 3.3 | B23: SUMINISTRO Y APLICACIÓN PINTURA ACRILICA DE AGUA SOBRE MUROS DE TARIMA DE POLIDEPORTIVO | D23: M2 | E23: =+'MEMORIA DE CANTIDADES DE OBRA '!I66 -> 85.68 | F23: =+APU!H271 -> 22955 | G23: =ROUND(E23*F23,2) -> 1966784.4
A24: 3.4 | B24: SUMINISTRO Y APLICACIÓN PINTURA EN ESMALTE PARA PASAMANOS METALICOS DE ESCALERAS | D24: ML | E24: =+'MEMORIA DE CANTIDADES DE OBRA '!I75 -> 84 | F24: =+APU!H328 -> 24933.75 | G24: =ROUND(E24*F24,2) -> 2094435
B25: subtotal | G25: =ROUND((SUM(G21:G24)),2) -> 22747818
A26: 4 | B26: MANTENIMIENTO CUBIERTA
A27: 4.1 | B27: REPARACION DE MALFORMACIONES EN LAMINAS DE CUBIERTA | D27: UND | E27: =+'MEMORIA DE CANTIDADES DE OBRA '!I89 -> 1 | F27: =+APU!H385 -> 1094027.8 | G27: =ROUND(E27*F27,2) -> 1094027.8
B28: subtotal | G28: =ROUND((SUM(G27:G27)),2) -> 1094027.8
A29: 5 | B29: MANTENIMIENTO Y REABILITACION DE BAÑO PUBLICO
A30: 5.1 | B30: SUMINISTRO E INSTALACION DE TANQUE ELEVADO EN MATERIAL PLASTICO DE 1000 LT | D30: UND | E30: =+'MEMORIA DE CANTIDADES DE OBRA '!I103 -> 1 | F30: =APU!H441 -> 646750 | G30: =ROUND(E30*F30,2) -> 646750
A31: 5.2 | B31: SUMINISTRO E INSTALACION DE TUBERIA PVC 1" -incluye accesorios | D31: UND | E31: 1 | F31: =APU!H500 -> 383550 | G31: =ROUND(E31*F31,2) -> 383550
G32: =ROUND(E32*F32,2) -> 0
B33: subtotal | G33: =ROUND((SUM(G30:G32)),2) -> 1030300
A34: TOTAL COSTO DIRECTO OBRA | G34: =G16+G19+G25+G28+G33 -> 29938601
A35: ADMINISTRACION | F35: 0.27 | G35: =ROUND((G34*F35),2) -> 8083422.3
A36: IMPREVISTOS | F36: 0.02 | G36: =ROUND((G34*F36),2) -> 598772.03
A37: UTILIDAD | F37: 0.03 | G37: =ROUND((G34*F37),2) -> 898158.04
A38: TOTAL A.I.U | G38: =SUM(G35:G37) -> 9580352.4
A39: COSTO TOTAL OBRA | G39: =G34+G38 -> 39518954

Sheet F.M 
D1: SECRETARIA DE PLANEACIÓN Y OBRAS PÚBLICAS | E1: CODIGO | F1: 103
E2: SERIE Y SUBSERIE | F2: 51
D3: NIT. 800252922-2
D4: Modelo Integrado de Planeación y Gestión | E4: VERSIÓN | F4: 1
D5: PRESUPUESTO | E5: FECHA DEL FORMATO | F5: D/M/A
F6: 45797
B8: =Presupuesto!A8 -> ADECUACION Y MEJORAMIENTO DE (C.I.C) CENTRO DE INTEGACION CIUDADANA DEL MUNICIPIO DE SAN MIGUEL PUTUMAYO
B11: FACTOR PRESTACIONAL PARA PERSONAL PROFESIONAL, ADMINISTRATIVO Y TECNICO | G11: %
B12: A. | D12: VALOR BASE (Sueldo) | G12: 100
B13: B. | D13: PRESTACIONES SOCIALES | G13: =SUM(G14:G29) -> 75.432
C14: a. | D14: Cesantías | F14: (A/12) | G14: 8.33
C15: b. | D15: Intereses sobre cesantía | F15: (a*12%) | G15: 1
C16: c. | D16: Prima anual | F16: (A/12) | G16: 8.33
C17: d. | D17: Caja de Compensación | F17: % A | G17: 4
C18: e. | D18: SENA | F18: % A | G18: 2
C19: f. | D19: ICBF | F19: % A | G19: 3
C20: g. | D20: Sistema de seguridad social : Salud | F20: % A | G20: 8.5
C21: h. | D21: Sistema de seguridad social : Pensiòn | F21: % A | G21: 12
C22: i. | D22: ARP personal en obra | F22: % A | G22: 6.96
C23: j. | D23: ARP personal en oficina | F23: % A | G23: 0.522
C24: k. | D24: Vacaciones | F24: (15/360*100) | G24: 4.17
C25: l. | D25: Ausencias justificadas | F25: (3/360*100) | G25: 0.83
... C29: p | D29: Bonoficación rereación | F29: % A | G29: 2
B30: C. | D30: SUMA (A + B) | G30: =G12+G13 -> 175.432
B32: E. | D32: FACTOR PRESTACIONAL | G32: =G30 -> 175.432
D33: FACTOR PRESTACIONAL FINAL | G33: =ROUND(G32/100,2) -> 1.75

Sheet CRONOGRAMA--
C1: SECRETARIA DE PLANEACIÓN Y OBRAS PÚBLICAS | E1: CODIGO | G1: 103
E2: SERIE Y SUBSERIE | G2: 51
C3: NIT. 800252922-2
C4: Modelo Integrado de Planeación y Gestión | E4: VERSIÓN | G4: 1
C5: PRESUPUESTO | E5: FECHA DEL FORMATO | G5: D/M/A
G6: 45797
A8: =Presupuesto!A8 -> ADECUACION Y MEJORAMIENTO DE (C.I.C) CENTRO DE INTEGACION CIUDADANA DEL MUNICIPIO DE SAN MIGUEL PUTUMAYO
A11: CRONOGRAMA
I12: SEMANA 1 | J12: SEMANA 2
A13: ITEM | B13: DESCRIPCION | D13: UNIDAD | E13: CANTIDAD | F13: V/UNITARIO | G13: V/TOTAL | H13: %
A14: 1 | B14: =Presupuesto!B15 -> REPLANTEO Y LOCALIZACIÓN
A15: =Presupuesto!A15 -> 1.1 | B15: =Presupuesto!B15 -> REPLANTEO Y LOCALIZACIÓN | D15: =Presupuesto!D15 -> M2 | E15: =Presupuesto!E15 -> 891.14 | F15: =Presupuesto!F15 -> 2699.83 | G15: =ROUND(E15*F15,2) -> 2405926.5 | H15: =G15/G39 -> 0.060880319 | I15: =G15 -> 2405926.5
A17: 2 | B17: =Presupuesto!B17 -> MANTENIMIENTO DE CANAL AGUAS LLUVIAS
A18: =Presupuesto!A18 -> 2.1 | B18: =Presupuesto!B18 -> LIMPIEZA CANAL DE AGUAS LLUVIAS | D18: =Presupuesto!D18 -> ML | E18: =Presupuesto!E18 -> 140.8 | F18: =Presupuesto!F18 -> 18895.8 | G18: =ROUND(E18*F18,2) -> 2660528.6 | H18: =G18/G39 -> 0.067322851 | I18: =G18 -> 2660528.6
A20: 3 | B20: =+Presupuesto!B20 -> SUMINISTRO Y APLICACION DE PINTURA
A21: =+Presupuesto!A21 -> 3.1 | B21: =+Presupuesto!B21 -> SUMINISTRO Y APLICACIÓN PINTURA ACRILICO SOBRE MUROS DE CERRAMIENTO PERIMETRAL DE POLIDEPORTIVO | D21: =+Presupuesto!D21 -> M2 | E21: =+Presupuesto!E21 -> 227.6 | F21: =+Presupuesto!F21 -> 24933.75 | G21: =+Presupuesto!G21 -> 5674921.5 | H21: =G21/G39 -> 0.14359999 | I21: =+G21/2 -> 2837460.8 | J21: =+G21/2 -> 2837460.8
A22: =+Presupuesto!A22 -> 3.2 | B22: =+Presupuesto!B22 -> SUMINISTRO Y APLICACIÓN PINTURA ACRILICO SOBRE ESCALERAS DE POLIDEPORTIVO | D22: =+Presupuesto!D22 -> M2 | E22: =+Presupuesto!E22 -> 521.85 | F22: =+Presupuesto!F22 -> 24933.75 | G22: =+Presupuesto!G22 -> 13011677 | H22: =G22/G39 -> 0.32925157 | J22: =G22 -> 13011677
A23: =+Presupuesto!A23 -> 3.3 | B23: =+Presupuesto!B23 -> SUMINISTRO Y APLICACIÓN PINTURA ACRILICA DE AGUA SOBRE MUROS DE TARIMA DE POLIDEPORTIVO | D23: =+Presupuesto!D23 -> M2 | E23: =+Presupuesto!E23 -> 85.68 | F23: =+Presupuesto!F23 -> 22955 | G23: =+Presupuesto!G23 -> 1966784.4 | H23: =G23/G39 -> 0.049768129 | J23: =G23 -> 1966784.4
A24: =+Presupuesto!A24 -> 3.4 | B24: =+Presupuesto!B24 -> SUMINISTRO Y APLICACIÓN PINTURA EN ESMALTE PARA PASAMANOS METALICOS DE ESCALERAS | D24: =+Presupuesto!D24 -> ML | E24: =+Presupuesto!E24 -> 84 | F24: =+Presupuesto!F24 -> 24933.75 | G24: =+Presupuesto!G24 -> 2094435 | H24: =G24/G39 -> 0.05299824 | J24: =G24 -> 2094435
A26: 4 | B26: =+Presupuesto!B26 -> MANTENIMIENTO CUBIERTA
A27: =+Presupuesto!A27 -> 4.1 | B27: =+Presupuesto!B27 -> REPARACION DE MALFORMACIONES EN LAMINAS DE CUBIERTA | D27: =+Presupuesto!D27 -> UND | E27: =+Presupuesto!E27 -> 1 | F27: =+Presupuesto!F27 -> 1094027.8 | G27: =+Presupuesto!G27 -> 1094027.8 | H27: =G27/G39 -> 0.027683622 | J27: =G27 -> 1094027.8
A29: =+Presupuesto!A29 -> 5 | B29: =+Presupuesto!B29 -> MANTENIMIENTO Y REABILITACION DE BAÑO PUBLICO
A30: =+Presupuesto!A30 -> 5.1 | B30: =+Presupuesto!B30 -> SUMINISTRO E INSTALACION DE TANQUE ELEVADO EN MATERIAL PLASTICO DE 1000 LT | D30: =+Presupuesto!D30 -> UND | E30: =+Presupuesto!E30 -> 1 | F30: =+Presupuesto!F30 -> 646750 | G30: =+Presupuesto!G30 -> 646750 | H30: =G30/G39 -> 0.016365565 | J30: =G30 -> 646750
A31: =+Presupuesto!A31 -> 5.2 | B31: =+Presupuesto!B31 -> SUMINISTRO E INSTALACION DE TUBERIA PVC 1" -incluye accesorios | D31: =+Presupuesto!D31 -> UND | E31: =+Presupuesto!E31 -> 1 | F31: =+Presupuesto!F31 -> 383550 | G31: =+Presupuesto!G31 -> 383550 | H31: =G31/G39 -> 0.0097054695 | J31: =G31 -> 383550
A34: TOTAL COSTO DIRECTO OBRA | G34: =SUM(G15:G33) -> 29938601 | H34: =SUM(H15:H33) -> 0.75757576 | I34: =SUM(I15:I33) -> 7903915.9 | J34: =SUM(J15:J33) -> 22034685
A35: ADMINISTRACION | F35: 0.27 | G35: =ROUND((F35*G$34),2) -> 8083422.3 | H35: =G35/G$39 -> 0.20454545 | I35: =$F$35*I$34 -> 2134057.3 | J35: =$F$35*J$34 -> 5949365
A36: IMPREVISTOS | F36: 0.02 | G36: =ROUND((F36*G$34),2) -> 598772.03 | H36: =G36/G$39 -> 0.015151515 | I36: =$F$36*I$34 -> 158078.32 | J36: =$F$36*J$34 -> 440693.71
A37: UTILIDAD | F37: 0.03 | G37: =ROUND((F37*G$34),2) -> 898158.04 | H37: =G37/G$39 -> 0.022727273 | I37: =$F$37*I$34 -> 237117.48 | J37: =$F$37*J$34 -> 661040.56
A38: TOTAL COSTO INDIRECTO OBRA | G38: =SUM(G35:G37) -> 9580352.4 | H38: =SUM(H35:H37) -> 0.24242424 | I38: =SUM(I35:I37) -> 2529253.1 | J38: =SUM(J35:J37) -> 7051099.3
A39: TOTAL OBRA | G39: =G38+G34 -> 39518954 | H39: =H34+H38 -> 1 | I39: =I34+I38 -> 10433169 | J39: =J34+J38 -> 29085785

Sheet DESGLOSE AIU
B1: SECRETARIA DE PLANEACIÓN Y OBRA PÚBLICAS | D1: CÓDIGO | E1: 103
D2: SERIE Y SUBSERIE | E2: 51
B3: NIT. 800252922-2
B4: Modelo Integrado de Planeación y Gestión | D4: VERSIÓN | E4: 1
B5: PRESUPUESTO | D5: FECHA DEL FORMATO | E5: D/M/A
E6: 45797
A8: =Presupuesto!A8 -> ADECUACION Y MEJORAMIENTO DE (C.I.C) CENTRO DE INTEGACION CIUDADANA DEL MUNICIPIO DE SAN MIGUEL PUTUMAYO
A11: DESGLOCE A.I.U
A13: SALARIO PERSONAL ADMINISTRATIVO DE OBRA
A14: PERSONAL | B14: SUELDO BASICO | C14: FACTOR PRESTACIONAL | E14: SUELDO + PRESTACIONES
A15: Residente de Obra | B15: 2200000 | C15: 1.75 | E15: =B15*C15 -> 3850000
A16: 1. ADMINISTRACION
A17: 1.1. PERSONAL ADMINISTRATIVO DE OBRA | B17: SUELDO + PRESTACIONES | C17: DEDICACION | D17: MESES | E17: VALOR PARCIAL | F17: % SOBRE COSTO DIRECTO
A18: Residente de Obra | B18: =E15 -> 3850000 | C18: 0.6 | D18: 0.5 | E18: =ROUND((B18*C18*D18),0) -> 1155000 | F18: =E18/E48 -> 0.038578957
A19: 1.2. COSTOS DEL PROCESO
A20: Polizas y legalizacion del contrato | E20: 350000 | F20: =E20/E48 -> 0.011690593
A21: 1.3. GASTOS DE OBRA
A22: Edicion de informes | E22: 150000 | F22: =E22/E48 -> 0.0050102541
A23: Fotografias | E23: 150000 | F23: =E23/E48 -> 0.0050102541
A24: alquiler bodega | E24: 350000 | F24: =E24/E48 -> 0.011690593
A25: Seguridad Industrial | E25: 550000 | F25: =E25/E48 -> 0.018370932
A26: Otros | E26: 244093.99 | F26: =E26/E50 -> 0.0061766309
A27: IMPUESTOS DE OBRA
A28: Otras obigaciones (Impuestos de ley) | E28: =E48*F28 -> 4879992 | F28: 0.163
A29: TOTAL ADMINISTRACION | E29: =ROUND(SUM(E18:E28),2) -> 7829086 | F29: =SUM(F18:F28) -> 0.25952821 | G29: 7441639 | H29: =G29-E29 -> -387446.97
A31: 2. IMPREVISTOS
A32: DESCRIPCION | D32: VALOR PARCIAL | F32: PORCENTAJE
A33: IMPREVISTOS | D33: =ROUND((F33*E48),2) -> 598772.03 | F33: 0.02
A34: TOTAL UTILIDAD | D34: =D33 -> 598772.03 | F34: =SUM(F33) -> 0.02
A36: 3. UTILIDAD
A37: DESCRIPCION | D37: VALOR PARCIAL | F37: PORCENTAJE
A38: UTILIDAD | D38: =ROUND((F38*E48),2) -> 898158.04 | F38: 0.03
A39: TOTAL UTILIDAD | D39: =D38 -> 898158.04 | F39: =SUM(F38) -> 0.03
A41: TOTAL COSTO DIRECTO A.I.U
A42: RESUMEN
A43: DESCRIPCION | D43: VALOR PARCIAL | F43: PORCENTAJE | G43: total obra
A44: ADMINISTRACION | D44: =ROUND((F44*E48),2) -> 8083422.3 | F44: 0.27 | G44: A | H44: 7441639
A45: IMPREVISTOS | D45: =ROUND((F45*E48),2) -> 598772.03 | F45: 0.02 | G45: I | H45: 551232.52
A46: UTILIDAD | D46: =ROUND((F46*E48),2) -> 898158.04 | F46: 0.03 | G46: U | H46: 826848.78
A47: TOTAL | D47: =SUM(D44:E46) -> 9580352.4 | F47: =SUM(F44:F46) -> 0.32 | G47: tot AIU | H47: =SUM(H44:H46) -> 8819720.3
...
