Workbook
Name e: #REF!
Name LISTA_MA: #REF!
Name LISTA_MA: #REF!
Name PRESTACIONES: '[1]CONCRETO 175'!$D$5
Name SUBA: '[2]SUB APU'!$A:$D

Sheet CADENA DE VALOR
A1: ACTVIDADES | D1: ADMINISTRACION | F1: COSTO TOTAL | G1: CADENA DE VALOR
A2: PRELIMINARES | B2: =+'PRESUPUESTO ESTUFA'!G14 -> 1675550 | C2: =B2*G2 -> 3228587972875 | D2: =B2*15% -> 251332.5 | E2: =B2+D2 -> 1926882.5 | F2: =C2+D2 -> 3.2285882e+12 | G2: =B2+D2 -> 1926882.5
A3: SUMINISTRO E INSTALACION | B3: =+'PRESUPUESTO ESTUFA'!G23 -> 165927371 | C3: =B3*G2 -> 3.1972255e+14 | D3: =B3*15% -> 24889106 | E3: =B3+D3 -> 1.9081648e+08 | F3: =C3+D3 -> 3.1972257e+14 | G3: =B3+D3 -> 1.9081648e+08
A4: IMPLEMENTACION HUERTO LEÑERO | B4: =+'PRESUPUESTO ESTUFA'!G29 -> 17578250 | C4: =B4*G2 -> 33871222305625 | D4: =B4*15% -> 2636737.5 | E4: =B4+D4 -> 20214988 | F4: =C4+D4 -> 3.3871225e+13 | G4: =B4+D4 -> 20214988
A5: TALLERES | B5: =+'PRESUPUESTO ESTUFA'!G33 -> 16548000 | C5: =B5*G2 -> 31886051610000 | D5: =B5*15% -> 2482200 | E5: =B5+D5 -> 19030200 | F5: =C5+D5 -> 31886054092200 | G5: =B5+D5 -> 19030200
A6: MEJORAMIENTO DE SENDEROS | B6: =+'PRESUPUESTO ESTUFA'!G42 -> 61892108 | D6: 29290725 | G6: =B6+D6 -> 91182833
B7: =SUM(B2:B6) -> 2.6362128e+08 | C7: =SUM(C1:C5) -> 3.8870841e+14 | D7: =SUM(D2:D6) -> 59550101 | E7: =SUM(E2:E5) -> 2.3198855e+08 | F7: =SUM(F2:F5) -> 3.8870844e+14 | G7: =SUM(G2:G6) -> 3.2317138e+08
A8: SUPERVISION | B8: =B7*8% -> 21089702 | E8: =E7+B8 -> 2.5307825e+08 | G8: =G7+B8 -> 3.4426108e+08
F9: =F7+B8 -> 3.8870846e+14 | G9: 471953878

Sheet PRESUPUESTO ESTUFA
B2: PRESUPUESTO GENERAL
B5: MUNICIPIO DE LA VIRGINIA - RISARALDA
B6: IMPLEMENTACIÓN DE ACCIONES DE CONSERVACIÓN, PRODUCCCIÓN SOSTENIBLE Y CONSUMO RESPONSABLE EN AREAS DE INTERES AMBIENTAL DEL D.M.I GUASIMO EN EL MUNICIPIO DE LA VIRGINIA
G7: =#REF!/#REF! -> #REF!
F8: VALOR TOTAL
B10: ITEM | C10: DESCRIPCION | D10: UNID. | E10: CANTIDAD | F10: V. UNITARIO | G10: V. TOTAL
B11: A | C11: PRELIMINARES
B12: A1.1 | C12: =+'UNITARIOS PROYECTO OK'!B7 -> Localización y Replanteo | D12: M2 | E12: 50 | F12: =+'UNITARIOS PROYECTO OK'!H29 -> 12466 | G12: =+F12*E12 -> 623300
B13: A1.2 | C13: Geolocalizacion del sitio, localizacion y replanteo | D13: UND | E13: 50 | F13: =+'UNITARIOS PROYECTO OK'!H61 -> 21045 | G13: =+F13*E13 -> 1052250
B14: SUB TOTAL | G14: =+SUM(G12:G13) -> 1675550
B15: B | C15: SUMINISTRO E INSTALACION ESTUFA FIJA
B16: B1.1 | C16: Preparacion del terreno manualmente incluye demoliciones de estructuras existentes | D16: M2 | E16: 50 | F16: =+'ANALISIS PRECIOS UNITARIOS '!F16 -> 136039 | G16: =+F16*E16 -> 6801950
B17: B1.2 | C17: Construcción piso en concreto espesor 8 cms | D17: M2 | E17: 50 | F17: =+'ANALISIS PRECIOS UNITARIOS '!F5 -> 95875 | G17: =+F17*E17 -> 4793750
B18: B1.3 | C18: Suministro e instalación de ladrillo tipo bocadillo, Liviano de 5x10x20 cm | D18: M2 | E18: 75.5 | F18: =+'UNITARIOS PROYECTO OK'!H92 -> 234172 | G18: =+F18*E18 -> 17679986
B19: B1.4 | C19: Mampostería ladrillo adobe macizo de 5x10x20 cm | D19: M2 | E19: 40 | F19: =+'UNITARIOS PROYECTO OK'!H124 -> 144825 | G19: =+F19*E19 -> 5793000
B20: B1.5 | C20: Mampostería ladrillo tipo farol de 10x20x40 cm 3 huecos | D20: M2 | E20: 79 | F20: =+'UNITARIOS PROYECTO OK'!H158 -> 70290 | G20: =+F20*E20 -> 5552910
B21: B1.6 | C21: Suministro e Instalación de vitrificado | D21: M2 | E21: 25 | F21: =+'UNITARIOS PROYECTO OK'!H192 -> 98563 | G21: =+F21*E21 -> 2464075
B22: B1.7 | C22: Suministro e Instalación KIT de Herrajes | D22: UND | E22: 50 | F22: =+'UNITARIOS PROYECTO OK'!H233 -> 2456834 | G22: =+F22*E22 -> 122841700
B23: SUB TOTAL | G23: =SUM(G16:G22) -> 165927371
B24: C | C24: IMPLEMENTACION HUERTO LEÑERO
B25: C1.1 | C25: Material Vegetal - Plantulas | D25: UND | E25: 1000 | F25: =+'ANALISIS PRECIOS UNITARIOS '!F69 -> 9401 | G25: =+F25*E25 -> 9401000
B26: C1.2 | C26: Elementos Mayores | D26: KG | E26: 50 | F26: =+'ESTUDIO DE MERCADO'!F5 -> 17900 | G26: =+F26*E26 -> 895000
B27: C1.3 | C27: Elementos Menores | D27: KG | E27: 50 | F27: =+'ESTUDIO DE MERCADO'!F6 -> 29900 | G27: =+F27*E27 -> 1495000
B28: C1.4 | C28: Control Hormiga | D28: KG | E28: 50 | F28: =+'ESTUDIO DE MERCADO'!F7 -> 115745 | G28: =+F28*E28 -> 5787250
B29: SUB TOTAL | G29: =+SUM(G25:G28) -> 17578250
B30: D | C30: TALLERES
B31: D.1.1 | C31: Capacitación para la operación y mantenimiento de la estufa ecoeficiente (Manual ) | D31: UND | E31: 50 | F31: =+'UNITARIOS PROYECTO OK'!H260 -> 210000 | G31: =+F31*E31 -> 10500000
B32: D.1.2 | C32: Manejo y mantenimiento de la estufa eficiente | D32: Jornadas | E32: 80 | F32: =+'UNITARIOS PROYECTO OK'!H287 -> 75600 | G32: =+F32*E32 -> 6048000
B33: SUB TOTAL | G33: =SUM(G31:G32) -> 16548000
B34: E | C34: MEJORAMIENTO DE SENDEROS
B35: E.1.1 | C35: Poda y Desmonte | D35: UND | E35: 25 | F35: =+'ANALISIS PRECIOS UNITARIOS '!F22 -> 69212 | G35: =F35*E35 -> 1730300
B36: E.1.2 | C36: Recuperacion de caminos | D36: ML | E36: 106 | F36: =+'ANALISIS PRECIOS UNITARIOS '!F37 -> 219008 | G36: =F36*E36 -> 23214848
B37: E.1.3 | C37: Suministro e instalacion de pasamanos en madera | D37: ML | E37: 98 | F37: =+'ANALISIS PRECIOS UNITARIOS '!F29 -> 319792 | G37: =F37*E37 -> 31339616
B38: E.1.4 | C38: =+'ANALISIS PRECIOS UNITARIOS '!C45 -> Cerramiento provisional con señalizador y tela de cerramiento | D38: ML | E38: 65 | F38: =+'ANALISIS PRECIOS UNITARIOS '!F45 -> 10246 | G38: =F38*E38 -> 665990
B39: E.1.5 | C39: =+'ANALISIS PRECIOS UNITARIOS '!C61 -> Trinchos doble en guadua h libre = 1,00 m | D39: ML | E39: 12 | F39: =+'ANALISIS PRECIOS UNITARIOS '!F61 -> 172075 | G39: =F39*E39 -> 2064900
B40: E.1.6 | C40: =+'ANALISIS PRECIOS UNITARIOS '!C52 -> Barrera viva triple con vetiver, limoncillo, lirio y afines | D40: ML | E40: 12 | F40: =+'ANALISIS PRECIOS UNITARIOS '!F52 -> 140486 | G40: =F40*E40 -> 1685832
B41: E.1.7 | C41: =+'ANALISIS PRECIOS UNITARIOS '!C98 -> Lleno compactado con material transportado manual | D41: =+'ANALISIS PRECIOS UNITARIOS '!D98 -> M3 | E41: =+'MEMORIAS SENDEROS'!N232+'MEMORIAS SENDEROS'!N233 -> 39.2 | F41: =+'ANALISIS PRECIOS UNITARIOS '!F98 -> 30373 | G41: =F41*E41 -> 1190621.6
B42: SUB TOTAL | G42: =SUM(G35:G41) -> 61892108
B43: F | C43: TRANSPORTE DE MATERIALES AL SITIO
B44: F.1.1 | C44: =+'ANALISIS PRECIOS UNITARIOS '!C80 -> Transporte materiales a la vereda el aguacate en JEEP, incluye cargue y descargue | D44: =+'ANALISIS PRECIOS UNITARIOS '!D85 -> Viaje/Ton | E44: =+(('MEMORIAS SENDEROS'!P268)+('MEMORIAS DE CALCULO ESTUFAS '!P240))/1000 -> 80.140833 | F44: =+'ANALISIS PRECIOS UNITARIOS '!F85 -> 155689 | G44: =F44*E44 -> 12477046
...

Sheet UNITARIOS PROYECTO OK
A2: MUNICIPIO: LA VIRGINIA RDA. | D2: ANÁLISIS DE PRECIOS UNITARIOS
D4: OCTUBRE 2024.
A6: PROYECTO: | B6: INSTALACIÓN DE ESTUFAS ECOEFICIENTES PARA VIVIENDA RURAL
A7: ACTIVIDAD: | B7: Localización y Replanteo | G7: ITEM: | H7: 1.1
G8: UNIDAD: | H8: M2
A9: I. EQUIPO
A10: Descripción | D10: Unidad | E10: Tarifa/Hora | F10: Rendimiento | G10: Valor-Unit.
A11: HERRAMIENTA MENOR | D11: % | E11: =H27 -> 11332.6 | F11: 0.1 | G11: =+E11*F11 -> 1133.26 | I11: ajustado rendimiento
G16: Sub-Total | H16: =SUM(G11:G15) -> 1133.26
A17: III. TRANSPORTES
C18: Vol. Peso o Cant. | D18: Distancia | E18: M3-Km | F18: Tarifa | G18: Valor-Unit.
G22: Sub-Total | H22: =SUM(G19:G21) -> 0
A23: IV. MANO DE OBRA
A24: Descripción | D24: Unidad | E24: Tarifa/Hora | F24: Rendimiento | G24: Valor-Unit.
A25: Cuadrilla AA 1Of+1Ay (Albañilería) | D25: HC | E25: =+'[3]ANÁLISIS MANO DE OBRA'!$F$49 -> 226652 | F25: 20 | G25: =E25/F25 -> 11332.6
G27: Sub-Total | H27: =SUM(G25:G26) -> 11332.6 | K27: =H27 -> 11332.6 | L27: 0.9 | M27: =K27*L27 -> 10199.34
E29: Total Costo Directo | H29: =ROUND(H16+H22+H27,0) -> 12466
A31: PROYECTO: | B31: INSTALACIÓN DE ESTUFAS ECOEFICIENTES PARA VIVIENDA RURAL
A32: ACTIVIDAD: | B32: =+'PRESUPUESTO ESTUFA'!C13 -> Geolocalizacion del sitio, localizacion y replanteo | G32: ITEM: | H32: A1.1
G33: UNIDAD: | H33: M2
A34: I. EQUIPO
A35: Descripción | D35: Unidad | E35: Tarifa/Hora | F35: Rendimiento | G35: Valor-Unit.
A36: HERRAMIENTA MENOR | D36: % | E36: 36200 | F36: 0.1 | G36: =+E36*F36 -> 3620 | I36: ajustado rendimiento
G41: Sub-Total | H41: =SUM(G36:G40) -> 3620
A42: II. MATERIALES EN OBRA
A43: Descripción | D43: Unidad | E43: Precio-Unit. | F43: Cantidad | G43: Valor-Unit.
G48: Sub-Total | H48: =SUM(G44:G46) -> 0
A49: III. TRANSPORTES | S49: =+S41*8 -> 0
C50: Vol. Peso o Cant. | D50: Distancia | E50: M3-Km | F50: Tarifa | G50: Valor-Unit.
G54: Sub-Total | H54: =SUM(G51:G53) -> 0
A55: IV. MANO DE OBRA
A56: Descripción | D56: Unidad | E56: Tarifa/Hora | F56: Rendimiento | G56: Valor-Unit.
A57: Tecnologo en obras Civiles | D57: JORNAL | E57: =+'[3]ANÁLISIS MANO DE OBRA'!$F$46 -> 261382 | F57: 15 | G57: =E57/F57 -> 17425.467
G59: Sub-Total | H59: =SUM(G57:G58) -> 17425.467 | K59: =H59 -> 17425.467 | L59: 0.9 | M59: =K59*L59 -> 15682.92
E61: Total Costo Directo | H61: =ROUND(H41+H54+H59,0) -> 21045
A62: PROYECTO: | B62: INSTALACIÓN DE ESTUFAS ECOEFICIENTES PARA VIVIENDA RURAL
A63: ACTIVIDAD: | B63: ='[4]PRESUPUESTO ESTUFA FIJA'!B10 -> Mampostería ladrillo tipo bocadillo, macizo liviano de 6x12x24 cm | G63: ITEM: | H63: 2.1
G64: UNIDAD: | H64: m2
A65: I. EQUIPO
A66: Descripción | D66: Unidad | E66: Tarifa/Hora | F66: Rendimiento | G66: Valor-Unit.
...

Sheet ANALISIS PRECIOS UNITARIOS 
A2: ANALISIS DE PRECIOS UNITARIOS ECO ESTUFAS
A5: 1-04-13 | C5: Placa de contrapiso en concreto de 20,7 Mpa e = 0,07 m | D5: M2 | F5: =ROUND(SUM(H5:H13),0) -> 95875
A6: MAT | B6: MAT,368 | C6: Tabla para formaleta de 1" x 10" x 2,9 m | D6: M | E6: 1 | F6: 9035.04 | G6: =1/5 -> 0.2 | H6: =ROUND((E6*F6*G6),0) -> 1807
B7: MAT,487 | C7: Varillón de sajo 3 x 3 | D7: M | E7: 2 | F7: 2906.4 | G7: =1/5 -> 0.2 | H7: =ROUND((E7*F7*G7),0) -> 1163
B8: MAT,333 | C8: Puntilla (Promedio) | D8: Lb | E8: 0.03 | F8: 3647.84 | G8: 0 | H8: =ROUND((E8*F8),0) -> 109
B9: MAT,039 | C9: Antisol blanco | D9: Kg | E9: 0.2 | F9: 16234.4 | G9: 1.03 | H9: =ROUND((E9*F9*G9),0) -> 3344
B10: MAT,012 | C10: ACPM | D10: Gl | E10: 0.05 | F10: 10328.64 | G10: 1.05 | H10: =ROUND((E10*F10*G10),0) -> 542
A11: ITEMS | B11: G-01-04 | C11: Concreto de 20,7 Mpa (Producción) | D11: M3 | E11: 0.08 | F11: 471579 | G11: 1.05 | H11: =ROUND((E11*F11*G11),0) -> 39613
A12: M . O | B12: MOB005 | C12: Cuadrilla A 1 Of + 4 Ay (jornal + prestaciones) | D12: Día | E12: 1 | F12: 469493 | G12: =1/10 -> 0.1 | H12: =ROUND((E12*F12*G12),0) -> 46949
A13: EQUIPO | B13: EQU002 | C13: Herramienta menor (% mano obra) | D13: %MO | E13: 0.1 | F13: 23475 | G13: 0 | H13: =ROUND((E13*F13),0) -> 2348
A16: E.P | C16: =+'PRESUPUESTO ESTUFA'!C16 -> Preparacion del terreno manualmente incluye demoliciones de estructuras existentes | D16: M | F16: =ROUND(SUM(H17:H20),0) -> 136039
C17: Retiro de escombros | D17: M3 | E17: 0.8 | F17: 65000 | G17: 4 | H17: =+((E17*F17))/G17 -> 13000
A18: M . O | B18: MOB017 | C18: Cuadrilla G 1 Of + 2 Ay (jornal + prestaciones) | D18: Día | E18: 1 | F18: =VLOOKUP(B18,'[3]BASE DE DATOS'!$A$5:$E$1552,5,FALSE) -> 307599 | G18: =1/3 -> 0.33333333 | H18: =ROUND((E18*F18*G18),0) -> 102533
C19: Acarreo horizontal | D19: Mts | E19: 0.1 | F19: =+H18 -> 102533 | H19: =+E19*F19 -> 10253.3
A20: EQUIPO | B20: EQU002 | C20: Herramienta menor (% mano obra) | D20: %MO | E20: 0.1 | F20: =H18 -> 102533 | G20: 0 | H20: =ROUND((E20*F20),0) -> 10253
A22: E.P | C22: =+'PRESUPUESTO ESTUFA'!C35 -> Poda y Desmonte | D22: =+'PRESUPUESTO ESTUFA'!D35 -> UND | F22: =ROUND(SUM(H23:H26),0) -> 69212
C24: Andamio, incluye arnes y línea de vida- inc transportes al sitio | D24: Día | E24: 1 | F24: 2200 | G24: 0.7 | H24: =G24*F24*E24 -> 1540
A25: M . O | B25: MOB017 | C25: Cuadrilla G 1 Of + 2 Ay (jornal + prestaciones) | D25: Día | E25: 1 | F25: =VLOOKUP(B25,'[3]BASE DE DATOS'!$A$5:$E$1552,5,FALSE) -> 307599 | G25: =1/5 -> 0.2 | H25: =ROUND((E25*F25*G25),0) -> 61520
A26: EQUIPO | B26: EQU002 | C26: Herramienta menor (% mano obra) | D26: %MO | E26: 0.1 | F26: =H25 -> 61520 | G26: 0 | H26: =ROUND((E26*F26),0) -> 6152
A29: 1-01-23 - E.P | C29: Cerramiento - Pasamanos en poste de madera tres horizontales de proteccion inc excavacion | D29: M | F29: =ROUND(SUM(H30:H34),0) -> 319792
A30: MAT | B30: MAT,028 | C30: Poste de madera pino patula inmunizado | D30: Un | E30: 3 | F30: 44900 | G30: 1.05 | H30: =ROUND((E30*F30*G30),0) -> 141435
B31: MAT,323 | C31: Horizontal media madera pino patula inmunizado | D31: Un | E31: 3 | F31: 29900 | G31: 1.05 | H31: =ROUND((E31*F31*G31),0) -> 94185
B32: MAT,164 | C32: Tornillos de anclaje inoxidable + tuercas y arandelas | D32: Kit | E32: 1 | F32: 16500 | G32: 0 | H32: =ROUND((E32*F32),0) -> 16500
A33: M . O | B33: MOB017 | C33: Cuadrilla G 1 Of + 2 Ay (jornal + prestaciones) | D33: Día | E33: 1 | F33: =VLOOKUP(B33,'[3]BASE DE DATOS'!$A$5:$E$1552,5,FALSE) -> 307599 | G33: =1/5 -> 0.2 | H33: =ROUND((E33*F33*G33),0) -> 61520
A34: EQUIPO | B34: EQU002 | C34: Herramienta menor (% mano obra) | D34: %MO | E34: 0.1 | F34: =H33 -> 61520 | G34: 0 | H34: =ROUND((E34*F34),0) -> 6152
A37: 1-01-23 - E.P | C37: =+'PRESUPUESTO ESTUFA'!C36 -> Recuperacion de caminos | D37: M | F37: =ROUND(SUM(H38:H42),0) -> 219008
A38: MAT | B38: MAT,028 | C38: Poste de madera pino patula inmunizado | D38: ML | E38: =4*0.6 -> 2.4 | F38: 47000 | G38: 1.05 | H38: =ROUND((E38*F38*G38),0) -> 118440
B39: MAT,323 | C39: Horizontal media madera pino patula inmunizado | D39: ML | E39: 1.6 | F39: 29900 | G39: 1.05 | H39: =ROUND((E39*F39*G39),0) -> 50232
B40: MAT,164 | C40: Tornillos de anclaje inoxidable + tuercas y arandelas | D40: Kit | E40: 1 | F40: 16500 | G40: 0 | H40: =ROUND((E40*F40),0) -> 16500
A41: M . O | B41: MOB017 | C41: Cuadrilla G 1 Of + 2 Ay (jornal + prestaciones) | D41: Día | E41: 1 | F41: =VLOOKUP(B41,'[3]BASE DE DATOS'!$A$5:$E$1552,5,FALSE) -> 307599 | G41: =1/10 -> 0.1 | H41: =ROUND((E41*F41*G41),0) -> 30760
A42: EQUIPO | B42: EQU002 | C42: Herramienta menor (% mano obra) | D42: %MO | E42: 0.1 | F42: =H41 -> 30760 | G42: 0 | H42: =ROUND((E42*F42),0) -> 3076
A45: 1-01-19 | C45: Cerramiento provisional con señalizador y tela de cerramiento | D45: M | F45: =ROUND(SUM(H45:H49),0) -> 10246
A46: MAT | B46: MAT,351 | C46: Señalizador tubular de 1 m (2 líneas de cinta) | D46: Un | E46: 0.62 | F46: =VLOOKUP(B46,'[3]BASE DE DATOS'!$A$5:$E$1552,5,FALSE) -> 49448 | G46: =1/6 -> 0.16666667 | H46: =ROUND((E46*F46*G46),0) -> 5110
B47: MAT,394 | C47: Tela de cerramiento a = 2,10 m (rollo por 100 m) | D47: M2 | E47: 2 | F47: =VLOOKUP(B47,'[3]BASE DE DATOS'!$A$5:$E$1552,5,FALSE) -> 1930.1296 | G47: 1.1 | H47: =ROUND((E47*F47*G47),0) -> 4246
A48: M . O | B48: MOB003 | C48: Ayudante (jornal + prestaciones) | D48: Día | E48: 1 | F48: =VLOOKUP(B48,'[3]BASE DE DATOS'!$A$5:$E$1552,5,FALSE) -> 80947 | G48: =1/100 -> 0.01 | H48: =ROUND((E48*F48*G48),0) -> 809
A49: EQUIPO | B49: EQU002 | C49: Herramienta menor (% mano obra) | D49: %MO | E49: 0.1 | F49: =H48 -> 809 | G49: 0 | H49: =ROUND((E49*F49),0) -> 81
A52: 1-15-13 | C52: Barrera viva triple con vetiver, limoncillo, lirio y afines | D52: M | F52: =ROUND(SUM(H53:H59),0) -> 140486
A53: MAT | B53: MAT,313 | C53: Plántula (vetiver, limoncillo, lirio y afines), altura promedio 0.25 m | D53: Un | E53: 15 | F53: =VLOOKUP(B53,'[3]BASE DE DATOS'!$A$5:$E$1552,5,FALSE) -> 8960 | G53: 0 | H53: =ROUND((E53*F53),0) -> 134400
B54: MAT,139 | C54: Fertilizante | D54: Kg | E54: 0.012 | F54: =VLOOKUP(B54,'[3]BASE DE DATOS'!$A$5:$E$1552,5,FALSE) -> 2016 | G54: 1.03 | H54: =ROUND((E54*F54*G54),0) -> 25
B55: MAT,568 | C55: Calfos (Fertilizante uso agrícola) | D55: Kg | E55: 0.012 | F55: =VLOOKUP(B55,'[3]BASE DE DATOS'!$A$5:$E$1552,5,FALSE) -> 896 | G55: 1.03 | H55: =ROUND((E55*F55*G55),0) -> 11
...

Sheet ANALISIS TRANSPORTE A HOMBRO
C1: NOMBRE Y APELIDOS | D1: CEDULA | E1: TELEFONO | F1: VEREDA | G1: TRANSPORTE A HOMBRO
G2: (Metros)
A3: 1 | C3: ALBA NIDIA ESPINOSA | D3: 42026693 | E3: 3225098340 | F3: Caserio la Palma
A4: 2 | C4: ALBEIRO AGUDELO PAREJA | D4: 8461557 | E4: 3103879235 | F4: Caserio la Palma
A5: 3 | B5: 1 | C5: ALCIDES ACEVEDO GRISALES | D5: 10198688 | E5: 3108281927 | F5: El agucate finca Villa Alicia | G5: 180
A6: 4 | B6: 2 | C6: ANA DE DIOS SEPULVEDA | D6: 20983381 | E6: 3013556640 | F6: La palma finca Veranda | G6: 520
A7: 5 | B7: 3 | C7: BERNARDA ROMAN CARDONA | D7: 29392927 | E7: 3115697848-3146037976 | F7: Sector el norte la Palma | G7: 65
A8: 6 | C8: CARLOS ARTURO ESPINOSA | E8: 3117704065 | F8: La palma el jardin de la Vaga
A9: 7 | C9: CONSTANZA LORENA GARCES | E9: 3113217946 | F9: El Aguacate finca el Milagro
A10: 8 | C10: DANIELA JIMENEZ AGUDELO | D10: 1087559700 | E10: 3104370200 | F10: Caserio la Palma
A11: 9 | C11: GERALDINE SANTA OSORIO | D11: 1112776848 | E11: 3145976586-3145976586 | F11: La palma sector la Rivera
A12: 10 | C12: GLORIA AMPARO BENJUMEA | D12: 24511637 | E12: 3104010234 | F12: Caserio la Palma
A13: 11 | C13: GUSTAVO ANTONIO TORO | D13: 10193564 | E13: 3215206870 | F13: Caserio la Palma
A14: 12 | C14: IRNEY OSORIO BOLAÑOS | D14: 36272236 | E14: 3186595725-3217746880 | F14: La palma sector la Rivera
A15: 13 | B15: 4 | C15: JAIME ANDRES HERNANDEZ TORO | D15: 10051313 | E15: 3202343203 | F15: El Aguacate finca el Progreso | G15: 250
A16: 14 | C16: JAMES DE JESUS CASTAÑO | D16: 18607677 | E16: 3116226142 | F16: Caserio la Palma
A17: 15 | C17: JANETH DUQUE AGUDELO | D17: 42028848 | E17: 3146155213 | F17: Caserio la Palma
A18: 16 | B18: 5 | C18: JESUS EMILIO CORREA MONTOYA | D18: 9990033 | E18: 3225906595 | F18: La Palma finca el limon | G18: 20
A19: 17 | C19: JORGE LUIS CASTAÑO MARIN | D19: 10064322 | E19: 3137125487-3126258918 | F19: Sector el norte la Carmelita
A20: 18 | B20: 7 | C20: JOSE ARTUBE RIVERA ECHEVERRY | D20: 10190557 | F20: Caserio la Palma | G20: 218
A21: 19 | C21: JOSE GUILLERMO LOPEZ | D21: 4557244 | E21: 3135399948 | F21: El aguacate finca san Mateo
A22: 20 | B22: 8 | C22: JOSE JESUS PINEDA QUINCHIA | D22: 2672566 | F22: La palma finca la Mejora | G22: 600
A23: 21 | C23: JOSE NICOLAS MARIN MOLINA | E23: 3206071828 | F23: El aguacate finca Buenos Aires
A24: 22 | C24: JULIAN ANDRES BEDOYA BENJUMEA | D24: 1087547899 | E24: 3116456982 | F24: La palma sector la Rivera
A25: 23 | B25: 9 | C25: JULIO ANIBAL CARDONA ZULUAGA | D25: 9745079 | E25: 3118854613 | F25: La palma | G25: 263
A26: 24 | C26: JULIO CESAR CASTAÑEDA | D26: 10051134 | E26: 3235104544 | F26: La Palma Sector la Rivera
A27: 25 | B27: 10 | C27: LEONARDO DIAZ CARDONA | E27: 3206735836 | F27: La palma secotr el norte | G27: 155
A28: 26 | C28: LIZETH SANTA OSORIO | D28: 1087555072 | E28: 3145976586 | F28: La palma sector la Rivera
A29: 27 | B29: 11 | C29: LUIS ERNESTO USMA ZAPATA | D29: 10194509 | E29: 3148721673 | F29: La palma sector la Rivera | G29: 140
A30: 28 | C30: LUIS FERNANDO QUINTERO | E30: 3124090647 | F30: La palma sector la Rivera
A31: 29 | B31: 12 | C31: LUIS MAJIN BEDOYA CORREA | D31: 10194544 | E31: 3228209821 | F31: La palma sector la Rivera | G31: 320
A32: 30 | B32: 13 | C32: LUZ MARINA CARDONA ZULUAGA | D32: 42025578 | E32: 3203208998 | F32: La palma sector la Rivera | G32: 120
A33: 31 | B33: 14 | C33: LUZ MARINA ESCOBAR | F33: La palma sector el Norte | G33: 140
A34: 32 | B34: 15 | C34: LUZ MARY ARENAS PRECIADO | D34: 24999197 | E34: 3104322573 | F34: Caserio la Palma | G34: 20
A35: 33 | C35: LUZ MERY CASTAÑO AGUDELO | D35: 25201872 | E35: 3137091410 | F35: Caserio la Palma
A36: 34 | C36: MARCO AURELIO DIAZ | D36: 1259103 | E36: 3117413484 | F36: Caserio la Palma
A37: 35 | C37: MARIA FABIOLA VANEGAS | D37: 42021847 | E37: 3113146647 | F37: Caserio la Palma
A38: 36 | C38: MARIA ILAIM GONZALES SUAREZ | D38: 42020617 | F38: El aguacate caserio
A39: 37 | C39: MARIA ISABEL DUQUE ALZATE | D39: 42024131 | E39: 3123245474 | F39: Caserio la Palma
A40: 38 | B40: 16 | C40: MARIA ISABEL QUINTERO DIAZ | D40: 52767379 | E40: 3137778644 | F40: Sector el norte la Palma | G40: 120
...

Sheet ANALISIS TRANS VEHIC
B1: NOMBRE Y APELIDOS | C1: VEREDA | D1: VEHICULO
D2: (Km)/Ton | E2: VALOR
A3: 1 | B3: ALBA NIDIA ESPINOSA | C3: Caserio la Palma | D3: 9.3 | E3: 60000
A4: 2 | B4: ALBEIRO AGUDELO PAREJA | C4: Caserio la Palma | D4: 9.5 | E4: 60000
A5: 3 | B5: ALCIDES ACEVEDO GRISALES | C5: El agucate finca Villa Alicia | D5: 4.6 | E5: 60000
A6: 4 | B6: ANA DE DIOS SEPULVEDA | C6: La palma finca Veranda | D6: 9.7 | E6: 60000
A7: 5 | B7: BERNARDA ROMAN CARDONA | C7: Sector el norte la Palma | D7: 10 | E7: 80000
A8: 6 | B8: CARLOS ARTURO ESPINOSA | C8: La palma el jardin de la Vaga | D8: 10.5 | E8: 80000
A9: 7 | B9: CONSTANZA LORENA GARCES | C9: El Aguacate finca el Milagro | D9: 4.6 | E9: 60000
A10: 8 | B10: DANIELA JIMENEZ AGUDELO | C10: Caserio la Palma | D10: 8.9 | E10: 60000
A11: 9 | B11: GERALDINE SANTA OSORIO | C11: La palma sector la Rivera | D11: 9.9 | E11: 60000
A12: 10 | B12: GLORIA AMPARO BENJUMEA | C12: Caserio la Palma | D12: 8.7 | E12: 60000
A13: 11 | B13: GUSTAVO ANTONIO TORO | C13: Caserio la Palma | D13: 9.3 | E13: 60000
A14: 12 | B14: IRNEY OSORIO BOLAÑOS | C14: La palma sector la Rivera | D14: 9.7 | E14: 60000
... A43: 41 | B43: MARINA ALZATE DE MENDOZA | C43: Caserio la Palma sector cancha | D43: 8.1 | E43: 60000
A44: 42 | B44: MARIA MARLENY DUQUE DE AGUDELO | C44: Caserio la Palma | D44: 9,,2 | E44: 60000
A45: 43 | B45: MARLENI MOTATO GAÑAN | C45: Caserio la Palma | D45: 9.2 | E45: 60000
A46: 44 | B46: MARTHA ELENA VANEGAS | C46: Caserio la Palma | D46: 9 | E46: 60000
A47: 45 | B47: MAURICIO AUSIQUE RODRIGUEZ | C47: Sector el norte la Carmelita | D47: 9.8 | E47: 80000
A48: 46 | B48: NOEL ENRIQUE BARBOSA | C48: La Palma finca Churimal | D48: 8.5 | E48: 80000
A49: 47 | B49: NORA ZULETA | C49: El aguacate finca la Roncadora | D49: 3.2 | E49: 40000
A50: 48 | B50: OLGA LUCIA ROJAS GONZALES | C50: El aguacate | D50: 3.8 | E50: 40000
A51: 49 | B51: OLGA YENSIRLE VANEGAS | C51: Caserio la Palma | D51: 9.1 | E51: 60000
A52: 50 | B52: RUBIALBA GALLEGO | C52: Caserio la Palma | D52: 8.7 | E52: 60000
A53: 51 | B53: SANDRA PATRICIA VELEZ ANGEL | C53: El aguacate caserio | D53: 3.4 | E53: 40000
A54: 52 | B54: TERESA DE JESUS RENDON | C54: El Aguacate | D54: 7.1 | E54: 40000
A55: 53 | B55: VIRGELINA GAÑAN MOTATO | C55: Caserio la Palma | D55: 9 | E55: 60000
A56: 54 | B56: YAMILE OSORIO ZAPATA | C56: Caserio la Palma | D56: 9.7 | E56: 60000
A57: 55 | B57: YARISMA MENDOZA TORRES | C57: Caserio la Palma | D57: 8.6 | E57: 60000
B58: SUBTOTAL PROMEDIO DISTANCIA KM Y PRECIO | D58: =SUM(D3:D57)/55 -> 8.1927273 | E58: =SUM(E3:E57)/55 -> 62545.455

Sheet MEMORIAS SENDEROS
B2: MEMORIAS DE CALCULO
B4: FECHA | C4: DD | D4: 10 | E4: MM | F4: 10 | G4: AA | H4: 2024 | J4: ACTA N° | K4: ='[6]1_PUENTE LA ESPERANZA'!L5 -> 1 | M4: ELABORO
B6: OBJETO DEL CONTRATO | E6: IMPLEMENTACIÓN DE ACCIONES DE CONSERVACIÓN, PRODUCCCIÓN SOSTENIBLE Y CONSUMO RESPONSABLE EN AREAS DE INTERES AMBIENTAL DEL D.M.I GUASIMO EN EL MUNICIPIO DE LA VIRGINIA
B7: SUPERVISOR | I7: NIT O C.C. | M7: CONTRATO N°
B8: CONTRATANTE | E8: MUNICIPIO DE LA VIRGINIA | I8: NIT O C.C.
B9: CAPÍTULO | E9: ITEM | F9: DESCRIPCION
B10: =+'PRESUPUESTO ESTUFA'!B34 -> E | E10: =+'PRESUPUESTO ESTUFA'!B35 -> E.1.1 | F10: =+'PRESUPUESTO ESTUFA'!C35 -> Poda y Desmonte | K10: UND | M10: =+'PRESUPUESTO ESTUFA'!D35 -> UND | O10: UBICACIÓN | P10: ZONA RURAL
K11: Descripción | L11: Dimensiones | O11: No Elem. | P11: Medida Total
L12: Ancho | M12: Alto | N12: Long
K13: =+F10 -> Poda y Desmonte | N13: 1000 | O13: 1 | P13: =N13*O13 -> 1000
B37: OBSERVACIONES: | D37: Detalle: se requiere la poda, desmonte de plantas y ramificaciones presentes en el camino obstruyendo el paso y otras que sobresalen en en el mismo, lo cual genera riesgo al paso de turistas y peronal que realiza acciones en la zona. | K37: ACUMULADO EN ITEM | L37: =P37 -> 1000 | M37: TOTAL | P37: =SUM(P13:P36) -> 1000
B48: PREACTA DE OBRA
B50: FECHA | C50: DD | D50: ='[6]1_PUENTE LA ESPERANZA'!E57 -> 0 | E50: MM | F50: ='[6]1_PUENTE LA ESPERANZA'!G57 -> Limpieza y protección con aceite de linaza mas trementina proporción 2:1 elementos estructurales (guaduas y Mangles), inc cambio de piezas averidadas. Guadua sumistrada por el Jardin botanico | G50: AA | H50: ='[6]1_PUENTE LA ESPERANZA'!I57 -> 0 | J50: ACTA N° | K50: ='[6]1_PUENTE LA ESPERANZA'!L57 -> 0 | M50: ELABORO | N50: =N4 -> 0
B52: OBJETO DEL CONTRATO | E52: =E6 -> IMPLEMENTACIÓN DE ACCIONES DE CONSERVACIÓN, PRODUCCCIÓN SOSTENIBLE Y CONSUMO RESPONSABLE EN AREAS DE INTERES AMBIENTAL DEL D.M.I GUASIMO EN EL MUNICIPIO DE LA VIRGINIA
B53: SUPERVISOR | E53: =E7 -> 0 | I53: NIT O C.C. | K53: =K7 -> 0 | M53: CONTRATO N° | O53: =O7 -> 0
B54: CONTRATANTE | E54: =E8 -> MUNICIPIO DE LA VIRGINIA | I54: NIT O C.C. | K54: =K8 -> 0
B55: CAPÍTULO | E55: ITEM | F55: DESCRIPCION
B56: =+'PRESUPUESTO ESTUFA'!B34 -> E | E56: =+'PRESUPUESTO ESTUFA'!B36 -> E.1.2 | F56: =+'PRESUPUESTO ESTUFA'!C36 -> Recuperacion de caminos | K56: UND | M56: =+'PRESUPUESTO ESTUFA'!D36 -> ML | O56: UBICACIÓN | P56: ZONA RURAL
K57: Descripción | L57: Dimensiones | O57: No Elem. | P57: Medida Total
L58: Ancho | M58: Alto | N58: Long
K59: Recuperacion de caminos tramo No 1. | N59: =40*0.5 -> 20 | O59: 1 | P59: =+N59*O59 -> 20 | U59: 95.16
K60: Recuperacion de caminos tramo No 2. | N60: =7*0.5 -> 3.5 | O60: 1 | P60: =+N60*O60 -> 3.5 | U60: =L82 -> 163.5
K61: Recuperacion de caminos tramo No 3. | N61: =50*0.5 -> 25 | O61: 1 | P61: =+N61*O61 -> 25 | U61: =U59-U60 -> -68.34
K62: Recuperacion de caminos tramo No 4. | N62: 61 | O62: 1 | P62: =+N62*O62 -> 61
K63: Recuperacion de caminos tramo No 5. | N63: 23 | O63: 1 | P63: =+N63*O63 -> 23
K64: Recuperacion de caminos tramo No 6. | N64: 6 | O64: 1 | P64: =+N64*O64 -> 6
K65: Recuperacion de caminos tramo No 7. | N65: 25 | O65: 1 | P65: =+N65*O65 -> 25
B82: OBSERVACION | D82: Detalle: a lo largo del trayecto de los senderos existen varios tramos que generan dificultad al paso de turistas y personal, debido a que la madera que conforman los pasos de huella y contrahuella estan deteriorado a no existen lo cual ocasiona la perdida del material (tierra) que a su vez se forma una gran pendiente que se evidencia el alto riesgo al paso por esos caminos. | K82: ACUMULADO EN ITEM | L82: =P82 -> 163.5 | M82: TOTAL | P82: =SUM(P59:P81) -> 163.5
B93: MEMORIAS DE CALCULO
B95: FECHA | C95: DD | D95: 10 | E95: MM | F95: 10 | G95: AA | H95: 2024 | J95: ACTA N° | M95: ELABORO
B97: OBJETO DEL CONTRATO | E97: IMPLEMENTACIÓN DE ACCIONES DE CONSERVACIÓN, PRODUCCCIÓN SOSTENIBLE Y CONSUMO RESPONSABLE EN AREAS DE INTERES AMBIENTAL DEL D.M.I GUASIMO EN EL MUNICIPIO DE LA VIRGINIA
B98: SUPERVISOR | I98: NIT O C.C. | M98: CONTRATO N°
B99: CONTRATANTE | E99: MUNICIPIO DE LA VIRGINIA | I99: NIT O C.C.
B100: CAPÍTULO | E100: ITEM | F100: DESCRIPCION
B101: =+'PRESUPUESTO ESTUFA'!B34 -> E | E101: =+'PRESUPUESTO ESTUFA'!B37 -> E.1.3 | F101: =+'PRESUPUESTO ESTUFA'!C37 -> Suministro e instalacion de pasamanos en madera | K101: UND | M101: =+'PRESUPUESTO ESTUFA'!D37 -> ML | O101: UBICACIÓN | P101: ZONA RURAL
K102: Descripción | L102: Dimensiones | O102: No Elem. | P102: Medida Total
L103: Ancho | M103: Alto | N103: Long
K104: Suministro e instalacion de pasamanos en madera tramo No 1 | P104: =N104*O104 -> 0
K105: Suministro e instalacion de pasamanos en madera tramo No 2 | N105: 42 | O105: 1 | P105: =N105*O105 -> 42
K106: Suministro e instalacion de pasamanos en madera tramo No 3 | N106: 35 | O106: 1 | P106: =N106*O106 -> 35
...

Sheet MEMORIAS DE CALCULO ESTUFAS 
B2: MEMORIAS DE CALCULO
B4: FECHA | C4: DD | D4: 10 | E4: MM | F4: 10 | G4: AA | H4: 2024 | J4: ACTA N° | K4: ='[6]1_PUENTE LA ESPERANZA'!L5 -> 1 | M4: ELABORO
B6: OBJETO DEL CONTRATO | E6: IMPLEMENTACIÓN DE ACCIONES DE CONSERVACIÓN, PRODUCCCIÓN SOSTENIBLE Y CONSUMO RESPONSABLE EN AREAS DE INTERES AMBIENTAL DEL D.M.I GUASIMO EN EL MUNICIPIO DE LA VIRGINIA
B7: SUPERVISOR | I7: NIT O C.C. | M7: CONTRATO N°
B8: CONTRATANTE | E8: MUNICIPIO DE LA VIRGINIA | I8: NIT O C.C.
B9: CAPÍTULO | E9: ITEM | F9: DESCRIPCION
B10: =+'PRESUPUESTO ESTUFA'!B34 -> E | E10: =+'PRESUPUESTO ESTUFA'!B35 -> E.1.1 | F10: =+'PRESUPUESTO ESTUFA'!C35 -> Poda y Desmonte | K10: UND | M10: =+'PRESUPUESTO ESTUFA'!D35 -> UND | O10: UBICACIÓN | P10: ZONA RURAL
K11: Descripción | L11: Dimensiones | O11: No Elem. | P11: Medida Total
L12: Ancho | M12: Alto | N12: Long
K13: =+F10 -> Poda y Desmonte | N13: 1000 | O13: 1 | P13: =N13*O13 -> 1000
B26: OBSERVACIONES: | D26: Detalle: se requiere la poda, desmonte de plantas y ramificaciones presentes en el camino obstruyendo el paso y otras que sobresalen en en el mismo, lo cual genera riesgo al paso de turistas y peronal que realiza acciones en la zona. | K26: ACUMULADO EN ITEM | L26: =P26 -> 1000 | M26: TOTAL | P26: =SUM(P13:P25) -> 1000
B37: PREACTA DE OBRA
B39: FECHA | C39: DD | D39: ='[6]1_PUENTE LA ESPERANZA'!E57 -> 0 | E39: MM | F39: ='[6]1_PUENTE LA ESPERANZA'!G57 -> Limpieza y protección con aceite de linaza mas trementina proporción 2:1 elementos estructurales (guaduas y Mangles), inc cambio de piezas averidadas. Guadua sumistrada por el Jardin botanico | G39: AA | H39: ='[6]1_PUENTE LA ESPERANZA'!I57 -> 0 | J39: ACTA N° | K39: ='[6]1_PUENTE LA ESPERANZA'!L57 -> 0 | M39: ELABORO | N39: =N4 -> 0
B41: OBJETO DEL CONTRATO | E41: =E6 -> IMPLEMENTACIÓN DE ACCIONES DE CONSERVACIÓN, PRODUCCCIÓN SOSTENIBLE Y CONSUMO RESPONSABLE EN AREAS DE INTERES AMBIENTAL DEL D.M.I GUASIMO EN EL MUNICIPIO DE LA VIRGINIA
B42: SUPERVISOR | E42: =E7 -> 0 | I42: NIT O C.C. | K42: =K7 -> 0 | M42: CONTRATO N° | O42: =O7 -> 0
B43: CONTRATANTE | E43: =E8 -> MUNICIPIO DE LA VIRGINIA | I43: NIT O C.C. | K43: =K8 -> 0
B44: CAPÍTULO | E44: ITEM | F44: DESCRIPCION
B45: =+'PRESUPUESTO ESTUFA'!B34 -> E | E45: =+'PRESUPUESTO ESTUFA'!B36 -> E.1.2 | F45: =+'PRESUPUESTO ESTUFA'!C36 -> Recuperacion de caminos | K45: UND | M45: =+'PRESUPUESTO ESTUFA'!D36 -> ML | O45: UBICACIÓN | P45: ZONA RURAL
K46: Descripción | L46: Dimensiones | O46: No Elem. | P46: Medida Total
L47: Ancho | M47: Alto | N47: Long
K48: Recuperacion de caminos tramo No 1. | N48: =40*0.5 -> 20 | O48: 1 | P48: =+N48*O48 -> 20 | U48: 95.16
K49: Recuperacion de caminos tramo No 2. | N49: =7*0.5 -> 3.5 | O49: 1 | P49: =+N49*O49 -> 3.5 | U49: =L71 -> 163.5
K50: Recuperacion de caminos tramo No 3. | N50: =50*0.5 -> 25 | O50: 1 | P50: =+N50*O50 -> 25 | U50: =U48-U49 -> -68.34
K51: Recuperacion de caminos tramo No 4. | N51: 61 | O51: 1 | P51: =+N51*O51 -> 61
K52: Recuperacion de caminos tramo No 5. | N52: 23 | O52: 1 | P52: =+N52*O52 -> 23
K53: Recuperacion de caminos tramo No 6. | N53: 6 | O53: 1 | P53: =+N53*O53 -> 6
K54: Recuperacion de caminos tramo No 7. | N54: 25 | O54: 1 | P54: =+N54*O54 -> 25
B71: OBSERVACION | D71: Detalle: a lo largo del trayecto de los senderos existen varios tramos que generan dificultad al paso de turistas y personal, debido a que la madera que conforman los pasos de huella y contrahuella estan deteriorado a no existen lo cual ocasiona la perdida del material (tierra) que a su vez se forma una gran pendiente que se evidencia el alto riesgo al paso por esos caminos. | K71: ACUMULADO EN ITEM | L71: =P71 -> 163.5 | M71: TOTAL | P71: =SUM(P48:P70) -> 163.5
B82: MEMORIAS DE CALCULO
B84: FECHA | C84: DD | D84: 10 | E84: MM | F84: 10 | G84: AA | H84: 2024 | J84: ACTA N° | M84: ELABORO
B86: OBJETO DEL CONTRATO | E86: IMPLEMENTACIÓN DE ACCIONES DE CONSERVACIÓN, PRODUCCCIÓN SOSTENIBLE Y CONSUMO RESPONSABLE EN AREAS DE INTERES AMBIENTAL DEL D.M.I GUASIMO EN EL MUNICIPIO DE LA VIRGINIA
B87: SUPERVISOR | I87: NIT O C.C. | M87: CONTRATO N°
B88: CONTRATANTE | E88: MUNICIPIO DE LA VIRGINIA | I88: NIT O C.C.
B89: CAPÍTULO | E89: ITEM | F89: DESCRIPCION
B90: =+'PRESUPUESTO ESTUFA'!B34 -> E | E90: =+'PRESUPUESTO ESTUFA'!B37 -> E.1.3 | F90: =+'PRESUPUESTO ESTUFA'!C37 -> Suministro e instalacion de pasamanos en madera | K90: UND | M90: =+'PRESUPUESTO ESTUFA'!D37 -> ML | O90: UBICACIÓN | P90: ZONA RURAL
K91: Descripción | L91: Dimensiones | O91: No Elem. | P91: Medida Total
L92: Ancho | M92: Alto | N92: Long
K93: Suministro e instalacion de pasamanos en madera tramo No 1 | P93: =N93*O93 -> 0
K94: Suministro e instalacion de pasamanos en madera tramo No 2 | N94: 42 | O94: 1 | P94: =N94*O94 -> 42
K95: Suministro e instalacion de pasamanos en madera tramo No 3 | N95: 35 | O95: 1 | P95: =N95*O95 -> 35
...

Sheet ESTUDIO DE MERCADO
B1: HUERTO LEÑERO
A3: COTIZACION N°1- | B3: VALOR UNITARIO | C3: COTIZACION N°2 | D3: VALOR UNITARIO | E3: COTIZACION N°3 | F3: VALOR UNITARIO
A4: Suministro de Material Vegetal incluye transporte, cargue y descargue | B4: 4850 | C4: Suministro de Material Vegetal | D4: 5650 | E4: Suministro de Material Vegetal | F4: =+(B4+D4)/2 -> 5250
A5: Elementos Menores | B5: 24900 | C5: Elementos Menores | D5: 10900 | E5: Elementos Menores | F5: =+(B5+D5)/2 -> 17900
A6: Elementos Mayores | B6: 29900 | C6: Elementos Mayores | D6: 29900 | E6: Elementos Mayores | F6: =+(B6+D6)/2 -> 29900
A7: =+[7]APUS!A51 -> Inseticida control hormiga | B7: 98990 | C7: Elementos Mayores | D7: 132500 | E7: Elementos Mayores | F7: =+(B7+D7)/2 -> 115745
B8: ESTUFAS ECO EFICIENTE MOVIL
A10: COTIZACION N°1 | B10: VALOR UNITARIO | C10: COTIZACION N°2 | D10: VALOR UNITARIO | E10: COTIZACION N°3 | F10: VALOR UNITARIO
A11: Estufa eco eficiente movil | B11: 1900000 | C11: Estufa eco eficiente movil | D11: 2000000 | E11: Estufa eco eficiente movil | F11: =+(B11+D11)/2 -> 1950000
B13: COTIZACION FERTILIZANTE ORGANICO

Sheet ESPECIFICACIONES TECNICAS

Sheet FACTOR PRESTACIONAL 
A2: ANÁLISIS MANO DE OBRA
A3: Salario Mínimo Mensual Legal Vigente año 2023 | B3: 1300000
A4: Subsidio de Transporte (salario <= 2 SMMLV) | B4: 162000
A6: FACTOR PRESTACIONAL
A7: DESCRIPCIÓN | B7: SALARIO <= 2 SMMLV | C7: SALARIO > 2 SMMLV | D7: SALARIO <= 2 SMMLV
B8: PERSONAL TÉCNICO, OPERATIVO Riesgo Clase V | C8: PERSONAL TÉCNICO, OPERATIVO Riesgo Clase V | D8: PERSONAL TÉCNICO, OPERATIVO Riesgo Clase II
A9: PRESTACIONES SOCIALES
A10: Cesantías | B10: 0.0833 | C10: 0.0833 | D10: 0.0833
A11: Intereses cesantías | B11: 0.01 | C11: 0.01 | D11: 0.01
A12: Vacaciones | B12: 0.0472 | C12: 0.0472 | D12: 0.0472
A13: Prima | B13: 0.0833 | C13: 0.0833 | D13: 0.0833
A14: Dotación | B14: 0.08 | C14: 0.06 | D14: 0.06
A15: SEGURIDAD SOCIAL
A16: Aportes régimen general de pensiones (I.V.M.) | B16: 0.12 | C16: 0.12 | D16: 0.12
A17: Aporte riesgos profesionales A.R.L. | B17: 0.0696 | C17: 0.0696 | D17: 0.01
A18: Aportes régimen contributivo de salud | B18: 0.085 | C18: 0.085 | D18: 0.085
A19: Certificado trabajo seguro en alturas | B19: 0.01 | C19: 0.01 | D19: 0.01
A20: OTROS APORTES
A21: Aportes FIC | B21: 0.025 | C21: 0.025 | D21: 0.025
A22: I.C.B.F. | B22: 0.03 | C22: 0.03 | D22: 0.03
A23: Comfamiliar | B23: 0.04 | C23: 0.04 | D23: 0.04
A24: Subsidio de transporte | B24: =B4/B3 -> 0.12461538
A25: Días festivos (18 al año) | B25: 0.05 | C25: 0.05 | D25: 0.05
A26: Exámenes médicos de ingreso y egreso | B26: 0.01 | C26: 0.01 | D26: 0.01
B27: =SUM(B9:B26) -> 0.86801538 | C27: =SUM(C9:C26) -> 0.7234 | D27: =SUM(D9:D26) -> 0.6638

Sheet AU OBRA 
B6: A N A L I S I S D E L A U
B8: PROYECTO: | C8: IMPLEMENTACIÓN DE ACCIONES DE CONSERVACIÓN, PRODUCCCIÓN SOSTENIBLE Y CONSUMO RESPONSABLE EN AREAS DE INTERES AMBIENTAL DEL D.M.I GUASIMO EN EL MUNICIPIO DE LA VIRGINIA
D10: COSTO DIRECTO | I10: {='PRESUPUESTO ESTUFA'!G8:G8} -> 0 | J10: 0
D11: COSTO TOTAL (antes de interventoría) | I11: =+'CADENA DE VALOR'!B7 -> 2.6362128e+08
B13: ADMINISTRACION ( A ) >> | F13: =+D17+D30+D35+D44+D53 -> 1.490626e+08 | G13: =+G57 -> 30.268771 | H13: >>
B15: DESCRIPCIÓN | D15: UNIDAD | E15: CANT. | F15: DEDICACIÓN/MES | G15: MESES | H15: VALOR UNITARIO | I15: VALOR TOTAL
F16: PORCENTAJE
B17: PERSONAL (incluye prestaciones) | D17: =SUM(I18:K27) -> 61187292 | E17: =+D17*100/'PRESUPUESTO ESTUFA'!G52 -> 14.00185
B18: Director (a) de Obra | D18: mes | E18: 1 | F18: 1 | G18: 4 | H18: 3800000 | I18: =+(H18+H19)*G18 -> 25289760
B19: FACTOR PRESTACIONAL | E19: =+'FACTOR PRESTACIONAL '!D27 -> 0.6638 | H19: =+H18*E19 -> 2522440
B20: Tecnologo en obras Civiles | D20: mes | E20: 1 | F20: 1 | G20: 4 | H20: 2400000 | I20: =+(H20+H21)*G20 -> 16544640
B21: FACTOR PRESTACIONAL | E21: =+'FACTOR PRESTACIONAL '!C27 -> 0.7234 | H21: =+H20*E21 -> 1736160
B22: Almacenista | D22: mes | E22: 1 | F22: 1 | G22: 4 | H22: 1500000 | I22: =+(H22+H23)*G22 -> 11208092
B23: FACTOR PRESTACIONAL | E23: =+'FACTOR PRESTACIONAL '!B27 -> 0.86801538 | H23: =+H22*E23 -> 1302023.1
B24: Contador | D24: mes | E24: 1 | F24: 0.2 | G24: 4 | H24: 3200000 | I24: =+((H24+H25)*G24)*F24 -> 4259328
B25: FACTOR PRESTACIONAL | E25: =+'FACTOR PRESTACIONAL '!D27 -> 0.6638 | H25: =+H24*E25 -> 2124160
B26: Secretaria | D26: mes | E26: 1 | F26: 0.4 | G26: 4 | H26: 1300000 | I26: =+((H26+H27)*G26)*F26 -> 3885472
B27: FACTOR PRESTACIONAL | E27: =+'FACTOR PRESTACIONAL '!B27 -> 0.86801538 | H27: =+H26*E27 -> 1128420 | I27: 0
B28: VALOR TOTAL PERSONAL ADMINISTRATIVO Y OPERATIVO | I28: =SUM(I18:I27) -> 61187292
B30: COSTOS DE LEGALIZACION | D30: =SUM(I31:I34) -> 8739886.6 | E30: =+D30*100/'PRESUPUESTO ESTUFA'!G52 -> 2
B31: Polizas | E31: 1 | G31: 0.02 | H31: =+'PRESUPUESTO ESTUFA'!G52 -> 4.3699433e+08 | I31: =G31*H31 -> 8739886.6
I32: =G32*H32 -> 0
I33: =G33*H33 -> 0
I34: =G34*H34 -> 0
B35: VARIOS | D35: =SUM(I36:K43) -> 9687815.5 | E35: =+D35*100/'PRESUPUESTO ESTUFA'!G52 -> 2.2169202
B36: Arriendos | D36: mes | E36: 1 | G36: 4 | H36: 850000 | I36: =G36*H36 -> 3400000
B37: Comunicaciones | D37: mes | E37: 1 | G37: 4 | H37: 150000 | I37: =G37*H37 -> 600000
B38: Gastos de oficina y papelería | D38: mes | E38: 1 | G38: 4 | H38: 450000 | I38: =G38*H38 -> 1800000
B39: Gastos bancarios (diferentes al cuatro por mil) | D39: mes | E39: 1 | G39: 1 | H39: 1887815.5 | I39: =G39*H39 -> 1887815.5
B40: Polizas | I40: =G40*H40 -> 0
B41: Muebles y enseres | D41: mes | E41: 1 | G41: 4 | H41: 250000 | I41: =G41*H41 -> 1000000
I42: =G42*H42 -> 0
B43: Valla | D43: m2 | E43: 4 | G43: 1 | H43: 250000 | I43: =+H43*E43 -> 1000000
B44: DEDUCC. - IMP. | D44: =SUM(I45:I50) -> 52439320 | E44: =+D44*100/'PRESUPUESTO ESTUFA'!G52 -> 12
B45: Estampilla Pro-Adulto Mayor | E45: 1 | G45: 0.04 | H45: =+'PRESUPUESTO ESTUFA'!G52 -> 4.3699433e+08 | I45: =ROUND(H45*G45,0) -> 17479773
B46: Estampilla Pro- Cultura | E46: 1 | G46: 0.01 | H46: =H45 -> 4.3699433e+08 | I46: =ROUND(H46*G46,0) -> 4369943
B47: Estampilla de la justicia | E47: 1 | G47: 0.02 | H47: =H46 -> 4.3699433e+08 | I47: =ROUND(H47*G47,0) -> 8739887
B48: Impuesto de seguridad | E48: 1 | G48: 0.05 | H48: =H47 -> 4.3699433e+08 | I48: =ROUND(H48*G48,0) -> 21849717
B49: Impuesto a la renta | E49: 1 | G49: 0 | H49: =H45 -> 4.3699433e+08 | I49: =ROUND(H49*G49,0) -> 0
B50: Industria y comercio | E50: 1 | G50: 0.01 | H50: =+I10 -> 0 | I50: =ROUND(H50*G50,0) -> 0
...

Sheet A U - INTERVENTORIA
B6: A N A L I S I S D E L A U
B8: PROYECTO: | C8: IMPLEMENTACIÓN DE ACCIONES DE CONSERVACIÓN, PRODUCCCIÓN SOSTENIBLE Y CONSUMO RESPONSABLE EN AREAS DE INTERES AMBIENTAL DEL D.M.I GUASIMO EN EL MUNICIPIO DE LA VIRGINIA
D10: COSTO DIRECTO | I10: {='PRESUPUESTO ESTUFA'!G8:G8} -> 0 | J10: 0
D11: COSTO TOTAL (antes de interventoría) | I11: =+'PRESUPUESTO ESTUFA'!G53 -> 34959547
B15: DESCRIPCIÓN | D15: UNIDAD | E15: CANT. | F15: DEDICACIÓN/MES | G15: MESES | H15: VALOR UNITARIO | I15: VALOR TOTAL
F16: PORCENTAJE
B17: PERSONAL (incluye prestaciones) | D17: =SUM(I18:K27) -> 31612200 | E17: =+D17*100/'PRESUPUESTO ESTUFA'!G52 -> 7.2340069
B18: Director (a) de Interventor | D18: mes | E18: 1 | F18: 1 | G18: 5 | H18: 3800000 | I18: =+(H18+H19)*G18 -> 31612200
B19: FACTOR PRESTACIONAL | E19: =+'FACTOR PRESTACIONAL '!D27 -> 0.6638 | H19: =+H18*E19 -> 2522440
B20: Tecnologo en obras Civiles | D20: mes | E20: 1 | F20: 1 | G20: 4 | H20: 2400000 | I20: 0
B21: FACTOR PRESTACIONAL | E21: =+'FACTOR PRESTACIONAL '!C27 -> 0.7234 | H21: =+H20*E21 -> 1736160
B28: VALOR TOTAL PERSONAL ADMINISTRATIVO Y OPERATIVO | I28: =SUM(I18:I27) -> 31612200
B30: COSTOS DE LEGALIZACION | D30: =SUM(I31:I34) -> 699190.93 | E30: =+D30*100/'PRESUPUESTO ESTUFA'!G52 -> 0.16
B31: Polizas | E31: 1 | G31: 0.02 | H31: =+I11 -> 34959547 | I31: =G31*H31 -> 699190.93
I32: =G32*H32 -> 0
I33: =G33*H33 -> 0
I34: =G34*H34 -> 0
B35: VARIOS | D35: =SUM(I36:K43) -> 2779838.2 | E35: =+D35*100/'PRESUPUESTO ESTUFA'!G52 -> 0.63612683
B36: Arriendos | D36: mes | E36: 1 | G36: 4 | H36: 300000 | I36: =G36*H36 -> 1200000
B37: Comunicaciones | D37: mes | E37: 1 | G37: 4 | H37: 125000 | I37: =G37*H37 -> 500000
B38: Gastos de oficina y papelería | D38: mes | E38: 1 | G38: 4 | H38: 160000 | I38: =G38*H38 -> 640000
B39: Gastos bancarios (diferentes al cuatro por mil) | D39: mes | E39: 1 | G39: 1 | H39: =+I11*0.004 -> 139838.19 | I39: =G39*H39 -> 139838.19
B40: Polizas | I40: =G40*H40 -> 0
B41: Muebles y enseres | D41: mes | E41: 1 | G41: 4 | H41: 75000 | I41: =G41*H41 -> 300000
I42: =G42*H42 -> 0
B44: DEDUCC. - IMP. | D44: =SUM(I45:I49) -> 2447168 | E44: =+D44*100/'PRESUPUESTO ESTUFA'!G52 -> 0.55999994
B45: Estampilla Pro-Adulto Mayor | E45: 1 | G45: 0.04 | H45: =+'PRESUPUESTO ESTUFA'!G53 -> 34959547 | I45: =ROUND(H45*G45,0) -> 1398382
B46: Estampilla Pro- Cultura | E46: 1 | G46: 0.01 | H46: =H45 -> 34959547 | I46: =ROUND(H46*G46,0) -> 349595
B47: Estampilla de la justicia | E47: 1 | G47: 0.02 | H47: =H46 -> 34959547 | I47: =ROUND(H47*G47,0) -> 699191
B48: Impuesto a la renta | E48: 1 | G48: 0 | H48: =H45 -> 34959547 | I48: =ROUND(H48*G48,0) -> 0
B49: Industria y comercio | E49: 1 | G49: 0.01 | H49: =+I10 -> 0 | I49: =ROUND(H49*G49,0) -> 0
I50: =SUM(I28:I49) -> 37538397
B56: PORCENTAJE TOTAL DE AU | G56: =+G52+E44+E35+E30+E17 -> 8.5901337

Sheet Anexo FM
B1: CALCULO DEL FACTOR MULTIPLICADOR
A3: 1 | B3: HONORARIOS MENSUAL BASICO | C3: =+ROUND((100%),2) -> 1
A4: 2 | B4: PRESTACIONES SOCIALES
A5: 2.1 | B5: Prima mensual | C5: 0.085
A6: 2.2 | B6: Cesantía mensual | C6: 0.0833
A7: 2.3 | B7: Intereses de cesantías | C7: 0.01
A8: 2.4 | B8: Salud | C8: 0.08
A9: 2.5 | B9: Pensión | C9: 0.116
A10: 2.6 | B10: SENA | C10: =2% -> 0.02
A11: 2.7 | B11: ICBF | C11: =3% -> 0.03
A12: 2.8 | B12: Vacaciones | C12: 0.0417
A13: 2.9 | B13: Dotación | C13: 0.04
B16: SUBTOTAL 2 - PRESTACIONES SOCIALES | C16: =ROUND((SUM(C5:C15)),3) -> 0.506
A17: 3 | B17: COSTOS INDIRECTOS
B18: GASTOS LEGALES Y DE ADMINISTRACION
A19: 3.1 | B19: Gastos directos no reembolsables | C19: 0.01
A20: 3.2 | B20: Arriendos oficinas | C20: 0.01
A21: 3.3 | B21: Servcios públicos | C21: 0.01
A22: 3.4 | B22: Mantenimiento y operación de oficinas | C22: 0.01
A23: 3.5 | B23: Utiles y papelería | C23: 0.01
A24: 3.6 | B24: Gastos legales y bancarios | C24: 0.01
A25: 3.7 | B25: Gastos de tranporte y vehículos | C25: 0.01
A26: 3.8 | B26: Sistematización y Administración | C26: 0.01
A27: 3.9 | B27: Salarios y Prestaciones no reembolsables | C27: 0.01
A28: 3.10 | B28: Personal administrativo | C28: 0.01
A29: 3.11 | B29: Preparación de propuesta | C29: 0.01
B32: SUBTOTAL 3 - COSTOS INDIRECTOS | C32: =ROUND((SUM(C19:C31)),3) -> 0.11
A33: 4 | B33: CARGO POR HONORARIOS | C33: 0.03
B34: SUBTOTAL 4 - HONORARIOS | C34: =ROUND((SUM(C33)),3) -> 0.03
A36: 5 | B36: FACTOR MULTIPLICADOR = ( 1 + 2 + 3 + 4 ) / 100 | C36: =ROUND((C3+C16+C32+C34),2) -> 1.65
B38: CALCULO DEL FACTOR MULTIPLICADOR
