Workbook

Sheet VARIABLES
B2: IPC ANUAL | E2: AUMENTO SMMLV
B3: AÑO | C3: IPC | E3: AÑO | F3: Incremento
B4: 2024 | C4: 0.052 | E4: 2025 | F4: 0.0953
B5: 2023 | C5: 0.0928 | E5: 2024 | F5: 0.12
B6: 2022 | C6: 0.131 | E6: 2023 | F6: 0.16
E7: 2022 | F7: 0.107

Sheet Hoja2
B3: RUBRO O FASE | D3: COSTO | E3: % TOTAL
B4: TOTAL EQUIPO TÉCNICO ASESOR | D4: 239500000 | E4: =D4/$D$11 -> 0.32121891
B5: TOTAL COSTOS ADMINISTRATIVOS | D5: 7027440.3 | E5: =D5/$D$11 -> 0.0094252474
B6: TOTAL ETAPA DE ALISTAMIENTO | D6: 4410000 | E6: =D6/$D$11 -> 0.0059147199
B7: TOTAL DESPLIEGUES TERRITORIALES | D7: 421380000 | E7: =D7/$D$11 -> 0.56515752
B8: TOTAL FASE DE ARMONIZACIÓN | D8: 28000000 | E8: =D8/$D$11 -> 0.037553777
B9: TOTAL FASE DE CONCERTACIÓN | D9: 24000000 | E9: =D9/$D$11 -> 0.032188952
B10: TOTAL FASE DE PROTOCOLIZACIÓN | D10: 21280000 | E10: =D10/$D$11 -> 0.028540871
B11: TOTAL PRESUPUESTO DETALLADO | D11: 7.4559744e+08

Sheet Presupuesto General 
B2: CONVENIO INTERADMINISTRATIVO MINISTERIO DE JUSTICIA Y DEL DERECHO Y PROYECTO CULTURAL AFRODESCENDIENTE "PCA" OBJETO: Implementar el proceso de Consulta Previa con la Asociación Proyecto Cultural Afrodescendiente PCA, en el marco de la ruta metodológica de Consulta Previa e informada de la Política Nacional de Drogas: Sembrando vida desterramos el narcotráfico 2023-20233. Anexo No. 2 - PRESUPUESTO GENERAL
B7: FASE | C7: MINISTERIO DE JUSTICIA Y DEL DERECHO EFECTIVO | D7: ORGANIZACIÓN | E7: TOTAL
B8: FASE PRECONSULTA | C8: 5.5216221e+08 | D8: 5063829.8 | E8: 5.5722604e+08
B9: FASE CONSULTA PREVIA | C9: 6.3644183e+09 | D9: 27489362 | E9: 6.3919077e+09
B10: FASE DE PROTOCOLIZACIÓN | C10: 2.0834195e+09 | D10: 1446808.5 | E10: 2.0848663e+09
B11: TOTAL APORTES | C11: 9e+09 | D11: 34000000 | E11: 9034000000
B15: RUBRO O FASE | C15: APORTES MIINSTERIO DE JUSTICIA Y DEL DERECHO | D15: APORTES PCA | E15: TOTAL
B16: TOTAL EQUIPO ASESOR | C16: ='PPTO Detallado PCA AJUSTADO'!J34 -> 417200000 | D16: ='PPTO Detallado PCA AJUSTADO'!I34 -> 0 | E16: =C16+D16 -> 417200000 | G16: =C16/C30 -> 8876595.7 | H16: =D16/C30 -> 0
B17: TOTAL COSTOS ADMINISTRATIVOS | C17: ='PPTO Detallado PCA AJUSTADO'!J52 -> 112666000 | D17: ='PPTO Detallado PCA AJUSTADO'!I52 -> 34000000 | E17: =C17+D17 -> 146666000 | G17: =C17/C30 -> 2397148.9 | H17: =D17/C30 -> 723404.26
B18: TOTAL FASE DE PRECONSULTA | C18: ='PPTO Detallado PCA AJUSTADO'!J88 -> 473246000 | D18: ='PPTO Detallado PCA AJUSTADO'!I88 -> 0 | E18: =C18+D18 -> 473246000
B19: TOTAL FASE DE CONSULTA PREVIA | C19: ='PPTO Detallado PCA AJUSTADO'!J707 -> 5936016000 | D19: ='PPTO Detallado PCA AJUSTADO'!I707 -> 0 | E19: =C19+D19 -> 5936016000
B20: TOTAL FASE DE PROTOCOLIZACIÓN | C20: ='PPTO Detallado PCA AJUSTADO'!J741 -> 2060872000 | D20: ='PPTO Detallado PCA AJUSTADO'!I741 -> 0 | E20: =C20+D20 -> 2060872000
B21: TOTAL PRESUPUESTO DETALLADO | C21: =SUM(C16:D20) -> 9034000000
B23: CONVENIO
B24: MINISTERIO DE JUSTICIA Y DEL DERECHO Y PCA
B25: ETAPA/FASE | C25: # DE ACTIVIDADES | D25: MINISTERIO DE JUSTICIA Y DEL DERECHO | E25: PCA | F25: TOTAL
B27: TOTAL FASE DE PRECONSULTA | C27: 7 | D27: =C18+G16*C27+G17*C27 -> 5.5216221e+08 | E27: =D18+H16*C27+H17*C27 -> 5063829.8 | F27: =E27+D27 -> 5.5722604e+08
B28: TOTAL FASE DE CONSULTA PREVIA | C28: 38 | D28: =C19+G16*C28+G17*C28 -> 6.3644183e+09 | E28: =D19+H16*C28+H17*C28 -> 27489362 | F28: =E28+D28 -> 6.3919077e+09
B29: TOTAL FASE DE PROTOCOLIZACIÓN | C29: 2 | D29: =C20+G16*C29+G17*C29 -> 2.0834195e+09 | E29: =D20+H16*C29+H17*C29 -> 1446808.5 | F29: =E29+D29 -> 2.0848663e+09
B30: TOTAL APORTES | C30: =C27+C28+C29 -> 47 | D30: =D27+D28+D29 -> 9000000000 | E30: =E27+E28+E29 -> 34000000 | F30: =F27+F28+F29 -> 9034000000

Sheet PPTO Detallado PCA AJUSTADO
B3: CONVENIO INTERADMINISTRATIVO MINISTERIO DE JUSTICIA Y DEL DERECHO Y ASOCIACIÓN PROYECTO CULTURAL AFRODESCENDIENTE "PCA" OBJETO: Implementar el proceso de Consulta Previa con la Asociación Proyecto Cultural Afrodescendiente PCA, en el marco de la ruta metodológica de consulta previa libre e informada de la Política Nacional de Drogas: Sembrando vida desterramos el narcotráfico 2023-2033. Anexo No. 2.2 - PRESUPUESTO DETALLADO
N6: PROYECCION PPTO CON PRECIOS DE REFERENCIA
B8: # | C8: DESCRIPCIÓN | D8: UNIDAD | E8: CANTIDAD | F8: COSTO UNITARIO | G8: # DE MESES , FASE O DIAS DESEMBOLSO POR PRODUCTO | H8: TOTAL | I8: APORTE PCA | J8: APORTE MJD | K8: TOTAL | N8: PRECIO REFERENCIA | O8: TOTAL | P8: VARIACIÓN
B10: EQUIPO ASESOR ENCP Y PCA
B11: Equipo Asesor de Expertos ENCP
B12: 1 | C12: Asesor uno (1) experto en temas étnicos y consulta Previa. | D12: PERSONA | E12: 1 | F12: 6500000 | G12: 4 | H12: =F12*E12*G12 -> 26000000 | I12: 0 | J12: =H12 -> 26000000 | K12: =I12+J12 -> 26000000 | N12: ='1.1 Comparativo_Personal'!$R$7 -> 7166478 | O12: =N12*G12 -> 28665912 | P12: =K12/O12-1 -> -0.092999378 | Q12: =+E12*F12*G12-H12 -> 0
B13: 2 | C13: Asesor dos (2) experto en temas étnicos y consulta Previa. | D13: PERSONA | E13: 1 | F13: 6500000 | G13: 4 | H13: =F13*E13*G13 -> 26000000 | I13: 0 | J13: =H13 -> 26000000 | K13: =I13+J13 -> 26000000 | N13: ='1.1 Comparativo_Personal'!$R$7 -> 7166478 | O13: =N13*G13 -> 28665912 | P13: =K13/O13-1 -> -0.092999378 | Q13: =+E13*F13*G13-H13 -> 0
B14: 3 | C14: Asesor tres (3) experto en temas étnicos y consulta Previa. | D14: PERSONA | E14: 1 | F14: 6500000 | G14: 4 | H14: =F14*E14*G14 -> 26000000 | I14: 0 | J14: =H14 -> 26000000 | K14: =I14+J14 -> 26000000 | N14: ='1.1 Comparativo_Personal'!$R$7 -> 7166478 | O14: =N14*G14 -> 28665912 | P14: =K14/O14-1 -> -0.092999378 | Q14: =+E14*F14*G14-H14 -> 0
B15: 4 | C15: Asesor cuatro (4) experto en temas étnicos y consulta Previa. | D15: PERSONA | E15: 1 | F15: 6500000 | G15: 4 | H15: =F15*E15*G15 -> 26000000 | I15: 0 | J15: =H15 -> 26000000 | K15: =I15+J15 -> 26000000 | N15: ='1.1 Comparativo_Personal'!$R$7 -> 7166478 | O15: =N15*G15 -> 28665912 | P15: =K15/O15-1 -> -0.092999378 | Q15: =+E15*F15*G15-H15 -> 0
B16: 5 | C16: Asesor cinco (5) experto en temas étnicos y consulta Previa. | D16: PERSONA | E16: 1 | F16: 6500000 | G16: 4 | H16: =F16*E16*G16 -> 26000000 | I16: 0 | J16: =H16 -> 26000000 | K16: =I16+J16 -> 26000000 | N16: ='1.1 Comparativo_Personal'!$R$7 -> 7166478 | O16: =N16*G16 -> 28665912 | P16: =K16/O16-1 -> -0.092999378 | Q16: =+E16*F16*G16-H16 -> 0
B17: TOTAL, Equipo de Expertos ENCP | E17: =SUM(E12:E16) -> 5 | F17: =SUM(F12:F16) -> 32500000 | H17: =SUM(H12:H16) -> 130000000 | I17: =SUM(I12:I16) -> 0 | J17: =SUM(J12:J16) -> 130000000 | K17: =SUM(K12:K16) -> 130000000 | O17: =SUM(O12:O16) -> 143329560 | P17: =K17/O17-1 -> -0.092999378
B18: Equipo Asesor Técnico ENCP | Q18: =+E18*F18*G18-H18 -> 0
B19: 1 | C19: Asesor uno (1) Técnico en temas étnicos y consulta Previa. | D19: PERSONA | E19: 1 | F19: 3500000 | G19: 4 | H19: =F19*E19*G19 -> 14000000 | I19: 0 | J19: =H19 -> 14000000 | K19: =I19+J19 -> 14000000 | N19: ='1.1 Comparativo_Personal'!$R$10 -> 3829772 | O19: =N19*G19*E19 -> 15319088 | P19: =K19/O19-1 -> -0.086107476 | Q19: =+E19*F19*G19-H19 -> 0
A20: l | B20: 2 | C20: Asesor dos (2) Técnico en temas étnicos y consulta Previa. | D20: PERSONA | E20: 1 | F20: 3500000 | G20: 4 | H20: =F20*E20*G20 -> 14000000 | I20: 0 | J20: =H20 -> 14000000 | K20: =I20+J20 -> 14000000 | N20: ='1.1 Comparativo_Personal'!$R$10 -> 3829772 | O20: =N20*G20*E20 -> 15319088 | P20: =K20/O20-1 -> -0.086107476 | Q20: =+E20*F20*G20-H20 -> 0
B21: 3 | C21: Asesor tres (3) Técnico en temas étnicos y consulta Previa. | D21: PERSONA | E21: 1 | F21: 3500000 | G21: 4 | H21: =F21*E21*G21 -> 14000000 | I21: 0 | J21: =H21 -> 14000000 | K21: =I21+J21 -> 14000000 | N21: ='1.1 Comparativo_Personal'!$R$10 -> 3829772 | O21: =N21*G21*E21 -> 15319088 | P21: =K21/O21-1 -> -0.086107476 | Q21: =+E21*F21*G21-H21 -> 0
B22: 4 | C22: Asesor cuatro (4) Técnico en temas étnicos y consulta Previa. | D22: PERSONA | E22: 1 | F22: 3500000 | G22: 4 | H22: =F22*E22*G22 -> 14000000 | I22: 0 | J22: =H22 -> 14000000 | K22: =I22+J22 -> 14000000 | N22: ='1.1 Comparativo_Personal'!$R$10 -> 3829772 | O22: =N22*G22*E22 -> 15319088 | P22: =K22/O22-1 -> -0.086107476 | Q22: =+E22*F22*G22-H22 -> 0
B23: 5 | C23: Asesor cinco (5) Técnico en temas étnicos y consulta Previa. | D23: PERSONA | E23: 1 | F23: 3500000 | G23: 4 | H23: =F23*E23*G23 -> 14000000 | I23: 0 | J23: =H23 -> 14000000 | K23: =I23+J23 -> 14000000 | N23: ='1.1 Comparativo_Personal'!$R$10 -> 3829772 | O23: =N23*G23*E23 -> 15319088 | P23: =K23/O23-1 -> -0.086107476 | Q23: =+E23*F23*G23-H23 -> 0
B24: TOTAL, Equipo Técnico ENCP | E24: =SUM(E19:E23) -> 5 | F24: =SUM(F19:F23) -> 17500000 | H24: =SUM(H19:H23) -> 70000000 | I24: =SUM(I19:I23) -> 0 | J24: =SUM(J19:J23) -> 70000000 | K24: =SUM(K19:K23) -> 70000000 | O24: =SUM(O19:O23) -> 76595440 | P24: =K24/O24-1 -> -0.086107476
B25: TOTAL, EQUIPO EXPERTO Y TÉCNICO ASESOR ENCP | E25: =E17+E24 -> 10 | F25: =F17+F24 -> 50000000 | G25: 4 | H25: =H17+H24 -> 200000000 | I25: =I17+I24 -> 0 | J25: =J17+J24 -> 200000000 | K25: =K17+K24 -> 200000000 | O25: =O17+O24 -> 219925000 | P25: =K25/O25-1 -> -0.090599068
B26: EQUIPO TÉCNICO ADMINISTRATIVO PCA | Q26: =+E26*F26*G26-H26 -> 0
B27: 1 | C27: Coordinador General | D27: PERSONA | E27: 1 | F27: 10000000 | G27: 4 | H27: =F27*E27*G27 -> 40000000 | I27: 0 | J27: =H27 -> 40000000 | K27: =I27+J27 -> 40000000 | N27: ='1.1 Comparativo_Personal'!R13 -> 10678343 | O27: =N27*G27*E27 -> 42713372 | P27: =K27/O27-1 -> -0.063525118 | Q27: =+E27*F27*G27-H27 -> 0
B28: 2 | C28: Coordinador Financiero | D28: PERSONA | E28: 1 | F28: 8000000 | G28: 4 | H28: =F28*E28*G28 -> 32000000 | I28: 0 | J28: =H28 -> 32000000 | K28: =I28+J28 -> 32000000 | N28: ='1.1 Comparativo_Personal'!R14 -> 8765666 | O28: =N28*G28*E28 -> 35062664 | P28: =K28/O28-1 -> -0.087348297 | Q28: =+E28*F28*G28-H28 -> 0
B29: 3 | C29: Secretaria | D29: PERSONA | E29: 1 | F29: 3000000 | G29: 4 | H29: =F29*E29*G29 -> 12000000 | I29: 0 | J29: =H29 -> 12000000 | K29: =I29+J29 -> 12000000 | N29: ='1.1 Comparativo_Personal'!R15 -> 3829772 | O29: =N29*G29*E29 -> 15319088 | P29: =K29/O29-1 -> -0.21666355 | Q29: =+E29*F29*G29-H29 -> 0
B30: 4 | C30: Apoyo financiero | D30: PERSONA | E30: 2 | F30: 4500000 | G30: 4 | H30: =F30*E30*G30 -> 36000000 | I30: 0 | J30: =H30 -> 36000000 | K30: =I30+J30 -> 36000000 | N30: ='1.1 Comparativo_Personal'!R16 -> 5463502 | O30: =N30*G30*E30 -> 43708016 | P30: =K30/O30-1 -> -0.17635246 | Q30: =+E30*F30*G30-H30 -> 0
B31: 5 | C31: Apoyo Técnico-administrativo | D31: PERSONA | E31: 3 | F31: 4500000 | G31: 4 | H31: =F31*E31*G31 -> 54000000 | I31: 0 | J31: =H31 -> 54000000 | K31: =I31+J31 -> 54000000 | N31: ='1.1 Comparativo_Personal'!R17 -> 4569556 | O31: =N31*G31*E31 -> 54834672 | P31: =K31/O31-1 -> -0.01522161 | Q31: =+E31*F31*G31-H31 -> 0
B32: 6 | C32: Sistematizador | D32: PERSONA | E32: 3 | F32: 3600000 | G32: 4 | H32: =F32*E32*G32 -> 43200000 | I32: 0 | J32: =H32 -> 43200000 | K32: =I32+J32 -> 43200000 | N32: ='1.1 Comparativo_Personal'!R18 -> 3829772 | O32: =N32*G32*E32 -> 45957264 | P32: =K32/O32-1 -> -0.059996261 | Q32: =+E32*F32*G32-H32 -> 0
B33: TOTAL EQUIPO TÉCNICO ADMINISTRATIVO | E33: =SUM(E27:E32) -> 11 | F33: =SUM(F27:F32) -> 33600000 | H33: =SUM(H27:H32) -> 217200000 | I33: =SUM(I27:I32) -> 0 | J33: =SUM(J27:J32) -> 217200000 | K33: =SUM(K27:K32) -> 217200000 | O33: =SUM(O27:O32) -> 237595076 | P33: =K33/O33-1 -> -0.085839641
B34: TOTAL, EQUIPO ASESOR ENCP Y PCA | E34: =E25+E33 -> 21 | F34: =F25+F33 -> 83600000 | H34: =H25+H33 -> 417200000 | I34: =I25+I33 -> 0 | J34: =J25+J33 -> 417200000 | K34: =K25+K33 -> 417200000 | O34: =O25+O33 -> 457520076 | P34: =K34/O34-1 -> -0.088127446
B35: COSTOS ADMINISTRATIVOS | Q35: =+E35*F35*G35-H35 -> 0
B36: GASTOS ADMINISTRATIVOS OPERATIVOS | Q36: =+E36*F36*G36-H36 -> 0
B37: 1 | C37: Arrendamiento de oficina sede nacional PCA. | D37: MES | E37: 1 | F37: 4500000 | G37: 4 | H37: =F37*E37*G37 -> 18000000 | I37: =H37 -> 18000000 | J37: 0 | K37: =I37+J37 -> 18000000 | Q37: =+E37*F37*G37-H37 -> 0
B38: 2 | C38: Persona de limpieza oficina para sede nacional PCA. | D38: MES | E38: 1 | F38: 1600000 | G38: 4 | H38: =F38*E38*G38 -> 6400000 | I38: =H38 -> 6400000 | J38: 0 | K38: =I38+J38 -> 6400000 | Q38: =+E38*F38*G38-H38 -> 0
B39: 3 | C39: Servicio de mensajería y vigilancia para sede nacional PCA. | D39: MES | E39: 1 | F39: 1600000 | G39: 4 | H39: =F39*E39*G39 -> 6400000 | I39: =H39 -> 6400000 | J39: 0 | K39: =I39+J39 -> 6400000 | Q39: =+E39*F39*G39-H39 -> 0
B40: 4 | C40: Servicios públicos (agua, luz, e internet) para sede nacional PCA. | D40: MES | E40: 1 | F40: 800000 | G40: 4 | H40: =F40*E40*G40 -> 3200000 | I40: =H40 -> 3200000 | J40: 0 | K40: =I40+J40 -> 3200000 | Q40: =+E40*F40*G40-H40 -> 0
B41: 5 | C41: Papelería Oficina Nacional (Fotocopias, Bolígrafos, grapadoras, ganchos de grapadoras, lápiz, borradores, clip mariposas, resaltador, sacapuntas, sacagrapas, resmas de papel carta y oficio, carpetas alas, AZ y demás relacionados). Sede nacional. | D41: MES | E41: 1 | F41: 2966500 | G41: 4 | H41: =F41*E41*G41 -> 11866000 | I41: 0 | J41: =H41 -> 11866000 | K41: =I41+J41 -> 11866000 | Q41: =+E41*F41*G41-H41 -> 0
B42: 6 | C42: Arrendamiento de oficina en Cali. Nota: La sede operativa del Proceso de Consulta Previa estará ubicada en la ciudad de Cali, ya que es uno de los lugares con mayor participación de comunidades Negras, Afrocolombianas, Raizales y Palenqueras. | D42: MES | E42: 1 | F42: 5000000 | G42: 4 | H42: =F42*E42*G42 -> 20000000 | I42: 0 | J42: =H42 -> 20000000 | K42: =I42+J42 -> 20000000 | Q42: =+E42*F42*G42-H42 -> 0
B43: 7 | C43: Arrendamiento impresora y equipo de computo para punto en Cali. (dos computadores de escritorio y un computador portátil, una impresora para la oficina y una para trabajo de campo). | D43: MES | E43: 1 | F43: 2000000 | G43: 4 | H43: =F43*E43*G43 -> 8000000 | I43: 0 | J43: =H43 -> 8000000 | K43: =I43+J43 -> 8000000 | Q43: =+E43*F43*G43-H43 -> 0
B44: 8 | C44: Personal de aseo para Oficina en Cali. | D44: MES | E44: 1 | F44: 1600000 | G44: 4 | H44: =F44*E44*G44 -> 6400000 | I44: 0 | J44: =H44 -> 6400000 | K44: =I44+J44 -> 6400000 | Q44: =+E44*F44*G44-H44 -> 0
B45: 9 | C45: Servicios públicos (agua, luz, e internet) para oficina en Cali | D45: MES | E45: 1 | F45: 1000000 | G45: 4 | H45: =F45*E45*G45 -> 4000000 | I45: 0 | J45: =H45 -> 4000000 | K45: =I45+J45 -> 4000000 | Q45: =+E45*F45*G45-H45 -> 0
B46: 10 | C46: Servicio de mensajería y Vigilancia para oficina en Cali | D46: MES | E46: 1 | F46: 1600000 | G46: 4 | H46: =F46*E46*G46 -> 6400000 | I46: 0 | J46: =H46 -> 6400000 | K46: =I46+J46 -> 6400000 | Q46: =+E46*F46*G46-H46 -> 0
...

Sheet 1. PERSONAL -->

Sheet 1.1 Comparativo_Personal
B2: COMPARATIVO PERSONAL
B4: EQUIPO ASESOR ENCP Y PCA | J4: VALORES DE REFERENCIA
B5: # | C5: DESCRIPCIÓN | D5: CANTIDAD | E5: VALOR MES | F5: MESES | G5: VALOR TOTAL | H5: PERFIL ASESOR | J5: FUENTE 1 | N5: FUENTE 2 | R5: Promedio valor mensual de Referencia | S5: Variación
B6: Equipo Asesor de Expertos ENCP | J6: Proceso o Resolución | K6: Perfil Equivalente | L6: Valor mensual | M6: Variación | N6: Proceso o Resolución | O6: Perfil Equivalente | P6: Valor mensual | Q6: Variación
B7: 1 | C7: Equipo de Expertos | D7: 5 | E7: 6500000 | F7: 4 | G7: =D7*E7*F7 -> 130000000 | H7: Profesional con formación en derecho, ciencias sociales, políticas o áreas afines, con estudios de posgrado. Debe contar con una trayectoria mínima de dieciocho (18) meses en diseño, análisis o implementación de políticas públicas, especialmente en contextos relacionados con comunidades Negras, Afrocolombianas, Raizales y Palenqueras. | J7: ='1.2 Resolucion 2157 DE 2024'!$B$2 -> Resolución 2157 del 31 de octubre de 2024 con honorarios de 2025 - Ministerio de Justicia | K7: ='1.2 Resolucion 2157 DE 2024'!K13 -> Profesionales 3 | L7: ='1.2 Resolucion 2157 DE 2024'!O13 -> 6950518 | M7: =E7/L7-1 -> -0.064817903 | N7: ='1.3 Fuentes_Personal'!$D$5 -> Circular No. 45 del 09 Dic 2024 - Tabla de honorarios de la Agencia Nacional de Tierras Vigencia 2025 | O7: Profesional Especializado Nivel II | P7: ='1.3 Fuentes_Personal'!K19 -> 7382437 | Q7: =E7/P7-1 -> -0.11953194 | R7: =ROUND(AVERAGE(L7,P7),0) -> 7166478 | S7: =E7/R7-1 -> -0.092999378
B8: Equipo Asesor Técnico ENCP | J8: FUENTE 1 | N8: FUENTE 2 | R8: Promedio valor mensual de Referencia | S8: Variación
J9: Proceso o Resolución | K9: Perfil Equivalente | L9: Valor mensual | M9: Variación | N9: Proceso o Resolución | O9: Perfil Equivalente | P9: Valor mensual | Q9: Variación
B10: 2 | C10: Equipo Técnico | D10: 5 | E10: 3500000 | F10: 4 | G10: =D10*E10*F10 -> 70000000 | H10: Técnico/Tecnólogo en las áreas del conocimiento de Ingenierías y Afines, Ciencias de la Educación, Ciencias Sociales y Humanas, Telemática y afines, al menos seis (6) meses de experiencia en consulta previa con comunidades Negras, Afrocolombianas, Raizales y Palenqueras. | J10: ='1.2 Resolucion 2157 DE 2024'!$B$2 -> Resolución 2157 del 31 de octubre de 2024 con honorarios de 2025 - Ministerio de Justicia | K10: ='1.2 Resolucion 2157 DE 2024'!K16 -> Técnicos 2 | L10: ='1.2 Resolucion 2157 DE 2024'!O16 -> 3870535 | M10: =E10/L10-1 -> -0.095732244 | N10: ='1.3 Fuentes_Personal'!$D$5 -> Circular No. 45 del 09 Dic 2024 - Tabla de honorarios de la Agencia Nacional de Tierras Vigencia 2025 | O10: Título de Formación Técnica o Tecnológica Nivel II | P10: ='1.3 Fuentes_Personal'!K28 -> 3789009 | Q10: =E10/P10-1 -> -0.076275617 | R10: =ROUND(AVERAGE(L10,P10),0) -> 3829772 | S10: =E10/R10-1 -> -0.086107476
B11: Equipo Técnico Administrativo PCA | J11: FUENTE 1 | N11: FUENTE 2 | R11: Promedio valor mensual de Referencia | S11: VARIACIÓN
J12: Proceso o Resolución | K12: Perfil Equivalente | L12: Valor mensual | M12: Variación | N12: Proceso o Resolución | O12: Perfil Equivalente | P12: Valor mensual | Q12: Variación
B13: 1 | C13: Coordinador General | D13: 1 | E13: 10000000 | F13: 4 | G13: =D13*E13*F13 -> 40000000 | H13: Profesional en ciencias sociales, jurídicas o humanas, con estudios de posgrado y mínimo Treinta y cinco (35) meses de experiencia en coordinación de procesos participativos o consulta previa con comunidades Negras, Afrocolombianas, Raizales y Palenqueras. | J13: ='1.2 Resolucion 2157 DE 2024'!$B$2 -> Resolución 2157 del 31 de octubre de 2024 con honorarios de 2025 - Ministerio de Justicia | K13: ='1.2 Resolucion 2157 DE 2024'!K11 -> Profesionales 5 | L13: ='1.2 Resolucion 2157 DE 2024'!O11 -> 11498986 | M13: =E13/L13-1 -> -0.1303581 | N13: MSPS-CD-1412-2024 | O13: Coordinador General | P13: ='1.3 Fuentes_Personal'!M82 -> 9857700 | Q13: =E13/P13-1 -> 0.014435416 | R13: =ROUND(AVERAGE(L13,P13),0) -> 10678343 | S13: =E13/R13-1 -> -0.063525118
B14: 2 | C14: Coordinador Finaciero | D14: 1 | E14: 8000000 | F14: 4 | G14: =D14*E14*F14 -> 32000000 | H14: Profesional en contaduría pública o finanzas, con especialización y al menos veinticinco (25) meses de experiencia en administración presupuestal de procesos con comunidades Negras, Afrocolombianas, Raizales y Palenqueras. | J14: ='1.2 Resolucion 2157 DE 2024'!$B$2 -> Resolución 2157 del 31 de octubre de 2024 con honorarios de 2025 - Ministerio de Justicia | K14: ='1.2 Resolucion 2157 DE 2024'!K12 -> Profesionales 4 | L14: ='1.2 Resolucion 2157 DE 2024'!O12 -> 9147012 | M14: =E14/L14-1 -> -0.12539745 | N14: ='1.3 Fuentes_Personal'!$D$5 -> Circular No. 45 del 09 Dic 2024 - Tabla de honorarios de la Agencia Nacional de Tierras Vigencia 2025 | O14: Profesional Especializado Nivel III | P14: ='1.3 Fuentes_Personal'!$K$18 -> 8384320 | Q14: =E14/P14-1 -> -0.045837945 | R14: =ROUND(AVERAGE(L14,P14),0) -> 8765666 | S14: =E14/R14-1 -> -0.087348297
B15: 3 | C15: Secretaria | D15: 1 | E15: 3000000 | F15: 4 | G15: =D15*E15*F15 -> 12000000 | H15: Título de formación tecnológica o aprobación de tres años de educación superior en la modalidad de formación tecnológica o profesional o universitaria, con una experiencia mínima comprobada de seis (6) meses en funciones relacionadas con la gestión administrativa de proyectos o convenios interinstitucionales. Debe contar con conocimientos y habilidades demostradas en gestión documental conforme a la normatividad archivística vigente, así como en la organización y planeación de agendas institucionales, coordinación logística de actividades, y seguimiento a cronogramas de ejecución. Se valorará experiencia en el manejo de herramientas ofimáticas, plataformas colaborativas y sistemas de información administrativa con comunidades Negras, Afrocolombianas, Raizales y Palenqueras. | J15: ='1.2 Resolucion 2157 DE 2024'!$B$2 -> Resolución 2157 del 31 de octubre de 2024 con honorarios de 2025 - Ministerio de Justicia | K15: ='1.2 Resolucion 2157 DE 2024'!K16 -> Técnicos 2 | L15: ='1.2 Resolucion 2157 DE 2024'!O16 -> 3870535 | M15: =E15/L15-1 -> -0.22491335 | N15: ='1.3 Fuentes_Personal'!$D$5 -> Circular No. 45 del 09 Dic 2024 - Tabla de honorarios de la Agencia Nacional de Tierras Vigencia 2025 | O15: Título de Formación Técnica o Tecnológica Nivel II | P15: ='1.3 Fuentes_Personal'!K28 -> 3789009 | Q15: =E15/P15-1 -> -0.20823624 | R15: =ROUND(AVERAGE(L15,P15),0) -> 3829772 | S15: =E15/R15-1 -> -0.21666355
B16: 4 | C16: Apoyo financiero | D16: 2 | E16: 4500000 | F16: 4 | G16: =D16*E16*F16 -> 36000000 | H16: Profesional en economía, contaduría o administración, con mínimo dieciseis (16) meses de experiencia en seguimiento financiero y elaboración de informes en proyectos con comunidades Negras, Afrocolombianas, Raizales y Palenqueras. | J16: ='1.2 Resolucion 2157 DE 2024'!$B$2 -> Resolución 2157 del 31 de octubre de 2024 con honorarios de 2025 - Ministerio de Justicia | K16: ='1.2 Resolucion 2157 DE 2024'!K14 -> Profesionales 2 | L16: ='1.2 Resolucion 2157 DE 2024'!O14 -> 5038808 | M16: =E16/L16-1 -> -0.10693164 | N16: ='1.3 Fuentes_Personal'!$D$5 -> Circular No. 45 del 09 Dic 2024 - Tabla de honorarios de la Agencia Nacional de Tierras Vigencia 2025 | O16: Profesional Nivel III | P16: ='1.3 Fuentes_Personal'!K22 -> 5888196 | Q16: =E16/P16-1 -> -0.23575914 | R16: =ROUND(AVERAGE(L16,P16),0) -> 5463502 | S16: =E16/R16-1 -> -0.17635246
B17: 5 | C17: Apoyo Técnico-administrativo | D17: 3 | E17: 4500000 | F17: 4 | G17: =D17*E17*F17 -> 54000000 | H17: Profesional o estudiante avanzado en áreas administrativas, sociales o logísticas, con mínimo veinticuatro (24) meses de experiencia en apoyo a proyectos dirigidos a comunidades Negras, Afrocolombianas, Raizales y Palenqueras. | J17: ='1.2 Resolucion 2157 DE 2024'!$B$2 -> Resolución 2157 del 31 de octubre de 2024 con honorarios de 2025 - Ministerio de Justicia | K17: ='1.2 Resolucion 2157 DE 2024'!K15 -> Profesionales 1 | L17: ='1.2 Resolucion 2157 DE 2024'!O15 -> 4258974 | M17: =E17/L17-1 -> 0.056592503 | N17: ='1.3 Fuentes_Personal'!$D$5 -> Circular No. 45 del 09 Dic 2024 - Tabla de honorarios de la Agencia Nacional de Tierras Vigencia 2025 | O17: Profesional Nivel I | P17: ='1.3 Fuentes_Personal'!K24 -> 4880137 | Q17: =E17/P17-1 -> -0.077894739 | R17: =ROUND(AVERAGE(L17,P17),0) -> 4569556 | S17: =E17/R17-1 -> -0.01522161
B18: 6 | C18: Sistematizador | D18: 3 | E18: 3600000 | F18: 4 | G18: =D18*E18*F18 -> 43200000 | H18: Profesional o estudiante avanzado en ingeniería de sistemas, estadística, informática o áreas afines, con mínimo seis (6) meses de experiencia en gestión de datos o sistematización en procesos sociales con comunidades Negras, Afrocolombianas, Raizales y Palenqueras. | J18: ='1.2 Resolucion 2157 DE 2024'!$B$2 -> Resolución 2157 del 31 de octubre de 2024 con honorarios de 2025 - Ministerio de Justicia | K18: ='1.2 Resolucion 2157 DE 2024'!K16 -> Técnicos 2 | L18: ='1.2 Resolucion 2157 DE 2024'!O16 -> 3870535 | M18: =E18/L18-1 -> -0.069896022 | N18: ='1.3 Fuentes_Personal'!$D$5 -> Circular No. 45 del 09 Dic 2024 - Tabla de honorarios de la Agencia Nacional de Tierras Vigencia 2025 | O18: Título de Formación Técnica o Tecnológica Nivel II | P18: ='1.3 Fuentes_Personal'!K28 -> 3789009 | Q18: =E18/P18-1 -> -0.049883492 | R18: =ROUND(AVERAGE(L18,P18),0) -> 3829772 | S18: =E18/R18-1 -> -0.059996261

Sheet 1.2 Resolucion 2157 DE 2024
B2: Resolución 2157 del 31 de octubre de 2024 con honorarios de 2025 - Ministerio de Justicia
B3: Link: | C3: https://www.minjusticia.gov.co/normatividad-co/Resoluciones/Resolucion-2175-DEL-31-DE-OCTUBRE-DE-2024.pdf
K8: TIPO Y GRADO | L8: FORMACION | M8: EXPERIENCIA | N8: HONORARIOS MÍNIMOS 2024 | O8: HONORARIOS MÁXIMOS 2024
K9: Experto 2 | L9: Título profesional con Título de Postgrado en modalidad maestría, o Título Profesional con Título de Postgrado en modalidad especialización | M9: Entre 44 y 54 meses de experiencia profesional relacionada o 55 y 66 meses de experiencia profesional relacionada | N9: 13074467 | O9: 16003742
K10: Experto 1 | L10: Título profesional con Título de Postgrado en modalidad especialización | M10: 46 y 51 meses de experiencia profesional relacionada | N10: 11498987 | O10: 13074466
K11: Profesionales 5 | L11: Título profesional con Título de Postgrado en modalidad especialización | M11: 31 y 40 meses de experiencia profesional relacionada | N11: 9147014 | O11: 11498986
K12: Profesionales 4 | L12: Título profesional con Título de Postgrado en modalidad especialización | M12: 19 y 30 meses de experiencia profesional relacionada | N12: 6950519 | O12: 9147012
K13: Profesionales 3 | L13: Título profesional con Título de Postgrado en modalidad especialización | M13: 7 y 18 meses de experiencia profesional relacionada | N13: 5038809 | O13: 6950518
K14: Profesionales 2 | L14: Título profesional | M14: 12 y 24 meses de experiencia profesional relacionada | N14: 4258975 | O14: 5038808
K15: Profesionales 1 | L15: Título profesional | M15: 0 y 11 meses de experiencia profesional relacionada | N15: 3870536 | O15: 4258974
K16: Técnicos 2 | L16: Título de Formación Tecnologica o Aprobación de tres (3) años de educación superior en la modalidad de formación tecnológica o profesional o universitaria | M16: Entre 0 y 6 meses de experiencia relacionada o laboral o entre 10 y 16 meses de experiencia relacionada o laboral | N16: 3083574 | O16: 3870535
K17: Técnicos 1 | L17: Título de Formación Técnica o Aprobación de tres (3) años de educación superior en la modalidad de formación tecnológica o profesional o universitaria | M17: Entre 3 y 6 meses de experiencia relacionada o laboral o entre 6 y 9 meses de experiencia relacionada o laboral | N17: 2516162 | O17: 3083573
K18: Asistenciales 2 | L18: Aprobación de 2 años de educación superior de pregrado | M18: 6 meses de experiencia relacionada o laboral | N18: 2306332 | O18: 2516161
K19: Asistenciales 1 | L19: Diploma bachiller | M19: 0 meses de experiencia relacionada o laboral | N19: 2306330 | O19: 2306330

Sheet 1.3 Fuentes_Personal
B2: OTROS PROCESOS
D3: =LOWER(D5) -> circular no. 45 del 09 dic 2024 - tabla de honorarios de la agencia nacional de tierras vigencia 2025
B4: IDENTIFICACION | C4: ENTIDAD | D4: PROCESO | H4: LINK
B5: 1 | C5: AGENCIA NACIONAL DE TIERRAS -ANT | D5: Circular No. 45 del 09 Dic 2024 - Tabla de honorarios de la Agencia Nacional de Tierras Vigencia 2025 | H5: https://www.ant.gov.co/sites/default/files/2025-04/documentos/archivos/circular-ndeg-45-tabla-de-honorarios-2024_0.pdf
I10: CATEGORIA | J10: NIVEL | K10: HONORARIOS | L10: REQUISITOS
I11: Doctor | J11: I | K11: 18486505
I12: Magister | J12: V | K12: 17574599
I13: Magister | J13: IV | K13: 16184636
I14: Magister | J14: III | K14: 11887474
I15: Magister | J15: II | K15: 10323011
I16: Magister | J16: I | K16: 9817721
I17: Profesional Especializado | J17: IV | K17: 8983718
I18: Profesional Especializado | J18: III | K18: 8384320
I19: Profesional Especializado | J19: II | K19: 7382437
I20: Profesional Especializado | J20: I | K20: 7018716
I21: Profesional | J21: IV | K21: 6510019
I22: Profesional | J22: III | K22: 5888196
... I33: Asistencial | J33: I | K33: 1735441
C38: EQUIVALENCIAS
B59: IDENTIFICACION | C59: ENTIDAD | D59: PROCESO | E59: CONTRATISTA | F59: AÑO | G59: MES FIRMA CONTRATO | H59: LINK
B60: 2 | C60: Ministerio de Justicia | D60: MJD-CD-627-2024 ONIC | E60: ONIC | F60: 2024 | G60: Agosto | H60: https://community.secop.gov.co/Public/Tendering/OpportunityDetail/Index?noticeUID=CO1.NTC.6519283
B63: # | C63: Descripción | D63: Cantidad | E63: Valor/mes | F63: Meses | G63: Valor total | H63: Perfil personal/Descripción Servicio o Bien | J63: Funciones | M63: ACTUALIZACION DE PRECIOS
B64: 1 | C64: EQUIPO POLÍTICO NACIONAL | M64: Valor mensual actualizado
B65: 1.6 | C65: Profesional Jurídico | D65: 7 | E65: 6357142.9 | F65: 3 | G65: 1.335e+08 | H65: Profesional en Derecho, indígena o no, con título universitario y mínimo dos (2) años de experiencia en diseño, implementación y evaluación de políticas públicas. Deberá destacar en habilidades sólidas de coordinación y comunicación con organizaciones indígenas, especialmente aquellas vinculadas a la MPC. Se valorarán positivamente conocimientos en enfoques diferenciales, así como excelentes capacidades comunicativas, relaciones interculturales y profesionales. Es esencial que destaque en análisis, redacción escrita y expresión oral. Este perfil será fundamental para garantizar el éxito y la eficacia en el diseño e implementación de políticas públicas inclusivas y respetuosas de la diversidad cultural. | J65: 1) Realizar análisis detallados de la legislación relevante, jurisprudencia y regulaciones aplicables al proyecto, identificando posibles implicaciones legales, 2) Colaborar en debates internos y reuniones relacionadas con la política del proyecto, aportando perspectivas jurídicas y contribuyendo a la toma de decisiones, 3) Brindar asesoramiento jurídico al equipo de proyecto en temas relacionados con la política, asegurando que las acciones estén alineadas con las leyes y regulaciones vigentes, 4) Elaborar documentos legales, contratos y otros documentos sistematizados que respalden la implementación y desarrollo del proyecto, 5) Revisar y editar documentos existentes para garantizar la coherencia legal, claridad y conformidad con los requisitos legales, 6) Realizar análisis de impacto legal para evaluar posibles consecuencias legales de las decisiones y acciones propuestas en el proyecto, 7) Contribuir al desarrollo de políticas internas del proyecto, asegurando que estén alineadas con las normativas legales y éticas, 8) Desarrollar estrategias legales que respalden los objetivos del proyecto, identificando posibles riesgos y proponiendo soluciones, 9) Supervisar y garantizar la conformidad legal en todas las etapas del proyecto, trabajando en estrecha colaboración con el equipo para evitar posibles problemas legales, 10) Realizar revisiones exhaustivas de los documentos jurídicos del proyecto para garantizar su calidad y precisión, 11) Proporcionar capacitación interna sobre cuestiones legales relevantes para aumentar la conciencia y la comprensión dentro del equipo, 12) Colaborar con asesores legales externos cuando sea necesario, asegurando una asesoría legal adicional cuando sea crucial para el proyecto. | M65: =ROUND(E65*(1+$Q$66),0) -> 6962979 | P65: VARIABLE UTILIZADA PARA ACTUALIZACION DE PRECIO
B66: 1.7 | C66: Profesional de Administración Pública | D66: 1 | E66: 6000000 | F66: 3 | G66: 18000000 | H66: Profesional con título en administración pública y al menos dos (2) años de experiencia. Debe destacar en coordinación, comunicación y relación con organizaciones indígenas, especialmente aquellas vinculadas a la Mesa Permanente de Concertación. Experiencia en planificación, monitoreo y evaluación institucional es crucial para este rol. Se valora positivamente conocimientos en enfoques diferenciales. Además, debe demostrar un excelente nivel de análisis y habilidades excepcionales de redacción escrita. Este perfil será esencial para fortalecer la institucionalidad del proyecto y su relación efectiva con las organizaciones indígenas involucradas. | J66: 1) Realizar investigaciones exhaustivas sobre políticas públicas relevantes, identificando tendencias a corto, mediano y largo plazo que puedan fortalecer la arquitectura institucional del Estado en relación con la protección de los derechos de los pueblos indígenas, 2) Colaborar en discusiones estratégicas sobre políticas públicas, aportando perspectivas críticas y evaluando las posibles implicaciones en el proyecto, 3) Mantenerse informado sobre cambios en la política pública y ajustes en la arquitectura institucional, anticipando posibles efectos en el proyecto, 4) Contribuir a la construcción de documentos estratégicos que aborden la relación entre el proyecto y la política pública, proporcionando análisis y recomendaciones, 5) Colaborar en la formulación de propuestas de política que respalden los objetivos del proyecto, teniendo en cuenta los cambios en la política pública, 6) Analizar documentos normativos relevantes para asegurar que la implementación del proyecto esté alineada con las políticas públicas vigentes, 7) Realizar evaluaciones de impacto de las políticas públicas en el proyecto, considerando tanto los aspectos a corto plazo como los efectos a largo plazo, 8) Brindar asesoramiento estratégico al equipo del proyecto sobre cómo adaptarse y beneficiarse de los cambios en la política pública, 9) Contribuir activamente en la toma de decisiones estratégicas, asegurando que se consideren las implicaciones a largo plazo de las políticas públicas, 10) participar en la planificación a largo plazo del proyecto, anticipando cambios en la política pública y ajustando la estrategia en consecuencia. | M66: =ROUND(E66*(1+$Q$66),0) -> 6571800 | P66: SMMLV 2025 | Q66: 0.0953
B67: 1.8 | C67: Profesional en pedagogia | D67: 1 | E67: 6000000 | F67: 3 | G67: 18000000 | H67: Profesional en Ciencias Sociales, indígena o no, con título universitario y al menos dos (2) años de experiencia. Deberá certificar conocimientos en diseño e implementación de metodologías para el trabajo con grupos sociales. Es esencial tener habilidades de coordinación y comunicación con organizaciones indígenas, especialmente aquellas vinculadas a la MPC. Se valorará conocimiento en enfoques diferenciales, excelentes habilidades comunicativas, relaciones interculturales, capacidad analítica, redacción escrita y expresión oral. Se requiere una actitud positiva hacia contenidos humanísticos, interés en la transformación social, desarrollo investigativo y apoyo en el diseño metodológico para procesos archivísticos. Este perfil será fundamental para garantizar un enfoque participativo y respetuoso en la implementación de procesos sociales dentro del proyecto. | J67: 1) Realizar investigaciones detalladas sobre las prácticas culturales y contextos específicos de las autoridades indígenas, identificando métodos de participación culturalmente apropiados para abordar la problemática relacionada con drogas, 2) Desarrollar talleres y dinámicas que fomenten la participación activa de las autoridades indígenas, asegurando que se ajusten a sus preferencias y modos tradicionales de interacción, 3) Integrar métodos participativos tradicionales de las comunidades indígenas en la metodología, respetando sus formas de toma de decisiones y expresión, 4) Colaborar en la creación de materiales de difusión que sean participativos y culturalmente sensibles, utilizando medios visuales, orales y escritos según sea necesario, 5) Facilitar sesiones informativas y participativas para garantizar que la difusión de información sea bidireccional, permitiendo la retroalimentación y preguntas de las autoridades indígenas, 6) Adaptar mensajes de difusión para que sean culturalmente relevantes y respetuosos, asegurando que la información se presente de manera comprensible y significativa, 7) Participar activamente en sesiones de trabajo con autoridades indígenas, utilizando las metodologías construidas para fomentar la contribución significativa, 8) Facilitar procesos participativos para analizar información y resultados del proyecto, involucrando a las autoridades indígenas en la interpretación y evaluación, 9) Cocrear documentos sistematizados junto con las autoridades indígenas, permitiendo su participación en la construcción de narrativas y conclusiones, 10) Recopilar retroalimentación continua sobre la efectividad de las metodologías de participación, ajustándolas según las necesidades y expectativas de las autoridades indígenas, 11) Monitorear el nivel de involucramiento y participación de las autoridades indígenas en las distintas etapas del proyecto, asegurando que sus voces sean debidamente representadas, 12) Colaborar estrechamente con facilitadores culturales locales para asegurar la autenticidad y relevancia cultural de las metodologías y la estrategia de difusión, 13) Realizar sesiones de planificación participativa con autoridades indígenas para adaptar y mejorar constantemente las estrategias de participación y difusión. | M67: =ROUND(E67*(1+$Q$66),0) -> 6571800
B68: 1.9 | C68: Comunicador | D68: 2 | E68: 4000000 | F68: 3 | G68: 24000000 | H68: Comunicador Indígena o no, con experiencia de dos (2) años en manejo de redes sociales, diseño gráfico y con excelente expresión oral y escrita. Se valorará favorablemente pertenecer a un pueblo indígena y manejo de la aplicación del enfoque diferencial y buena disposición para trabajar en equipo. | J68: 1) Crear mensajes que respeten y reflejen la sensibilidad cultural, utilizando un lenguaje apropiado y evitando la apropiación cultural, 2) Utilizar medios de comunicación tradicionales, como la oralidad, la narrativa visual y las representaciones artísticas, para llegar de manera efectiva a las comunidades indígenas, 3) Desarrollar un plan estratégico para la difusión que considere los momentos clave del proyecto y los canales de comunicación más efectivos, 4) Adaptar la difusión de información según el tiempo y el contexto cultural, considerando eventos significativos y festividades en las comunidades indígenas, 5) Establecer canales de comunicación bidireccional para permitir que las comunidades indígenas también expresen sus inquietudes y preguntas, 6) Realizar grupos de enfoque y consultas con miembros de la comunidad para entender sus preocupaciones y adaptar la estrategia de difusión en consecuencia 7) Realizar un seguimiento constante de la recepción de la información, ajustando la estrategia de difusión según la retroalimentación y los cambios en la dinámica comunitaria, 8) Evaluar el impacto de la comunicación en las comunidades, midiendo la comprensión, la aceptación y la participación en el proyecto, 9) Asegurarse de obtener el consentimiento informado de las comunidades antes de la difusión de información relacionada con el proyecto, 10) Garantizar la privacidad y confidencialidad de la información sensible, respetando las normas éticas y legales. | M68: =ROUND(E68*(1+$Q$66),0) -> 4381200
B69: 1.10 | C69: Sistematizador (profesional del área social y/o en gestión documental) | D69: 7 | E69: 4600000 | F69: 3 | G69: 96600000 | H69: Profesional, indígena o no, en ciencias sociales o áreas afines, con experiencia mínima de dos (2) años, preferiblemente en trabajo con comunidades y organizaciones indígenas. Debe demostrar buena disposición para el trabajo en equipo, así como excelentes capacidades comunicacionales, relaciones interculturales y profesionales. Un excelente nivel analítico, expresión oral y escrita son fundamentales. Se requiere habilidad en el manejo de herramientas informáticas, incluyendo Excel, Word y PowerPoint, y experiencia en la sistematización de documentos. Este perfil será esencial para asegurar una comunicación efectiva y un enfoque participativo en el trabajo comunitario del proyecto. | J69: 1) Facilitar y participar en ejercicios de sistematización durante eventos clave del proyecto, capturando detalladamente las discusiones, decisiones y aportes de las autoridades indígenas, 2) Realizar transcripciones precisas de entrevistas y reuniones con las autoridades indígenas, asegurando una documentación detallada de sus perspectivas y contribuciones, 3) Utilizar medios audiovisuales, cuando sea posible y apropiado, para complementar la captura de información, garantizando la fidelidad de los datos registrados, 4) Organizar la información recopilada en formatos accesibles y comprensibles, estableciendo una estructura lógica para facilitar la sistematización, 5) Analizar la información para identificar temas clave, patrones y tendencias que puedan ser relevantes para el análisis de las autoridades indígenas, 6) Elaborar reportes parciales durante diferentes fases del proyecto, proporcionando actualizaciones y resúmenes que contribuyan al análisis continuo, 7) Colaborar con el equipo en la redacción de documentos finales sistematizados, integrando la información recopilada de manera coherente y articulada, 8) Revisar y editar documentos para garantizar la precisión, coherencia y claridad en la presentación de resultados y conclusiones, 9) Asegurar que los documentos finales reflejen fielmente las perspectivas y voces de las autoridades indígenas, respetando su contexto cultural y lingüístico, 10) Validar los documentos finales con las autoridades indígenas, solicitando su revisión y aportes para garantizar la exactitud y autenticidad de la representación, 11) Integrar recomendaciones y acciones sugeridas por las autoridades indígenas en los documentos finales, asegurando una presentación completa de sus visiones y propuestas, 12) Facilitar sesiones de retroalimentación con las autoridades indígenas para validar la interpretación de la información y corregir posibles malentendidos, 13) Adaptar la sistematización de acuerdo con los comentarios recibidos durante las sesiones de retroalimentación, garantizando la precisión y relevancia de la información presentada. | M69: =ROUND(E69*(1+$Q$66),0) -> 5038380
B70: 2 | C70: EQUIPO TECNICO ADMINISTRATIVO | M70: =ROUND(E70*(1+$Q$66),0) -> 0
B71: 2.1 | C71: Contador | D71: 1 | E71: 4000000 | F71: 3 | G71: 12000000 | H71: Profesional, indígena o no, con título de pregrado en contabilidad pública y al menos dos (2) años de experiencia. Debe destacar en habilidades de coordinación y poseer capacidad para supervisar procesos contables y realizar un control presupuestal efectivo. Este perfil será crucial para garantizar la integridad y eficiencia en la gestión financiera del proyecto, contribuyendo al éxito y cumplimiento de objetivos. | J71: 1) Establecer y supervisar procesos contables sólidos para todas las transacciones relacionadas con el proyecto, desde la recepción de fondos hasta los pagos y registros, 2) Garantizar la integridad y precisión en los registros financieros, asegurándose de que todas las transacciones sean debidamente documentadas y registradas, 3) Mantenerse actualizado sobre las normativas contables y financieras pertinentes, asegurando el cumplimiento con las regulaciones locales e internacionales, 4) Coordinar y supervisar al equipo contable, asegurando una distribución eficiente de responsabilidades y una comunicación efectiva, 5) Asignar recursos de manera eficiente para cubrir las necesidades contables del proyecto, considerando las cargas de trabajo y las habilidades del equipo, 6) Identificar y gestionar proactivamente los riesgos financieros, implementando controles adecuados para mitigar posibles problemas, 7) Establecer y mantener la segregación de funciones en el equipo contable para prevenir conflictos de interés y fortalecer la transparencia, 8) Generar informes financieros periódicos que proporcionen una visión clara y precisa del estado financiero del proyecto, cumpliendo con los requisitos establecidos, 9) Asegurar que todas las obligaciones contables, como declaraciones fiscales y reportes financieros, se realicen en tiempo y forma de acuerdo con los plazos establecidos, 10) Facilitar y colaborar con auditores externos durante las auditorías periódicas, proporcionando toda la documentación necesaria y asegurando un proceso sin contratiempos. | M71: =ROUND(E71*(1+$Q$66),0) -> 4381200
B72: 2.2 | C72: Auxiliar contable | D72: 1 | E72: 3500000 | F72: 3 | G72: 10500000 | H72: Persona, indígena o no, con título de formación técnica contable y un año de experiencia. Debe demostrar un adecuado manejo de los programas de Office y conocimientos en procesos administrativos y control interno. Experiencia en procesos contables vinculados a la ejecución de proyectos y habilidades en la elaboración de informes contables son esenciales. Además, se requiere capacidad para atender y servir de manera ágil, amable y eficaz las solicitudes de organizaciones de la MPC y el Gobierno Nacional. Debe contar con conocimientos en la realización de inventarios y control de recursos como materiales, mobiliario, equipos de oficina, suministros y papelería asignados. La colaboración continua en otras labores asignadas es un aspecto clave para este rol. | J72: 1) Mantener una comunicación abierta y continua con el equipo contable para comprender las necesidades específicas del convenio y los procedimientos establecidos, 2) Colaborar en la coordinación de tareas contables, asegurando que la carga de trabajo se distribuya eficientemente y se cumplan los plazos, 3) Asistir en el registro preciso de transacciones financieras, asegurando la documentación adecuada y la consistencia con los requisitos contables, 4) Revisar documentos financieros para garantizar su precisión y conformidad con las normativas y políticas establecidas, 5) Organizar y mantener la documentación de respaldo necesaria para las transacciones contables, facilitando auditorías internas y externas, 6) Colaborar en la recopilación de información necesaria para la elaboración de informes financieros, asegurando que se incluyan todos los datos relevantes, 7) Asistir en el análisis de datos contables para identificar tendencias, variaciones y cualquier aspecto que requiera atención especial, 8) Contribuir en la preparación de informes financieros parciales, proporcionando actualizaciones periódicas sobre el estado financiero del proyecto, 9) Mantenerse informado sobre las normativas contables y financieras vigentes, asegurando que el equipo esté al tanto de cualquier cambio relevante, 10) Colaborar en la revisión de procesos para garantizar que todas las operaciones contables cumplan con las normativas y requisitos establecidos. | M72: =ROUND(E72*(1+$Q$66),0) -> 3833550
B77: IDENTIFICACION | C77: ENTIDAD | D77: PROCESO | E77: CONTRATISTA | F77: AÑO | G77: MES FIRMA CONTRATO | H77: LINK
B78: 4 | C78: Ministerio de Salud | D78: MSPS-CD-1412-2024 | E78: OPIAC | F78: 2024 | G78: Septiembre | H78: https://community.secop.gov.co/Public/Tendering/OpportunityDetail/Index?noticeUID=CO1.NTC.6636980&isFromPublicArea=True&isModal=true&asPopupView=true
M80: ACTUALIZACION DE PRECIOS
B81: DETALLE | C81: CANTIDAD | D81: UNIDAD DE MEDIDA | E81: # DE PAGOS | F81: VALOR UNITARIO | G81: VALOR TOTAL | H81: DESCRIPCIÓN DEL PERFIL | M81: Valor mensual actualizado
B82: Coordinador General | C82: 1 | D82: Meses | E82: 4 | F82: 9000000 | G82: 36000000 | H82: Profesional en ciencias de la salud o carreras afines, con posgrado en áreas relacionadas con experiencia profesional mínima de (52) meses o Experto indígena en salud propia de preferencia en temas enfocados en SISPI con mínimo (mínimo (76) meses de experiencia laboral en dirección de procesos, convenios y/o proyectos con pueblos indígenas amazónicos certificada por una estructura organizativa indígena. | M82: =ROUND(F82*(1+$Q$66),0) -> 9857700
B83: Profesional Contable | C83: 1 | D83: Meses | E83: 4 | F83: 7500000 | G83: 30000000 | H83: Titulo profesional en contabilidad con especializacion experiencia profesional de (28) meses o Profesional en contabilidad con experiencia profesional mínima de cuatro (52) mes preferiblemente de trabajo con Pueblos Indígenas certificada por una estructura organizativa indígena | M83: =ROUND(F83*(1+$Q$66),0) -> 8214750
B84: Asistente juridico | C84: 1 | D84: Meses | E84: 4 | F84: 5500000 | G84: 22000000 | H84: Profesional en Derecho con posgrado con experiencia profesional mínima de diez (10) meses o Profesional en Derecho preferiblemente indígena con experiencia profesional mínima de (34) meses preferiblemente en trabajo con Pueblos Indígenas certificada por una estructura organizativa indígena. | M84: =ROUND(F84*(1+$Q$66),0) -> 6024150
B85: Apoyo administrativo y logistico | C85: 3 | D85: Meses | E85: 4 | F85: 6000000 | G85: 72000000 | H85: Profesional en áreas administrativas, contables o afines con especialización en áreas afines con experiencia profesional de trece (13) meses con habilidades en desarrollo de espacios comunitarios y logística de eventos, con conocimientos ofimáticos e informática y funciones administrativas de archivo, control, elaboración de correspondencia. Lider indígena de apoyo en áreas administrativas y logísticas con experiencia de (37) meses en desarrollo de espacios comunitarios y logística de eventos, con conocimientos ofimáticos e informática y funciones administrativas de archivo, control, elaboración de correspondencia, certificada por una estructura organizativa indígena. | M85: =ROUND(F85*(1+$Q$66),0) -> 6571800
B86: Profesional Jurídico | C86: 1 | D86: Meses | E86: 4 | F86: 7500000 | G86: 30000000 | H86: Profesional en Derecho con especializacion en areas relacionada con experiencia profesional mínima (28) meses preferiblemente en trabajo con Pueblos Indígenas certificada por una estructura organizativa, o Profesional en Derecho con experiencia profesional minima de 52 meses preferiblemente en trabajo con Pueblos Indígenas certificada por una estructura organizativa indígena. | M86: =ROUND(F86*(1+$Q$66),0) -> 8214750
...

Sheet 2. ALIMENTACIÓN-->

Sheet 2.1 Comparativo_Alimentación
B2: COMPARATIVO ALIMENTACIÓN
B4: PROPUESTA PCA FASE DE PRECONSULTA (ACTIVIDAD No. 5), FASE DE CONSULTA PREVIA (FOROS DEPARTAMENTALES) Y FASE DE PROTOCOLIZACIÓN | E4: VALORES DE REFERENCIA
E5: FUENTE 1 | I5: FUENTE 2 | M5: Promedio de Referencia | N5: Variación
B6: Descripción Alimentación | C6: Valor unitario | E6: Proceso | F6: Equivalencia | G6: Valor Unitario | H6: Variación | I6: Proceso | J6: Equivalencia | K6: Valor Unitario | L6: Variación
B7: Un (1), Refrigerio ancestral matutino (a.m.), orientado a fortalecer el reconocimiento y la valoración de las prácticas alimenticias tradicionales de los pueblos étnicos. El refrigerio incluye productos propios de la cultura ancestral, elaborados con ingredientes autóctonos y bajo técnicas culinarias tradicionales, promoviendo la soberanía alimentaria y el enfoque diferencial e intercultural. | C7: 32000 | E7: ='2.2 Fuentes_Alimentación'!$D$6 -> CD-399-2024. | F7: ='2.2 Fuentes_Alimentación'!B10 -> Refrigerios ancestrales am (Delegados/as y Funcionarios/as) | G7: ='2.2 Fuentes_Alimentación'!M10 -> 35360 | H7: =C7/G7-1 -> -0.095022624 | I7: ='2.2 Fuentes_Alimentación'!$D$18 -> MJD-LP-001-2025 | J7: Refrigerios Especiales 1 | K7: ='2.2 Fuentes_Alimentación'!F22 -> 31736 | L7: =C7/K7-1 -> 0.0083186287 | M7: =ROUND(AVERAGE(G7,K7),0) -> 33548 | N7: =C7/M7-1 -> -0.04614284
B8: Un (1), Almuerzo ancestral completo, preparado con base en recetas, ingredientes y técnicas culinarias propias de los pueblos étnicos, promoviendo el respeto por la diversidad cultural, la soberanía alimentaria y la valoración de los saberes tradicionales en contextos institucionales y pedagógicos. | C8: 70000 | E8: ='2.2 Fuentes_Alimentación'!$D$6 -> CD-399-2024. | F8: ='2.2 Fuentes_Alimentación'!B12 -> Almuerzos ancestrales (Delegados/as y Funcionarios/as) | G8: ='2.2 Fuentes_Alimentación'!M12 -> 70719 | H8: =C8/G8-1 -> -0.010166999 | I8: ='2.2 Fuentes_Alimentación'!$D$18 -> MJD-LP-001-2025 | J8: Almuerzo o cena tipo empresarial | K8: ='2.2 Fuentes_Alimentación'!F27 -> 70924 | L8: =C8/K8-1 -> -0.01302803 | M8: =ROUND(AVERAGE(G8,K8),0) -> 70822 | N8: =C8/M8-1 -> -0.011606563
B9: Un (1), Refrigerio ancestral vespertino (p.m.), compuesto por preparaciones tradicionales de los pueblos étnicos, elaboradas con ingredientes nativos y técnicas culinarias ancestrales. Este servicio busca fortalecer la identidad cultural a través de la alimentación, visibilizando prácticas y saberes gastronómicos propios en el marco de actividades institucionales. | C9: 32000 | E9: ='2.2 Fuentes_Alimentación'!$D$6 -> CD-399-2024. | F9: ='2.2 Fuentes_Alimentación'!B11 -> Refrigerios ancestrales pm (Delegados/as y Funcionarios/as) | G9: ='2.2 Fuentes_Alimentación'!M11 -> 35360 | H9: =C9/G9-1 -> -0.095022624 | I9: ='2.2 Fuentes_Alimentación'!$D$18 -> MJD-LP-001-2025 | J9: Refrigerios Especiales 1 | K9: ='2.2 Fuentes_Alimentación'!F22 -> 31736 | L9: =C9/K9-1 -> 0.0083186287 | M9: =ROUND(AVERAGE(G9,K9),0) -> 33548 | N9: =C9/M9-1 -> -0.04614284
B10: *Para todos los foros departamentales y la etapa de preconsulta, sin importar el lugar y la cantidad de participantes, la propuesta relaciona el mismo valor para cada tipo de comida

Sheet 2.2 Fuentes_Alimentación
B3: OTROS PROCESOS
B5: IDENTIFICACION | C5: ENTIDAD | D5: PROCESO | E5: CONTRATISTA | F5: AÑO | G5: MES FIRMA CONTRATO | H5: LINK
B6: 1 | C6: MINISTERIO DE MINAS Y ENERGIA | D6: CD-399-2024. | E6: ASOCIACION PROYECTO CULTURAL AFRODESCENDIENTE | F6: 2024 | H6: https://community.secop.gov.co/Public/Tendering/OpportunityDetail/Index?noticeUID=CO1.NTC.6749898&isFromPublicArea=True&isModal=true&asPopupView=true
B9: ITEM( Bien o servicios) | C9: Nº De dias/meses | D9: Dias/meses | E9: Costo Unitario | F9: Cantidad | G9: Unidad de medida | H9: IVA | I9: % IVA | J9: Valor Unitario Incluido IVA | K9: Subtotal | L9: Valor Total Incluido IVA | M9: Precio Actualizado | O9: VARIABLE UTILIZADA PARA ACTUALIZACION DE PRECIO | Q9: VARIABLE UTILIZADA PARA ACTUALIZACION DE PRECIO | S9: VARIABLE UTILIZADA PARA ACTUALIZACION DE PRECIO
B10: Refrigerios ancestrales am (Delegados/as y Funcionarios/as) | C10: 2 | D10: Dias | E10: 30000 | F10: 70 | G10: Unidad | H10: =+E10*8% -> 2400 | I10: 0.08 | J10: =+H10+E10 -> 32400 | K10: =+E10*F10*C10 -> 4200000 | L10: =+J10*F10*C10 -> 4536000 | M10: =ROUND(J10*(1+$R$10)*(1+$T$10),0) -> 35360 | O10: IPC Total 2023 | P10: 0.0928 | Q10: IPC Total 2024 | R10: 0.052 | S10: IPC a Junio 2025 | T10: 0.0374
B11: Refrigerios ancestrales pm (Delegados/as y Funcionarios/as) | C11: 2 | D11: Dias | E11: 30000 | F11: 70 | G11: Unidad | H11: =+E11*8% -> 2400 | I11: 0.08 | J11: =+H11+E11 -> 32400 | K11: =+E11*F11*C11 -> 4200000 | L11: =+J11*F11*C11 -> 4536000 | M11: =ROUND(J11*(1+$R$10)*(1+$T$10),0) -> 35360
B12: Almuerzos ancestrales (Delegados/as y Funcionarios/as) | C12: 2 | D12: Dias | E12: 60000 | F12: 70 | G12: Unidad | H12: =+E12*8% -> 4800 | I12: 0.08 | J12: =+H12+E12 -> 64800 | K12: =+E12*F12*C12 -> 8400000 | L12: =+J12*F12*C12 -> 9072000 | M12: =ROUND(J12*(1+$R$10)*(1+$T$10),0) -> 70719
B17: IDENTIFICACION | C17: ENTIDAD | D17: PROCESO | E17: CONTRATISTA | F17: AÑO | G17: MES FIRMA CONTRATO | H17: LINK
B18: 1 | C18: MINISTERIO DE JUSTICIA | D18: MJD-LP-001-2025 | E18: CENTURY | F18: 2025 | H18: https://community.secop.gov.co/Public/Tendering/OpportunityDetail/Index?noticeUID=CO1.NTC.7932794&isFromPublicArea=True&isModal=true&asPopupView=true
C20: Refrigerios Básicos: Producto de panadería (pastel de pollo o pastel de carne o pastel gloria o dedito de queso) + Bebida en caja, empaque en bolsa de papel y servilletas. (Incluido transporte en perímetro urbano).(EL VALOR UNITARIO CORRESPONDE AL VALOR POR PERSONA). * No está permitido el uso de plástico para empaques, los desechables deben ser aptos por acciones amigables con el medio ambiente. | D20: 1 | E20: 26250 | F20: 19819
C21: Refrigerios Básicos con fruta: Producto de panadería (pastel de pollo o pastel de carne o pastel gloria o dedito de queso) + Bebida en caja+ Fruta (mandarina o manzana verde o pera verde), empaque en bolsa de papel y servilletas. (Incluido transporte en perímetro urbano) (EL VALOR UNITARIO CORRESPONDE AL VALOR POR PERSONA). * No está permitido el uso de plástico para empaques, los desechables deben ser aptos por acciones amigables con el medio ambiente. | D21: 1 | E21: 31365 | F21: 23681
C22: Refrigerios Especiales 1: Sánduche de pollo o rosbif en pan baguete de 15 cm , sin lechuga, con vegetales a elección o Wrap de Pollo o carne sin lechuga+ vegetales a elección + Bebida (jugo en botella de vidrio) + Fruta (mandarina o manzana verde o pera verde) + Chocolatina de 6 grs. con empaque en bolsa de papel y servilletas, (Incluido transporte en perímetro Urbano ). * (EL VALOR UNITARIO CORRESPONDE AL VALOR POR PERSONA). * No está permitido el uso de plástico para empaques, los desechables deben ser aptos por acciones amigables con el medio ambiente. | D22: 1 | E22: 42035 | F22: 31736
C23: Desayuno tipo Americano: Café y Té, Jugo de frutas (dos variedades) Pan, tostadas, mermelada, mantequilla, leche, yogurt (mínimo dos variedades) y variedad de cereales (mínimo dos tipos de cereal), jamón (bajo en grasa dos piezas), (Variedad de quesos: emmental, mozarela, cheddar, gouda, provolone, Edam, ((mínimo tres piezas, mínimo dos variedades)). menaje (cristalería, vajilla en cerámica o porcelana) debe incluir, menaje pesado para el servicio y transporte en perímetro urbano ida y regreso. | D23: 1 | E23: 57516 | F23: 43425
C24: Desayuno tipo Brunch: Variedad de Jugos (naranja, mandarina, lulo, maracuyá), canasta de panes y croissants, Tortilla de huevos (de 65 grs. a 100 grs. ,caliente), fruta picada (papaya, melón, fresas de exportación partidas en dos), Bebida Caliente (café con leche, café negro, Té, Aromática, chocolate con leche) queso en rodajas: variedad de quesos: emmental, mozarela, cheddar, gouda, provolone, Edam, ((mínimo tres piezas, mínimo dos variedades)), jamón bajo en grasa (dos piezas), menaje (cristalería y vajilla en cerámica o porcelana, cubertería), samovar Var para mantener la comida caliente (los que sean necesarios),debe incluir menaje pesado (mesas y mantelería para estación de servicio) y transporte en perímetro urbano ida y regreso. | D24: 1 | E24: 71922 | F24: 54301
C25: Almuerzo o cena básico: Entrada, Plato Fuerte, Postre (fruta o chocolatina de 6 grs.), menaje (cristalería y vajilla en cerámica o porcelana, cubertería), menaje pesado (mesas y mantelería para estación de servicio), samovar Var para mantener la comida caliente (los que sean necesarios). Debe incluir transporte en perímetro Urbano ida y regreso. | D25: 1 | E25: 80156 | F25: 60518
C26: Almuerzo o cena para eventos itinerantes: 1 jugo en cajita, 150grs de proteína (pollo, carne o pescado), 100grs de papa, 100grs arroz, 40grs de grano, 1 porción de fruta (papaya, banano, fresas partidas en dos), postre (chocolatina de 6 grs. o brownie), empaque (debe ser ecológico, no se permite acopar o plástico), servilletas, cubiertos desechables biodegradables. Los almuerzos deben ser entregados calientes y debe incluir el transporte en perímetro urbano ida y regreso. | D26: 1 | E26: 70229 | F26: 53023
C27: Almuerzo o cena tipo empresarial: Proteína en entrada, plato fuerte (menú a seleccionar), ensalada (se deben presentar mínimo dos propuestas para elección), jugo y postre. Menaje (cristalería y vajilla en cerámica o porcelana, cubertería), menaje pesado (mesas y mantelería para servicio), debe incluir samovar Var para mantener la comida caliente; (los que sean necesarios) y transporte en perímetro urbano ida y regreso. | D27: 1 | E27: 93939 | F27: 70924
