Workbook
Name Kennedy: upz!$H$2:$H$13
Name Otra: upz!$T$5
Name Suba: upz!$K$2:$K$13
Name Chapinero: upz!$B$2:$B$6
Name Fontibón: upz!$I$2:$I$9
Name RafaelUribe: upz!$R$2:$R$6
Name Usaquén: upz!$A$2:$A$10
Name PuenteAranda: upz!$P$2:$P$6
Name Engativá: upz!$J$2:$J$10
Name N_A: upz!$Z$2
Name Internacional: upz!$Y$2
Name Noaplica: upz!$Z$2
Name Tunjuelito: upz!$F$2:$F$3
Name SantaFe: upz!$C$2:$C$6
Name CiudadBolivar: upz!$S$2:$S$9
Name Distrital: upz!$V$2
Name LosMártires: upz!$N$2:$N$3
Name BarriosUnidos: upz!$L$2:$L$5
Name Usme: upz!$E$2:$E$8
Name SanCristobal: upz!$D$2:$D$6
Name Region: upz!$W$2
Name AntonioNariño: upz!$O$2:$O$3
Name Nacion: upz!$X$2
Name Teusaquillo: upz!$M$2:$M$7
Name Candelaria: upz!$Q$2
Name Sumapaz: upz!$T$2
Name Entidad: upz!$U$2
Name Bosa: upz!$G$2:$G$6

Sheet Respuestas de formulario 4
A1: Marca temporal | B1: Nombre de actividad | C1: Descripción de la actividad | D1: Modalidad de la actividad | E1: Dimensión / Proceso | F1: Programa | G1: LINEA | H1: Tipología actividad | I1: Número de actividades | J1: Fecha de inicio realización | K1: Fecha final realización | L1: Franja horaria | M1: Hora de realización | N1: Enfoque poblacional diferencial | O1: ¿La actividad(es) cuenta con enfoque diferencial étnico? | P1: Actividad proceso a corto plazo | Q1: PLAN INTEGRAL DE ACCIONES AFIRMATIVAS (PIAA) - MEDIANO PLAZO | R1: POLÍTICA PÚBLICA - LARGO PLAZO | S1: PUEBLO ÉTNICAMENTE DIFERENCIAL | T1: Si selecciona pueblo y/o comunidad indígena que se beneficia con el desarrollo de la actividad, seleccione | U1: Forma organizativa de Pueblo Rrom - Gitano al que pertenece en la ciudad | V1: Perspectiva de Género, Mujer, Familia y Generación | W1: Vocación poblacional del público asistente | X1: Lugar del escenario | Y1: Espacio público | Z1: Capacidad / aforo | AA1: Localidad | AB1: UPZ / UPR | AC1: Barrio | AD1: Impacto territorial | AE1: Origen de la iniciativa | AF1: Modalidad de uso del espacio | AG1: Evento gratuito o pago | AH1: Dirección | AI1: Dirección de correo electrónico | AJ1: MES | AK1: APOYO CONCERTADO
A2: 45843.564 | B2: FUNCION ARTISTICA | C2: PRESENTACION ARTISTICA EN EL MARCO DEL 7° FESTIVAL TALENTOS | D2: Presencial | E2: Circulación | F2: Opción 1 | G2: Proyectos locales e interlocales | H2: Presentación artística | I2: 1 | J2: 45849 | K2: 45849 | L2: A.M. | M2: 0.41666667 | N2: Sin enfoque poblacional | O2: No | X2: FUNDACION ESPACIOS DE VIDA | Y2: NO | Z2: 50 | AA2: 8. Kennedy | AB2: 82 | AC2: PATIO BONITO 3 | AD2: Local | AE2: PRIVADO | AF2: ARRENDAMIENTO | AG2: Gratuito | AH2: CARRERA 88 F BIS # 0-63 | AI2: info.espaciosdevida@gmail.com
A3: 45843.573 | B3: TALLER DE MÚSICA | C3: Taller de Música del proceso formativo de la escuela de formación artística Talentos 2025: 27 sesiones, 2 sesiones semanales de 3 horas catedra cada una. | D3: Presencial | E3: Formación | F3: Opción 1 | G3: Proyectos locales e interlocales | H3: Taller | I3: 1 | J3: 45849 | K3: 45948 | L3: P.M. | M3: 0.14583333 | N3: Infancia (6-12 años), Adolescencia (13-17 años) | O3: No | X3: FUNDACION ESPACIOS DE VIDA | Y3: NO | Z3: 20 | AA3: 8. Kennedy | AB3: 82 | AC3: PATIO BONITO 3 | AD3: Local | AE3: PRIVADO | AF3: ARRENDAMIENTO | AG3: Gratuito | AH3: CARRERA 88 F BIS # 0-63 | AI3: info.espaciosdevida@gmail.com
A4: 45843.577 | B4: TALLER DE DANZA | C4: Taller de Danza del proceso formativo de la escuela de formación artística Talentos 2025: 27 sesiones, 2 sesiones semanales de 3 horas catedra cada una. | D4: Presencial | E4: Formación | F4: Opción 1 | G4: Proyectos locales e interlocales | H4: Taller | I4: 1 | J4: 45850 | K4: 45956 | L4: A.M. | M4: 0.33333333 | N4: Infancia (6-12 años), Adolescencia (13-17 años) | O4: No | X4: FUNDACION ESPACIOS DE VIDA | Y4: NO | Z4: 20 | AA4: 8. Kennedy | AB4: 82 | AC4: PATIO BONITO 3 | AD4: Local | AE4: PRIVADO | AF4: ARRENDAMIENTO | AG4: Gratuito | AH4: CARRERA 88 F BIS #0-63 | AI4: info.espaciosdevida@gmail.com
A5: 45843.58 | B5: TALLER DE BALLET | C5: Taller de Ballet del proceso formativo de la escuela de formación artística Talentos 2025: 27 sesiones, 2 sesiones semanales de 3 horas catedra cada una. | D5: Presencial | E5: Formación | F5: Opción 1 | G5: Proyectos locales e interlocales | H5: Taller | I5: 1 | J5: 45850 | K5: 45949 | L5: A.M. | M5: 0.4375 | N5: Infancia (6-12 años), Adolescencia (13-17 años) | O5: No | X5: FUNDACION ESPACIOS DE VIDA | Y5: NO | Z5: 20 | AA5: 8. Kennedy | AB5: 82 | AC5: PATIO BONITO 3 | AD5: Local | AE5: PRIVADO | AF5: ARRENDAMIENTO | AG5: Gratuito | AH5: CARRERA 88 F BIS # 0-63 | AI5: info.espaciosdevida@gmail.com
A6: 45843.582 | B6: TALLER DE AUDIOVISUALES | C6: Taller de Audiovisuales del proceso formativo de la escuela de formación artística Talentos 2025: 27 sesiones, 2 sesiones semanales de 3 horas catedra cada una. | D6: Presencial | E6: Formación | F6: Opción 1 | G6: Proyectos locales e interlocales | H6: Taller | I6: 1 | J6: 45850 | K6: 45955 | L6: P.M. | M6: 0.041666667 | N6: Infancia (6-12 años), Adolescencia (13-17 años) | O6: No | X6: FUNDACION ESPACIOS DE VIDA | Y6: NO | Z6: 20 | AA6: 8. Kennedy | AB6: 82 | AC6: PATIO BONITO 3 | AD6: Local | AE6: PRIVADO | AF6: ARRENDAMIENTO | AG6: Gratuito | AH6: CARRERA 88 F BIS # 0-63 | AI6: info.espaciosdevida@gmail.com
A7: 45843.584 | B7: FUNCIÓN ARTÍSTICA | C7: PRESENTACION ARTISTICA EN EL MARCO DEL 7° FESTIVAL TALENTOS | D7: Presencial | E7: Circulación | F7: Opción 1 | G7: Proyectos locales e interlocales | H7: Presentación artística | I7: 1 | J7: 45850 | K7: 45850 | L7: P.M. | M7: 0.27083333 | N7: Sin enfoque poblacional | O7: No | X7: FUNDACION ESPACIOS DE VIDA | Y7: NO | Z7: 50 | AA7: 8. Kennedy | AB7: 82 | AC7: PATIO BONITO 3 | AD7: Local | AE7: PRIVADO | AF7: ARRENDAMIENTO | AG7: Gratuito | AH7: CARRERA 88 F BIS #0-63 | AI7: info.espaciosdevida@gmail.com
A8: 45843.59 | B8: TALLER DE ARTES PLASTICAS | C8: Taller de Artes Plásticas del proceso formativo de la escuela de formación artística Talentos 2025: 27 sesiones, 2 sesiones semanales de 3 horas catedra cada una. | D8: Presencial | E8: Formación | F8: Opción 1 | G8: Proyectos locales e interlocales | H8: Taller | I8: 1 | J8: 45862 | K8: 45946 | L8: P.M. | M8: 0.14583333 | N8: Infancia (6-12 años), Adolescencia (13-17 años) | O8: No | X8: FUNDACION ESPACIOS DE VIDA | Y8: NO | Z8: 20 | AA8: 8. Kennedy | AB8: 82 | AC8: PATIO BONITO 3 | AD8: Local | AE8: PRIVADO | AF8: ARRENDAMIENTO | AG8: Gratuito | AH8: CARRERA 88 F BIS # 0-63 | AI8: info.espaciosdevida@gmail.com
A9: 45843.597 | B9: FUNCION ARTISTICA | C9: PRESENTACION ARTISTICA EN EL MARCO DEL 7° FESTIVAL TALENTOS | D9: Presencial | E9: Circulación | F9: Opción 1 | G9: Proyectos locales e interlocales | H9: Presentación artística | I9: 1 | J9: 45856 | K9: 45856 | L9: A.M. | M9: 0.41666667 | N9: Sin enfoque poblacional | O9: No | X9: FUNDACION ESPACIOS DE VIDA | Y9: NO | Z9: 50 | AA9: 8. Kennedy | AB9: 82 | AC9: PATIO BONITO 3 | AD9: Local | AE9: PRIVADO | AF9: ARRENDAMIENTO | AG9: Gratuito | AH9: CARRERA 88 F BIS #0-63 | AI9: info.espaciosdevida@gmail.com
A10: 45843.599 | B10: FUNCION ARTISTICA | C10: PRESENTACION ARTISTICA EN EL MARCO DEL 7° FESTIVAL TALENTOS | D10: Presencial | E10: Circulación | F10: Opción 1 | G10: Proyectos locales e interlocales | H10: Presentación artística | I10: 1 | J10: 45857 | K10: 45857 | L10: P.M. | M10: 0.27083333 | N10: Sin enfoque poblacional | O10: No | X10: FUNDACION ESPACIOS DE VIDA | Y10: NO | Z10: 50 | AA10: 8. Kennedy | AB10: 82 | AC10: PATIO BONITO 3 | AD10: Local | AE10: PRIVADO | AF10: ARRENDAMIENTO | AG10: Gratuito | AH10: CARRERA 88 F BIS #0-63 | AI10: info.espaciosdevida@gmail.com
A11: 45843.601 | B11: FUNCION ARTISTICA | C11: PRESENTACION ARTISTICA EN EL MARCO DEL 7° FESTIVAL TALENTOS | D11: Presencial | E11: Circulación | F11: Opción 1 | G11: Proyectos locales e interlocales | H11: Presentación artística | I11: 1 | J11: 45863 | K11: 45863 | L11: A.M. | M11: 0.41666667 | N11: Sin enfoque poblacional | O11: No | X11: FUNDACION ESPACIOS DE VIDA | Y11: NO | Z11: 50 | AA11: 8. Kennedy | AB11: 82 | AC11: PATIO BONITO 3 | AD11: Local | AE11: PRIVADO | AF11: ARRENDAMIENTO | AG11: Gratuito | AH11: CARRERA 88 F BIS #0-63 | AI11: info.espaciosdevida@gmail.com
A12: 45843.604 | B12: FUNCION ARTISTICA | C12: PRESENTACION ARTISTICA EN EL MARCO DEL 7° FESTIVAL TALENTOS | D12: Presencial | E12: Circulación | F12: Opción 1 | G12: Proyectos locales e interlocales | H12: Presentación artística | I12: 1 | J12: 45864 | K12: 45864 | L12: P.M. | M12: 0.27083333 | N12: Sin enfoque poblacional | O12: No | X12: FUNDACION ESPACIOS DE VIDA | Y12: NO | Z12: 50 | AA12: 8. Kennedy | AB12: 82 | AC12: PATIO BONITO 3 | AD12: Local | AE12: PRIVADO | AF12: ARRENDAMIENTO | AG12: Gratuito | AH12: CARRERA 88 F BIS #0-63 | AI12: info.espaciosdevida@gmail.com
A13: 45845.389 | B13: TALLER DE ARTES PLASTICAS | C13: Taller de Artes Plásticas del proceso formativo de la escuela de formación artística Talentos 2025: 27 sesiones, 2 sesiones semanales de 3 horas catedra cada una. | D13: Presencial | E13: Formación | F13: Opción 1 | G13: Proyectos locales e interlocales | H13: Taller | I13: 1 | J13: 45853 | K13: 45946 | L13: P.M. | M13: 0.14583333 | N13: Infancia (6-12 años), Adolescencia (13-17 años) | O13: No | X13: FUNDACION ESPACIOS DE VIDA | Y13: NO | Z13: 20 | AA13: 8. Kennedy | AB13: 82 | AC13: PATIO BONITO 3 | AD13: Local | AE13: PRIVADO | AF13: ARRENDAMIENTO | AG13: Gratuito | AH13: CARRERA 88 F BIS #0-63 | AI13: info.espaciosdevida@gmail.com
... A23: 45869.798 | B23: FUNCION ARTISTICA | C23: PRESENTACION ARTISTICA EN EL MARCO DEL 7° FESTIVAL TALENTOS | D23: Presencial | E23: Circulación | F23: Opción 1 | G23: Proyectos locales e interlocales | H23: Presentación artística | I23: 1 | J23: 45899 | K23: 45899 | L23: P.M. | M23: 0.27083333 | N23: Sin enfoque poblacional | O23: No | X23: FUNDACION ESPACIOS DE VIDA | Y23: NO | Z23: 50 | AA23: 8. Kennedy | AB23: 82 | AC23: PATIO BONITO 3 | AD23: Local | AE23: PRIVADO | AF23: ARRENDAMIENTO | AG23: Gratuito | AH23: CARRERA 88 F BIS #0-63 | AI23: info.espaciosdevida@gmail.com

Sheet ORDEN CRONOLOGICO
A1: =IFERROR(__xludf.DUMMYFUNCTION("QUERY('Respuestas de formulario 4'!A:AJ,""SELECT * ORDER BY J ASC"")"),"Marca temporal") -> Marca temporal | B1: =IFERROR(__xludf.DUMMYFUNCTION("""COMPUTED_VALUE"""),"Nombre de actividad") -> Nombre de actividad | C1: =IFERROR(__xludf.DUMMYFUNCTION("""COMPUTED_VALUE"""),"Descripción de la actividad") -> Descripción de la actividad | D1: =IFERROR(__xludf.DUMMYFUNCTION("""COMPUTED_VALUE"""),"Modalidad de la actividad") -> Modalidad de la actividad | E1: =IFERROR(__xludf.DUMMYFUNCTION("""COMPUTED_VALUE"""),"Dimensión / Proceso") -> Dimensión / Proceso | F1: =IFERROR(__xludf.DUMMYFUNCTION("""COMPUTED_VALUE"""),"Programa") -> Programa | G1: =IFERROR(__xludf.DUMMYFUNCTION("""COMPUTED_VALUE"""),"LINEA") -> LINEA | H1: =IFERROR(__xludf.DUMMYFUNCTION("""COMPUTED_VALUE"""),"Tipología actividad") -> Tipología actividad | I1: =IFERROR(__xludf.DUMMYFUNCTION("""COMPUTED_VALUE"""),"Número de actividades") -> Número de actividades | J1: =IFERROR(__xludf.DUMMYFUNCTION("""COMPUTED_VALUE"""),"Fecha de inicio realización") -> Fecha de inicio realización | K1: =IFERROR(__xludf.DUMMYFUNCTION("""COMPUTED_VALUE"""),"Fecha final realización") -> Fecha final realización | L1: =IFERROR(__xludf.DUMMYFUNCTION("""COMPUTED_VALUE"""),"Franja horaria") -> Franja horaria | M1: =IFERROR(__xludf.DUMMYFUNCTION("""COMPUTED_VALUE"""),"Hora de realización") -> Hora de realización | N1: =IFERROR(__xludf.DUMMYFUNCTION("""COMPUTED_VALUE"""),"Enfoque poblacional diferencial") -> Enfoque poblacional diferencial | O1: =IFERROR(__xludf.DUMMYFUNCTION("""COMPUTED_VALUE"""),"¿La actividad(es) cuenta con enfoque diferencial étnico?") -> ¿La actividad(es) cuenta con enfoque diferencial étnico? | P1: =IFERROR(__xludf.DUMMYFUNCTION("""COMPUTED_VALUE"""),"Actividad proceso a corto plazo") -> Actividad proceso a corto plazo | Q1: =IFERROR(__xludf.DUMMYFUNCTION("""COMPUTED_VALUE"""),"PLAN INTEGRAL DE ACCIONES AFIRMATIVAS (PIAA) - MEDIANO PLAZO") -> PLAN INTEGRAL DE ACCIONES AFIRMATIVAS (PIAA) - MEDIANO PLAZO | R1: =IFERROR(__xludf.DUMMYFUNCTION("""COMPUTED_VALUE"""),"POLÍTICA PÚBLICA - LARGO PLAZO") -> POLÍTICA PÚBLICA - LARGO PLAZO | S1: =IFERROR(__xludf.DUMMYFUNCTION("""COMPUTED_VALUE"""),"PUEBLO ÉTNICAMENTE DIFERENCIAL") -> PUEBLO ÉTNICAMENTE DIFERENCIAL | T1: =IFERROR(__xludf.DUMMYFUNCTION("""COMPUTED_VALUE"""),"Si selecciona pueblo y/o comunidad indígena que se beneficia con el desarrollo de la actividad, seleccione") -> Si selecciona pueblo y/o comunidad indígena que se beneficia con el desarrollo de la actividad, seleccione | U1: =IFERROR(__xludf.DUMMYFUNCTION("""COMPUTED_VALUE"""),"Forma organizativa de Pueblo Rrom - Gitano al que pertenece en la ciudad") -> Forma organizativa de Pueblo Rrom - Gitano al que pertenece en la ciudad | V1: =IFERROR(__xludf.DUMMYFUNCTION("""COMPUTED_VALUE"""),"Perspectiva de Género, Mujer, Familia y Generación") -> Perspectiva de Género, Mujer, Familia y Generación | W1: =IFERROR(__xludf.DUMMYFUNCTION("""COMPUTED_VALUE"""),"Vocación poblacional del público asistente") -> Vocación poblacional del público asistente | X1: =IFERROR(__xludf.DUMMYFUNCTION("""COMPUTED_VALUE"""),"Lugar del escenario") -> Lugar del escenario | Y1: =IFERROR(__xludf.DUMMYFUNCTION("""COMPUTED_VALUE"""),"Espacio público") -> Espacio público | Z1: =IFERROR(__xludf.DUMMYFUNCTION("""COMPUTED_VALUE"""),"Capacidad / aforo") -> Capacidad / aforo | AA1: =IFERROR(__xludf.DUMMYFUNCTION("""COMPUTED_VALUE"""),"Localidad") -> Localidad | AB1: =IFERROR(__xludf.DUMMYFUNCTION("""COMPUTED_VALUE"""),"UPZ / UPR") -> UPZ / UPR | AC1: =IFERROR(__xludf.DUMMYFUNCTION("""COMPUTED_VALUE"""),"Barrio") -> Barrio | AD1: =IFERROR(__xludf.DUMMYFUNCTION("""COMPUTED_VALUE"""),"Impacto territorial") -> Impacto territorial | AE1: =IFERROR(__xludf.DUMMYFUNCTION("""COMPUTED_VALUE"""),"Origen de la iniciativa") -> Origen de la iniciativa | AF1: =IFERROR(__xludf.DUMMYFUNCTION("""COMPUTED_VALUE"""),"Modalidad de uso del espacio") -> Modalidad de uso del espacio | AG1: =IFERROR(__xludf.DUMMYFUNCTION("""COMPUTED_VALUE"""),"Evento gratuito o pago") -> Evento gratuito o pago | AH1: =IFERROR(__xludf.DUMMYFUNCTION("""COMPUTED_VALUE"""),"Dirección") -> Dirección | AI1: =IFERROR(__xludf.DUMMYFUNCTION("""COMPUTED_VALUE"""),"Dirección de correo electrónico") -> Dirección de correo electrónico | AJ1: =IFERROR(__xludf.DUMMYFUNCTION("""COMPUTED_VALUE"""),"MES") -> MES
A2: =IFERROR(__xludf.DUMMYFUNCTION("""COMPUTED_VALUE"""),45843.56422085648) -> 45843.564 | B2: =IFERROR(__xludf.DUMMYFUNCTION("""COMPUTED_VALUE"""),"FUNCION ARTISTICA") -> FUNCION ARTISTICA | C2: =IFERROR(__xludf.DUMMYFUNCTION("""COMPUTED_VALUE"""),"PRESENTACION ARTISTICA EN EL MARCO DEL 7° FESTIVAL TALENTOS") -> PRESENTACION ARTISTICA EN EL MARCO DEL 7° FESTIVAL TALENTOS | D2: =IFERROR(__xludf.DUMMYFUNCTION("""COMPUTED_VALUE"""),"Presencial") -> Presencial | E2: =IFERROR(__xludf.DUMMYFUNCTION("""COMPUTED_VALUE"""),"Circulación") -> Circulación | F2: =IFERROR(__xludf.DUMMYFUNCTION("""COMPUTED_VALUE"""),"Opción 1") -> Opción 1 | G2: =IFERROR(__xludf.DUMMYFUNCTION("""COMPUTED_VALUE"""),"Proyectos locales e interlocales") -> Proyectos locales e interlocales | H2: =IFERROR(__xludf.DUMMYFUNCTION("""COMPUTED_VALUE"""),"Presentación artística") -> Presentación artística | I2: =IFERROR(__xludf.DUMMYFUNCTION("""COMPUTED_VALUE"""),1.0) -> 1 | J2: =IFERROR(__xludf.DUMMYFUNCTION("""COMPUTED_VALUE"""),45849.0) -> 45849 | K2: =IFERROR(__xludf.DUMMYFUNCTION("""COMPUTED_VALUE"""),45849.0) -> 45849 | L2: =IFERROR(__xludf.DUMMYFUNCTION("""COMPUTED_VALUE"""),"A.M.") -> A.M. | M2: =IFERROR(__xludf.DUMMYFUNCTION("""COMPUTED_VALUE"""),0.4166666666678793) -> 0.41666667 | N2: =IFERROR(__xludf.DUMMYFUNCTION("""COMPUTED_VALUE"""),"Sin enfoque poblacional") -> Sin enfoque poblacional | O2: =IFERROR(__xludf.DUMMYFUNCTION("""COMPUTED_VALUE"""),"No") -> No | X2: =IFERROR(__xludf.DUMMYFUNCTION("""COMPUTED_VALUE"""),"FUNDACION ESPACIOS DE VIDA") -> FUNDACION ESPACIOS DE VIDA | Y2: =IFERROR(__xludf.DUMMYFUNCTION("""COMPUTED_VALUE"""),"NO") -> NO | Z2: =IFERROR(__xludf.DUMMYFUNCTION("""COMPUTED_VALUE"""),50.0) -> 50 | AA2: =IFERROR(__xludf.DUMMYFUNCTION("""COMPUTED_VALUE"""),"8. Kennedy") -> 8. Kennedy | AB2: =IFERROR(__xludf.DUMMYFUNCTION("""COMPUTED_VALUE"""),82.0) -> 82 | AC2: =IFERROR(__xludf.DUMMYFUNCTION("""COMPUTED_VALUE"""),"PATIO BONITO 3") -> PATIO BONITO 3 | AD2: =IFERROR(__xludf.DUMMYFUNCTION("""COMPUTED_VALUE"""),"Local") -> Local | AE2: =IFERROR(__xludf.DUMMYFUNCTION("""COMPUTED_VALUE"""),"PRIVADO") -> PRIVADO | AF2: =IFERROR(__xludf.DUMMYFUNCTION("""COMPUTED_VALUE"""),"ARRENDAMIENTO") -> ARRENDAMIENTO | AG2: =IFERROR(__xludf.DUMMYFUNCTION("""COMPUTED_VALUE"""),"Gratuito") -> Gratuito | AH2: =IFERROR(__xludf.DUMMYFUNCTION("""COMPUTED_VALUE"""),"CARRERA 88 F BIS # 0-63") -> CARRERA 88 F BIS # 0-63 | AI2: =IFERROR(__xludf.DUMMYFUNCTION("""COMPUTED_VALUE"""),"info.espaciosdevida@gmail.com") -> info.espaciosdevida@gmail.com
A3: =IFERROR(__xludf.DUMMYFUNCTION("""COMPUTED_VALUE"""),45843.57271814815) -> 45843.573 | B3: =IFERROR(__xludf.DUMMYFUNCTION("""COMPUTED_VALUE"""),"TALLER DE MÚSICA") -> TALLER DE MÚSICA | C3: =IFERROR(__xludf.DUMMYFUNCTION("""COMPUTED_VALUE"""),"Taller de Música del proceso formativo de la escuela de formación artística Talentos 2025: 27 sesiones, 2 sesiones semanales de 3 horas catedra cada una.") -> Taller de Música del proceso formativo de la escuela de formación artística Talentos 2025: 27 sesiones, 2 sesiones semanales de 3 horas catedra cada una. | D3: =IFERROR(__xludf.DUMMYFUNCTION("""COMPUTED_VALUE"""),"Presencial") -> Presencial | E3: =IFERROR(__xludf.DUMMYFUNCTION("""COMPUTED_VALUE"""),"Formación") -> Formación | F3: =IFERROR(__xludf.DUMMYFUNCTION("""COMPUTED_VALUE"""),"Opción 1") -> Opción 1 | G3: =IFERROR(__xludf.DUMMYFUNCTION("""COMPUTED_VALUE"""),"Proyectos locales e interlocales") -> Proyectos locales e interlocales | H3: =IFERROR(__xludf.DUMMYFUNCTION("""COMPUTED_VALUE"""),"Taller") -> Taller | I3: =IFERROR(__xludf.DUMMYFUNCTION("""COMPUTED_VALUE"""),1.0) -> 1 | J3: =IFERROR(__xludf.DUMMYFUNCTION("""COMPUTED_VALUE"""),45849.0) -> 45849 | K3: =IFERROR(__xludf.DUMMYFUNCTION("""COMPUTED_VALUE"""),45948.0) -> 45948 | L3: =IFERROR(__xludf.DUMMYFUNCTION("""COMPUTED_VALUE"""),"P.M.") -> P.M. | M3: =IFERROR(__xludf.DUMMYFUNCTION("""COMPUTED_VALUE"""),0.14583333333212067) -> 0.14583333 | N3: =IFERROR(__xludf.DUMMYFUNCTION("""COMPUTED_VALUE"""),"Infancia (6-12 años), Adolescencia (13-17 años)") -> Infancia (6-12 años), Adolescencia (13-17 años) | O3: =IFERROR(__xludf.DUMMYFUNCTION("""COMPUTED_VALUE"""),"No") -> No | X3: =IFERROR(__xludf.DUMMYFUNCTION("""COMPUTED_VALUE"""),"FUNDACION ESPACIOS DE VIDA") -> FUNDACION ESPACIOS DE VIDA | Y3: =IFERROR(__xludf.DUMMYFUNCTION("""COMPUTED_VALUE"""),"NO") -> NO | Z3: =IFERROR(__xludf.DUMMYFUNCTION("""COMPUTED_VALUE"""),20.0) -> 20 | AA3: =IFERROR(__xludf.DUMMYFUNCTION("""COMPUTED_VALUE"""),"8. Kennedy") -> 8. Kennedy | AB3: =IFERROR(__xludf.DUMMYFUNCTION("""COMPUTED_VALUE"""),82.0) -> 82 | AC3: =IFERROR(__xludf.DUMMYFUNCTION("""COMPUTED_VALUE"""),"PATIO BONITO 3") -> PATIO BONITO 3 | AD3: =IFERROR(__xludf.DUMMYFUNCTION("""COMPUTED_VALUE"""),"Local") -> Local | AE3: =IFERROR(__xludf.DUMMYFUNCTION("""COMPUTED_VALUE"""),"PRIVADO") -> PRIVADO | AF3: =IFERROR(__xludf.DUMMYFUNCTION("""COMPUTED_VALUE"""),"ARRENDAMIENTO") -> ARRENDAMIENTO | AG3: =IFERROR(__xludf.DUMMYFUNCTION("""COMPUTED_VALUE"""),"Gratuito") -> Gratuito | AH3: =IFERROR(__xludf.DUMMYFUNCTION("""COMPUTED_VALUE"""),"CARRERA 88 F BIS # 0-63") -> CARRERA 88 F BIS # 0-63 | AI3: =IFERROR(__xludf.DUMMYFUNCTION("""COMPUTED_VALUE"""),"info.espaciosdevida@gmail.com") -> info.espaciosdevida@gmail.com
A4: =IFERROR(__xludf.DUMMYFUNCTION("""COMPUTED_VALUE"""),45843.57745084491) -> 45843.577 | B4: =IFERROR(__xludf.DUMMYFUNCTION("""COMPUTED_VALUE"""),"TALLER DE DANZA") -> TALLER DE DANZA | C4: =IFERROR(__xludf.DUMMYFUNCTION("""COMPUTED_VALUE"""),"Taller de Danza del proceso formativo de la escuela de formación artística Talentos 2025: 27 sesiones, 2 sesiones semanales de 3 horas catedra cada una.") -> Taller de Danza del proceso formativo de la escuela de formación artística Talentos 2025: 27 sesiones, 2 sesiones semanales de 3 horas catedra cada una. | D4: =IFERROR(__xludf.DUMMYFUNCTION("""COMPUTED_VALUE"""),"Presencial") -> Presencial | E4: =IFERROR(__xludf.DUMMYFUNCTION("""COMPUTED_VALUE"""),"Formación") -> Formación | F4: =IFERROR(__xludf.DUMMYFUNCTION("""COMPUTED_VALUE"""),"Opción 1") -> Opción 1 | G4: =IFERROR(__xludf.DUMMYFUNCTION("""COMPUTED_VALUE"""),"Proyectos locales e interlocales") -> Proyectos locales e interlocales | H4: =IFERROR(__xludf.DUMMYFUNCTION("""COMPUTED_VALUE"""),"Taller") -> Taller | I4: =IFERROR(__xludf.DUMMYFUNCTION("""COMPUTED_VALUE"""),1.0) -> 1 | J4: =IFERROR(__xludf.DUMMYFUNCTION("""COMPUTED_VALUE"""),45850.0) -> 45850 | K4: =IFERROR(__xludf.DUMMYFUNCTION("""COMPUTED_VALUE"""),45956.0) -> 45956 | L4: =IFERROR(__xludf.DUMMYFUNCTION("""COMPUTED_VALUE"""),"A.M.") -> A.M. | M4: =IFERROR(__xludf.DUMMYFUNCTION("""COMPUTED_VALUE"""),0.3333333333321207) -> 0.33333333 | N4: =IFERROR(__xludf.DUMMYFUNCTION("""COMPUTED_VALUE"""),"Infancia (6-12 años), Adolescencia (13-17 años)") -> Infancia (6-12 años), Adolescencia (13-17 años) | O4: =IFERROR(__xludf.DUMMYFUNCTION("""COMPUTED_VALUE"""),"No") -> No | X4: =IFERROR(__xludf.DUMMYFUNCTION("""COMPUTED_VALUE"""),"FUNDACION ESPACIOS DE VIDA") -> FUNDACION ESPACIOS DE VIDA | Y4: =IFERROR(__xludf.DUMMYFUNCTION("""COMPUTED_VALUE"""),"NO") -> NO | Z4: =IFERROR(__xludf.DUMMYFUNCTION("""COMPUTED_VALUE"""),20.0) -> 20 | AA4: =IFERROR(__xludf.DUMMYFUNCTION("""COMPUTED_VALUE"""),"8. Kennedy") -> 8. Kennedy | AB4: =IFERROR(__xludf.DUMMYFUNCTION("""COMPUTED_VALUE"""),82.0) -> 82 | AC4: =IFERROR(__xludf.DUMMYFUNCTION("""COMPUTED_VALUE"""),"PATIO BONITO 3") -> PATIO BONITO 3 | AD4: =IFERROR(__xludf.DUMMYFUNCTION("""COMPUTED_VALUE"""),"Local") -> Local | AE4: =IFERROR(__xludf.DUMMYFUNCTION("""COMPUTED_VALUE"""),"PRIVADO") -> PRIVADO | AF4: =IFERROR(__xludf.DUMMYFUNCTION("""COMPUTED_VALUE"""),"ARRENDAMIENTO") -> ARRENDAMIENTO | AG4: =IFERROR(__xludf.DUMMYFUNCTION("""COMPUTED_VALUE"""),"Gratuito") -> Gratuito | AH4: =IFERROR(__xludf.DUMMYFUNCTION("""COMPUTED_VALUE"""),"CARRERA 88 F BIS #0-63") -> CARRERA 88 F BIS #0-63 | AI4: =IFERROR(__xludf.DUMMYFUNCTION("""COMPUTED_VALUE"""),"info.espaciosdevida@gmail.com") -> info.espaciosdevida@gmail.com
A5: =IFERROR(__xludf.DUMMYFUNCTION("""COMPUTED_VALUE"""),45843.57986243055) -> 45843.58 | B5: =IFERROR(__xludf.DUMMYFUNCTION("""COMPUTED_VALUE"""),"TALLER DE BALLET") -> TALLER DE BALLET | C5: =IFERROR(__xludf.DUMMYFUNCTION("""COMPUTED_VALUE"""),"Taller de Ballet del proceso formativo de la escuela de formación artística Talentos 2025: 27 sesiones, 2 sesiones semanales de 3 horas catedra cada una.") -> Taller de Ballet del proceso formativo de la escuela de formación artística Talentos 2025: 27 sesiones, 2 sesiones semanales de 3 horas catedra cada una. | D5: =IFERROR(__xludf.DUMMYFUNCTION("""COMPUTED_VALUE"""),"Presencial") -> Presencial | E5: =IFERROR(__xludf.DUMMYFUNCTION("""COMPUTED_VALUE"""),"Formación") -> Formación | F5: =IFERROR(__xludf.DUMMYFUNCTION("""COMPUTED_VALUE"""),"Opción 1") -> Opción 1 | G5: =IFERROR(__xludf.DUMMYFUNCTION("""COMPUTED_VALUE"""),"Proyectos locales e interlocales") -> Proyectos locales e interlocales | H5: =IFERROR(__xludf.DUMMYFUNCTION("""COMPUTED_VALUE"""),"Taller") -> Taller | I5: =IFERROR(__xludf.DUMMYFUNCTION("""COMPUTED_VALUE"""),1.0) -> 1 | J5: =IFERROR(__xludf.DUMMYFUNCTION("""COMPUTED_VALUE"""),45850.0) -> 45850 | K5: =IFERROR(__xludf.DUMMYFUNCTION("""COMPUTED_VALUE"""),45949.0) -> 45949 | L5: =IFERROR(__xludf.DUMMYFUNCTION("""COMPUTED_VALUE"""),"A.M.") -> A.M. | M5: =IFERROR(__xludf.DUMMYFUNCTION("""COMPUTED_VALUE"""),0.4375) -> 0.4375 | N5: =IFERROR(__xludf.DUMMYFUNCTION("""COMPUTED_VALUE"""),"Infancia (6-12 años), Adolescencia (13-17 años)") -> Infancia (6-12 años), Adolescencia (13-17 años) | O5: =IFERROR(__xludf.DUMMYFUNCTION("""COMPUTED_VALUE"""),"No") -> No | X5: =IFERROR(__xludf.DUMMYFUNCTION("""COMPUTED_VALUE"""),"FUNDACION ESPACIOS DE VIDA") -> FUNDACION ESPACIOS DE VIDA | Y5: =IFERROR(__xludf.DUMMYFUNCTION("""COMPUTED_VALUE"""),"NO") -> NO | Z5: =IFERROR(__xludf.DUMMYFUNCTION("""COMPUTED_VALUE"""),20.0) -> 20 | AA5: =IFERROR(__xludf.DUMMYFUNCTION("""COMPUTED_VALUE"""),"8. Kennedy") -> 8. Kennedy | AB5: =IFERROR(__xludf.DUMMYFUNCTION("""COMPUTED_VALUE"""),82.0) -> 82 | AC5: =IFERROR(__xludf.DUMMYFUNCTION("""COMPUTED_VALUE"""),"PATIO BONITO 3") -> PATIO BONITO 3 | AD5: =IFERROR(__xludf.DUMMYFUNCTION("""COMPUTED_VALUE"""),"Local") -> Local | AE5: =IFERROR(__xludf.DUMMYFUNCTION("""COMPUTED_VALUE"""),"PRIVADO") -> PRIVADO | AF5: =IFERROR(__xludf.DUMMYFUNCTION("""COMPUTED_VALUE"""),"ARRENDAMIENTO") -> ARRENDAMIENTO | AG5: =IFERROR(__xludf.DUMMYFUNCTION("""COMPUTED_VALUE"""),"Gratuito") -> Gratuito | AH5: =IFERROR(__xludf.DUMMYFUNCTION("""COMPUTED_VALUE"""),"CARRERA 88 F BIS # 0-63") -> CARRERA 88 F BIS # 0-63 | AI5: =IFERROR(__xludf.DUMMYFUNCTION("""COMPUTED_VALUE"""),"info.espaciosdevida@gmail.com") -> info.espaciosdevida@gmail.com
A6: =IFERROR(__xludf.DUMMYFUNCTION("""COMPUTED_VALUE"""),45843.58183516204) -> 45843.582 | B6: =IFERROR(__xludf.DUMMYFUNCTION("""COMPUTED_VALUE"""),"TALLER DE AUDIOVISUALES") -> TALLER DE AUDIOVISUALES | C6: =IFERROR(__xludf.DUMMYFUNCTION("""COMPUTED_VALUE"""),"Taller de Audiovisuales del proceso formativo de la escuela de formación artística Talentos 2025: 27 sesiones, 2 sesiones semanales de 3 horas catedra cada una.") -> Taller de Audiovisuales del proceso formativo de la escuela de formación artística Talentos 2025: 27 sesiones, 2 sesiones semanales de 3 horas catedra cada una. | D6: =IFERROR(__xludf.DUMMYFUNCTION("""COMPUTED_VALUE"""),"Presencial") -> Presencial | E6: =IFERROR(__xludf.DUMMYFUNCTION("""COMPUTED_VALUE"""),"Formación") -> Formación | F6: =IFERROR(__xludf.DUMMYFUNCTION("""COMPUTED_VALUE"""),"Opción 1") -> Opción 1 | G6: =IFERROR(__xludf.DUMMYFUNCTION("""COMPUTED_VALUE"""),"Proyectos locales e interlocales") -> Proyectos locales e interlocales | H6: =IFERROR(__xludf.DUMMYFUNCTION("""COMPUTED_VALUE"""),"Taller") -> Taller | I6: =IFERROR(__xludf.DUMMYFUNCTION("""COMPUTED_VALUE"""),1.0) -> 1 | J6: =IFERROR(__xludf.DUMMYFUNCTION("""COMPUTED_VALUE"""),45850.0) -> 45850 | K6: =IFERROR(__xludf.DUMMYFUNCTION("""COMPUTED_VALUE"""),45955.0) -> 45955 | L6: =IFERROR(__xludf.DUMMYFUNCTION("""COMPUTED_VALUE"""),"P.M.") -> P.M. | M6: =IFERROR(__xludf.DUMMYFUNCTION("""COMPUTED_VALUE"""),0.041666666667879326) -> 0.041666667 | N6: =IFERROR(__xludf.DUMMYFUNCTION("""COMPUTED_VALUE"""),"Infancia (6-12 años), Adolescencia (13-17 años)") -> Infancia (6-12 años), Adolescencia (13-17 años) | O6: =IFERROR(__xludf.DUMMYFUNCTION("""COMPUTED_VALUE"""),"No") -> No | X6: =IFERROR(__xludf.DUMMYFUNCTION("""COMPUTED_VALUE"""),"FUNDACION ESPACIOS DE VIDA") -> FUNDACION ESPACIOS DE VIDA | Y6: =IFERROR(__xludf.DUMMYFUNCTION("""COMPUTED_VALUE"""),"NO") -> NO | Z6: =IFERROR(__xludf.DUMMYFUNCTION("""COMPUTED_VALUE"""),20.0) -> 20 | AA6: =IFERROR(__xludf.DUMMYFUNCTION("""COMPUTED_VALUE"""),"8. Kennedy") -> 8. Kennedy | AB6: =IFERROR(__xludf.DUMMYFUNCTION("""COMPUTED_VALUE"""),82.0) -> 82 | AC6: =IFERROR(__xludf.DUMMYFUNCTION("""COMPUTED_VALUE"""),"PATIO BONITO 3") -> PATIO BONITO 3 | AD6: =IFERROR(__xludf.DUMMYFUNCTION("""COMPUTED_VALUE"""),"Local") -> Local | AE6: =IFERROR(__xludf.DUMMYFUNCTION("""COMPUTED_VALUE"""),"PRIVADO") -> PRIVADO | AF6: =IFERROR(__xludf.DUMMYFUNCTION("""COMPUTED_VALUE"""),"ARRENDAMIENTO") -> ARRENDAMIENTO | AG6: =IFERROR(__xludf.DUMMYFUNCTION("""COMPUTED_VALUE"""),"Gratuito") -> Gratuito | AH6: =IFERROR(__xludf.DUMMYFUNCTION("""COMPUTED_VALUE"""),"CARRERA 88 F BIS # 0-63") -> CARRERA 88 F BIS # 0-63 | AI6: =IFERROR(__xludf.DUMMYFUNCTION("""COMPUTED_VALUE"""),"info.espaciosdevida@gmail.com") -> info.espaciosdevida@gmail.com
A7: =IFERROR(__xludf.DUMMYFUNCTION("""COMPUTED_VALUE"""),45843.58423752315) -> 45843.584 | B7: =IFERROR(__xludf.DUMMYFUNCTION("""COMPUTED_VALUE"""),"FUNCIÓN ARTÍSTICA") -> FUNCIÓN ARTÍSTICA | C7: =IFERROR(__xludf.DUMMYFUNCTION("""COMPUTED_VALUE"""),"PRESENTACION ARTISTICA EN EL MARCO DEL 7° FESTIVAL TALENTOS") -> PRESENTACION ARTISTICA EN EL MARCO DEL 7° FESTIVAL TALENTOS | D7: =IFERROR(__xludf.DUMMYFUNCTION("""COMPUTED_VALUE"""),"Presencial") -> Presencial | E7: =IFERROR(__xludf.DUMMYFUNCTION("""COMPUTED_VALUE"""),"Circulación") -> Circulación | F7: =IFERROR(__xludf.DUMMYFUNCTION("""COMPUTED_VALUE"""),"Opción 1") -> Opción 1 | G7: =IFERROR(__xludf.DUMMYFUNCTION("""COMPUTED_VALUE"""),"Proyectos locales e interlocales") -> Proyectos locales e interlocales | H7: =IFERROR(__xludf.DUMMYFUNCTION("""COMPUTED_VALUE"""),"Presentación artística") -> Presentación artística | I7: =IFERROR(__xludf.DUMMYFUNCTION("""COMPUTED_VALUE"""),1.0) -> 1 | J7: =IFERROR(__xludf.DUMMYFUNCTION("""COMPUTED_VALUE"""),45850.0) -> 45850 | K7: =IFERROR(__xludf.DUMMYFUNCTION("""COMPUTED_VALUE"""),45850.0) -> 45850 | L7: =IFERROR(__xludf.DUMMYFUNCTION("""COMPUTED_VALUE"""),"P.M.") -> P.M. | M7: =IFERROR(__xludf.DUMMYFUNCTION("""COMPUTED_VALUE"""),0.2708333333321207) -> 0.27083333 | N7: =IFERROR(__xludf.DUMMYFUNCTION("""COMPUTED_VALUE"""),"Sin enfoque poblacional") -> Sin enfoque poblacional | O7: =IFERROR(__xludf.DUMMYFUNCTION("""COMPUTED_VALUE"""),"No") -> No | X7: =IFERROR(__xludf.DUMMYFUNCTION("""COMPUTED_VALUE"""),"FUNDACION ESPACIOS DE VIDA") -> FUNDACION ESPACIOS DE VIDA | Y7: =IFERROR(__xludf.DUMMYFUNCTION("""COMPUTED_VALUE"""),"NO") -> NO | Z7: =IFERROR(__xludf.DUMMYFUNCTION("""COMPUTED_VALUE"""),50.0) -> 50 | AA7: =IFERROR(__xludf.DUMMYFUNCTION("""COMPUTED_VALUE"""),"8. Kennedy") -> 8. Kennedy | AB7: =IFERROR(__xludf.DUMMYFUNCTION("""COMPUTED_VALUE"""),82.0) -> 82 | AC7: =IFERROR(__xludf.DUMMYFUNCTION("""COMPUTED_VALUE"""),"PATIO BONITO 3") -> PATIO BONITO 3 | AD7: =IFERROR(__xludf.DUMMYFUNCTION("""COMPUTED_VALUE"""),"Local") -> Local | AE7: =IFERROR(__xludf.DUMMYFUNCTION("""COMPUTED_VALUE"""),"PRIVADO") -> PRIVADO | AF7: =IFERROR(__xludf.DUMMYFUNCTION("""COMPUTED_VALUE"""),"ARRENDAMIENTO") -> ARRENDAMIENTO | AG7: =IFERROR(__xludf.DUMMYFUNCTION("""COMPUTED_VALUE"""),"Gratuito") -> Gratuito | AH7: =IFERROR(__xludf.DUMMYFUNCTION("""COMPUTED_VALUE"""),"CARRERA 88 F BIS #0-63") -> CARRERA 88 F BIS #0-63 | AI7: =IFERROR(__xludf.DUMMYFUNCTION("""COMPUTED_VALUE"""),"info.espaciosdevida@gmail.com") -> info.espaciosdevida@gmail.com
A8: =IFERROR(__xludf.DUMMYFUNCTION("""COMPUTED_VALUE"""),45845.389158819446) -> 45845.389 | B8: =IFERROR(__xludf.DUMMYFUNCTION("""COMPUTED_VALUE"""),"TALLER DE ARTES PLASTICAS") -> TALLER DE ARTES PLASTICAS | C8: =IFERROR(__xludf.DUMMYFUNCTION("""COMPUTED_VALUE"""),"Taller de Artes Plásticas del proceso formativo de la escuela de formación artística Talentos 2025: 27 sesiones, 2 sesiones semanales de 3 horas catedra cada una.") -> Taller de Artes Plásticas del proceso formativo de la escuela de formación artística Talentos 2025: 27 sesiones, 2 sesiones semanales de 3 horas catedra cada una. | D8: =IFERROR(__xludf.DUMMYFUNCTION("""COMPUTED_VALUE"""),"Presencial") -> Presencial | E8: =IFERROR(__xludf.DUMMYFUNCTION("""COMPUTED_VALUE"""),"Formación") -> Formación | F8: =IFERROR(__xludf.DUMMYFUNCTION("""COMPUTED_VALUE"""),"Opción 1") -> Opción 1 | G8: =IFERROR(__xludf.DUMMYFUNCTION("""COMPUTED_VALUE"""),"Proyectos locales e interlocales") -> Proyectos locales e interlocales | H8: =IFERROR(__xludf.DUMMYFUNCTION("""COMPUTED_VALUE"""),"Taller") -> Taller | I8: =IFERROR(__xludf.DUMMYFUNCTION("""COMPUTED_VALUE"""),1.0) -> 1 | J8: =IFERROR(__xludf.DUMMYFUNCTION("""COMPUTED_VALUE"""),45853.0) -> 45853 | K8: =IFERROR(__xludf.DUMMYFUNCTION("""COMPUTED_VALUE"""),45946.0) -> 45946 | L8: =IFERROR(__xludf.DUMMYFUNCTION("""COMPUTED_VALUE"""),"P.M.") -> P.M. | M8: =IFERROR(__xludf.DUMMYFUNCTION("""COMPUTED_VALUE"""),0.14583333333212067) -> 0.14583333 | N8: =IFERROR(__xludf.DUMMYFUNCTION("""COMPUTED_VALUE"""),"Infancia (6-12 años), Adolescencia (13-17 años)") -> Infancia (6-12 años), Adolescencia (13-17 años) | O8: =IFERROR(__xludf.DUMMYFUNCTION("""COMPUTED_VALUE"""),"No") -> No | X8: =IFERROR(__xludf.DUMMYFUNCTION("""COMPUTED_VALUE"""),"FUNDACION ESPACIOS DE VIDA") -> FUNDACION ESPACIOS DE VIDA | Y8: =IFERROR(__xludf.DUMMYFUNCTION("""COMPUTED_VALUE"""),"NO") -> NO | Z8: =IFERROR(__xludf.DUMMYFUNCTION("""COMPUTED_VALUE"""),20.0) -> 20 | AA8: =IFERROR(__xludf.DUMMYFUNCTION("""COMPUTED_VALUE"""),"8. Kennedy") -> 8. Kennedy | AB8: =IFERROR(__xludf.DUMMYFUNCTION("""COMPUTED_VALUE"""),82.0) -> 82 | AC8: =IFERROR(__xludf.DUMMYFUNCTION("""COMPUTED_VALUE"""),"PATIO BONITO 3") -> PATIO BONITO 3 | AD8: =IFERROR(__xludf.DUMMYFUNCTION("""COMPUTED_VALUE"""),"Local") -> Local | AE8: =IFERROR(__xludf.DUMMYFUNCTION("""COMPUTED_VALUE"""),"PRIVADO") -> PRIVADO | AF8: =IFERROR(__xludf.DUMMYFUNCTION("""COMPUTED_VALUE"""),"ARRENDAMIENTO") -> ARRENDAMIENTO | AG8: =IFERROR(__xludf.DUMMYFUNCTION("""COMPUTED_VALUE"""),"Gratuito") -> Gratuito | AH8: =IFERROR(__xludf.DUMMYFUNCTION("""COMPUTED_VALUE"""),"CARRERA 88 F BIS #0-63") -> CARRERA 88 F BIS #0-63 | AI8: =IFERROR(__xludf.DUMMYFUNCTION("""COMPUTED_VALUE"""),"info.espaciosdevida@gmail.com") -> info.espaciosdevida@gmail.com
A9: =IFERROR(__xludf.DUMMYFUNCTION("""COMPUTED_VALUE"""),45843.596891284724) -> 45843.597 | B9: =IFERROR(__xludf.DUMMYFUNCTION("""COMPUTED_VALUE"""),"FUNCION ARTISTICA") -> FUNCION ARTISTICA | C9: =IFERROR(__xludf.DUMMYFUNCTION("""COMPUTED_VALUE"""),"PRESENTACION ARTISTICA EN EL MARCO DEL 7° FESTIVAL TALENTOS") -> PRESENTACION ARTISTICA EN EL MARCO DEL 7° FESTIVAL TALENTOS | D9: =IFERROR(__xludf.DUMMYFUNCTION("""COMPUTED_VALUE"""),"Presencial") -> Presencial | E9: =IFERROR(__xludf.DUMMYFUNCTION("""COMPUTED_VALUE"""),"Circulación") -> Circulación | F9: =IFERROR(__xludf.DUMMYFUNCTION("""COMPUTED_VALUE"""),"Opción 1") -> Opción 1 | G9: =IFERROR(__xludf.DUMMYFUNCTION("""COMPUTED_VALUE"""),"Proyectos locales e interlocales") -> Proyectos locales e interlocales | H9: =IFERROR(__xludf.DUMMYFUNCTION("""COMPUTED_VALUE"""),"Presentación artística") -> Presentación artística | I9: =IFERROR(__xludf.DUMMYFUNCTION("""COMPUTED_VALUE"""),1.0) -> 1 | J9: =IFERROR(__xludf.DUMMYFUNCTION("""COMPUTED_VALUE"""),45856.0) -> 45856 | K9: =IFERROR(__xludf.DUMMYFUNCTION("""COMPUTED_VALUE"""),45856.0) -> 45856 | L9: =IFERROR(__xludf.DUMMYFUNCTION("""COMPUTED_VALUE"""),"A.M.") -> A.M. | M9: =IFERROR(__xludf.DUMMYFUNCTION("""COMPUTED_VALUE"""),0.4166666666678793) -> 0.41666667 | N9: =IFERROR(__xludf.DUMMYFUNCTION("""COMPUTED_VALUE"""),"Sin enfoque poblacional") -> Sin enfoque poblacional | O9: =IFERROR(__xludf.DUMMYFUNCTION("""COMPUTED_VALUE"""),"No") -> No | X9: =IFERROR(__xludf.DUMMYFUNCTION("""COMPUTED_VALUE"""),"FUNDACION ESPACIOS DE VIDA") -> FUNDACION ESPACIOS DE VIDA | Y9: =IFERROR(__xludf.DUMMYFUNCTION("""COMPUTED_VALUE"""),"NO") -> NO | Z9: =IFERROR(__xludf.DUMMYFUNCTION("""COMPUTED_VALUE"""),50.0) -> 50 | AA9: =IFERROR(__xludf.DUMMYFUNCTION("""COMPUTED_VALUE"""),"8. Kennedy") -> 8. Kennedy | AB9: =IFERROR(__xludf.DUMMYFUNCTION("""COMPUTED_VALUE"""),82.0) -> 82 | AC9: =IFERROR(__xludf.DUMMYFUNCTION("""COMPUTED_VALUE"""),"PATIO BONITO 3") -> PATIO BONITO 3 | AD9: =IFERROR(__xludf.DUMMYFUNCTION("""COMPUTED_VALUE"""),"Local") -> Local | AE9: =IFERROR(__xludf.DUMMYFUNCTION("""COMPUTED_VALUE"""),"PRIVADO") -> PRIVADO | AF9: =IFERROR(__xludf.DUMMYFUNCTION("""COMPUTED_VALUE"""),"ARRENDAMIENTO") -> ARRENDAMIENTO | AG9: =IFERROR(__xludf.DUMMYFUNCTION("""COMPUTED_VALUE"""),"Gratuito") -> Gratuito | AH9: =IFERROR(__xludf.DUMMYFUNCTION("""COMPUTED_VALUE"""),"CARRERA 88 F BIS #0-63") -> CARRERA 88 F BIS #0-63 | AI9: =IFERROR(__xludf.DUMMYFUNCTION("""COMPUTED_VALUE"""),"info.espaciosdevida@gmail.com") -> info.espaciosdevida@gmail.com
A10: =IFERROR(__xludf.DUMMYFUNCTION("""COMPUTED_VALUE"""),45843.59893453704) -> 45843.599 | B10: =IFERROR(__xludf.DUMMYFUNCTION("""COMPUTED_VALUE"""),"FUNCION ARTISTICA") -> FUNCION ARTISTICA | C10: =IFERROR(__xludf.DUMMYFUNCTION("""COMPUTED_VALUE"""),"PRESENTACION ARTISTICA EN EL MARCO DEL 7° FESTIVAL TALENTOS") -> PRESENTACION ARTISTICA EN EL MARCO DEL 7° FESTIVAL TALENTOS | D10: =IFERROR(__xludf.DUMMYFUNCTION("""COMPUTED_VALUE"""),"Presencial") -> Presencial | E10: =IFERROR(__xludf.DUMMYFUNCTION("""COMPUTED_VALUE"""),"Circulación") -> Circulación | F10: =IFERROR(__xludf.DUMMYFUNCTION("""COMPUTED_VALUE"""),"Opción 1") -> Opción 1 | G10: =IFERROR(__xludf.DUMMYFUNCTION("""COMPUTED_VALUE"""),"Proyectos locales e interlocales") -> Proyectos locales e interlocales | H10: =IFERROR(__xludf.DUMMYFUNCTION("""COMPUTED_VALUE"""),"Presentación artística") -> Presentación artística | I10: =IFERROR(__xludf.DUMMYFUNCTION("""COMPUTED_VALUE"""),1.0) -> 1 | J10: =IFERROR(__xludf.DUMMYFUNCTION("""COMPUTED_VALUE"""),45857.0) -> 45857 | K10: =IFERROR(__xludf.DUMMYFUNCTION("""COMPUTED_VALUE"""),45857.0) -> 45857 | L10: =IFERROR(__xludf.DUMMYFUNCTION("""COMPUTED_VALUE"""),"P.M.") -> P.M. | M10: =IFERROR(__xludf.DUMMYFUNCTION("""COMPUTED_VALUE"""),0.2708333333321207) -> 0.27083333 | N10: =IFERROR(__xludf.DUMMYFUNCTION("""COMPUTED_VALUE"""),"Sin enfoque poblacional") -> Sin enfoque poblacional | O10: =IFERROR(__xludf.DUMMYFUNCTION("""COMPUTED_VALUE"""),"No") -> No | X10: =IFERROR(__xludf.DUMMYFUNCTION("""COMPUTED_VALUE"""),"FUNDACION ESPACIOS DE VIDA") -> FUNDACION ESPACIOS DE VIDA | Y10: =IFERROR(__xludf.DUMMYFUNCTION("""COMPUTED_VALUE"""),"NO") -> NO | Z10: =IFERROR(__xludf.DUMMYFUNCTION("""COMPUTED_VALUE"""),50.0) -> 50 | AA10: =IFERROR(__xludf.DUMMYFUNCTION("""COMPUTED_VALUE"""),"8. Kennedy") -> 8. Kennedy | AB10: =IFERROR(__xludf.DUMMYFUNCTION("""COMPUTED_VALUE"""),82.0) -> 82 | AC10: =IFERROR(__xludf.DUMMYFUNCTION("""COMPUTED_VALUE"""),"PATIO BONITO 3") -> PATIO BONITO 3 | AD10: =IFERROR(__xludf.DUMMYFUNCTION("""COMPUTED_VALUE"""),"Local") -> Local | AE10: =IFERROR(__xludf.DUMMYFUNCTION("""COMPUTED_VALUE"""),"PRIVADO") -> PRIVADO | AF10: =IFERROR(__xludf.DUMMYFUNCTION("""COMPUTED_VALUE"""),"ARRENDAMIENTO") -> ARRENDAMIENTO | AG10: =IFERROR(__xludf.DUMMYFUNCTION("""COMPUTED_VALUE"""),"Gratuito") -> Gratuito | AH10: =IFERROR(__xludf.DUMMYFUNCTION("""COMPUTED_VALUE"""),"CARRERA 88 F BIS #0-63") -> CARRERA 88 F BIS #0-63 | AI10: =IFERROR(__xludf.DUMMYFUNCTION("""COMPUTED_VALUE"""),"info.espaciosdevida@gmail.com") -> info.espaciosdevida@gmail.com
A11: =IFERROR(__xludf.DUMMYFUNCTION("""COMPUTED_VALUE"""),45843.58974225695) -> 45843.59 | B11: =IFERROR(__xludf.DUMMYFUNCTION("""COMPUTED_VALUE"""),"TALLER DE ARTES PLASTICAS") -> TALLER DE ARTES PLASTICAS | C11: =IFERROR(__xludf.DUMMYFUNCTION("""COMPUTED_VALUE"""),"Taller de Artes Plásticas del proceso formativo de la escuela de formación artística Talentos 2025: 27 sesiones, 2 sesiones semanales de 3 horas catedra cada una.") -> Taller de Artes Plásticas del proceso formativo de la escuela de formación artística Talentos 2025: 27 sesiones, 2 sesiones semanales de 3 horas catedra cada una. | D11: =IFERROR(__xludf.DUMMYFUNCTION("""COMPUTED_VALUE"""),"Presencial") -> Presencial | E11: =IFERROR(__xludf.DUMMYFUNCTION("""COMPUTED_VALUE"""),"Formación") -> Formación | F11: =IFERROR(__xludf.DUMMYFUNCTION("""COMPUTED_VALUE"""),"Opción 1") -> Opción 1 | G11: =IFERROR(__xludf.DUMMYFUNCTION("""COMPUTED_VALUE"""),"Proyectos locales e interlocales") -> Proyectos locales e interlocales | H11: =IFERROR(__xludf.DUMMYFUNCTION("""COMPUTED_VALUE"""),"Taller") -> Taller | I11: =IFERROR(__xludf.DUMMYFUNCTION("""COMPUTED_VALUE"""),1.0) -> 1 | J11: =IFERROR(__xludf.DUMMYFUNCTION("""COMPUTED_VALUE"""),45862.0) -> 45862 | K11: =IFERROR(__xludf.DUMMYFUNCTION("""COMPUTED_VALUE"""),45946.0) -> 45946 | L11: =IFERROR(__xludf.DUMMYFUNCTION("""COMPUTED_VALUE"""),"P.M.") -> P.M. | M11: =IFERROR(__xludf.DUMMYFUNCTION("""COMPUTED_VALUE"""),0.14583333333212067) -> 0.14583333 | N11: =IFERROR(__xludf.DUMMYFUNCTION("""COMPUTED_VALUE"""),"Infancia (6-12 años), Adolescencia (13-17 años)") -> Infancia (6-12 años), Adolescencia (13-17 años) | O11: =IFERROR(__xludf.DUMMYFUNCTION("""COMPUTED_VALUE"""),"No") -> No | X11: =IFERROR(__xludf.DUMMYFUNCTION("""COMPUTED_VALUE"""),"FUNDACION ESPACIOS DE VIDA") -> FUNDACION ESPACIOS DE VIDA | Y11: =IFERROR(__xludf.DUMMYFUNCTION("""COMPUTED_VALUE"""),"NO") -> NO | Z11: =IFERROR(__xludf.DUMMYFUNCTION("""COMPUTED_VALUE"""),20.0) -> 20 | AA11: =IFERROR(__xludf.DUMMYFUNCTION("""COMPUTED_VALUE"""),"8. Kennedy") -> 8. Kennedy | AB11: =IFERROR(__xludf.DUMMYFUNCTION("""COMPUTED_VALUE"""),82.0) -> 82 | AC11: =IFERROR(__xludf.DUMMYFUNCTION("""COMPUTED_VALUE"""),"PATIO BONITO 3") -> PATIO BONITO 3 | AD11: =IFERROR(__xludf.DUMMYFUNCTION("""COMPUTED_VALUE"""),"Local") -> Local | AE11: =IFERROR(__xludf.DUMMYFUNCTION("""COMPUTED_VALUE"""),"PRIVADO") -> PRIVADO | AF11: =IFERROR(__xludf.DUMMYFUNCTION("""COMPUTED_VALUE"""),"ARRENDAMIENTO") -> ARRENDAMIENTO | AG11: =IFERROR(__xludf.DUMMYFUNCTION("""COMPUTED_VALUE"""),"Gratuito") -> Gratuito | AH11: =IFERROR(__xludf.DUMMYFUNCTION("""COMPUTED_VALUE"""),"CARRERA 88 F BIS # 0-63") -> CARRERA 88 F BIS # 0-63 | AI11: =IFERROR(__xludf.DUMMYFUNCTION("""COMPUTED_VALUE"""),"info.espaciosdevida@gmail.com") -> info.espaciosdevida@gmail.com
A12: =IFERROR(__xludf.DUMMYFUNCTION("""COMPUTED_VALUE"""),45843.60140546296) -> 45843.601 | B12: =IFERROR(__xludf.DUMMYFUNCTION("""COMPUTED_VALUE"""),"FUNCION ARTISTICA") -> FUNCION ARTISTICA | C12: =IFERROR(__xludf.DUMMYFUNCTION("""COMPUTED_VALUE"""),"PRESENTACION ARTISTICA EN EL MARCO DEL 7° FESTIVAL TALENTOS") -> PRESENTACION ARTISTICA EN EL MARCO DEL 7° FESTIVAL TALENTOS | D12: =IFERROR(__xludf.DUMMYFUNCTION("""COMPUTED_VALUE"""),"Presencial") -> Presencial | E12: =IFERROR(__xludf.DUMMYFUNCTION("""COMPUTED_VALUE"""),"Circulación") -> Circulación | F12: =IFERROR(__xludf.DUMMYFUNCTION("""COMPUTED_VALUE"""),"Opción 1") -> Opción 1 | G12: =IFERROR(__xludf.DUMMYFUNCTION("""COMPUTED_VALUE"""),"Proyectos locales e interlocales") -> Proyectos locales e interlocales | H12: =IFERROR(__xludf.DUMMYFUNCTION("""COMPUTED_VALUE"""),"Presentación artística") -> Presentación artística | I12: =IFERROR(__xludf.DUMMYFUNCTION("""COMPUTED_VALUE"""),1.0) -> 1 | J12: =IFERROR(__xludf.DUMMYFUNCTION("""COMPUTED_VALUE"""),45863.0) -> 45863 | K12: =IFERROR(__xludf.DUMMYFUNCTION("""COMPUTED_VALUE"""),45863.0) -> 45863 | L12: =IFERROR(__xludf.DUMMYFUNCTION("""COMPUTED_VALUE"""),"A.M.") -> A.M. | M12: =IFERROR(__xludf.DUMMYFUNCTION("""COMPUTED_VALUE"""),0.4166666666678793) -> 0.41666667 | N12: =IFERROR(__xludf.DUMMYFUNCTION("""COMPUTED_VALUE"""),"Sin enfoque poblacional") -> Sin enfoque poblacional | O12: =IFERROR(__xludf.DUMMYFUNCTION("""COMPUTED_VALUE"""),"No") -> No | X12: =IFERROR(__xludf.DUMMYFUNCTION("""COMPUTED_VALUE"""),"FUNDACION ESPACIOS DE VIDA") -> FUNDACION ESPACIOS DE VIDA | Y12: =IFERROR(__xludf.DUMMYFUNCTION("""COMPUTED_VALUE"""),"NO") -> NO | Z12: =IFERROR(__xludf.DUMMYFUNCTION("""COMPUTED_VALUE"""),50.0) -> 50 | AA12: =IFERROR(__xludf.DUMMYFUNCTION("""COMPUTED_VALUE"""),"8. Kennedy") -> 8. Kennedy | AB12: =IFERROR(__xludf.DUMMYFUNCTION("""COMPUTED_VALUE"""),82.0) -> 82 | AC12: =IFERROR(__xludf.DUMMYFUNCTION("""COMPUTED_VALUE"""),"PATIO BONITO 3") -> PATIO BONITO 3 | AD12: =IFERROR(__xludf.DUMMYFUNCTION("""COMPUTED_VALUE"""),"Local") -> Local | AE12: =IFERROR(__xludf.DUMMYFUNCTION("""COMPUTED_VALUE"""),"PRIVADO") -> PRIVADO | AF12: =IFERROR(__xludf.DUMMYFUNCTION("""COMPUTED_VALUE"""),"ARRENDAMIENTO") -> ARRENDAMIENTO | AG12: =IFERROR(__xludf.DUMMYFUNCTION("""COMPUTED_VALUE"""),"Gratuito") -> Gratuito | AH12: =IFERROR(__xludf.DUMMYFUNCTION("""COMPUTED_VALUE"""),"CARRERA 88 F BIS #0-63") -> CARRERA 88 F BIS #0-63 | AI12: =IFERROR(__xludf.DUMMYFUNCTION("""COMPUTED_VALUE"""),"info.espaciosdevida@gmail.com") -> info.espaciosdevida@gmail.com
A13: =IFERROR(__xludf.DUMMYFUNCTION("""COMPUTED_VALUE"""),45843.60354481482) -> 45843.604 | B13: =IFERROR(__xludf.DUMMYFUNCTION("""COMPUTED_VALUE"""),"FUNCION ARTISTICA") -> FUNCION ARTISTICA | C13: =IFERROR(__xludf.DUMMYFUNCTION("""COMPUTED_VALUE"""),"PRESENTACION ARTISTICA EN EL MARCO DEL 7° FESTIVAL TALENTOS") -> PRESENTACION ARTISTICA EN EL MARCO DEL 7° FESTIVAL TALENTOS | D13: =IFERROR(__xludf.DUMMYFUNCTION("""COMPUTED_VALUE"""),"Presencial") -> Presencial | E13: =IFERROR(__xludf.DUMMYFUNCTION("""COMPUTED_VALUE"""),"Circulación") -> Circulación | F13: =IFERROR(__xludf.DUMMYFUNCTION("""COMPUTED_VALUE"""),"Opción 1") -> Opción 1 | G13: =IFERROR(__xludf.DUMMYFUNCTION("""COMPUTED_VALUE"""),"Proyectos locales e interlocales") -> Proyectos locales e interlocales | H13: =IFERROR(__xludf.DUMMYFUNCTION("""COMPUTED_VALUE"""),"Presentación artística") -> Presentación artística | I13: =IFERROR(__xludf.DUMMYFUNCTION("""COMPUTED_VALUE"""),1.0) -> 1 | J13: =IFERROR(__xludf.DUMMYFUNCTION("""COMPUTED_VALUE"""),45864.0) -> 45864 | K13: =IFERROR(__xludf.DUMMYFUNCTION("""COMPUTED_VALUE"""),45864.0) -> 45864 | L13: =IFERROR(__xludf.DUMMYFUNCTION("""COMPUTED_VALUE"""),"P.M.") -> P.M. | M13: =IFERROR(__xludf.DUMMYFUNCTION("""COMPUTED_VALUE"""),0.2708333333321207) -> 0.27083333 | N13: =IFERROR(__xludf.DUMMYFUNCTION("""COMPUTED_VALUE"""),"Sin enfoque poblacional") -> Sin enfoque poblacional | O13: =IFERROR(__xludf.DUMMYFUNCTION("""COMPUTED_VALUE"""),"No") -> No | X13: =IFERROR(__xludf.DUMMYFUNCTION("""COMPUTED_VALUE"""),"FUNDACION ESPACIOS DE VIDA") -> FUNDACION ESPACIOS DE VIDA | Y13: =IFERROR(__xludf.DUMMYFUNCTION("""COMPUTED_VALUE"""),"NO") -> NO | Z13: =IFERROR(__xludf.DUMMYFUNCTION("""COMPUTED_VALUE"""),50.0) -> 50 | AA13: =IFERROR(__xludf.DUMMYFUNCTION("""COMPUTED_VALUE"""),"8. Kennedy") -> 8. Kennedy | AB13: =IFERROR(__xludf.DUMMYFUNCTION("""COMPUTED_VALUE"""),82.0) -> 82 | AC13: =IFERROR(__xludf.DUMMYFUNCTION("""COMPUTED_VALUE"""),"PATIO BONITO 3") -> PATIO BONITO 3 | AD13: =IFERROR(__xludf.DUMMYFUNCTION("""COMPUTED_VALUE"""),"Local") -> Local | AE13: =IFERROR(__xludf.DUMMYFUNCTION("""COMPUTED_VALUE"""),"PRIVADO") -> PRIVADO | AF13: =IFERROR(__xludf.DUMMYFUNCTION("""COMPUTED_VALUE"""),"ARRENDAMIENTO") -> ARRENDAMIENTO | AG13: =IFERROR(__xludf.DUMMYFUNCTION("""COMPUTED_VALUE"""),"Gratuito") -> Gratuito | AH13: =IFERROR(__xludf.DUMMYFUNCTION("""COMPUTED_VALUE"""),"CARRERA 88 F BIS #0-63") -> CARRERA 88 F BIS #0-63 | AI13: =IFERROR(__xludf.DUMMYFUNCTION("""COMPUTED_VALUE"""),"info.espaciosdevida@gmail.com") -> info.espaciosdevida@gmail.com
A14: =IFERROR(__xludf.DUMMYFUNCTION("""COMPUTED_VALUE"""),45869.75533487269) -> 45869.755 | B14: =IFERROR(__xludf.DUMMYFUNCTION("""COMPUTED_VALUE"""),"FUNCION ARTISTICA") -> FUNCION ARTISTICA | C14: =IFERROR(__xludf.DUMMYFUNCTION("""COMPUTED_VALUE"""),"PRESENTACION ARTISTICA EN EL MARCO DEL 7° FESTIVAL TALENTOS") -> PRESENTACION ARTISTICA EN EL MARCO DEL 7° FESTIVAL TALENTOS | D14: =IFERROR(__xludf.DUMMYFUNCTION("""COMPUTED_VALUE"""),"Presencial") -> Presencial | E14: =IFERROR(__xludf.DUMMYFUNCTION("""COMPUTED_VALUE"""),"Circulación") -> Circulación | F14: =IFERROR(__xludf.DUMMYFUNCTION("""COMPUTED_VALUE"""),"Opción 1") -> Opción 1 | G14: =IFERROR(__xludf.DUMMYFUNCTION("""COMPUTED_VALUE"""),"Proyectos locales e interlocales") -> Proyectos locales e interlocales | H14: =IFERROR(__xludf.DUMMYFUNCTION("""COMPUTED_VALUE"""),"Presentación artística") -> Presentación artística | I14: =IFERROR(__xludf.DUMMYFUNCTION("""COMPUTED_VALUE"""),1.0) -> 1 | J14: =IFERROR(__xludf.DUMMYFUNCTION("""COMPUTED_VALUE"""),45870.0) -> 45870 | K14: =IFERROR(__xludf.DUMMYFUNCTION("""COMPUTED_VALUE"""),45870.0) -> 45870 | L14: =IFERROR(__xludf.DUMMYFUNCTION("""COMPUTED_VALUE"""),"A.M.") -> A.M. | M14: =IFERROR(__xludf.DUMMYFUNCTION("""COMPUTED_VALUE"""),0.4166666666678793) -> 0.41666667 | N14: =IFERROR(__xludf.DUMMYFUNCTION("""COMPUTED_VALUE"""),"Sin enfoque poblacional") -> Sin enfoque poblacional | O14: =IFERROR(__xludf.DUMMYFUNCTION("""COMPUTED_VALUE"""),"No") -> No | X14: =IFERROR(__xludf.DUMMYFUNCTION("""COMPUTED_VALUE"""),"FUNDACION ESPACIOS DE VIDA") -> FUNDACION ESPACIOS DE VIDA | Y14: =IFERROR(__xludf.DUMMYFUNCTION("""COMPUTED_VALUE"""),"NO") -> NO | Z14: =IFERROR(__xludf.DUMMYFUNCTION("""COMPUTED_VALUE"""),50.0) -> 50 | AA14: =IFERROR(__xludf.DUMMYFUNCTION("""COMPUTED_VALUE"""),"8. Kennedy") -> 8. Kennedy | AB14: =IFERROR(__xludf.DUMMYFUNCTION("""COMPUTED_VALUE"""),82.0) -> 82 | AC14: =IFERROR(__xludf.DUMMYFUNCTION("""COMPUTED_VALUE"""),"PATIO BONITO 3") -> PATIO BONITO 3 | AD14: =IFERROR(__xludf.DUMMYFUNCTION("""COMPUTED_VALUE"""),"Local") -> Local | AE14: =IFERROR(__xludf.DUMMYFUNCTION("""COMPUTED_VALUE"""),"SECTOR ARTÍSTICO") -> SECTOR ARTÍSTICO | AF14: =IFERROR(__xludf.DUMMYFUNCTION("""COMPUTED_VALUE"""),"ARRENDAMIENTO") -> ARRENDAMIENTO | AG14: =IFERROR(__xludf.DUMMYFUNCTION("""COMPUTED_VALUE"""),"Gratuito") -> Gratuito | AH14: =IFERROR(__xludf.DUMMYFUNCTION("""COMPUTED_VALUE"""),"CARRERA 88 F BIS #0-63") -> CARRERA 88 F BIS #0-63 | AI14: =IFERROR(__xludf.DUMMYFUNCTION("""COMPUTED_VALUE"""),"info.espaciosdevida@gmail.com") -> info.espaciosdevida@gmail.com
A15: =IFERROR(__xludf.DUMMYFUNCTION("""COMPUTED_VALUE"""),45869.7736887037) -> 45869.774 | B15: =IFERROR(__xludf.DUMMYFUNCTION("""COMPUTED_VALUE"""),"FUNCION ARTISTICA") -> FUNCION ARTISTICA | C15: =IFERROR(__xludf.DUMMYFUNCTION("""COMPUTED_VALUE"""),"PRESENTACION ARTISTICA EN EL MARCO DEL 7° FESTIVAL TALENTOS") -> PRESENTACION ARTISTICA EN EL MARCO DEL 7° FESTIVAL TALENTOS | D15: =IFERROR(__xludf.DUMMYFUNCTION("""COMPUTED_VALUE"""),"Presencial") -> Presencial | E15: =IFERROR(__xludf.DUMMYFUNCTION("""COMPUTED_VALUE"""),"Circulación") -> Circulación | F15: =IFERROR(__xludf.DUMMYFUNCTION("""COMPUTED_VALUE"""),"Opción 1") -> Opción 1 | G15: =IFERROR(__xludf.DUMMYFUNCTION("""COMPUTED_VALUE"""),"Proyectos locales e interlocales") -> Proyectos locales e interlocales | H15: =IFERROR(__xludf.DUMMYFUNCTION("""COMPUTED_VALUE"""),"Presentación artística") -> Presentación artística | I15: =IFERROR(__xludf.DUMMYFUNCTION("""COMPUTED_VALUE"""),1.0) -> 1 | J15: =IFERROR(__xludf.DUMMYFUNCTION("""COMPUTED_VALUE"""),45871.0) -> 45871 | K15: =IFERROR(__xludf.DUMMYFUNCTION("""COMPUTED_VALUE"""),45871.0) -> 45871 | L15: =IFERROR(__xludf.DUMMYFUNCTION("""COMPUTED_VALUE"""),"P.M.") -> P.M. | M15: =IFERROR(__xludf.DUMMYFUNCTION("""COMPUTED_VALUE"""),0.2708333333321207) -> 0.27083333 | N15: =IFERROR(__xludf.DUMMYFUNCTION("""COMPUTED_VALUE"""),"Sin enfoque poblacional") -> Sin enfoque poblacional | O15: =IFERROR(__xludf.DUMMYFUNCTION("""COMPUTED_VALUE"""),"No") -> No | X15: =IFERROR(__xludf.DUMMYFUNCTION("""COMPUTED_VALUE"""),"FUNDACION ESPACIOS DE VIDA") -> FUNDACION ESPACIOS DE VIDA | Y15: =IFERROR(__xludf.DUMMYFUNCTION("""COMPUTED_VALUE"""),"NO") -> NO | Z15: =IFERROR(__xludf.DUMMYFUNCTION("""COMPUTED_VALUE"""),50.0) -> 50 | AA15: =IFERROR(__xludf.DUMMYFUNCTION("""COMPUTED_VALUE"""),"8. Kennedy") -> 8. Kennedy | AB15: =IFERROR(__xludf.DUMMYFUNCTION("""COMPUTED_VALUE"""),82.0) -> 82 | AC15: =IFERROR(__xludf.DUMMYFUNCTION("""COMPUTED_VALUE"""),"PATIO BONITO 3") -> PATIO BONITO 3 | AD15: =IFERROR(__xludf.DUMMYFUNCTION("""COMPUTED_VALUE"""),"Local") -> Local | AE15: =IFERROR(__xludf.DUMMYFUNCTION("""COMPUTED_VALUE"""),"PRIVADO") -> PRIVADO | AF15: =IFERROR(__xludf.DUMMYFUNCTION("""COMPUTED_VALUE"""),"ARRENDAMIENTO") -> ARRENDAMIENTO | AG15: =IFERROR(__xludf.DUMMYFUNCTION("""COMPUTED_VALUE"""),"Gratuito") -> Gratuito | AH15: =IFERROR(__xludf.DUMMYFUNCTION("""COMPUTED_VALUE"""),"CARRERA 88 F BIS #0-63") -> CARRERA 88 F BIS #0-63 | AI15: =IFERROR(__xludf.DUMMYFUNCTION("""COMPUTED_VALUE"""),"info.espaciosdevida@gmail.com") -> info.espaciosdevida@gmail.com
A16: =IFERROR(__xludf.DUMMYFUNCTION("""COMPUTED_VALUE"""),45869.7771775) -> 45869.777 | B16: =IFERROR(__xludf.DUMMYFUNCTION("""COMPUTED_VALUE"""),"FUNCION ARTISTICA") -> FUNCION ARTISTICA | C16: =IFERROR(__xludf.DUMMYFUNCTION("""COMPUTED_VALUE"""),"PRESENTACION ARTISTICA EN EL MARCO DEL 7° FESTIVAL TALENTOS") -> PRESENTACION ARTISTICA EN EL MARCO DEL 7° FESTIVAL TALENTOS | D16: =IFERROR(__xludf.DUMMYFUNCTION("""COMPUTED_VALUE"""),"Presencial") -> Presencial | E16: =IFERROR(__xludf.DUMMYFUNCTION("""COMPUTED_VALUE"""),"Circulación") -> Circulación | F16: =IFERROR(__xludf.DUMMYFUNCTION("""COMPUTED_VALUE"""),"Opción 1") -> Opción 1 | G16: =IFERROR(__xludf.DUMMYFUNCTION("""COMPUTED_VALUE"""),"Proyectos locales e interlocales") -> Proyectos locales e interlocales | H16: =IFERROR(__xludf.DUMMYFUNCTION("""COMPUTED_VALUE"""),"Presentación artística") -> Presentación artística | I16: =IFERROR(__xludf.DUMMYFUNCTION("""COMPUTED_VALUE"""),1.0) -> 1 | J16: =IFERROR(__xludf.DUMMYFUNCTION("""COMPUTED_VALUE"""),45877.0) -> 45877 | K16: =IFERROR(__xludf.DUMMYFUNCTION("""COMPUTED_VALUE"""),45877.0) -> 45877 | L16: =IFERROR(__xludf.DUMMYFUNCTION("""COMPUTED_VALUE"""),"A.M.") -> A.M. | M16: =IFERROR(__xludf.DUMMYFUNCTION("""COMPUTED_VALUE"""),0.4166666666678793) -> 0.41666667 | N16: =IFERROR(__xludf.DUMMYFUNCTION("""COMPUTED_VALUE"""),"Sin enfoque poblacional") -> Sin enfoque poblacional | O16: =IFERROR(__xludf.DUMMYFUNCTION("""COMPUTED_VALUE"""),"No") -> No | X16: =IFERROR(__xludf.DUMMYFUNCTION("""COMPUTED_VALUE"""),"FUNDACION ESPACIOS DE VIDA") -> FUNDACION ESPACIOS DE VIDA | Y16: =IFERROR(__xludf.DUMMYFUNCTION("""COMPUTED_VALUE"""),"NO") -> NO | Z16: =IFERROR(__xludf.DUMMYFUNCTION("""COMPUTED_VALUE"""),50.0) -> 50 | AA16: =IFERROR(__xludf.DUMMYFUNCTION("""COMPUTED_VALUE"""),"8. Kennedy") -> 8. Kennedy | AB16: =IFERROR(__xludf.DUMMYFUNCTION("""COMPUTED_VALUE"""),82.0) -> 82 | AC16: =IFERROR(__xludf.DUMMYFUNCTION("""COMPUTED_VALUE"""),"PATIO BONITO 3") -> PATIO BONITO 3 | AD16: =IFERROR(__xludf.DUMMYFUNCTION("""COMPUTED_VALUE"""),"Local") -> Local | AE16: =IFERROR(__xludf.DUMMYFUNCTION("""COMPUTED_VALUE"""),"PRIVADO") -> PRIVADO | AF16: =IFERROR(__xludf.DUMMYFUNCTION("""COMPUTED_VALUE"""),"ARRENDAMIENTO") -> ARRENDAMIENTO | AG16: =IFERROR(__xludf.DUMMYFUNCTION("""COMPUTED_VALUE"""),"Gratuito") -> Gratuito | AH16: =IFERROR(__xludf.DUMMYFUNCTION("""COMPUTED_VALUE"""),"CARRERA 88 F BIS #0-63") -> CARRERA 88 F BIS #0-63 | AI16: =IFERROR(__xludf.DUMMYFUNCTION("""COMPUTED_VALUE"""),"info.espaciosdevida@gmail.com") -> info.espaciosdevida@gmail.com
A17: =IFERROR(__xludf.DUMMYFUNCTION("""COMPUTED_VALUE"""),45869.77973915509) -> 45869.78 | B17: =IFERROR(__xludf.DUMMYFUNCTION("""COMPUTED_VALUE"""),"FUNCION ARTISTICA") -> FUNCION ARTISTICA | C17: =IFERROR(__xludf.DUMMYFUNCTION("""COMPUTED_VALUE"""),"PRESENTACION ARTISTICA EN EL MARCO DEL 7° FESTIVAL TALENTOS") -> PRESENTACION ARTISTICA EN EL MARCO DEL 7° FESTIVAL TALENTOS | D17: =IFERROR(__xludf.DUMMYFUNCTION("""COMPUTED_VALUE"""),"Presencial") -> Presencial | E17: =IFERROR(__xludf.DUMMYFUNCTION("""COMPUTED_VALUE"""),"Circulación") -> Circulación | F17: =IFERROR(__xludf.DUMMYFUNCTION("""COMPUTED_VALUE"""),"Opción 1") -> Opción 1 | G17: =IFERROR(__xludf.DUMMYFUNCTION("""COMPUTED_VALUE"""),"Proyectos locales e interlocales") -> Proyectos locales e interlocales | H17: =IFERROR(__xludf.DUMMYFUNCTION("""COMPUTED_VALUE"""),"Presentación artística") -> Presentación artística | I17: =IFERROR(__xludf.DUMMYFUNCTION("""COMPUTED_VALUE"""),1.0) -> 1 | J17: =IFERROR(__xludf.DUMMYFUNCTION("""COMPUTED_VALUE"""),45878.0) -> 45878 | K17: =IFERROR(__xludf.DUMMYFUNCTION("""COMPUTED_VALUE"""),45878.0) -> 45878 | L17: =IFERROR(__xludf.DUMMYFUNCTION("""COMPUTED_VALUE"""),"P.M.") -> P.M. | M17: =IFERROR(__xludf.DUMMYFUNCTION("""COMPUTED_VALUE"""),0.2708333333321207) -> 0.27083333 | N17: =IFERROR(__xludf.DUMMYFUNCTION("""COMPUTED_VALUE"""),"Sin enfoque poblacional") -> Sin enfoque poblacional | O17: =IFERROR(__xludf.DUMMYFUNCTION("""COMPUTED_VALUE"""),"No") -> No | X17: =IFERROR(__xludf.DUMMYFUNCTION("""COMPUTED_VALUE"""),"FUNDACION ESPACIOS DE VIDA") -> FUNDACION ESPACIOS DE VIDA | Y17: =IFERROR(__xludf.DUMMYFUNCTION("""COMPUTED_VALUE"""),"NO") -> NO | Z17: =IFERROR(__xludf.DUMMYFUNCTION("""COMPUTED_VALUE"""),50.0) -> 50 | AA17: =IFERROR(__xludf.DUMMYFUNCTION("""COMPUTED_VALUE"""),"8. Kennedy") -> 8. Kennedy | AB17: =IFERROR(__xludf.DUMMYFUNCTION("""COMPUTED_VALUE"""),82.0) -> 82 | AC17: =IFERROR(__xludf.DUMMYFUNCTION("""COMPUTED_VALUE"""),"PATIO BONITO 3") -> PATIO BONITO 3 | AD17: =IFERROR(__xludf.DUMMYFUNCTION("""COMPUTED_VALUE"""),"Local") -> Local | AE17: =IFERROR(__xludf.DUMMYFUNCTION("""COMPUTED_VALUE"""),"PRIVADO") -> PRIVADO | AF17: =IFERROR(__xludf.DUMMYFUNCTION("""COMPUTED_VALUE"""),"ARRENDAMIENTO") -> ARRENDAMIENTO | AG17: =IFERROR(__xludf.DUMMYFUNCTION("""COMPUTED_VALUE"""),"Gratuito") -> Gratuito | AH17: =IFERROR(__xludf.DUMMYFUNCTION("""COMPUTED_VALUE"""),"CARRERA 88 F BIS #0-63") -> CARRERA 88 F BIS #0-63 | AI17: =IFERROR(__xludf.DUMMYFUNCTION("""COMPUTED_VALUE"""),"info.espaciosdevida@gmail.com") -> info.espaciosdevida@gmail.com
A18: =IFERROR(__xludf.DUMMYFUNCTION("""COMPUTED_VALUE"""),45869.7830994213) -> 45869.783 | B18: =IFERROR(__xludf.DUMMYFUNCTION("""COMPUTED_VALUE"""),"FUNCION ARTISTICA") -> FUNCION ARTISTICA | C18: =IFERROR(__xludf.DUMMYFUNCTION("""COMPUTED_VALUE"""),"PRESENTACION ARTISTICA EN EL MARCO DEL 7° FESTIVAL TALENTOS") -> PRESENTACION ARTISTICA EN EL MARCO DEL 7° FESTIVAL TALENTOS | D18: =IFERROR(__xludf.DUMMYFUNCTION("""COMPUTED_VALUE"""),"Presencial") -> Presencial | E18: =IFERROR(__xludf.DUMMYFUNCTION("""COMPUTED_VALUE"""),"Circulación") -> Circulación | F18: =IFERROR(__xludf.DUMMYFUNCTION("""COMPUTED_VALUE"""),"Opción 1") -> Opción 1 | G18: =IFERROR(__xludf.DUMMYFUNCTION("""COMPUTED_VALUE"""),"Proyectos locales e interlocales") -> Proyectos locales e interlocales | H18: =IFERROR(__xludf.DUMMYFUNCTION("""COMPUTED_VALUE"""),"Presentación artística") -> Presentación artística | I18: =IFERROR(__xludf.DUMMYFUNCTION("""COMPUTED_VALUE"""),1.0) -> 1 | J18: =IFERROR(__xludf.DUMMYFUNCTION("""COMPUTED_VALUE"""),45884.0) -> 45884 | K18: =IFERROR(__xludf.DUMMYFUNCTION("""COMPUTED_VALUE"""),45884.0) -> 45884 | L18: =IFERROR(__xludf.DUMMYFUNCTION("""COMPUTED_VALUE"""),"A.M.") -> A.M. | M18: =IFERROR(__xludf.DUMMYFUNCTION("""COMPUTED_VALUE"""),0.4166666666678793) -> 0.41666667 | N18: =IFERROR(__xludf.DUMMYFUNCTION("""COMPUTED_VALUE"""),"Sin enfoque poblacional") -> Sin enfoque poblacional | O18: =IFERROR(__xludf.DUMMYFUNCTION("""COMPUTED_VALUE"""),"No") -> No | X18: =IFERROR(__xludf.DUMMYFUNCTION("""COMPUTED_VALUE"""),"FUNDACION ESPACIOS DE VIDA") -> FUNDACION ESPACIOS DE VIDA | Y18: =IFERROR(__xludf.DUMMYFUNCTION("""COMPUTED_VALUE"""),"NO") -> NO | Z18: =IFERROR(__xludf.DUMMYFUNCTION("""COMPUTED_VALUE"""),50.0) -> 50 | AA18: =IFERROR(__xludf.DUMMYFUNCTION("""COMPUTED_VALUE"""),"8. Kennedy") -> 8. Kennedy | AB18: =IFERROR(__xludf.DUMMYFUNCTION("""COMPUTED_VALUE"""),82.0) -> 82 | AC18: =IFERROR(__xludf.DUMMYFUNCTION("""COMPUTED_VALUE"""),"PATIO BONITO 3") -> PATIO BONITO 3 | AD18: =IFERROR(__xludf.DUMMYFUNCTION("""COMPUTED_VALUE"""),"Local") -> Local | AE18: =IFERROR(__xludf.DUMMYFUNCTION("""COMPUTED_VALUE"""),"PRIVADO") -> PRIVADO | AF18: =IFERROR(__xludf.DUMMYFUNCTION("""COMPUTED_VALUE"""),"ARRENDAMIENTO") -> ARRENDAMIENTO | AG18: =IFERROR(__xludf.DUMMYFUNCTION("""COMPUTED_VALUE"""),"Gratuito") -> Gratuito | AH18: =IFERROR(__xludf.DUMMYFUNCTION("""COMPUTED_VALUE"""),"CARRERA 88 F BIS #0-63") -> CARRERA 88 F BIS #0-63 | AI18: =IFERROR(__xludf.DUMMYFUNCTION("""COMPUTED_VALUE"""),"info.espaciosdevida@gmail.com") -> info.espaciosdevida@gmail.com
