Workbook
Name \0: #REF!
Name \00: #REF!
Name \a: #REF!
Name \a: #REF!
Name \a: #REF!
Name \a: #REF!
Name \a: #REF!
Name \a: #REF!
Name \a: #REF!
Name \a: #REF!
Name \a: #REF!
Name \a: #REF!
Name \a: #REF!
Name \a: #REF!
Name \a: #REF!
Name \a: #REF!
Name \a: #REF!
Name \a: #REF!
Name \a: #REF!
Name \a: #REF!
Name \a: #REF!
Name \a: #REF!
Name \a: #REF!
Name \a: #REF!
Name \a: #REF!
Name \a: #REF!
Name \a: #REF!
Name \a: #REF!
Name \a: #REF!
Name \a: #REF!
Name \a: #REF!
Name \AA: [1]LIQUIDACION!#REF!
Name \b: [2]STRSUMM0!#REF!
Name \bb: [2]STRSUMM0!#REF!
Name \E: #REF!
Name \EE: #REF!
Name \G: #REF!
Name \k: '[3]7422CW00'!#REF!
Name \l: [4]STRSUMM0!#REF!
Name \M: #REF!
Name \ñ: '[5]7422CW00'!#REF!
Name \P: #REF!
Name \R: #REF!
Name \s: #REF!
Name \s: #REF!
Name \s: #REF!
Name \s: #REF!
Name \s: #REF!
Name \s: #REF!
Name \s: #REF!
Name \s: #REF!
Name \s: #REF!
Name \s: #REF!
Name \s: #REF!
Name \s: #REF!
Name \s: #REF!
Name \s: #REF!
Name \s: #REF!
Name \s: #REF!
Name \s: #REF!

Sheet PRESUPUESTO4
A1: MUNICIPIO DE NEIVA
A2: OBJETO: MANTENIMIENTO DE LAS INSTALACIONE DEL EDIFICO MUNICIPAL DE LA ALCADIA DE NEIVA
A4: PRESUPUESTO OFICIAL
F6: =+TODAY() -> 45860
A7: ÍTEM | B7: DESCRIPCIÓN | C7: UND | D7: CANTIDAD | E7: PRECIO UNITARIO | F7: VALOR TOTAL DIRECTO | H7: RENDIMIENTOS | I7: EQUIPO | J7: MATREIALES | K7: TRASPORTE | L7: Mno OBRA | M7: TOTAL | N7: AIU | O7: Mno Obra Calificada | P7: dias
A8: 1 | B8: PRIMER PISO
A9: 1.1 | B9: =+ANALISIS66 -> SUMINISTRO Y APLICACION PINTURA VINILICA TIPO I SOBRE MURO , (Incluye sumistro Pintura, lijado y pintura (3manos) sobre muro ) | C9: =+'2.1-7,2-10.1'!$F$7 -> M2 | D9: =175+74 -> 249 | E9: =+'2.1-7,2-10.1'!$H$45 -> 17368 | F9: =E9*D9 -> 4324632 | H9: ='1.2'!$B$54 -> 0 | I9: =D9*'1.2'!$H$16 -> 249000 | J9: =D9*'1.2'!$H$26 -> 5154300 | K9: =D9*'1.2'!$H$33 -> 0 | L9: =D9*'1.2'!$H$43 -> 5079600 | M9: =I9+J9+K9+L9 -> 10482900 | N9: =M9*30% -> 3144870 | O9: =(80000*P9) -> #DIV/0! | P9: =(D9/H9)/8 -> #DIV/0! | Q9: =+D9+D13+D18+D23+D28 -> 1095
A10: 1.2 | B10: =+ANALISIS70 -> PINTURA TIPO I SOBRE PLACA (Incluye sumistro, lijado y pintura sobre Placa o ciel raso) | C10: =+'2.4-10.4'!$F$7 -> M2 | D10: 133 | E10: =+'2.4-10.4'!$H$45 -> 18602 | F10: =E10*D10 -> 2474066 | H10: =#REF! -> #REF! | I10: =D10*#REF! -> #REF! | J10: =D10*#REF! -> #REF! | K10: =D10*#REF! -> #REF! | L10: =D10*#REF! -> #REF! | M10: =I10+J10+K10+L10 -> #REF! | N10: =M10*30% -> #REF! | O10: =(80000*P10) -> #REF! | P10: =(D10/H10)/8 -> #REF! | Q10: =+D10+D14+D19+D24 -> 568
A11: 1.3 | B11: =+ANALISIS71 -> ESTUCO Y RESANE SOBRE MUROS O PLACA (Incluye el suministro, y aplicación estuco mas lijado ) | C11: =+'2.2-7,3-10.2'!$F$7 -> M2 | D11: 200 | E11: =+'2.2-7,3-10.2'!$H$45 -> 12810 | F11: =E11*D11 -> 2562000 | H11: =#REF! -> #REF! | I11: =D11*#REF! -> #REF! | J11: =D11*#REF! -> #REF! | K11: =D11*#REF! -> #REF! | L11: =D11*#REF! -> #REF! | M11: =I11+J11+K11+L11 -> #REF! | N11: =M11*30% -> #REF! | O11: =(80000*P11) -> #REF! | P11: =(D11/H11)/8 -> #REF! | Q11: =+D11+D15+D20+D25+D29 -> 767
A12: 2 | B12: SEGUNDO PISO
A13: 2.1 | B13: =+ANALISIS66 -> SUMINISTRO Y APLICACION PINTURA VINILICA TIPO I SOBRE MURO , (Incluye sumistro Pintura, lijado y pintura (3manos) sobre muro ) | C13: =+'2.1-7,2-10.1'!$F$7 -> M2 | D13: 202 | E13: =+'2.1-7,2-10.1'!$H$45 -> 17368 | F13: =E13*D13 -> 3508336 | H13: ='1.2'!$B$54 -> 0 | I13: =D13*'1.2'!$H$16 -> 202000 | J13: =D13*'1.2'!$H$26 -> 4181400 | K13: =D13*'1.2'!$H$33 -> 0 | L13: =D13*'1.2'!$H$43 -> 4120800 | M13: =I13+J13+K13+L13 -> 8504200 | N13: =M13*30% -> 2551260 | O13: =(80000*P13) -> #DIV/0! | P13: =(D13/H13)/8 -> #DIV/0!
A14: 2.2 | B14: =+ANALISIS70 -> PINTURA TIPO I SOBRE PLACA (Incluye sumistro, lijado y pintura sobre Placa o ciel raso) | C14: =+'2.4-10.4'!$F$7 -> M2 | D14: 172 | E14: =+'2.4-10.4'!$H$45 -> 18602 | F14: =E14*D14 -> 3199544 | H14: =#REF! -> #REF! | I14: =D14*#REF! -> #REF! | J14: =D14*#REF! -> #REF! | K14: =D14*#REF! -> #REF! | L14: =D14*#REF! -> #REF! | M14: =I14+J14+K14+L14 -> #REF! | N14: =M14*30% -> #REF! | O14: =(80000*P14) -> #REF! | P14: =(D14/H14)/8 -> #REF!
A15: 2.2 | B15: =+ANALISIS71 -> ESTUCO Y RESANE SOBRE MUROS O PLACA (Incluye el suministro, y aplicación estuco mas lijado ) | C15: =+'2.2-7,3-10.2'!$F$7 -> M2 | D15: 121 | E15: =+'2.2-7,3-10.2'!$H$45 -> 12810 | F15: =E15*D15 -> 1550010 | H15: =#REF! -> #REF! | I15: =D15*#REF! -> #REF! | J15: =D15*#REF! -> #REF! | K15: =D15*#REF! -> #REF! | L15: =D15*#REF! -> #REF! | M15: =I15+J15+K15+L15 -> #REF! | N15: =M15*30% -> #REF! | O15: =(80000*P15) -> #REF! | P15: =(D15/H15)/8 -> #REF!
A16: 3.2 | B16: =+ANALISIS69 -> SUMINISTRO Y APLICACION PINTURA GUARDAESCOBA (Incluye sumistro Pintura, lijado y pintura sobre muro) | C16: =+'2.3-10.3'!$F$7 -> ML | D16: 102 | E16: =+'2.3-10.3'!$H$45 -> 7411 | F16: =E16*D16 -> 755922
A17: 3 | B17: TERCER PISO
A18: 3.1 | B18: =+ANALISIS66 -> SUMINISTRO Y APLICACION PINTURA VINILICA TIPO I SOBRE MURO , (Incluye sumistro Pintura, lijado y pintura (3manos) sobre muro ) | C18: =+'2.1-7,2-10.1'!$F$7 -> M2 | D18: 256 | E18: =+'2.1-7,2-10.1'!$H$45 -> 17368 | F18: =E18*D18 -> 4446208 | H18: =#REF! -> #REF! | I18: =D18*#REF! -> #REF! | J18: =D18*#REF! -> #REF! | K18: =D18*#REF! -> #REF! | L18: =D18*#REF! -> #REF! | M18: =I18+J18+K18+L18 -> #REF! | N18: =M18*30% -> #REF! | O18: =(80000*P18) -> #REF! | P18: =(D18/H18)/8 -> #REF!
A19: 3.2 | B19: =+ANALISIS70 -> PINTURA TIPO I SOBRE PLACA (Incluye sumistro, lijado y pintura sobre Placa o ciel raso) | C19: =+'2.4-10.4'!$F$7 -> M2 | D19: 119 | E19: =+'2.4-10.4'!$H$45 -> 18602 | F19: =E19*D19 -> 2213638 | H19: =#REF! -> #REF! | I19: =D19*#REF! -> #REF! | J19: =D19*#REF! -> #REF! | K19: =D19*#REF! -> #REF! | L19: =D19*#REF! -> #REF! | M19: =I19+J19+K19+L19 -> #REF! | N19: =M19*30% -> #REF! | O19: =(80000*P19) -> #REF! | P19: =(D19/H19)/8 -> #REF!
A20: 3.3 | B20: =+ANALISIS71 -> ESTUCO Y RESANE SOBRE MUROS O PLACA (Incluye el suministro, y aplicación estuco mas lijado ) | C20: =+'2.2-7,3-10.2'!$F$7 -> M2 | D20: 180 | E20: =+'2.2-7,3-10.2'!$H$45 -> 12810 | F20: =E20*D20 -> 2305800
A21: 3.4 | B21: =+ANALISIS69 -> SUMINISTRO Y APLICACION PINTURA GUARDAESCOBA (Incluye sumistro Pintura, lijado y pintura sobre muro) | C21: =+'2.3-10.3'!$F$7 -> ML | D21: 80 | E21: =+'2.3-10.3'!$H$45 -> 7411 | F21: =E21*D21 -> 592880
A22: 4 | B22: CUARTO PISO
A23: 4.1 | B23: =+ANALISIS66 -> SUMINISTRO Y APLICACION PINTURA VINILICA TIPO I SOBRE MURO , (Incluye sumistro Pintura, lijado y pintura (3manos) sobre muro ) | C23: =+'2.1-7,2-10.1'!$F$7 -> M2 | D23: 245 | E23: =+'2.1-7,2-10.1'!$H$45 -> 17368 | F23: =E23*D23 -> 4255160 | H23: =#REF! -> #REF! | I23: =D23*#REF! -> #REF! | J23: =D23*#REF! -> #REF! | K23: =D23*#REF! -> #REF! | L23: =D23*#REF! -> #REF! | M23: =I23+J23+K23+L23 -> #REF! | N23: =M23*30% -> #REF! | O23: =(80000*P23) -> #REF! | P23: =(D23/H23)/8 -> #REF!
A24: 4.2 | B24: =+ANALISIS70 -> PINTURA TIPO I SOBRE PLACA (Incluye sumistro, lijado y pintura sobre Placa o ciel raso) | C24: =+'2.4-10.4'!$F$7 -> M2 | D24: 144 | E24: =+'2.4-10.4'!$H$45 -> 18602 | F24: =E24*D24 -> 2678688 | H24: =#REF! -> #REF! | I24: =D24*#REF! -> #REF! | J24: =D24*#REF! -> #REF! | K24: =D24*#REF! -> #REF! | L24: =D24*#REF! -> #REF! | M24: =I24+J24+K24+L24 -> #REF! | N24: =M24*30% -> #REF! | O24: =(80000*P24) -> #REF! | P24: =(D24/H24)/8 -> #REF!
A25: 4.3 | B25: =+ANALISIS71 -> ESTUCO Y RESANE SOBRE MUROS O PLACA (Incluye el suministro, y aplicación estuco mas lijado ) | C25: =+'2.2-7,3-10.2'!$F$7 -> M2 | D25: 123 | E25: =+'2.2-7,3-10.2'!$H$45 -> 12810 | F25: =E25*D25 -> 1575630
A26: 4.4 | B26: =+ANALISIS69 -> SUMINISTRO Y APLICACION PINTURA GUARDAESCOBA (Incluye sumistro Pintura, lijado y pintura sobre muro) | C26: =+'2.3-10.3'!$F$7 -> ML | D26: 82 | E26: =+'2.3-10.3'!$H$45 -> 7411 | F26: =E26*D26 -> 607702
A27: 5 | B27: QUINTO PISO
A28: 5.1 | B28: =+ANALISIS66 -> SUMINISTRO Y APLICACION PINTURA VINILICA TIPO I SOBRE MURO , (Incluye sumistro Pintura, lijado y pintura (3manos) sobre muro ) | C28: =+'2.1-7,2-10.1'!$F$7 -> M2 | D28: 143 | E28: =+'2.1-7,2-10.1'!$H$45 -> 17368 | F28: =E28*D28 -> 2483624 | H28: =#REF! -> #REF! | I28: =D28*#REF! -> #REF! | J28: =D28*#REF! -> #REF! | K28: =D28*#REF! -> #REF! | L28: =D28*#REF! -> #REF! | M28: =I28+J28+K28+L28 -> #REF! | N28: =M28*30% -> #REF! | O28: =(80000*P28) -> #REF! | P28: =(D28/H28)/8 -> #REF!
A29: 5.3 | B29: =+ANALISIS71 -> ESTUCO Y RESANE SOBRE MUROS O PLACA (Incluye el suministro, y aplicación estuco mas lijado ) | C29: =+'2.2-7,3-10.2'!$F$7 -> M2 | D29: =+D28 -> 143 | E29: =+'2.2-7,3-10.2'!$H$45 -> 12810 | F29: =E29*D29 -> 1831830
F32: =E32*D32 -> 0 | H32: =#REF! -> #REF! | I32: =D32*#REF! -> #REF! | J32: =D32*#REF! -> #REF! | K32: =D32*#REF! -> #REF! | L32: =D32*#REF! -> #REF! | M32: =I32+J32+K32+L32 -> #REF! | N32: =M32*30% -> #REF! | O32: =(80000*P32) -> #REF! | P32: =(D32/H32)/8 -> #REF!
F33: =E33*D33 -> 0 | H33: =#REF! -> #REF! | I33: =D33*#REF! -> #REF! | J33: =D33*#REF! -> #REF! | K33: =D33*#REF! -> #REF! | L33: =D33*#REF! -> #REF! | M33: =I33+J33+K33+L33 -> #REF! | N33: =M33*30% -> #REF! | O33: =(80000*P33) -> #REF! | P33: =(D33/H33)/8 -> #REF!
B34: SUBTOTAL | F34: =SUM(F9:F29) -> 41365670
B35: VALOR TOTAL DIRECTO | F35: =F34 -> 41365670
B36: ADMINISTRACION (Porcentaje sobre los costos directos) | C36: % | E36: 0.2 | F36: =E36*F35 -> 8273134
B37: IMPREVISTOS (Porcentaje sobre los costos directos) | C37: % | E37: 0.01 | F37: =E37*F35 -> 413656.7
B38: UTILIDADES (Porcentaje sobre los costos directos) | C38: % | E38: 0.04 | F38: =E38*F35 -> 1654626.8
B39: IVA SOBRE UTILIDAD (Porcentaje sobre la utilidad) | C39: % | F39: =E39*F38 -> 0
B40: VALOR TOTAL | F40: =SUM(F35:F39) -> 51707088
B43: TOTAL COSTO | F43: =SUM(F9:F36) -> 132370144 | I43: =SUM(I9:I34) -> #REF! | J43: =SUM(J9:J34) -> #REF! | K43: =SUM(K9:K34) -> #REF! | L43: =SUM(L9:L34) -> #REF! | M43: =SUM(M9:M34) -> #REF! | N43: =M43*30% -> #REF! | O43: =SUM(O9:O34) -> #DIV/0!
B44: AIU | C44: 0.1 | F44: =ROUND(F43*C44,0) -> 13237014 | H44: MILES DE PESOS | I44: =I43/1000 -> #REF! | J44: =J43/1000 -> #REF! | K44: =K43/1000 -> #REF! | L44: =L43/1000 -> #REF! | M44: =M43/1000 -> #REF! | N44: =N43/1000 -> #REF!
B45: TOTAL PRESUPUESTO | F45: =F43 -> 132370144
F48: =F43-#REF! -> #REF!
...

Sheet Hoja1
A1: MUNICIPIO DE GARZON
A2: ANEXO No. 2
A3: VALOR TOTAL DE LA PROPUESTA
A4: LISTA DE CANTIDADES
A6: Proponente: Consorcio Éxito
A7: PROCESO DE SELECCIÓN ABREVIADA DE MENOR CUANTÍA No. 020 DE 2011 de objeto : “REALIZAR A TODO COSTO LA CONSTRUCCION DEL CERRAMIENTO EN MALLA ESLABONADA DE LA INSTITUCION EDUCATIVA AGROPECUARIO DEL HUILA SEDE PROVIDENCIA PRIMARIA DEL MUNICIPIO DE GARZON”.
A8: ITEM | B8: CODIGOS CUBS | C8: DESCRIPCION | D8: UND | E8: CANT | F8: V/UNIT | G8: V/TOTAL
A9: 1 | C9: PRELIMINARES
A10: 1.1 | B10: 3.3.1.6 | C10: Localización y replanteo manual | D10: ML | E10: 119 | F10: 2420 | G10: =F10*E10 -> 287980 | I10: =G10/'[169]Hoja1 (2)'!G9 -> 0.8900331 | J10: =1-I10 -> 0.1099669
A11: 2 | C11: MOVIMIENTO DE TIERRAS
A12: 2.1 | B12: 3.3.2.2.1 | C12: Excavación manual con retiro hasta h=2,9m | D12: M3 | E12: 23.8 | F12: 21700 | G12: =F12*E12 -> 516460 | I12: =G12/'[169]Hoja1 (2)'!G11 -> 0.99930923 | J12: =1-I12 -> 0.00069076675
A13: 3 | C13: CIMENTACIONES
A14: 3.1 | B14: 3.6.6.6.47 | C14: Concreto ciclopeo bases (60% concreto de 2500 psi y 40% piedra media zonga) | D14: M3 | E14: 14.28 | F14: 260000 | G14: =F14*E14 -> 3712800 | I14: =G14/'[169]Hoja1 (2)'!G13 -> 0.97322144 | J14: =1-I14 -> 0.026778562
A15: 3.2 | B15: 3.3.6.1 | C15: Viga sobrecimiento en concreto de 3000 psi 0,20X0,15 mts. Incluye refuerzo | D15: ML | E15: 119 | F15: 40000 | G15: =F15*E15 -> 4760000 | I15: =G15/'[169]Hoja1 (2)'!G14 -> 0.98463962 | J15: =1-I15 -> 0.015360378
A16: 4 | C16: ESTRUCTURAS EN CONCRETO
A17: 4.1 | B17: 3.3.6.6 | C17: Columna en concreto de 3000 psi S=0,20X0,15 mts. Incluye refuerzo | D17: ML | E17: 21 | F17: 48000 | G17: =F17*E17 -> 1008000 | I17: =G17/'[169]Hoja1 (2)'!G16 -> 0.99237115 | J17: =1-I17 -> 0.0076288532
A18: 5 | C18: MAMPOSTERIA
A19: 5.1 | B19: 3.3.4.2.1 | C19: Muro ladrillo tolete común e=0.12m | D19: M2 | E19: 58 | F19: 31600 | G19: =F19*E19 -> 1832800 | I19: =G19/'[169]Hoja1 (2)'!G18 -> 0.99854642 | J19: =1-I19 -> 0.0014535802
A20: 6 | C20: CARPINTERIA METALICA
A21: 6.1 | B21: 3.3.1.4 | C21: Suministro e instalación de columnas en tubería galvanizada de 2" y malla eslabonada calibre 10 en cuadro con ángulo de 1 1/2" x 1/8", incluye pintura de los elementos no galvanizados y tres hiladas de alambre de púas en la parte superior. altura de malla 2,0 mts. incluye portón en el mismo material en cada sector estipulado. | D21: ML | E21: 119 | F21: 165000 | G21: =F21*E21 -> 19635000 | I21: =G21/'[169]Hoja1 (2)'!G20 -> 0.97963546 | J21: =1-I21 -> 0.020364543
A22: 7 | C22: TRANSPORTE
A23: 7.1 | B23: 3.6.9.3 | C23: Transporte de material | D23: VJ | E23: 3 | F23: 300000 | G23: =F23*E23 -> 900000 | I23: =G23/'[169]Hoja1 (2)'!G22 -> 1 | J23: =1-I23 -> 0
D25: COSTO DIRECTO | G25: =SUM(G10:G23) -> 32653040
D26: COSTO INDIRECTO (25%) | G26: =G25*0.25 -> 8163260
D27: COSTO TOTAL DE OBRA | G27: =SUM(G25:G26) -> 40816300 | I27: =G27/'[169]Hoja1 (2)'!G26 -> 0.98104373 | J27: =1-I27 -> 0.01895627
A31: Juan Carlos Vasquez Guzman
A32: Representante Legal
A33: Consorcio Éxito
A34: Fecha: Garzon 9 septiembre de 2011

Sheet Hoja3
A1: COTIZACION MATERIAL
C2: PROVEEDOR
A3: DESCRIPCION | B3: UNDAD | C3: FERRETIRIA HORIZONTE | D3: FERRESUTIMOS | E3: JOSE D BASTO | F3: PROMEDIO | G3: PRECIO SUGERIDO
A4: PINTURA TIPO I | B4: 5 GALONES | C4: 240000 | D4: 330000 | E4: 336000 | F4: =(SUM(C4:E4))/3 -> 302000 | G4: =+E4 -> 336000
A5: PINTURA TIPO I | B5: GALON | C5: 45000 | D5: 60000 | E5: =195714/2.5 -> 78285.6 | F5: =(SUM(C5:E5))/3 -> 61095.2 | G5: =+E5 -> 78285.6
A6: ESTUCO PLASTICO | B6: 5 GALONES | C6: 60000 | E6: 99916 | F6: =(SUM(C6:E6))/3 -> 53305.333
A7: ESTUCO PLASTICO | B7: GALON | C7: 25000 | F7: =+C7 -> 25000 | G7: =+F7 -> 25000
A8: PINTRA ESMALTE | B8: GALON | D8: 90000 | E8: 118900 | F8: =SUM(C8:E8)/2 -> 104450 | G8: =+F8 -> 104450

Sheet PRESUPUESTO OFICIAL (Entidad)
C3: Formulario 1 - Propuesta económica - Licitación de obra pública de infraestructura social
C4: Código | D4: CCE-EICP-FM-116 | E4: Versión | F4: 1
C6: PRESUPUESTO OFICIAL
C7: [La Entidad puede utilizar este Formulario de detalle del Presupuesto Oficial para determinar las condiciones bajo las cuales los Proponentes analizarán y presentarán su propuesta económica de forma detallada, sin perjuicio que la Entidad pueda modificarlo o establecer la presentación de la oferta económica con un Formulario distinto al indicado.]
C9: Adicionalmente, cuando el Proceso de Contratación es estructurado por Precios Unitarios, la Entidad debe aplicar las notas 1, 2 y 3 del presente Formulario y las casillas de "Descripción", "Porcentaje" de la Administración, Imprevisto, Utilidad y total A.I.U. resaltadas en color amarillo. Tratándose de otras modalidades de precio, la Entidad puede o no configurar los mismos aspectos.
C10: =+PPTO!A2 -> MANTENIMIENTO DE LAS INSTALACIONES DEL EDIFICIO Y OTRAS DEPENDENCIA DEL MUNICIPAL DE LA ALCALDIA DE NEIVA
C11: Nº | D11: ÍTEM DE PAGO | E11: ESPECIFICACIONES | G11: DESCRIPCIÓN | H11: UND. | I11: CANTIDAD | J11: VALOR UNITARIO | K11: VALOR TOTAL
E12: GENERAL | F12: PARTICULAR
D13: =+PPTO!B6 -> MANTENIMIENTO Y/O ADECUACION DEL 2 PISO Y OTROS + CANAL PERIMETRAL EXTERNA DEL EDIFICO MUNICIPAL
D14: 1 | G14: =+PPTO!B8 -> CANALES - BAJANTES
C15: 1 | D15: 1.1 | G15: =+'1,1'!D25 -> CANAL AGUA LLUVIA METALICA DE 0,35 X 0,20,025M METALICA C.18 (Incluye Suministro e instalacion con sus accesorios) | H15: =+'1,1'!N25 -> ML | I15: =+PPTO!D9 -> 86 | J15: =+'1,1'!O69 -> 165848 | K15: =+J15*I15 -> 14262928 | N15: =+K15-PPTO!F9 -> 0
C16: 2 | D16: 1.2 | G16: =+'1,2'!D25 -> ANGULO METALICO 1 1/2 x 1/8 (Incluye suministro e instalacion y todos los accesorios necesarios para su instalacion) | H16: =+'1,2'!N25 -> UND | I16: =+PPTO!D10 -> 29 | J16: =+'1,2'!O69 -> 54730 | K16: =+J16*I16 -> 1587170 | N16: =+K16-PPTO!F10 -> 0
C17: 3 | D17: 1.3 | G17: =+'1,3'!D25 -> TUBERIA 4" SANITARIA PVC PARA BAJANTE EN FACHADA PRINCIPAL (incluye suministro e instalacion) | H17: =+'1,3'!N25 -> ML | I17: =+PPTO!D11 -> 89 | J17: =+'1,3'!O69 -> 84607 | K17: =+J17*I17 -> 7530023 | N17: =+K17-PPTO!F11 -> 0
D18: 2 | G18: =+PPTO!B14 -> ESTUCO Y PINTURA AREA COMUNES
C19: 4 | D19: 2.1 | G19: =+'2,1-7,2-10,1'!D25 -> SUMINISTRO Y APLICACION PINTURA VINILICA TIPO I SOBRE MURO , (Incluye sumistro Pintura, lijado y pintura (3manos) sobre muro ) | H19: =+'2,1-7,2-10,1'!N25 -> M2 | I19: =+PPTO!D15 -> 648 | J19: =+'2,1-7,2-10,1'!O69 -> 22578 | K19: =+J19*I19 -> 14630544 | N19: =+K19-PPTO!F15 -> 0
C20: 5 | D20: 2.2 | G20: =+'2,2-7,3-10,2'!D25 -> ESTUCO Y RESANE SOBRE MUROS O PLACA (Incluye el suministro, y aplicación estuco mas lijado ) | H20: =+'2,2-7,3-10,2'!N25 -> M2 | I20: =+PPTO!D16 -> 323 | J20: =+'2,2-7,3-10,2'!O69 -> 16653 | K20: =+J20*I20 -> 5378919 | N20: =+K20-PPTO!F16 -> 0
C21: 6 | D21: 2.3 | G21: =+'2,3-10,3'!D25 -> SUMINISTRO Y APLICACION PINTURA GUARDAESCOBA (Incluye sumistro Pintura, lijado y pintura sobre muro) | H21: =+'2,3-10,3'!N25 -> ML | I21: =+PPTO!D17 -> 279 | J21: =+'2,3-10,3'!O69 -> 9634 | K21: =+J21*I21 -> 2687886 | N21: =+K21-PPTO!F17 -> 0
C22: 7 | D22: 2.4 | G22: =+'2,4-10,4'!D25 -> PINTURA TIPO I SOBRE PLACA (Incluye sumistro, lijado y pintura sobre Placa o ciel raso) | H22: =+'2,4-10,4'!N25 -> M2 | I22: =+PPTO!D18 -> 415 | J22: =+'2,4-10,4'!O69 -> 24182 | K22: =+J22*I22 -> 10035530 | N22: =+K22-PPTO!F18 -> 0
D23: 3 | G23: =+PPTO!B19 -> CARPINTERIA METALICA, DIVISIONES Y ACCESORIOS
C24: 8 | D24: 3.1 | G24: =+'3,1'!D25 -> SUMINISTRO E INSTALACION VENTANA EN VIDRIO REFLECTIVO 4MM (Incluye todos los elementos y accesorios para su instalacion) | H24: =+'3,1'!N25 -> M2 | I24: =+PPTO!D20 -> 44.2 | J24: =+'3,1'!O69 -> 205715 | K24: =+J24*I24 -> 9092603 | N24: =+K24-PPTO!F20 -> 0
C25: 9 | D25: 3.2 | G25: =+'3,2'!D25 -> SUMINISTRO E INSTALACION POLARIZADO EN FOTO IMPRESIÓN LAMINADO | H25: =+'3,2'!N25 -> M2 | I25: =+PPTO!D21 -> 15.6 | J25: =+'3,2'!O69 -> 133775 | K25: =+J25*I25 -> 2086890 | N25: =+K25-PPTO!F21 -> 0
C26: 10 | D26: 3.3 | G26: =+'3,3'!D25 -> DIVISION EN DRY WALL (Incluye suministro e instalacion y accesorios) | H26: =+'3,3'!N25 -> M2 | I26: =+PPTO!D22 -> 3.44 | J26: =+'3,3'!O76 -> 72462 | K26: =+J26*I26 -> 249269.28 | N26: =+K26-PPTO!F22 -> 0
C27: 11 | D27: 3.4 | G27: =+'8,1- 3,4'!D25 -> SUMINISTRO E INSTALACION PUERTA EN MADERA DE 2X1M (incluye marco metalicoy chapa) | H27: =+'8,1- 3,4'!N25 -> UND | I27: =+PPTO!D23 -> 1 | J27: =+'8,1- 3,4'!O69 -> 530140 | K27: =+J27*I27 -> 530140 | N27: =+K27-PPTO!F23 -> 0
C28: 12 | D28: 3.5 | G28: =+'3,5'!D25 -> INSTALACION DE CIERRA PUERTA HIDRAULICO DE 80KG | H28: =+'3,5'!N25 -> UND | I28: =+PPTO!D24 -> 1 | J28: =+'3,5'!O69 -> 343727 | K28: =+J28*I28 -> 343727 | N28: =+K28-PPTO!F24 -> 0
C29: 13 | D29: 3.6 | G29: =+'3,6'!D25 -> SUMINISTRO E INSTALACION DE PUERTA Y DIVISION EN ALUMINIO, INCLUYE MANO DE OBRA Y ELEMENTOS | H29: =+'3,6'!N25 -> M2 | I29: =+PPTO!D25 -> 8.8 | J29: =+'3,6'!O69 -> 751644 | K29: =+J29*I29 -> 6614467.2 | N29: =+K29-PPTO!F25 -> 0
D30: 4 | G30: =+PPTO!B26 -> IMPERMEABILIZACION
C31: 14 | D31: 4.1 | G31: =+'4,1'!D25 -> IMPERMEABILIZACION CANALES MANTO ASFALTICO Y FOIL ALUMINIO | H31: =+'4,1'!N25 -> M2 | I31: =+PPTO!D27 -> 86 | J31: =+'4,1'!O69 -> 71936 | K31: =+J31*I31 -> 6186496 | N31: =+K31-PPTO!F27 -> 0
C32: SUBTOTAL OBRAS | K32: =SUM(K15:K31) -> 81216592 | N32: =+K32-PPTO!F33 -> 0
D33: =+PPTO!B39 -> INSTALACIONES ELECTRICAS - DATOS
D34: 5 | G34: =+PPTO!B40 -> DESMONTES
C35: 15 | D35: 5.1 | G35: =+'5,1-11,1'!D25 -> DESMONTE DE LUMIINARIA LED EXISTENTE | H35: =+'5,1-11,1'!N25 -> UND | I35: =+PPTO!D41 -> 60 | J35: =+'5,1-11,1'!O69 -> 17550 | K35: =+J35*I35 -> 1053000 | N35: =+K35-PPTO!F41 -> 0
D36: 6 | G36: =+PPTO!B42 -> APARATOS ELECTRICOS
C37: 16 | D37: 6.1 | G37: =+'6,1-8,2-12,1'!D25 -> SUMINISTRO E INSTALACION LAMAPRAS 60X60 , 40 INCLUYE MARCOS | H37: =+'6,1-8,2-12,1'!N25 -> UND | I37: =+PPTO!D43 -> 60 | J37: =+'6,1-8,2-12,1'!O69 -> 220647 | K37: =+J37*I37 -> 13238820 | N37: =+K37-PPTO!F43 -> 0
C38: 17 | D38: 6.2 | G38: =+'6,2'!D25 -> SUMINISTRO E INSTALACION DE CABLE UTP CAT 6A TENDIDO Y CERTIFICADO | H38: =+'6,2'!N25 -> ML | I38: =+PPTO!D44 -> 915 | J38: =+'6,2'!O69 -> 10499 | K38: =+J38*I38 -> 9606585 | N38: =+K38-PPTO!F44 -> 0
C39: 18 | D39: 6.3 | G39: =+'6,3'!D25 -> SUMINISTRO, TRANSPORTE E INSTALACIÓN DE CANALETA PLASTICA (12 X 5) CM CON DIVISIÓN | H39: =+'6,3'!N25 -> ML | I39: =+PPTO!D45 -> 70 | J39: =+'6,3'!O69 -> 111671 | K39: =+J39*I39 -> 7816970 | N39: =+K39-PPTO!F45 -> 0
C40: 19 | D40: 6.4 | G40: =+'6,4-9,2'!D25 -> SALIDA + TOMACORRIENTE DOBLE MONOFASICA - INCLUYE CAJA, TUBERIA | H40: =+'6,4-9,2'!N25 -> UND | I40: =+PPTO!D46 -> 76 | J40: =+'6,4-9,2'!O70 -> 166653 | K40: =+J40*I40 -> 12665628 | N40: =+K40-PPTO!F46 -> 0
C41: 20 | D41: 6.5 | G41: =+'6,5-9,3'!D25 -> TOMACORRIENTE DOBLE POLO A TIERRA REGULADA COLOR NARANJA EN CANALETA | H41: =+'6,5-9,3'!N25 -> UND | I41: =+PPTO!D47 -> 40 | J41: =+'6,5-9,3'!O71 -> 126439 | K41: =+J41*I41 -> 5057560 | N41: =+K41-PPTO!F47 -> 0
C42: 21 | D42: 6.6 | G42: =+'6,6'!D25 -> SUMINISTRO E INSTALACIÓN DE SALIDA LÓGICA PARA VOZ Y DATOS SENCILLO CATEGORIA 6A | H42: =+'6,6'!N25 -> UND | I42: =+PPTO!D48 -> 40 | J42: =+'6,6'!O69 -> 123046 | K42: =+J42*I42 -> 4921840 | N42: =+K42-PPTO!F48 -> 0
C43: 22 | D43: 6.7 | G43: =+'6,7'!D25 -> CABLEADO 2#12 PE HF LS TC POR TUBERÍA, CANALETA O BANDEJA | H43: =+'6,7'!N25 -> ML | I43: =+PPTO!D49 -> 600 | J43: =+'6,7'!O69 -> 12225 | K43: =+J43*I43 -> 7335000 | N43: =+K43-PPTO!F49 -> 0
C44: 23 | D44: 6.8 | G44: =+'6,8'!D25 -> SWITCH 24 PUERTOS MARCA 3COM O EQUIVALENTE (SUMINISTRO E INSTALACIÓN) INCLUYE PATCH CORD | H44: =+'6,8'!N25 -> UND | I44: =+PPTO!D50 -> 1 | J44: =+'6,8'!O69 -> 1971297 | K44: =+J44*I44 -> 1971297 | N44: =+K44-PPTO!F50 -> 0
...

Sheet PPTO
A1: MUNICIPIO DE NEIVA
A2: MANTENIMIENTO DE LAS INSTALACIONES DEL EDIFICIO Y OTRAS DEPENDENCIA DEL MUNICIPAL DE LA ALCALDIA DE NEIVA
A4: PRESUPUESTO OFICIAL
B6: MANTENIMIENTO Y/O ADECUACION DEL 2 PISO Y OTROS + CANAL PERIMETRAL EXTERNA DEL EDIFICO MUNICIPAL | F6: ANEXO 1
A7: ÍTEM | B7: DESCRIPCIÓN | C7: UND | D7: CANTIDAD | E7: PRECIO UNITARIO | F7: VALOR TOTAL DIRECTO | H7: RENDIMIENTOS | I7: EQUIPO | J7: MATREIALES | K7: TRASPORTE | L7: Mno OBRA | M7: TOTAL | N7: AIU | O7: Mno Obra Calificada | P7: dias
A8: 1 | B8: CANALES - BAJANTES
A9: 1.1 | B9: =+ANALISIS74 -> CANAL AGUA LLUVIA METALICA DE 0,35 X 0,20,025M METALICA C.18 (Incluye Suministro e instalacion con sus accesorios) | C9: =+'1.1'!F7 -> ML | D9: =+'Cant.Canal'!C16 -> 86 | E9: =+'1.1'!H53 -> 165848 | F9: =E9*D9 -> 14262928 | H9: ='1.2'!$B$54 -> 0 | I9: =D9*'1.2'!$H$16 -> 86000 | J9: =D9*'1.2'!$H$26 -> 1780200 | K9: =D9*'1.2'!$H$33 -> 0 | L9: =D9*'1.2'!$H$43 -> 1754400 | M9: =I9+J9+K9+L9 -> 3620600 | N9: =M9*30% -> 1086180 | O9: =(80000*P9) -> #DIV/0! | P9: =(D9/H9)/8 -> #DIV/0!
A10: 1.2 | B10: =+ANALISIS1 -> ANGULO METALICO 1 1/2 x 1/8 (Incluye suministro e instalacion y todos los accesorios necesarios para su instalacion) | C10: =+'1.2'!F7 -> UND | D10: 29 | E10: =+'1.2'!H53 -> 54730 | F10: =E10*D10 -> 1587170
A11: 1.3 | B11: =+ANALISIS14 -> TUBERIA 4" SANITARIA PVC PARA BAJANTE EN FACHADA PRINCIPAL (incluye suministro e instalacion) | C11: =+'1.3'!F7 -> ML | D11: 89 | E11: =+'1.3'!H53 -> 84607 | F11: =E11*D11 -> 7530023
A14: 2 | B14: ESTUCO Y PINTURA AREA COMUNES
A15: 2.1 | B15: =+ANALISIS66 -> SUMINISTRO Y APLICACION PINTURA VINILICA TIPO I SOBRE MURO , (Incluye sumistro Pintura, lijado y pintura (3manos) sobre muro ) | C15: =+'2.1-7,2-10.1'!$F$7 -> M2 | D15: =+'Cant.Resume'!B10+'Cant.Resume'!B11+'Cant.Resume'!B12+'Cant.Resume'!B15 -> 648 | E15: =+'2.1-7,2-10.1'!$H$53 -> 22578 | F15: =E15*D15 -> 14630544 | H15: ='1.2'!$B$54 -> 0 | I15: =D15*'1.2'!$H$16 -> 648000 | J15: =D15*'1.2'!$H$26 -> 13413600 | K15: =D15*'1.2'!$H$33 -> 0 | L15: =D15*'1.2'!$H$43 -> 13219200 | M15: =I15+J15+K15+L15 -> 27280800 | N15: =M15*30% -> 8184240 | O15: =(80000*P15) -> #DIV/0! | P15: =(D15/H15)/8 -> #DIV/0!
A16: 2.2 | B16: =+ANALISIS71 -> ESTUCO Y RESANE SOBRE MUROS O PLACA (Incluye el suministro, y aplicación estuco mas lijado ) | C16: =+'2.2-7,3-10.2'!$F$7 -> M2 | D16: =+'Cant.Resume'!D10+'Cant.Resume'!D11+'Cant.Resume'!D12+'Cant.Resume'!D15 -> 323 | E16: =+'2.2-7,3-10.2'!$H$53 -> 16653 | F16: =E16*D16 -> 5378919 | H16: =#REF! -> #REF! | I16: =D16*#REF! -> #REF! | J16: =D16*#REF! -> #REF! | K16: =D16*#REF! -> #REF! | L16: =D16*#REF! -> #REF! | M16: =I16+J16+K16+L16 -> #REF! | N16: =M16*30% -> #REF! | O16: =(80000*P16) -> #REF! | P16: =(D16/H16)/8 -> #REF!
A17: 2.3 | B17: =+ANALISIS69 -> SUMINISTRO Y APLICACION PINTURA GUARDAESCOBA (Incluye sumistro Pintura, lijado y pintura sobre muro) | C17: =+'2.3-10.3'!F7 -> ML | D17: =+'Cant.Resume'!F10+'Cant.Resume'!F11+'Cant.Resume'!F12+'Cant.Resume'!F15 -> 279 | E17: =+'2.3-10.3'!H53 -> 9634 | F17: =E17*D17 -> 2687886
A18: 2.4 | B18: =+ANALISIS70 -> PINTURA TIPO I SOBRE PLACA (Incluye sumistro, lijado y pintura sobre Placa o ciel raso) | C18: =+'2.4-10.4'!F7 -> M2 | D18: =+'Cant.Resume'!H10+'Cant.Resume'!H11+'Cant.Resume'!H12+'Cant.Resume'!H15 -> 415 | E18: =+'2.4-10.4'!H53 -> 24182 | F18: =E18*D18 -> 10035530
A19: 3 | B19: CARPINTERIA METALICA, DIVISIONES Y ACCESORIOS
A20: 3.1 | B20: =+ANALISIS67 -> SUMINISTRO E INSTALACION VENTANA EN VIDRIO REFLECTIVO 4MM (Incluye todos los elementos y accesorios para su instalacion) | C20: =+'3.1'!F7 -> M2 | D20: =+'Cant. Planea'!E137 -> 44.2 | E20: =+'3.1'!H53 -> 205715 | F20: =E20*D20 -> 9092603
A21: 3.2 | B21: =+ANALISIS100 -> SUMINISTRO E INSTALACION POLARIZADO EN FOTO IMPRESIÓN LAMINADO | C21: =+'3.2'!F7 -> M2 | D21: =+'Cant.Resume'!J10 -> 15.6 | E21: =+'3.2'!H53 -> 133775 | F21: =E21*D21 -> 2086890
A22: 3.3 | B22: =+ANALISIS72 -> DIVISION EN DRY WALL (Incluye suministro e instalacion y accesorios) | C22: =+'3.3'!F7 -> M2 | D22: =+'CANTIDADES VIDRIO'!E33 -> 3.44 | E22: =+'3.3'!H55 -> 72462 | F22: =E22*D22 -> 249269.28
A23: 3.4 | B23: =+B64 -> SUMINISTRO E INSTALACION PUERTA EN MADERA DE 2X1M (incluye marco metalicoy chapa) | C23: =+C64 -> UND | D23: 1 | E23: =+E64 -> 530140 | F23: =E23*D23 -> 530140
A24: 3.5 | B24: =+'3.5'!A7 -> INSTALACION DE CIERRA PUERTA HIDRAULICO DE 80KG | C24: =+'3.5'!F7 -> UND | D24: 1 | E24: =+'3.5'!H53 -> 343727 | F24: =E24*D24 -> 343727
A25: 3.6 | B25: =+'3.6'!A7 -> SUMINISTRO E INSTALACION DE PUERTA Y DIVISION EN ALUMINIO, INCLUYE MANO DE OBRA Y ELEMENTOS | C25: =+C20 -> M2 | D25: 8.8 | E25: =+'3.6'!H53 -> 751644 | F25: =E25*D25 -> 6614467.2
A26: 4 | B26: IMPERMEABILIZACION
A27: 4.1 | B27: =+ANALISIS68 -> IMPERMEABILIZACION CANALES MANTO ASFALTICO Y FOIL ALUMINIO | C27: =+'4.1'!F7 -> M2 | D27: =+'Cant.Canal'!C16 -> 86 | E27: =+'4.1'!H53 -> 71936 | F27: =E27*D27 -> 6186496
B33: SUBTOTAL | F33: =SUM(F9:F32) -> 81216592
A35: PRESUPUESTO OFICIAL ELECTRICO
F37: ANEXO 1
A38: ÍTEM | B38: DESCRIPCIÓN | C38: UND | D38: CANTIDAD | E38: PRECIO UNITARIO | F38: VALOR TOTAL DIRECTO
B39: INSTALACIONES ELECTRICAS - DATOS
A40: 5 | B40: DESMONTES
A41: 5.1 | B41: DESMONTE DE LUMIINARIA LED EXISTENTE | C41: UND | D41: =+D43 -> 60 | E41: =+'5.1-11.1'!H53 -> 17550 | F41: =E41*D41 -> 1053000
A42: 6 | B42: APARATOS ELECTRICOS
A43: 6.1 | B43: =+ANALISIS102 -> SUMINISTRO E INSTALACION LAMAPRAS 60X60 , 40 INCLUYE MARCOS | C43: =+'6.1-8.2-12.1'!F7 -> UND | D43: 60 | E43: =+'6.1-8.2-12.1'!H53 -> 220647 | F43: =E43*D43 -> 13238820
A44: 6.2 | B44: =+'6.2'!ANALISIS102 -> SUMINISTRO E INSTALACION DE CABLE UTP CAT 6A TENDIDO Y CERTIFICADO | C44: ML | D44: 915 | E44: =+'6.2'!H53 -> 10499 | F44: =E44*D44 -> 9606585
A45: 6.3 | B45: =+'6.3'!ANALISIS102 -> SUMINISTRO, TRANSPORTE E INSTALACIÓN DE CANALETA PLASTICA (12 X 5) CM CON DIVISIÓN | C45: =+C44 -> ML | D45: 70 | E45: =+'6.3'!H53 -> 111671 | F45: =E45*D45 -> 7816970
A46: 6.4 | B46: =+'6.4-9.2'!ANALISIS102 -> SALIDA + TOMACORRIENTE DOBLE MONOFASICA - INCLUYE CAJA, TUBERIA | C46: UND | D46: 76 | E46: =+'6.4-9.2'!H53 -> 166653 | F46: =E46*D46 -> 12665628
A47: 6.5 | B47: =+'6.5-9.3'!ANALISIS102 -> TOMACORRIENTE DOBLE POLO A TIERRA REGULADA COLOR NARANJA EN CANALETA | C47: UND | D47: 40 | E47: =+'6.5-9.3'!H53 -> 126439 | F47: =E47*D47 -> 5057560
A48: 6.6 | B48: =+'6.6'!ANALISIS102 -> SUMINISTRO E INSTALACIÓN DE SALIDA LÓGICA PARA VOZ Y DATOS SENCILLO CATEGORIA 6A | C48: UND | D48: 40 | E48: =+'6.6'!H53 -> 123046 | F48: =E48*D48 -> 4921840
A49: 6.7 | B49: =+'6.7'!ANALISIS102 -> CABLEADO 2#12 PE HF LS TC POR TUBERÍA, CANALETA O BANDEJA | C49: ML | D49: 600 | E49: =+'6.7'!H53 -> 12225 | F49: =E49*D49 -> 7335000
A50: 6.8 | B50: =+'6.8'!ANALISIS102 -> SWITCH 24 PUERTOS MARCA 3COM O EQUIVALENTE (SUMINISTRO E INSTALACIÓN) INCLUYE PATCH CORD | C50: UND | D50: 1 | E50: =+'6.8'!H53 -> 1971297 | F50: =E50*D50 -> 1971297
A51: 6.9 | B51: SUMINISTRO E INSTALACION DE LUMINARIA SOBRE PONER 12W | C51: UND | D51: 1 | E51: =+'6.9'!H53 -> 90350 | F51: =E51*D51 -> 90350
...

Sheet A.I.U
B3: REPUBLICA DE COLOMBIA
B4: DEPARTAMENTO DEL HUILA
B5: MUNICIPIO DE NEIVA
B6: =+PPTO!A2 -> MANTENIMIENTO DE LAS INSTALACIONES DEL EDIFICIO Y OTRAS DEPENDENCIA DEL MUNICIPAL DE LA ALCALDIA DE NEIVA
B7: DISCRIMINACIÓN DEL A.I.U.
B8: COSTO DIRECTO DE LA OBRA | H8: =+PPTO!F91 -> 1.6953521e+08
B9: 1. GASTOS PERSONAL Y ADMINISTRATIVOS
B10: Personal Profesional | C10: Dedicacion | D10: Cantidad | E10: Sueldo básico Mes | F10: Factor Prestacional | G10: Cantidad Meses | H10: Valor Total
B11: Residente de Obra | C11: 1 | D11: 1 | E11: 3600000 | F11: =+FP!F55 -> 1.67 | G11: 1 | H11: =ROUND(C11*D11*E11*F11*G11,0) -> 6012000
B12: Total Personal Profesional con Factor Prestacional | H12: =SUM(H11:H11) -> 6012000
B13: Personal Técnico | C13: Dedicacion | D13: Cantidad | E13: Sueldo básico Mes | F13: Factor Prestacional | G13: Cantidad Meses | H13: Valor Total
B14: Tecnólogo en Seguridad Industrial y Salud Ocupacional | C14: 1 | D14: 1 | E14: 2100000 | F14: =+F11 -> 1.67 | G14: =+G11 -> 1 | H14: =ROUND(C14*D14*E14*F14*G14,0) -> 3507000
B15: Total Personal Técnico con Factor Prestacional | H15: =SUM(H14) -> 3507000
B16: Personal Administrativo | C16: Dedicacion | D16: Cantidad | E16: Sueldo básico Mes | F16: Factor Prestacional | G16: Cantidad Meses | H16: Valor Total
B17: Contador | C17: 0.2 | D17: 1 | E17: 1800000 | F17: =+F14 -> 1.67 | G17: 1 | H17: =ROUND(C17*D17*E17*F17*G17,0) -> 601200
B18: Total Personal Administrativo con Factor Prestacional | H18: =SUM(H17:H17) -> 601200
B19: Total Gastos Personal Profesional, Técnico y Administrativo con Factor Prestacional (A) | H19: =H18+H15+H12 -> 10120200
B21: 2. GASTOS ADMINISTRATIVOS Y OPERACIONALES
B22: Especialidad | C22: und | D22: Tarifa/Mes | F22: Total Meses | G22: Costo Total
B23: Comunicaciones | C23: Mes | D23: 210000 | F23: =+G17 -> 1 | G23: =D23*F23 -> 210000
B24: Transportes | C24: Mes | D24: 500297.6 | F24: =+F23 -> 1 | G24: =D24*F24 -> 500297.6
B25: Edición de informes | C25: Mes | D25: 215000 | F25: =+F23 -> 1 | G25: =D25*F25 -> 215000
B26: Total Gastos Administrativos y Operacionales (B) | G26: =SUM(G23:H25) -> 925297.6
B28: 3. GASTOS DE LEGALIZACIÓN
B29: DESCRIPCION | C29: UND | D29: TARIFA | F29: CANTIDAD | G29: COSTO TOTAL
B30: ESTAMPILLAS | C30: % | D30: =D31 -> 1.6953521e+08 | F30: 0.06 | G30: =ROUND(F30*D30,0) -> 10172113
B31: OTROS GASTOS | C31: % | D31: =H8 -> 1.6953521e+08 | F31: 0.038287605 | G31: =ROUND(F31*D31,0) -> 6491097
B32: Total Gastos de Legalizacion (C) | G32: =SUM(G30:H31) -> 16663210
B34: 4. GASTOS POLIZAS DE GARANTIA
B35: DESCRIPCION | C35: UND | D35: TARIFA | F35: CANTIDAD | G35: COSTO TOTAL
B36: POLIZAS Y GARANTIAS | C36: % | D36: =H8 -> 1.6953521e+08 | F36: 0.01 | G36: =ROUND(F36*D36,0) -> 1695352
B37: Total Gastos de Legalizacion (C) | G37: =SUM(G36:H36) -> 1695352
B39: PRESUPUESTO TOTAL AIU
B40: DESCRIPCION | E40: Tarifa | G40: % | H40: COSTO TOTAL
B41: TOTAL ADMINISTRACIÓN (A+B+C) | E41: =H8 -> 1.6953521e+08 | F41: 1801151265 | G41: =(H19+G26+G32+G37)/H8 -> 0.17343925 | H41: =E41*G41 -> 29404060 | I41: =+PPTO!F92 -> A | J41: =+I41-H41 -> #VALUE!
B42: IMPREVISTOS ( Costo Directo Obra) | E42: =E41 -> 1.6953521e+08 | F42: 1801151265 | G42: 0.03 | H42: =ROUND(E42*G42,) -> 5086056 | I42: =+PPTO!F93 -> I
B43: UTILIDAD (Costo Directo Obra) | E43: =E42 -> 1.6953521e+08 | F43: 1801151265 | G43: 0.05 | H43: =ROUND(E43*G43,) -> 8476761 | I43: =+PPTO!F94 -> U
B44: TOTAL AIU | G44: =SUM(G41:G43) -> 0.25343925 | H44: =SUM(H41:H43) -> 42966877
C49: =+PPTO!B110 -> 0
C50: =+PPTO!B111 -> 0
...

Sheet FP
B2: REPUBLICA DE COLOMBIA
B3: DEPARTAMENTO DEL HUILA
B4: MUNICIPIO DE NEIVA
B5: =+PPTO!A2 -> MANTENIMIENTO DE LAS INSTALACIONES DEL EDIFICIO Y OTRAS DEPENDENCIA DEL MUNICIPAL DE LA ALCALDIA DE NEIVA
B6: ANALISIS FACTOR PRESTACIONAL
B8: Salario mínimo legal mensual para el año 2025 | C8: 1423500
B9: Subsidio de transporte | C9: 200000
D11: AFECTACIÓN PRESTACIONAL ANUAL
D12: MAYOR A 2 VECES SMMLV | F12: HASTA 2 VECES SMMLV
D13: 4000000 | F13: 1800000
B14: SALARIO | E14: % | G14: %
B15: Mensual | D15: =D13 -> 4000000 | F15: =F13 -> 1800000
B16: Subsidio de transporte | D16: =IF(D15<=2*$C$8,$C$9,0) -> 0 | F16: =IF(F15<=2*$C$8,$C$9,0) -> 200000
B17: Total mensual | D17: =D15+D16 -> 4000000 | F17: =F15+F16 -> 2000000
B18: JORNAL | D18: =ROUND(D17/30,0) -> 133333 | F18: =ROUND(F17/30,0) -> 66667
B19: Total anual (A/30*360) | C19: 12 | D19: =ROUND(D15*$C$19,0) -> 48000000 | E19: 1 | F19: =ROUND(F15*$C$19,0) -> 21600000 | G19: 1
B20: Subsidio de transporte anual | C20: 12 | D20: =D16*$C$20 -> 0 | F20: =F16*$C$20 -> 2400000
B21: Salario anual con sub. de transporte | D21: =D19+D20 -> 48000000 | F21: =F19+F20 -> 24000000
B22: PRESTACIONES SOCIALES | E22: % | G22: %
B23: Cesantias anuales | C23: 0.08333333 | D23: =ROUND(+$C$23*D21,0) -> 4000000 | E23: =D23/D19 -> 0.083333333 | F23: =ROUND(+$C$23*F21,0) -> 2000000 | G23: =F23/F19 -> 0.092592593
B24: Interes sobre cesantia | C24: 0.12 | D24: =ROUND(+D23*$C$24,0) -> 480000 | E24: =D24/D19 -> 0.01 | F24: =ROUND(+F23*$C$24,0) -> 240000 | G24: =F24/F19 -> 0.011111111
B25: Prima - 30 días | C25: 1 | D25: =ROUND(+$C$25*D17,0) -> 4000000 | E25: =D25/D19 -> 0.083333333 | F25: =ROUND(+$C$25*F17,0) -> 2000000 | G25: =F25/F19 -> 0.092592593
B26: Vacaciones - 15 días | C26: 0.5 | D26: =ROUND(+D17*$C$26,0) -> 2000000 | E26: =D26/D19 -> 0.041666667 | F26: =ROUND(+F17*$C$26,0) -> 1000000 | G26: =F26/F19 -> 0.046296296
B27: SUBTOTAL PRESTACIONES SOCIALES | D27: =SUM(D23:D26) -> 10480000 | F27: =SUM(F23:F26) -> 5240000
B28: SEGURIDAD SOCIAL | E28: % | G28: %
B29: Pensiones | C29: 0.12 | D29: =ROUND(+$C$29*D19,0) -> 5760000 | E29: =D29/D19 -> 0.12 | F29: =ROUND(+$C$29*F19,0) -> 2592000 | G29: =F29/F19 -> 0.12
B30: Salud (Afectado por la reforma tributaria) | C30: 0.085 | D30: =ROUND(+$C$30*D19,0) -> 4080000 | E30: =D30/D19 -> 0.085 | F30: =ROUND(+$C$30*F19,0) -> 1836000 | G30: =F30/F19 -> 0.085
B31: Riesgos Profesionales (ARL) | C31: 0.522% - 6.96% | D31: =ROUND(+E31*D19,0) -> 3340800 | E31: 0.0696 | F31: =ROUND(+G31*F19,0) -> 1503360 | G31: 0.0696
B32: SUBTOTAL SEGURIDAD SOCIAL | D32: =SUM(D29:D31) -> 13180800 | F32: =SUM(F29:F31) -> 5931360
B33: APORTES PARAFISCALES | E33: % | G33: %
B34: SENA (Afectado por la reforma tributaria) - asumido por el CREE | C34: 0.02 | D34: =ROUND(+$C$34*D19,0) -> 960000 | E34: =D34/D19 -> 0.02 | F34: =ROUND(+$C$34*F19,0) -> 432000 | G34: =F34/F19 -> 0.02
B35: ICBF (Afectado por la reforma tributaria) - asumido por el CREE | C35: 0.03 | D35: =ROUND(+$C$35*D19,0) -> 1440000 | E35: =D35/D19 -> 0.03 | F35: =ROUND(+$C$35*F19,0) -> 648000 | G35: =F35/F19 -> 0.03
B36: Caja de compensación familiar | C36: 0.04 | D36: =ROUND($C$36*D19,0) -> 1920000 | E36: =D36/D19 -> 0.04 | F36: =ROUND($C$36*F19,0) -> 864000 | G36: =F36/F19 -> 0.04
B37: FIC (Fondo Nacional de Formación Profesional de la Industria de la Construcción) | C37: 15 | D37: =ROUND($C$37/40*$C$8,0) -> 533813 | E37: =D37/D19 -> 0.011121104 | F37: =ROUND($C$37/40*$C$8,0) -> 533813 | G37: =F37/F19 -> 0.024713565
B38: SUBTOTAL PARAFISCALES | D38: =SUM(D34:D37) -> 4853813 | F38: =SUM(F34:F37) -> 2477813
B39: DOTACIÓN | E39: % | G39: %
B40: Dotación | E40: =D40/D19 -> 0 | F40: 450000 | G40: =F40/F19 -> 0.020833333
B41: Implementos de Seguridad | D41: 300000 | E41: =D41/D19 -> 0.00625 | F41: 300000 | G41: =F41/F19 -> 0.013888889
B42: SUBTOTAL DOTACIÓN | D42: 0 | F42: =F40+F41 -> 750000
B43: VALOR REAL DEL SALARIO | D43: =SUM(D42,D38,D32,D27,D21) -> 76514613 | E43: =SUM(E19:E42) -> 1.6003044 | F43: =SUM(F42,F38,F32,F27,F21) -> 38399173 | G43: =SUM(G19:G42) -> 1.6666284
...

Sheet FM
B3: REPUBLICA DE COLOMBIA
B4: DEPARTAMENTO DEL HUILA
B5: MUNICIPIO DE NEIVA
B6: =+'A.I.U'!B6 -> MANTENIMIENTO DE LAS INSTALACIONES DEL EDIFICIO Y OTRAS DEPENDENCIA DEL MUNICIPAL DE LA ALCALDIA DE NEIVA
B7: ANALISIS FACTOR PRESTACIONAL
B8: ÍTEM | C8: DESCRIPCIÓN | E8: %
B9: A | C9: SALARIO BÁSICO | E9: 1
B10: B | C10: PRESTACIONES SOCIALES | E10: =SUM(E11:E14) -> 0.21833327
C11: Primas de Servicio | E11: 0.083333333
C12: Cesantías | E12: 0.083333333
C13: Intereses sobre cesantías | E13: 0.01
C14: Vacaciones | E14: 0.0416666
B15: C | C15: SISTEMA DE SEGURIDAD SOCIAL INTEGRAL | E15: =SUM(E16:E18) -> 0.2746
C16: Salud | E16: 0.085
C17: Riesgos Profesionales | E17: 0.0696
C18: Pensiones | E18: 0.12
B19: D | C19: APORTES PARAFISCALES | E19: =SUM(E20:E22) -> 0.09
C20: Fondo de la Industria de la Construcción (SENA) | E20: 0.02
C21: Subsidio Familiar | E21: 0.04
C22: I.C.B.F. | E22: 0.03
B23: E | C23: OTROS | E23: =SUM(E24) -> 0.05
C24: Dotación de ley | E24: 0.05
C25: SUB-TOTAL B + C | E25: =+E10+E15 -> 0.49293327
C26: SUB-TOTAL A + B + C + D + E | E26: =+E9+E10+E15+E19+E23 -> 1.6329333
B27: ÍTEM | C27: DESCRIPCIÓN | E27: %
B28: F | C28: COSTOS INDIRECTOS
B29: F1 | C29: GASTOS GENERALES Y DE ADMINISTRACIÓN | E29: =SUM(E30:E40) -> 0.265
C30: Gastos directos no reembolsables | E30: 0.05
C31: Arriendos oficinas | E31: 0.02
C32: Servcios públicos | E32: 0.02
C33: Mantenimiento y operación de oficinas | E33: 0.02
C34: Utiles y papelería | E34: 0.01
C35: Gastos legales y bancarios | E35: 0.04
C36: Gastos de tranporte y vehículos | E36: 0.03
C37: Sistematización y Administración | E37: 0.02
C38: Salarios y Prestaciones no reembolsables | E38: 0.015
C39: Personal administrativo | E39: 0.02
C40: Preparación de propuesta | E40: 0.02
B41: F2 | C41: OTROS GASTOS | E41: =SUM(E42:E44) -> 0.04
C42: Seguros | E42: 0.02
...

Sheet ESTUDIO DE MERCADO-V2
B2: REPUBLICA DE COLOMBIA
B3: DEPARTAMENTO DEL HUILA
B4: MUNICIPIO DE NEIVA
B5: =+PPTO!A2 -> MANTENIMIENTO DE LAS INSTALACIONES DEL EDIFICIO Y OTRAS DEPENDENCIA DEL MUNICIPAL DE LA ALCALDIA DE NEIVA
B6: ESTUDIO DE MERCADO
B7: ITEM | C7: DESCRIPCIÓN | D7: UND | E7: VALOR MÍNIMO | F7: VALOR PROVEEDOR 1 | G7: VALOR PROVEEDOR 2 | H7: VALOR PROVEEDOR 3 | I7: OBSERVACIONES
B8: 1 | C8: (TOPEROL) LOSETA PREFABRICADA TACTIL 20X20cm | D8: UND | E8: =MIN(F8:H8) -> 0
B9: 2 | C9: ACERO A-40 Liso/Rect 3/4" | D9: ML | E9: =MIN(F9:H9) -> 0
B10: 3 | C10: ACERO Fy= 4200 Kg/cm2 | D10: KG | E10: =MIN(F10:H10) -> 0
B11: 4 | C11: ADAPTADOR PRESION Macho ½" | D11: UND | E11: =MIN(F11:H11) -> 540 | F11: 594 | G11: 595 | H11: 540 | I11: PAVCO, GERFOR, DURMAN
B12: 5 | C12: ADOQUIN DE CEMENTO GRIS 20X10X6 | D12: UND | E12: =MIN(F12:H12) -> 1100 | F12: 1100 | I12: HOMECENTER
B13: 6 | C13: Adoquin de cemento gris 20x10x8 Gris (trafico pesado) | D13: UND | E13: =MIN(F13:H13) -> 1600 | F13: 1600 | I13: HOMECENTER
B14: 7 | C14: ADOQUIN HEXAGONAL 20X20X8 COLOR GRIS | D14: UND | E14: =MIN(F14:H14) -> 0
B15: 8 | C15: ADOQUIN PEATONAL 40X40 (LISO -ROJO) | D15: UND | E15: =MIN(F15:H15) -> 0
B16: 9 | C16: ALAMBRE NEGRO Cal. 18 | D16: KG | E16: =MIN(F16:H16) -> 6218 | F16: 6218 | I16: HOMECENTER
B17: 10 | C17: ANGULO 1/8" x 1" (2.5mm x 25mm) | D17: ML | E17: =MIN(F17:H17) -> 6200 | F17: 6200 | I17: HOMECENTER
B18: 11 | C18: ANGULO GALVANIZADO 0,2X0,25 (2,44M) CAL. 26 | D18: UND | E18: =MIN(F18:H18) -> 2698 | F18: 2698 | I18: HOMECENTER
B19: 12 | C19: Angulo 6m x 1-1/2 x 3/16 pulg | D19: ML | E19: =MIN(F19:H19) -> 16700 | F19: 16700 | I19: HOMECENTER
B20: 13 | C20: ANTICORROSIVO DE ALTA CALIDAD | D20: GL | E20: =MIN(F20:H20) -> 78100 | F20: 78100 | I20: HOMECENTER
B21: 14 | C21: ANTISOL BLANCO 20 KILOS | D21: KG | E21: =MIN(F21:H21) -> 13045 | F21: 13045 | I21: HOMECENTER
B22: 15 | C22: Arandela 2x2 | D22: UND | E22: =MIN(F22:H22) -> 0
B23: 16 | C23: ARENA DE PLANTA | D23: M3 | E23: =MIN(F23:H23) -> 0
B24: 17 | C24: ARENA FINA | D24: M3 | E24: =MIN(F24:H24) -> 0
B25: 18 | C25: BARRA DE SEGURIDAD EN ACERO INOXIDABLE ABATIBLE | D25: UND | E25: =MIN(F25:H25) -> 411900 | F25: 411900 | I25: HOMECENTER
B26: 19 | C26: BARRA DE SEGURIDAD EN ACERO INOXIDABLE FIJA | D26: UND | E26: =MIN(F26:H26) -> 179900 | F26: 179900 | I26: HOMECENTER
B27: 20 | C27: BASE GRANULAR TIPO INVIAS INC. TRANSP | D27: M3 | E27: =MIN(F27:H27) -> 0
B28: 21 | C28: BLOQUE 5 33x23x11.5 | D28: UND | E28: =MIN(F28:H28) -> 1900 | F28: 1900 | I28: HOMECENTER
B29: 22 | C29: BLOQUE ESTRUCTURAL No. 5 12X20X30 cm | D29: UND | E29: =MIN(F29:H29) -> 1450 | F29: 1450 | I29: HOMECENTER
B30: 23 | C30: Bolardo en Concreto 0.30x0.80 Mts sin Cuello | D30: UND | E30: =MIN(F30:H30) -> 84980 | F30: 84980 | I30: HOMECENTER
B31: 24 | C31: BORDILLO PREFABRICADO B-20 (20x10x80cm) | D31: UND | E31: =MIN(F31:H31) -> 23980 | F31: 23980 | I31: HOMECENTER
B32: 25 | C32: BOTE DE BASURA TIPO MILAN TRIPLE O SIMILAR | D32: UND | E32: =MIN(F32:H32) -> 0
B33: 26 | C33: BOTE DE BASURA TIPO PILA 1 O SIMILAR | D33: UND | E33: =MIN(F33:H33) -> 0
B34: 27 | C34: BOUGAINVILLEA AMARILLA O MORADA | D34: UND | E34: =MIN(F34:H34) -> 19800 | F34: 19800 | I34: HOMECENTER
B35: 28 | C35: Breaker enchufable 1x20a | D35: UND | E35: =MIN(F35:H35) -> 20150 | F35: 20150 | I35: HOMECENTER
B36: 29 | C36: Breaker industrial 3x125a | D36: UND | E36: =MIN(F36:H36) -> 865100 | F36: 865100 | I36: HOMECENTER
B37: 30 | C37: Breaker industrial 3x60a | D37: UND | E37: =MIN(F37:H37) -> 183900 | F37: 183900 | I37: HOMECENTER
B38: 31 | C38: Breaker tipo riel 1x30a | D38: UND | E38: =MIN(F38:H38) -> 0
B39: 32 | C39: Brocha 2" | D39: UND | E39: =MIN(F39:H39) -> 12900 | F39: 12900 | I39: HOMECENTER
B40: 33 | C40: BUJE PVC P 3/4" A 1/2" | D40: UND | E40: =MIN(F40:H40) -> 759 | F40: 835 | G40: 840 | H40: 759 | I40: PAVCO, GERFOR, DURMAN
B41: 34 | C41: Cable acsr 1/0 | D41: ML | E41: =MIN(F41:H41) -> 0
...

Sheet EQUIPOS
A1: =+PPTO!A2 -> MANTENIMIENTO DE LAS INSTALACIONES DEL EDIFICIO Y OTRAS DEPENDENCIA DEL MUNICIPAL DE LA ALCALDIA DE NEIVA
A4: AIU | B4: AIU | C4: % | D4: =SUM(D5:D7) -> 0.3
A5: A | B5: ADMISTRACION | C5: % | D5: =+PPTO!E92 -> 0.22
A6: I | B6: IMPREVISTOS | C6: % | D6: =+PPTO!E93 -> 0.03
A7: U | B7: UTILIDAD | C7: % | D7: =+PPTO!E94 -> 0.05
A9: codigo | B9: Nombre | C9: Undad | D9: Valor
A11: EQPO2 | B11: EQUIPO TOPOGRAFIA COMPLETA | C11: DIA | D11: 300000
A12: EQPO4 | B12: CAMABAJA. | C12: GLOBAL | D12: 1000000
A13: EQPO5 | B13: RETROCARGADOR | C13: HORA | D13: =D11 -> 300000
A14: EQPO6 | B14: VOLQUETA,. | C14: VIAJE | D14: 300000
A15: EQPO7 | B15: VIBROCOMPACTADOR | C15: HORA | D15: 90000
A16: EQPO8 | B16: COMPACTADOR (TIPO RANA) | C16: DIA | D16: 25000
A17: EQPO9 | B17: CAMION | C17: GLOBAL | D17: 1000000
A18: EQPO10 | B18: VIBRADOR CONCRETO | C18: HORA | D18: =30000/8 -> 3750
A19: EQPO11 | B19: EQUIPO SOLDADURA | C19: HORA | D19: 10000
A20: EQPO12 | B20: CAMIONETA | C20: DIA | D20: 150000
A21: EQPO13 | B21: EQUIPO PARA PINTURA | C21: DIA | D21: 45000
A22: EQPO14 | B22: MEZCLADOR DE CONCRETO | C22: HORA | D22: 10000
A27: OBRE1 | B27: OBRERO AYUDANTE | C27: DIA | D27: 68000
A28: OBRE2 | B28: OFICIAL | C28: DIA | D28: 85000
A29: OBRE3 | B29: SUPERVISOR | C29: DIA | D29: 35000
A30: OBRE4 | B30: SOLDADOR | C30: DIA | D30: 25000
A31: OBRE5 | B31: ELECTRICISTA | C31: DIA | D31: 90000
A34: MATER1 | B34: ANDAMIO SECCION | C34: DIA | D34: 40000
A35: MATER2 | B35: CONCRETO 2500 PSI | C35: M3 | D35: 332900
A36: MATER3 | B36: HERRAMIENTA MENOR | C36: GLOBAL | D36: 1000
... A39: MATER6 | B39: ALAMBRE GALVANIZADO | C39: KG | D39: 1500
A40: MATER7 | B40: PIEDRA PARA GAVION | C40: M3 | D40: =200000/5 -> 40000
A41: MATER8 | B41: PIEDRA MEDIA ZONGA | C41: M3 | D41: 80000
A42: MATER9 | B42: CONCRETO 3000 PSI | C42: M3 | D42: 380000
A43: MATER10 | B43: ACCESORIOS ELECTRICOS | C43: UND | D43: 1000
A44: MATER11 | B44: MORTERO 1:4 | C44: M3 | D44: 300000
A45: MATER12 | B45: LADRILLO TOLETE | C45: UND | D45: 270
A46: MATER13 | B46: TANQUE DE 500LITROS PARA GUA POTABLE | C46: UND | D46: 140000
A47: MATER14 | B47: TEJA No.4 | C47: M2 | D47: 10000
A48: MATER15 | B48: PINTURA ESMLTE (ACEITE) | C48: GALON | D48: 94400
A49: MATER16 | B49: PINTURA EN VINILO TIPO 1 INTERIORES | C49: Galon | D49: 69900
A50: MATER17 | B50: ESTUCO PLASTICO | C50: GALON | D50: =+Hoja3!G7 -> 25000
A51: MATER18 | B51: MALLA ELECTROSOLDA Q3 | C51: M2 | D51: =2750*2 -> 5500
A52: MATER19 | B52: ALAMBRE DE AMARRE | C52: KG | D52: 2200
...

Sheet SecopII
D1: MUNICIPIO DE NEIVA
D2: MANTENIMIENTO DE LAS INSTALACIONES DEL EDIFICIO Y OTRAS DEPENDENCIA DEL MUNICIPAL DE LA ALCALDIA DE NEIVA
D4: PRESUPUESTO OFICIAL
D6: MANTENIMIENTO Y/O ADECUCAIONES DE PLANEACION , VIVENDA, PROSPECTIVIDAD Y OTROS , INCLUIDO CANAL PERIMETRAL EXTERNE DEL EDIFICIO MUNICIPAL
E7: ESPECIFICACIONES
C8: Nº | D8: ÍTEM PAGO | E8: GENERAL | F8: PARTICULAR | G8: DESCRIPCIÓN | H8: UND | I8: CANTIDAD | J8: VALOR UNITARIO | K8: VALOR TOTAL | M8: RENDIMIENTOS | N8: EQUIPO | O8: MATREIALES | P8: TRASPORTE | Q8: Mno OBRA | R8: TOTAL | S8: AIU | T8: Mno Obra Calificada | U8: dias
D9: 1 | G9: CANALES - BAJANTES
D10: 1.1 | G10: =+ANALISIS74 -> CANAL AGUA LLUVIA METALICA DE 0,35 X 0,20,025M METALICA C.18 (Incluye Suministro e instalacion con sus accesorios) | H10: =+'1.1'!F7 -> ML | I10: =+PPTO!D9 -> 86 | J10: =+'1.1'!H53 -> 165848 | K10: =J10*I10 -> 14262928 | M10: ='1.2'!$B$54 -> 0 | N10: =I10*'1.2'!$H$16 -> 86000 | O10: =I10*'1.2'!$H$26 -> 1780200 | P10: =I10*'1.2'!$H$33 -> 0 | Q10: =I10*'1.2'!$H$43 -> 1754400 | R10: =N10+O10+P10+Q10 -> 3620600 | S10: =R10*30% -> 1086180 | T10: =(80000*U10) -> #DIV/0! | U10: =(I10/M10)/8 -> #DIV/0!
D11: 1.2 | G11: =+ANALISIS1 -> ANGULO METALICO 1 1/2 x 1/8 (Incluye suministro e instalacion y todos los accesorios necesarios para su instalacion) | H11: =+'1.2'!F7 -> UND | I11: =+PPTO!D10 -> 29 | J11: =+'1.2'!H53 -> 54730 | K11: =J11*I11 -> 1587170
D12: 1.3 | G12: =+ANALISIS14 -> TUBERIA 4" SANITARIA PVC PARA BAJANTE EN FACHADA PRINCIPAL (incluye suministro e instalacion) | H12: =+'1.3'!F7 -> ML | I12: =+PPTO!D11 -> 89 | J12: =+'1.3'!H53 -> 84607 | K12: =J12*I12 -> 7530023
D15: 2 | G15: ESTUCO Y PINTURA AREA COMUNES
D16: 2.1 | G16: =+ANALISIS66 -> SUMINISTRO Y APLICACION PINTURA VINILICA TIPO I SOBRE MURO , (Incluye sumistro Pintura, lijado y pintura (3manos) sobre muro ) | H16: =+'2.1-7,2-10.1'!$F$7 -> M2 | I16: =+PPTO!D15 -> 648 | J16: =+'2.1-7,2-10.1'!$H$53 -> 22578 | K16: =J16*I16 -> 14630544 | M16: ='1.2'!$B$54 -> 0 | N16: =I16*'1.2'!$H$16 -> 648000 | O16: =I16*'1.2'!$H$26 -> 13413600 | P16: =I16*'1.2'!$H$33 -> 0 | Q16: =I16*'1.2'!$H$43 -> 13219200 | R16: =N16+O16+P16+Q16 -> 27280800 | S16: =R16*30% -> 8184240 | T16: =(80000*U16) -> #DIV/0! | U16: =(I16/M16)/8 -> #DIV/0!
D17: 2.2 | G17: =+ANALISIS71 -> ESTUCO Y RESANE SOBRE MUROS O PLACA (Incluye el suministro, y aplicación estuco mas lijado ) | H17: =+'2.2-7,3-10.2'!$F$7 -> M2 | I17: =+PPTO!D16 -> 323 | J17: =+'2.2-7,3-10.2'!$H$53 -> 16653 | K17: =J17*I17 -> 5378919 | M17: =#REF! -> #REF! | N17: =I17*#REF! -> #REF! | O17: =I17*#REF! -> #REF! | P17: =I17*#REF! -> #REF! | Q17: =I17*#REF! -> #REF! | R17: =N17+O17+P17+Q17 -> #REF! | S17: =R17*30% -> #REF! | T17: =(80000*U17) -> #REF! | U17: =(I17/M17)/8 -> #REF!
D18: 2.3 | G18: =+ANALISIS69 -> SUMINISTRO Y APLICACION PINTURA GUARDAESCOBA (Incluye sumistro Pintura, lijado y pintura sobre muro) | H18: =+'2.3-10.3'!F7 -> ML | I18: =+PPTO!D17 -> 279 | J18: =+'2.3-10.3'!H53 -> 9634 | K18: =J18*I18 -> 2687886
D19: 2.4 | G19: =+ANALISIS70 -> PINTURA TIPO I SOBRE PLACA (Incluye sumistro, lijado y pintura sobre Placa o ciel raso) | H19: =+'2.4-10.4'!F7 -> M2 | I19: =+PPTO!D18 -> 415 | J19: =+'2.4-10.4'!H53 -> 24182 | K19: =J19*I19 -> 10035530
D20: 3 | G20: CARPINTERIA METALICA, DIVISIONES Y ACCESORIOS
D21: 3.1 | G21: =+ANALISIS67 -> SUMINISTRO E INSTALACION VENTANA EN VIDRIO REFLECTIVO 4MM (Incluye todos los elementos y accesorios para su instalacion) | H21: =+'3.1'!F7 -> M2 | I21: =+PPTO!D20 -> 44.2 | J21: =+'3.1'!H53 -> 205715 | K21: =J21*I21 -> 9092603
D22: 3.2 | G22: =+ANALISIS100 -> SUMINISTRO E INSTALACION POLARIZADO EN FOTO IMPRESIÓN LAMINADO | H22: =+'3.2'!F7 -> M2 | I22: =+PPTO!D21 -> 15.6 | J22: =+'3.2'!H53 -> 133775 | K22: =J22*I22 -> 2086890
D23: 3.3 | G23: =+ANALISIS72 -> DIVISION EN DRY WALL (Incluye suministro e instalacion y accesorios) | H23: =+'3.3'!F7 -> M2 | I23: =+PPTO!D22 -> 3.44 | J23: =+'3.3'!H55 -> 72462 | K23: =J23*I23 -> 249269.28
D24: 3.4 | G24: =+G65 -> SUMINISTRO E INSTALACION PUERTA EN MADERA DE 2X1M (incluye marco metalicoy chapa) | H24: =+'3,4'!F7 -> UND | I24: =+PPTO!D23 -> 1 | J24: =+J65 -> 530140 | K24: =J24*I24 -> 530140
D25: 3.5 | G25: =+'3.5'!A7 -> INSTALACION DE CIERRA PUERTA HIDRAULICO DE 80KG | H25: =+H65 -> M2 | I25: =+PPTO!D24 -> 1 | J25: =+'3.5'!H53 -> 343727 | K25: =J25*I25 -> 343727
D26: 3.6 | G26: =+'3.6'!A7 -> SUMINISTRO E INSTALACION DE PUERTA Y DIVISION EN ALUMINIO, INCLUYE MANO DE OBRA Y ELEMENTOS | H26: =+H21 -> M2 | I26: =+PPTO!D25 -> 8.8 | J26: =+'3.6'!H53 -> 751644 | K26: =J26*I26 -> 6614467.2
D27: 4 | G27: IMPERMEABILIZACION
D28: 4.1 | G28: =+ANALISIS68 -> IMPERMEABILIZACION CANALES MANTO ASFALTICO Y FOIL ALUMINIO | H28: =+'4.1'!F7 -> M2 | I28: =+PPTO!D27 -> 86 | J28: =+'4.1'!H53 -> 71936 | K28: =J28*I28 -> 6186496
G34: SUBTOTAL | K34: =SUM(K10:K33) -> 81216592
D36: PRESUPUESTO OFICIAL ELECTRICO
E38: =+E7 -> ESPECIFICACIONES
C39: Nº | D39: =+D8 -> ÍTEM PAGO | E39: =+E8 -> GENERAL | F39: =+F8 -> PARTICULAR | G39: DESCRIPCIÓN | H39: UND | I39: CANTIDAD | J39: =+J8 -> VALOR UNITARIO | K39: =+K8 -> VALOR TOTAL
G40: INSTALACIONES ELECTRICAS - DATOS
D41: 5 | G41: DESMONTES
D42: 5.1 | G42: DESMONTE DE LUMIINARIA LED EXISTENTE | H42: UND | I42: =+PPTO!D41 -> 60 | J42: =+'5.1-11.1'!H53 -> 17550 | K42: =J42*I42 -> 1053000
D43: 6 | G43: APARATOS ELECTRICOS
D44: 6.1 | G44: =+ANALISIS102 -> SUMINISTRO E INSTALACION LAMAPRAS 60X60 , 40 INCLUYE MARCOS | H44: =+'6.1-8.2-12.1'!F7 -> UND | I44: =+PPTO!D43 -> 60 | J44: =+'6.1-8.2-12.1'!H53 -> 220647 | K44: =J44*I44 -> 13238820
D45: 6.2 | G45: =+'6.2'!ANALISIS102 -> SUMINISTRO E INSTALACION DE CABLE UTP CAT 6A TENDIDO Y CERTIFICADO | H45: ML | I45: =+PPTO!D44 -> 915 | J45: =+'6.2'!H53 -> 10499 | K45: =J45*I45 -> 9606585
D46: 6.3 | G46: =+'6.3'!ANALISIS102 -> SUMINISTRO, TRANSPORTE E INSTALACIÓN DE CANALETA PLASTICA (12 X 5) CM CON DIVISIÓN | H46: =+H45 -> ML | I46: =+PPTO!D45 -> 70 | J46: =+'6.3'!H53 -> 111671 | K46: =J46*I46 -> 7816970
D47: 6.4 | G47: =+'6.4-9.2'!ANALISIS102 -> SALIDA + TOMACORRIENTE DOBLE MONOFASICA - INCLUYE CAJA, TUBERIA | H47: UND | I47: =+PPTO!D46 -> 76 | J47: =+'6.4-9.2'!H53 -> 166653 | K47: =J47*I47 -> 12665628
D48: 6.5 | G48: =+'6.5-9.3'!ANALISIS102 -> TOMACORRIENTE DOBLE POLO A TIERRA REGULADA COLOR NARANJA EN CANALETA | H48: UND | I48: =+PPTO!D47 -> 40 | J48: =+'6.5-9.3'!H53 -> 126439 | K48: =J48*I48 -> 5057560
D49: 6.6 | G49: =+'6.6'!ANALISIS102 -> SUMINISTRO E INSTALACIÓN DE SALIDA LÓGICA PARA VOZ Y DATOS SENCILLO CATEGORIA 6A | H49: UND | I49: =+PPTO!D48 -> 40 | J49: =+'6.6'!H53 -> 123046 | K49: =J49*I49 -> 4921840
D50: 6.7 | G50: =+'6.7'!ANALISIS102 -> CABLEADO 2#12 PE HF LS TC POR TUBERÍA, CANALETA O BANDEJA | H50: ML | I50: =+PPTO!D49 -> 600 | J50: =+'6.7'!H53 -> 12225 | K50: =J50*I50 -> 7335000
D51: 6.8 | G51: =+'6.8'!ANALISIS102 -> SWITCH 24 PUERTOS MARCA 3COM O EQUIVALENTE (SUMINISTRO E INSTALACIÓN) INCLUYE PATCH CORD | H51: UND | I51: =+PPTO!D50 -> 1 | J51: =+'6.8'!H53 -> 1971297 | K51: =J51*I51 -> 1971297
...

Sheet Cant.Resume
A9: PINTURA SOBRE MURO | B9: CANT. PINTURA | C9: UND | D9: CANT. ESTUCO | E9: UND | F9: CANT. GUARDAESCOBA | G9: UND | H9: CANT. PLACA | I9: UND | J9: CANT. Fto impresión | K9: UND | L9: CANT. Vidrio reflectivo | M9: UND | N9: CANT. Super board | O9: UND
A10: PLANEACION | B10: =+'Cant. Planea'!G105 -> 373 | C10: M2 | D10: =+'Cant. Planea'!G106 -> 186 | E10: M2 | F10: =+'Cant. Planea'!G109 -> 164 | G10: ML | H10: =+'Cant. Planea'!G111 -> 259 | I10: M2 | J10: =+'Cant. Planea'!E123 -> 15.6 | K10: M2 | L10: =+'Cant. Planea'!E137 -> 44.2 | M10: M2
A11: PROSPECTIVIDAD | B11: =+'Cant.Prospe'!G49 -> 111 | C11: M2 | D11: =+'Cant.Prospe'!G50 -> 55 | E11: M2 | F11: =+'Cant.Prospe'!G53 -> 49 | G11: ML | H11: =+'Cant.Prospe'!G55 -> 63 | I11: M2
A12: TIC | B12: =+'Cant. TIC'!G43 -> 94 | C12: M2 | D12: =+'Cant. TIC'!G44 -> 47 | E12: M2 | F12: =+'Cant. TIC'!G47 -> 33 | G12: ML | H12: =+'Cant. TIC'!G49 -> 40 | I12: M2
A13: DAMA | B13: =+'Cant. Dama'!G55 -> 200 | C13: M2 | D13: =+'Cant. Dama'!G56 -> 120 | E13: M2 | F13: =+'Cant. Dama'!G59 -> 77 | G13: ML | H13: =+'Cant. Dama'!G61 -> 97 | I13: M2
A14: LACTANCIA | B14: =+'Cant.Lacta'!G49 -> 19 | C14: M2 | D14: =+'Cant.Lacta'!G50 -> 10 | E14: M2 | F14: =+'Cant.Lacta'!G53 -> 6 | G14: ML | H14: =+'Cant.Lacta'!G55 -> 6 | I14: M2 | N14: =+'Cant.Lacta'!E37 -> 17 | O14: M2
A15: VIVIENDA | B15: =+'Cant. Vivienda'!G36 -> 70 | C15: M2 | D15: =+'Cant. Vivienda'!G37 -> 35 | E15: M2 | F15: =+'Cant. Vivienda'!G40 -> 33 | G15: ML | H15: =+'Cant. Vivienda'!G42 -> 53 | I15: M2
A16: TOTAL | B16: =SUM(B10:B15) -> 867 | C16: =+C14 -> M2

Sheet CANTIDADES OBRA
B2: PISO 2 - ALCALDIA
B4: AMBIENTE | C4: VIVIENDA 1
C5: LONGITUD PARED | D5: ALTURA | E5: AREA PAREDES | F5: GUARDA ESCOBA | G5: AREA PLACA | H5: AREA PLACA
B6: Antepecho 1 | C6: 5.13 | D6: 0.8 | E6: 4.3092 | F6: 5.13 | G6: 33.28815 | H6: 33.28815
B7: Antepecho 2 | C7: 6.18 | D7: 0.8 | E7: 5.1912 | F7: 6.18
B8: Pared 1 | C8: 6.18 | D8: 3.5 | E8: 22.7115 | F8: 6.18
B9: Pared 2 | C9: 5.13 | D9: 3.5 | E9: 18.85275 | F9: 5.13
B10: SUBTOTAL | E10: =SUM(E6:E9) -> 51.06465 | F10: =SUM(F6:F9) -> 22.62
B11: AMBIENTE | C11: VIVIENDA 2
B12: Pared 1 | C12: 5.85 | D12: 3.5 | E12: 21.49875 | F12: 5.85 | G12: 35.18865 | H12: 35.18865
B13: Pared 2 | C13: 5.74 | D13: 3.5 | E13: 21.0945 | F13: 5.74
B14: Pared 3 | C14: 5.85 | D14: 3.5 | E14: 21.49875 | F14: 5.85
B15: Antepecho 1 | C15: 5.7 | D15: 0.8 | E15: 4.788 | F15: 5.7
B16: SUBTOTAL | E16: =SUM(E12:E15) -> 68.88 | F16: =SUM(F12:F15) -> 23.14
B17: AMBIENTE | C17: DESPACHO PLANEACION
B18: Pared 1 | C18: 7.29 | D18: 3.5 | E18: 26.79075 | F18: 7.29 | G18: 40.6707 | H18: 40.6707
B19: Pared 2 | C19: 5.6 | D19: 3.5 | E19: 20.58 | F19: 5.6
B20: Antepecho 1 | C20: 5.06 | D20: 0.9 | E20: 4.7817 | F20: 5.06
B21: SUBTOTAL | E21: =SUM(E18:E20) -> 52.15245 | F21: =SUM(F18:F20) -> 17.95
B22: AMBIENTE | C22: CONTRALORIA
B23: Antepecho 1 | C23: 5.37 | D23: 0.9 | E23: 5.07465 | F23: 5.37 | G23: 29.60265 | H23: 29.60265
B24: Pared 1 | C24: 5.25 | D24: 3.5 | E24: 19.29375 | F24: 5.25
B25: Pared 2 | C25: 5.25 | D25: 3.5 | E25: 19.29375 | F25: 5.25
B26: SUBTOTAL | E26: =SUM(E23:E25) -> 43.66215
B27: AMBIENTE | C27: PLANEACION
B28: Antepecho 1 | C28: 12.3 | D28: 0.9 | E28: 11.6235 | F28: 12.3 | G28: 93.30825 | H28: 93.30825
B29: Pared 1 | C29: 5.4 | D29: 3.5 | E29: 19.845 | F29: 5.4
B30: Pared 2 | C30: 7.29 | D30: 3.5 | E30: 26.79075 | F30: 7.29
B31: SUBTOTAL | E31: =SUM(E28:E30) -> 58.25925 | F31: =SUM(F28:F30) -> 24.99
B32: AMBIENTE | C32: PROSPECTIVA
B33: Antepecho 1 | C33: 5.14 | D33: 0.9 | E33: 4.8573 | F33: 5.14 | G33: 20.4897 | H33: 20.4897
B34: Pared 1 | C34: =+C33 -> 5.14 | D34: 3 | E34: =+C34*D34 -> 15.42 | F34: 3.76
B35: Pared 2 | C35: 3.76 | D35: 3 | E35: =+C35*D35 -> 11.28 | F35: 3.76
B36: SUBTOTAL | E36: =SUM(E33:E35) -> 31.5573 | F36: =SUM(F33:F35) -> 12.66
B37: AMBIENTE | C37: OFICINA TIC´S
B38: Antepecho 1 | C38: 4.048 | D38: 0.9 | E38: 3.82536 | F38: 4.048 | G38: 43.16655 | H38: 43.16655
B39: Pared 1 | C39: 2.11 | D39: 3.5 | E39: 7.75425 | F39: 2.11
B40: Pared 2 | C40: 6.12 | D40: 3.5 | E40: 22.491 | F40: 6.12
B41: Pared 3 | C41: 3.37 | D41: 3.5 | E41: 12.38475 | F41: 3.37
B42: Pared 4 | C42: 4.75 | D42: 3.5 | E42: 17.45625 | F42: 4.75
...

Sheet CANTIDADES OBRA2
A1: PISO 2 - SECRETARIA DE AMBIENTE
A3: AMBIENTE | B3: SEDAMA
B4: LONGITUD PARED | C4: ALTURA | D4: AREA PAREDES | E4: AREA PLACA
A5: Antepecho 1 | B5: 7.82 | C5: 0.8 | D5: =C5*B5 -> 6.256 | E5: 48.68
A6: Pared 1 | B6: 6.35 | C6: 3.5 | D6: =C6*B6 -> 22.225
A7: Pared 2 | B7: 2.55 | C7: 3.5 | D7: =C7*B7 -> 8.925
A8: Pared 3 | B8: 1.35 | C8: 3.5 | D8: =C8*B8 -> 4.725
A9: Pared 4 | B9: 2.97 | C9: 3.5 | D9: =C9*B9 -> 10.395
A10: Pared 5 | B10: 1.79 | C10: 3.5 | D10: =C10*B10 -> 6.265
A11: Pared 6 | B11: 0.55 | C11: 3.5 | D11: =C11*B11 -> 1.925
A12: SUBTOTAL | D12: =SUM(D5:D11) -> 60.716
A13: AMBIENTE | B13: OFICINA 1
B14: LONGITUD PARED | C14: ALTURA | D14: AREA PAREDES | E14: AREA PLACA
A15: Antepecho 1 | B15: 3.5 | C15: 0.8 | D15: =C15*B15 -> 2.8 | E15: 15.64
A16: Antepecho 2 | B16: 3.34 | C16: 0.8 | D16: =C16*B16 -> 2.672
A17: Pared 1 | B17: 2.91 | C17: 3.5 | D17: =C17*B17 -> 10.185
A18: Pared 2 | B18: 4 | C18: 3.5 | D18: =C18*B18 -> 14
A19: Pared 3 | B19: 0.75 | C19: 3.5 | D19: =C19*B19 -> 2.625
A20: SUBTOTAL | D20: =SUM(D15:D19) -> 32.282
A21: AMBIENTE | B21: OFICINA 2
B22: LONGITUD PARED | C22: ALTURA | D22: AREA PAREDES | E22: AREA PLACA
A23: Antepecho 1 | B23: 3.1 | C23: 0.8 | D23: =C23*B23 -> 2.48 | E23: 12.54
A24: Pared 1 | B24: 4 | C24: 3.5 | D24: =C24*B24 -> 14
A25: Pared 2 | B25: 4 | C25: 3.5 | D25: =C25*B25 -> 14
A26: Pared 3 | B26: 3.1 | C26: 3.5 | D26: =C26*B26 -> 10.85
A27: SUBTOTAL | D27: =SUM(D23:D26) -> 41.33
A28: AMBIENTE | B28: OFICINA 3
B29: LONGITUD PARED | C29: ALTURA | D29: AREA PAREDES | E29: AREA PLACA
A30: Antepecho 1 | B30: 4.03 | C30: 0.8 | D30: =C30*B30 -> 3.224 | E30: 14.4
A31: Antepecho 2 | B31: 3.5 | C31: 0.8 | D31: =C31*B31 -> 2.8
A32: Pared 1 | B32: 4 | C32: 3.5 | D32: =C32*B32 -> 14
A33: Pared 2 | B33: 3.49 | C33: 3.5 | D33: =C33*B33 -> 12.215
A34: SUBTOTAL | D34: =SUM(D30:D33) -> 32.239
D35: AREA PAREDES | E35: AREA PLACA
A36: TOTAL | D36: =(D12+D20+D27+D34)*1.05 -> 174.89535 | E36: =(E5+E15+E23+E30)*1.05 -> 95.823
A38: AMBIENTE | B38: GUARDA ESCOBA
B39: LONGITUD PARED | C39: ALTURA | D39: AREA PAREDES | E39: AREA PLACA
B40: =+(B33+B32+B31+B30+B26+B25+B24+B23+B15+B16+B17+B18+B19+B5+B6+B7+B8+B9+B10+B11)*2 -> 134.2
A42: PISO 2 - OFICINAS DAP Y ARCHIVO
A44: AMBIENTE | B44: SEDAMA
...

Sheet MATERIAL
A10: DESCRIPCION | B10: UND | C10: SUR MATERIAL | D10: F. HORIZONTE | E10: F. MEDELLIN | F10: F.SURTIMOS | G10: DEPOSITO C | H10: FERROCED | I10: PINTUMAX | J10: RAPILLAVES | K10: LUZ MARINA | L10: F. MAGRETH | M10: HOMECENTER | N10: PROMEDIO
A11: =MATER76 -> CANAL METALICA C.18 DE 0.30X0.20X0.25M | P11: =+A11 -> CANAL METALICA C.18 DE 0.30X0.20X0.25M
A12: =MATER104 -> ANGULO metalico 1 1/2 x 1/8 x (25x40)cm | P12: =+A12 -> ANGULO metalico 1 1/2 x 1/8 x (25x40)cm
A13: =MATER84 -> CHAZOS METALICOS 2 1/2" | P13: =+A13 -> CHAZOS METALICOS 2 1/2"
A14: TUBO PVC AGUA LLUVIAS 4" | B14: TUBO 6M | D14: 230000 | F14: 177000 | G14: =45000*6 -> 270000 | N14: =AVERAGE(C14:M14) -> 225666.67 | O14: =+N14/6 -> 37611.111 | P14: =+A14 -> TUBO PVC AGUA LLUVIAS 4"
A15: =MATER89 -> PEGANTE PVC | B15: 1/4 | D15: 160000 | F15: 150000 | G15: 72000 | N15: =AVERAGE(C15:M15) -> 127333.33 | O15: =+N15*4 -> 509333.33 | P15: =+A15 -> PEGANTE PVC
A16: =MATER16 -> PINTURA EN VINILO TIPO 1 INTERIORES | B16: CANECA 5 GALONES | C16: 325000 | D16: 250000 | F16: 360000 | G16: =45000*5 -> 225000 | H16: 265000 | I16: 210000 | K16: =31600*5 -> 158000 | L16: 270000 | N16: =AVERAGE(C16:M16) -> 257875 | O16: =+N16/5 -> 51575 | P16: =+A16 -> PINTURA EN VINILO TIPO 1 INTERIORES
A17: PINTURA ESMALTE | B17: GALON | G17: 65000 | M17: 118900 | N17: =AVERAGE(C17:M17) -> 91950 | P17: =+A17 -> PINTURA ESMALTE
A18: disovente tinner | B18: GALON | M18: 36900 | N18: =AVERAGE(C18:M18) -> 36900 | P18: =+A18 -> disovente tinner
