Workbook

Sheet AU OBRA CIVIL
C1: ESE IMSALUD
C2: PROYECTO: | F2: ADECUACION DEL PUESTO DE SALUD LA FLORESTA CORREGIMIENTO BUENA ESPERANZA DE LA ESE IMSALUD DEL DEPARTAMENTO DE NORTE DE SANTANDER
C5: CALCULO ADMINISTRACION Y UTILIDAD CONTRATO OBRA CIVIL | G5: COSTOS DIRECTOS OBRA CIVIL | J5: 290945065
C6: CONSIDERACIONES GENERALES | G6: AIU ESTIMADO OBRA CIVIL | J6: =J5*0.3 -> 87283520
G7: COSTO OBRA CIVIL ESTIMADO | J7: =+J5+J6 -> 3.7822858e+08
G8: TERMINO DE EJECUCIÓN DE OBRA (MESES) | J8: 3
B10: A1. ADMINISTRACIÓN
B11: A1.1 PERSONAL PROFESIONAL Y ESPECIALISTAS
B12: CANT. | D12: DESCRIPCION DEL CARGO | E12: MES 1 | F12: DEDICACIÓN MES | G12: VALOR MENSUAL INC. PRESTACIONES | I12: TOTAL H/MES | J12: VALOR TOTAL
B14: 1 | C14: Cat II N8 | D14: Director Obra | E14: 3 | F14: 0.4 | G14: =+FM!G6 -> 4036395 | H14: 4 | I14: =+B14*E14*F14 -> 1.2 | J14: =ROUND((G14*I14),0) -> 4843674
B15: 1 | C15: Cat II N6 | D15: Residente obra (Ingeniero o Arquitecto) | E15: 3 | F15: 1 | G15: =+FM!G7 -> 3165800 | H15: 5 | I15: =+B15*E15*F15 -> 3 | J15: =ROUND((G15*I15),0) -> 9497400
B16: 1 | C16: Cat II N4 | D16: Profesional SST | E16: 3 | F16: 0.7 | G16: =+FM!G8 -> 2374350 | H16: 11 | I16: =+B16*E16*F16 -> 2.1 | J16: =ROUND((G16*I16),0) -> 4986135
B17: A1.2 PERSONAL TÉCNICO Y PERSONAL AUXILIAR
B18: 1 | C18: Cat I N7 | D18: Maestro / Tecnico constructor | E18: 3 | F18: 1 | G18: =+FM!G10 -> 3007510 | H18: 12 | I18: =+B18*E18*F18 -> 3 | J18: =ROUND((G18*I18),0) -> 9022530
B19: COSTOS PERSONAL | J19: =SUM(J14:J18) -> 28349739
J20: =+J19/$J$5 -> 0.097440178
B22: A2. COSTOS Y GASTOS OPERACIONALES
B23: CANT | G23: COSTO | I23: DURACION MESES | J23: VALOR ($)
B24: 1 | D24: Gastos de papelería, fotocopias, impresión de informes y manuales de mantenimiento, etc. | G24: 250000 | I24: 3 | J24: =(B24*G24*I24) -> 750000
B25: SUBTOTAL GASTOS OPERACIONALES | J25: =SUM(J24:J24) -> 750000
J26: =+J25/$J$5 -> 0.0025778062
B28: A3. IMPUESTOS TASAS Y CONTRIBUCIONES
B29: ITEM | D29: DESCRIPCIÓN | G29: VR. BASE | I29: IMPUESTO % | J29: VALOR ($)
B30: 1 | D30: Estampilla Pro-Cultura | G30: =$J$5/1.19 -> 2.4449165e+08 | I30: 0.01 | J30: =G30*I30 -> 2444916.5
B31: 2 | D31: Estampilla, para el Bienestar del adulto mayor | G31: =$J$5/1.19 -> 2.4449165e+08 | I31: 0.02 | J31: =G31*I31 -> 4889833
B32: 3 | D32: estampilla Pro-Hospital Erasmo Meoz | G32: =$J$5/1.19 -> 2.4449165e+08 | I32: 0.02 | J32: =G32*I32 -> 4889833
B33: 4 | D33: Tasa Prodeportes | G33: =$J$5/1.19 -> 2.4449165e+08 | I33: 0.02 | J33: =G33*I33 -> 4889833
B34: 5 | D34: ICA | G34: =$J$5/1.19 -> 2.4449165e+08 | I34: 0.01 | J34: =G34*I34 -> 2444916.5
B35: 6 | D35: RETEIVA | G35: =$J$5*19% -> 55279562 | I35: 0.15 | J35: =G35*I35 -> 8291934.4
B36: 7 | D36: RETEFUENTE | G36: =$J$5/1.19 -> 2.4449165e+08 | I36: 0.025 | J36: =G36*I36 -> 6112291.3
B38: SUBTOTAL IMPUESTOS | J38: =SUM(J30:J36) -> 33963558
J39: =+J38/$J$5 -> 0.11673529
B40: A4. GARANTIAS
B41: DESCRIPCIÓN | F41: VR. BASE | G41: % ASEGURADO | H41: VIGENCIA AMPARO (MESES) | I41: TASA ASEGURADORA | J41: VALOR ($)
B42: G.UNICA | D42: CUMPLIMIENTO | F42: =+J5 -> 290945065 | G42: 0.1 | H42: 6 | I42: 0.0017018485 | J42: =+I42*G42*F42 -> 49514.443 | T42: =+R42*G42*F42 -> 0
D43: BUEN MANEJO DE ANTICIPO | F43: =+$J$5*G43 -> 87283520 | G43: 0.3 | H43: 6 | I43: 0.0037819297 | J43: =+I43*G43*F43 -> 99030.04
D44: SALARIOS Y PRESTACIONES SOCIALES | F44: =+$J$5*G44 -> 29094506 | G44: 0.1 | H44: 6 | I44: 0.011345921 | J44: =+I44*G44*F44 -> 33010.398
D45: ESTABILIDAD Y CALIDAD DE OBRA | F45: =+$J$5*G45 -> 29094506 | G45: 0.1 | H45: 6 | I45: 0.010211012 | J45: =+I45*G45*F45 -> 29708.435
D46: CALIDAD MATERIALES Y PROCEDIMIENTOS CONSTRUCTIVOS | F46: =+$J$5*G46 -> 29094506 | G46: 0.1 | H46: 6 | I46: 0.011345921 | J46: =+I46*G46*F46 -> 33010.398
D47: RESPONSABILIDAD CIVIL | F47: =+$J$5*G47 -> 29094506 | G47: 0.1 | H47: 6 | I47: 0.017634137 | J47: =+I47*G47*F47 -> 51305.651
...

Sheet FM
B2: A. ADMINISTRACIÓN
B3: A1.1 PERSONAL PROFESIONAL Y ESPECIALISTAS
B4: CANT. | D4: DESCRIPCION DEL CARGO | E4: VALOR MENSUAL DEVENGADO | F4: PRESTACIONES SOCIALES PERSONAL | G4: VALOR MENSUAL INC. PRESTACIONES
B6: 1 | C6: Cat II N8 | D6: Director Obra | E6: 2550000 | F6: =+'PRESTACIONES SOCIALES'!$D$13 -> 1.5829 | G6: =ROUND((E6*F6),0) -> 4036395 | H6: 4
B7: 1 | C7: Cat II N6 | D7: Residente obra (Ingeniero o Arquitecto) | E7: 2000000 | F7: =+'PRESTACIONES SOCIALES'!$D$13 -> 1.5829 | G7: =ROUND((E7*F7),0) -> 3165800 | H7: 5
B8: 1 | C8: Cat II N4 | D8: Profesional SST | E8: 1500000 | F8: =+'PRESTACIONES SOCIALES'!$D$13 -> 1.5829 | G8: =ROUND((E8*F8),0) -> 2374350 | H8: 11
B9: A1.2 PERSONAL TÉCNICO Y PERSONAL AUXILIAR
B10: 1 | C10: Cat I N7 | D10: Maestro / Tecnico constructor | E10: 1900000 | F10: =+'PRESTACIONES SOCIALES'!$D$13 -> 1.5829 | G10: =ROUND((E10*F10),0) -> 3007510 | H10: 13
B11: 1 | C11: Cat I N6 | D11: Almacenista | E11: 1462000 | F11: =+'PRESTACIONES SOCIALES'!$D$13 -> 1.5829 | G11: =ROUND((E11*F11),0) -> 2314200 | H11: 13

Sheet PRESTACIONES SOCIALES
B2: SALARIOS Y PRESTACIONES SOCIALES PERSONAL PROFESIONAL
B3: 1 | C3: Salarios | D3: 1
B4: 2 | C4: Prima Anual (legal) | D4: 0.0833
B5: 3 | C5: Cesantías | D5: 0.0833
B6: 4 | C6: Intereses de Cesantías | D6: 0.01
B7: 5 | C7: Vacaciones | D7: 0.0417
B8: 6 | C8: Seguridad Social (Salud + Pensión) | D8: 0.205
B9: 7 | C9: Caja de Compensación familiar | D9: 0.04
B10: 8 | C10: ARL | D10: 0.0696
B11: 9 | C11: SENA | D11: 0.02
B12: 10 | C12: ICBF | D12: 0.03
C13: SUBTOTAL | D13: =SUM(D3:D12) -> 1.5829
