Workbook
Name \a: #REF!
Name \a: #REF!
Name \a: #REF!
Name \b: #REF!
Name \b: #REF!
Name \b: #REF!
Name \eliminar: [1]RESUM96!#REF!
Name \eliminar: [1]RESUM96!#REF!
Name \eliminar: [1]RESUM96!#REF!
Name \eliminar1: [1]RESUM96!#REF!
Name \eliminar1: [1]RESUM96!#REF!
Name \eliminar1: [1]RESUM96!#REF!
Name \q: #REF!
Name \q: #REF!
Name \q: #REF!
Name _______________EST1: #REF!
Name _______________EST1: #REF!
Name _______________EST1: #REF!
Name _______________EST1: #REF!
Name _______________EST10: #REF!
Name _______________EST10: #REF!
Name _______________EST10: #REF!
Name _______________EST10: #REF!
Name _______________EST11: #REF!
Name _______________EST11: #REF!
Name _______________EST11: #REF!
Name _______________EST11: #REF!
Name _______________EST12: #REF!
Name _______________EST12: #REF!
Name _______________EST12: #REF!
Name _______________EST12: #REF!
Name _______________EST13: #REF!
Name _______________EST13: #REF!
Name _______________EST13: #REF!
Name _______________EST13: #REF!
Name _______________EST14: #REF!
Name _______________EST14: #REF!
Name _______________EST14: #REF!
Name _______________EST14: #REF!
Name _______________EST15: #REF!
Name _______________EST15: #REF!
Name _______________EST15: #REF!
Name _______________EST15: #REF!
Name _______________EST16: #REF!
Name _______________EST16: #REF!
Name _______________EST16: #REF!
Name _______________EST16: #REF!
Name _______________EST17: #REF!
Name _______________EST17: #REF!
Name _______________EST17: #REF!
Name _______________EST17: #REF!
Name _______________EST18: #REF!
Name _______________EST18: #REF!
Name _______________EST18: #REF!
Name _______________EST18: #REF!
Name _______________EST19: #REF!
Name _______________EST19: #REF!
Name _______________EST19: #REF!
Name _______________EST19: #REF!
Name _______________EST2: #REF!

Sheet PRESUPUESTO OFICIAL
B2: PRESUPUESTO TOTAL : | D2: =H27 -> 468285461 | E2: DURACIÓN EN MESES | H2: 6
B3: INTERVENTORÍA INTEGRAL DEL CONTRATO DE OBRA CUYO OBJETO CORRESPONDE A: CONTRATAR A PRECIOS UNITARIOS FIJOS SIN FÓRMULA DE REAJUSTE Y A MONTO AGOTABLE, LAS ACTIVIDADES REQUERIDAS PARA DEMOLICIÓN DE EDIFICACIONES, TRANSPORTE Y DISPOSICIÓN FINAL DE ESCOMBROS, CERRAMIENTO, SEÑALIZACIÓN Y/O MANTENIMIENTO DE PREDIOS PRODUCTO DEL PROCESO DE REASENTAMIENTO DE FAMILIAS EN ALTO RIESGO NO MITIGABLE EN LAS DIFERENTES LOCALIDADES DE BOGOTÁ D.C
B5: 1 | C5: PERSONAL ESPECIALISTA, PROFESIONAL O DE APOYO
B6: ITEM | C6: DESCRIPCIÓN | D6: DEDICACIÓN MENSUAL (A) | E6: CANTIDAD (B) | F6: TIEMPO EN MESES (C) | G6: VALOR MENSUAL (D) | H6: VALOR TOTAL (A X B X C X D)
B7: 1.1 | C7: DIRECTOR DE INTERVENTORIA | D7: 0.2 | E7: 1 | F7: =$H$2 -> 6 | G7: ='Referencia IDU'!G27 -> 9060000 | H7: =ROUND(D7*E7*F7*G7,0) -> 10872000 | J7: CAT 4
B8: 1.2 | C8: RESIDENTE DE INTERVENTORIA | D8: 1 | E8: 2 | F8: =$H$2 -> 6 | G8: ='Referencia IDU'!G29 -> 7287000 | H8: =ROUND(D8*E8*F8*G8,0) -> 87444000 | J8: CAT 6
B9: 1.3 | C9: ESPECIALISTA EN ESTRUCTURAS | D9: 0.1 | E9: 1 | F9: =$H$2 -> 6 | G9: ='Referencia IDU'!G27 -> 9060000 | H9: =ROUND(D9*E9*F9*G9,0) -> 5436000 | J9: CAT 4
B10: 1.4 | C10: PROFESIONAL PMT | D10: 0.1 | E10: 1 | F10: =$H$2 -> 6 | G10: ='Referencia IDU'!G30 -> 5510000 | H10: =ROUND(D10*E10*F10*G10,0) -> 3306000 | J10: CAT 7
B11: 1.5 | C11: PROFESIONAL AMBIENTAL Y SST | D11: 0.67 | E11: 1 | F11: =$H$2 -> 6 | G11: ='Referencia IDU'!G30 -> 5510000 | H11: =ROUND(D11*E11*F11*G11,0) -> 22150200 | J11: CAT 7
B12: 1.6 | C12: PROFESIONAL SOCIAL | D12: 0.65 | E12: 1 | F12: =$H$2 -> 6 | G12: ='Referencia IDU'!G30 -> 5510000 | H12: =ROUND(D12*E12*F12*G12,0) -> 21489000 | J12: CAT 7
B13: 1.7 | C13: PROFESIONAL JURIDICO | D13: 0.15 | E13: 1 | F13: =$H$2 -> 6 | G13: ='Referencia IDU'!G30 -> 5510000 | H13: =ROUND(D13*E13*F13*G13,0) -> 4959000 | J13: CAT 7
B14: SUBTOTAL 1 | H14: =+SUM(H7:H13) -> 155656200
B15: FACTOR MULTIPLICADOR | H15: ='FACTOR MULTIPLICADOR'!E52 -> 2.17
B16: SUBTOTAL 1 - PERSONAL | H16: =+ROUND((H15*H14),0) -> 337773954 | K16: =H16/H2 -> 56295659
B18: 2. | C18: COSTOS OPERACIONALES
B19: ITEM | C19: DESCRIPCIÓN | D19: UNIDAD | E19: CANTIDAD (A) | F19: Dedicación Mes (B) | G19: VALOR MES (C) | H19: VALOR TOTAL (A X B X C)
C20: ALQUILER EQUIPO, SUMINISTROS Y OTROS ELEMENTOS
B21: 2.1 | C21: TARIFA MES - ALQUILER DE VEHICULO MES: CAMPERO, PICK-UP, CAMIONETA, CAMION O SIMILAR MAYOR A 2000cc DE CILINDRADA, MODELO 2014 A 2011. 75% DE LA TARIFA ESTABLECIDA. INCLUYE TODOS LOS COSTOS DE OPERACIÓN Y MANTENIMIENTO EXCEPTO EL SALARIO DEL CONDUCTOR. | D21: mes | E21: =$H$2 -> 6 | F21: 1 | G21: ='Referencia IDU'!G9 -> 6657000 | H21: =ROUND(E21*F21*G21,0) -> 39942000
B22: 2.2 | C22: TARIFA MES - PERSONAL AUXILIAR TÉCNICO CONDUCTOR O MOTORISTA (INCLUYE FACTOR DE PRESTACIONES) | D22: mes | E22: =$H$2 -> 6 | F22: 1 | G22: ='Referencia IDU'!G35 -> 2633540 | H22: =ROUND(E22*F22*G22,0) -> 15801240
B23: SUBTOTAL 2 | H23: =+SUM(H21:H22) -> 55743240
B25: TOTAL COSTOS DIRECTOS (1 + 2 ) | H25: =ROUND((H16+H23),0) -> 393517194 | J25: 3122416516 | K25: PO OBRA
B26: IVA - 19% | H26: =ROUND(H25*19%,0) -> 74768267 | J26: =H27/J25 -> 0.14997533 | K26: DEL PO OBRA
B27: TOTAL PRESUPUESTO | H27: =H25+H26 -> 468285461 | J27: =H27/'Referencia IDU'!G16 -> 328.96766 | K27: SMMLV
C32: valor contrato de obra | D32: =+J25 -> 3122416516 | G32: Valor en ficha 3.000 | H32: 374560822
C33: valor cto interventoria | D33: =+H27 -> 468285461 | G33: Valor interventoria | H33: =+H27 -> 468285461
C34: % inverventoria / obra | D34: =+D33/D32 -> 0.14997533 | G34: diferencia | H34: =+H32-H33 -> -93724639
H37: 468285461
H38: 468564349
H39: =+H38-H37 -> 278888

Sheet Referencia IDU
J2: CATEGORIA | K2: PROFESIONAL (AÑOS) | L2: EXP ESPECIFICA (Años)
J3: 1 | K3: Mínimo 12 | L3: Mínimo 10
J4: 2 | K4: Mínimo 10 | L4: Mínimo 7
B5: INSUMOS | G5: Fecha de publicación: 22/01/2025 | J5: 3 | K5: Mínimo 8 | L5: Mínimo 5
G6: Fecha del último ajuste parcial: 22/01/2025 | J6: 4 | K6: Mínimo 6 | L6: Mínimo 4
G7: Resumen de fechas de publicación y ajustes: clic aquí | J7: 5 | K7: Mínimo 4 | L7: Mínimo 3
A8: 0 | B8: Origen | C8: Grupo de base de datos | D8: Código | E8: Nombre | F8: UM | G8: Precio | H8: Fecha de Actualización | J8: 6 | K8: Mínimo 3 | L8: Mínimo 1
B9: Demanda | C9: TARIFA _ ALQUILER DE VEHICULO | D9: 12786 | E9: TARIFA MES - ALQUILER DE VEHICULO MES: CAMPERO, PICK-UP, CAMIONETA, CAMION O SIMILAR MAYOR A 2000cc DE CILINDRADA, MODELO 2014 A 2011. 75% DE LA TARIFA ESTABLECIDA. INCLUYE TODOS LOS COSTOS DE OPERACIÓN Y MANTENIMIENTO EXCEPTO EL SALARIO DEL CONDUCTOR. | F9: MES | G9: 6657000 | H9: Actualización 2024-I Fase II + MO 2025 | J9: 7 | K9: Mínimo 2
B10: Demanda | C10: TARIFA _ OPERACIÓN OFICINA | D10: 9576 | E10: TARIFA MES - ARRIENDO OFICINA INCL. ADMINISTRACIÓN, SERVICIOS PÚBLICOS, COMUNICACIONES | F10: M2/MES | G10: 51916 | H10: Actualización 2024-I Fase II + MO 2025 | J10: 8 | K10: Hasta 2
B11: Demanda | C11: TARIFA _ OBRA | D11: 9577 | E11: TARIFA MES - ALQUILER CAMPAMENTOS INCL. SERVICIOS PÚBLICOS PROVISIONALES | F11: M2/MES | G11: 25982 | H11: Actualización 2024-I Fase II + MO 2025
B12: Demanda | C12: TARIFA _ OPERACIÓN OFICINA | D12: 9576 | E12: TARIFA MES - ARRIENDO OFICINA INCL. ADMINISTRACIÓN, SERVICIOS PÚBLICOS, COMUNICACIONES | F12: M2/MES | G12: 51916 | H12: Actualización 2024-I Fase II + MO 2025
B13: Demanda | C13: TARIFA _ OPERACIÓN OFICINA | D13: 9578 | E13: TARIFA MES - GASTOS OFICINA (PAPELERIA, FOTOCOPIAS Y OTROS) | F13: GLB/MS | G13: 1199778 | H13: Actualización 2024-I Fase II + MO 2025
B14: Demanda | C14: TARIFA _ OPERACIÓN OFICINA | D14: 9840 | E14: TARIFA MES - EDICIÓN DE INFORME MENSUAL DE INTERVENTORÍA O CONSULTORÍA. Incluye 4 tapas plastificadas tamaño carta color blanco, con 6 tornillos, hojas de papel bond tamaño carta 75 gramos, 170 folios | F14: UN/MES | G14: 251000 | H14: Actualización 2024-I Fase II + MO 2025
B15: Demanda | C15: ELEMENTOS DE BIOSEGURIDAD | D15: 12028 | E15: DISPOSICIÓN FINAL DE RESIDUOS PELIGROSOS(MATERIALES CON CARACTERÍSTICAS DE PELIGROSIDAD TÓXICA, CORROSIVO, INFLAMABLES, EXPLOSIVOS Y/O ESPECIALES (RESIDUOS APROVECHABLES MEZCLADOS, COLCHONES, SOFÁS, F | F15: KG | G15: 2118 | H15: Actualización 2024-I Fase I | I15: este item ya no se debe utilizar por la derogación de la resolucion
B16: Demanda | C16: SUELDOS Y JORNALES | D16: 7308 | E16: TARIFA MES - SMMLV | F16: MES | G16: 1423500 | H16: Actualización 2024-I Fase II + MO 2025
B17: Demanda | C17: SUELDOS Y JORNALES | D17: 9088 | E17: TARIFA MES - PERSONAL TÉCNICO - TOPÓGRAFO INSPECTOR (NO INCLUYE FACTOR DE PRESTACIONES) | F17: MES | G17: 3555000 | H17: Actualización 2024-I Fase II + MO 2025
B18: Demanda | C18: SUELDOS Y JORNALES | D18: 9098 | E18: TARIFA MES - PERSONAL AUXILIAR TÉCNICO - CADENERO 1 (NO INCLUYE FACTOR DE PRESTACIONES) | F18: MES | G18: 2204000 | H18: Actualización 2024-I Fase II + MO 2025
B19: Demanda | C19: SUELDOS Y JORNALES | D19: 9099 | E19: TARIFA MES - PERSONAL AUXILIAR TÉCNICO - CADENERO 2 (NO INCLUYE FACTOR DE PRESTACIONES) | F19: MES | G19: 1920000 | H19: Actualización 2024-I Fase II + MO 2025
B20: Demanda | C20: SUELDOS Y JORNALES | D20: 9461 | E20: TARIFA MES - PERSONAL DE OBRA - OFICIAL (NO INCLUYE FACTOR DE PRESTACIONES) | F20: MES | G20: 2135250 | H20: Actualización 2024-I Fase II + MO 2025
B21: Demanda | C21: SUELDOS Y JORNALES | D21: 9459 | E21: TARIFA MES - PERSONAL TÉCNICO - OPERADOR EQUIPO PERFORACIÓN (NO INCLUYE FACTOR DE PRESTACIONES) | F21: MES | G21: 2828000 | H21: Actualización 2024-I Fase II + MO 2025
B22: Demanda | C22: SUELDOS Y JORNALES | D22: 9464 | E22: TARIFA MES - PERSONAL DE OBRA - OPERARIO (NO INCLUYE FACTOR DE PRESTACIONES) | F22: MES | G22: 2847000 | H22: Actualización 2024-I Fase II + MO 2025
B23: Demanda | C23: SUELDOS Y JORNALES | D23: 8689 | E23: TARIFA JORNAL - PERSONAL DE OBRA - TECNICO SOLDADOR (INCLUYE FACTOR DE PRESTACIONES) | F23: JR | G23: 130939 | H23: Actualización 2024-I Fase II + MO 2025
B24: Demanda | C24: SUELDOS Y JORNALES | D24: 9107 | E24: TARIFA MES - PROFESIONAL CATEGORÍA 1 (NO INCLUYE FACTOR DE PRESTACIONES) | F24: MES | G24: 16543000 | H24: Actualización 2024-I Fase II + MO 2025
B25: Demanda | C25: SUELDOS Y JORNALES | D25: 9108 | E25: TARIFA MES - PROFESIONAL CATEGORÍA 2 (NO INCLUYE FACTOR DE PRESTACIONES) | F25: MES | G25: 12608000 | H25: Actualización 2024-I Fase II + MO 2025
B26: Demanda | C26: SUELDOS Y JORNALES | D26: 9109 | E26: TARIFA MES - PROFESIONAL CATEGORÍA 3 (NO INCLUYE FACTOR DE PRESTACIONES) | F26: MES | G26: 10640000 | H26: Actualización 2024-I Fase II + MO 2025
B27: Demanda | C27: SUELDOS Y JORNALES | D27: 9110 | E27: TARIFA MES - PROFESIONAL CATEGORÍA 4 (NO INCLUYE FACTOR DE PRESTACIONES) | F27: MES | G27: 9060000 | H27: Actualización 2024-I Fase II + MO 2025
... B36: Demanda | C36: SUELDOS Y JORNALES | D36: 9575 | E36: TARIFA MES - PERSONAL TÉCNICO - CELADOR ARMADO (24 horas por 30 dias dividos en 3 turnos de 8 horas diarias. Incluye prestaciones de ley, Administraciòn y servicios). | F36: MES | G36: 14320209 | H36: Actualización 2024-I Fase II + MO 2025

Sheet FACTOR MULTIPLICADOR
D3: ='PRESUPUESTO OFICIAL'!B3 -> INTERVENTORÍA INTEGRAL DEL CONTRATO DE OBRA CUYO OBJETO CORRESPONDE A: CONTRATAR A PRECIOS UNITARIOS FIJOS SIN FÓRMULA DE REAJUSTE Y A MONTO AGOTABLE, LAS ACTIVIDADES REQUERIDAS PARA DEMOLICIÓN DE EDIFICACIONES, TRANSPORTE Y DISPOSICIÓN FINAL DE ESCOMBROS, CERRAMIENTO, SEÑALIZACIÓN Y/O MANTENIMIENTO DE PREDIOS PRODUCTO DEL PROCESO DE REASENTAMIENTO DE FAMILIAS EN ALTO RIESGO NO MITIGABLE EN LAS DIFERENTES LOCALIDADES DE BOGOTÁ D.C
C5: CALCULO DEL FACTOR MULTIPLICADOR PERSONAL | I5: DURACION CONTRATO (MESES) | J5: ='PRESUPUESTO OFICIAL'!H2 -> 6
I6: TOTAL COSTOS DIRECTOS | J6: ='PRESUPUESTO OFICIAL'!H25 -> 393517194
C7: ITEM | D7: CONCEPTO | E7: PORCENTAJE | I7: TOTAL ANTES DE IVA | J7: 393517194 | K7: =J7-J6 -> 0 | L7: DIFERENCIA
C8: 1. | D8: Salarios y Prestaciones Sociales de Personal Facturable | I8: VALOR TOTAL DEL CONTRATO | J8: ='PRESUPUESTO OFICIAL'!H27 -> 468285461 | K8: =J8/'Referencia IDU'!G16 -> 328.96766 | L8: SMMLV
C9: 1.1. | D9: Salarios | E9: 1 | I9: VALOR MENSUAL | J9: ='FACTOR MULTIPLICADOR'!J7/'FACTOR MULTIPLICADOR'!J5 -> 65586199 | K9: =+J6/6 -> 65586199
C10: 1.2. | D10: Subsidio de transporte | E10: 0 | I10: Valor mensual personal | J10: ='PRESUPUESTO OFICIAL'!K16 -> 56295659
C11: 1.3 | D11: Prima de servicios (Junio -Diciembre) | E11: =1/12 -> 0.083333333
C12: 1.4 | D12: Cesantías | E12: =1/12 -> 0.083333333
C13: 1.5 | D13: Intereses de cesantías | E13: 0.01
C14: 1.6 | D14: Vacaciones | E14: =+E12/2 -> 0.041666667
C15: 1.7 | D15: Seguridad Social (salud 8,5% + pensión 12%) o (salud 12,5% + Pension 16%) | E15: =8.5%+12% -> 0.205
C16: 1.8 | D16: ARL (Depende del riesgo de la Actividad a Contratar .) (**) | E16: 0.0696
C17: 1.9 | D17: Caja de Compensación Familiar | E17: 0.04
C18: 1.10 | D18: Sena | E18: 0.02
C19: 1.11 | D19: ICBF | E19: 0.03
C20: 1.12 | D20: Otros (Auxilios varios, prestaciones extralegales, Incapacidades no cubiertas) | E20: 0
C21: 1.13 | D21: Dotación (Para Ingresos Laborales hasta 2 SMLV, Demas cuando son actividades de Campo o que requieran dotacion) | E21: 0
D22: Sub-total | E22: =ROUND(SUM(E9:E21),4) -> 1.5829
J23: serv oficina
C24: 2. | D24: Gastos Directos | I24: servicio de oficina | J24: CANT | K24: VR. REF, | L24: % DEDICACION | M24: No. requ | N24: Vr Total | O24: Vr mensual | P24: Base
C25: 2.1 | D25: Arriendo y servicios oficina | E25: =O25/$P$25 -> 0.039578449 | J25: 6 | K25: ='Referencia IDU'!G10*50 -> 2595800 | L25: 1 | M25: 1 | N25: =J25*K25*L25*M25 -> 15574800 | O25: =N25/$J$5 -> 2595800 | P25: =$J$9 -> 65586199
D26: Sub-total | E26: =SUM(E25:E25) -> 0.039578449
C27: 3. | D27: Gastos Generales
C28: 3.1 | D28: Asesoria Legal y Contable | E28: =O28/$P$25 -> 0.025054051 | I28: asesoria legal | J28: 6 | K28: ='Referencia IDU'!G31*'FACTOR PRESTACIONAL'!F24 -> 8216000 | L28: 0.1 | M28: 2 | N28: =J28*K28*L28*M28 -> 9859200 | O28: =N28/$J$5 -> 1643200 | P28: =$J$9 -> 65586199
C29: 3.2 | D29: Personal Administrativo no facturable (secretaria, mesajero, vigilancia) | E29: =O29/$P$25 -> 0.040153874 | I29: personal admin | J29: 6 | K29: ='Referencia IDU'!G35 -> 2633540 | L29: 0.5 | M29: 2 | N29: =J29*K29*L29*M29 -> 15801240 | O29: =N29/$J$5 -> 2633540 | P29: =$J$9 -> 65586199
C30: 3.3 | D30: Mantenimiento y Operación Oficina | E30: =O30/$P$25 -> 0.018293147 | I30: mto y oper oficina | J30: 6 | K30: ='Referencia IDU'!G13 -> 1199778 | L30: 1 | M30: 1 | N30: =J30*K30*L30*M30 -> 7198668 | O30: =N30/$J$5 -> 1199778 | P30: =$J$9 -> 65586199
C31: 3.4 | D31: Útiles y Papelería | E31: =O31/$P$25 -> 0.0044648621 | I31: utiles y papeleria | J31: 7 | K31: ='Referencia IDU'!G14 -> 251000 | L31: 1 | M31: 1 | N31: =J31*K31*L31*M31 -> 1757000 | O31: =N31/$J$5 -> 292833.33 | P31: =$J$9 -> 65586199
C32: 3.5 | D32: Gastos Bancarios y Costos Financieros | E32: 0.015
C33: 3.6 | D33: Hardware, Software y Licencias | E33: 0.01
C34: 3.7 | D34: Relaciones Públicas y Gastos de Representación | E34: 0.01
C35: 3.8 | D35: Celulares y comunicaciones | E35: 0.01
D36: Sub-total | E36: =SUM(E28:E35) -> 0.13296594
C37: 4. | D37: Costos Directos no Reembolsables | J37: CANT | K37: VR. REF, | L37: % | M37: Dracion | N37: Tasa | O37: Valor | P37: Base | R37: RESPONSABILIDAD CIVIL
C38: 4.1 | D38: Póliza de Cumplimiento | E38: =O38/P38 -> 0.0072000056 | L38: 0.2 | M38: =$J$5+12 -> 18 | N38: 0.004 | O38: =ROUND($J$7*L38*M38/12*N38,0) -> 472221 | P38: =$J$9 -> 65586199 | R38: 200 SMLV | S38: 1500 SLMV
C39: 4.2 | D39: Póliza de Calidad | E39: =O39/P39 -> 0.011999994 | L39: 0.2 | M39: =$J$5+24 -> 30 | N39: 0.004 | O39: =ROUND($J$7*L39*M39/12*N39,0) -> 787034 | P39: =$J$9 -> 65586199 | R39: 300 SMLV | S39: 1500 A 2500
C40: 4.3 | D40: Póliza Salarios y prestaciones Sociales | E40: =O40/P40 -> 0.0062999992 | L40: 0.1 | M40: =$J$5+36 -> 42 | N40: 0.003 | O40: =ROUND($J$7*L40*M40/12*N40,0) -> 413193 | P40: =$J$9 -> 65586199 | R40: 400 SMLV | S40: 2500 A 5000
C41: 4.4 | D41: Póliza Responsabilidad Civil Extracontractual | E41: =O41/P41 -> 0.0011999933 | L41: 0.1 | M41: =$J$5 -> 6 | N41: 0.004 | O41: =ROUND($J$7*L41*M41/12*N41,0) -> 78703 | P41: =$J$9 -> 65586199 | R41: 5% CUANDO SEA SUPERIOR A 10000 SMLV HASTA 75000
C42: 4.5 | D42: Estampilla U. Distrital | E42: =O42/P42 -> 0.011 | L42: 0.011 | O42: =L42*$J$7 -> 4328689.1 | P42: =$J$7 -> 393517194 | R42: RETEFUENTE | T42: 0.11
C43: 4.6 | D43: Estampilla Pro Cultura | E43: =O43/P43 -> 0.005 | L43: 0.005 | O43: =L43*$J$7 -> 1967586 | P43: =$J$7 -> 393517194 | R43: ICA | T43: 0.0069
...

Sheet FACTOR PRESTACIONAL
D3: ='PRESUPUESTO OFICIAL'!B3 -> INTERVENTORÍA INTEGRAL DEL CONTRATO DE OBRA CUYO OBJETO CORRESPONDE A: CONTRATAR A PRECIOS UNITARIOS FIJOS SIN FÓRMULA DE REAJUSTE Y A MONTO AGOTABLE, LAS ACTIVIDADES REQUERIDAS PARA DEMOLICIÓN DE EDIFICACIONES, TRANSPORTE Y DISPOSICIÓN FINAL DE ESCOMBROS, CERRAMIENTO, SEÑALIZACIÓN Y/O MANTENIMIENTO DE PREDIOS PRODUCTO DEL PROCESO DE REASENTAMIENTO DE FAMILIAS EN ALTO RIESGO NO MITIGABLE EN LAS DIFERENTES LOCALIDADES DE BOGOTÁ D.C
C5: CALCULO DEL FACTOR PRESTACIONAL
C7: ITEM | D7: CONCEPTO | F7: PORCENTAJE
C8: 1. | D8: Salarios y Prestaciones Sociales de Personal Facturable
C9: 1.1. | D9: Salarios | F9: 1
C10: 1.2. | D10: Subsidio de transporte | F10: 0
C11: 1.3 | D11: Prima de servicios (Junio -Diciembre) | F11: =1/12 -> 0.083333333
C12: 1.4 | D12: Cesantías | F12: =1/12 -> 0.083333333
C13: 1.5 | D13: Intereses de cesantías | E13: x 1.3. = | F13: 0.01
C14: 1.6 | D14: Vacaciones | F14: =+F12/2 -> 0.041666667
C15: 1.7 | D15: Seguridad Social (salud 8,5% + pensión 12%) o (salud 12,5% + Pension 16%) | F15: =8.5%+12% -> 0.205
C16: 1.8 | D16: ARL (Depende del riesgo de la Actividad a Contratar .) (**) | F16: 0.0696
C17: 1.9 | D17: Caja de Compensación Familiar | F17: 0.04
C18: 1.10 | D18: Sena | F18: 0.02
C19: 1.11 | D19: ICBF | F19: 0.03
C20: 1.12 | D20: Otros (Auxilios varios, prestaciones extralegales, Incapacidades no cubiertas) | F20: 0
C21: 1.13 | D21: Dotación (Para Ingresos Laborales hasta 2 SMLV, Demas cuando son actividades de Campo o que requieran dotacion) | F21: 0
E22: Sub-total | F22: =ROUND(SUM(F9:F21),4) -> 1.5829
F24: =ROUND(F22,2) -> 1.58

Sheet Hoja2
