Workbook
Name _: #REF!
Name _: #REF!
Name _: #REF!
Name _________PJ50: #REF!
Name _________PJ50: #REF!
Name _________PJ50: #REF!
Name ________PJ50: #REF!
Name ________PJ50: #REF!
Name ________PJ50: #REF!
Name _______PJ50: #REF!
Name _______PJ50: #REF!
Name _______PJ50: #REF!
Name ______PJ50: #REF!
Name ______PJ50: #REF!
Name ______PJ50: #REF!
Name _____PJ50: #REF!
Name _____PJ50: #REF!
Name _____PJ50: #REF!
Name ____PJ50: #REF!
Name ____PJ50: #REF!
Name ____PJ50: #REF!
Name ___PJ50: #REF!
Name ___PJ50: #REF!
Name ___PJ50: #REF!
Name __PJ50: #REF!
Name __PJ50: #REF!
Name __PJ50: #REF!
Name _Fill: #REF!
Name _Fill: #REF!
Name _Fill: #REF!
Name _IPC2002: #REF!
Name _IPC2002: #REF!
Name _IPC2002: #REF!
Name _PJ50: #REF!
Name _PJ50: #REF!
Name _PJ50: #REF!
Name A_impresión_IM: #REF!
Name A_impresión_IM: #REF!
Name A_impresión_IM: #REF!
Name aa: #REF!
Name aa: #REF!
Name aa: #REF!
Name AAA: #REF!
Name AAA: #REF!
Name AAA: #REF!
Name Adm: #REF!
Name Adm: #REF!
Name Adm: #REF!
Name ANALISIS__DE__PRECIOS__UNITARIOS: #REF!
Name ANALISIS__DE__PRECIOS__UNITARIOS: #REF!
Name ANALISIS__DE__PRECIOS__UNITARIOS: #REF!
Name ANTIC: #REF!
Name ANTIC: #REF!
Name ANTIC: #REF!
Name APU: #REF!
Name APU: #REF!
Name APU: #REF!
Name BaseGeneral: #REF!
Name BaseGeneral: #REF!
Name BaseGeneral: #REF!

Sheet CANTIDADES
A1: MANTENIMIENTO, MEJORAMIENTO Y ADECUACIONES LOCATIVAS DE LAS INSTITUCIONES EDUCATIVAS JUAN XXIII, BELLAVISTA Y SIMÓN BOLÍVAR EN EL MUNICIPIO DE MALAMBO – DEPARTAMENTO DEL ATLÁNTICO.
A3: ITEM | B3: DESCRIPCIÓN | C3: UND | D3: CANT.
A4: 1 | B4: INSTITUCION EDUCATIVA JUAN XXIII
A5: 1.1 | B5: MODULOS ESCOLARES
A6: 1,1,1 | B6: OBRAS PRELIMINARES
A7: 1,1,1,1 | B7: Demolición de zabaleta existente, incluye equipo y mano de obra. | C7: ML | D7: 35
A8: 1,1,1,2 | B8: Desmonte de cubierta existente en lamina ondulada de asbesto cemento, incluye equipo y mano de obra. | C8: M2 | D8: 480
A9: 1,1,1,3 | B9: Desmonte de cielo raso existente, incluye equipo y mano de obra. | C9: M2 | D9: 210
A10: 1,1,1,4 | B10: Desmonte de abanicos existentes, incluye equipo y mano de obra. | C10: UND | D10: 20
A11: 1,1,1,5 | B11: Demolicion de piso de cemento, incluye equipo y mano de obra. | C11: M2 | D11: 125
A12: 1,1,1,6 | B12: Desmonte de lámparas existentes, incluye equipo y mano de obra. | C12: UND | D12: 10
A13: 1,1,1,7 | B13: Desmonte de instalaciones eléctricas existentes, incluye equipo y mano de obra. | C13: GL | D13: 1
A14: 1,1,1,8 | B14: Localización y replanteo con equipo de nivelación (comisión topografica mes) | C14: GL | D14: 1
A15: 1,1,2 | B15: CUBIERTAS
A16: 1,1,2,1 | B16: Suministro e instalación de correas en perfiles estructurales PAG 160 mm x 60 x 1,9 mm, incluye material, equipo y mano de obra. | C16: ML | D16: 413
A17: 1,1,2,2 | B17: Suministro e instalación de tensores para soporte de cielo raso en Angulo de 1" x 1" x 1/8", incluye materiales, equipo y mano de obra. | C17: ML | D17: 299
A18: 1,1,2,3 | B18: Instalación de cubierta en laminas onduladas existente de asbesto cemento, incluye equipo y mano de obra. | C18: M2 | D18: 386
A19: 1,1,2,4 | B19: Suministro e instalación cubierta en láminas ondulada de asbesto cemento perfil 7, incluye materiales, equipo y mano de obra. | C19: M2 | D19: 92
A20: 1,1,2,5 | B20: Suministro e instalación de caballete fijo, incluye materiales, equipo y mano de obra. | C20: ML | D20: 6
A21: 1,1,2,6 | B21: Instalación de caballete fijo existente, incluye equipo y mano de obra. | C21: ML | D21: 60
A22: 1,1,2,7 | B22: Zabaleta en block de cemento pañetada con mortero impermeabilizado 1:5, incluye materiales, equipo y mano de obra. | C22: ML | D22: 35
A23: 1,1,2,8 | B23: Impermeabilización de zabaleta con manto edil, equipo al caliente y pintura alumol, incluye materiales, equipo y mano de obra. | C23: ML | D23: 35
A24: 1,1,2,9 | B24: Suministro e instalación de cielo raso en perfilaría de aluminio y lamina plana de PVC | C24: M2 | D24: 342
A25: 1,1,3 | B25: INSTALACIONES ELECTRICAS
A26: 1,1,3,1 | B26: Instalación de abanicos existentes, incluye equipo y mano de obra. | C26: UND | D26: 20
A27: 1,1,3,2 | B27: suminitro e instalacion de lamparas hermeticas, incluye tubos, equipos y mano de obra. | C27: UND | D27: 15
A28: 1,1,3,3 | B28: Suministro e instalación de lámparas tipo panel led 60x60, incluye equipo y mano de obra. | C28: UND | D28: 20
A29: 1,1,3,4 | B29: Salida de alumbrado común 110V, incluye materiales, equipo y mano de obra. | C29: UND | D29: 8
A30: 1,1,3,5 | B30: Salida de punto de abanico, incluye materiales, equipo y mano de obra. | C30: UND | D30: 20
A31: 1,1,3,6 | B31: Salida de tomacorriente común 110V, incluye materiales, equipo y mano de obra. | C31: UND | D31: 35
A32: 1,1,3,7 | B32: Salida de tomacorriente común 220V, incluye materiales, equipo y mano de obra. | C32: UND | D32: 7
A33: 1,1,3,8 | B33: Acometida en cable 7 hilos N° 12, centelsa o similar, incluye materiales, equipo y mano de obra. | C33: ML | D33: 280
A34: 1,1,3,9 | B34: Tablero de 8 circuitos, incluye breaker, incluye materiales, equipo y mano de obra. | C34: UND | D34: 2
A35: 1,1,3,10 | B35: Acometida Eléctrica principal, de entrada a tableros en cable 7 hilos de cobre #10, incluye materiales, equipo y mano de obra. | C35: ML | D35: 50
A36: 1,1,3,11 | B36: Suministro e instalación de abanicos de pared Samurai o similar, incluye materiales, equipo y mano de obra. | C36: UND | D36: 8
A37: 1,1,4 | B37: MAMPOSTERIA
A38: 1,1,4,1 | B38: Pañete allanado en mortero 1:5 en áreas de engolose, incluye materiales, equipo y mano de obra. | C38: ML | D38: 480
A39: 1,1,4,2 | B39: Engolose de cubiertas a muros, mortero 1 :5, incluye materiales, equipo y mano de obra. | C39: ML | D39: 132
A40: 1,1,5 | B40: PISOS
A41: 1,1,5,1 | B41: Plantilla en concreto de 2500 psi., E= 0,05 mts., incluye materiales,equipo y mano de obra. | C41: M2 | D41: 140
...

Sheet PRESUPUESTO INST EDUC. 
A2: MANTENIMIENTO, MEJORAMIENTO Y ADECUACIONES LOCATIVAS DE LAS INSTITUCIONES EDUCATIVAS JUAN XXIII, BELLAVISTA, SIMÓN BOLÍVAR, MARÍA AUXILIADORA Y CONCORDE SEDE B EN EL MUNICIPIO DE MALAMBO – DEPARTAMENTO DEL ATLÁNTICO.
A4: PRESUPUESTO
A5: ITEM | B5: DESCRIPCIÓN | C5: UND | D5: CANT. | E5: VR. UNITARIO | F5: VR. TOTAL
A6: 1 | B6: INSTITUCION EDUCATIVA JUAN XXIII
A7: 1.1 | B7: MODULOS ESCOLARES
A8: 1,1,1 | B8: OBRAS PRELIMINARES
A9: 1,1,1,1 | B9: Demolición de zabaleta existente, incluye equipo y mano de obra. | C9: ML | D9: 35 | E9: =+'ITEM 1,1,1'!I39 -> 28327 | F9: =D9*E9 -> 991445 | H9: 28325 | I9: 991375 | J9: =+E9-H9 -> 2 | K9: =+H9/1.03 -> 27500 | L9: =+E9/K9 -> 1.0300727
A10: 1,1,1,2 | B10: Desmonte de cubierta existente en lamina ondulada de asbesto cemento, incluye equipo y mano de obra. | C10: M2 | D10: 480 | E10: =+'ITEM 1,1,1'!I79 -> 47166 | F10: =D10*E10 -> 22639680 | H10: 47164.73 | I10: 22639070 | J10: =+E10-H10 -> 1.27 | K10: =+H10/1.03 -> 45791 | L10: =+E10/K10 -> 1.0300277
A11: 1,1,1,3 | B11: Desmonte de cielo raso existente, incluye equipo y mano de obra. | C11: M2 | D11: 210 | E11: =+'ITEM 1,1,1'!I119 -> 33581 | F11: =D11*E11 -> 7052010 | H11: 33006.35 | I11: 6931333.5 | J11: =+E11-H11 -> 574.65 | K11: =+H11/1.03 -> 32045 | L11: =+E11/K11 -> 1.0479326
A12: 1,1,1,4 | B12: Desmonte de abanicos existentes, incluye equipo y mano de obra. | C12: UND | D12: 20 | E12: =+'ITEM 1,1,1'!I158 -> 27295 | F12: =D12*E12 -> 545900 | H12: 27295 | I12: 545900 | J12: =+E12-H12 -> 0 | K12: =+H12/1.03 -> 26500 | L12: =+E12/K12 -> 1.03
A13: 1,1,1,5 | B13: Demolicion de piso de cemento, incluye equipo y mano de obra. | C13: M2 | D13: 125 | E13: =+'ITEM 1,1,1'!I198 -> 59123 | F13: =D13*E13 -> 7390375 | H13: 59123.03 | I13: 7390378.8 | J13: =+E13-H13 -> -0.03 | K13: =+H13/1.03 -> 57401 | L13: =+E13/K13 -> 1.0299995
A14: 1,1,1,6 | B14: Desmonte de lámparas existentes, incluye equipo y mano de obra. | C14: UND | D14: 10 | E14: =+'ITEM 1,1,1'!I238 -> 27295 | F14: =D14*E14 -> 272950 | H14: 27295 | I14: 272950 | J14: =+E14-H14 -> 0 | K14: =+H14/1.03 -> 26500 | L14: =+E14/K14 -> 1.03
A15: 1,1,1,7 | B15: Desmonte de instalaciones eléctricas existentes, incluye equipo y mano de obra. | C15: GL | D15: 1 | E15: =+'ITEM 1,1,1'!I278 -> 471740 | F15: =D15*E15 -> 471740 | H15: 471740 | I15: 471740 | J15: =+E15-H15 -> 0 | K15: =+H15/1.03 -> 458000 | L15: =+E15/K15 -> 1.03
A16: 1,1,1,8 | B16: Localización y replanteo con equipo de nivelación (comisión topografica mes) | C16: GL | D16: 1 | E16: =+'ITEM 1,1,1'!I318 -> 16578022 | F16: =D16*E16 -> 16578022 | H16: 16274000 | I16: 16274000 | J16: =+E16-H16 -> 304022 | K16: =+H16/1.03 -> 15800000 | L16: =+E16/K16 -> 1.0492419
A17: 1,1,2 | B17: CUBIERTAS | H17: 0 | I17: 0 | J17: =+E17-H17 -> 0 | K17: =+H17/1.03 -> 0 | L17: =+E17/K17 -> #DIV/0!
A18: 1,1,2,1 | B18: Suministro e instalación de correas en perfiles estructurales PAG 160 mm x 60 x 1,9 mm, incluye material, equipo y mano de obra. | C18: ML | D18: 413 | E18: =+'ITEM 1,1,2'!I39 -> 149349 | F18: =D18*E18 -> 61681137 | H18: 149350 | I18: 61681550 | J18: =+E18-H18 -> -1 | K18: =+H18/1.03 -> 145000 | L18: =+E18/K18 -> 1.0299931
A19: 1,1,2,2 | B19: Suministro e instalación de tensores para soporte de cielo raso en Angulo de 1" x 1" x 1/8", incluye materiales, equipo y mano de obra. | C19: ML | D19: 299 | E19: =+'ITEM 1,1,2'!I79 -> 18512 | F19: =D19*E19 -> 5535088 | H19: 18487.47 | I19: 5527753.5 | J19: =+E19-H19 -> 24.53 | K19: =+H19/1.03 -> 17949 | L19: =+E19/K19 -> 1.0313666
A20: 1,1,2,3 | B20: Instalación de cubierta en laminas onduladas existente de asbesto cemento, incluye equipo y mano de obra. | C20: M2 | D20: 386 | E20: =+'ITEM 1,1,2'!I119 -> 37580 | F20: =D20*E20 -> 14505880 | H20: 36678.3 | I20: 14157824 | J20: =+E20-H20 -> 901.7 | K20: =+H20/1.03 -> 35610 | L20: =+E20/K20 -> 1.0553215
A21: 1,1,2,4 | B21: Suministro e instalación cubierta en láminas ondulada de asbesto cemento perfil 7, incluye materiales, equipo y mano de obra. | C21: M2 | D21: 92 | E21: =+'ITEM 1,1,2'!I159 -> 89952 | F21: =D21*E21 -> 8275584 | H21: 90101.31 | I21: 8289320.5 | J21: =+E21-H21 -> -149.31 | K21: =+H21/1.03 -> 87477 | L21: =+E21/K21 -> 1.0282932
A22: 1,1,2,5 | B22: Suministro e instalación de caballete fijo, incluye materiales, equipo y mano de obra. | C22: ML | D22: 6 | E22: =+'ITEM 1,1,2'!I199 -> 46700 | F22: =D22*E22 -> 280200 | H22: 47998 | I22: 287988 | J22: =+E22-H22 -> -1298 | K22: =+H22/1.03 -> 46600 | L22: =+E22/K22 -> 1.0021459
A23: 1,1,2,6 | B23: Instalación de caballete fijo existente, incluye equipo y mano de obra. | C23: ML | D23: 60 | E23: =+'ITEM 1,1,2'!I239 -> 18747 | F23: =D23*E23 -> 1124820 | H23: 18746 | I23: 1124760 | J23: =+E23-H23 -> 1 | K23: =+H23/1.03 -> 18200 | L23: =+E23/K23 -> 1.0300549
A24: 1,1,2,7 | B24: Zabaleta en block de cemento pañetada con mortero impermeabilizado 1:5, incluye materiales, equipo y mano de obra. | C24: ML | D24: 35 | E24: =+'ITEM 1,1,2'!I281 -> 83474 | F24: =D24*E24 -> 2921590 | H24: 84797.84 | I24: 2967924.4 | J24: =+E24-H24 -> -1323.84 | K24: =+H24/1.03 -> 82328 | L24: =+E24/K24 -> 1.0139199
A25: 1,1,2,8 | B25: Impermeabilización de zabaleta con manto edil, equipo al caliente y pintura alumol, incluye materiales, equipo y mano de obra. | C25: ML | D25: 35 | E25: =+'ITEM 1,1,2'!I323 -> 82970 | F25: =D25*E25 -> 2903950 | H25: 83945 | I25: 2938075 | J25: =+E25-H25 -> -975 | K25: =+H25/1.03 -> 81500 | L25: =+E25/K25 -> 1.0180368
A26: 1,1,2,9 | B26: Suministro e instalación de cielo raso en perfilaría de aluminio y lamina plana de PVC | C26: M2 | D26: 342 | E26: =+'ITEM 1,1,2'!I366 -> 94031 | F26: =D26*E26 -> 32158602 | H26: 95378 | I26: 32619276 | J26: =+E26-H26 -> -1347 | K26: =+H26/1.03 -> 92600 | L26: =+E26/K26 -> 1.0154536
A27: 1,1,3 | B27: INSTALACIONES ELECTRICAS | H27: 0 | I27: 0 | J27: =+E27-H27 -> 0 | K27: =+H27/1.03 -> 0 | L27: =+E27/K27 -> #DIV/0!
A28: 1,1,3,1 | B28: Instalación de abanicos existentes, incluye equipo y mano de obra. | C28: UND | D28: 20 | E28: =+'ITEM 1,1,3'!I42 -> 49696 | F28: =D28*E28 -> 993920 | H28: 49697.5 | I28: 993950 | J28: =+E28-H28 -> -1.5 | K28: =+H28/1.03 -> 48250 | L28: =+E28/K28 -> 1.0299689
A29: 1,1,3,2 | B29: suminitro e instalacion de lamparas hermeticas, incluye tubos, equipos y mano de obra. | C29: UND | D29: 15 | E29: =+'ITEM 1,1,3'!I82 -> 183340 | F29: =D29*E29 -> 2750100 | H29: 183340 | I29: 2750100 | J29: =+E29-H29 -> 0 | K29: =+H29/1.03 -> 178000 | L29: =+E29/K29 -> 1.03
A30: 1,1,3,3 | B30: Suministro e instalación de lámparas tipo panel led 60x60, incluye equipo y mano de obra. | C30: UND | D30: 20 | E30: =+'ITEM 1,1,3'!I122 -> 231753 | F30: =D30*E30 -> 4635060 | H30: 231750 | I30: 4636400 | J30: =+E30-H30 -> 3 | K30: =+H30/1.03 -> 225000 | L30: =+E30/K30 -> 1.0300133
A31: 1,1,3,4 | B31: Salida de alumbrado común 110V, incluye materiales, equipo y mano de obra. | C31: UND | D31: 8 | E31: =+'ITEM 1,1,3'!I165 -> 177901 | F31: =D31*E31 -> 1423208 | H31: 177160 | I31: 1417280 | J31: =+E31-H31 -> 741 | K31: =+H31/1.03 -> 172000 | L31: =+E31/K31 -> 1.0343081
A32: 1,1,3,5 | B32: Salida de punto de abanico, incluye materiales, equipo y mano de obra. | C32: UND | D32: 20 | E32: =+'ITEM 1,1,3'!I208 -> 177901 | F32: =D32*E32 -> 3558020 | H32: 177160 | I32: 3543200 | J32: =+E32-H32 -> 741 | K32: =+H32/1.03 -> 172000 | L32: =+E32/K32 -> 1.0343081
A33: 1,1,3,6 | B33: Salida de tomacorriente común 110V, incluye materiales, equipo y mano de obra. | C33: UND | D33: 35 | E33: =+'ITEM 1,1,3'!I251 -> 175553 | F33: =D33*E33 -> 6144355 | H33: 174935.2 | I33: 6122732 | J33: =+E33-H33 -> 617.8 | K33: =+H33/1.03 -> 169840 | L33: =+E33/K33 -> 1.0336375
A34: 1,1,3,7 | B34: Salida de tomacorriente común 220V, incluye materiales, equipo y mano de obra. | C34: UND | D34: 7 | E34: =+'ITEM 1,1,3'!I294 -> 203528 | F34: =D34*E34 -> 1424696 | H34: 203425 | I34: 1423975 | J34: =+E34-H34 -> 103 | K34: =+H34/1.03 -> 197500 | L34: =+E34/K34 -> 1.0305215
A35: 1,1,3,8 | B35: Acometida en cable 7 hilos N° 12, centelsa o similar, incluye materiales, equipo y mano de obra. | C35: ML | D35: 280 | E35: =+'ITEM 1,1,3'!I337 -> 22827 | F35: =D35*E35 -> 6391560 | H35: 22866 | I35: 6402480 | J35: =+E35-H35 -> -39 | K35: =+H35/1.03 -> 22200 | L35: =+E35/K35 -> 1.0282432
A36: 1,1,3,9 | B36: Tablero de 8 circuitos, incluye breaker, incluye materiales, equipo y mano de obra. | C36: UND | D36: 2 | E36: =+'ITEM 1,1,3'!I380 -> 489220.5 | F36: =D36*E36 -> 978441 | H36: 489250 | I36: 978500 | J36: =+E36-H36 -> -29.5 | K36: =+H36/1.03 -> 475000 | L36: =+E36/K36 -> 1.0299379
A37: 1,1,3,10 | B37: Acometida Eléctrica principal, de entrada a tableros en cable 7 hilos de cobre #10, incluye materiales, equipo y mano de obra. | C37: ML | D37: 50 | E37: =+'ITEM 1,1,3'!I423 -> 37595 | F37: =D37*E37 -> 1879750 | H37: 37623.84 | I37: 1881192 | J37: =+E37-H37 -> -28.84 | K37: =+H37/1.03 -> 36528 | L37: =+E37/K37 -> 1.0292105
A38: 1,1,3,11 | B38: Suministro e instalación de abanicos de pared Samurai o similar, incluye materiales, equipo y mano de obra. | C38: UND | D38: 8 | E38: =+'ITEM 1,1,3'!I467 -> 410809 | F38: =D38*E38 -> 3286472 | H38: 409425 | I38: 3275400 | J38: =+E38-H38 -> 1384 | K38: =+H38/1.03 -> 397500 | L38: =+E38/K38 -> 1.0334818
A39: 1,1,4 | B39: MAMPOSTERIA | H39: 0 | I39: 0 | J39: =+E39-H39 -> 0 | K39: =+H39/1.03 -> 0 | L39: =+E39/K39 -> #DIV/0!
A40: 1,1,4,1 | B40: Pañete allanado en mortero 1:5 en áreas de engolose, incluye materiales, equipo y mano de obra. | C40: ML | D40: 480 | E40: =+'ITEM 1,1,4'!I42 -> 9761 | F40: =D40*E40 -> 4685280 | H40: 9785 | I40: 4696800 | J40: =+E40-H40 -> -24 | K40: =+H40/1.03 -> 9500 | L40: =+E40/K40 -> 1.0274737
A41: 1,1,4,2 | B41: Engolose de cubiertas a muros, mortero 1 :5, incluye materiales, equipo y mano de obra. | C41: ML | D41: 132 | E41: =+'ITEM 1,1,4'!I85 -> 12780 | F41: =D41*E41 -> 1686960 | H41: 12875 | I41: 1699500 | J41: =+E41-H41 -> -95 | K41: =+H41/1.03 -> 12500 | L41: =+E41/K41 -> 1.0224
A42: 1,1,5 | B42: PISOS | H42: 0 | I42: 0 | J42: =+E42-H42 -> 0 | K42: =+H42/1.03 -> 0 | L42: =+E42/K42 -> #DIV/0!
...

Sheet ITEM 1,1,1
B1: FORMATO No.
B2: MANTENIMIENTO, MEJORAMIENTO Y ADECUACIONES LOCATIVAS DE LAS INSTITUCIONES EDUCATIVAS JUAN XXIII, BELLAVISTA, SIMÓN BOLÍVAR, MARÍA AUXILIADORA Y CONCORDE SEDE B EN EL MUNICIPIO DE MALAMBO – DEPARTAMENTO DEL ATLÁNTICO.
B3: ANALISIS DE PRECIOS UNITARIO
B4: Contrato No.
B6: Item: | C6: 1,1,1,1 | D6: Demolición de zabaleta existente, incluye equipo y mano de obra. | I6: UNIDAD
I7: ML
B8: I-EQUIPO Y HERRAMIENTA
B9: Descripcion | E9: Unidad | F9: Tarifa | G9: Rendimiento. | H9: Valor
B10: Herramientos menores | E10: dia | F10: 51500 | G10: 33 | H10: =+F10/G10 -> 1560.6061
B11: Andamio | E11: dia | F11: 51500 | G11: 33 | H11: =+F11/G11 -> 1560.6061
H14: Sub-Total | I14: =SUM(H10:H13) -> 3121.2121
B16: II- MATERIALES EN OBRA
B17: Descripcion | E17: Unidad | F17: Valor/unit | G17: Cantidad | H17: Valor
H23: Sub-Total | I23: =SUM(H18:H22) -> 0
B25: III-TRANSPORTES
B26: Descripcion | F26: Tarifa | G26: Rendimiento. | H26: Valor
G27: 0.00256 | H27: =+F27*G27 -> 0
H29: Sub-Total | I29: =SUM(H27:H28) -> 0
B31: IV-MANO DE OBRA
B32: Trabajador | D32: Jornal | E32: Prestacion | F32: Jornal Tot. | G32: Rendiminto | H32: Valor
B33: Oficial | D33: 72100 | E33: =+(0.66)*D33 -> 47586 | F33: =+D33+E33 -> 119686 | G33: 0.13 | H33: =+F33*G33 -> 15559.18
B34: Ayudante | D34: 44702 | E34: =+(0.66)*D34 -> 29503.32 | F34: =+D34+E34 -> 74205.32 | G34: 0.13 | H34: =+F34*G34 -> 9646.6916
H37: Sub-Total | I37: =SUM(H33:H36) -> 25205.872
H38: Ajuste
G39: Total Costo Directo | I39: =ROUND(SUM(I9:I38),0) -> 28327 | M39: =+I39*1.03 -> 29176.81
B41: FORMATO No.
B42: MANTENIMIENTO, MEJORAMIENTO Y ADECUACIONES LOCATIVAS DE LAS INSTITUCIONES EDUCATIVAS JUAN XXIII, BELLAVISTA, SIMÓN BOLÍVAR, MARÍA AUXILIADORA Y CONCORDE SEDE B EN EL MUNICIPIO DE MALAMBO – DEPARTAMENTO DEL ATLÁNTICO.
B43: ANALISIS DE PRECIOS UNITARIO
B44: Contrato No.
B46: Item: | C46: 1,1,1,2 | D46: Desmonte de cubierta existente en lamina ondulada de asbesto cemento, incluye equipo y mano de obra. | I46: UNIDAD
I47: M2
B48: I-EQUIPO Y HERRAMIENTA
B49: Descripcion | E49: Unidad | F49: Tarifa | G49: Rendimiento. | H49: Valor
B50: Herramientos menores | E50: dia | F50: 51500 | G50: 6.14 | H50: =+F50/G50 -> 8387.6221
H54: Sub-Total | I54: =SUM(H50:H53) -> 8387.6221
B56: II- MATERIALES EN OBRA
B57: Descripcion | E57: Unidad | F57: Valor/unit | G57: Cantidad | H57: Valor
H63: Sub-Total | I63: =SUM(H58:H62) -> 0
B65: III-TRANSPORTES
B66: Descripcion | F66: Tarifa | G66: Rendimiento. | H66: Valor
...

Sheet ITEM 1,1,2
B1: FORMATO No.
B2: MANTENIMIENTO, MEJORAMIENTO Y ADECUACIONES LOCATIVAS DE LAS INSTITUCIONES EDUCATIVAS JUAN XXIII, BELLAVISTA, SIMÓN BOLÍVAR, MARÍA AUXILIADORA Y CONCORDE SEDE B EN EL MUNICIPIO DE MALAMBO – DEPARTAMENTO DEL ATLÁNTICO.
B3: ANALISIS DE PRECIOS UNITARIO
B4: Contrato No.
B6: Item: | C6: 1,1,2,1 | D6: =+'[1] PRESUPUESTO CENTRO DE DESARROL'!$B$18 -> Suministro e instalación de correas en perfiles estructurales PAG 160 mm x 60 x 1,9 mm, incluye material, equipo y mano de obra. | I6: UNIDAD
I7: =+'[1] PRESUPUESTO CENTRO DE DESARROL'!$C$18 -> ML
B8: I-EQUIPO Y HERRAMIENTA
B9: Descripcion | E9: Unidad | F9: Tarifa | G9: Rendimiento. | H9: Valor
B10: Herramientos menores | E10: dia | F10: 51500 | G10: 20 | H10: =+F10/G10 -> 2575
B11: Equipo de Soldadura | E11: dia | F11: 103000 | G11: 75 | H11: =+F11/G11 -> 1373.3333
B12: Andamio | E12: dia | F12: 51500 | G12: 20 | H12: =+F12/G12 -> 2575
H14: Sub-Total | I14: =SUM(H10:H13) -> 6523.3333
B16: II- MATERIALES EN OBRA
B17: Descripcion | E17: Unidad | F17: Valor/unit | G17: Cantidad | H17: Valor
B18: Perfil 150x60x1,9mm | E18: kg | F18: 8652 | G18: 4.1 | H18: =+F18*G18 -> 35473.2
B19: Soldadura 6013 | E19: Kg | F19: 23690 | G19: 0.15 | H19: =+F19*G19 -> 3553.5
H23: Sub-Total | I23: =SUM(H18:H22) -> 39026.7
B25: III-TRANSPORTES
B26: Descripcion | F26: Tarifa | G26: Rendimiento. | H26: Valor
B27: Transporte de perfiles | F27: 1038 | G27: 1 | H27: =+F27*G27 -> 1038
H29: Sub-Total | I29: =SUM(H27:H28) -> 1038
B31: IV-MANO DE OBRA
B32: Trabajador | D32: Jornal | E32: Prestacion | F32: Jornal Tot. | G32: Rendiminto | H32: Valor
B33: Oficial | D33: 72100 | E33: =+(0.66)*D33 -> 47586 | F33: =+D33+E33 -> 119686 | G33: 0.3833 | H33: =+F33*G33 -> 45875.644
B34: 2 Ayudante | D34: =2*44702 -> 89404 | E34: =+(0.66)*D34 -> 59006.64 | F34: =+D34+E34 -> 148410.64 | G34: =+G33 -> 0.3833 | H34: =+F34*G34 -> 56885.798
H37: Sub-Total | I37: =SUM(H33:H36) -> 102761.44
H38: Ajuste
G39: Total Costo Directo | I39: =ROUND(SUM(I9:I38),0) -> 149349
B41: FORMATO No.
B42: MANTENIMIENTO, MEJORAMIENTO Y ADECUACIONES LOCATIVAS DE LAS INSTITUCIONES EDUCATIVAS JUAN XXIII, BELLAVISTA, SIMÓN BOLÍVAR, MARÍA AUXILIADORA Y CONCORDE SEDE B EN EL MUNICIPIO DE MALAMBO – DEPARTAMENTO DEL ATLÁNTICO.
B43: ANALISIS DE PRECIOS UNITARIO
B44: Contrato No.
B46: Item: | C46: 1,1,2,2 | D46: =+'[1] PRESUPUESTO CENTRO DE DESARROL'!$B$19 -> Suministro e instalación de tensores para soporte de cielo raso en Angulo de 1" x 1" x 1/8", incluye materiales, equipo y mano de obra. | I46: UNIDAD
I47: =+'[1] PRESUPUESTO CENTRO DE DESARROL'!$C$19 -> ML
B48: I-EQUIPO Y HERRAMIENTA
B49: Descripcion | E49: Unidad | F49: Tarifa | G49: Rendimiento. | H49: Valor
B50: Herramientos menores | E50: dia | F50: 51500 | G50: 28 | H50: =+F50/G50 -> 1839.2857
B51: Andamio | E51: dia | F51: 51500 | G51: 80 | H51: =+F51/G51 -> 643.75
H54: Sub-Total | I54: =SUM(H50:H53) -> 2483.0357
B56: II- MATERIALES EN OBRA
...

Sheet ITEM 1,1,3
B1: FORMATO No.
B2: MANTENIMIENTO, MEJORAMIENTO Y ADECUACIONES LOCATIVAS DE LAS INSTITUCIONES EDUCATIVAS JUAN XXIII, BELLAVISTA, SIMÓN BOLÍVAR, MARÍA AUXILIADORA Y CONCORDE SEDE B EN EL MUNICIPIO DE MALAMBO – DEPARTAMENTO DEL ATLÁNTICO.
B3: ANALISIS DE PRECIOS UNITARIO
B4: Contrato No.
B6: Item: | C6: 1,1,3,1 | D6: =+'[2] PRESUPUESTO CENTRO DE DESARROL'!$B$28 -> Instalación de abanicos existentes, incluye equipo y mano de obra. | I6: UNIDAD
I7: =+'[2] PRESUPUESTO CENTRO DE DESARROL'!$C$28 -> UND
B8: I-EQUIPO Y HERRAMIENTA
B9: Descripcion | E9: Unidad | F9: Tarifa | G9: Rendimiento. | H9: Valor
B10: Herramientos menores | E10: dia | F10: 51500 | G10: 25 | H10: =+F10/G10 -> 2060
B11: Andamio | E11: dia | F11: 51500 | G11: 25 | H11: =+F11/G11 -> 2060
H14: Sub-Total | I14: =SUM(H10:H13) -> 4120
B16: II- MATERIALES EN OBRA
B17: Descripcion | E17: Unidad | F17: Valor/unit | G17: Cantidad | H17: Valor
H18: =+F18*G18 -> 0
H19: =+F19*G19 -> 0
H20: =+F20*G20 -> 0
H21: =+F21*G21 -> 0
H22: =+F22*G22 -> 0
H26: Sub-Total | I26: =SUM(H18:H25) -> 0
B28: III-TRANSPORTES
B29: Descripcion | F29: Tarifa | G29: Rendimiento. | H29: Valor
H30: =+F30*G30 -> 0
H32: Sub-Total | I32: =SUM(H30:H31) -> 0
B34: IV-MANO DE OBRA
B35: Trabajador | D35: Jornal | E35: Prestacion | F35: Jornal Tot. | G35: Rendiminto | H35: Valor
B36: Oficial | D36: 72100 | E36: =+(0.66)*D36 -> 47586 | F36: =+D36+E36 -> 119686 | G36: 0.17 | H36: =+F36*G36 -> 20346.62
B37: 2 Ayudante | D37: =2*44702 -> 89404 | E37: =+(0.66)*D37 -> 59006.64 | F37: =+D37+E37 -> 148410.64 | G37: =+G36 -> 0.17 | H37: =+F37*G37 -> 25229.809
H40: Sub-Total | I40: =SUM(H36:H39) -> 45576.429
H41: Ajuste
G42: Total Costo Directo | I42: =ROUND(SUM(I12:I41),0) -> 49696
B44: FORMATO No.
B45: MANTENIMIENTO, MEJORAMIENTO Y ADECUACIONES LOCATIVAS DE LAS INSTITUCIONES EDUCATIVAS JUAN XXIII, BELLAVISTA, SIMÓN BOLÍVAR, MARÍA AUXILIADORA Y CONCORDE SEDE B EN EL MUNICIPIO DE MALAMBO – DEPARTAMENTO DEL ATLÁNTICO.
B46: ANALISIS DE PRECIOS UNITARIO
B47: Contrato No.
B49: Item: | C49: 1,1,3,2 | D49: =+'[2] PRESUPUESTO CENTRO DE DESARROL'!$B$29 -> suminitro e instalacion de lamparas hermeticas, incluye tubos, equipos y mano de obra. | I49: UNIDAD
I50: =+'[2] PRESUPUESTO CENTRO DE DESARROL'!$C$29 -> UND
B51: I-EQUIPO Y HERRAMIENTA
B52: Descripcion | E52: Unidad | F52: Tarifa | G52: Rendimiento. | H52: Valor
B53: Herramientos menores | E53: dia | F53: 51500 | G53: 30 | H53: =+F53/G53 -> 1716.6667
B54: Andamio | E54: dia | F54: 51500 | G54: 30 | H54: =+F54/G54 -> 1716.6667
...

Sheet ITEM 1,1,4
B1: FORMATO No.
B2: MANTENIMIENTO, MEJORAMIENTO Y ADECUACIONES LOCATIVAS DE LAS INSTITUCIONES EDUCATIVAS JUAN XXIII, BELLAVISTA, SIMÓN BOLÍVAR, MARÍA AUXILIADORA Y CONCORDE SEDE B EN EL MUNICIPIO DE MALAMBO – DEPARTAMENTO DEL ATLÁNTICO.
B3: ANALISIS DE PRECIOS UNITARIO
B4: Contrato No.
B6: Item: | C6: 1,1,4,1 | D6: =+'[2] PRESUPUESTO CENTRO DE DESARROL'!$B$40 -> Pañete allanado en mortero 1:5 en áreas de engolose, incluye materiales, equipo y mano de obra. | I6: UNIDAD
I7: =+'[2] PRESUPUESTO CENTRO DE DESARROL'!$C$40 -> ML
B8: I-EQUIPO Y HERRAMIENTA
B9: Descripcion | E9: Unidad | F9: Tarifa | G9: Rendimiento. | H9: Valor
B10: Herramientos menores | E10: dia | F10: 51500 | G10: 80 | H10: =+F10/G10 -> 643.75
B11: Andamio | E11: dia | F11: 51500 | G11: 80 | H11: =+F11/G11 -> 643.75
H14: Sub-Total | I14: =SUM(H10:H13) -> 1287.5
B16: II- MATERIALES EN OBRA
B17: Descripcion | E17: Unidad | F17: Valor/unit | G17: Cantidad | H17: Valor
H18: =+F18*G18 -> 0
B19: Mortero 1:5 Pañete | E19: M3 | F19: 700400 | G19: 0.0005 | H19: =+F19*G19 -> 350.2 | L19: =+F19*1.03 -> 721412
H20: =+F20*G20 -> 0
H21: =+F21*G21 -> 0
H22: =+F22*G22 -> 0
H26: Sub-Total | I26: =SUM(H18:H25) -> 350.2
B28: III-TRANSPORTES
B29: Descripcion | F29: Tarifa | G29: Rendimiento. | H29: Valor
G30: 1 | H30: =+F30*G30 -> 0
H32: Sub-Total | I32: =SUM(H30:H31) -> 0
B34: IV-MANO DE OBRA
B35: Trabajador | D35: Jornal | E35: Prestacion | F35: Jornal Tot. | G35: Rendiminto | H35: Valor
B36: Oficial | D36: 72100 | E36: =+(0.66)*D36 -> 47586 | F36: =+D36+E36 -> 119686 | G36: 0.0303 | H36: =+F36*G36 -> 3626.4858
B37: 2 Ayudante | D37: =2*44702 -> 89404 | E37: =+(0.66)*D37 -> 59006.64 | F37: =+D37+E37 -> 148410.64 | G37: =+G36 -> 0.0303 | H37: =+F37*G37 -> 4496.8424
H40: Sub-Total | I40: =SUM(H36:H39) -> 8123.3282
H41: Ajuste
G42: Total Costo Directo | I42: =ROUND(SUM(I12:I41),0) -> 9761
B44: FORMATO No.
B45: MANTENIMIENTO, MEJORAMIENTO Y ADECUACIONES LOCATIVAS DE LAS INSTITUCIONES EDUCATIVAS JUAN XXIII, BELLAVISTA, SIMÓN BOLÍVAR, MARÍA AUXILIADORA Y CONCORDE SEDE B EN EL MUNICIPIO DE MALAMBO – DEPARTAMENTO DEL ATLÁNTICO.
B46: ANALISIS DE PRECIOS UNITARIO
B47: Contrato No.
B49: Item: | C49: 1,1,4,2 | D49: =+'[2] PRESUPUESTO CENTRO DE DESARROL'!$B$41 -> Engolose de cubiertas a muros, mortero 1 :5, incluye materiales, equipo y mano de obra. | I49: UNIDAD
I50: =+'[2] PRESUPUESTO CENTRO DE DESARROL'!$C$41 -> ML
B51: I-EQUIPO Y HERRAMIENTA
B52: Descripcion | E52: Unidad | F52: Tarifa | G52: Rendimiento. | H52: Valor
B53: Herramientos menores | E53: dia | F53: 51500 | G53: 80 | H53: =+F53/G53 -> 643.75
B54: Andamio | E54: dia | F54: 51500 | G54: 80 | H54: =+F54/G54 -> 643.75
...

Sheet ITEM 1,1,5
B1: FORMATO No.
B2: MANTENIMIENTO, MEJORAMIENTO Y ADECUACIONES LOCATIVAS DE LAS INSTITUCIONES EDUCATIVAS JUAN XXIII, BELLAVISTA, SIMÓN BOLÍVAR, MARÍA AUXILIADORA Y CONCORDE SEDE B EN EL MUNICIPIO DE MALAMBO – DEPARTAMENTO DEL ATLÁNTICO.
B3: ANALISIS DE PRECIOS UNITARIO
B4: Contrato No.
B6: Item: | C6: 1,1,5,1 | D6: =+'[2] PRESUPUESTO CENTRO DE DESARROL'!$B$43 -> Plantilla en concreto de 2500 psi., E= 0,05 mts., incluye materiales,equipo y mano de obra. | I6: UNIDAD
I7: =+'[2] PRESUPUESTO CENTRO DE DESARROL'!$C$43 -> M2
B8: I-EQUIPO Y HERRAMIENTA
B9: Descripcion | E9: Unidad | F9: Tarifa | G9: Rendimiento. | H9: Valor
B10: Herramientos menores | E10: dia | F10: 51500 | G10: 80 | H10: =+F10/G10 -> 643.75
H14: Sub-Total | I14: =SUM(H10:H13) -> 643.75
B16: II- MATERIALES EN OBRA
B17: Descripcion | E17: Unidad | F17: Valor/unit | G17: Cantidad | H17: Valor | L17: =+F18*1.03 -> 901765
B18: Concreto 2500PSI | E18: M3 | F18: 875500 | G18: 0.05 | H18: =+F18*G18 -> 43775
H19: =+F19*G19 -> 0
H20: =+F20*G20 -> 0
H21: =+F21*G21 -> 0
H22: =+F22*G22 -> 0
H26: Sub-Total | I26: =SUM(H18:H25) -> 43775
B28: III-TRANSPORTES
B29: Descripcion | F29: Tarifa | G29: Rendimiento. | H29: Valor
F30: 454 | G30: 1 | H30: =+F30*G30 -> 454
H32: Sub-Total | I32: =SUM(H30:H31) -> 454
B34: IV-MANO DE OBRA
B35: Trabajador | D35: Jornal | E35: Prestacion | F35: Jornal Tot. | G35: Rendiminto | H35: Valor
B36: Oficial | D36: 72100 | E36: =+(0.66)*D36 -> 47586 | F36: =+D36+E36 -> 119686 | G36: 0.09 | H36: =+F36*G36 -> 10771.74
B37: 2 Ayudante | D37: =2*44702 -> 89404 | E37: =+(0.66)*D37 -> 59006.64 | F37: =+D37+E37 -> 148410.64 | G37: =+G36 -> 0.09 | H37: =+F37*G37 -> 13356.958
H40: Sub-Total | I40: =SUM(H36:H39) -> 24128.698
H41: Ajuste
G42: Total Costo Directo | I42: =ROUND(SUM(I9:I41),0) -> 69001
B44: FORMATO No.
B45: MANTENIMIENTO, MEJORAMIENTO Y ADECUACIONES LOCATIVAS DE LAS INSTITUCIONES EDUCATIVAS JUAN XXIII, BELLAVISTA, SIMÓN BOLÍVAR, MARÍA AUXILIADORA Y CONCORDE SEDE B EN EL MUNICIPIO DE MALAMBO – DEPARTAMENTO DEL ATLÁNTICO.
B46: ANALISIS DE PRECIOS UNITARIO
B47: Contrato No.
B49: Item: | C49: 1,1,5,2 | D49: =+'[2] PRESUPUESTO CENTRO DE DESARROL'!$B$44 -> Suministro e instalacion de piso de ceramica antideslizante, trafico 5, incluye materiales, equipo y mano de obra. | I49: UNIDAD
I50: =+'[2] PRESUPUESTO CENTRO DE DESARROL'!$C$44 -> M2
B51: I-EQUIPO Y HERRAMIENTA
B52: Descripcion | E52: Unidad | F52: Tarifa | G52: Rendimiento. | H52: Valor
B53: Herramientos menores | E53: dia | F53: 51500 | G53: 8 | H53: =+F53/G53 -> 6437.5
H57: Sub-Total | I57: =SUM(H53:H56) -> 6437.5
B59: II- MATERIALES EN OBRA
...

Sheet ITEM 1,1,6
B1: FORMATO No.
B2: MANTENIMIENTO, MEJORAMIENTO Y ADECUACIONES LOCATIVAS DE LAS INSTITUCIONES EDUCATIVAS JUAN XXIII, BELLAVISTA, SIMÓN BOLÍVAR, MARÍA AUXILIADORA Y CONCORDE SEDE B EN EL MUNICIPIO DE MALAMBO – DEPARTAMENTO DEL ATLÁNTICO.
B3: ANALISIS DE PRECIOS UNITARIO
B4: Contrato No.
B6: Item: | C6: 1,1,6,1 | D6: =+'[2] PRESUPUESTO CENTRO DE DESARROL'!$B$47 -> Pintura sobre muros y calados internos y externos en vinilo tipo 1, tres manos, incluye resane del pañete en las áreas dañadas, incluye materiales, equipo y mano de obra. | I6: UNIDAD
I7: =+'[2] PRESUPUESTO CENTRO DE DESARROL'!$C$43 -> M2
B8: I-EQUIPO Y HERRAMIENTA
B9: Descripcion | E9: Unidad | F9: Tarifa | G9: Rendimiento. | H9: Valor
B10: Herramientos menores | E10: dia | F10: 30900 | G10: 40 | H10: =+F10/G10 -> 772.5 | L10: =+F10*1.03 -> 31827
B11: Andamio | E11: Dia | F11: 51500 | G11: 40 | H11: =+F11/G11 -> 1287.5
H14: Sub-Total | I14: =SUM(H10:H13) -> 2060
B16: II- MATERIALES EN OBRA
B17: Descripcion | E17: Unidad | F17: Valor/unit | G17: Cantidad | H17: Valor | L17: =+F18*1.03 -> 424360
B18: Cuñete vinilo tipo 1 | E18: und | F18: 412000 | G18: 0.035 | H18: =+F18*G18 -> 14420
H19: =+F19*G19 -> 0
H20: =+F20*G20 -> 0
H21: =+F21*G21 -> 0
H22: =+F22*G22 -> 0
H26: Sub-Total | I26: =SUM(H18:H25) -> 14420
B28: III-TRANSPORTES
B29: Descripcion | F29: Tarifa | G29: Rendimiento. | H29: Valor
F30: 100 | G30: 1 | H30: =+F30*G30 -> 100
H32: Sub-Total | I32: =SUM(H30:H31) -> 100
B34: IV-MANO DE OBRA
B35: Trabajador | D35: Jornal | E35: Prestacion | F35: Jornal Tot. | G35: Rendiminto | H35: Valor
B36: Oficial | D36: 74263 | E36: =+(0.66)*D36 -> 49013.58 | F36: =+D36+E36 -> 123276.58 | G36: 0.03 | H36: =+F36*G36 -> 3698.2974
B37: 2 Ayudante | D37: =2*44702 -> 89404 | E37: =+(0.66)*D37 -> 59006.64 | F37: =+D37+E37 -> 148410.64 | G37: =+G36 -> 0.03 | H37: =+F37*G37 -> 4452.3192
H40: Sub-Total | I40: =SUM(H36:H39) -> 8150.6166
H41: Ajuste
G42: Total Costo Directo | I42: =ROUND(SUM(I12:I41),0) -> 24731
B44: FORMATO No.
B45: MANTENIMIENTO, MEJORAMIENTO Y ADECUACIONES LOCATIVAS DE LAS INSTITUCIONES EDUCATIVAS JUAN XXIII, BELLAVISTA, SIMÓN BOLÍVAR, MARÍA AUXILIADORA Y CONCORDE SEDE B EN EL MUNICIPIO DE MALAMBO – DEPARTAMENTO DEL ATLÁNTICO.
B46: ANALISIS DE PRECIOS UNITARIO
B47: Contrato No.
B49: Item: | C49: 1,1,6,2 | D49: =+'[2] PRESUPUESTO CENTRO DE DESARROL'!$B$48 -> Pintura de puerta metálica en esmalte, incluye materiales,equipo y mano de obra. | I49: UNIDAD
I50: =+'[2] PRESUPUESTO CENTRO DE DESARROL'!$C$48 -> M2
B51: I-EQUIPO Y HERRAMIENTA
B52: Descripcion | E52: Unidad | F52: Tarifa | G52: Rendimiento. | H52: Valor
B53: Herramientos menores | E53: dia | F53: 30900 | G53: 15 | H53: =+F53/G53 -> 2060
H57: Sub-Total | I57: =SUM(H53:H56) -> 2060
...

Sheet ITEM 1,1,7
B1: FORMATO No.
B2: MANTENIMIENTO, MEJORAMIENTO Y ADECUACIONES LOCATIVAS DE LAS INSTITUCIONES EDUCATIVAS JUAN XXIII, BELLAVISTA, SIMÓN BOLÍVAR, MARÍA AUXILIADORA Y CONCORDE SEDE B EN EL MUNICIPIO DE MALAMBO – DEPARTAMENTO DEL ATLÁNTICO.
B3: ANALISIS DE PRECIOS UNITARIO
B4: Contrato No.
B6: Item: | C6: 1,1,7,1 | D6: =+'[2] PRESUPUESTO CENTRO DE DESARROL'!$B$52 -> Limpieza general y desalojo de material sobrante. | I6: UNIDAD
I7: =+'[2] PRESUPUESTO CENTRO DE DESARROL'!$C$52 -> GL
B8: I-EQUIPO Y HERRAMIENTA
B9: Descripcion | E9: Unidad | F9: Tarifa | G9: Rendimiento. | H9: Valor
B10: Herramientos menores | E10: dia | F10: 20600 | G10: 13 | H10: =+F10/G10 -> 1584.6154
H14: Sub-Total | I14: =SUM(H10:H13) -> 1584.6154
B16: II- MATERIALES EN OBRA
B17: Descripcion | E17: Unidad | F17: Valor/unit | G17: Cantidad | H17: Valor
H18: =+F18*G18 -> 0
H19: =+F19*G19 -> 0
H20: =+F20*G20 -> 0
H21: =+F21*G21 -> 0
H22: =+F22*G22 -> 0
H26: Sub-Total | I26: =SUM(H18:H25) -> 0
B28: III-TRANSPORTES
B29: Descripcion | F29: Tarifa | G29: Rendimiento. | H29: Valor
B30: volqueta | F30: 30900 | G30: 3 | H30: =+F30*G30 -> 92700
H32: Sub-Total | I32: =SUM(H30:H31) -> 92700
B34: IV-MANO DE OBRA
B35: Trabajador | D35: Jornal | E35: Prestacion | F35: Jornal Tot. | G35: Rendiminto | H35: Valor
H36: =+F36*G36 -> 0
B37: 2 Ayudante | D37: =2*44702 -> 89404 | E37: =+(0.66)*D37 -> 59006.64 | F37: =+D37+E37 -> 148410.64 | G37: 1.1 | H37: =+F37*G37 -> 163251.7
H40: Sub-Total | I40: =SUM(H36:H39) -> 163251.7
H41: Ajuste
G42: Total Costo Directo | I42: =ROUND(SUM(I12:I41),0) -> 257536

Sheet ITEM 1,2,1
B1: FORMATO No.
B2: MANTENIMIENTO, MEJORAMIENTO Y ADECUACIONES LOCATIVAS DE LAS INSTITUCIONES EDUCATIVAS JUAN XXIII, BELLAVISTA, SIMÓN BOLÍVAR, MARÍA AUXILIADORA Y CONCORDE SEDE B EN EL MUNICIPIO DE MALAMBO – DEPARTAMENTO DEL ATLÁNTICO.
B3: ANALISIS DE PRECIOS UNITARIO
B4: Contrato No.
B6: Item: | C6: 1,2,1,1 | D6: Desmonte de cubierta existente en lamina ondulada de asbesto cemento, incluye equipo y mano de obra. | I6: UNIDAD
I7: M2
B8: I-EQUIPO Y HERRAMIENTA
B9: Descripcion | E9: Unidad | F9: Tarifa | G9: Rendimiento. | H9: Valor
B10: Herramientos menores | E10: dia | F10: 51500 | G10: 6.14 | H10: =+F10/G10 -> 8387.6221
H14: Sub-Total | I14: =SUM(H10:H13) -> 8387.6221
B16: II- MATERIALES EN OBRA
B17: Descripcion | E17: Unidad | F17: Valor/unit | G17: Cantidad | H17: Valor
H23: Sub-Total | I23: =SUM(H18:H22) -> 0
B25: III-TRANSPORTES
B26: Descripcion | F26: Tarifa | G26: Rendimiento. | H26: Valor
G27: 0.00256 | H27: =+F27*G27 -> 0
H29: Sub-Total | I29: =SUM(H27:H28) -> 0
B31: IV-MANO DE OBRA
B32: Trabajador | D32: Jornal | E32: Prestacion | F32: Jornal Tot. | G32: Rendiminto | H32: Valor
B33: Oficial | D33: 74263 | E33: =+(0.66)*D33 -> 49013.58 | F33: =+D33+E33 -> 123276.58 | G33: 0.2 | H33: =+F33*G33 -> 24655.316
B34: Ayudante | D34: 44702 | E34: =+(0.66)*D34 -> 29503.32 | F34: =+D34+E34 -> 74205.32 | G34: 0.2 | H34: =+F34*G34 -> 14841.064
H37: Sub-Total | I37: =SUM(H33:H36) -> 39496.38
H38: Ajuste
G39: Total Costo Directo | I39: =ROUND(SUM(I9:I38),0) -> 47884
B41: FORMATO No.
B42: MANTENIMIENTO, MEJORAMIENTO Y ADECUACIONES LOCATIVAS DE LAS INSTITUCIONES EDUCATIVAS JUAN XXIII, BELLAVISTA, SIMÓN BOLÍVAR, MARÍA AUXILIADORA Y CONCORDE SEDE B EN EL MUNICIPIO DE MALAMBO – DEPARTAMENTO DEL ATLÁNTICO.
B43: ANALISIS DE PRECIOS UNITARIO
B44: Contrato No.
B46: Item: | C46: 1,2,1,2 | D46: Demolición de zabaleta existente, incluye equipo y mano de obra. | I46: UNIDAD
I47: ML
B48: I-EQUIPO Y HERRAMIENTA
B49: Descripcion | E49: Unidad | F49: Tarifa | G49: Rendimiento. | H49: Valor
B50: Herramientos menores | E50: dia | F50: 51500 | G50: 33 | H50: =+F50/G50 -> 1560.6061
B51: Andamio | E51: dia | F51: 51500 | G51: 33 | H51: =+F51/G51 -> 1560.6061
H54: Sub-Total | I54: =SUM(H50:H53) -> 3121.2121
B56: II- MATERIALES EN OBRA
B57: Descripcion | E57: Unidad | F57: Valor/unit | G57: Cantidad | H57: Valor
H63: Sub-Total | I63: =SUM(H58:H62) -> 0
B65: III-TRANSPORTES
B66: Descripcion | F66: Tarifa | G66: Rendimiento. | H66: Valor
...

Sheet ITEM 1,2,2
B1: FORMATO No.
B2: MANTENIMIENTO, MEJORAMIENTO Y ADECUACIONES LOCATIVAS DE LAS INSTITUCIONES EDUCATIVAS JUAN XXIII, BELLAVISTA, SIMÓN BOLÍVAR, MARÍA AUXILIADORA Y CONCORDE SEDE B EN EL MUNICIPIO DE MALAMBO – DEPARTAMENTO DEL ATLÁNTICO.
B3: ANALISIS DE PRECIOS UNITARIO
B4: Contrato No.
B5: Item: | C5: 1,2,2,1 | D5: =+'[2] PRESUPUESTO CENTRO DE DESARROL'!$B$69 -> Suministro e instalación cubierta en láminas ondulada de asbesto cemento perfil 7, incluye materiales, equipo y mano de obra. | I5: UNIDAD
I6: =+'[2] PRESUPUESTO CENTRO DE DESARROL'!$C$69 -> M2
B7: I-EQUIPO Y HERRAMIENTA
B8: Descripcion | E8: Unidad | F8: Tarifa | G8: Rendimiento. | H8: Valor
B9: Herramientos menores | E9: dia | F9: 51500 | G9: 28 | H9: =+F9/G9 -> 1839.2857
B10: Andamio | E10: dia | F10: 51500 | G10: 60 | H10: =+F10/G10 -> 858.33333
H13: Sub-Total | I13: =SUM(H9:H12) -> 2697.619
B15: II- MATERIALES EN OBRA
B16: Descripcion | E16: Unidad | F16: Valor/unit | G16: Cantidad | H16: Valor | K16: =+F17*1.03 -> 1380.2
B17: fijador ala capuchon | E17: und | F17: 1340 | G17: 0.707 | H17: =+F17*G17 -> 947.38 | K17: =+F18*1.03 -> 3607.06
B18: Ganccho teja ondulada | E18: und | F18: 3502 | G18: 1 | H18: =+F18*G18 -> 3502 | K18: =+F19*1.03 -> 76490.89
B19: Lamina ondulada perfil 7 | E19: Und | F19: 74263 | G19: 0.36 | H19: =+F19*G19 -> 26734.68 | K19: =+F20*1.03 -> 0
H22: Sub-Total | I22: =SUM(H17:H21) -> 31184.06
B24: III-TRANSPORTES
B25: Descripcion | F25: Tarifa | G25: Rendimiento. | H25: Valor
B26: transporte | F26: 750 | G26: 1 | H26: =+F26*G26 -> 750
H28: Sub-Total | I28: =SUM(H26:H27) -> 750
B30: IV-MANO DE OBRA
B31: Trabajador | D31: Jornal | E31: Prestacion | F31: Jornal Tot. | G31: Rendiminto | H31: Valor
B32: Oficial | D32: 74263 | E32: =+(0.66)*D32 -> 49013.58 | F32: =+D32+E32 -> 123276.58 | G32: 0.21 | H32: =+F32*G32 -> 25888.082
B33: 2 Ayudante | D33: =2*44702 -> 89404 | E33: =+(0.66)*D33 -> 59006.64 | F33: =+D33+E33 -> 148410.64 | G33: =+G32 -> 0.21 | H33: =+F33*G33 -> 31166.234
H36: Sub-Total | I36: =SUM(H32:H35) -> 57054.316
H37: Ajuste
G38: Total Costo Directo | I38: =ROUND(SUM(I8:I37),0) -> 91686
B40: FORMATO No.
B41: MANTENIMIENTO, MEJORAMIENTO Y ADECUACIONES LOCATIVAS DE LAS INSTITUCIONES EDUCATIVAS JUAN XXIII, BELLAVISTA, SIMÓN BOLÍVAR, MARÍA AUXILIADORA Y CONCORDE SEDE B EN EL MUNICIPIO DE MALAMBO – DEPARTAMENTO DEL ATLÁNTICO.
B42: ANALISIS DE PRECIOS UNITARIO
B43: Contrato No.
B45: Item: | C45: 1,2,2,2 | D45: =+'[2] PRESUPUESTO CENTRO DE DESARROL'!$B$70 -> Suministro e instalación de caballete fijo, incluye materiales, equipo y mano de obra. | I45: UNIDAD
I46: =+'[2] PRESUPUESTO CENTRO DE DESARROL'!$C$70 -> ML
B47: I-EQUIPO Y HERRAMIENTA
B48: Descripcion | E48: Unidad | F48: Tarifa | G48: Rendimiento. | H48: Valor
B49: Herramientos menores | E49: dia | F49: 51500 | G49: 200 | H49: =+F49/G49 -> 257.5
B50: Andamio | E50: dia | F50: 51500 | G50: 200 | H50: =+F50/G50 -> 257.5
H53: Sub-Total | I53: =SUM(H49:H52) -> 515
B55: II- MATERIALES EN OBRA
...

Sheet ITEM 1,2,3
B1: FORMATO No.
B2: MANTENIMIENTO, MEJORAMIENTO Y ADECUACIONES LOCATIVAS DE LAS INSTITUCIONES EDUCATIVAS JUAN XXIII, BELLAVISTA, SIMÓN BOLÍVAR, MARÍA AUXILIADORA Y CONCORDE SEDE B EN EL MUNICIPIO DE MALAMBO – DEPARTAMENTO DEL ATLÁNTICO.
B3: ANALISIS DE PRECIOS UNITARIO
B4: Contrato No.
B6: Item: | C6: 1,2,3,1 | D6: =+'[2] PRESUPUESTO CENTRO DE DESARROL'!$B$75 -> Pañete allanado en mortero 1:5 en áreas de engolose, incluye materiales, equipo y mano de obra. | I6: UNIDAD
I7: =+'[2] PRESUPUESTO CENTRO DE DESARROL'!$C$75 -> ML
B8: I-EQUIPO Y HERRAMIENTA
B9: Descripcion | E9: Unidad | F9: Tarifa | G9: Rendimiento. | H9: Valor
B10: Herramientos menores | E10: dia | F10: 51500 | G10: 80 | H10: =+F10/G10 -> 643.75
B11: Andamio | E11: dia | F11: 51500 | G11: 80 | H11: =+F11/G11 -> 643.75
H14: Sub-Total | I14: =SUM(H10:H13) -> 1287.5
B16: II- MATERIALES EN OBRA
B17: Descripcion | E17: Unidad | F17: Valor/unit | G17: Cantidad | H17: Valor
H18: =+F18*G18 -> 0
B19: Mortero 1:5 Pañete | E19: M3 | F19: 700400 | G19: 0.0005 | H19: =+F19*G19 -> 350.2
H20: =+F20*G20 -> 0
H21: =+F21*G21 -> 0
H22: =+F22*G22 -> 0
H26: Sub-Total | I26: =SUM(H18:H25) -> 350.2
B28: III-TRANSPORTES
B29: Descripcion | F29: Tarifa | G29: Rendimiento. | H29: Valor
G30: 1 | H30: =+F30*G30 -> 0
H32: Sub-Total | I32: =SUM(H30:H31) -> 0
B34: IV-MANO DE OBRA
B35: Trabajador | D35: Jornal | E35: Prestacion | F35: Jornal Tot. | G35: Rendiminto | H35: Valor
B36: Oficial | D36: 74263 | E36: =+(0.66)*D36 -> 49013.58 | F36: =+D36+E36 -> 123276.58 | G36: 0.0303 | H36: =+F36*G36 -> 3735.2804
B37: 2 Ayudante | D37: =2*44702 -> 89404 | E37: =+(0.66)*D37 -> 59006.64 | F37: =+D37+E37 -> 148410.64 | G37: =+G36 -> 0.0303 | H37: =+F37*G37 -> 4496.8424
H40: Sub-Total | I40: =SUM(H36:H39) -> 8232.1228
H41: Ajuste
G42: Total Costo Directo | I42: =ROUND(SUM(I12:I41),0) -> 9870
B44: FORMATO No.
B45: MANTENIMIENTO, MEJORAMIENTO Y ADECUACIONES LOCATIVAS DE LAS INSTITUCIONES EDUCATIVAS JUAN XXIII, BELLAVISTA, SIMÓN BOLÍVAR, MARÍA AUXILIADORA Y CONCORDE SEDE B EN EL MUNICIPIO DE MALAMBO – DEPARTAMENTO DEL ATLÁNTICO.
B46: ANALISIS DE PRECIOS UNITARIO
B47: Contrato No.
B49: Item: | C49: 1,2,3,2 | D49: =+'[2] PRESUPUESTO CENTRO DE DESARROL'!$B$76 -> Construcción de entrepaños en concreto de 3.000 psi de ancho 0,50 mts, incluye materiales, equipo y mano de obra. | I49: UNIDAD
I50: =+'[2] PRESUPUESTO CENTRO DE DESARROL'!$C$76 -> ML
B51: I-EQUIPO Y HERRAMIENTA
B52: Descripcion | E52: Unidad | F52: Tarifa | G52: Rendimiento. | H52: Valor
B53: Herramientos menores | E53: dia | F53: 51500 | G53: 80 | H53: =+F53/G53 -> 643.75
B54: Formaleta | E54: Dia | F54: 51500 | G54: 20 | H54: =+F54/G54 -> 2575
...

Sheet ITEM 1,2,4
B1: FORMATO No.
B2: MANTENIMIENTO, MEJORAMIENTO Y ADECUACIONES LOCATIVAS DE LAS INSTITUCIONES EDUCATIVAS JUAN XXIII, BELLAVISTA, SIMÓN BOLÍVAR, MARÍA AUXILIADORA Y CONCORDE SEDE B EN EL MUNICIPIO DE MALAMBO – DEPARTAMENTO DEL ATLÁNTICO.
B3: ANALISIS DE PRECIOS UNITARIO
B4: Contrato No.
B6: Item: | C6: 1,2,4,1 | D6: =+'[2] PRESUPUESTO CENTRO DE DESARROL'!$B$79 -> Plantilla en concreto de 2500 psi., E= 0,05 mts., incluye materiales, equipo y mano de obra. | I6: UNIDAD
I7: =+'[2] PRESUPUESTO CENTRO DE DESARROL'!$C$79 -> M2
B8: I-EQUIPO Y HERRAMIENTA
B9: Descripcion | E9: Unidad | F9: Tarifa | G9: Rendimiento. | H9: Valor
B10: Herramientos menores | E10: dia | F10: 51500 | G10: 80 | H10: =+F10/G10 -> 643.75
H14: Sub-Total | I14: =SUM(H10:H13) -> 643.75
B16: II- MATERIALES EN OBRA
B17: Descripcion | E17: Unidad | F17: Valor/unit | G17: Cantidad | H17: Valor
B18: Concreto 2500PSI | E18: M3 | F18: 875500 | G18: 0.05 | H18: =+F18*G18 -> 43775
H19: =+F19*G19 -> 0
H20: =+F20*G20 -> 0
H21: =+F21*G21 -> 0
H22: =+F22*G22 -> 0
H26: Sub-Total | I26: =SUM(H18:H25) -> 43775
B28: III-TRANSPORTES
B29: Descripcion | F29: Tarifa | G29: Rendimiento. | H29: Valor
F30: 454 | G30: 1 | H30: =+F30*G30 -> 454
H32: Sub-Total | I32: =SUM(H30:H31) -> 454
B34: IV-MANO DE OBRA
B35: Trabajador | D35: Jornal | E35: Prestacion | F35: Jornal Tot. | G35: Rendiminto | H35: Valor
B36: Oficial | D36: 74263 | E36: =+(0.66)*D36 -> 49013.58 | F36: =+D36+E36 -> 123276.58 | G36: 0.09 | H36: =+F36*G36 -> 11094.892
B37: 2 Ayudante | D37: =2*44702 -> 89404 | E37: =+(0.66)*D37 -> 59006.64 | F37: =+D37+E37 -> 148410.64 | G37: =+G36 -> 0.09 | H37: =+F37*G37 -> 13356.958
H40: Sub-Total | I40: =SUM(H36:H39) -> 24451.85
H41: Ajuste
G42: Total Costo Directo | I42: =ROUND(SUM(I12:I41),0) -> 69325
B44: FORMATO No.
B45: MANTENIMIENTO, MEJORAMIENTO Y ADECUACIONES LOCATIVAS DE LAS INSTITUCIONES EDUCATIVAS JUAN XXIII, BELLAVISTA, SIMÓN BOLÍVAR, MARÍA AUXILIADORA Y CONCORDE SEDE B EN EL MUNICIPIO DE MALAMBO – DEPARTAMENTO DEL ATLÁNTICO.
B46: ANALISIS DE PRECIOS UNITARIO
B47: Contrato No.
B49: Item: | C49: 1,2,4,2 | D49: =+'[2] PRESUPUESTO CENTRO DE DESARROL'!$B$80 -> Suministro e instalación de piso de cerámica antideslizante de 0,50 x 0,50 mts., trafico 5, incluye materiales, equipo y mano de obra. | I49: UNIDAD
I50: =+'[2] PRESUPUESTO CENTRO DE DESARROL'!$C$80 -> M2
B51: I-EQUIPO Y HERRAMIENTA
B52: Descripcion | E52: Unidad | F52: Tarifa | G52: Rendimiento. | H52: Valor
B53: Herramientos menores | E53: dia | F53: 51500 | G53: 8 | H53: =+F53/G53 -> 6437.5
H57: Sub-Total | I57: =SUM(H53:H56) -> 6437.5
B59: II- MATERIALES EN OBRA
...

Sheet ITEM 1,2,5
B1: Item: | C1: 1,2,5,6 | D1: =+'[2] PRESUPUESTO CENTRO DE DESARROL'!$B$90 -> Suministro e instalación de lámparas fluorescentes 2 x 32, incluye materiales, equipo y mano de obra. | I1: UNIDAD
I2: =+'[2] PRESUPUESTO CENTRO DE DESARROL'!$C$90 -> UND
B3: I-EQUIPO Y HERRAMIENTA
B4: Descripcion | E4: Unidad | F4: Tarifa | G4: Rendimiento. | H4: Valor
B5: Herramientos menores | E5: dia | F5: 51500 | G5: 13 | H5: =+F5/G5 -> 3961.5385
B6: Andamio | E6: dia | F6: 51500 | G6: 30 | H6: =+F6/G6 -> 1716.6667
H9: Sub-Total | I9: =SUM(H5:H8) -> 5678.2051
B11: II- MATERIALES EN OBRA
B12: Descripcion | E12: Unidad | F12: Valor/unit | G12: Cantidad | H12: Valor
B13: lámparas fluorescentes 2 x 32 | E13: Und | F13: 185400 | G13: 1 | H13: =+F13*G13 -> 185400
H14: =+F14*G14 -> 0
H18: Sub-Total | I18: =SUM(H13:H17) -> 185400
B20: III-TRANSPORTES
B21: Descripcion | F21: Tarifa | G21: Rendimiento. | H21: Valor
F22: 443 | G22: 1 | H22: =+F22*G22 -> 443
H24: Sub-Total | I24: =SUM(H22:H23) -> 443
B26: IV-MANO DE OBRA
B27: Trabajador | D27: Jornal | E27: Prestacion | F27: Jornal Tot. | G27: Rendiminto | H27: Valor
B28: Oficial | D28: 74263 | E28: =+(0.66)*D28 -> 49013.58 | F28: =+D28+E28 -> 123276.58 | G28: 0.15 | H28: =+F28*G28 -> 18491.487
B29: 2 Ayudante | D29: =2*44702 -> 89404 | E29: =+(0.66)*D29 -> 59006.64 | F29: =+D29+E29 -> 148410.64 | G29: =+G28 -> 0.15 | H29: =+F29*G29 -> 22261.596
H32: Sub-Total | I32: =SUM(H28:H31) -> 40753.083
H33: Ajuste
G34: Total Costo Directo | I34: =ROUND(SUM(I4:I33),0) -> 232274
B36: FORMATO No.
B37: MANTENIMIENTO, MEJORAMIENTO Y ADECUACIONES LOCATIVAS DE LAS INSTITUCIONES EDUCATIVAS JUAN XXIII, BELLAVISTA, SIMÓN BOLÍVAR, MARÍA AUXILIADORA Y CONCORDE SEDE B EN EL MUNICIPIO DE MALAMBO – DEPARTAMENTO DEL ATLÁNTICO.
B38: ANALISIS DE PRECIOS UNITARIO
B39: Contrato No.
B41: Item: | C41: 1,2,5,2 | D41: =+'[2] PRESUPUESTO CENTRO DE DESARROL'!$B$86 -> Salida de alumbrado común 110V, incluye materiales, equipo y mano de obra. | I41: UNIDAD
I42: =+'[2] PRESUPUESTO CENTRO DE DESARROL'!$C$86 -> UND
B43: I-EQUIPO Y HERRAMIENTA
B44: Descripcion | E44: Unidad | F44: Tarifa | G44: Rendimiento. | H44: Valor
B45: Herramientos menores | E45: dia | F45: 51500 | G45: 50 | H45: =+F45/G45 -> 1030
B46: Andamio | E46: dia | F46: 51500 | G46: 20 | H46: =+F46/G46 -> 2575
H49: Sub-Total | I49: =SUM(H45:H48) -> 3605
B51: II- MATERIALES EN OBRA
B52: Descripcion | E52: Unidad | F52: Valor/unit | G52: Cantidad | H52: Valor
B53: Tubo conduit 1/2 pulgada | E53: ml | F53: 3785 | G53: 2 | H53: =+F53*G53 -> 7570
B54: Curva Conduit 1/2 pulgada | E54: Und | F54: 1236 | G54: 1 | H54: =+F54*G54 -> 1236
B55: Adaptador 1/2 pulgada terminal conduit | E55: Und | F55: 1030 | G55: 1 | H55: =+F55*G55 -> 1030
B56: Alambre De Cobre #12 | E56: Ml | F56: 4738 | G56: 18 | H56: =+F56*G56 -> 85284
...

Sheet ITEM 1,2,6
B1: FORMATO No.
B2: MANTENIMIENTO, MEJORAMIENTO Y ADECUACIONES LOCATIVAS DE LAS INSTITUCIONES EDUCATIVAS JUAN XXIII, BELLAVISTA, SIMÓN BOLÍVAR, MARÍA AUXILIADORA Y CONCORDE SEDE B EN EL MUNICIPIO DE MALAMBO – DEPARTAMENTO DEL ATLÁNTICO.
B3: ANALISIS DE PRECIOS UNITARIO
B4: Contrato No.
B5: Item: | C5: 1,2,6,1 | D5: =+'[2] PRESUPUESTO CENTRO DE DESARROL'!$B$93 -> Mantenimiento general de ventaneria existente en perfileria de aluminio y vidrio, incluye materiales, equipo y mano de obra, | I5: UNIDAD
I6: =+'[2] PRESUPUESTO CENTRO DE DESARROL'!$C$93 -> M2
B7: I-EQUIPO Y HERRAMIENTA
B8: Descripcion | E8: Unidad | F8: Tarifa | G8: Rendimiento. | H8: Valor
B9: Herramientos menores | E9: dia | F9: 51500 | G9: 90 | H9: =+F9/G9 -> 572.22222
B10: Pulidora electrico | E10: dia | F10: 20600 | G10: 50 | H10: =+F10/G10 -> 412
B11: taladro Electrico | E11: dia | F11: 20600 | G11: 50 | H11: =+F11/G11 -> 412
B12: Tronzadora Industrial | E12: dia | F12: 30900 | G12: 70 | H12: =+F12/G12 -> 441.42857
B13: taladro Electrico | E13: dia | F13: 20600 | G13: 50 | H13: =+F13/G13 -> 412
H14: Sub-Total | I14: =SUM(H9:H12) -> 1837.6508
B16: II- MATERIALES EN OBRA
B17: Descripcion | E17: Unidad | F17: Valor/unit | G17: Cantidad | H17: Valor
B18: Accesorios | E18: m2 | F18: 123600 | G18: 0.5 | H18: =+F18*G18 -> 61800
B19: Vidrio | E19: m2 | F19: 45000 | G19: 0.5 | H19: =+F19*G19 -> 22500
H23: Sub-Total | I23: =SUM(H18:H22) -> 84300
B25: III-TRANSPORTES
B26: Descripcion | F26: Tarifa | G26: Rendimiento. | H26: Valor
F27: 255 | G27: 1 | H27: =+F27*G27 -> 255
H29: Sub-Total | I29: =SUM(H27:H28) -> 255
B31: IV-MANO DE OBRA
B32: Trabajador | D32: Jornal | E32: Prestacion | F32: Jornal Tot. | G32: Rendiminto | H32: Valor
B33: Oficial | D33: 74263 | E33: =+(0.66)*D33 -> 49013.58 | F33: =+D33+E33 -> 123276.58 | G33: 0.628 | H33: =+F33*G33 -> 77417.692
B34: 2 Ayudante | D34: =2*44702 -> 89404 | E34: =+(0.66)*D34 -> 59006.64 | F34: =+D34+E34 -> 148410.64 | G34: =+G33 -> 0.628 | H34: =+F34*G34 -> 93201.882
H37: Sub-Total | I37: =SUM(H33:H36) -> 170619.57
H38: Ajuste
G39: Total Costo Directo | I39: =ROUND(SUM(I9:I38),0) -> 257012
B41: FORMATO No.
B42: MANTENIMIENTO, MEJORAMIENTO Y ADECUACIONES LOCATIVAS DE LAS INSTITUCIONES EDUCATIVAS JUAN XXIII, BELLAVISTA, SIMÓN BOLÍVAR, MARÍA AUXILIADORA Y CONCORDE SEDE B EN EL MUNICIPIO DE MALAMBO – DEPARTAMENTO DEL ATLÁNTICO.
B43: ANALISIS DE PRECIOS UNITARIO
B44: Contrato No.
B46: Item: | C46: 1,2,6,2 | D46: =+'[2] PRESUPUESTO CENTRO DE DESARROL'!$B$94 -> Suministro e instalación de puerta en perfileria de aluminio de 1,00 x 2,00, incluye materiales, equipo y mano de obra. | I46: UNIDAD
I47: =+'[2] PRESUPUESTO CENTRO DE DESARROL'!$C$94 -> UND
B48: I-EQUIPO Y HERRAMIENTA
B49: Descripcion | E49: Unidad | F49: Tarifa | G49: Rendimiento. | H49: Valor
B50: Herramientos menores | E50: dia | F50: 51500 | G50: 50 | H50: =+F50/G50 -> 1030
H54: Sub-Total | I54: =SUM(H50:H53) -> 1030
...

Sheet ITEM 1,2,7
B1: Item: | C1: 1,2,7,1 | D1: =+'[2] PRESUPUESTO CENTRO DE DESARROL'!$B$98 -> Suministro e instalación de granimarmol sintético para mesón de cocina. | I1: UNIDAD
I2: =+'[2] PRESUPUESTO CENTRO DE DESARROL'!$C$98 -> ML
B3: I-EQUIPO Y HERRAMIENTA
B4: Descripcion | E4: Unidad | F4: Tarifa | G4: Rendimiento. | H4: Valor
B5: Herramientos menores | E5: dia | F5: 51500 | G5: 9 | H5: =+F5/G5 -> 5722.2222
H10: Sub-Total | I10: =SUM(H5:H8) -> 5722.2222
B12: II- MATERIALES EN OBRA
B13: Descripcion | E13: Unidad | F13: Valor/unit | G13: Cantidad | H13: Valor
B14: Meson en granito sintetico | E14: M2 | F14: 290000 | G14: 1 | H14: =+F14*G14 -> 290000
B15: Sellado elastico de puliuretano | E15: Kg | F15: 30900 | G15: 0.09 | H15: =+F15*G15 -> 2781
B16: anclajes | E16: und | F16: 4700 | G16: 3 | H16: =+F16*G16 -> 14100
H19: Sub-Total | I19: =SUM(H14:H18) -> 306881
B21: III-TRANSPORTES
B22: Descripcion | F22: Tarifa | G22: Rendimiento. | H22: Valor
F23: 442 | G23: 1 | H23: =+F23*G23 -> 442
H25: Sub-Total | I25: =SUM(H23:H24) -> 442
B27: IV-MANO DE OBRA
B28: Trabajador | D28: Jornal | E28: Prestacion | F28: Jornal Tot. | G28: Rendiminto | H28: Valor
B29: Oficial | D29: 74263 | E29: =+(0.66)*D29 -> 49013.58 | F29: =+D29+E29 -> 123276.58 | G29: 0.7 | H29: =+F29*G29 -> 86293.606
B30: 2 Ayudante | D30: =2*44702 -> 89404 | E30: =+(0.66)*D30 -> 59006.64 | F30: =+D30+E30 -> 148410.64 | G30: =+G29 -> 0.7 | H30: =+F30*G30 -> 103887.45
H33: Sub-Total | I33: =SUM(H29:H32) -> 190181.05
H34: Ajuste
G35: Total Costo Directo | I35: =ROUND(SUM(I5:I34),0) -> 503226
B37: FORMATO No.
B38: MANTENIMIENTO, MEJORAMIENTO Y ADECUACIONES LOCATIVAS DE LAS INSTITUCIONES EDUCATIVAS JUAN XXIII, BELLAVISTA, SIMÓN BOLÍVAR, MARÍA AUXILIADORA Y CONCORDE SEDE B EN EL MUNICIPIO DE MALAMBO – DEPARTAMENTO DEL ATLÁNTICO.
B39: ANALISIS DE PRECIOS UNITARIO
B40: Contrato No.
B42: Item: | C42: 1,2,7,2 | D42: =+'[2] PRESUPUESTO CENTRO DE DESARROL'!$B$99 -> Enchape en cerámica área de mesones y entrepaños, incluye materiales, equipo y mano de obra. | I42: UNIDAD
I43: =+'[2] PRESUPUESTO CENTRO DE DESARROL'!$C$99 -> M2
B44: I-EQUIPO Y HERRAMIENTA
B45: Descripcion | E45: Unidad | F45: Tarifa | G45: Rendimiento. | H45: Valor
B46: Herramientos menores | E46: dia | F46: 51500 | G46: 50 | H46: =+F46/G46 -> 1030
H50: Sub-Total | I50: =SUM(H46:H49) -> 1030
B52: II- MATERIALES EN OBRA
B53: Descripcion | E53: Unidad | F53: Valor/unit | G53: Cantidad | H53: Valor
B54: Ceramita formato 60x60 | E54: m2 | F54: 45000 | G54: 1 | H54: =+F54*G54 -> 45000
B55: Cemeto Blanco | E55: Kg | F55: 2000 | G55: 2 | H55: =+F55*G55 -> 4000
B56: Boquilla para enchape | E56: Kg | F56: 7210 | G56: 0.5 | H56: =+F56*G56 -> 3605
H57: =+F57*G57 -> 0
H58: =+F58*G58 -> 0
...

Sheet ITEM 1,2,8
B1: FORMATO No.
B2: MANTENIMIENTO, MEJORAMIENTO Y ADECUACIONES LOCATIVAS DE LAS INSTITUCIONES EDUCATIVAS JUAN XXIII, BELLAVISTA, SIMÓN BOLÍVAR, MARÍA AUXILIADORA Y CONCORDE SEDE B EN EL MUNICIPIO DE MALAMBO – DEPARTAMENTO DEL ATLÁNTICO.
B3: ANALISIS DE PRECIOS UNITARIO
B4: Contrato No.
B6: Item: | C6: 1,2,8,1 | D6: =+'[2] PRESUPUESTO CENTRO DE DESARROL'!$B$101 -> Pintura sobre muros y calados internos y externos en vinilo tipo 1, tres manos, incluye resane del pañete en las áreas dañadas, incluye materiales, equipo y mano de obra. | I6: UNIDAD
I7: =+'[2] PRESUPUESTO CENTRO DE DESARROL'!$C$101 -> M2
B8: I-EQUIPO Y HERRAMIENTA
B9: Descripcion | E9: Unidad | F9: Tarifa | G9: Rendimiento. | H9: Valor
B10: Herramientos menores | E10: dia | F10: 30900 | G10: 40 | H10: =+F10/G10 -> 772.5
B11: Andamio | E11: Dia | F11: 51500 | G11: 40 | H11: =+F11/G11 -> 1287.5
H14: Sub-Total | I14: =SUM(H10:H13) -> 2060 | L14: =+I14+L42 -> 1238 | M14: =+F10/L14 -> 24.959612
B16: II- MATERIALES EN OBRA
B17: Descripcion | E17: Unidad | F17: Valor/unit | G17: Cantidad | H17: Valor
B18: Cuñete vinilo tipo 1 | E18: und | F18: 412000 | G18: 0.035 | H18: =+F18*G18 -> 14420
H19: =+F19*G19 -> 0
H20: =+F20*G20 -> 0
H21: =+F21*G21 -> 0
H22: =+F22*G22 -> 0
H26: Sub-Total | I26: =SUM(H18:H25) -> 14420
B28: III-TRANSPORTES
B29: Descripcion | F29: Tarifa | G29: Rendimiento. | H29: Valor
F30: 87 | G30: 1 | H30: =+F30*G30 -> 87
H32: Sub-Total | I32: =SUM(H30:H31) -> 87
B34: IV-MANO DE OBRA
B35: Trabajador | D35: Jornal | E35: Prestacion | F35: Jornal Tot. | G35: Rendiminto | H35: Valor
B36: Oficial | D36: 74263 | E36: =+(0.66)*D36 -> 49013.58 | F36: =+D36+E36 -> 123276.58 | G36: 0.03 | H36: =+F36*G36 -> 3698.2974
B37: 2 Ayudante | D37: =2*44702 -> 89404 | E37: =+(0.66)*D37 -> 59006.64 | F37: =+D37+E37 -> 148410.64 | G37: =+G36 -> 0.03 | H37: =+F37*G37 -> 4452.3192
H40: Sub-Total | I40: =SUM(H36:H39) -> 8150.6166
H41: Ajuste
G42: Total Costo Directo | I42: =ROUND(SUM(I12:I41),0) -> 24718 | K42: 23896 | L42: =+K42-I42 -> -822
B44: Item: | C44: 1,2,8,2 | D44: =+'[2] PRESUPUESTO CENTRO DE DESARROL'!$B$49 -> Pintura de rejas en hierro en esmalte, incluye raspe y anticorrosivo, materiales, equipo y mano de obra. | I44: UNIDAD
I45: =+'[2] PRESUPUESTO CENTRO DE DESARROL'!$C$49 -> M2
B46: I-EQUIPO Y HERRAMIENTA
B47: Descripcion | E47: Unidad | F47: Tarifa | G47: Rendimiento. | H47: Valor
B48: Herramientos menores | E48: dia | F48: 51500 | G48: 10 | H48: =+F48/G48 -> 5150
H52: Sub-Total | I52: =SUM(H48:H51) -> 5150
B54: II- MATERIALES EN OBRA
B55: Descripcion | E55: Unidad | F55: Valor/unit | G55: Cantidad | H55: Valor
B56: Galon pintura esmalte | E56: und | F56: 82400 | G56: 0.02 | H56: =+F56*G56 -> 1648 | K56: =+G56*L61 -> 0.004
B57: Galon Anticorrocivo | E57: und | F57: 77250 | G57: 0.2 | H57: =+F57*G57 -> 15450 | L57: =0.5*0.1 -> 0.05
...

Sheet ITEM 1,2,9
B1: FORMATO No.
B2: MANTENIMIENTO, MEJORAMIENTO Y ADECUACIONES LOCATIVAS DE LAS INSTITUCIONES EDUCATIVAS JUAN XXIII, BELLAVISTA, SIMÓN BOLÍVAR, MARÍA AUXILIADORA Y CONCORDE SEDE B EN EL MUNICIPIO DE MALAMBO – DEPARTAMENTO DEL ATLÁNTICO.
B3: ANALISIS DE PRECIOS UNITARIO
B4: Contrato No.
B6: Item: | C6: 1,1,9,1 | D6: =+'[2] PRESUPUESTO CENTRO DE DESARROL'!$B$104 -> Salida de gas natural laboratorio, incluye materiales, equipo y mano de obra. | I6: UNIDAD
I7: =+'[2] PRESUPUESTO CENTRO DE DESARROL'!$C$104 -> UND
B8: I-EQUIPO Y HERRAMIENTA
B9: Descripcion | E9: Unidad | F9: Tarifa | G9: Rendimiento. | H9: Valor
B10: Herramientos menores | E10: dia | F10: 30900 | G10: 15.38 | H10: =+F10/G10 -> 2009.1027
H14: Sub-Total | I14: =SUM(H10:H13) -> 2009.1027
B16: II- MATERIALES EN OBRA
B17: Descripcion | E17: Unidad | F17: Valor/unit | G17: Cantidad | H17: Valor
B18: Codo cobre a cobre de 90 grados de 13 mm | E18: Und | F18: 4000 | G18: 1 | H18: =+F18*G18 -> 4000
B19: Codo cobre a cobre de 90 grados de 19 mm | E19: Und | F19: 12000 | G19: 1 | H19: =+F19*G19 -> 12000
B20: Soldadura 50x50 rollo | E20: Kg | F20: 92000 | G20: 0.15 | H20: =+F20*G20 -> 13800
B21: Tee cobre soldable 13 mm | E21: Und | F21: 12000 | G21: 1 | H21: =+F21*G21 -> 12000
B22: Tee cobre soldable 19 mm | E22: Und | F22: 12000 | G22: 1 | H22: =+F22*G22 -> 12000
B23: Tubo de cobre 13 mm | E23: Ml | F23: 60000 | G23: 1.4 | H23: =+F23*G23 -> 84000
B24: Tubo de cobre 13 mm | E24: ml | F24: 96000 | G24: 1.4 | H24: =+F24*G24 -> 134400
B25: valvula de gas | E25: Und | F25: 48000 | G25: 1 | H25: =+F25*G25 -> 48000
H26: Sub-Total | I26: =SUM(H18:H25) -> 320200
B28: III-TRANSPORTES
B29: Descripcion | F29: Tarifa | G29: Rendimiento. | H29: Valor
B30: transporte de pesonal tenico | F30: 185000 | G30: 1 | H30: =+F30*G30 -> 185000
H32: Sub-Total | I32: =SUM(H30:H31) -> 185000
B34: IV-MANO DE OBRA
B35: Trabajador | D35: Jornal | E35: Prestacion | F35: Jornal Tot. | G35: Rendiminto | H35: Valor
B36: Oficial - tecnico | D36: 74263 | E36: =+(0.66)*D36 -> 49013.58 | F36: =+D36+E36 -> 123276.58 | G36: 1.3 | H36: =+F36*G36 -> 160259.55
B37: 3 Ayudante | D37: =3*44702 -> 134106 | E37: =+(0.66)*D37 -> 88509.96 | F37: =+D37+E37 -> 222615.96 | G37: =+G36 -> 1.3 | H37: =+F37*G37 -> 289400.75
H40: Sub-Total | I40: =SUM(H36:H39) -> 449660.3
H41: Ajuste
G42: Total Costo Directo | I42: =ROUND(SUM(I12:I41),0) -> 956869
B44: MANTENIMIENTO, MEJORAMIENTO Y ADECUACIONES LOCATIVAS DE LAS INSTITUCIONES EDUCATIVAS JUAN XXIII, BELLAVISTA, SIMÓN BOLÍVAR, MARÍA AUXILIADORA Y CONCORDE SEDE B EN EL MUNICIPIO DE MALAMBO – DEPARTAMENTO DEL ATLÁNTICO.
B45: ANALISIS DE PRECIOS UNITARIO
B46: Contrato No.
B47: Item: | C47: 1,1,9,2 | D47: =+'[2] PRESUPUESTO CENTRO DE DESARROL'!$B$105 -> Revisión y reparaciones internas de instalaciones hidráulicas y de aguas negras área laboratorio, incluye materiales, equipo y mano de obra. | I47: UNIDAD
I48: =+'[2] PRESUPUESTO CENTRO DE DESARROL'!$C$105 -> GL
B49: I-EQUIPO Y HERRAMIENTA
B50: Descripcion | E50: Unidad | F50: Tarifa | G50: Rendimiento. | H50: Valor
B51: Herramientos menores | E51: dia | F51: 51500 | G51: 5 | H51: =+F51/G51 -> 10300
...

Sheet ITEM 1,2,10
B1: FORMATO No.
B2: MANTENIMIENTO, MEJORAMIENTO Y ADECUACIONES LOCATIVAS DE LAS INSTITUCIONES EDUCATIVAS JUAN XXIII, BELLAVISTA, SIMÓN BOLÍVAR, MARÍA AUXILIADORA Y CONCORDE SEDE B EN EL MUNICIPIO DE MALAMBO – DEPARTAMENTO DEL ATLÁNTICO.
B3: ANALISIS DE PRECIOS UNITARIO
B4: Contrato No.
B6: Item: | C6: 1,2,10,1 | D6: =+'[2] PRESUPUESTO CENTRO DE DESARROL'!$B$108 -> Limpieza general y desalojo de material sobrante. | I6: UNIDAD
I7: =+'[2] PRESUPUESTO CENTRO DE DESARROL'!$C$108 -> GL
B8: I-EQUIPO Y HERRAMIENTA
B9: Descripcion | E9: Unidad | F9: Tarifa | G9: Rendimiento. | H9: Valor
B10: Herramientos menores | E10: dia | F10: 20600 | G10: 13 | H10: =+F10/G10 -> 1584.6154
H14: Sub-Total | I14: =SUM(H10:H13) -> 1584.6154
B16: II- MATERIALES EN OBRA
B17: Descripcion | E17: Unidad | F17: Valor/unit | G17: Cantidad | H17: Valor
H18: =+F18*G18 -> 0
H19: =+F19*G19 -> 0
H20: =+F20*G20 -> 0
H21: =+F21*G21 -> 0
H22: =+F22*G22 -> 0
H26: Sub-Total | I26: =SUM(H18:H25) -> 0
B28: III-TRANSPORTES
B29: Descripcion | F29: Tarifa | G29: Rendimiento. | H29: Valor
