Workbook
Name __________________A1: IF([0]!Values_Entered,[1]!Header_Row+[0]!Number_of_Payments,[1]!Header_Row)
Name __________________AFC1: [2]INV!$A$25:$D$28
Name __________________AFC3: [2]INV!$F$25:$I$28
Name __________________AFC5: [2]INV!$K$25:$N$28
Name __________________BGC1: [2]INV!$A$5:$D$8
Name __________________BGC3: [2]INV!$F$5:$I$8
Name __________________BGC5: [2]INV!$K$5:$N$8
Name __________________CAC1: [2]INV!$A$19:$D$22
Name __________________CAC3: [2]INV!$F$19:$I$22
Name __________________CAC5: [2]INV!$K$19:$N$22
Name __________________SBC1: [2]INV!$A$12:$D$15
Name __________________SBC3: [2]INV!$F$12:$I$15
Name __________________SBC5: [2]INV!$K$12:$N$15
Name __________________v1: IF(__________________v8,[1]!Header_Row+__________________v4,[1]!Header_Row)
Name __________________v2: IF(__________________v8,[1]!Header_Row+__________________v4,[1]!Header_Row)
Name __________________v7: Scheduled_Payment+Extra_Payment
Name __________________w1: IF(__________________w7,[1]!Header_Row+__________________w3,[1]!Header_Row)
Name __________________w2: IF(__________________w7,[1]!Header_Row+__________________w3,[1]!Header_Row)
Name __________________w6: Scheduled_Payment+Extra_Payment
Name __________________X1: IF(__________________X7,[1]!Header_Row+__________________X3,[1]!Header_Row)
Name __________________X2: IF(__________________X7,[1]!Header_Row+__________________X3,[1]!Header_Row)
Name __________________X6: Scheduled_Payment+Extra_Payment
Name __________________y2: IF(__________________y7,[1]!Header_Row+__________________y3,[1]!Header_Row)
Name __________________y6: Scheduled_Payment+Extra_Payment
Name __________________z1: IF(__________________z7,[1]!Header_Row+__________________z3,[1]!Header_Row)
Name __________________z2: IF(__________________z7,[1]!Header_Row+__________________z3,[1]!Header_Row)
Name __________________z6: Scheduled_Payment+Extra_Payment
Name _________________AFC1: [2]INV!$A$25:$D$28
Name _________________AFC3: [2]INV!$F$25:$I$28
Name _________________AFC5: [2]INV!$K$25:$N$28
Name _________________BGC1: [2]INV!$A$5:$D$8
Name _________________BGC3: [2]INV!$F$5:$I$8
Name _________________BGC5: [2]INV!$K$5:$N$8
Name _________________CAC1: [2]INV!$A$19:$D$22
Name _________________CAC3: [2]INV!$F$19:$I$22
Name _________________CAC5: [2]INV!$K$19:$N$22
Name _________________SBC1: [2]INV!$A$12:$D$15
Name _________________SBC3: [2]INV!$F$12:$I$15
Name _________________SBC5: [2]INV!$K$12:$N$15
Name ________________A1: IF([0]!Values_Entered,[1]!Header_Row+[0]!Number_of_Payments,[1]!Header_Row)
Name ________________AFC1: [2]INV!$A$25:$D$28
Name ________________AFC3: [2]INV!$F$25:$I$28
Name ________________AFC5: [2]INV!$K$25:$N$28
Name ________________BGC1: [2]INV!$A$5:$D$8
Name ________________BGC3: [2]INV!$F$5:$I$8
Name ________________BGC5: [2]INV!$K$5:$N$8
Name ________________CAC1: [2]INV!$A$19:$D$22
Name ________________CAC3: [2]INV!$F$19:$I$22
Name ________________CAC5: [2]INV!$K$19:$N$22
Name ________________SBC1: [2]INV!$A$12:$D$15
Name ________________SBC3: [2]INV!$F$12:$I$15
Name ________________SBC5: [2]INV!$K$12:$N$15
Name ________________v1: IF(________________v8,[1]!Header_Row+________________v4,[1]!Header_Row)
Name ________________v2: IF(________________v8,[1]!Header_Row+________________v4,[1]!Header_Row)
Name ________________v7: Scheduled_Payment+Extra_Payment
Name ________________w1: IF(________________w7,[1]!Header_Row+________________w3,[1]!Header_Row)
Name ________________w2: IF(________________w7,[1]!Header_Row+________________w3,[1]!Header_Row)
Name ________________w6: Scheduled_Payment+Extra_Payment
Name ________________X1: IF(________________X7,[1]!Header_Row+________________X3,[1]!Header_Row)
Name ________________X2: IF(________________X7,[1]!Header_Row+________________X3,[1]!Header_Row)

Sheet FORMULARIO 1 -PPTO OFICIAL
B4: Alcaldía Municipal de Jamundí
B5: REALIZAR LOS ESTUDIOS Y DISEÑOS QUE PERMITAN OBTENER EL DIAGNÓSTICO Y LA OPTIMIZACIÓN DE LAS REDES DE ALCANTARILLADO Y/O SISTEMAS DE TRATAMIENTO DE LA ZONA RURAL DEL MUNICIPIO DE JAMUNDÍ EN EL MARCO DEL PROYECTO DE INVERSIÓN "OPTIMIZACIÓN DE LA PRESTACIÓN DEL SERVICIO DE AGUA POTABLE Y SANEAMIENTO BÁSICO DEL MUNICIPIO DE JAMUNDÍ " CON FICHA BPIM 20251763640024
C7: FORMULARIO 1 - DETALLADO
C9: CANT. | D9: CARGO / OFICIO | E9: SUELDO | F9: DEDICACIÓN | G9: DURACIÓN | H9: VALOR
E10: MES | F10: (%) | G10: (MESES) | H10: PARCIAL ($)
C11: (1) | E11: (2) | F11: (3) | G11: (4) | H11: (1)*(2)*(3)*(4) = (5)
C12: COSTOS DIRECTOS DE PERSONAL
C13: PERSONAL PROFESIONAL
C14: 1 | D14: DIRECTOR DE PROYECTO | E14: ='HONORARIOS ANI 2025'!H39 -> 9558929 | F14: 0.5 | G14: 3 | H14: =+ROUND(C14*E14*F14*G14,0) -> 14338394
C15: 1 | D15: ESPECIALISTA EN HIDROLOGÍA | E15: ='HONORARIOS ANI 2025'!H41 -> 7589286 | F15: 0.5 | G15: 3 | H15: =+ROUND(C15*E15*F15*G15,0) -> 11383929
C16: 1 | D16: INGENIERO HIDRÁULICO ESPECIALISTA | E16: ='HONORARIOS ANI 2025'!H41 -> 7589286 | F16: 1 | G16: 3 | H16: =+ROUND(C16*E16*F16*G16,0) -> 22767858
C17: 1 | D17: INGENIERO ESTRUCTURAL ESPECIALISTA | E17: =E16 -> 7589286 | F17: 0.6 | G17: 3 | H17: =+ROUND(C17*E17*F17*G17,0) -> 13660715
C18: 1 | D18: INGENIERO ELÉCTRICISTA ESPECIALISTA | E18: =E17 -> 7589286 | F18: 0.6 | G18: 3 | H18: =+ROUND(C18*E18*F18*G18,0) -> 13660715
C19: 1 | D19: INGENIERO DE PRESUPUESTOS Y ESPECIFICACIONES TÉCNICAS | E19: ='HONORARIOS ANI 2025'!H46 -> 4046429 | F19: 0.6 | G19: 3 | H19: =+ROUND(C19*E19*F19*G19,0) -> 7283572
C20: 2 | D20: INGENIERO SANITARIO Y/O AMBIENTAL | E20: ='HONORARIOS ANI 2025'!H46 -> 4046429 | F20: 1 | G20: 3 | H20: =+ROUND(C20*E20*F20*G20,0) -> 24278574
C21: 1 | D21: INGENIERO CIVIL | E21: ='HONORARIOS ANI 2025'!H46 -> 4046429 | F21: 0.6 | G21: 3 | H21: =+ROUND(C21*E21*F21*G21,0) -> 7283572
C22: 1 | D22: ESPECIALISTA SIG | E22: =E17 -> 7589286 | F22: 0.65 | G22: 3 | H22: =+ROUND(C22*E22*F22*G22,0) -> 14799108
C23: 1 | D23: PROFESIONAL CATASTRAL | E23: ='HONORARIOS ANI 2025'!H46 -> 4046429 | F23: 0.65 | G23: 3 | H23: =+ROUND(C23*E23*F23*G23,0) -> 7890537
C24: PERSONAL TÉCNICO
C25: 2 | D25: TÉCNICO EN DIBUJO ASISTIDO POR COMPUTADOR | E25: ='HONORARIOS ANI 2025'!H50 -> 2000000 | F25: 1 | G25: 3 | H25: =+ROUND(C25*E25*F25*G25,0) -> 12000000
C26: 1 | D26: TRABAJADOR SOCIAL | E26: ='HONORARIOS ANI 2025'!H50 -> 2000000 | F26: 1 | G26: 3 | H26: =+ROUND(C26*E26*F26*G26,0) -> 6000000
C27: PERSONAL ADMINISTRATIVO
C28: 1 | D28: AUXILIAR ADMINISTRATIVO | E28: ='HONORARIOS ANI 2025'!H52 -> 1812500 | F28: 1 | G28: 3 | H28: =+ROUND(C28*E28*F28*G28,0) -> 5437500
C29: SUBTOTAL COSTOS DE PERSONAL = SUMATORIA DE (5) = (6) | H29: =+SUM(H14:H28) -> 160784474
C30: FACTOR MULTIPLICADOR (7) | H30: =+FM!F61 -> #ERROR!
C31: SUBTOTAL COSTOS DE PERSONAL Y GASTOS GENERALES (OFICINA, SERVICIOS PÚBLICO, EQUIPOS, PAPELERÍA, ETC.) = (6) * (7) = (A) | H31: =+ROUND(H29*H30,0) -> #ERROR!
C32: CANT. | D32: CONCEPTO | E32: UNIDAD | F32: COSTO | G32: UTILIZACIÓN | H32: VALOR
F33: ($) | H33: PARCIAL ($)
C34: (8) | F34: (9) | G34: (10) | H34: (8)*(9)*(10) = (11)
C35: OTROS COSTOS DIRECTOS
C36: ESTUDIOS REQUERIDOS
C37: 1 | D37: ESTUDIO DE SUELOS Y/O GEOTECNIA | E37: GBL | F37: 27000000 | G37: 1 | H37: =+ROUND(C37*F37*G37,0) -> 27000000
C38: 1 | D38: ESTUDIO DE TOPOGRAFÍA | E38: GBL | F38: 30142136 | G38: 1 | H38: =+ROUND(C38*F38*G38,0) -> 30142136
C39: 1 | D39: ESTUDIO DE AMENAZA, VULNERABILIDAD Y RIESGO | E39: GBL | F39: 15000000 | G39: 1 | H39: =+ROUND(C39*F39*G39,0) -> 15000000
C40: 1 | D40: ESTUDIO DE CARACTERIZACIÓN DE LA FUENTE RECEPTORA | E40: GBL | F40: 18000000 | G40: 1 | H40: =+ROUND(C40*F40*G40,0) -> 18000000
C41: SUBTOTAL OTROS COSTOS DIRECTOS = SUMATORIA DE (11) = (B) | H41: =+SUM(H36:H40) -> 90142136
C42: SUBTOTAL COSTOS BASICOS = (A) + (B) = © | H42: =+H31+H41 -> #ERROR!
C43: 18500000 | H43: 0
C44: VALOR TOTAL BÁSICO = (C)+(D) = (E) | H44: =+H42+H43 -> #ERROR!
C45: IVA = 19% * (E) = (F) | H45: =+ROUND(H44*0.19,0) -> #ERROR!
...

Sheet HONORARIOS ANI 2025
B36: 2. TABLA DE HONORARIOS
B37: CATEGORIA | C37: IDONEIDAD ACADÉMICA | D37: EXPERIENCIA MÍNIMA REQUERIDA (RELACIONADA) | E37: HONORARIOS MENSUALES SIN IVA | F37: HONORARIOS MENSUALES CON IVA | H37: SUELDO LP-SE-0787 de 2025
B38: EXPERTO ALTAMENTE CALIFICADO III | C38: Título profesional + Maestría o Doctorado | D38: 100 meses o más | E38: 17776000 | F38: =ROUND(E38*1.19,0) -> 21153440 | H38: =+ROUND(E38/FP!$F$26,0) -> 10580952
B39: EXPERTO ALTAMENTE CALIFICADO II | D39: 90 meses o más | E39: 16059000 | F39: =ROUND(E39*1.19,0) -> 19110210 | H39: =+ROUND(E39/FP!$F$26,0) -> 9558929
B40: EXPERTO ALTAMENTE CALIFICADO I | D40: 80 meses o más | E40: 14342000 | F40: =ROUND(E40*1.19,0) -> 17066980 | H40: =+ROUND(E40/FP!$F$26,0) -> 8536905
B41: ESPECIALIZADA V | C41: Título profesional + Especialización o posgrado superior | D41: 72 meses o más | E41: 12750000 | F41: =ROUND(E41*1.19,0) -> 15172500 | H41: =+ROUND(E41/FP!$F$26,0) -> 7589286 | I41: =6*12 -> 72
B42: ESPECIALIZADA IV | D42: 60 meses o más | E42: 11475000 | F42: =ROUND(E42*1.19,0) -> 13655250 | H42: =+ROUND(E42/FP!$F$26,0) -> 6830357
B43: ESPECIALIZADA III | D43: 48 meses o más | E43: 10200000 | F43: =ROUND(E43*1.19,0) -> 12138000 | H43: =+ROUND(E43/FP!$F$26,0) -> 6071429
B44: ESPECIALIZADA II | D44: 36 meses o más | E44: 9373000 | F44: =ROUND(E44*1.19,0) -> 11153870 | H44: =+ROUND(E44/FP!$F$26,0) -> 5579167
B45: ESPECIALIZADA I | D45: 28 meses o más | E45: 7725000 | F45: =ROUND(E45*1.19,0) -> 9192750 | H45: =+ROUND(E45/FP!$F$26,0) -> 4598214
B46: PROFESIONAL IV | C46: Título profesional | D46: 36 meses o más | E46: 6798000 | F46: =ROUND(E46*1.19,0) -> 8089620 | H46: =+ROUND(E46/FP!$F$26,0) -> 4046429
B47: PROFESIONAL III | D47: 24 meses o más | E47: 6077000 | F47: =ROUND(E47*1.19,0) -> 7231630 | H47: =+ROUND(E47/FP!$F$26,0) -> 3617262 | J47: =3*12 -> 36
B48: PROFESIONAL II | D48: 12 meses o más | E48: 5356000 | F48: =ROUND(E48*1.19,0) -> 6373640 | H48: =+ROUND(E48/FP!$F$26,0) -> 3188095
B49: PROFESIONAL I | D49: 0 meses o más | E49: 4725000 | F49: =ROUND(E49*1.19,0) -> 5622750 | H49: =+ROUND(E49/FP!$F$26,0) -> 2812500
B50: TÉCNICA II | C50: Técnico o tecnólogo | D50: 12 meses o más | E50: 3360000 | F50: =ROUND(E50*1.19,0) -> 3998400 | H50: =+ROUND(E50/FP!$F$26,0) -> 2000000
B51: TÉCNICA I | D51: 0 meses o más | E51: 3150000 | F51: =ROUND(E51*1.19,0) -> 3748500 | H51: =+ROUND(E51/FP!$F$26,0) -> 1875000
B52: ASISTENCIAL III | C52: Bachiller | D52: 36 meses o más (laboral o relacionada) | E52: 3045000 | F52: =ROUND(E52*1.19,0) -> 3623550 | H52: =+ROUND(E52/FP!$F$26,0) -> 1812500
B53: ASISTENCIAL II | D53: 18 meses o más (laboral o relacionada) | E53: 2651250 | F53: =ROUND(E53*1.19,0) -> 3154988 | H53: =+ROUND(E53/FP!$F$26,0) -> 1578125
B54: ASISTENCIAL I | D54: 0 meses o más (laboral o relacionada) | E54: 2257500 | F54: =ROUND(E54*1.19,0) -> 2686425 | H54: =+ROUND(E54/FP!$F$26,0) -> 1343750
B55: Nota: Las áreas deberán dar cumplimiento a lo establecido en el artículo 2.2.1.2.1.4.9 del Decreto 1082 de 2015.
B56: 3. REGLAS DE APLICACIÓN DE LA TABLA DE HONORARIOS 3.1. Corresponde a la dependencia solicitante del proceso contractual, revisar el régimen tributario del futuro contratista con el fin de garantizar la cobertura presupuestal del contrato a suscribir. 3.2. El cambio de régimen de no responsable de IVA a responsable de IVA durante la ejecución del contrato no implica reconocimientos de sumas adicionales o modificaciones al valor del contrato. 3.3. Para efectos de aplicación de la tabla de honorarios la experiencia traslapada se contabilizará una sola vez. 3.4. Sin perjuicio de dar aplicación a lo establecido en la Ley 2043 de 2020, la experiencia exigida se contabilizará conforme lo dispongan las normas vigentes para el ejercicio de la correspondiente profesión u oficio. 3.5. La formación exigida se tendrá en cuenta conforme lo dispongan las normas vigentes, especialmente para el caso de homologación de títulos otorgados en el exterior. 3.6. Salvo norma en contrario los documentos expedidos en el exterior deberán encontrarse debidamente legalizados (Legalización, apostille, traducción oficial, etc.) en Colombia para que sean tenidos en cuenta. 3.7. Para acreditar la experiencia se requiere la presentación de certificaciones laborales o de contratos, en la que se indique el nombre o razón social de la entidad o empresa, tiempo de servicio, relación de funciones u obligaciones desempeñadas. La copia de los contratos no servirá para acreditar la experiencia. 3.8 El título profesional universitario exigido, es obligatorio y en consecuencia, frente a dicho requisito no podrá aplicarse ninguna equivalencia.
B58: 4. EQUIVALENCIAS Para efectos de la aplicación de la presente Tabla de Honorarios, se prevé la aplicación de las siguientes equivalencias entre estudios y experiencia: 4.1. Para Servicios Profesionales. 4.1.1. El título de posgrado en la modalidad de especialización por: Dos (2) años de experiencia profesional; o título profesional adicional al exigido, siempre y cuando dicha formación adicional sea afín con el objeto a contratar; o terminación y aprobación de estudios profesionales adicionales al título profesional mínimo requerido, siempre y cuando dicha formación adicional sea afín con el objeto a contratar y un (1) año de experiencia profesional adicional. 4.1.2. Dos (2) años de experiencia profesional relacionada con el objeto a contratar por: El título de posgrado adicional al exigido, relacionado con el objeto contractual en la modalidad de especialización. 4.1.3. El título de posgrado en la modalidad de maestría por: Tres (3) años de experiencia profesional; o título profesional adicional al exigido, siempre y cuando dicha formación adicional sea afín con el objeto a contratar; o terminación y aprobación de estudios profesionales adicionales al título profesional exigido, siempre y cuando dicha formación adicional sea afín con el objeto a contratar, y un (1) año de experiencia adicional. 4.1.4. Tres (3) años de experiencia profesional relacionada con el objeto a contratar por: El título de posgrado adicional al exigido, relacionado con el objeto contractual en la modalidad de maestría. 4.1.5. El título de posgrado en la modalidad de doctorado o posdoctorado, por: Cuatro (4) años de experiencia profesional; o título profesional adicional al exigido, siempre y cuando dicha formación adicional sea afín con el objeto a contratar, o terminación y aprobación de estudios profesionales adicionales al título profesional exigido, siempre y cuando dicha formación adicional sea afín con el objeto a contratar y dos (2) años de experiencia profesional adicional, o tres (3) años de experiencia profesional por título universitario adicional al exigido, relacionado con el objeto a contratar.
B60: 4.1.6. Cuatro (4) años de experiencia relacionada con el objeto a contratar por: El título de posgrado adicional al exigido, relacionado con el objeto contractual en la modalidad de doctorado o posdoctorado. 4.1.7. Cuando se trate de aplicar equivalencias para la formación de posgrado se tendrá en cuenta que la maestría es equivalente a la especialización más un (1) año de experiencia profesional o viceversa. 4.1.8. Cuando se trate de aplicar equivalencias para la formación de posgrado se tendrá en cuenta que el doctorado o posdoctorado es equivalente a la maestría más tres (3) años de experiencia profesional y viceversa; o a la especialización más cuatro (4) años de experiencia profesional y viceversa. 5. REGLAS REFERENTES A LOS CONTRATOS DE PRESTACIÓN DE SERVICIOS PROFESIONALES O DE APOYO A LA GESTIÓN A LOS CUALES NO SE LES APLICA LA TABLA. 5.1 Excepciones a la aplicación de la tabla de honorarios: Quedan exceptuados de la tabla de honorarios los siguientes tipos de contratos: 5.1.1 Contratos de prestación de servicios con personas naturales o jurídicas para asesoría técnica o jurídica externa especializada, o representación judicial cuando el objeto, la naturaleza del contrato o la cuantía de las pretensiones lo amerite, para lo cual se deberá justificar en los estudios previos por el Vicepresidente competente, la necesidad del servicio o el alto nivel de complejidad, especialidad y detalle, así como la estimación de los honorarios, para lo cual se deberá realizar un estudio del mercado y dejar constancia del mismo en los estudios previos respectivos, sin perjuicio de los dispuesto en las normas vigentes. 5.1.2 Contratistas para trabajos artísticos que solo pueden encomendarse a determinadas personas naturales. 5.1.3 Asesoría o representación relacionada con tribunales de arbitramento o dictámenes periciales. 5.1.4 Otros de naturaleza especial que de acuerdo de la ley que no se encuentren tipificados en las denominaciones anteriores.
B62: 5.2 Reglas 5.2.1 Para aquellos contratos con personas naturales o jurídicas, cuyos honorarios superen los valores adoptados por medio del presente anexo al manual de contratación, se deberá contar con la autorización del presidente de la Agencia Nacional de Infraestructura y propuesta presentada por el futuro contratista, teniendo como referencia los estudios o experiencia y/o experticia relacionada con el objeto a contratar, que deben hacer parte del estudio previo. Nota: En caso de que, como resultado de una adición a un contrato, el valor total del mismo supere los valores adoptados por medio del presente anexo al manual de contratación, se deberá contar con la autorización del presidente de la Agencia Nacional de Infraestructura. 5.2.2 Se deberá contar con la autorización del presidente de la Agencia Nacional de Infraestructura y propuesta presentada por el futuro contratista para las personas naturales y/o jurídicas cuyos honorarios mensuales superen la categoría máxima de la Tabla de honorarios o que el valor resultante de dividir el valor total del contrato por el plazo (en meses o su proporción) resulte superior al valor fijado en la categoría máxima de la Tabla de honorarios. 5.2.3 También se deberá contar con la autorización del presidente de la Agencia Nacional de Infraestructura cuando como resultado de una adición a un contrato, el valor total del mismo supere la categoría máxima de la Tabla de honorarios o cuando el valor resultante de dividir el valor total del contrato por el plazo (en meses o su proporción) resulte superior al valor fijado en la categoría máxima de la Tabla de honorarios. 5.3 Reglas adicionales: Adicionalmente a lo anterior para los contratos que sus honorarios superen la remuneración total mensual establecida para el jefe de la entidad, se aplicará la siguiente normatividad o cualquiera que la modifique, complemente o sustituya: Artículo 4º del Decreto 1737 de 1998 modificado por los Decretos 2785 de 2011 y 2209 de 1998, modificado este último a su vez por el Decreto 2785 de 2011, que establece: "Artículo 4°. Está prohibido el pacto de remuneración para pago de servicios personales calificados con personas naturales, o jurídicas, encaminados a la prestación de servicios en forma continua para atender asuntos propios de la respectiva entidad, por valor mensual superior a la remuneración total mensual establecida para el jefe de la entidad.
B64: Parágrafo 1°. Se entiende por remuneración total mensual del jefe de la entidad, la que corresponda a este en cada uno de dichos períodos, sin que en ningún caso puedan tenerse en consideración los factores prestacionales. Parágrafo 2°. Los servicios a que hace referencia el presente artículo corresponden exclusivamente a aquellos comprendidos en el concepto de "remuneración servicios técnicos" desarrollado en el decreto de liquidación del presupuesto general de la Nación, con independencia del presupuesto con cargo al cual se realice su pago. Parágrafo 3°. De manera excepcional, para aquellos eventos en los que se requiera contratar servicios altamente calificados, podrán pactarse honorarios superiores a la remuneración total mensual establecida para el jefe de la entidad, los cuales no podrán exceder del valor total mensual de remuneración del jefe de la entidad incluidos los factores prestacionales y las contribuciones inherentes a la nómina, relacionadas con seguridad social y para fiscales a cargo del empleador. En estos eventos el Representante Legal de la entidad deberá certificar el cumplimiento de los siguientes aspectos: 1. Justificar la necesidad del servicio personal altamente calificado. 2. Indicar las características y calidades específicas, altamente calificadas, que reúne el contratista para la ejecución del contrato, y 3. Determinar las características de los productos y/o servicios que se espera obtener. Parágrafo 4°. Se entiende por servicios altamente calificados aquellos requeridos en situaciones de alto nivel de especialidad, complejidad y detalle". Aprobado mediante Acta N° 97 de 12 diciembre de 2023, durante el Comité de Contratación.

Sheet FP
D2: INTERVENTORÍA INTEGRAL AL CONTRATO DE OBRA QUE RESULTE ADJUDICADO EN EL PROCESO DE LICITACIÓN PÚBLICA No. LP-SE-0787 de 2025 CUYO OBJETO ES: EJECUTAR A PRECIOS UNITARIOS FIJOS LAS OBRAS Y ACTIVIDADES NECESARIAS PARA LA CONSTRUCCIÓN DE LA SEDE PRINCIPAL DE LA INSTITUCIÓN EDUCATIVA TECNICA COMERCIAL LITECOM DEL MUNICIPIO DE JAMUNDÍ, EN EL MARCO DE LA BPIM 20251763640047 | E2: =+#REF! -> #REF!
D8: FACTOR PRESTACIONAL
B10: ITEM | C10: CONCEPTO | F10: PORCENTAJE
B12: 1 | C12: Salarios y Prestaciones Sociales de Personal Facturable
B13: 1.1 | C13: Salarios | F13: 1
B14: 1.2 | C14: Prima anual (legal) | F14: 0.083333333
B15: 1.3 | C15: Cesantía | F15: 0.083333333
B16: 1.4 | C16: Intereses de cesantía | F16: 0.01
B17: 1.5 | C17: Vacaciones | F17: 0.041666667
B18: 1.6 | C18: Seguridad social (salud + pensión) | F18: 0.205
B19: 1,7 | C19: Caja de Compensación Familiar | F19: 0.04
B20: 1,8 | C20: ARL (NOTA 1) | F20: 0.0696
B21: 1,9 | C21: Sena | F21: 0.02
B22: 1,10 | C22: ICBF | F22: 0.03
B23: 1,11 | C23: Otros (Auxilios varios, prestaciones extralegales, Incapacidades no cubiertas) | F23: 0.057
B24: 1,12 | C24: Dotación | F24: 0.04
B25: Sub-total | F25: =SUM(F13:F24) -> 1.6799333
F26: =+ROUND(F25,3) -> 1.68
B28: NOTA 1. ARL considera riesgo V para el personal en construcción

Sheet FM
D2: INTERVENTORÍA INTEGRAL AL CONTRATO DE OBRA QUE RESULTE ADJUDICADO EN EL PROCESO DE LICITACIÓN PÚBLICA No. LP-SE-0787 de 2025 CUYO OBJETO ES: EJECUTAR A PRECIOS UNITARIOS FIJOS LAS OBRAS Y ACTIVIDADES NECESARIAS PARA LA CONSTRUCCIÓN DE LA SEDE PRINCIPAL DE LA INSTITUCIÓN EDUCATIVA TECNICA COMERCIAL LITECOM DEL MUNICIPIO DE JAMUNDÍ, EN EL MARCO DE LA BPIM 20251763640047
D8: FACTOR MULTIPLICADOR
B10: ITEM | C10: CONCEPTO | F10: PORCENTAJE
B12: 1 | C12: Salarios y Prestaciones Sociales de Personal Facturable
B13: 1,1 | C13: =+[102]FP!C13 -> #ERROR! | F13: =+[102]FP!F13 -> #ERROR!
B14: 1,2 | C14: =+[102]FP!C14 -> #ERROR! | F14: =+[102]FP!F14 -> #ERROR!
B15: 1,3 | C15: =+[102]FP!C15 -> #ERROR! | F15: =+[102]FP!F15 -> #ERROR!
B16: 1,4 | C16: =+[102]FP!C16 -> #ERROR! | F16: =+[102]FP!F16 -> #ERROR!
B17: 1,5 | C17: =+[102]FP!C17 -> #ERROR! | F17: =+[102]FP!F17 -> #ERROR!
B18: 1,6 | C18: =+[102]FP!C18 -> #ERROR! | F18: =+[102]FP!F18 -> #ERROR!
B19: 1,7 | C19: =+[102]FP!C19 -> #ERROR! | F19: =+[102]FP!F19 -> #ERROR!
B20: 1,8 | C20: =+[102]FP!C20 -> #ERROR! | F20: =+[102]FP!F20 -> #ERROR!
B21: 1,9 | C21: =+[102]FP!C21 -> #ERROR! | F21: =+[102]FP!F21 -> #ERROR!
B22: 1,10 | C22: =+[102]FP!C22 -> #ERROR! | F22: =+[102]FP!F22 -> #ERROR!
B23: 1,11 | C23: =+[102]FP!C23 -> #ERROR! | F23: =+[102]FP!F23 -> #ERROR!
B24: 1,12 | C24: =+[102]FP!C24 -> #ERROR! | F24: =+[102]FP!F24 -> #ERROR!
B25: Sub-total | F25: =SUM(F13:F24) -> #ERROR!
B27: 2 | C27: Gastos Indirectos
B28: 2,1 | C28: Preparación de propuesta | F28: 0.005
B29: 2,2 | C29: Gastos de desplazamientos personal directivo | F29: 0.045
B30: 2,3 | C30: Apoyo oficina central | F30: 0.08
B32: Sub-total | F32: =SUM(F28:F31) -> 0.13
B34: 3. | C34: Gastos Generales
B35: 3,1 | C35: Pólizas | F35: 0.04
B36: 3,2 | C36: Oficina de obra, servicios públicos, dotación, equipos de cómputo, impresora, mantenimiento equipos, papaleria, telecomunicaciones, licenciamiento de Software, aseo, caja menor. | F36: 0.06
B38: Sub-total | F38: =SUM(F35:F37) -> 0.1
B40: 4. | C40: Otros gastos de legalización
B41: 4,1 | C41: Prohospital | F41: 0.01
B42: 4,2 | C42: Cultura | F42: 0.01
B43: 4,3 | C43: Adulto Mayor | F43: 0.03
B44: 4,4 | C44: Reteica | F44: 0.01
B45: 4,5 | C45: Propacifico | F45: 0.005
B46: 4,6 | C46: Prodeporte | F46: 0.025
B47: 4,7 | C47: Ley 418 de 1997 | F47: 0 | G47: En archivo enviado por la Dra Thalía, este gasto no aplica, estaba en el 5%
B48: 4,8 | C48: Estampilla para la Justicia Familiar | F48: 0.02
B49: 4,9 | C49: Impuesto de timbre Decreto Legislativo 175 de 2025 | F49: 0 | G49: En archivo enviado por la Dra Thalía, este gasto no aplica. Estaba en el 1%
B50: Sub-total | F50: =SUM(F41:F49) -> 0.11
B52: 5 | C52: Total
B53: 5.1 | C53: Total (1+2+3+4) | F53: =F50+F38+F32+F25 -> #ERROR!
B54: Sub-total | F54: =+F53 -> #ERROR!
...
