Workbook

Sheet VERIFICACION EXPERIENCIA
A1: FDLCB-LP-006-2024 "PRESTAR LOS SERVICIOS PARA DESARROLLAR LAS ACCIONES ENCAMINADAS A LA PREVENCIÓN DE VIOLENCIA INTRAFAMILIAR Y/O VIOLENCIA SEXUAL, LA VIOLENCIA CONTRA LA MUJER Y EL FEMINICIDIO EN LA LOCALIDAD DE CIUDAD BOLÍVAR, EN EL MARCO DEL PLAN DE DESARROLLO LOCAL DE CIUDAD BOLÍVAR 2021-2024" | B1: PROPONENTE No. 1 | C1: PROPONENTE No. 2 | D1: PROPONENTE No. 3 | E1: PROPONENTE No. 4 | F1: PROPONENTE No. 5 | G1: PROPONENTE No. 6 | H1: PROPONENTE No. 7 | I1: PROPONENTE No. 8 | J1: PROPONENTE No. 9 | K1: PROPONENTE No. 10 | L1: PROPONENTE No. 11
B2: UT CAMINOS DE EMPODERAMIENTO | C2: FUNDESCO | D2: UT BUEN TRATO EUFEES | E2: UT MUJERES | F2: UT MERANI | G2: UT GARANTIA DE DERECHOS | H2: UT-DH | I2: UT MUJER Y GENERO CB | J2: UT IKAFAR 2024 | K2: CORPORACIÓN ESCALANDO FUTURO | L2: FUNDACIÓN INTEGRAL SOCIAL DE LAS AMERICAS
A3: CONTRATO No. 1 GENERAL
A4: NO. DE CONTRATO | B4: 566-2020 | C4: 96-2016 | D4: 565-2020 | E4: 086-2019 | F4: 529 de 2021 | G4: 156 DE 2021 | H4: 487-2022 | I4: SM-CM-029 DE 2017 | J4: 4600054155 DE 2014 | L4: 18-2019
A5: No. CONSECUTIVO EN EL RUP | B5: 251 | C5: 16 | D5: 68 | E5: 27 | F5: 175 | G5: 98 | H5: 79 | I5: 109 | J5: 92 | K5: 78
A6: OBJETO: | B6: PRESTAR EL SERVICIO INTEGRAL PARA LA PUESTA EN MARCHA Y FUNCIONAMIENTO DE LAS CASAS REFUGIO PARA LA ATENCIÓN A MUJERES VÍCTIMAS DE VIOLENCIAS Y SUS PERSONAS A CARGO, DE ACUERDO CON LAS CARACTERÍSTICAS TÉCNICAS DESCRITAS EN EL ANEXO TÉCNICO Y LAS NORMAS VIGENTES QUE REGULAN LA MATERIA | C6: REALIZAR ACCIONES PARA LA PREVENCION DE LA VIOLENCIA INTRAFAMILIAR Y SEXUAL DE LA LOCALIDAD DE BARRIOS UNIDOS | D6: PRESTAR EL SERVICIO INTEGRAL PARA LA PUESTA EN MARCHA Y FUNCIONAMIENTO DE LAS CASAS REFUGIO PARA LA ATENCIÓN A MUJERES VÍCTIMAS DE VIOLENCIAS Y SUS PERSONAS A CARGO, DE ACUERDO CON LAS CARACTERÍSTICAS TÉCNICAS DESCRITAS EN EL ANEXO TÉCNICO Y LAS NORMAS VIGENTES QUE REGULAN LA MATERIA | E6: PRESTAR EL SERVICIO DE ACOMPAÑAMIENTO PSICOSOCIAL, FAMILIAR Y COMUNITARIO DE LA DIRECCIÓN DE FAMILIAS Y COMUNIDADES PARA IMPLEMENTAR LA MODALIDAD MI FAMILIA, CUYO OBJETIVO ES FORTALECER A LAS FAMILIAS PARA PROMOVER LA PROTECCIÓN INTEGRAL DE LOS NIÑOS, NIÑAS Y ADOLESCENTES Y CONTRIBUIR A LA PREVENCIÓN DE LA VIOLENCIA, NEGLIGENCIA O ABUSOS EN SU CONTRA, A TRAVÉS DEL MODELO DE ATENCIÓN URBANA. | F6: CONTRATAR LOS SERVICIOS TÉCNICOS LOGÍSTICOS Y PROFESIONALES PARA LA FORMACIÓN DE PERSONAS EN ESTRATEGIAS INDIVIDUALES Y COMUNITARIAS PARA LA PREVENCIÓN DE LA VIOLENCIA INTRAFAMILIAR Y/O VIOLENCIA SEXUAL EN LA LOCALIDAD DE SUBA | G6: PRESTAR SERVICIOS PARA REALIZAR ACTIVIDADES QUE PROMUEVAN LA PREVENCION DE VIOLENCIA INTRAFAMILIAR Y SEXUAL SOBRE POBLACIONES EN SITUACIONES DE RIESGO Y VULNERACIÓN DE DERECHOS EN EL MARCO DEL PROYECTO 1662 LA CANDELARIA TERRITORIO LIBRE DE VIOLENCIA INTRAFAMILIAR Y SEXUAL | H6: REALIZAR ACCIONES QUE FORTALEZCAN LA PROMOCIÓN DEL BUEN TRATO, LA PROMOCIÓN DE LA VIOLENCIA INTRAFAMILIAR, VIOLENCIA SEXUAL Y VIOLENCIA DE GÉNERO EN LA LOCALIDAD DE ENGATIVÁ | I6: DISEÑAR E IMPLEMENTAR UNA ESTRATEGIA INTEGRAL QUE PERMITA DESARROLLAR LAS ACCIONES DE PROMOCION DE LOS DERECHOS HUMANOS DE LAS MUJERES, PREVENCIÓN DE VIOLENCIAS BASADAS EN GÉNERO Y LA VINCULACIÓN DE HOMBRES EN LA DEFENSA DE LA IGUALDAD Y EQUIDAD DE GÉNERO DE ACUERDO CON LAS ACTIVIDADES DEFINIDAS POR LA SECRETARÍA DE LA MUJER Y EQUIDAD DE GÉNERO | J6: PRESTACIÓN DE SERVICIOS PARA LA ATENCIÓN TERAPÉUTICA GRUPAL PARA MUJERES VÍCTIMAS DE VIOLENCIA BASADAS EN GÉNERO (UNIÓN TEMPORAL ATENCIÓN TERAPÉUTICA IKASF). | K6: PROMOVER Y PREVENIR MEDIANTE ATENCIÓN ESPECIALIZADA LA GARANTÍA DE LOS DERECHOS Y LA PROTECCIÓN INTEGRAL DE LOS NIÑOS, NIÑAS Y ADOLESCENTES, VELAR POR EL CUMPLIMIENTO DE LOS MISMOS; LA PREVENCIÓN DE SU AMENAZA O VULNERACIÓN Y LA ACTIVACIÓN DE LA RESPUESTA INSTITUCIONAL MEDIANTE LA IMPLEMENTACIÓN Y OPERACIÓN DEL PROGRAMA DE PROMOCIÓN Y PREVENCIÓN PARA LA PROTECCIÓN INTEGRAL DE NIÑOS, NIÑAS Y ADOLESCENTES -GENERACIONES CON BIENESTAR- | L6: PRESTAR SERVICIOS PROFESIONALES CON EL FIN DE ERRADICAR CUALQUIER FORMA DE VIOLENCIA SEXUAL Y GARANTIZAR LA SEGURIDAD Y BIENESTAR DE TODAS LAS PERSONAS INVOLUCRADAS EN EL DEPARTAMENTO DE SANTANDER
A7: ENTIDAD QUE EXPIDE LA CERTIFICACIÓN: | B7: SECRETARIA DISTRITAL DE LA MUJER | C7: FONDO DE DESARROLLO LOCAL DE BARRIOS UNIDOS | D7: SECRETARIA DE LA MUJER | E7: ICBF REEGIONAL VICHADA | F7: FONDO DE DESARROLLO LOCAL DE SUBA | G7: ALCALDIA LOCAL DE LA CANDELARIA | H7: FONDO DE DESARROLLO LOCAL DE ENGATIVÁ | I7: GOBERNACIÓN DE CUNDINAMARCA | J7: MUNICIPIO DE MEDELLIN - SECRETARIA DE LAS MUJERES | K7: INSTITUTO COLOMBIANA DE BIENESTAR FAMILIAR ICBF | L7: CORPORACIÓN DUOS
A8: SMMLV DEL PRESUPUESTO DEL CONTRATO | B8: =1861.98*0.5 -> 930.99 | C8: 188.77 | D8: =877.97*0.5 -> 438.985 | E8: 971.21 | F8: 1222 | G8: =G9/908526 -> 116.33789 | H8: =H9/1160000 -> 1855.4426 | I8: 173.5 | J8: =1774.3*0.33 -> 585.519 | K8: =2020.39*0.7 -> 1414.273
A9: VALOR EN $ DEL PRESUPUESTO | B9: =1691664659*0.5 -> 8.4583233e+08 | C9: 139257000 | D9: =797660103*0.5 -> 3.9883005e+08 | E9: 852533369 | F9: 1110320512 | G9: 105696000 | H9: 2152313414 | I9: 128000000 | J9: =1092970448*0.33 -> 3.6068025e+08 | K9: =+K8*1160000 -> 1640556680 | L9: 798892000
A10: SMMLV PRESUPUESTO OFICIAL | B10: 1171 | C10: 1171 | D10: 1171 | E10: 1171 | F10: 1171 | G10: 1171 | H10: 1171 | I10: 1171 | J10: 1171 | K10: 1171 | L10: 1171
A11: VALOR PRESUPUESTO OFICIAL $ | B11: 1522911450 | C11: 1522911450 | D11: 1522911450 | E11: 1522911450 | F11: 1522911450 | G11: 1522911450 | H11: 1522911450 | I11: 1522911450 | J11: 1522911450 | K11: 1522911450 | L11: 1522911450
A12: Códigos UNSPSC | B12: 80101600 | C12: 60121600 | D12: 80101600 | E12: 80101600 | F12: 80111600 | G12: 60124100 | H12: 60121600 | I12: 80101600 | J12: 80101600 | K12: 80101600
B13: 86101700 | C13: 80101600 | D13: 80111600 | E13: 80111600 | F13: 80101600 | G13: 80101600 | H13: 60124100 | I13: 80111600 | J13: 80111600 | K13: 80111600
B14: 86111600 | C14: 80141900 | D14: 86101700 | E14: 80141900 | F14: 86111600 | G14: 80111600 | H14: 80101600 | I14: 86111600 | J14: 86101700 | K14: 86111600
B15: 90101600 | C15: 86101700 | D15: 90101600 | E15: 86101700 | F15: 90101600 | G15: 93141600 | H15: 80111600 | I15: 93141500 | J15: 86111600 | K15: 93141500
B16: 93141500 | C16: 86101700 | D16: 93141600 | E16: 86111600 | F16: 93141500 | G16: 93141700 | H16: 80141900 | I16: 93141600 | J16: 93141700 | K16: 94132000
A17: OBSERVACIÓN | C17: SEGÚN LA CERTIFICACIÓN ALLEGADA CUMPLE CON LA EXPERIENCIA GENERAL SOLICITADA, TODA VEZ QUE, CORRESPONDE A ACCIONES EN TORNO A LA PREVENSIÓN DE LA VIOLENCIA INTRAFAMILIAR | D17: SEGÚN LA CERTIFICACIÓN ALLEGADA CUMPLE CON LA EXPERIENCIA GENERAL SOLICITADA, TODA VEZ QUE, CORRESPONDE A ACCIONES Y ATENCIÓN A MUJERES VICTIMAS DE VIOLENCIAS | E17: SEGÚN LA CERTIFICACIÓN ALLEGADA CUMPLE CON LA EXPERIENCIA GENERAL SOLICITADA, TODA VEZ QUE, CORRESPONDE A ACCIONES EN TORNO A LA PREVENSIÓN DE LA VIOLENCIA INTRAFAMILIAR | F17: SEGÚN LA CERTIFICACIÓN ALLEGADA CUMPLE CON LA EXPERIENCIA GENERAL SOLICITADA, TODA VEZ QUE, CORRESPONDE A ACCIONES EN TORNO A LA PREVENSIÓN DE LA VIOLENCIA INTRAFAMILIAR | G17: SEGÚN LA CERTIFICACIÓN ALLEGADA CUMPLE CON LA EXPERIENCIA GENERAL SOLICITADA, TODA VEZ QUE, CORRESPONDE A ACCIONES EN TORNO A LA PREVENSIÓN DE LA VIOLENCIA INTRAFAMILIAR | H17: SEGÚN LA CERTIFICACIÓN ALLEGADA CUMPLE CON LA EXPERIENCIA GENERAL SOLICITADA, TODA VEZ QUE, CORRESPONDE A ACCIONES EN TORNO A LA PREVENSIÓN DE LA VIOLENCIA INTRAFAMILIAR, VIOLENCIA SEXUAL Y VIOLENCIA DE GENERO. | I17: SEGÚN LA CERTIFICACIÓN ALLEGADA CUMPLE CON LA EXPERIENCIA GENERAL SOLICITADA, TODA VEZ QUE, CORRESPONDE A ACCIONES EN TORNO A LA PREVENSIÓN DEVIOLENCIAS BASADAS EN GENERO, LO CUAL INCLUYE VIOLENCIA INTRAFAMILIAR. | J17: SEGÚN LA CERTIFICACIÓN ALLEGADA CUMPLE CON LA EXPERIENCIA GENERAL SOLICITADA, TODA VEZ QUE, CORRESPONDE A ACCIONES Y ATENCIÓN A MUJERES VICTIMAS DE VIOLENCIAS | K17: SEGÚN LA CERTIFICACIÓN ALLEGADA CUMPLE CON LA EXPERIENCIA GENERAL SOLICITADA, TODA VEZ QUE, CORRESPONDE A ACCIONES EN TORNO A LA PREVENSIÓN DE LA VIOLENCIA INTRAFAMILIAR | L17: SEGÚN LA CERTIFICACIÓN ALLEGADA NO CUMPLE, TODA VEZ QUE NO APORTAN EL RUP LO CUAL ES NECESARIO PARA ESTE PROCESO.
A18: CONTRATO No. 2 GENERAL
A19: NO. DE CONTRATO | B19: 3878-2011 | C19: 323-2022 | D19: 33-210 | E19: 73003312021 | F19: 327 de 2018 | G19: 536-2022 | H19: 4600087078 de 2020 | I19: CPS 422 2018 | J19: 46000076136 DE 2018 | L19: BNP 09/2017
A20: No. CONSECUTIVO EN EL RUP | B20: 69 | C20: 71 | D20: 58 | E20: 90 | F20: 159 | G20: 114 | H20: 67 | I20: 122 | J20: 121 | K20: 79
A21: OBJETO: | B21: BRINDAR ATENCIÓN INTEGRAL A TRAVÉS DE ACCIONES TERAPÉUTICAS, PREVENCIÓN DE LA VIOLENCIA (MALTRATO INFANTIL, VIOLENCIA INTRAFAMILIAR, CONFLICTO FAMILIAR, VIOLENCIA DE GÉNERO, VIOLENCIA Y EXPLOTACIÓN SEXUAL COMERCIAL DE NIÑOS, NIÑAS Y ADOLESCENTES,) Y PROMOCIÓN Y GARANTÍA DE LOS DERECHOS, MEDIANTE EL DESARROLLO DEL PROGRAMA SUR DE CONVIVENCIA. EN LAS LOCALIDADES DE CIUDAD BOLÍVAR, RAFAEL URIBE URIBE, SAN CRISTÓBAL Y USME, ZONAS DE INTERVENCIÓN DEL PROGRAMA SUR DE CONVIVENCIA - PSC. | C21: CONTRATAR LA PRESTACIÓN DE SERVICIOS INTEGRALES PARA EL DESARROLLO DE ACCIONES EN PREVENCIÓN DE VIOLENCIA INTRAFAMILIAR, VIOLENCIA SEXUAL Y OTRAS VULNERACIONES DE DERECHOS DE LOS NIÑOS, NIÑAS, ADOLESCENTES Y SUS FAMILIAS; PROMOVIENDO EL BUEN TRATO CON ENTORNOS PROTECTORES Y TERRITORIOS SEGUROS EN LA LOCALIDAD DE SANTA FE | D21: SERVICIOS DE PROTECCION A NNA ATENDIDOS EN CENTROS DE PROTECCION SOCIAL DE LA NIÑEZ Y LA ADOLESCENCIA DE PROPIEDAD DE LA BENEFICIENCIA DE CUNDINAMARCA, EXPUESTOS A CONDICIONES DE VULNERACION DE DERECHOS POR VIOLENCIA INTRAFAMILIAR, VILENCIA FISICA, PSICOLOGICA Y SEXUAL, TRABAJO INFANTIL, DESPLAZAMIENTO FORZADO, RIESGO DE RECLUTAMIENTO POR GRUPOS AL MARGEN DE LA LEY Y AQUELLOS RIESGOS QUE ATENTEN CONTRA LA DIGNIDAD, LA EXISTENCIA Y EL DESARROLLO PERSONAL | E21: PRESTAR EL SERVICIO DE ACOMPAÑAMIENTO PSICOSOCIAL, FAMILIAR Y COMUNITARIO DE LA DIRECCIÓN DE FAMILIAS Y COMUNIDADES PARA IMPLEMENTAR LA MODALIDAD MI FAMILIA, CUYO OBJETIVO ES FORTALECER A LAS FAMILIAS PARA PROMOVER LA PROTECCIÓN INTEGRAL DE LOS NIÑOS, NIÑAS Y ADOLESCENTES Y CONTRIBUIR A LA PREVENCIÓN DE VIOLENCIA, NEGLIGENCIA O ABUSOS EN SU CONTRA, A TRAVÉS DEL MODELO DE ATENCIÓN URBANA RURAL. | F21: PRESTAR SERVICIOS PARA LA REALIZACIÓN DE ACCIONES DE PROMOCIÓN DEL BUEN TRATO Y PREVENCIÓN DE VIOLENCIAS EN LAS QUE SE VEN INVOLUCRADOS LOS NIÑOS Y NIÑAS DE LA LOCALIDAD DE SUBA | G21: CONTRATAR LOS SERVICIOS INTEGRALES Y ESPECIALIZADOS PARA LA FORMACIÓN DE PERSONAS EN ESTRATEGIAS PERSONALES Y COMUNITARIAS DE PREVENCIÓN DE LA VIOLENCIA INTRAFAMILIAR Y/O VIOLENCIA SEXUAL EN LA LOCALIDAD DE SUBA | H21: CONVENIO DE ASOCIACIÓN PARA DESARROLLAR ACCIONES CONJUNTAS PARA LA ATENCIÓN PSICOSOCIAL, ORIENTACIÓN JURÍDICA Y LABORAL A POBLACIÓN ADULTA EN EJERCICIO DE PROSTITUCIÓN | I21: CONTRATAR LA PRESTACIÓN DE SERVICIOS PORFESIONALES DE ASESORÍA, ORIENTACIÓN Y SEGUIMIENTO PARA LA PREVENCIÓN DE VIOLENCIA INFANTIL E INTRAFAMILIAR Y LA PROMOCIÓN DEL BUEN TRATO, LOS SERVICIOS PROFESIONALES PARA EL DESARROLLO DE LOS COMPONENTES DE PREVENCIÓN, ASESORÍA Y SEGUIMIENTO DE LA ESTRATEGIA ENTORNOS PROTECTORES, PREVENCIÓN DE LA MATERNIDAD TEMPRANA Y LA REALIZACIÓN DE LAS JORNADAS LOCALES DE POSICIONAMIENTO Y PROMOCION DEL BUEN TRATO | J21: PRESTACIÓN DE SERVICIOS PARA LA ATENCIÓN DE EMERGENCIA, PROTECCIÓN TEMPORAL Y ATENCIÓN PSICOJURÍDICA EN TERRITORIO A MUJERES EN RIESGO - COMPONENTE 1. | K21: PROMOVER Y PREVENIR MEDIANTE ATENCIÓN ESPECIALIZADA LA GARANTÍA DE LOS DERECHOS Y LA PROTECCIÓN INTEGRAL DE LOS NIÑOS, NIÑAS Y ADOLESCENTES, VELAR POR EL CUMPLIMIENTO DE LOS MISMOS; LA PREVENCIÓN DE SU AMENAZA O VULNERACIÓN Y LA ACTIVACIÓN DE LA RESPUESTA INSTITUCIONAL MEDIANTE LA IMPLEMENTACIÓN Y OPERACIÓN DEL PROGRAMA DE PROMOCIÓN Y PREVENCIÓN PARA LA PROTECCIÓN INTEGRAL DE NIÑOS, NIÑAS Y ADOLESCENTES -GENERACIONES CON BIENESTAR- | L21: PRESTACIÓN DE SERVICIOS PROFESIONALES PARA LA IMPLEMENTACIÓN, EJECUCIÓN Y GESTIÓN DE PROYECTOS ORIENTADOS A LA PREVENCIÓN DE LA VIOLENCIA INTRAFAMILIAR, EL FEMINICIDIO Y LA VIOLENCIA CONTRA LA MUJER
A22: ENTIDAD QUE EXPIDE LA CERTIFICACIÓN: | B22: SECRETARIA DISTRITAL DE INTEGRACIÓN SOCIAL | C22: FONDO DE DESARROLLO LOCAL DE SANTA FE | D22: BENEFICIENCIA DE CUNDINAMARCA | E22: ICBF REGIONAL TOLIMA | F22: FONDO DE DESARROLLO LOCAL DE SUBA | G22: FONDO DE DESARROLLO LOCAL DE SUBA | H22: MUNICIPIO DE MEDELLIN | I22: ALCALDIA LOCAL DE KENNEDY | J22: MUNICIPIO DE MEDELLIN - SECRETARIA DE SUMINISTROS Y SERVICIOS | K22: INSTITUTO COLOMBIANA DE BIENESTAR FAMILIAR ICBF | L22: FUNDACION MISION GLOBAL
A23: SMMLV DEL PRESUPUESTO DEL CONTRATO | B23: 570.95 | C23: 106.74 | D23: 2684.4 | E23: 5271.88 | F23: =F24/781.242 -> 572282.67 | G23: =G24/1160000 -> 1121.2313 | H23: =H24/877803 -> 578.57651 | I23: 778.1 | J23: 2586.64 | K23: =783.8*0.7 -> 548.66
A24: VALOR EN $ DEL PRESUPUESTO | B24: 323558348 | C24: 123828194 | D24: 1.4377656e+09 | E24: 5271882428 | F24: 447091260 | G24: 1300628278 | H24: 507876198 | I24: 644414923 | J24: 2142043844 | K24: =+K23*1160000 -> 636445600 | L24: 717353683
A25: SMMLV PRESUPUESTO OFICIAL | B25: 1171 | C25: 1171 | D25: 1171 | E25: 1171 | F25: 1171 | G25: 1171 | H25: 1171 | I25: 1171 | J25: 1171 | K25: 1171 | L25: 1171
A26: VALOR PRESUPUESTO OFICIAL $ | B26: 1522911450 | C26: 1522911450 | D26: 1522911450 | E26: 1522911450 | F26: 1522911450 | G26: 1522911450 | H26: 1522911450 | I26: 1522911450 | J26: 1522911450 | K26: 1522911450 | L26: 1522911450
A27: Códigos UNSPSC | B27: 80101600 | C27: 80111600 | D27: 86111600 | E27: 80101600 | F27: 80101600 | G27: 60124100 | H27: 60124100 | I27: 80101600 | J27: 80101600 | K27: 80101600
B28: 80111600 | C28: 86101700 | D28: 90101600 | E28: 80111600 | F28: 80111600 | G28: 80101600 | H28: 80101600 | I28: 80111600 | J28: 80111600 | K28: 80111600
B29: 86101700 | C29: 86111600 | D29: 93141500 | E29: 80141900 | F29: 86101700 | G29: 90101600 | H29: 86101700 | I29: 93141500 | J29: 80141900 | K29: 86101700
B30: 93141500 | C30: 90101600 | D30: 93141600 | E30: 86111600 | F30: 90101600 | G30: 93141500 | H30: 90101600 | I30: 93141600 | J30: 86101700 | K30: 86111600
B31: 93141700 | C31: 93141700 | D31: 93141700 | E31: 90101600 | F31: 93141500 | G31: 801419 | H31: 93141500 | I31: 90101600 | J31: 86111600 | K31: 93141700
A32: OBSERVACIÓN | B32: EL OFERENTE NO UTILIZO EL FORMATO DE PROPUESTA ECONOMICA DEFINITIVA PUBLICADO POR LA ENTIDAD , YA QUE EN EL FORMATO DEFINITIVO PUBLICADO , NO SE ESTABLECEN CANTIDADES COMO LA ESPECIFICO EL OFERENTE ASI MISMO EL PROPONENTE PRESENTA UN FORMATO EN PDF EL CUAL TIENE SOLO UNA DE LAS HOJAS QUE SE DEBIA DILIGENCIAR EN EL EXCEL DE NOMBRE PROPUESTA ECONOMICA VIOLENCIAS - CAUSAL DE RECHAZO NUMERO 17 "CUANDO EL PROPONENTE MODIFIQUE, CONDICIONE, ALTERE, EXCLUYA O INCLUYA APARTES QUE IMPIDAN LA EVALUACIÓN CORRESPONDIENTE A LA OFERTA ECONÓMICA. NO SE ACEPTARÁN MODIFICACIONES EN LOS ÍTEMS, NI EN LAS UNIDADES, NI EN LAS CANTIDADES, NI LAS PROPUESTAS CUYOS CAPÍTULOS NO CONTENGAN LA TOTALIDAD DE LOS ÍTEMS ENUNCIADOS EN LOS ANEXOS." | C32: SEGÚN LA CERTIFICACIÓN ALLEGADA CUMPLE CON LA EXPERIENCIA GENERAL SOLICITADA, TODA VEZ QUE, CORRESPONDE A ACCIONES EN TORNO A LA PREVENSIÓN DE LA VIOLENCIA INTRAFAMILIAR | D32: SEGÚN LA CERTIFICACIÓN ALLEGADA CUMPLE CON LA EXPERIENCIA GENERAL SOLICITADA, TODA VEZ QUE, CORRESPONDE A ACCIONES EN TORNO A LA PREVENSIÓN DE LA VIOLENCIA INTRAFAMILIAR | E32: EL OFERENTE NO UTILIZO EL FORMATO DE PROPUESTA ECONOMICA DEFINITIVA PUBLICADO POR LA ENTIDAD , YA QUE EN EL FORMATO DEFINITIVO PUBLICADO , NO SE ESTABLECEN CANTIDADES COMO LA ESPECIFICO EL OFERENTE - CAUSAL DE RECHAZO NUMERO 17 " CUANDO EL PROPONENTE MODIFIQUE, CONDICIONE, ALTERE, EXCLUYA O INCLUYA APARTES QUE IMPIDAN LA EVALUACIÓN CORRESPONDIENTE A LA OFERTA ECONÓMICA. NO SE ACEPTARÁN MODIFICACIONES EN LOS ÍTEMS, NI EN LAS UNIDADES, NI EN LAS CANTIDADES, NI LAS PROPUESTAS CUYOS CAPÍTULOS NO CONTENGAN LA TOTALIDAD DE LOS ÍTEMS ENUNCIADOS EN LOS ANEXOS." | F32: SEGÚN LA CERTIFICACIÓN ALLEGADA CUMPLE CON LA EXPERIENCIA GENERAL SOLICITADA, TODA VEZ QUE, CORRESPONDE A ACCIONES EN TORNO A LA PREVENSIÓN DE LA VIOLENCIA INTRAFAMILIAR | G32: SEGÚN LA CERTIFICACIÓN ALLEGADA CUMPLE CON LA EXPERIENCIA GENERAL SOLICITADA, TODA VEZ QUE, CORRESPONDE A ACCIONES EN TORNO A LA PREVENSIÓN DE LA VIOLENCIA INTRAFAMILIAR Y/O VIOLENCIA SEXUAL | H32: SEGÚN LA CERTIFICACIÓN ALLEGADA CUMPLE CON LA EXPERIENCIA GENERAL SOLICITADA, TODA VEZ QUE, CORRESPONDE A ACCIONES EN TORNO A LA PREVENSIÓN DE LA VIOLENCIA INTRAFAMILIAR, VIOLENCIA SEXUAL Y VIOLENCIA DE GENERO, VERIFICADO EN EL ANEXO TECNICO APORTADO. | I32: SEGÚN LA CERTIFICACIÓN ALLEGADA CUMPLE CON LA EXPERIENCIA GENERAL SOLICITADA, TODA VEZ QUE, CORRESPONDE A ACCIONES EN TORNO A LA PREVENSIÓN DE LA VIOLENCIA INTRAFAMILIAR. | J32: SEGÚN LA CERTIFICACIÓN ALLEGADA CUMPLE CON LA EXPERIENCIA GENERAL SOLICITADA, TODA VEZ QUE, CORRESPONDE A ACCIONES Y ATENCIÓN A MUJERES VICTIMAS DE VIOLENCIAS Y/O PREVENCIÓN DE VIOLENCIA INTRA FAMILAR. | K32: SEGÚN LA CERTIFICACIÓN ALLEGADA CUMPLE CON LA EXPERIENCIA GENERAL SOLICITADA, TODA VEZ QUE, CORRESPONDE A ACCIONES EN TORNO A LA PREVENSIÓN DE LA VIOLENCIA INTRAFAMILIAR | L32: EL OFERENTE NO UTILIZO EL FORMATO DE PROPUESTA ECONOMICA DEFINITIVA PUBLICADO POR LA ENTIDAD , YA QUE EN EL FORMATO DEFINITIVO PUBLICADO , NO SE ESTABLECEN CANTIDADES COMO LA ESPECIFICO EL OFERENTE - CAUSAL DE RECHAZO NUMERO 17 " CUANDO EL PROPONENTE MODIFIQUE, CONDICIONE, ALTERE, EXCLUYA O INCLUYA APARTES QUE IMPIDAN LA EVALUACIÓN CORRESPONDIENTE A LA OFERTA ECONÓMICA. NO SE ACEPTARÁN MODIFICACIONES EN LOS ÍTEMS, NI EN LAS UNIDADES, NI EN LAS CANTIDADES, NI LAS PROPUESTAS CUYOS CAPÍTULOS NO CONTENGAN LA TOTALIDAD DE LOS ÍTEMS ENUNCIADOS EN LOS ANEXOS."
A33: RESULTADO EXPERIENCIA GENERAL | B33: CUMPLE | C33: HABILITADO | D33: CUMPLE | E33: CUMPLE | F33: HABILITADO | G33: CUMPLE | H33: CUMPLE | I33: CUMPLE | J33: CUMPLE | K33: CUMPLE | L33: RECHAZADO
A34: CONTRATO No. 3 ESPECIFICA
A35: NO. DE CONTRATO | B35: 272-2014 | C35: 327-2022 | D35: 245 - 2021 | E35: 50001892021 | F35: 372-2017 | G35: 512-2021 | H35: 506-2023 | I35: 4600075140 - 2018 | J35: GJ 178-2020 | L35: SCS 14/2015
A36: No. CONSECUTIVO EN EL RUP | B36: 170 | C36: 67 | D36: 111 | E36: 88 | F36: 136 | G36: 102 | H36: 81 | I36: 119 | J36: 129 | K36: 47
A37: OBJETO: | B37: PRESTACIÓN DE SERVICIOS PARA REALIZAR LOS PROCESOS DE PROMOCIÓN DEL BUEN TRATO DONDE SE INTEGREN ACCIONES DE PREVENCIÓN, ORIENTACIÓN Y ASESORÍA INDIVIDUAL Y FAMILIAR A VÍCTIMAS DE VIOLENCIA INTRAFAMILIAR Y SEXUAL DIRIGIDA A LOS HABITANTES DE LA LOCALIDAD DE ENGATIVÁ. | C37: PRESTAR SERVICIOS ENFOCADOS A LA REALIZACIÒN DE ACCIONES EN DERECHOS DE LAS MUJERES, PREVENCIÒN DEL FEMINICIDIO Y VIOLENCIA CONTRA LAS MUJERES DE LA LOCALIDAD RAFAEL URIBE URIBE" | D37: PRESTAR SERVICIOS INTEGRALES PARA REALIZAR ACTIVIDADES EN EL DESARROLLO DE CAPACIDADES QUE FOMENTEN LA ESTRATEGIA DE CUIDADO A LAS MUJERES CUIDADORAS, CAPACITACLON PARA LA CONSTRUCCION DE CIUDADANIA EN LA PROMOCION DE LOS DERECHOS DE LAS MUJERES Y APOYO A INICIATIVAS RELACIONADAS CON EL DERECHO A UNA VIDA LIBRE DE VIOLENCES PARA LAS MUJERES EN TODAS SUS DIVERSIDADES DE LA LOCALIDAD DE SANTA FE | E37: PRESTAR EL SERVICIO DE ACOMPAÑAMIENTO PSICOSOCIAL, FAMILIAR Y COMUNITARIO DE LA DIRECCIÓN DE FAMILIAS Y COMUNIDADES PARA IMPLEMENTAR LA MODALIDAD MI FAMILIA, CUYO OBJETIVO ES “FORTALECER A LAS FAMILIAS PARA PROMOVER LA PROTECCIÓN INTEGRAL DE LOS NIÑOS, NIÑAS Y ADOLESCENTES Y CONTRIBUIR A LA PREVENCIÓN DE VIOLENCIA, NEGLIGENCIA O ABUSOS EN SU CONTRA | F37: CONTRATAR LA PRESTACIÓN DE SERVICIOS A TODO COSTO, PARA EL DESARROLLO DE PROCESOS FORMATIVOS DE PREVENCIÓN, SENSIBILIZACIÓN Y FORTALECIMIENTO DEL PLAN INTEGRAL DE SEGURIDAD Y CONVIVENCIA CIUDADANA. | G37: VINCULAR PERSONAS EN SU DIVERSIDAD, ESPECIALMENTE MUJERES, DE LA LOCALIDAD DE KENNEDY EN ACCIONES PARA LA PREVENCIÓN DEL FEMINICIDIO Y LA VIOLENCIA, QUE CONTRIBUYA A LA GARANTÍA DE SUS DERECHOS EN EL MARCO DEL PROYECTO NO. 2111: KENNEDY POR LOS DERECHOS DE LAS MUJERES. | H37: REALIZAR ACCIONES QUE FORTALEZCAN LA PROMOCIÓN DEL BUEN TRATO, LA PREVENCIÓN DE LA VIOLENCIA, INTRAFAMILIAR, VIOLENCIA SEXUAL Y VIOLENCIA DE GÉNERO EN LA LOCALIDAD DE ENGATIVÁ | I37: DINAMIZAR LOS CENTROS DE EQUIDAD DE GÉNERO CON ENFOQUE DE GÉNERO - ALCANCE DEL OBJETO: MUJERES DE LA CIUDAD DE MEDELLIN Y SUS CORREGIMIENTOS, ESPECIALMENTE AQUELLAS CON SECUELAS DE LAS VIOLENCIAS BASADAS EN EL GÉNERO, O EN CONDICIONES DE EXCLUSIÓN Y VULNERABILIDAD. | J37: PRESTACIÓN DE SERVICIOS PROFESIONALES DE APOYO TÉCNICO Y LOGÍSTICO PARA DESARROLLAR LAS ACTIVIDADES NECESARIAS DE PREVENCIÓN Y ATENCIÓN DE LAS VIOLENCIAS BASADAS EN GÉNERO EN LA COMUNA 16 EN EL MARCO DEL CONTRATO INTERADMINISTRATIVO 4600085513 DE 2020 SUSCRITO POR LA IU PASCUAL BRAVO CON EL MUNICIPIO DE MEDELLÍN. | K37: DESARROLLAR EL PROYECTO “MUJERES AHORRADORAS EN ACCIÓN” PARA EL MEJORAMIENTO DE LA CALIDAD DE VIDA, BIENESTAR Y PROSPERIDAD DE LAS MUJERES EN SITUACIÓN DE VULNERABILIDAD SOCIAL Y/O DESPLAZAMIENTO, A TRAVÉS DE LA VINCULACIÓN A LOS SERVICIOS MICRO FINANCIEROS, EL ACOMPAÑAMIENTO PARA LA GENERACIÓN DE LA CULTURA DEL AHORRO Y DEL ASEGURAMIENTO, LA INSTALACIÓN DE CAPACIDADES SOCIO EMPRESARIALES, LA FORMACIÓN INTEGRAL CON ENFOQUE DE GÉNERO, EL FORTALECIMIENTO DE GRUPOS DE MUJERES, LA ARTICULACIÓN INSTITUCIONAL Y LA PROMOCIÓN Y GESTIÓN DEL CONOCIMIENTO, QUE PERMITAN LA FORMACIÓN DE CIUDADANAS CAPACES DE TOMAR DECISIONES Y QUE PROMUEVAN EL EMPRENDIMIENTO, AUTOEMPLEO, GENERACIÓN DE INGRESOS LÍCITOS Y EL DESARROLLO ECONÓMICO, CULTURAL Y SOCIAL DE SUS COMUNIDADES. | L37: PRESTACIÓN DE SERVICIOS PROFESIONALES PARA LA IMPLEMENTACIÓN Y EJECUCIÓN DE PROYECTOS DESTINADOS A LA PREVENCIÓN DEL FEMINICIDIO Y LA VIOLENCIA CONTRA LA MUJER
A38: ENTIDAD QUE EXPIDE LA CERTIFICACIÓN: | B38: ALCALDIA LOCAL DE ENGATIVA | C38: FONDO DE DESARROLLO LOCAL DE RAFAEL URIBE URIBE | D38: FONDO DE DESARROLLO LOCAL DE SANTA FE | E38: ICBF REGIONAL META | F38: FONDO DE DESARROLLO LOCAL DE SUBA | G38: ALCALDIA LOCAL DE KENNEDY | H38: FONDO DE SESARROLLO LOCAL DE ENGATIVÁ | I38: ALCALDIA DE MEDELLIN | J38: IU PASCUAL BRAVO | K38: DEPARTAMENTO ADMINISTRATIVO PARA LA PROSPERIDAD SOCIAL | L38: FUNDACION VISION GLOBAL
A39: SMMLV DEL PRESUPUESTO DEL CONTRATO | B39: 675.56 | C39: 1308.83 | D39: =723.48*50/100 -> 361.74 | E39: 2397.59 | F39: =F40/737.717 -> 777226.46 | G39: =G40/908526 -> 1023.6361 | H39: =H40/1160000 -> 2581.2844 | I39: 525.99 | J39: 374.65 | K39: =55945.47*0.3 -> 16783.641
A40: VALOR EN $ DEL PRESUPUESTO | B40: 435296000 | C40: 1518249989 | D40: =723486000*0.5 -> 361743000 | E40: 2397599780 | F40: 573373174 | G40: 930000000 | H40: 2994289940 | I40: 410933007 | J40: 340385945 | L40: 842500000
...

Sheet 5.1.3.1EXPERIENCIA GENERAL
B1: PRESTAR LOS SERVICIOS ESPECIALIZADOS DE UN INTERMEDIARIO DE SEGUROS PARA LA ASESORÍA, INTERMEDIACIÓN, ADMINISTRACIÓN Y SEGUIMIENTO DEL PROGRAMA DE SEGUROS DEL FONDO DE DESARROLLO LOCAL DE CIUDAD BOLIVAR, INCLUYENDO LA IDENTIFICACIÓN DE RIESGOS, FORMULACIÓN DEL PLAN DE SEGUROS, APOYO EN LA CONTRATACIÓN, PARA AMPARAR LOS BIENES INMUEBLES, MUEBLES Y DEMÁS INTERESES ASEGURABLES DE SU PROPIEDAD Y POR AQUELLOS POR LOS CUALES SEA O LLEGARE A SER LEGALMENTE RESPONSABLE | C1: PROPONENTE No. 1 | D1: PROPONENTE No. 2 | E1: PROPONENTE No. 3 | F1: PROPONENTE No. 4
C2: ASEGURAR SEGUROS LTDA - NIT 901134143 9 | D2: OMEGA AGENCIA DE SEGUROS LIMITADA - NIT :822001579-9 | E2: C A F ASESORES DE SEGUROS LTDA - NIT 900357596 5 | F2: GONSEGUROS CORREDORES DE SEGUROS S.A. - NIT 805003801 - 7
A3: CONTRATO No. 1 GENERAL
B4: NO. DE CONTRATO | C4: N.A | D4: 0291-2019 | E4: 2015088-CT- | F4: N.A
B5: No. CONSECUTIVO EN EL RUP | C5: 255 | D5: 27 | E5: 42 | F5: 42
B6: OBJETO: | C6: Asesorar a la EMPRESA DE SERVICIOS PUBLICOS LA CALERA en el proceso de selección de la Aseguradora que suscribió las pólizas para la vigencia comprendida entre el 11 de agosto de 2023 hasta el 31 de marzo de 2025, en los ramos de: Incendio y Anexos, Terremoto, Actos Mal Intencionados de Terceros, Huelga Motín, Asonada y Conmoción Civil, Sustracción, Equipo Electrónico, Equipo Móvil y Portátil, Rotura de Maquinaria, Responsabilidad Civil Extracontractual, Responsabilidad Civil servidores Públicos, Manejo Global Para Servidores Públicos, Automóviles, Todo Riesgo Maquinaria y Equipo, Cumplimiento y Seguro Obligatorio. | D6: Contratar los servicios de un intermediario y/o asesor de seguros para que gestione, acompañe y asesore a la administración municipal, tanto en el proceso de selección de la compañía de seguros para cumplir con la obligación legal de mantener protegidos todos los bienes e intereses patrimoniales de la entidad y de los que llegare a ser responsables el municipio de Funza, Cundinamarca, como en los demás tramites y asuntos relacionadas con temas de seguros que le competan o deban ser desarrollados por el municipio en cumplimiento de sus fines constitucionales y legales. | E6: Selección de intermediario de seguros para que lleve a cabo la asesoría en la contratación y el manejo integral del programa de seguros | F6: PRESTAR LA ASESORIA EN LA CONTRATACION DE LAS DIVERSAS POLIZAS QUE FORMAN PARTE DEL PROGRAMA DE SEGUROS DE LA COOPERATIVA, PARA LA VIGENCIA DEL 1 DE ENERO DE 2.009 A 31 DE DICIEMBRE DE 2.015
B7: ENTIDAD QUE EXPIDE LA CERTIFICACIÓN: | D7: MUNICIPIO DE FUNZA | E7: ALCALDÍA DE CHÍA CUNDINAMARCA | F7: COOPERATIVA DE TRANSPORTADOR ES DE OCCIDENTE
B8: SMMLV DEL PRESUPUESTO DEL CONTRATO | C8: =C9/1423500 -> 159.20665 | D8: =D9/1423500 -> 320.11041 | E8: =E9/1423500 -> 916.37389 | F8: =F9/1423500 -> 861.60395
B9: VALOR EN $ DEL PRESUPUESTO | C9: 226630662 | D9: 455677175 | E9: 1304458233 | F9: 1226493223
B10: SMMLV PRESUPUESTO OFICIAL | C10: =C11/1423500 -> 290.98182 | D10: =D11/1423500 -> 290.98182 | E10: =E11/1423500 -> 290.98182 | F10: =F11/1423500 -> 290.98182
B11: VALOR PRESUPUESTO OFICIAL $ | C11: 414212617 | D11: 414212617 | E11: 414212617 | F11: 414212617
B12: Códigos UNSPSC | C12: 84131500 | D12: 84131500 | E12: 84131500 | F12: 84131500
C13: 84131600 | D13: 84131600 | E13: 84131600 | F13: 84131600
B14: 1. TODO RIESGO DAÑOS MATERIALES | D14: SI | E14: SI | F14: SI
B15: 2. AUTOMOVILES, | C15: SI | D15: SI | E15: SI | F15: SI
B16: 3. MANEJO GLOBAL ENTIDADES ESTATALES | D16: SI | E16: SI
B17: 4. RESPONSABILIDAD CIVIL CONTRACTUAL | F17: SI
B18: 5. RESPONSABILIDAD CIVIL EXTRACONTRACTUAL | C18: SI | D18: SI | E18: SI | F18: SI
B19: 6. RESPONSABILIDAD CIVIL SERVIDORES PÚBLICOS | C19: SI | D19: SI | E19: SI
B20: 7 SOAT | C20: SI | D20: SI | E20: SI | F20: SI
B21: 8. SEGUROS DE VIDA. | D21: SI | E21: SI | F21: SI
B22: OBSERVACIÓN 1 | C22: Teniendo en cuenta que el proponente no allego las subsanaciones solicitadas en el informe de evaluacion preliminar durante los terminos establecidos para tal fin, este se encuentra en causal de rechazo tal como lo indica el Pliego de Condiciones en el numeral 6.12 CAUSALES DE RECHAZO, literal 1 "Cuando el proponente no subsane alguno de los requisitos habilitantes solicitados en el pliego de condiciones o subsane fuera del término fijado en el pliego de condiciones, la información o documentación solicitada respecto de un requisito o documento habilitante, en los términos previstos por el artículo 5° de la ley 1882 de 2018". | D22: CUMPLE | E22: CUMPLE | F22: CUMPLE
A23: CONTRATO No. 2 GENERAL
B24: NO. DE CONTRATO | C24: N.A | D24: 53367 | E24: 1686749-2020 | F24: C – 016 – 029 – 2016
B25: No. CONSECUTIVO EN EL RUP | C25: 254 | D25: 28 | E25: 68 | F25: 71
B26: OBJETO: | C26: Asesorar a EMPRESAS PUBLICAS DE ZIPAQUIRA EPZ ESP en el proceso de selección de la Aseguradora que suscribió las pólizas para la vigencia comprendida entre el 19 de febrero de 2024 hasta el 01 de enero de 2025, en los ramos de: Incendio y Anexos,Terremoto, Actos Mal Intencionados de Terceros, Huelga Motín, Asonada y Conmoción Civil, Sustracción, Equipo Electrónico, Equipo Móvil y Portátil, Rotura de Maquinaria, Responsabilidad Civil Extracontractual, Responsabilidad Civil servidores Públicos, ' Manejo Global Para Servidores Públicos, Automóviles, Todo Riesgo Maquinaria y Equipo, Cumplimiento y Seguro Obligatorio. | D26: Con el fin de cumplir con el deber de vigilar y salvaguardar los bienes y valores encomendados a RTVC, se debe garantizar su protección mediante pólizas de seguros técnicamente bien estructuradas y acordes a los riesgos, cuyos valores asegurados estén adecuados a su valor | E26: Prestar los servicios especializados de intermediación de seguros y asesoría integral para la formulación, implementación, manejo, administración, seguimiento y control del programa de seguros, destinados a proteger las personas, bienes e intereses patrimoniales de la Contraloría de Bogotá D.C., o aquellos por los que sea legalmente responsable. | F26: SERVICIO DE INTERMEDIACION DE SEGUROS DE LA INSTITUCION, PARA QUE REALICE LA ASESORIA INTEGRAL EN ADMINISTRACION DE RIESGOS Y EL MANEJO DE LAS POLIZAS DE SEGUROS QUE AMPAREN LOS DIFERENTES RIESGOS DE LOS BIENES E INTERESES PATRIMONIALES Y PERSONAS VINCULADAS AL HOSPITAL UNIVERSITARIO DEL VALLE EVARISTO GARCIA E.S.E., AL IGUAL, QUE ASESORAR EN LA CONTRATACION DE LA ADMINISTRACION DE LOS RIESGOS LABORALES DE LOS SERVIDORES PUBLICOS DEL HOSPITAL UNIVERSITARIO DEL VALLE EVARISTO GARCIA E.S.E.
B27: ENTIDAD QUE EXPIDE LA CERTIFICACIÓN: | C27: EMPRESAS PUBLICAS DE ZIPAQUIRA EPZ ESP | D27: RADIO TELEVISION NACIONAL DE COLOMBIA | E27: CONTRALORÍA DE BOGOTÁ | F27: HOSPITAL UNIVERSITARIO DEL VALLE EVARISTO GARCIA E.S.E.
B28: SMMLV DEL PRESUPUESTO DEL CONTRATO | C28: =C29/1423500 -> 285.41335 | D28: =D29/1423500 -> 2909.9576 | E28: =E29/1423500 -> 214.61331 | F28: =F29/1423500 -> 1388.402
B29: VALOR EN $ DEL PRESUPUESTO | C29: 406285900 | D29: 4142324631 | E29: 305502046 | F29: 1976390202
B30: SMMLV PRESUPUESTO OFICIAL | C30: =C31/1423500 -> 290.98182 | D30: =D31/1423500 -> 290.98182 | E30: =E31/1423500 -> 290.98182 | F30: =F31/1423500 -> 290.98182
B31: VALOR PRESUPUESTO OFICIAL $ | C31: 414212617 | D31: 414212617 | E31: 414212617 | F31: 414212617
B32: Códigos UNSPSC | C32: 84131500 | D32: 84131500 | E32: 84131500 | F32: 84131500
C33: 84131600 | D33: 84131600 | E33: 84131600 | F33: 84131600
B34: 1. TODO RIESGO DAÑOS MATERIALES | C34: SI | D34: SI | E34: SI | F34: SI
B35: 2. AUTOMOVILES, | C35: SI | D35: SI | E35: SI | F35: SI
B36: 3. MANEJO GLOBAL ENTIDADES ESTATALES | E36: SI | F36: SI
B37: 4. RESPONSABILIDAD CIVIL CONTRACTUAL | F37: SI
B38: 5. RESPONSABILIDAD CIVIL EXTRACONTRACTUAL | C38: SI | D38: SI | E38: SI | F38: SI
B39: 6. RESPONSABILIDAD CIVIL SERVIDORES PÚBLICOS | C39: SI | D39: SI | E39: SI | F39: SI
B40: 7 SOAT | C40: SI | D40: SI | E40: SI | F40: SI
...

Sheet FORMATO DE EXPERIENCIA PROPONEN
C2: diligenciar el Formato "EXPERIENCIA HABILITANTE DEL PROPONENTE
C4: ÍTEM | D4: PROPONENTES | E4: RESULTADO | F4: OBSERVACIÓN
C5: ='5.1.3.1EXPERIENCIA GENERAL'!C1 -> PROPONENTE No. 1 | D5: ='5.1.3.1EXPERIENCIA GENERAL'!C2 -> ASEGURAR SEGUROS LTDA - NIT 901134143 9 | E5: CUMPLE | F5: presento formato establecido
C6: ='5.1.3.1EXPERIENCIA GENERAL'!D1 -> PROPONENTE No. 2 | D6: ='5.1.3.1EXPERIENCIA GENERAL'!D2 -> OMEGA AGENCIA DE SEGUROS LIMITADA - NIT :822001579-9 | E6: CUMPLE | F6: presento formato establecido
C7: ='5.1.3.1EXPERIENCIA GENERAL'!E1 -> PROPONENTE No. 3 | D7: ='5.1.3.1EXPERIENCIA GENERAL'!E2 -> C A F ASESORES DE SEGUROS LTDA - NIT 900357596 5 | E7: CUMPLE | F7: presento formato establecido
C8: ='5.1.3.1EXPERIENCIA GENERAL'!F1 -> PROPONENTE No. 4 | D8: ='5.1.3.1EXPERIENCIA GENERAL'!F2 -> GONSEGUROS CORREDORES DE SEGUROS S.A. - NIT 805003801 - 7 | E8: CUMPLE | F8: presento formato establecido
C11: ELABORO: ROLF GUNTHER STRAUSS CPS 697-2025 CONTRATISTA FDLCB

Sheet 5.1.3.2. CERTIFICADO INTERMEDIA
A1: PRESTAR LOS SERVICIOS ESPECIALIZADOS DE UN INTERMEDIARIO DE SEGUROS PARA LA ASESORÍA, INTERMEDIACIÓN, ADMINISTRACIÓN Y SEGUIMIENTO DEL PROGRAMA DE SEGUROS DEL FONDO DE DESARROLLO LOCAL DE CIUDAD BOLIVAR, INCLUYENDO LA IDENTIFICACIÓN DE RIESGOS, FORMULACIÓN DEL PLAN DE SEGUROS, APOYO EN LA CONTRATACIÓN, PARA AMPARAR LOS BIENES INMUEBLES, MUEBLES Y DEMÁS INTERESES ASEGURABLES DE SU PROPIEDAD Y POR AQUELLOS POR LOS CUALES SEA O LLEGARE A SER LEGALMENTE RESPONSABLE | B1: PROPONENTE No. 1 | C1: PROPONENTE No. 2 | D1: PROPONENTE No. 3 | E1: PROPONENTE No. 4
B2: ASEGURAR SEGUROS LTDA - NIT 901134143 9 | C2: OMEGA AGENCIA DE SEGUROS LIMITADA - NIT :822001579-9 | D2: C A F ASESORES DE SEGUROS LTDA - NIT 900357596 5 | E2: GONSEGUROS CORREDORES DE SEGUROS S.A. - NIT 805003801 - 7
A3: 5.1.3.2. Сertificado de autorización para ejercer como intermediario de seguros | B3: Teniendo en cuenta que el proponente no allego las subsanaciones solicitadas en el informe de evaluacion preliminar durante los terminos establecidos para tal fin, este se encuentra en causal de rechazo tal como lo indica el Pliego de Condiciones en el numeral 6.12 CAUSALES DE RECHAZO, literal 1 "Cuando el proponente no subsane alguno de los requisitos habilitantes solicitados en el pliego de condiciones o subsane fuera del término fijado en el pliego de condiciones, la información o documentación solicitada respecto de un requisito o documento habilitante, en los términos previstos por el artículo 5° de la ley 1882 de 2018". | C3: Remite certificado de LA PREVISORA S.A. COMPAÑÍA DE SEGUROS Con fecha del 20 de agosto 2025 Remite certificado de SEGUROS DEL ESTADO Con fecha del 07 de agosto 2025 | D3: Remite certificado de SEGUROS DEL ESTADO Con fecha del 22 de julio 2025 | E3: De acuerdo al documento de subsanacion allegado, CUMPLE, con el requisito de autorizacion como intermediario de seguros.
A4: RESULTADO | B4: RECHAZADO | C4: CUMPLE | D4: CUMPLE | E4: CUMPLE
A7: ELABORO: ROLF GUNTHER STRAUSS CPS 697-2025 CONTRATISTA FDLCB

Sheet 5.1.3.3. PÓLIZA DE SEGURO DE RE
A1: PRESTAR LOS SERVICIOS ESPECIALIZADOS DE UN INTERMEDIARIO DE SEGUROS PARA LA ASESORÍA, INTERMEDIACIÓN, ADMINISTRACIÓN Y SEGUIMIENTO DEL PROGRAMA DE SEGUROS DEL FONDO DE DESARROLLO LOCAL DE CIUDAD BOLIVAR, INCLUYENDO LA IDENTIFICACIÓN DE RIESGOS, FORMULACIÓN DEL PLAN DE SEGUROS, APOYO EN LA CONTRATACIÓN, PARA AMPARAR LOS BIENES INMUEBLES, MUEBLES Y DEMÁS INTERESES ASEGURABLES DE SU PROPIEDAD Y POR AQUELLOS POR LOS CUALES SEA O LLEGARE A SER LEGALMENTE RESPONSABLE | B1: PROPONENTE No. 1 | C1: PROPONENTE No. 2 | D1: PROPONENTE No. 3 | E1: PROPONENTE No. 4
B2: ASEGURAR SEGUROS LTDA - NIT 901134143 9 | C2: OMEGA AGENCIA DE SEGUROS LIMITADA - NIT :822001579-9 | D2: C A F ASESORES DE SEGUROS LTDA - NIT 900357596 5 | E2: GONSEGUROS CORREDORES DE SEGUROS S.A. - NIT 805003801 - 7
A3: 5.1.3.3. PÓLIZA DE SEGURO DE RESPONSABILIDAD CIVIL PROFESIONAL (ERRORES U OMISIONES) | B3: REMITE POLIZA DE POLIZA DE SEGUROS DE R.C.P. INTERMEDIARIOS DE SEGUROS VIGENCIA: 26/JUNIO/2025 HASTA 26/JUNIO/2026 RESPONSABILIDAD CIVIL PROFESIONAL 1,000,000,000.00 | C3: REMITE POLIZA DE BERKLEY INTERNATIONAL SEGUROS COLOMBIA VIGENCIA: 13/08/2025 HASTA 01/03/2026 RESPONSABILIDAD CIVIL PROFESIONAL 5.000.000.000,00 | D3: REMITE POLIZA DE BERKLEY INTERNATIONAL SEGUROS COLOMBIA VIGENCIA: 31/07/2025 HASTA 18/01/2026 RESPONSABILIDAD CIVIL PROFESIONAL 5.000.000.000,00 | E3: REMITE POLIZA DE POLIZA DE SEGUROS DE R.C.P. INTERMEDIARIOS DE SEGUROS VIGENCIA: 16/OCTUBRE/2024 HASTA 16/OCTUBRE/2025 RESPONSABILIDAD CIVIL PROFESIONAL 20,000,000,000.00
A4: OBSERVACION FINAL | B4: Teniendo en cuenta que el proponente no allego las subsanaciones solicitadas en el informe de evaluacion preliminar durante los terminos establecidos para tal fin, este se encuentra en causal de rechazo tal como lo indica el Pliego de Condiciones en el numeral 6.12 CAUSALES DE RECHAZO, literal 1 "Cuando el proponente no subsane alguno de los requisitos habilitantes solicitados en el pliego de condiciones o subsane fuera del término fijado en el pliego de condiciones, la información o documentación solicitada respecto de un requisito o documento habilitante, en los términos previstos por el artículo 5° de la ley 1882 de 2018". | C4: El proponente CUMPLE con el requisito de experiencia del proponente sin embargo debe tener en cuenta todos los requisitos presentes en el numeral 5.1.3.3 el cual manifiesta : El Proponente debe presentar junto con su propuesta la Póliza de responsabilidad civil profesional (errores u omisiones. El valor asegurado debe ser mínimo de TRES MIL MILLONES DE PESOS ($3.000.000.000) y debe permanecer vigente hasta liquidación del contrato La póliza de RC Errores u Omisiones no debe tener deducibles para Entidades Estatales Para el caso de consorcios y uniones temporales, el valor de la póliza por cada integrante, deberá ser por la suma de TRES MIL MILLONES DE PESOS M/CTE ($3.000.000.000) y cada una debe acreditar que no contiene deducibles para procesos con entidades estatales. | D4: El proponente CUMPLE con el requisito de experiencia del proponente sin embargo debe tener en cuenta todos los requisitos presentes en el numeral 5.1.3.3 el cual manifiesta : El Proponente debe presentar junto con su propuesta la Póliza de responsabilidad civil profesional (errores u omisiones. El valor asegurado debe ser mínimo de TRES MIL MILLONES DE PESOS ($3.000.000.000) y debe permanecer vigente hasta liquidación del contrato La póliza de RC Errores u Omisiones no debe tener deducibles para Entidades Estatales Para el caso de consorcios y uniones temporales, el valor de la póliza por cada integrante, deberá ser por la suma de TRES MIL MILLONES DE PESOS M/CTE ($3.000.000.000) y cada una debe acreditar que no contiene deducibles para procesos con entidades estatales. | E4: El proponente CUMPLE con el requisito de experiencia del proponente sin embargo debe tener en cuenta todos los requisitos presentes en el numeral 5.1.3.3 el cual manifiesta : El Proponente debe presentar junto con su propuesta la Póliza de responsabilidad civil profesional (errores u omisiones. El valor asegurado debe ser mínimo de TRES MIL MILLONES DE PESOS ($3.000.000.000) y debe permanecer vigente hasta liquidación del contrato La póliza de RC Errores u Omisiones no debe tener deducibles para Entidades Estatales Para el caso de consorcios y uniones temporales, el valor de la póliza por cada integrante, deberá ser por la suma de TRES MIL MILLONES DE PESOS M/CTE ($3.000.000.000) y cada una debe acreditar que no contiene deducibles para procesos con entidades estatales.
A5: RESULTADO | B5: RECHAZADO | C5: CUMPLE | D5: CUMPLE | E5: CUMPLE
A8: ELABORO: ROLF GUNTHER STRAUSS CPS 697-2025 CONTRATISTA FDLCB

Sheet 5.1.3.4. ACEPTACIÓN ESPECIFICAC
A1: PRESTAR LOS SERVICIOS ESPECIALIZADOS DE UN INTERMEDIARIO DE SEGUROS PARA LA ASESORÍA, INTERMEDIACIÓN, ADMINISTRACIÓN Y SEGUIMIENTO DEL PROGRAMA DE SEGUROS DEL FONDO DE DESARROLLO LOCAL DE CIUDAD BOLIVAR, INCLUYENDO LA IDENTIFICACIÓN DE RIESGOS, FORMULACIÓN DEL PLAN DE SEGUROS, APOYO EN LA CONTRATACIÓN, PARA AMPARAR LOS BIENES INMUEBLES, MUEBLES Y DEMÁS INTERESES ASEGURABLES DE SU PROPIEDAD Y POR AQUELLOS POR LOS CUALES SEA O LLEGARE A SER LEGALMENTE RESPONSABLE | B1: PROPONENTE No. 1 | C1: PROPONENTE No. 2 | D1: PROPONENTE No. 3 | E1: PROPONENTE No. 4
B2: ASEGURAR SEGUROS LTDA - NIT 901134143 9 | C2: OMEGA AGENCIA DE SEGUROS LIMITADA - NIT :822001579-9 | D2: C A F ASESORES DE SEGUROS LTDA - NIT 900357596 5 | E2: GONSEGUROS CORREDORES DE SEGUROS S.A. - NIT 805003801 - 7
A3: 5.1.3.4. Verificación de cumplimiento de los requerimientos y especificaciones mínimas (el proponente deberá allegar debidamente suscrito y sin modificación alguna el formato de ACEPTACIÓN ESPECIFICACIONES TÉCNICAS MÍNIMAS,) | B3: FORMATO ACEPTACIÓN CUMPLIMIENTO DE LOS REQUERIMIENTOS Y ESPECIFICACIONES MÍNIMAS CON FECHA 20 de agosto de 2025 | C3: FORMATO ACEPTACIÓN CUMPLIMIENTO DE LOS REQUERIMIENTOS Y ESPECIFICACIONES MÍNIMAS CON FECHA 21 de agosto de 2025 | D3: FORMATO ACEPTACIÓN CUMPLIMIENTO DE LOS REQUERIMIENTOS Y ESPECIFICACIONES MÍNIMAS CON FECHA 21 de agosto de 2025 | E3: FORMATO ACEPTACIÓN CUMPLIMIENTO DE LOS REQUERIMIENTOS Y ESPECIFICACIONES MÍNIMAS CON FECHA 21 de agosto de 2025
A4: OBSERVACION FINAL
A5: RESULTADO | B5: CUMPLE | C5: CUMPLE | D5: CUMPLE | E5: CUMPLE
A8: ELABORO: ROLF GUNTHER STRAUSS CPS 697-2025 CONTRATISTA FDLCB

Sheet 5.1.3.6 VERIFICACION TALENTO H
B3: FDLCB CMA001-2025
B4: “PRESTAR LOS SERVICIOS PARA LA IMPLEMENTACIÓN DE LAS ACCIONES A REALIZAR DENTRO DE LA ESTRATEGIA DE SALUD MENTAL ESTABLECIDA EN EL PROYECTO DE INVERSIÓN No. 2243. EN CUMPLIMIENTO A LAS METAS DEL PLAN DE DESARROLLO LOCAL “CIUDAD BOLÍVAR CAMINA SEGURA VIGENCIA 2025”.
B6: VERIFICACIÓN HOJAS DE VIDA
B8: PERFILES FDLCB CMA001-2025
B9: PROPONENTE | C9: Nombre | D9: Hoja de vida | E9: PERFIL | F9: EXPERIENCIA GENERAL | G9: fotocopia del diploma respectivo o el acta de grado.- Pregrado | H9: fotocopia del diploma respectivo o el acta de grado.-Post grado | I9: Tarjeta Profesional | J9: FORMATO | K9: PERFILES
A11: PROPONENTE 1 | B11: =+'5.1.3.1EXPERIENCIA GENERAL'!C2 -> ASEGURAR SEGUROS LTDA - NIT 901134143 9 | C11: ALFREDO MORENO FERNANDEZ | D11: SI | E11: ADMINISTRADOR DE EMPRESAS | F11: ESPECIALISTA EN SEGUROS Y SEGURIDAD SOCIAL | G11: SI | H11: SI | I11: SI | J11: SI | K11: DIRECTOR DEL CONTRATO | O11: RESULTADO POR PERFIL | P11: OBSERVACIONES | Q11: RESULTADO GENERAL
K12: EMPRESA O ENTIDAD | L12: INICIO | M12: FIN | N12: EXPERIENCIA | O12: CUMPLE | P12: el proponente no reporta certificaciones de experiencia como se solicita en la nota 2 delnumeral 5.1.3.6. EQUIPO MÍNIMO DE TRABAJO : Nota 2: Las certificaciones para acreditar la experiencia mínima exigida del personal propuesto, deben contener como mínimo la siguiente información: Nombre de la entidad contratante, teléfono, dirección y número de identificación tributaria. Nombre y cédula de la persona contratada. Cargo desempeñado Objeto y actividades realizadas Fecha precisa de iniciación y terminación del respectivo contrato (año, mes, día) Firma de la persona competente de la entidad contratante. Fecha de expedición | Q12: RECHAZADO
K13: ALCALDÍA MUNICIPAL DE CHÍA -JUEZ DE PAZ . | N13: NO REPORTA CERTIFICACION
K14: MINISTERIO DE INTERIOR Y DE JUSTICIACONCILIADOR EN EQUIDAD | N14: NO REPORTA CERTIFICACION
K15: ASEGURADORA COLSEGUROS | L15: 42430 | M15: A LA FECHA | N15: 9 AÑOS 5 MESES
C18: CARLOS FABIO TAPIAS MALAGON | D18: si | E18: ABOGADO | F18: 1. Especialista en Derecho Administrativo y Constitucional 2. Especialización en Derecho Sancionatorio 3. Maestría en Derecho Administrativo | K18: ABOGADO | O18: NO CUMPLE | P18: Teniendo en cuenta que el proponente no allego las subsanaciones solicitadas en el informe de evaluacion preliminar durante los terminos establecidos para tal fin, este se encuentra en causal de rechazo tal como lo indica el Pliego de Condiciones en el numeral 6.12 CAUSALES DE RECHAZO, literal 1 "Cuando el proponente no subsane alguno de los requisitos habilitantes solicitados en el pliego de condiciones o subsane fuera del término fijado en el pliego de condiciones, la información o documentación solicitada respecto de un requisito o documento habilitante, en los términos previstos por el artículo 5° de la ley 1882 de 2018".
K19: EMPRESA O ENTIDAD | L19: INICIO | M19: FIN | N19: EXPERIENCIA
K20: UNIVERSIDA DISTRITAL FRANCISCO JOSE DE CALDAS | L20: 39942 | M20: 41026 | N20: REPORTA CERTIFICACION PERO NO CUMPLE CON LOS CRITERIOS SOLICITADOS
K21: ALCALDIA DE UBAQUE | L21: 41261 | M21: 42852 | N21: REPORTA CERTIFICACION PERO NO CUMPLE CON LOS CRITERIOS SOLICITADOS
K22: GOBERNACION DE CUNDINAMARCA, SECRETARIA DE SALUD | L22: 41879 | M22: 42154 | N22: REPORTA CERTIFICACION PERO NO CUMPLE CON LOS CRITERIOS SOLICITADOS
K23: MUNICIPIO DE UBAQUE | L23: 41947 | M23: 42262
A25: PROPONENTE 2 | B25: =+'5.1.3.1EXPERIENCIA GENERAL'!D2 -> OMEGA AGENCIA DE SEGUROS LIMITADA - NIT :822001579-9 | C25: ENRIQUE MELO GUTIERREZ | D25: SI | E25: ADMINISTRADOR DE EMPRESAS | F25: ESPECIALISTA EN FINANZAS ESPECIALISTA EN GERENCIA DE RIESGOS Y SEGUROS MAGISTER EN ADMINISTACION | G25: SI | H25: SI | I25: SI | J25: SI | K25: COORDINADOR/A | O25: RESULTADO POR PERFIL | P25: OBSERVACIONES | Q25: RESULTADO GENERAL
K26: EMPRESA O ENTIDAD | L26: INICIO | M26: FIN | N26: EXPERIENCIA | O26: CUMPLE | Q26: CUMPLE
K27: OMEGA AGENCIA DE SEGUROS LTDA. | L27: 18 de Septiembre de 1997 | M27: ACTUALIDAD | N27: 27 AÑOS 8 MESES
C32: SONIA PATRICIA BAQUERO | D32: SI | E32: ABOGADA | F32: ESPECIALIZACION SEGUROS Y SEGURIDAD SOCIAL | G32: SI | H32: SI | I32: SI | J32: SI | K32: PROFESIONAL | O32: CUMPLE
K33: EMPRESA O ENTIDAD | L33: INICIO | M33: FIN | N33: EXPERIENCIA
K34: OMEGA AGENCIA DE SEGUROS LTDA. | L34: 02 de enero de 2008 | M34: ACTUALIDAD | N34: 17 AÑOS 7 MESES
A39: PROPONENTE 3 | B39: =+#REF! -> #REF! | C39: JUAN GABRIEL LOPEZ MORENO | D39: SI | E39: ADMINISTRADOR DE EMPRESAS | F39: ESPECIALIZACION GERENCIA DE RIESGOS Y SEGUROS | G39: SI | H39: SI | I39: SI | J39: SI | K39: COORDINADOR/A | O39: RESULTADO POR PERFIL | P39: OBSERVACIONES | Q39: RESULTADO GENERAL
K40: EMPRESA O ENTIDAD | L40: INICIO | M40: FIN | N40: EXPERIENCIA | O40: CUMPLE | Q40: CUMPLE
K41: CAF ASESORES DE SEGUROS LTDA | L41: 22 DE MARZO 2022 | M41: ACTUALIDAD | N41: 3 AÑOS 4 MESES
K42: JLG CONSULTORES INTEGRALES LTDA | L42: 16 DE AGOSTO 2019 | M42: 44593 | N42: 2 AÑOS 5 MESES
K43: GESTIONARTE SEGUROS | L43: 01 DE JUNIO 2018 | M43: 43495 | N43: 7 MESES
K44: SANIN ALIANZA SEGUROS LTDA | L44: 41708 | M44: 43253 | N44: 4 AÑOS 2 MESES
C45: ENRIQUE LAURENS RUEDA | D45: SI | E45: ABOGADO | F45: ESPECIALIZACION DERECHO DE SEGUROS ESPECIALIZACION DERECHO LABORAL Y SEGURIDAD SOCIAL | G45: SI | H45: SI | I45: SI | J45: SI | K45: PROFESIONAL | O45: CUMPLE
K46: EMPRESA O ENTIDAD | L46: INICIO | M46: FIN | N46: EXPERIENCIA
K47: CAF ASESORES DE SEGUROS LTDA | L47: 43951 | M47: ACTUALIDAD | N47: 5 AÑOS 3 MESES
K48: MAPFRE COLOMBIA | L48: 40644 | M48: 43108 | N48: 6 AÑOS 8 MESES
K49: EQUIDAD SEGUROS | L49: 37473 | M49: 40641 | N49: 8 AÑOS 8 MESES
A52: PROPONENTE 4 | B52: ='5.1.3.1EXPERIENCIA GENERAL'!F2 -> GONSEGUROS CORREDORES DE SEGUROS S.A. - NIT 805003801 - 7 | C52: CLAUDIA LILIANA GONGORA RODRIGUEZ | D52: SI | E52: Administradora de empresas | F52: Especialista en gerencia de riesgos y seguros -Especialista en economía de empresas | G52: SI | H52: SI | I52: SI | J52: SI | K52: COORDINADOR/A | O52: RESULTADO POR PERFIL | P52: OBSERVACIONES | Q52: RESULTADO GENERAL
K53: EMPRESA O ENTIDAD | L53: INICIO | M53: FIN | N53: EXPERIENCIA | O53: CUMPLE | Q53: CUMPLE
K54: GONSEGUROS LTDA. HOY GONSEGUROS CORREDORES DE SEGUROS S.A. | L54: 35156 | M54: ACTUALIDAD | N54: 29 AÑOS 4 MESES
C59: EDGAR BRICEÑO JARAMILLO | E59: ABOGADO | F59: Especialista en derecho de seguros | G59: SI | H59: SI | I59: SI | J59: SI | K59: PROFESIONAL | O59: CUMPLE
K60: EMPRESA O ENTIDAD | L60: INICIO | M60: FIN | N60: EXPERIENCIA
K61: SEGUROS TEQUENDAMA | L61: 28734 | M61: 29252 | N61: 1 AÑO 5 MESES
K62: LA NACIONAL DE SEGUROS | L62: 29252 | M62: 29707 | N62: 1 AÑO 3 MESES
...

Sheet FORMATO MIPYMES - MUJER
B4: ÍTEM | C4: OFERENTES | D4: RESULTADO | E4: OBSERVACIÓN
B5: 1 | C5: PROPONENTE No. 1 | D5: HABILITADO | E5: N/A
C6: =+'5.1.3.1EXPERIENCIA GENERAL'!C2 -> ASEGURAR SEGUROS LTDA - NIT 901134143 9
B7: 2 | C7: PROPONENTE No. 2 | D7: HABILITADO | E7: N/A
C8: =+'5.1.3.1EXPERIENCIA GENERAL'!D2 -> OMEGA AGENCIA DE SEGUROS LIMITADA - NIT :822001579-9
B9: 3 | C9: PROPONENTE No. 3 | D9: HABILITADO | E9: N/A
C10: ='5.1.3.1EXPERIENCIA GENERAL'!E2 -> C A F ASESORES DE SEGUROS LTDA - NIT 900357596 5
B11: 4 | C11: PROPONENTE No. 3 | D11: RECHAZADO | E11: N/A
C12: ='5.1.3.1EXPERIENCIA GENERAL'!F2 -> GONSEGUROS CORREDORES DE SEGUROS S.A. - NIT 805003801 - 7
B14: Elaboro: Felix Manrique Torres - Contratista Planeación Social CPS 145-2025

Sheet VERIFICACION TALENTO HUMANO
B3: FDLCB-PSAMC-001-2025
B4: “PRESTAR LOS SERVICIOS PARA LA IMPLEMENTACIÓN DE LAS ACCIONES A REALIZAR DENTRO DE LA ESTRATEGIA DE SALUD MENTAL ESTABLECIDA EN EL PROYECTO DE INVERSIÓN No. 2243. EN CUMPLIMIENTO A LAS METAS DEL PLAN DE DESARROLLO LOCAL “CIUDAD BOLÍVAR CAMINA SEGURA VIGENCIA 2025”. | P4: FORMATO D
B6: VERIFICACIÓN HOJAS DE VIDA
B8: PERFILES FDLCB-PSAMC-001-2025
B9: PROPONENTE | C9: PERFILES
A11: PROPONENTE 1 | B11: =+'5.1.3.1EXPERIENCIA GENERAL'!C2 -> ASEGURAR SEGUROS LTDA - NIT 901134143 9 | C11: COORDINADOR/A | I11: RESULTADO POR PERFIL | J11: PROFESIONAL | P11: RESULTADO POR PERFIL | Q11: FORMATO D | R11: OBSERVACIONES | S11: RESULTADO GENERAL
C12: NOMBRE: CLAUDIA MILENA MANJARREZ ALZATE | J12: NOMBRE: KATHLEEN JOHANNA QUINTERO GARCIA
C13: Hoja de vida | D13: Experiencia General - Certificacioes laborales | E13: Experiencia Especifica - Certificacioes laborales | F13: fotocopia del diploma respectivo o el acta de grado.- Pregrado | G13: fotocopia del diploma respectivo o el acta de grado.-Post grado | H13: Tarjeta Profesional | J13: Hoja de vida | K13: Experiencia General - Certificacioes laborales | L13: Experiencia Especifica - Certificacioes laborales | M13: fotocopia del diploma respectivo o el acta de grado.- Pregrado | N13: fotocopia del diploma respectivo o el acta de grado.-Post grado | O13: Tarjeta Profesional
C14: Si | D14: Si | E14: No | F14: Si | G14: Si | H14: Si | I14: NO CUMPLE | J14: Si | K14: No | L14: Si | M14: Si | N14: N/A | O14: N/A | P14: NO CUMPLE | Q14: Si | R14: En el perfil de coordinador, aunque cumple con el tiempo en la experiencia general no cumple la experiencia especifica debidamente certificada en coordinación, gerencia o dirección de al menos dos (2) proyectos sociales orientados a la implementación de actividades o eventos en salud, ejecutados a nivel local o distrital o nacional. En el perfil del profesional no cumple con la experiencia general de : Mínimo un (1) año de experiencia profesional certificada. se gun lo establecido en 5.1.3.2.2 Equipo mínimo de trabajo de los estudios previos | S14: NO CUMPLE
C15: EMPRESA O ENTIDAD | F15: INICIO | G15: FIN | H15: EXPERIENCIA | J15: EMPRESA O ENTIDAD | M15: INICIO | N15: FIN | O15: EXPERIENCIA
C16: SENA | F16: 39213 | G16: 40045 | H16: 2 años, 3 meses y 9 días | J16: SISTEMAS INTRIVIL S.A.S | M16: 45448 | N16: 45646 | O16: 6 meses y 15 días
C17: Corporación CICCE Instituto colombiano de cualificación empresarial | F17: 40220 | G17: 43278 | H17: 8 años, 4 meses y 16 días
A22: PROPONENTE 2 | B22: =+'5.1.3.1EXPERIENCIA GENERAL'!D2 -> OMEGA AGENCIA DE SEGUROS LIMITADA - NIT :822001579-9 | C22: COORDINADOR/A | I22: RESULTADO POR PERFIL | J22: PROFESIONAL | P22: RESULTADO POR PERFIL | Q22: FORMATO D | R22: OBSERVACIONES | S22: RESULTADO GENERAL
C23: NOMBRE: | J23: NOMBRE:
C24: Hoja de vida | D24: Experiencia General - Certificacioes laborales | E24: Experiencia Especifica - Certificacioes laborales | F24: fotocopia del diploma respectivo o el acta de grado.- Pregrado | G24: fotocopia del diploma respectivo o el acta de grado.-Post grado | H24: Tarjeta Profesional | J24: Hoja de vida | K24: Experiencia General - Certificacioes laborales | L24: Experiencia Especifica - Certificacioes laborales | M24: fotocopia del diploma respectivo o el acta de grado.- Pregrado | N24: fotocopia del diploma respectivo o el acta de grado.-Post grado | O24: Tarjeta Profesional
C25: NO | D25: NO | E25: NO | F25: NO | G25: NO | H25: NO | I25: NO CUMPLE | J25: NO | K25: NO | L25: NO | M25: NO | N25: NO | O25: NO | P25: NO CUMPLE | Q25: Si | R25: No Cumple puesto que no presenta las hojas de vidas y soportes del personal minimo requerido según los establecido en el numeral 5.1.3.2.2 Equipo Minimo de trabajo que die "El proponente deberá ofrecer un (1) profesional para desempeñar el cargo de coordinador y un profesional (1) dentro del presente proceso. Sera requisito la presentación de las hojas de vida con las certificaciones donde se acrediten los roles del equipo mínimo solicitado, acompañado de las certificaciones de estudio, certificaciones laborales y copia de la tarjeta profesional y demás documentos que acrediten tal calidad." | S25: NO CUMPLE
C26: EMPRESA O ENTIDAD | F26: INICIO | G26: FIN | H26: EXPERIENCIA | J26: EMPRESA O ENTIDAD | M26: INICIO | N26: FIN | O26: EXPERIENCIA
A33: PROPONENTE 3 | B33: =+#REF! -> #REF! | C33: COORDINADOR/A | I33: RESULTADO POR PERFIL | J33: PROFESIONAL | P33: RESULTADO POR PERFIL | Q33: FORMATO D | R33: OBSERVACIONES | S33: RESULTADO GENERAL
C34: NOMBRE: Oscar Eduardo Sarmiento Saavedra | J34: NOMBRE: JOHN FREDDY GONZALEZ MARTINEZ
C35: Hoja de vida | D35: Experiencia General - Certificacioes laborales | E35: Experiencia Especifica - Certificacioes laborales | F35: fotocopia del diploma respectivo o el acta de grado.- Pregrado | G35: fotocopia del diploma respectivo o el acta de grado.-Post grado | H35: Tarjeta Profesional | J35: Hoja de vida | K35: Experiencia General - Certificacioes laborales | L35: Experiencia Especifica - Certificacioes laborales | M35: fotocopia del diploma respectivo o el acta de grado.- Pregrado | N35: fotocopia del diploma respectivo o el acta de grado.-Post grado | O35: Tarjeta Profesional
C36: SI | D36: SI | E36: NO | F36: SI | G36: SI | H36: N/A | I36: NO CUMPLE | J36: SI | K36: NO | L36: NO | M36: SI | N36: N/A | O36: N/A | P36: NO CUMPLE | Q36: Si | R36: En el perfil de coordinador, aunque cumple con el tiempo en la experiencia general no cumple la experiencia especifica debidamente certificada en coordinación, gerencia o dirección de al menos dos (2) proyectos sociales orientados a la implementación de actividades o eventos en salud, ejecutados a nivel local o distrital o nacional. En el perfil del profesional no cumple con la experiencia general de : Mínimo un (1) año de experiencia profesional certificada. ni con la especifica de seis (6) meses de experiencia como instructor en yoga. se gun lo establecido en 5.1.3.2.2 Equipo mínimo de trabajo de los estudios previos | S36: NO CUMPLE
C37: EMPRESA O ENTIDAD | F37: INICIO | G37: FIN | H37: EXPERIENCIA | J37: EMPRESA O ENTIDAD | M37: INICIO | N37: FIN | O37: EXPERIENCIA
C38: SENA | F38: 26/09/202024 | G38: 45643 | H38: 2 meses 21 días
C39: CUN | F39: 44599 | G39: 44711 | H39: 3 meses 23 días
C40: CUN | F40: 44781 | G40: 44895 | H40: 3 meses 22 días
C41: CUN | F41: 44963 | G41: 45076 | H41: 3 meses 24 días
C42: SENA | F42: 43510 | G42: 43554 | H42: 1 mes 16 días
C43: SENA | F43: 43866 | G43: 44147 | H43: 9 meses 7 días
C44: SENA | F44: 44229 | G44: 44548 | H44: 10 meses 16 días
C45: SENA | F45: 44585 | G45: 44623 | H45: 1 mes 8 días
C46: FUNDACION TECNOLOGICA INDUSTRIAL JUAN PABLO SEGUNDO | F46: 43109 | G46: 43444 | H46: 11 meses 1 día
C47: CORPECOL | F47: 42889 | G47: 43084 | H47: 6 meses 12 días
A51: PROPONENTE 4 | B51: ='5.1.3.1EXPERIENCIA GENERAL'!F2 -> GONSEGUROS CORREDORES DE SEGUROS S.A. - NIT 805003801 - 7 | C51: COORDINADOR/A | I51: RESULTADO POR PERFIL | J51: PROFESIONAL | P51: RESULTADO POR PERFIL | Q51: FORMATO D | R51: OBSERVACIONES | S51: RESULTADO GENERAL
C52: NOMBRE: | J52: NOMBRE:
C53: Hoja de vida | D53: Experiencia General - Certificacioes laborales | E53: Experiencia Especifica - Certificacioes laborales | F53: fotocopia del diploma respectivo o el acta de grado.- Pregrado | G53: fotocopia del diploma respectivo o el acta de grado.-Post grado | H53: Tarjeta Profesional | J53: Hoja de vida | K53: Experiencia General - Certificacioes laborales | L53: Experiencia Especifica - Certificacioes laborales | M53: fotocopia del diploma respectivo o el acta de grado.- Pregrado | N53: fotocopia del diploma respectivo o el acta de grado.-Post grado | O53: Tarjeta Profesional
I54: HABILITADO | P54: RECHAZADO | R54: No habilitado para evaluación debido a no ser seleccionado en el sorto del proceso | S54: RECHAZADO
C55: EMPRESA O ENTIDAD | F55: INICIO | G55: FIN | H55: EXPERIENCIA | J55: EMPRESA O ENTIDAD | M55: INICIO | N55: FIN | O55: EXPERIENCIA
B62: }
B63: Elaboro: Felix Manrique Torres - Contratista Planeación Social CPS 145-2025

Sheet FORMATO EXP. HABILITANTE  (2)
B1: “FORMATO EXPERIENCIA HABILITANTE DEL PROPONENTE”
B3: ÍTEM | C3: OFERENTES | D3: RESULTADO | E3: OBSERVACIÓN
B4: 1 | C4: PROPONENTE No. 1 | D4: HABILITADO | E4: N/A
C5: =+'5.1.3.1EXPERIENCIA GENERAL'!C2 -> ASEGURAR SEGUROS LTDA - NIT 901134143 9
B6: 2 | C6: PROPONENTE No. 2 | D6: HABILITADO | E6: N/A
C7: =+'5.1.3.1EXPERIENCIA GENERAL'!D2 -> OMEGA AGENCIA DE SEGUROS LIMITADA - NIT :822001579-9
B8: 3 | C8: PROPONENTE No. 3 | D8: HABILITADO | E8: N/A
C9: =+'5.1.3.1EXPERIENCIA GENERAL'!E2 -> C A F ASESORES DE SEGUROS LTDA - NIT 900357596 5
B10: 4 | C10: PROPONENTE No. 3 | D10: HABILITADO | E10: N/A
C11: ='5.1.3.1EXPERIENCIA GENERAL'!F2 -> GONSEGUROS CORREDORES DE SEGUROS S.A. - NIT 805003801 - 7
B14: Elaboro: Felix Manrique Torres - Contratista Planeación Social CPS 145-2025

Sheet CONSOLIDADO
A2: CONSOLIDAD FINAL
A4: ÍTEM | B4: OFERENTES | C4: EXPERIENCIA GENERAL | D4: VERIFICACION TALENTO HUMANO | E4: CERTIFICADO DE AUTORIZACION PARA EJERCER COMO INTERMEDIARIO DE SEGUROS | F4: PÓLIZA DE SEGURO DE RESPONSABILIDAD CIVIL PROFESIONAL (ERRORES U OMISIONES) | G4: FORMATO ACEPTACIÓN ESPECIFICACIONES TÉCNICAS MÍNIMAS | I4: CONSOLIDADO GENERAL | J4: OBSERVACIONES FINALES
A5: 1 | B5: ='5.1.3.1EXPERIENCIA GENERAL'!C2 -> ASEGURAR SEGUROS LTDA - NIT 901134143 9 | C5: NO CUMPLE | D5: NO CUMPLE | E5: NO CUMPLE | F5: NO CUMPLE | G5: CUMPLE | I5: RECHAZADO | J5: Teniendo en cuenta que el proponente no allego las subsanaciones solicitadas en el informe de evaluacion preliminar durante los terminos establecidos para tal fin, este se encuentra en causal de rechazo tal como lo indica el Pliego de Condiciones en el numeral 6.12 CAUSALES DE RECHAZO, literal 1 "Cuando el proponente no subsane alguno de los requisitos habilitantes solicitados en el pliego de condiciones o subsane fuera del término fijado en el pliego de condiciones, la información o documentación solicitada respecto de un requisito o documento habilitante, en los términos previstos por el artículo 5° de la ley 1882 de 2018".
A7: 2 | B7: =_xlfn.CONCAT("PROPONENTE No"," ",A7," ",'5.1.3.1EXPERIENCIA GENERAL'!D2) -> PROPONENTE No 2 OMEGA AGENCIA DE SEGUROS LIMITADA - NIT :822001579-9 | C7: CUMPLE | D7: CUMPLE | E7: CUMPLE | F7: CUMPLE | G7: CUMPLE | I7: HABILITADO
A9: 3 | B9: =_xlfn.CONCAT("PROPONENTE No"," ",A9," ",'5.1.3.1EXPERIENCIA GENERAL'!E2) -> PROPONENTE No 3 C A F ASESORES DE SEGUROS LTDA - NIT 900357596 5 | C9: CUMPLE | D9: CUMPLE | E9: CUMPLE | F9: CUMPLE | G9: CUMPLE | I9: HABILITADO
A11: 4 | B11: =_xlfn.CONCAT("PROPONENTE No"," ",A11," ",'5.1.3.1EXPERIENCIA GENERAL'!F2) -> PROPONENTE No 4 GONSEGUROS CORREDORES DE SEGUROS S.A. - NIT 805003801 - 7 | C11: CUMPLE | D11: CUMPLE | E11: CUMPLE | F11: CUMPLE | G11: CUMPLE | I11: HABILITADO | J11: El proponente allego subsanacion dentro de los terminos y condiciones fijadas en el pliego de condiciones
B16: ELABORO: ROLF GUNTHER STRAUSS CPS 697-2025 CONTRATISTA FDLCB
