Workbook

Sheet ESTUDIOS DE MERCADO
A2: ESTUDIO DE MERCADO
A3: Descripción del insumo requerido para el desarrollo de la actividad | B3: Unidad Medida | C3: Cantidad | D3: vr unit cot 1 | E3: Cotización 1 | F3: vr unit cot 2 | G3: Cotización 2 | H3: vr unit cot 3 | I3: Cotización 3 | J3: Costo Unitario promedio 3 cotizaciones | K3: Costo total | O3: valores unitarios | P3: IVA | Q3: TOTAL | R3: FINAL | S3: COTIZACION 2 | U3: VR TOTAL | V3: FINAL COT 2
A4: =PRESUPUESTO!A4 -> Remellón en acero inoxidable | B4: Unidades | C4: 10 | D4: 283000 | E4: =D4*C4 -> 2830000 | F4: =(241500*0.19)+241500 -> 287385 | G4: =F4*C4 -> 2873850 | H4: =Q4 -> 279650 | I4: =H4*C4 -> 2796500 | J4: =(D4+F4+H4)/3 -> 283345 | K4: =J4*C4 -> 2833450 | L4: =#REF!/C4 -> #REF! | O4: =235000 -> 235000 | P4: =O4*0.19 -> 44650 | Q4: =O4+P4 -> 279650 | R4: =Q4*C4 -> 2796500 | S4: 241500 | T4: =S4*0.19 -> 45885 | U4: =S4+T4 -> 287385 | V4: =U4*C4 -> 2873850
A5: =PRESUPUESTO!A5 -> Pailas en aluminio numero de 32” | B5: Unidades | C5: 2 | D5: 650000 | E5: =D5*C5 -> 1300000 | F5: =(561200*0.19)+561200 -> 667828 | G5: =F5*C5 -> 1335656 | H5: =Q5 -> 649740 | I5: =H5*C5 -> 1299480 | J5: =(D5+F5+H5)/3 -> 655856 | K5: =J5*C5 -> 1311712 | O5: 546000 | P5: =O5*0.19 -> 103740 | Q5: =O5+P5 -> 649740 | R5: =Q5*C5 -> 1299480 | S5: 561200 | T5: =S5*0.19 -> 106628 | U5: =S5+T5 -> 667828 | V5: =U5*C5 -> 1335656
A6: =PRESUPUESTO!A6 -> Pailas en aluminio número 35” | B6: Unidades | C6: 2 | D6: 800000 | E6: =D6*C6 -> 1600000 | F6: =(679800*0.19)+679800 -> 808962 | G6: =F6*C6 -> 1617924 | H6: =Q6 -> 799680 | I6: =H6*C6 -> 1599360 | J6: =(D6+F6+H6)/3 -> 802880.67 | K6: =J6*C6 -> 1605761.3 | O6: 672000 | P6: =O6*0.19 -> 127680 | Q6: =O6+P6 -> 799680 | R6: =Q6*C6 -> 1599360 | S6: 679800 | T6: =S6*0.19 -> 129162 | U6: =S6+T6 -> 808962 | V6: =U6*C6 -> 1617924
A7: =PRESUPUESTO!A7 -> Pailas en aluminio número 38” | B7: Unidades | C7: 2 | D7: 900000 | E7: =D7*C7 -> 1800000 | F7: =(763100*0.19)+763100 -> 908089 | G7: =F7*C7 -> 1816178 | H7: =Q7 -> 899640 | I7: =H7*C7 -> 1799280 | J7: =(D7+F7+H7)/3 -> 902576.33 | K7: =J7*C7 -> 1805152.7 | L7: =#REF!/C7 -> #REF! | O7: 756000 | P7: =O7*0.19 -> 143640 | Q7: =O7+P7 -> 899640 | R7: =Q7*C7 -> 1799280 | S7: 763100 | T7: =S7*0.19 -> 144989 | U7: =S7+T7 -> 908089 | V7: =U7*C7 -> 1816178
A8: =PRESUPUESTO!A8 -> Pailas en aluminio número 40” | B8: Unidades | C8: 2 | D8: 1000000 | E8: =D8*C8 -> 2000000 | F8: =(846200*0.19)+846200 -> 1006978 | G8: =F8*C8 -> 2013956 | H8: =Q8 -> 999600 | I8: =H8*C8 -> 1999200 | J8: =(D8+F8+H8)/3 -> 1002192.7 | K8: =J8*C8 -> 2004385.3 | O8: 840000 | P8: =O8*0.19 -> 159600 | Q8: =O8+P8 -> 999600 | R8: =Q8*C8 -> 1999200 | S8: 846200 | T8: =S8*0.19 -> 160778 | U8: =S8+T8 -> 1006978 | V8: =U8*C8 -> 2013956
A9: =PRESUPUESTO!A9 -> Gaberas de 6 huecos en madera | B9: Unidades | C9: 10 | D9: 56000 | E9: =D9*C9 -> 560000 | F9: =(48500*0.19)+48500 -> 57715 | G9: =F9*C9 -> 577150 | H9: =Q9 -> 54740 | I9: =H9*C9 -> 547400 | J9: =(D9+F9+H9)/3 -> 56151.667 | K9: =J9*C9 -> 561516.67 | O9: 46000 | P9: =O9*0.19 -> 8740 | Q9: =O9+P9 -> 54740 | R9: =Q9*C9 -> 547400 | S9: 48500 | T9: =S9*0.19 -> 9215 | U9: =S9+T9 -> 57715 | V9: =U9*C9 -> 577150
A10: =PRESUPUESTO!A10 -> Batea en acero inoxidable | B10: Unidades | C10: 2 | D10: 1500000 | E10: =D10*C10 -> 3000000 | F10: =(1205480*0.19)+1205480 -> 1434521.2 | G10: =F10*C10 -> 2869042.4 | H10: =Q10 -> 1500590 | I10: =H10*C10 -> 3001180 | J10: =(D10+F10+H10)/3 -> 1478370.4 | K10: =J10*C10 -> 2956740.8 | O10: 1261000 | P10: =O10*0.19 -> 239590 | Q10: =O10+P10 -> 1500590 | R10: =Q10*C10 -> 3001180 | S10: 1205480 | T10: =S10*0.19 -> 229041.2 | U10: =S10+T10 -> 1434521.2 | V10: =U10*C10 -> 2869042.4
A11: =PRESUPUESTO!A11 -> Cernidores inoxidables | B11: Unidades | C11: 1 | D11: 960000 | E11: =D11*C11 -> 960000 | F11: =(973500*0.19)+973500 -> 1158465 | G11: =F11*C11 -> 1158465 | H11: =Q11 -> 799680 | I11: =H11*C11 -> 799680 | J11: =(D11+F11+H11)/3 -> 972715 | K11: =J11*C11 -> 972715 | O11: 672000 | P11: =O11*0.19 -> 127680 | Q11: =O11+P11 -> 799680 | R11: =Q11*C11 -> 799680 | S11: 973500 | T11: =S11*0.19 -> 184965 | U11: =S11+T11 -> 1158465 | V11: =U11*C11 -> 1158465
A12: =PRESUPUESTO!A12 -> Espátulas en acero inoxidable | B12: Unidades | C12: 2 | D12: 160000 | E12: =D12*C12 -> 320000 | F12: =(135800*0.19)+135800 -> 161602 | G12: =F12*C12 -> 323204 | H12: =Q12 -> 159460 | I12: =H12*C12 -> 318920 | J12: =(D12+F12+H12)/3 -> 160354 | K12: =J12*C12 -> 320708 | O12: 134000 | P12: =O12*0.19 -> 25460 | Q12: =O12+P12 -> 159460 | R12: =Q12*C12 -> 318920 | S12: 135800 | T12: =S12*0.19 -> 25802 | U12: =S12+T12 -> 161602 | V12: =U12*C12 -> 323204
A13: =PRESUPUESTO!A13 -> TOTAL | E13: =SUM(E4:E12) -> 14370000 | G13: =SUM(G4:G12) -> 14585425 | I13: =SUM(I4:I12) -> 14161000 | K13: =SUM(K4:K12) -> 14372142 | R13: =SUM(R4:R12) -> 14161000 | V13: =SUM(V4:V12) -> 14585425
A16: CAROLINA GÓMEZ RAMÍREZ
A17: PROFESIONAL ESPECIALIZADA
A18: Secretaría de Agricultura y Desarrollo Rural
A19: }

Sheet PRESUPUESTO
A2: PRESUPUESTO
A3: PRODUCTO | B3: Unidad de Medida | C3: DESCRIPCIÓN INSUMO | D3: CANTIDAD | E3: VALOR UNITARIO | F3: Costo Total
A4: Remellón en acero inoxidable | B4: UN | C4: Acero inoxidable con cabos en acero ornamental de 2 metros | D4: 10 | E4: ='ESTUDIOS DE MERCADO'!J4 -> 283345 | F4: =E4*D4 -> 2833450
A5: Pailas en aluminio numero de 32” | B5: UN | C5: Pailas en aluminio numero de 32” | D5: 2 | E5: ='ESTUDIOS DE MERCADO'!J5 -> 655856 | F5: =E5*D5 -> 1311712
A6: Pailas en aluminio número 35” | B6: UN | C6: Pailas en aluminio número 35” | D6: 2 | E6: ='ESTUDIOS DE MERCADO'!J6 -> 802880.67 | F6: =E6*D6 -> 1605761.3
A7: Pailas en aluminio número 38” | B7: UN | C7: Pailas en aluminio número 38” | D7: 2 | E7: ='ESTUDIOS DE MERCADO'!J7 -> 902576.33 | F7: =E7*D7 -> 1805152.7
A8: Pailas en aluminio número 40” | B8: UN | C8: Pailas en aluminio número 40” | D8: 2 | E8: ='ESTUDIOS DE MERCADO'!J8 -> 1002192.7 | F8: =E8*D8 -> 2004385.3
A9: Gaberas de 6 huecos en madera | B9: UN | C9: Tramo de Gavera en madera para 1 kg, 6 huecos | D9: 10 | E9: ='ESTUDIOS DE MERCADO'!J9 -> 56151.667 | F9: =E9*D9 -> 561516.67
A10: Batea en acero inoxidable | B10: UN | C10: Acero inoxidable calibre 16 (0,90*1,5*0,25 centímetros) | D10: 2 | E10: ='ESTUDIOS DE MERCADO'!J10 -> 1478370.4 | F10: =E10*D10 -> 2956740.8
A11: Cernidores inoxidables | B11: UN | C11: Filto o zaranda en acero inoxidable con malla 20 (0,60*0,40*0,15 centímetros) | D11: 1 | E11: ='ESTUDIOS DE MERCADO'!J11 -> 972715 | F11: =E11*D11 -> 972715
A12: Espátulas en acero inoxidable | B12: UN | C12: Espátula o palín en acero inoxidable de 20 cm ancho * 25 cm de largo, calibre 14 con cabos de 1,20 metros | D12: 2 | E12: ='ESTUDIOS DE MERCADO'!J12 -> 160354 | F12: =E12*D12 -> 320708
A13: TOTAL | F13: =SUM(F4:F12) -> 14372142
