Workbook
Name \a: #REF!
Name \L: #REF!
Name \P: #REF!
Name \s: #REF!
Name \X: [0]!err
Name \Z: [0]!err
Name _________________________________________________i1: #REF!
Name ________________________________________________i1: #REF!
Name _______________________________________________i1: #REF!
Name ______________________________________________i1: #REF!
Name _____________________________________________i1: #REF!
Name ____________________________________________i1: #REF!
Name ___________________________________________i1: #REF!
Name __________________________________________i1: #REF!
Name _________________________________________i1: #REF!
Name ________________________________________i1: #REF!
Name _______________________________________i1: #REF!
Name ______________________________________i1: #REF!
Name _____________________________________i1: #REF!
Name ____________________________________i1: #REF!
Name ___________________________________i1: #REF!
Name __________________________________i1: #REF!
Name _________________________________i1: #REF!
Name ________________________________i1: #REF!
Name _______________________________i1: #REF!
Name ______________________________i1: #REF!
Name _____________________________i1: #REF!
Name ____________________________i1: #REF!
Name ___________________________i1: #REF!
Name __________________________i1: #REF!
Name _________________________i1: #REF!
Name ________________________i1: #REF!
Name _______________________i1: #REF!
Name ______________________i1: #REF!
Name _____________________i1: #REF!
Name ____________________i1: #REF!
Name ___________________i1: #REF!
Name __________________A1: IF([0]!Values_Entered,[0]!Header_Row+[0]!Number_of_Payments,[0]!Header_Row)
Name __________________A17000: #REF!
Name __________________A20000: #REF!
Name __________________A30000: #REF!
Name __________________AFC1: [1]INV!$A$25:$D$28
Name __________________AFC3: [1]INV!$F$25:$I$28
Name __________________AFC5: [1]INV!$K$25:$N$28
Name __________________BGC1: [1]INV!$A$5:$D$8
Name __________________BGC3: [1]INV!$F$5:$I$8
Name __________________BGC5: [1]INV!$K$5:$N$8
Name __________________CAC1: [1]INV!$A$19:$D$22
Name __________________CAC3: [1]INV!$F$19:$I$22
Name __________________CAC5: [1]INV!$K$19:$N$22
Name __________________G1: #N/A
Name __________________i1: #REF!
Name __________________MA2: #REF!
Name __________________PJ50: #REF!
Name __________________SBC1: [1]INV!$A$12:$D$15
Name __________________SBC3: [1]INV!$F$12:$I$15
Name __________________SBC5: [1]INV!$K$12:$N$15
Name __________________v1: IF(__________________v8,[0]!Header_Row+__________________v4,[0]!Header_Row)
Name __________________v2: IF(__________________v8,[0]!Header_Row+__________________v4,[0]!Header_Row)
Name __________________v4: #N/A

Sheet FM
B2: CALCULO DEL FACTOR MULTIPLICADOR
A4: 1 | B4: HONORARIOS MENSUAL BASICO | C4: =+ROUND((100%),2) -> 1
A5: 2 | B5: PRESTACIONES SOCIALES
A6: 2.1 | B6: Prima anual | C6: 0.0833
A7: 2.2 | B7: Cesantía | C7: 0.0833
A8: 2.3 | B8: Intereses de cesantías | C8: 0.01
A9: 2.4 | B9: Vacaciones | C9: 0.0417
A10: 2.5 | B10: Seguridad social (Salud, Pensión) | C10: 0.205
A11: 2.6 | B11: Caja de Compensacion Familiar | C11: 0.04
A12: 2.7 | B12: ARL (Riesgos Laborales) | C12: 0.0696
A13: 2.8 | B13: Subsidio de Trasporte ((permisos, bonific., seguros, etc) | C13: 0.0046
A14: 2.9 | B14: Subsidio Familiar | C14: 0.04
A15: 2.10 | B15: Dotación | C15: 0.04
A16: 2.11 | B16: SENA | C16: 0.02
A17: 2.12 | B17: ICBF | C17: 0.03
B18: SUBTOTAL 2 - PRESTACIONES SOCIALES | C18: =ROUND((SUM(C6:C17)),3) -> 0.668
A19: 3 | B19: COSTOS DIRECTOS
A20: 3.1 | B20: Arriendo, Administración y Servicios Públicos de Oficina | C20: 0.09
B21: SUBTOTAL 3 - COSTOS DIRECTOS | C21: =ROUND((SUM(C20:C20)),3) -> 0.09
A22: 4 | B22: COSTOS GENERALES
A23: 4.1 | B23: Preparación de propuesta | C23: 0.06
A24: 4.2 | B24: Asesoria legal, tributaria y médica | C24: 0.03
A25: 4.3 | B25: Equipos y mantenimiento de oficina | C25: 0.02
A26: 4.4 | B26: Seguros de oficina del consultor | C26: 0.0227
A27: 4.6 | B27: Documentación Técnica | C27: 0.03
A28: 4.7 | B28: Papelería implementos de oficina | C28: 0.04
A29: 4.8 | B29: Personal administrativo no facturado (Sueldo + prestaciones) | C29: 0.07
A30: 4.1 | B30: Depreciación de muebles y equipos | C30: 0,5%
A31: 4.11 | B31: Licenciamiento de Software | C31: 0.05
A32: 4.12 | B32: Gasto de representación | C32: 0.01
A33: 4.13 | B33: Gasto Intereses bancarios por financiación | C33: 0.05
A34: 4.14 | B34: Vigilancia, aseo y cafeteria | C34: 0.01
B35: SUBTOTAL 4 - COSTOS GENERALES | C35: =ROUND((SUM(C23:C34)),3) -> 0.393
A36: 5 | B36: Honorarios (Utilidad del Consultor y Costos No Previstos)
A37: 5.1 | B37: Honorarios | C37: 0.18
B38: SUBTOTAL 5 - HONORARIOS | C38: =ROUND((SUM(C37:C37)),3) -> 0.18
A39: 6 | B39: Costos de Legalización
A40: 6.1 | B40: Poliza de Calidad | C40: 0,531%
A41: 6.2 | B41: Póliza Cumplimiento | C41: 0.00995
A42: 6.3 | B42: Póliza Salarios y prestaciones Sociales | C42: 0.02653
...

Sheet SALARIOS 2025
E3: TABLA DE HONORARIOS PROFESIONALES DE INTERVENTORIA
B4: INTERVENTORIA TÉCNICA, ADMINISTRATIVA, FINANCIERA, AMBIENTAL, SST Y LEGAL PARA CONSTRUCCIÓN, MEJORAMIENTO, ADECUACIÓN, REHABILITACIÓN DE PROYECTOS DE OBRAS PÚBLICA | L4: SMMLV AÑO 2025 | N4: 1423500
B5: TITULO | C5: CATEGORIA | D5: POSTGRADO | E5: EXPERIENCIA GENERAL | F5: EXPERIENCIA ESPECIFICA | H5: ORTIZ Y CARRILLO INGENIERIA S.A.S. | I5: AZZUL GRUPO EMPRESARIAL ESPACIOS & SERVICIOS PARA EL FUTURO | J5: PYC M&M SAS | K5: PROMEDIO SUELDO BASICO MUNICIPIO DE MOSQUERA (SMMLV)
F6: DESDE | G6: HASTA | P6: ORTIZ Y CARRILLO INGENIERIA S.A.S. | Q6: AZZUL GRUPO EMPRESARIAL ESPACIOS & SERVICIOS PARA EL FUTURO | R6: PYC M&M SAS | S6: PROMEDIO SUELDO BASICO MUNICIPIO DE MOSQUERA ($)
B7: Título profesional, matrícula o tarjeta profesional en los casos que aplique | C7: Categoria 1 | D7: Título de postgrado | E7: 12 años | F7: 5 años | G7: 8 años | H7: 8.1 | I7: 7.39 | J7: 8.75 | K7: =+AVERAGE(H7:J7) -> 8.08
B8: Título profesional, matrícula o tarjeta profesional en los casos que aplique | C8: Categoria 2 | D8: Título de postgrado | E8: 10 años | F8: 4 años | G8: 7 años | H8: 7.17 | I8: 6.54 | J8: 7.74 | K8: =+AVERAGE(H8:J8) -> 7.15 | P8: =+$N$4*H8 -> 10206495 | Q8: =+I8*$N$4 -> 9309690 | R8: =+J8*$N$4 -> 11017890 | S8: =+AVERAGE(P8:R8) -> 10178025
B9: Título profesional, matrícula o tarjeta profesional en los casos que aplique | C9: Categoria 3 | D9: Título de postgrado | E9: 8 años | F9: 3 años | G9: 6 años | H9: 6.08 | I9: 5.55 | J9: 6.57 | K9: =+AVERAGE(H9:J9) -> 6.0666667 | P9: =+$N$4*H9 -> 8654880 | Q9: =+I9*$N$4 -> 7900425 | R9: =+J9*$N$4 -> 9352395 | S9: =+AVERAGE(P9:R9) -> 8635900
B10: Título profesional, matrícula o tarjeta profesional en los casos que aplique | C10: Categoria 4 | D10: Título de postgrado | E10: 6 años | F10: 2 años | G10: 4 años | H10: 5.32 | I10: 4.86 | J10: 5.75 | K10: =+AVERAGE(H10:J10) -> 5.31 | P10: =+$N$4*H10 -> 7573020 | Q10: =+I10*$N$4 -> 6918210 | R10: =+J10*$N$4 -> 8185125 | S10: =+AVERAGE(P10:R10) -> 7558785
B11: Título profesional, matrícula o tarjeta profesional en los casos que aplique | C11: Categoria 5 | D11: Título de postgrado | E11: 4 años | F11: 2 años | G11: 3 años | H11: 4.6 | I11: 4.2 | J11: 4.97 | K11: =+AVERAGE(H11:J11) -> 4.59 | P11: =+$N$4*H11 -> 6548100 | Q11: =+I11*$N$4 -> 5978700 | R11: =+J11*$N$4 -> 7074795 | S11: =+AVERAGE(P11:R11) -> 6533865
B12: Título profesional, matrícula o tarjeta profesional en los casos que aplique | C12: Categoria 6 | D12: Título de postgrado | E12: 2 años | F12: 1 año | G12: 1 año | H12: 3.96 | I12: 3.61 | J12: 4.28 | K12: =+AVERAGE(H12:J12) -> 3.95 | P12: =+$N$4*H12 -> 5637060 | Q12: =+I12*$N$4 -> 5138835 | R12: =+J12*$N$4 -> 6092580 | S12: =+AVERAGE(P12:R12) -> 5622825
B13: Título profesional, matrícula o tarjeta profesional en los casos que aplique | C13: Categoria 7 | D13: Título de postgrado | E13: 2 años | F13: 0 años | G13: 0 años | H13: 3.46 | I13: 3.16 | J13: 3.74 | K13: =+AVERAGE(H13:J13) -> 3.4533333 | P13: =+$N$4*H13 -> 4925310 | Q13: =+I13*$N$4 -> 4498260 | R13: =+J13*$N$4 -> 5323890 | S13: =+AVERAGE(P13:R13) -> 4915820
B14: TITULO | C14: CATEGORIA | D14: POSTGRADO | E14: EXPERIENCIA GENERAL | F14: EXPERIENCIA ESPECIFICA | H14: =+H5 -> ORTIZ Y CARRILLO INGENIERIA S.A.S. | I14: =+I5 -> AZZUL GRUPO EMPRESARIAL ESPACIOS & SERVICIOS PARA EL FUTURO | J14: =+J5 -> PYC M&M SAS | K14: PROMEDIO SUELDO BASICO MUNICIPIO DE MOSQUERA (SMMLV)
F15: DESDE | G15: HASTA
B16: Título profesional, matrícula o tarjeta profesional en los casos que aplique | C16: Categoria 1 | D16: NA | E16: 12 años | F16: 5 años | G16: 8 años | H16: 6 | I16: 5.47 | J16: 6.48 | K16: =+AVERAGE(H16:J16) -> 5.9833333 | P16: =+H16*$N$4 -> 8541000 | Q16: =+I16*$N$4 -> 7786545 | R16: =+J16*$N$4 -> 9224280 | S16: =+AVERAGE(P16:R16) -> 8517275
B17: Título profesional, matrícula o tarjeta profesional en los casos que aplique | C17: Categoria 2 | D17: NA | E17: 10 años | F17: 4 años | G17: 7 años | H17: 5.22 | I17: 4.76 | J17: 5.64 | K17: =+AVERAGE(H17:J17) -> 5.2066667 | P17: =+H17*$N$4 -> 7430670 | Q17: =+I17*$N$4 -> 6775860 | R17: =+J17*$N$4 -> 8028540 | S17: =+AVERAGE(P17:R17) -> 7411690
B18: Título profesional, matrícula o tarjeta profesional en los casos que aplique | C18: Categoria 3 | D18: NA | E18: 8 años | F18: 3 años | G18: 6 años | H18: 4.76 | I18: 4.34 | J18: 5.14 | K18: =+AVERAGE(H18:J18) -> 4.7466667 | P18: =+H18*$N$4 -> 6775860 | Q18: =+I18*$N$4 -> 6177990 | R18: =+J18*$N$4 -> 7316790 | S18: =+AVERAGE(P18:R18) -> 6756880
B19: Título profesional, matrícula o tarjeta profesional en los casos que aplique | C19: Categoria 4 | D19: NA | E19: 6 años | F19: 2 años | G19: 4 años | H19: 4.22 | I19: 3.85 | J19: 4.56 | K19: =+AVERAGE(H19:J19) -> 4.21 | P19: =+H19*$N$4 -> 6007170 | Q19: =+I19*$N$4 -> 5480475 | R19: =+J19*$N$4 -> 6491160 | S19: =+AVERAGE(P19:R19) -> 5992935
B20: Título profesional, matrícula o tarjeta profesional en los casos que aplique | C20: Categoria 5 | D20: NA | E20: 4 años | F20: 2 años | G20: 3 años | H20: 3.69 | I20: 3.36 | J20: 3.98 | K20: =+AVERAGE(H20:J20) -> 3.6766667 | P20: =+H20*$N$4 -> 5252715 | Q20: =+I20*$N$4 -> 4782960 | R20: =+J20*$N$4 -> 5665530 | S20: =+AVERAGE(P20:R20) -> 5233735
B21: Título profesional, matrícula o tarjeta profesional en los casos que aplique | C21: Categoria 6 | D21: NA | E21: 2 años | F21: 1 año | G21: 1 año | H21: 3 | I21: 2.73 | J21: 3.24 | K21: =+AVERAGE(H21:J21) -> 2.99 | P21: =+H21*$N$4 -> 4270500 | Q21: =+I21*$N$4 -> 3886155 | R21: =+J21*$N$4 -> 4612140 | S21: =+AVERAGE(P21:R21) -> 4256265
B22: Título profesional, matrícula o tarjeta profesional en los casos que aplique | C22: Categoria 7 | D22: NA | E22: 2 años | F22: 0 años | G22: 0 años | H22: 2.52 | I22: 2.29 | J22: 2.72 | K22: =+AVERAGE(H22:J22) -> 2.51 | P22: =+H22*$N$4 -> 3587220 | Q22: =+I22*$N$4 -> 3259815 | R22: =+J22*$N$4 -> 3871920 | S22: =+AVERAGE(P22:R22) -> 3572985
B23: TITULO | C23: CATEGORIA | D23: POSTGRADO | E23: EXPERIENCIA GENERAL | F23: EXPERIENCIA ESPECIFICA | H23: =+H14 -> ORTIZ Y CARRILLO INGENIERIA S.A.S. | I23: =+I14 -> AZZUL GRUPO EMPRESARIAL ESPACIOS & SERVICIOS PARA EL FUTURO | J23: =+J14 -> PYC M&M SAS | K23: PROMEDIO SUELDO BASICO MUNICIPIO DE MOSQUERA (SMMLV)
F24: DESDE | G24: HASTA
B25: Auxiliar de ingenieria | C25: Categoria 4 | D25: NA | E25: 6 años | F25: 2 años | G25: 4 años | H25: 2.9 | I25: 2.65 | J25: 3.14 | K25: =+AVERAGE(H25:J25) -> 2.8966667 | P25: =+H25*$N$4 -> 4128150 | Q25: =+I25*$N$4 -> 3772275 | R25: =+J25*$N$4 -> 4469790 | S25: =+AVERAGE(P25:R25) -> 4123405
B26: Auxiliar de ingenieria | C26: Categoria 5 | D26: NA | E26: 4 años | F26: 2 años | G26: 3 años | H26: 2.79 | I26: 2.55 | J26: 3.01 | K26: =+AVERAGE(H26:J26) -> 2.7833333 | P26: =+H26*$N$4 -> 3971565 | Q26: =+I26*$N$4 -> 3629925 | R26: =+J26*$N$4 -> 4284735 | S26: =+AVERAGE(P26:R26) -> 3962075
B27: Auxiliar de ingenieria | C27: Categoria 6 | D27: NA | E27: 2 años | F27: 1 año | G27: 1 año | H27: 2.24 | I27: 2.04 | J27: 2.42 | K27: =+AVERAGE(H27:J27) -> 2.2333333 | P27: =+H27*$N$4 -> 3188640 | Q27: =+I27*$N$4 -> 2903940 | R27: =+J27*$N$4 -> 3444870 | S27: =+AVERAGE(P27:R27) -> 3179150
B28: Auxiliar de ingenieria | C28: Categoria 7 | D28: NA | E28: 2 años | F28: 0 años | G28: 0 años | H28: 1.76 | I28: 1.6 | J28: 1.9 | K28: =+AVERAGE(H28:J28) -> 1.7533333 | P28: =+H28*$N$4 -> 2505360 | Q28: =+I28*$N$4 -> 2277600 | R28: =+J28*$N$4 -> 2704650 | S28: =+AVERAGE(P28:R28) -> 2495870
B29: TITULO | C29: CATEGORIA | D29: POSTGRADO | E29: EXPERIENCIA GENERAL | F29: EXPERIENCIA ESPECIFICA | H29: ORTIZ Y CARRILLO INGENIERIA S.A.S. | I29: AZZUL GRUPO EMPRESARIAL ESPACIOS & SERVICIOS PARA EL FUTURO | J29: PYC M&M SAS | K29: PROMEDIO SUELDO BASICO MUNICIPIO DE MOSQUERA (SMMLV)
F30: DESDE | G30: HASTA
B31: Titulo de bachiller | C31: Categoria 4 | D31: NA | E31: 6 años | F31: 2 años | G31: 4 años | H31: 1.69 | I31: 1.54 | J31: 1.83 | K31: =+AVERAGE(H31:J31) -> 1.6866667 | P31: =+H31*$N$4 -> 2405715 | Q31: =+I31*$N$4 -> 2192190 | R31: =+J31*$N$4 -> 2605005 | S31: =+AVERAGE(P31:R31) -> 2400970
B32: Titulo de bachiller | C32: Categoria 5 | D32: NA | E32: 4 años | F32: 2 años | G32: 3 años | H32: 1.55 | I32: 1.41 | J32: 1.67 | K32: =+AVERAGE(H32:J32) -> 1.5433333 | P32: =+H32*$N$4 -> 2206425 | Q32: =+I32*$N$4 -> 2007135 | R32: =+J32*$N$4 -> 2377245 | S32: =+AVERAGE(P32:R32) -> 2196935
B33: Titulo de bachiller | C33: Categoria 6 | D33: NA | E33: 2 años | F33: 1 año | G33: 1 año | H33: 1.31 | I33: 1.19 | J33: 1.41 | K33: =+AVERAGE(H33:J33) -> 1.3033333 | P33: =+H33*$N$4 -> 1864785 | Q33: =+I33*$N$4 -> 1693965 | R33: =+J33*$N$4 -> 2007135 | S33: =+AVERAGE(P33:R33) -> 1855295
B34: Titulo de bachiller | C34: Categoria 7 | D34: NA | E34: 2 años | F34: 0 años | G34: 0 años | H34: 1.05 | I34: 1 | J34: 1.14 | K34: =+AVERAGE(H34:J34) -> 1.0633333 | P34: =+H34*$N$4 -> 1494675 | Q34: =+I34*$N$4 -> 1423500 | R34: =+J34*$N$4 -> 1622790 | S34: =+AVERAGE(P34:R34) -> 1513655
B40: Ing. JHONNY ALFREDO MUÑOZ SOTO
B41: Cargo: Secretario de Infraestructura y Obras Públicas
B42: Revisó. Ing. Oscar Gomez Rodriguez OPS – Secretaría de Infraestructura y Obras Publicas.
B43: Elaboró: Arq. Carlos Eduardo Serrano C OPS – Secretaría de Infraestructura y Obras Publicas.

Sheet Presupuesto_Oficial_Inicial
C4: FORMATO - PRESUPUESTO OFICIAL
C5: OBJETO: INTERVENTORÍA TÉCNICA, ADMINISTRATIVA, FINANCIERA, AMBIENTAL Y LEGAL PARA LA AMPLIACIÓN DEL SISTEMA DE ALUMBRADO PÚBLICO CORRESPONDIENTE A DIFERENTES SECTORES VIALES Y OTRAS ÁREAS DEL CASCO URBANO DEL MUNICIPIO DE MOSQUERA CUNDINAMARCA, MEDIANTE LUMINARIAS CON TECNOLOGÍA LED CON SISTEMA AUTÓNOMO DE ENERGÍA SOLAR.
C6: CANT. | D6: CARGO / OFICIO | E6: CATEGORIA | F6: COSTO ($) | G6: PLAZO | N6: VALOR
F7: SEGÚN CATEGORÍA | G7: MES 1 | H7: MES 2 | I7: MES 3 | J7: MES 4 | K7: MES 5 | L7: MES 6 | M7: TOTAL DEDICACIÓN (MESES) | N7: PARCIAL ($)
C8: (1) | F8: (2) | G8: (a) | H8: (b) | I8: (c) | J8: (d) | K8: (e) | L8: (f) | M8: (a)+(b)+(c)+(d)+(e)+(f) = (3) | N8: (1)*(2)*(3) = (4)
C9: COSTOS DIRECTOS DE PERSONAL
C10: PERSONAL PROFESIONAL
C11: FASE I - REVISIÓN Y APROBACIÓN DE LOS ESTUDIOS Y DISEÑOS TÉCNICOS DEL PUENTE PEATONAL BERALI:
C12: 1 | D12: Directo de interventoría | E12: CATEGORÍA 1 - POSTGRADO | F12: =ROUND('SALARIOS 2025'!K7*'SALARIOS 2025'!N4,0) -> 11501880 | G12: 0.5 | H12: 0.5 | I12: 0 | J12: 0 | K12: 0 | L12: 0 | M12: =SUM(G12:L12) -> 1 | N12: =C12*F12*M12 -> 11501880
C13: 1 | D13: Profesional electrico | E13: CATEGORÍA 2 - PROFESIONAL | F13: =ROUND('SALARIOS 2025'!K17*'SALARIOS 2025'!N4,0) -> 7411690 | G13: 1 | H13: 1 | I13: 0 | J13: 0 | K13: 0 | L13: 0 | M13: =SUM(G13:L13) -> 2 | N13: =C13*F13*M13 -> 14823380
C15: FASE II - CONSTRUCCIÓN DEL PUENTE PEATONAL BELARI
C16: 1 | D16: Directo de Interventoría | E16: CATEGORÍA 1 - POSTGRADO | F16: =ROUND('SALARIOS 2025'!K7*'SALARIOS 2025'!N4,0) -> 11501880 | G16: 0 | H16: 0 | I16: 1 | J16: 1 | K16: 1 | L16: 1 | M16: =SUM(G16:L16) -> 4 | N16: =C16*F16*M16 -> 46007520
C17: 2 | D17: Residente de interventoría | E17: CATEGORÍA 2 - PROFESIONAL | F17: =ROUND('SALARIOS 2025'!K17*'SALARIOS 2025'!N4,0) -> 7411690 | G17: 0 | H17: 0 | I17: 1 | J17: 1 | K17: 1 | L17: 1 | M17: =SUM(G17:L17) -> 4 | N17: =C17*F17*M17 -> 59293520
C18: 1 | D18: Profesional electrico | E18: CATEGORÍA 2 - PROFESIONAL | F18: =ROUND('SALARIOS 2025'!K17*'SALARIOS 2025'!N4,0) -> 7411690 | G18: 0 | H18: 0 | I18: 1 | J18: 1 | K18: 1 | L18: 1 | M18: =SUM(G18:L18) -> 4 | N18: =C18*F18*M18 -> 29646760
C19: 1 | D19: Profesional SST | E19: CATEGORÍA 2 - PROFESIONAL | F19: =ROUND('SALARIOS 2025'!K17*'SALARIOS 2025'!N4,0) -> 7411690 | G19: 0 | H19: 0 | I19: 1 | J19: 1 | K19: 1 | L19: 1 | M19: =SUM(G19:L19) -> 4 | N19: =C19*F19*M19 -> 29646760
C20: 1 | D20: Abogado | E20: CATEGORÍA 4 - PROFESIONAL | F20: =ROUND('SALARIOS 2025'!K19*'SALARIOS 2025'!N4,0) -> 5992935 | G20: 0 | H20: 0 | I20: 0.25 | J20: 0.25 | K20: 0.25 | L20: 0.25 | M20: =SUM(G20:L20) -> 1 | N20: =C20*F20*M20 -> 5992935
C21: 1 | D21: Profesional ambiental | E21: CATEGORÍA 4 - PROFESIONAL | F21: =ROUND('SALARIOS 2025'!K19*'SALARIOS 2025'!N4,0) -> 5992935 | G21: 0 | H21: 0 | I21: 1 | J21: 1 | K21: 1 | L21: 1 | M21: =SUM(G21:L21) -> 4 | N21: =C21*F21*M21 -> 23971740
C23: PERSONAL TÉCNICO
C24: 1 | D24: Topografo | E24: CATEGORÍA 5 - PROFESIONAL | F24: =ROUND('SALARIOS 2025'!K20*'SALARIOS 2025'!N4,0) -> 5233735 | G24: 0 | H24: 0 | I24: 1 | J24: 1 | K24: 1 | L24: 1 | M24: =SUM(G24:L24) -> 4 | N24: =C24*M24*F24 -> 20934940
C25: PERSONAL ADMINISTRATIVO
C26: 1 | D26: Profesional administrativo y financiero | E26: CATEGORÍA 3 - POSTGRADO | F26: =ROUND('SALARIOS 2025'!K9*'SALARIOS 2025'!N4,0) -> 8635900 | G26: 0 | H26: 0 | I26: 1 | J26: 1 | K26: 1 | L26: 1 | M26: =SUM(G26:L26) -> 4 | N26: =C26*M26*F26 -> 34543600
C27: PERSONAL AUXILIAR TÉCNICO
C28: 2 | D28: Técnico electricista | E28: CATEGORÍA 5 - AUXILIAR DE INGENIERIA | F28: =ROUND('SALARIOS 2025'!K26*'SALARIOS 2025'!N4,0) -> 3962075 | G28: 0 | H28: 0 | I28: 1 | J28: 1 | K28: 1 | L28: 1 | M28: =SUM(G28:L28) -> 4 | N28: =+M28*F28*C28 -> 31696600
C29: 1 | D29: Inspector auxiliar SST | E29: CATEGORÍA 5 - AUXILIAR DE INGENIERIA | F29: =ROUND('SALARIOS 2025'!K26*'SALARIOS 2025'!N4,0) -> 3962075 | G29: 0 | H29: 0 | I29: 1 | J29: 1 | K29: 1 | L29: 1 | M29: =SUM(G29:L29) -> 4 | N29: =+M29*F29*C29 -> 15848300
C30: OTROS COSTOS DE PERSONAL
C31: 2 | D31: Conductor | E31: CATEGORÍA 5 - BACHILLER | F31: =ROUND('SALARIOS 2025'!K32*'SALARIOS 2025'!N4,0) -> 2196935 | G31: 0 | H31: 0 | I31: 1 | J31: 1 | K31: 1 | L31: 1 | M31: =SUM(G31:L31) -> 4 | N31: =+M31*F31*C31 -> 17575480 | R31: MANO DE OBRA LOCAL
C32: SUBTOTAL COSTOS DE PERSONAL = SUMATORIA DE (4) = (5) | N32: =SUM(N12:N31) -> 341483415
C33: FACTOR MULTIPLICADOR (6) | N33: 2.45
C34: SUBTOTAL COSTOS DE PERSONAL = (5) * (6) = (A) | N34: =ROUND(N32*N33,0) -> 836634367
C35: CANT. | D35: CONCEPTO | E35: UNIDAD | F35: COSTO | G35: PLAZO | N35: VALOR
F36: ($) | G36: MES 1 | H36: MES 2 | I36: MES 3 | J36: MES 4 | K36: MES 5 | L36: MES 6 | M36: TOTAL UTILIZACIÓN | N36: PARCIAL ($)
C37: (7) | F37: (8) | G37: (g) | H37: (h) | I37: (i) | J37: (j) | K37: (k) | L37: (l) | M37: (g)+(h)+(i)+(j)+(k)+l) =(9) | N37: (7)*(8)*(9) = (10)
C38: OTROS COSTOS DIRECTOS
C39: OTROS COSTOS
C40: 1 | D40: Edición de informes mensuales (impresión, fotocopias, registro fotografico, CD, planos, entre otros) | E40: Un/Mes | F40: 250000 | G40: 1 | H40: 1 | I40: 1 | J40: 1 | K40: 1 | L40: 1 | M40: =SUM(G40:L40) -> 6 | N40: =F40*M40 -> 1500000
C41: 2 | D41: TARIFA MES – ALQUILER DE VEHICULO: CAMPERO, PICK -UP, CAMIONETA, CAMION O SIMILAR DE 1300 cc A 2000 cc DE CILINDRADA, MODELO 2014 A 2011. INCLUYE TODOS LOS COSTOS DE OPERACIÓN Y MANTENIMIENTO EXCEPTO EL SALARIO DEL CONDUCTOR | E41: MES | F41: 6000000 | G41: 0 | H41: 0 | I41: 1 | J41: 1 | K41: 1 | L41: 1 | M41: =SUM(G41:L41) -> 4 | N41: =F41*M41 -> 24000000
C42: 1 | D42: EQUIPO DE TOPOGRAFÍA. ESTACION TOTAL, Precisión lineal ≤ (2 mm + 2 ppm x D), precisión angular ≤ 3". Alcance: con un prisma hasta 2000 metros en buenas condiciones. (Accesorios: Trípodes, bastones, prismas, cintas metálicas, baterías, entre otros). Y NIVEL electrónico o automático óptico (lectura de 3 hilos), los diámetros mínimos de los objetivos en centímetros (cm) serán 2.5 a 4.5, sensibilidad del nivel 60" a 30", aumento ≥ 28x, precisión instrumental (mm/km) ≤ 1.5. (Accesorios: Trípode y miras patronadas y/o en buen estado). Incluye todos los accesorios. | E42: MES | F42: 2000000 | G42: 0 | H42: 0 | I42: 1 | J42: 1 | K42: 1 | L42: 1 | M42: =SUM(G42:L42) -> 4 | N42: =F42*M42 -> 8000000
C43: 1 | D43: Ensayo de Laboratorios (equipos de medición luxometro, telurometro) - Ensayos de conformidad con lo exigido en el RETIE y RETILAP vigente. | E43: GBL | F43: 20000000 | G43: 0 | H43: 0 | I43: 0.25 | J43: 0.25 | K43: 0.25 | L43: 0.25 | M43: =SUM(G43:L43) -> 1 | N43: =F43*M43 -> 20000000 | Z43: TOTAL | AA43: 1423500
C44: SUBTOTAL OTROS COSTOS DIRECTOS = SUMATORIA DE (10) = (B) | N44: =SUM(N40:N43) -> 53500000 | S44: FASE I | T44: =N12+N13 -> 26325260 | U44: =T44*N33 -> 64496887 | V44: =F40*2 -> 500000 | Y44: =SUM(U44:X44) -> 64996887 | Z44: =ROUND(Y44*1.19,0) -> 77346296 | AA44: =Z44/$AA$43 -> 54.335298
C45: SUBTOTAL COSTOS BASICOS = (A) + (B) = (C) | N45: =N34+N44 -> 890134367 | S45: FASE II | T45: =SUM(N16:N31) -> 315158155 | U45: =T45*N33 -> 7.7213748e+08 | V45: =F40*4 -> 1000000 | X45: =SUM(N41:N43) -> 52000000 | Y45: =SUM(U45:X45) -> 8.2513748e+08 | Z45: =ROUND(Y45*1.19,0) -> 981913601 | AA45: =Z45/$AA$43 -> 689.78827 | AB45: =AA45*2 -> 1379.5765
...
