Workbook
Name salarios: DESPLEGABLES!$C$17:$C$30
Name SMMLV: DESPLEGABLES!$C$22:$C$30
Name UNSPSC: DESPLEGABLES!$A$2:$A$7

Sheet OFERENTES
A1: ALCALDIA MAYOR DE BOGOTA D.C. SECRETARIA DISTRITAL DEL HABITAT
A3: RESUMEN PROPONENTES
A4: REALIZAR LA INTERVENTORÍA TÉCNICA, JURÍDICA, SOCIAL, ADMINISTRATIVA Y FINANCIERA PARA LA EJECUCIÓN DE LAS OBRAS DE MEJORAMIENTO DE VIVIENDA EN LA MODALIDAD DE HABITABILIDAD EN LOS TERRITORIOS PRIORIZADOS POR LA SECRETARÍA DISTRITAL DEL HÁBITAT
A5: SDHT-CM-002-2020
A8: No. | B8: NOMBRE DEL PROPONENTE | C8: REPRESENTANTE LEGAL | D8: INTEGRANTES # | E8: INTEGRANTE 1 | F8: % Int. 1 | G8: INTEGRANTE 2 | H8: % Int. 2 | I8: INTEGRANTE 3 | J8: % Int. 3 | K8: INTEGRANTE 4 | L8: % Int. 4 | M8: INTEGRANTE 5 | N8: % Int. 5
A9: 1 | B9: INPLAYCO S.A.S. | C9: GONZALO LIEVANO HOYOS | D9: 1 | E9: INPLAYCO S.A.S. | F9: 1
A10: 2 | B10: CONSTRUMARCA SAS | C10: PEDRO MAURICIO BELTRAN DULCEY | D10: 1 | E10: CONSTRUMARCA SAS | F10: 1
A11: 3
A12: 4
A13: 5
A14: 6
A15: 7
A16: 8
A17: 9
A18: 10

Sheet EVALUACION TECNICA 1
A1: ALCALDIA MAYOR DE BOGOTA D.C. SECRETARIA DISTRITAL DEL HABITAT
A4: PROCESO | B4: =OFERENTES!A5 -> SDHT-CM-002-2020
A5: OBJETO: | B5: =OFERENTES!A4 -> REALIZAR LA INTERVENTORÍA TÉCNICA, JURÍDICA, SOCIAL, ADMINISTRATIVA Y FINANCIERA PARA LA EJECUCIÓN DE LAS OBRAS DE MEJORAMIENTO DE VIVIENDA EN LA MODALIDAD DE HABITABILIDAD EN LOS TERRITORIOS PRIORIZADOS POR LA SECRETARÍA DISTRITAL DEL HÁBITAT
A6: PRESUPUESTO OFICIAL | B6: 894321429
A7: FECHA DE CIERRE | B7: 21 DE SEPTIEMBRE DE 2020
A9: RESUMEN VERIFICACIÓN TÉCNICA | E9: PROPONENTE 1
A10: PARÁMETROS | B10: PARÁMETROS SOLICITADOS | E10: =OFERENTES!B9 -> INPLAYCO S.A.S.
E11: CALIFICACIÓN | H11: OBSERVACIÓN
A12: 4.2.1. EXPERIENCIA DEL PROPONENTE. (ANEXO No. 7) | B12: La experiencia deberá ser acreditada con mínimo DOS (2) Y MÁXIMO CUATRO (4) CERTIFICADOS de contratos que se encuentren terminados y liquidados, debidamente ejecutados, registrados, verificados y certificados por la respectiva Cámara de Comercio en el RUP, cuyo objeto sea igual o similar a la INTERVENTORÍA TÉCNICA PARA LA CONSTRUCCIÓN Y/O MEJORAMIENTO Y/O MANTENIMIENTO Y/O REMODELACIÓN Y/O REPARACIÓN Y/O AMPLIACIÓN DE EDIFICACIONES DE USO RESIDENCIAL O CONSTRUCCIÓN DE CONEXIONES INTRADOMICILIARIAS DE USO RESIDENCIAL, no obstante, por lo menos una (1) de las certificaciones aportadas deberá ser de INTERVENTORÍA A MEJORAMIENTO DE VIVIENDA. Los proponentes deberán diligenciar y presentar el ANEXO No. 7 “EXPERIENCIA HABILITANTE” Adicional a lo anterior deberán cumplir con las siguientes condiciones: La sumatoria de los contratos aportados deberá ser igual o superior al 100% del valor del Presupuesto Oficial expresado en SMMLV, información que será verificada en el RUP. Dentro de las certificaciones aportadas, en sumatoria se deberá acreditar haber realizado la interventoría a la ejecución de 507 mejoramientos de vivienda. Los contratos aportados deberán contar en sumatoria como mínimo con tres (3) de los siguientes códigos identificados en el Clasificador de Bienes y Servicios UNSPSC, hasta el tercer nivel (Artículo 2.2.1.1.1.5.3 Decreto 1082 de 2015) que le permitan acreditar experiencia con el objeto de cada uno de los contratos, información que será verificada en el RUP. | D12: CUMPLE / NO CUMPLE | E12: CUMPLE | H12: EVALUACION DETALLADA EN CUADO ANEXO
B14: En caso de proponentes plurales, se debe tener en cuenta las siguientes condiciones de asociación; Si la experiencia es acreditada por uno solo de los integrantes del proponente plural, este debe tener una participación mínima del 51%. Si la experiencia es acreditad por más de uno de los integrantes del proponente plural, aquel que acredite el contrato de mayor valor en SMMLV debe tener una participación de por lo menos el 40%. No se admiten integrantes del proponente plural con menos del 10% de participación. El proponente se ajustará a una de las siguientes exigencias para la acreditación según el carácter del contrato: i) Como contratista del estado: Se acreditará mediante la presentación de certificaciones de Contratos de Obra expedidas por la Entidad pública contratante de los contratos respectivos y/o Actas de Recibo Final debidamente firmadas en donde se puedan evidenciar las actividades ejecutadas. ii) Como constructor independiente: En el caso de los contratos celebrados con particulares se debe anexar certificación de interventoría expedida por el titular de la licencia y anexar copia de la Licencia Urbanística o de Construcción expedida por curaduría urbana o entidad competente, en el que se aprecie que la persona quien certifica actuó como responsable “Urbanizador o Constructor”, de igual manera se deberá acreditar mediante algún documento legal firmado que se ejecutaron las actividades solicitadas en el numeral 8.2.1. del estudio previo. En caso de diferencia entre la información relacionada en el Anexo correspondiente y las certificaciones, actas de obra, licencias de urbanismo y certificados de permiso de ocupación, prevalecerá las informaciones contenidas en estas últimas.
A15: REQUISITOS DE FORMACIÓN ACADÉMICA Y EXPERIENCIA DEL PERSONAL PROFESIONAL | B15: DIRECTOR DE INTERVENTORÍA 1: EDNA SOLEY RICO MAYORGA - Grupo 1 | D15: CUMPLE / NO CUMPLE | E15: CUMPLE | H15: EL PROPONENTE SUBSANA EN DEBIDA FORMA
B16: DIRECTOR DE INTERVENTORÍA 2: EDGAR EDUARDO ROA CASTILLO - Grupo 2 | E16: CUMPLE | H16: EL PROPONENTE SUBSANA EN DEBIDA FORMA
B17: RESIDENTE DE INTERVENTORÍA 1: MARIO HERNAN ORJUELA MALDONADO - Grupo 1 | E17: CUMPLE | H17: EL PROPONENTE SUBSANA EN DEBIDA FORMA
B18: RESIDENTE DE INTERVENTORÍA 2: EDWIN ALBERTO BAEZ SEPULVEDA - Grupo 1 | E18: CUMPLE | H18: EL PROPONENTE SUBSANA EN DEBIDA FORMA
B19: RESIDENTE DE INTERVENTORÍA 3: ASTRID GONZALEZ GUTIERREZ - Grupo 1 | E19: CUMPLE | H19: EL PROPONENTE SUBSANA EN DEBIDA FORMA
B20: RESIDENTE DE INTERVENTORÍA 1: WILLIAM FERNANDO GARZON RODRIGUEZ - Grupo 2 | E20: CUMPLE | H20: EL PROPONENTE SUBSANA EN DEBIDA FORMA
B21: RESIDENTE DE INTERVENTORÍA 2:JULIETH FERNANDA CASTRO SANDOVAL - Grupo 2 | E21: CUMPLE | H21: EL PROPONENTE SUBSANA EN DEBIDA FORMA
B22: RESIDENTE DE INTERVENTORÍA 3: LEONARDO SOLANO SOLANO - Grupo 2 | E22: CUMPLE | H22: EL PROPONENTE SUBSANA EN DEBIDA FORMA
A23: TOTAL VERIFICACIÓN TÉCNICA | D23: HÁBIL / NO HÁBIL | E23: HABIL
A24: COMITÉ EVALUADOR: JUAN CARLOS ARBELÁEZ MURILLO- Subdirector de Barrios STELLA ACEVEDO BELTRAN. Contratista Subdirección de Barrios. EDWIN ARIEL ULLOA CALVO. Contratista Subdirección de Barrios. JULIETTE ARDILA SANCHEZ. Contratista Subdirección de Barrios. DIANA CAROLINA BOJACA ALARCON. Contratista Subdirección de Barrios. | E24: OBSERVACIONES AL PROPONENTE: | G24: EL PROPONENTE SUBSANA EN DEBIDA FORMA

Sheet EXPERIENCIA OFERENTE 1 
C3: 4.2.1. EXPERIENCIA DEL PROPONENTE. (ANEXO No. 7) La experiencia deberá ser acreditada con mínimo DOS (2) Y MÁXIMO CUATRO (4) CERTIFICADOS de contratos que se encuentren terminados y liquidados, debidamente ejecutados, registrados, verificados y certificados por la respectiva Cámara de Comercio en el RUP, cuyo objeto sea igual o similar a la INTERVENTORÍA TÉCNICA PARA LA CONSTRUCCIÓN Y/O MEJORAMIENTO Y/O MANTENIMIENTO Y/O REMODELACIÓN Y/O REPARACIÓN Y/O AMPLIACIÓN DE EDIFICACIONES DE USO RESIDENCIAL O CONSTRUCCIÓN DE CONEXIONES INTRADOMICILIARIAS DE USO RESIDENCIAL, no obstante, por lo menos una (1) de las certificaciones aportadas deberá ser de INTERVENTORÍA A MEJORAMIENTO DE VIVIENDA. Los proponentes deberán diligenciar y presentar el ANEXO No. 7 “EXPERIENCIA HABILITANTE” Adicional a lo anterior deberán cumplir con las siguientes condiciones: La sumatoria de los contratos aportados deberá ser igual o superior al 100% del valor del Presupuesto Oficial expresado en SMMLV, información que será verificada en el RUP. Dentro de las certificaciones aportadas, en sumatoria se deberá acreditar haber realizado la interventoría a la ejecución de 507 mejoramientos de vivienda. Los contratos aportados deberán contar en sumatoria como mínimo con tres (3) de los siguientes códigos identificados en el Clasificador de Bienes y Servicios UNSPSC, hasta el tercer nivel (Artículo 2.2.1.1.1.5.3 Decreto 1082 de 2015) que le permitan acreditar experiencia con el objeto de cada uno de los contratos, información que será verificada en el RUP.
Y6: ='EVALUACION TECNICA 1'!B6 -> 894321429
H7: En caso de proponentes plurales, se debe tener en cuenta las siguientes condiciones de asociación; Si la experiencia es acreditada por uno solo de los integrantes del proponente plural, este debe tener una participación mínima del 51%. Si la experiencia es acreditad por más de uno de los integrantes del proponente plural, aquel que acredite el contrato de mayor valor en SMMLV debe tener una participación de por lo menos el 40%. No se admiten integrantes del proponente plural con menos del 10% de participación. El proponente se ajustará a una de las siguientes exigencias para la acreditación según el carácter del contrato: i) Como contratista del estado: Se acreditará mediante la presentación de certificaciones de Contratos de Obra expedidas por la Entidad pública contratante de los contratos respectivos y/o Actas de Recibo Final debidamente firmadas en donde se puedan evidenciar las actividades ejecutadas. ii) Como constructor independiente: En el caso de los contratos celebrados con particulares se debe anexar certificación de interventoría expedida por el titular de la licencia y anexar copia de la Licencia Urbanística o de Construcción expedida por curaduría urbana o entidad competente, en el que se aprecie que la persona quien certifica actuó como responsable “Urbanizador o Constructor”, de igual manera se deberá acreditar mediante algún documento legal firmado que se ejecutaron las actividades solicitadas en el numeral 8.2.1. del estudio previo. En caso de diferencia entre la información relacionada en el Anexo correspondiente y las certificaciones, actas de obra, licencias de urbanismo y certificados de permiso de ocupación, prevalecerá las informaciones contenidas en estas últimas. | Y7: =Y6/877803 -> 1018.8179
C8: Si el proponente es un Consorcio o una Unión Temporal podrá acreditar la experiencia mínima solicitada por la entidad de la siguiente forma: Nota 1: Cuando la experiencia acreditada corresponda a contratos realizados en consorcio o unión temporal, la experiencia en SMMLV será tomada de acuerdo con el porcentaje que le correspondió en dicha figura asociativa. Los proponentes deberán adjuntar copia del acuerdo de consorcio o de unión temporal y/o la certificación contractual expedida por la entidad contratante, siempre y cuando en la misma se indique de manera clara e inequívoca la participación que tuvo el participante en la ejecución del contrato. Nota 2: Solo se validarán los contratos reportados en el RUP que hayan sido verificados por la Cámara de Comercio respectiva y su inscripción se encuentre en firme. Nota 3: La SDHT, no tendrá en cuenta copias de los contratos como certificación. Nota 4: No se aceptan certificados de contratos en ejecución. Nota 5: No se aceptarán subcontratos ni contratos por administración delegada. Nota 6: En caso de que las certificaciones aportadas acrediten diferentes tipos de edificaciones, solo se tendrá en cuenta el valor de las relacionadas con el uso residencial. Nota 7: En caso de que el proponente o alguno de los integrantes del proponente plural acredite la experiencia como integrante de una figura asociativa, únicamente se tendrá en cuenta el valor reportado en el RUP afectado por el porcentaje de participación que tuvo dentro de esta.
C10: PROPONENTE 1
C12: OFERENTE No. | E12: =+[2]OFERENTES!A2 -> 1 | F12: =OFERENTES!B9 -> INPLAYCO S.A.S.
C13: INTEGRANTES | F13: 1 | G13: =OFERENTES!F9 -> 1 | H13: 2 | I13: =OFERENTES!H9 -> 0 | L13: 3 | M13: =OFERENTES!J9 -> 0
F14: =OFERENTES!E9 -> INPLAYCO S.A.S. | H14: =OFERENTES!G9 -> 0 | L14: =OFERENTES!I9 -> 0
C16: 4.2.1. EXPERIENCIA DEL PROPONENTE. (ANEXO No. 7)
B18: CONSECUTIVO RUP | C18: No | D18: PROPIETARIO O ENTIDAD CONTRATANTE | E18: APORTADA POR | F18: % en Cto | G18: Valor contrato expresadeo en SMMLV (RUP) | H18: OBJETO | L18: Fecha de Inicio | M18: Fecha de Terminación | N18: La sumatoria de los contratos aportados deberá ser igual o superior al 100% del valor del Presupuesto Oficial expresado en SMMLV, información que será verificada en el RUP. (1.018,82 SMMLV) | O18: Dentro de las certificaciones aportadas, en sumatoria se deberá acreditar haber realizado la interventoría a la ejecución de 507 mejoramientos de vivienda. | P18: Los contratos aportados deberán contar en sumatoria como mínimo con tres (3) de los siguientes códigos identificados en el Clasificador de Bienes y Servicios UNSPSC, hasta el tercer nivel (Artículo 2.2.1.1.1.5.3 Decreto 1082 de 2015) que le permitan acreditar experiencia con el objeto de cada uno de los contratos, información que será verificada en el RUP. | Q18: En caso de proponentes plurales, se debe tener en cuenta las siguientes condiciones de asociación; Si la experiencia es acreditada por uno solo de los integrantes del proponente plural, este debe tener una participación mínima del 51%. Si la experiencia es acreditad por más de uno de los integrantes del proponente plural, aquel que acredite el contrato de mayor valor en SMMLV debe tener una participación de por lo menos el 40%. No se admiten integrantes del proponente plural con menos del 10% de participación. | R18: El proponente se ajustará a una de las siguientes exigencias para la acreditación según el carácter del contrato: | T18: OBSERVACIONES
R19: i) Como contratista del estado: | S19: ii) Como constructor independiente:
N20: =+N25-1018.82 -> 1969.47 | O20: =+O25-507 -> 261 | P20: CUMPLE / NO CUMPLE | Q20: CUMPLE / NO CUMPLE | R20: CUMPLE / NO CUMPLE | S20: CUMPLE / NO CUMPLE
B21: 117 | C21: 1 | D21: INSTITUTO DE CASAS FISCALES DEL EJÉRCITO CONTRATO No. 092-ICFE- 2012 | E21: INPLAYCO S.A.S. | F21: 1 | G21: 943.69 | H21: INTERVENTORÍA CON FUNCIONES DE CONTROL TÉCNICO, ADMINISTRATIVO, FINANCIERO, CONTABLE Y AMBIENTAL PARA LA CONSTRUCCION DE DOS TORRES DE APARTAMENTOS PARA SUBOFICIALES EN TOLEMAIDA, DE CINCO PISOS CADA UNA CON CUATRO APARTAMENTOS POR PISO PARA UN TOTAL DE 40 APARTAMENTOS, INCLUYE OBRAS COMPLEMENTARIAS. ADICIONAL LA CONSTRUCCION DE UNA TORRES DE APARTAMENTOS PARA OFICIALES EN TOLEMAIDA DE CINCO PISOS CADA UNA CON CUATRO APARTAMENTOS POR PISO PARA UN TOTAL DE 20 APARTAMENTOS. | L21: 41208 | M21: 41627 | N21: =G21*F21 -> 943.69 | O21: 0 | P21: 771018 801015 801016 | Q21: NO APLICA | R21: CUMPLE | S21: NO APLICA
B22: 154 | C22: 2 | D22: INSTITUTO DE CASAS FISCALES DEL EJÉRCITO CONTRATO No. 061- ICFE- 2014 | E22: INPLAYCO S.A.S. | F22: 1 | G22: 1064.32 | H22: INTERVENTORÍA CON FUNCIONES DE CONTROL TÉCNICO, ADMINISTRATIVO, FINANCIERO, CONTABLE Y AMBIENTAL PARA LA CONSTRUCCION DE DOS EDIFICIO DE CINCO PISOS DE VIVIENDA FISCAL PARA OFICIALES Y DOS DE CINCO PISOS PARA SUBOFICIALES UBIDADOS EN LAS SECCIONALES DE VILLAVICENCIO-META. Y FLORENCIA-CAQUETÁ, TOTAL 80 APARTAMENTOS. | L22: 41795 | M22: 42190 | N22: =G22*F22 -> 1064.32 | R22: CUMPLE | S22: NO APLICA
B23: 183 | C23: 3 | D23: SECRETARÍA DEL HÁBITAT CONTRATO No. 495- 2018 | E23: INPLAYCO S.A.S. | F23: 0.7 | G23: 1400.4 | H23: INTERVENTORÍA TÉCNICA, ADMINISTRATIVA, SOCIAL Y PRESUPUESTAL DE LOS PROYECTOS DE MEJORAMIENTO DE VIVIENDA EN LA MODALIDAD DE HABITABILIDAD- GRUPO 2 | L23: 43272 | M23: 43469 | N23: =G23*F23 -> 980.28 | O23: 768 | R23: CUMPLE | S23: NO APLICA
C24: 4 | N24: =G24 -> 0
N25: =SUM(N21:N24) -> 2988.29 | O25: =SUM(O21:O24) -> 768
C28: 5.1.1. EXPERIENCIA ADICIONAL DEL PROPONENTE (ANEXO No. 10) (máximo 49 puntos)
C29: La SDHT a partir de la experiencia adicional a la habilitante requerida, debe asignar máximo CUARENTA Y NUEVE (49) puntos y se evalúa teniendo en cuenta los siguientes factores: Nota 1: El proponente deberá indicar claramente en su propuesta cuáles son las certificaciones que pretende que sean tenidas en cuenta para acreditar su experiencia adicional, indicándolo en el formato No. 10 “EXPERIENCIA ADICIONAL DEL PROPONENTE” y adjuntándolo como documento independiente en la plataforma del Secop II; si el proponente no adjunta o no relaciona esta información en el formato indicado, obtendrá cero (0) puntos en este criterio; igualmente, no podrá ser modificada la información relacionada en dicho formato ni reemplazar las certificaciones ya mencionadas en este por otras que se hayan adjuntado en la propuesta. Nota 2: Los contratos aportados para demostrar la experiencia adicional del proponente, podrán ser los mismos para acreditar el factor 1 EXPERIENCIA EN VALOR ACREDITADO EN MÁXIMO DOS (2) CONTRATOS DE INTERVENTORÍA A OBRAS DE MEJORAMIENTO DE VIVIENDA. y el factor 2 EXPERIENCIA POR NÚMERO DE UNIDADES DE VIVIENDA INTERVENIDAS EN MÁXIMO DOS (2) CONTRATOS DE INTERVENTORÍA A MEJORAMIENTO DE VIVIENDA. NOTA 3: Las certificaciones y/o actas de liquidación y/o actas de recibo final, presentadas por los proponentes para acreditar la experiencia adicional deberán ser expedidas por la entidad contratante, donde se especifique lo siguiente: a) Nombre del contratante. b) Nombre del contratista. c) Objeto del contrato. d) Fecha de inicio y fecha de terminación del contrato. e) Valor del contrato f) Valor ejecutado g) Cumplimiento total de las obligaciones contractuales h) Nombre y firma de quien emite la certificación Nota 4: Cuando la experiencia acreditada corresponda a contratos realizados en consorcio o unión temporal, la experiencia en valor y en cantidades será tomada de acuerdo con el porcentaje que le correspondió en dicha figura asociativa. Nota 5: Solo se validarán los contratos reportados en el RUP que hayan sido verificados por la Cámara de Comercio respectiva y su inscripción se encuentre en firme.
C31: Factor 1: EXPERIENCIA EN VALOR ACREDITADO EN MÁXIMO DOS (2) CONTRATOS DE INTERVENTORÍA A OBRAS DE MEJORAMIENTO DE VIVIENDA. (PUNTAJE MÁXIMO VEINTICINCO (25) PUNTOS).
C32: Esta experiencia corresponde a la suma del valor ejecutado y acreditado de cada contrato (máximo 2) expresado en SMMLV, los cuales serán verificados en el RUP. La experiencia se cumple adjuntando certificado y/o acta de recibo final, y/o acta de liquidación, de máximo dos (2) contratos en la que conste que el proponente o alguno de sus integrantes, participó en la ejecución del contrato a título individual o como integrante de consorcio o unión temporal, siendo en este último caso, el valor afectado por su porcentaje de participación.
C33: No | D33: PROPIETARIO O ENTIDAD CONTRATANTE | E33: APORTADA POR | F33: % en Cto | G33: Valor contrato expresadeo en SMMLV (RUP) | H33: OBJETO | L33: Fecha de Inicio | M33: Fecha de Terminación | N33: Valor Aplicable | O33: VALOR ACREDITADO DE LOS CONTRATOS | Q33: PUNTAJE A OTORGAR | R33: OBSERVACIONES
O34: =O37 -> 1167.9
B35: 182 | C35: 1 | D35: SECRETARIA DISTRITAL DEL HABITAT CONTRATO No. 599 DE 2017 | E35: inplayco sas | F35: 1 | G35: 1167.9 | H35: INTERVENTORÍA TÉCNICA, ADMINISTRATIVA, SOCIAL Y PRESUPUESTAL DE LOS PROYECTOS DE MEJORAMIENTO DE VIVIENDA EN LA MODALIDAD DE HABITABILIDAD. | L35: 43090 | M35: 43434 | N35: =G35 -> 1167.9 | O35: =N35 -> 1167.9 | Q35: 25
C36: 2 | N36: =G36 -> 0 | O36: =N36 -> 0
O37: =SUM(O35:P36) -> 1167.9
C41: Factor 2: EXPERIENCIA POR NÚMERO DE UNIDADES DE VIVIENDA INTERVENIDAS EN MÁXIMO DOS (2) CONTRATOS DE INTERVENTORÍA A MEJORAMIENTO DE VIVIENDA. (PUNTAJE MÁXIMO DE VEINTICUATRO (24) PUNTOS).
C42: Esta experiencia corresponde a la suma de los mejoramientos ejecutados y acreditados de cada contrato (máximo 2), los cuales serán verificados en el RUP. La experiencia se cumple adjuntando certificado y/o acta de recibo final, y/o acta de liquidación, de máximo dos (2) contratos en la que conste que el proponente o alguno de sus integrantes, participó en la ejecución del contrato a título individual o como integrante de consorcio o unión temporal, siendo en este último caso, el número de mejoramientos afectado por su porcentaje de participación.
C43: No | D43: PROPIETARIO O ENTIDAD CONTRATANTE | E43: APORTADA POR | F43: % en Cto | G43: Valor contrato expresadeo en SMMLV (RUP) | H43: OBJETO | L43: Fecha de Inicio | M43: Fecha de Terminación | N43: Valor Aplicable | O43: CANTIDAD DE UNIDADES DE MEJORAMIENTO DE VIVIENDA | Q43: PUNTAJE A OTORGAR | R43: OBSERVACIONES
O44: =P47 -> 0
B45: 182 | C45: 1 | D45: SECRETARIA DISTRITAL DEL HABITAT CONTRATO No. 599 DE 2017 | E45: inplayco sas | F45: 1 | G45: 1167.9 | H45: INTERVENTORÍA TÉCNICA, ADMINISTRATIVA, SOCIAL Y PRESUPUESTAL DE LOS PROYECTOS DE MEJORAMIENTO DE VIVIENDA EN LA MODALIDAD DE HABITABILIDAD. | L45: 43090 | M45: 43434 | N45: =G45 -> 1167.9 | O45: 714 | Q45: 24
C46: 2 | N46: =G46 -> 0
P47: =SUM(P45:P46) -> 0

Sheet DIRECTORES 1
B2: OFERENTE No. | D2: =OFERENTES!A9 -> 1 | E2: =OFERENTES!B9 -> INPLAYCO S.A.S.
B3: INTEGRANTES | E3: 1 | F3: =OFERENTES!F9 -> 1 | J3: 2 | K3: =OFERENTES!H9 -> 0 | N3: 3 | P3: =OFERENTES!J9 -> 0
E4: =OFERENTES!E9 -> INPLAYCO S.A.S. | J4: =OFERENTES!G9 -> 0 | N4: =OFERENTES!I9 -> 0
B6: PERSONAL REQUISITOS HABILITANTES | N6: PERSONAL REQUISITOS PONDERABLES
Z9: GRUPO 1
C10: Director De Interventoría Ingeniero Civil o Arquitecto. Mínimo ocho (8) años de experiencia Profesional, contados a partir de la expedición de la matrícula profesional. | K10: 1 | L10: GRUPO 1 | N10: CARGO | P10: DIRECTOR DE INTERVENTORÍA | V10: 1 | W10: GRUPO 1 | Y10: VALOR OBRA | Z10: 3724135319
N11: NOMBRE | P11: =E14 -> EDNA SOLEY RICO MAYORGA | Y11: VALOR INTERVENTORIA 12% | Z11: =Z10*12% -> 4.4689624e+08
Y12: SMMLV 2020 | Z12: 877803
C13: CARGO | E13: DIRECTOR DE INTERVENTORÍA | K13: CUMPLE | Z13: =Z11/Z12 -> 509.10767
C14: NOMBRE | E14: EDNA SOLEY RICO MAYORGA | J14: 44095 | K14: 8 años profesional | L14: =F17 -> 9
C15: PROFESION | D15: INGENIERA CIVIL | F15: EXP. MATRICULA PROF. | H15: 35688 | I15: =(J14-H15)/360 -> 23.352778 | N15: 7.2.2. FORMACIÓN ACADÉMICA Y PUBLICACIONES TÉCNICAS Y CIENTÍFICAS DEL EQUIPO DE TRABAJO (ANEXO No. 11) (máximo 10 puntos)
C16: POSGRADO | D16: NO APLICA | H16: CPLE / NO CPLE | I16: CUMPLE | K16: Experiencia Profesional | L16: =I16 -> CUMPLE
C17: 8 AÑOS | F17: =+G45 -> 9 | K17: Posgrado | L17: NO APLICA
K18: 254 unidades de vivienda intervenida | L18: =K56 -> 714 | N18: DIRECTOR DE INTERVENTORIA Criterio Puntaje | U18: PUNTAJE ASIGNADO | Z18: GRUPO 2
C19: EXPERIENCIA PROFESIONAL | K19: Máx. 4 proyectos | L19: =L52 -> CUMPLE | Y19: VALOR OBRA | Z19: 3728543251
C20: NOMBRE | D20: =E14 -> EDNA SOLEY RICO MAYORGA | J20: OBSERVACION | N20: especialización y/o maestría y/o doctorado, en gerencia de proyectos y/o dirección de proyectos y/o en áreas de ingeniería y/o arquitectura. | U20: MÁXMO 5 PUNTOS | Y20: VALOR INTERVENTORIA 12% | Z20: =Z19*12% -> 4.4742519e+08
C21: DATO | D21: FECHA INICIAL | E21: FECHA FINAL | F21: DIAS TOTALES | G21: AÑOS | H21: MESES | I21: DIAS | U21: 5 | Z21: =Z20/#REF! -> #REF!
C22: 1 | D22: 35079 | E22: 35505 | F22: =+E22-D22 -> 426 | G22: =DATEDIF(D22,E22,"Y") -> 1 | H22: =DATEDIF(D22,E22,"YM") -> 2 | I22: =DATEDIF(D22,E22,"MD") -> 1 | J22: INPLAYCO LTDA. - Folio 8
C23: 2 | D23: 35782 | E23: 36298 | F23: =+E23-D23 -> 516 | G23: =DATEDIF(D23,E23,"Y") -> 1 | H23: =DATEDIF(D23,E23,"YM") -> 5 | I23: =DATEDIF(D23,E23,"MD") -> 0 | J23: INPLAYCO LTDA. - Folio 10A | N23: NOMBRE DEL TITULO | P23: ESPECIALIZACIÓN EN GERENCIA DE PROYECTOS DE INGENIERÍA | T23: CUMPLE / NO CUMPLE
C24: 3 | D24: 36321 | E24: 36890 | F24: =+E24-D24 -> 569 | G24: =DATEDIF(D24,E24,"Y") -> 1 | H24: =DATEDIF(D24,E24,"YM") -> 6 | I24: =DATEDIF(D24,E24,"MD") -> 20 | J24: MUNICIPIO DE FLORENCIA - Folio 12A | T24: CUMPLE
C25: 4 | D25: 37545 | E25: 38374 | F25: =+E25-D25 -> 829 | G25: =DATEDIF(D25,E25,"Y") -> 2 | H25: =DATEDIF(D25,E25,"YM") -> 3 | I25: =DATEDIF(D25,E25,"MD") -> 6 | J25: ASOHECA - Folio 13 | N25: Las publicaciones técnicas y científicas deben estar relacionadas con el objeto a contratar y/o el cargo a desempeñar y/o con temas relacionas de la ingeniería civil y/o arquitectura.
C26: 5 | D26: 38418 | E26: 38989 | F26: =+E26-D26 -> 571 | G26: =DATEDIF(D26,E26,"Y") -> 1 | H26: =DATEDIF(D26,E26,"YM") -> 6 | I26: =DATEDIF(D26,E26,"MD") -> 22 | J26: UNIVERSIDAD NACIONAL DE COLOMBIA - Folio 13A
C27: 6 | D27: 38991 | E27: 39043 | F27: =+E27-D27 -> 52 | G27: =DATEDIF(D27,E27,"Y") -> 0 | H27: =DATEDIF(D27,E27,"YM") -> 1 | I27: =DATEDIF(D27,E27,"MD") -> 21 | J27: iNPLAYCO LTDA. - Folio 14
C28: 7 | D28: 39916 | E28: 39944 | F28: =+E28-D28 -> 28 | G28: =DATEDIF(D28,E28,"Y") -> 0 | H28: =DATEDIF(D28,E28,"YM") -> 0 | I28: =DATEDIF(D28,E28,"MD") -> 28 | J28: CONSORCIO SAN JOSE - Folio 17
C29: 8 | F29: =+E29-D29 -> 0 | G29: =DATEDIF(D29,E29,"Y") -> 0 | H29: =DATEDIF(D29,E29,"YM") -> 0 | I29: =DATEDIF(D29,E29,"MD") -> 0 | N29: NOMBRE DE LA PUBLICACION | T29: CUMPLE / NO CUMPLE
C30: 9 | D30: 41043 | E30: 41355 | F30: =+E30-D30 -> 312 | G30: =DATEDIF(D30,E30,"Y") -> 0 | H30: =DATEDIF(D30,E30,"YM") -> 10 | I30: =DATEDIF(D30,E30,"MD") -> 8 | J30: INPLAYCO LTDA. - 20
C31: 10 | D31: 43095 | E31: 43434 | F31: =+E31-D31 -> 339 | G31: =DATEDIF(D31,E31,"Y") -> 0 | H31: =DATEDIF(D31,E31,"YM") -> 11 | I31: =DATEDIF(D31,E31,"MD") -> 4 | J31: INPLAYCOS SAS - Folio 22
C32: 11 | F32: =+E32-D32 -> 0 | G32: =DATEDIF(D32,E32,"Y") -> 0 | H32: =DATEDIF(D32,E32,"YM") -> 0 | I32: =DATEDIF(D32,E32,"MD") -> 0
C33: 12 | F33: =+E33-D33 -> 0 | G33: =DATEDIF(D33,E33,"Y") -> 0 | H33: =DATEDIF(D33,E33,"YM") -> 0 | I33: =DATEDIF(D33,E33,"MD") -> 0
C34: 13 | F34: =+E34-D34 -> 0 | G34: =DATEDIF(D34,E34,"Y") -> 0 | H34: =DATEDIF(D34,E34,"YM") -> 0 | I34: =DATEDIF(D34,E34,"MD") -> 0
C35: 14 | F35: =+E35-D35 -> 0 | G35: =DATEDIF(D35,E35,"Y") -> 0 | H35: =DATEDIF(D35,E35,"YM") -> 0 | I35: =DATEDIF(D35,E35,"MD") -> 0
C36: 15 | F36: =+E36-D36 -> 0 | G36: =DATEDIF(D36,E36,"Y") -> 0 | H36: =DATEDIF(D36,E36,"YM") -> 0 | I36: =DATEDIF(D36,E36,"MD") -> 0
C37: 16 | F37: =+E37-D37 -> 0 | G37: =DATEDIF(D37,E37,"Y") -> 0 | H37: =DATEDIF(D37,E37,"YM") -> 0 | I37: =DATEDIF(D37,E37,"MD") -> 0
C38: 17 | F38: =+E38-D38 -> 0 | G38: =DATEDIF(D38,E38,"Y") -> 0 | H38: =DATEDIF(D38,E38,"YM") -> 0 | I38: =DATEDIF(D38,E38,"MD") -> 0
C39: 18 | F39: =+E39-D39 -> 0 | G39: =DATEDIF(D39,E39,"Y") -> 0 | H39: =DATEDIF(D39,E39,"YM") -> 0 | I39: =DATEDIF(D39,E39,"MD") -> 0
C40: SUB TOTAL | G40: =SUM(G22:G39) -> 6 | H40: =SUM(H22:H39) -> 44 | I40: =SUM(I22:I39) -> 110
G41: =+H42-H43 -> 3 | H41: =+I42-I43 -> 3
G42: =+G40+G41 -> 9 | H42: =(H40+H41)/12 -> 3.9166667 | I42: =+I40/30 -> 3.6666667
C43: AÑOS, MESES, DIAS | H43: =H42-INT(H42) -> 0.91666667 | I43: =I42-INT(I42) -> 0.66666667
C44: TOTAL | G44: AÑOS | H44: MESES | I44: DIAS
...

Sheet RESIDENTES 1
B2: OFERENTE No. | D2: =OFERENTES!A9 -> 1 | E2: =OFERENTES!B9 -> INPLAYCO S.A.S.
B3: INTEGRANTES | E3: 1 | F3: =OFERENTES!F9 -> 1 | J3: 2 | K3: =OFERENTES!H9 -> 0 | N3: 3 | P3: =OFERENTES!J9 -> 0
E4: =OFERENTES!E9 -> INPLAYCO S.A.S. | J4: =OFERENTES!G9 -> 0 | N4: =OFERENTES!I9 -> 0
B6: PERSONAL REQUISITOS HABILITANTES | N6: PERSONAL REQUISITOS PONDERABLES
C10: Residente de Interventoría Arquitecto o Ingeniero Civil. Mínimo tres (3) años de experiencia Profesional, contados a partir de la expedición de la matrícula profesional (por cada profesional) | K10: 1 | L10: GRUPO 1 | N10: CARGO | P10: RESIDENTE DE INTERVENTORIA | V10: GRUPO 1 | W10: 1
N11: NOMBRE | P11: =E13 -> MARIO HERNAN ORJUELA MALDONADO
C12: CARGO | E12: RESIDENTE DE INTERVENTORIA | K12: CUMPLE
C13: NOMBRE | E13: MARIO HERNAN ORJUELA MALDONADO | J13: 44095 | K13: 3 años profesional | L13: =F16 -> 5 | N13: 5.2. FACTOR FORMACIÓN ACADÉMICA Y PUBLICACIONES TÉCNICAS Y CIENTÍFICAS DEL EQUIPO DE TRABAJO (PUNTAJE 5)
C14: PROFESION | D14: INGENIERO CIVIL | F14: EXP. MATRICULA PROF. | H14: 34837 | I14: =(J13-H14)/360 -> 25.716667 | K14: Experiencia Profesional | L14: =I15 -> CUMPLE
C15: POSGRADO | D15: NO APLICA | H15: CPLE / NO CPLE | I15: CUMPLE | K15: Posgrado | L15: NO APLICA
C16: 5 AÑOS | F16: =+G37 -> 5 | K16: 254 unidades de vivienda intervenida | L16: =K49 -> 491.2824 | N16: DIRECTOR DE INTERVENTORIA Criterio Puntaje | U16: PUNTAJE ASIGNADO
K17: Máx. 4 proyectos | L17: =L44 -> CUMPLE
C18: EXPERIENCIA PROFESIONAL | N18: Especialización y/o maestría y/o doctorado, en gerencia de proyectos y/o dirección de proyectos y/o en áreas de ingeniería y/o arquitectura.
C19: NOMBRE | D19: =E13 -> MARIO HERNAN ORJUELA MALDONADO | J19: OBSERVACION | U19: NO APLICA
C20: DATO | D20: FECHA INICIAL | E20: FECHA FINAL | F20: DIAS TOTALES | G20: AÑOS | H20: MESES | I20: DIAS
C21: 1 | D21: 37827 | E21: 38087 | F21: =+E21-D21 -> 260 | G21: =DATEDIF(D21,E21,"Y") -> 0 | H21: =DATEDIF(D21,E21,"YM") -> 8 | I21: =DATEDIF(D21,E21,"MD") -> 16 | J21: CONSTRUCTOPO LTDA. - Folio 32 | N21: NOMBRE DEL TITULO | P21: NO APLICA | T21: CUMPLE / NO CUMPLE
C22: 2 | D22: 38193 | E22: 38229 | F22: =+E22-D22 -> 36 | G22: =DATEDIF(D22,E22,"Y") -> 0 | H22: =DATEDIF(D22,E22,"YM") -> 1 | I22: =DATEDIF(D22,E22,"MD") -> 5 | J22: CONSORCIO INTERVENTORES BARRIOS UNIDOS - Folio 32A
C23: 3 | D23: 38231 | E23: 38313 | F23: =+E23-D23 -> 82 | G23: =DATEDIF(D23,E23,"Y") -> 0 | H23: =DATEDIF(D23,E23,"YM") -> 2 | I23: =DATEDIF(D23,E23,"MD") -> 21 | J23: ONG COLOMBIA PARA TODOS - Folio 33 | N23: Las publicaciones técnicas y científicas deben estar relacionadas con el objeto a contratar y/o el cargo a desempeñar y/o con temas relacionas de la ingeniería civil y/o arquitectura.
C24: 4 | D24: 38545 | E24: 38738 | F24: =+E24-D24 -> 193 | G24: =DATEDIF(D24,E24,"Y") -> 0 | H24: =DATEDIF(D24,E24,"YM") -> 6 | I24: =DATEDIF(D24,E24,"MD") -> 9 | J24: CONSORCIO SOLANO 21 - Folio 33A
C25: 5 | D25: 40739 | E25: 41073 | F25: =+E25-D25 -> 334 | G25: =DATEDIF(D25,E25,"Y") -> 0 | H25: =DATEDIF(D25,E25,"YM") -> 10 | I25: =DATEDIF(D25,E25,"MD") -> 29 | J25: INPLAYCO LTDA. - Folio 34
C26: 6 | D26: 41443 | E26: 41805 | F26: =+E26-D26 -> 362 | G26: =DATEDIF(D26,E26,"Y") -> 0 | H26: =DATEDIF(D26,E26,"YM") -> 11 | I26: =DATEDIF(D26,E26,"MD") -> 28 | J26: CONSORCIO OBRAS SED 2013 - Folio 36
C27: 7 | D27: 41879 | E27: 42180 | F27: =+E27-D27 -> 301 | G27: =DATEDIF(D27,E27,"Y") -> 0 | H27: =DATEDIF(D27,E27,"YM") -> 9 | I27: =DATEDIF(D27,E27,"MD") -> 28 | J27: CLEMENTE ALFREDO BUITRAGO - Folio 36A
C28: 8 | D28: 42382 | E28: 42628 | F28: =+E28-D28 -> 246 | G28: =DATEDIF(D28,E28,"Y") -> 0 | H28: =DATEDIF(D28,E28,"YM") -> 8 | I28: =DATEDIF(D28,E28,"MD") -> 2 | J28: HYC PROYECTOS - Folio 37
C29: 9 | D29: 43081 | E29: 43266 | F29: =+E29-D29 -> 185 | G29: =DATEDIF(D29,E29,"Y") -> 0 | H29: =DATEDIF(D29,E29,"YM") -> 6 | I29: =DATEDIF(D29,E29,"MD") -> 3 | J29: INPLAYCO SAS - Folio 37A
C30: 10 | F30: =+E30-D30 -> 0 | G30: =DATEDIF(D30,E30,"Y") -> 0 | H30: =DATEDIF(D30,E30,"YM") -> 0 | I30: =DATEDIF(D30,E30,"MD") -> 0
C31: 11 | F31: =+E31-D31 -> 0 | G31: =DATEDIF(D31,E31,"Y") -> 0 | H31: =DATEDIF(D31,E31,"YM") -> 0 | I31: =DATEDIF(D31,E31,"MD") -> 0 | N31: NOMBRE DE LA PUBLICACION | P31: NO APLICA | T31: CUMPLE / NO CUMPLE
C32: SUB TOTAL | G32: =SUM(G21:G31) -> 0 | H32: =SUM(H21:H31) -> 61 | I32: =SUM(I21:I31) -> 141
G33: =+H34-H35 -> 5 | H33: =+I34-I35 -> 4
G34: =+G32+G33 -> 5 | H34: =(H32+H33)/12 -> 5.4166667 | I34: =+I32/30 -> 4.7
C35: AÑOS, MESES, DIAS | H35: =H34-INT(H34) -> 0.41666667 | I35: =I34-INT(I34) -> 0.7
C36: TOTAL | G36: AÑOS | H36: MESES | I36: DIAS
G37: =+G34 -> 5 | H37: =(H35)*12 -> 5 | I37: =+I35*30 -> 21 | N37: 7.2.3 EXPERIENCIA ADICIONAL DEL EQUIPO DE TRABAJO PARA CADA EQUIPO DE TRABAJO (ANEXO No. 12) (máximo 30 puntos)
C39: NOTAS GENERALES PARA LA ACREDITACIÓN DE LOS REQUISITOS TÉCNICOS HABILITANTES NOTA 2: Con el fin de tener en cuenta las certificaciones de los profesionales para el cumplimiento de la experiencia relaciona, estos debieron haber prestado sus servicios por lo menos en el 75% de duración en tiempo del contrato objeto de la certificación, de lo contrario, se realizará una regla de tres simple teniendo en cuenta el plazo final del contrato, el tiempo de labor del profesional y el número de viviendas intervenidas, así como, el plazo final del contrato, el tiempo de labor del profesional y el valor final del contrato. | N39: *Un contrato adicional a la experiencia habilitante, como Residente de Interventoría en proyectos de: Interventoría al mejoramiento o mantenimiento o remodelación o reparación o construcción o ampliación de edificaciones de uso residencial o construcción de conexiones intradomiciliarias cuyo valor (del proyecto al que estuvo vinculado) sea igual o superior al 20% y hasta el 40% del valor del presupuesto oficial. 2 PUNTOS *Un contrato adicional a la experiencia habilitante, como Residente de Interventoría en proyectos de: Interventoría al mejoramiento o mantenimiento o remodelación o reparación o construcción o ampliación de edificaciones de uso residencial o construcción de conexiones intradomiciliarias cuyo valor (del proyecto al que estuvo vinculado) sea superior al 40% y hasta el 60% del valor del presupuesto oficial. 3 PUNTOS *Un contrato adicional a la experiencia habilitante, como Residente de Interventoría en proyectos de: Interventoría al mejoramiento o mantenimiento o remodelación o reparación o construcción o ampliación de edificaciones de uso residencial o construcción de conexiones intradomiciliarias cuyo valor (del proyecto al que estuvo vinculado) sea superior al 60% del valor del presupuesto oficial. 4 PUNTOS.
C41: EXPERIENCIA RELACIONADA: Aportar en Máximo cinco (5) certificaciones de contratos como Residente de interventoría a Obras de: mejoramiento o mantenimiento o remodelación o reparación o construcción o ampliación de edificaciones de uso residencial o en proyectos de construcción de conexiones intradomiciliarias de uso residencial, cuya sumatoria sea igual o superior al 100% del presupuesto oficial para cada grupo y en sumatoria deberá ser igual o superior a 254 unidades de vivienda intervenidas. (Por lo menos uno deberá ser de interventoría a mejoramiento de vivienda). (por cada profesional) (509,11 SMMLV o $ 446896238,28) GRUPO 1
C42: No. | D42: PROYECTO / CONTRATO | F42: AÑO | G42: VALOR CONTRATO | H42: valor del SMMLV | I42: Valor contrato en SMMLV | J42: Valor contrato en pesos vigencia 2020 | K42: unidades de vivienda intervenidas | L42: CUMPLE / NO CUMPLE | N42: No. | O42: PROYECTO / CONTRATO | Q42: AÑO | R42: VALOR CONTRATO | S42: valor del SMMLV | T42: Valor contrato en SMMLV | U42: Valor contrato en pesos vigencia 2020 | V42: Porcentaje demostrado | W42: PUNTAJE ASIGNADO
C43: 0 | D43: Introducir numero o datos del contrato | G43: Introducir valor del contrato | H43: Seleccionar de la lista | I43: =+I49-509.11 -> 781.34895 | J43: =+J49-446896238.28 -> 6.858725e+08 | K43: =K49-254 -> 237.2824 | N43: 0 | O43: Introducir numero o datos del contrato | R43: Introducir valor del contrato | T43: =T46 -> 1484.4299 | U43: =U46 -> 1.2292802e+09
C44: 1 | D44: CONTRATO No. 142 DE 2005 RESIDENTE DE INTERVENTORIA PARA EJECUTAR LA INTERVENTORIA TECNICA, ADMINISTRATIVA Y FINANCIERA PARA EL MANTENMIENTO DE DOS EDIFICIOS DE VIVIENDA, PARA UN TOTAL DE 30 APARTAMENTOS EN EL MUNICIPIO DE SOLANO CAQUETA | F44: 2005 | G44: 78125000 | H44: 381500 | I44: =G44/H44 -> 204.78375 | J44: =I44*877803 -> 1.7975979e+08 | K44: 30 | L44: CUMPLE | N44: 1 | O44: CONTRATO 495 DE 2018 RESIDENTE DE OBRA INTERVENTORIA TECNICA, ADMINISTRATIVA, SOCIAL Y PRESUPUESTAL DE LOS PROYECTOS DE MEJORAMIENTO E VIVIENDA EN LA MODALIDAD DE HABITABILIDAD, GRUPO 2 | Q44: 2018 | R44: 1159699000 | S44: 781242 | T44: =R44/S44 -> 1484.4299 | U44: =T44*828116 -> 1.2292802e+09 | V44: =U46/894321429 -> 1.3745395 | W44: 4
C45: 2 | D45: CONTRATO No. 058-2011 RESIDENTE DE INTERVENTORIA PARA EJECUTAR LA INTERVENTORIA PARA LA CONSTRUCCION DE EDIFICIOS DE VIVIENDA FISCAL PARA OFICIALES Y SUBOFICIALES DE 4 PISOS CON 8 APARTAMENTOS Y ZONAS EXTERIORES CADA UNO, UBICADOS 2 EN BARRANQUILLA, 1 EN FACATATIVA | F45: 2011 | G45: 2.425841e+08 | H45: 535600 | I45: =G45/H45 -> 452.92027 | J45: =I45*877803 -> 3.9757477e+08 | K45: =32*3 -> 96
C46: 3 | D46: CONTRATO No. 599-2017 RESIDENTE DE INTERVENTORIA DE LOS PROYECTOS DE MEJORAMIENTO DE VIVIENDA EN LA MODALIDAD DE HABITABILIDAD | F46: 2017 | G46: =912420000*51.16% -> 4.6679407e+08 | H46: 737717 | I46: =G46/H46 -> 632.75493 | J46: =I46*877803 -> 5.5543418e+08 | K46: =714*51.16% -> 365.2824 | N46: OBSERVACION: | T46: =SUM(T44:T45) -> 1484.4299 | U46: =SUM(U44:U45) -> 1.2292802e+09
C47: 4 | N47: 43090 | O47: 43266 | P47: =O47-N47 -> 176
...

Sheet DESPLEGABLES
A2: 81101500
A3: 95121900
A4: 81151600 | C4: 81101500, 95121900, 81151600, 93142000, 801015, 801016
A5: 93142000
A6: 801015
A7: NO PRESENTA
C8: PRESUPUESTO OFICIAL | E8: % | F8: 737717
E9: 1 | F9: 0.3 | G9: 0.5 | H9: 0.2 | I9: 0.15
E10: =E11/F8 -> 6154.7747 | F10: =+E10*F9 -> 1846.4324 | G10: =+E10*G9 -> 3077.3873 | H10: =+E10*H9 -> 1230.9549 | I10: =+E10*I9 -> 923.2162
E11: 4540481912 | F11: =+E11*F9 -> 1.3621446e+09 | G11: =+E11*G9 -> 2270240956 | H11: =+E11*H9 -> 9.0809638e+08 | I11: =+E11*I9 -> 6.8107229e+08
B14: 1997 | C14: 172005
B15: 1999 | C15: 236460
B16: 2001 | C16: 286000
B17: 2002 | C17: 309000
B18: 2003 | C18: 332000 | F18: ARQUITECTO
B19: 2004 | C19: 358000 | D19: =+#REF!/#REF! -> #REF! | E19: 0 | F19: ING CIVIL | H19: 81101500
B20: 2005 | C20: 381500 | D20: =+#REF!/#REF! -> #REF! | E20: 0 | F20: OTRO | H20: 95121900
B21: 2006 | C21: 408000 | D21: =+#REF!/#REF! -> #REF! | E21: 0 | F21: HABILITADO | H21: 81151600
B22: 2007 | C22: 433700 | D22: =+#REF!/#REF! -> #REF! | E22: 0 | F22: NO HABILITADO | H22: 93142000
B23: 2008 | C23: 461500 | D23: =+#REF!/#REF! -> #REF! | E23: 0 | H23: 801015
B24: 2009 | C24: 496900 | D24: =+#REF!/#REF! -> #REF! | E24: 0 | H24: 801016
B25: 2010 | C25: 515000 | D25: =+#REF!/#REF! -> #REF! | E25: 0 | H25: NO APLICA
B26: 2011 | C26: 535600 | D26: =+#REF!/#REF! -> #REF! | E26: 0
B27: 2012 | C27: 566700 | D27: =+#REF!/#REF! -> #REF! | E27: 0 | I27: 300
B28: 2013 | C28: 589500 | D28: =+#REF!/#REF! -> #REF! | E28: 0 | F28: FECHA CIERRE | H28: 1 | I28: 200
B29: 2014 | C29: 616000 | F29: 43129 | H29: 2 | I29: 100
B30: 2015 | C30: 644350 | H30: 3
B31: 2016 | C31: 689455
B32: 2017 | C32: 737717 | I32: 1
B33: 2018 | C33: 781242
C34: 1 | I34: 2
F35: ARQUITECTO | I35: 3
D36: =+#REF!/#REF! -> #REF! | E36: 0 | I36: 4
D37: =+#REF!/#REF! -> #REF! | E37: 0 | H37: 0 | I37: 5
D38: =+#REF!/#REF! -> #REF! | E38: 0 | F38: HABILITADO | H38: 25
D39: =+#REF!/#REF! -> #REF! | E39: 0 | F39: NO HABILITADO | H39: 50
D40: =+#REF!/#REF! -> #REF! | E40: 0 | H40: 75
H41: 0
H42: 50 | I42: 20
D43: 4 | F43: CUMPLE | G43: NO CUMPLE | H43: 100 | I43: 50
