Workbook
Name salarios: DESPLEGABLES!$C$17:$C$30
Name SMMLV: DESPLEGABLES!$C$22:$C$30
Name UNSPSC: DESPLEGABLES!$A$2:$A$7

Sheet OFERENTES
A1: ALCALDIA MAYOR DE BOGOTA D.C. SECRETARIA DISTRITAL DEL HABITAT
A3: RESUMEN PROPONENTES
A4: REALIZAR LA INTERVENTORÍA TÉCNICA, JURÍDICA, SOCIAL, ADMINISTRATIVA Y FINANCIERA PARA LA EJECUCIÓN DE LAS OBRAS DE MEJORAMIENTO DE VIVIENDA EN LA MODALIDAD DE HABITABILIDAD EN LOS TERRITORIOS PRIORIZADOS POR LA SECRETARÍA DISTRITAL DEL HÁBITAT
A5: SDHT-CM-002-2020
A8: No. | B8: NOMBRE DEL PROPONENTE | C8: REPRESENTANTE LEGAL | D8: INTEGRANTES # | E8: INTEGRANTE 1 | F8: % Int. 1 | G8: INTEGRANTE 2 | H8: % Int. 2 | I8: INTEGRANTE 3 | J8: % Int. 3 | K8: INTEGRANTE 4 | L8: % Int. 4 | M8: INTEGRANTE 5 | N8: % Int. 5
A9: 1 | B9: INPLAYCO S.A.S. | C9: GONZALO LIEVANO HOYOS | D9: 1 | E9: INPLAYCO S.A.S. | F9: 1
A10: 2 | B10: CONSTRUMARCA SAS | C10: PEDRO MAURICIO BELTRAN DULCEY | D10: 1 | E10: CONSTRUMARCA SAS | F10: 1
A11: 3
A12: 4
A13: 5
A14: 6
A15: 7
A16: 8
A17: 9
A18: 10

Sheet EVALUACION TECNICA 1
A1: ALCALDIA MAYOR DE BOGOTA D.C. SECRETARIA DISTRITAL DEL HABITAT
A4: PROCESO | B4: =OFERENTES!A5 -> SDHT-CM-002-2020
A5: OBJETO: | B5: =OFERENTES!A4 -> REALIZAR LA INTERVENTORÍA TÉCNICA, JURÍDICA, SOCIAL, ADMINISTRATIVA Y FINANCIERA PARA LA EJECUCIÓN DE LAS OBRAS DE MEJORAMIENTO DE VIVIENDA EN LA MODALIDAD DE HABITABILIDAD EN LOS TERRITORIOS PRIORIZADOS POR LA SECRETARÍA DISTRITAL DEL HÁBITAT
A6: PRESUPUESTO OFICIAL | B6: 894321429
A7: FECHA DE CIERRE | B7: 21 DE SEPTIEMBRE DE 2020
A9: RESUMEN VERIFICACIÓN TÉCNICA | E9: PROPONENTE 1
A10: PARÁMETROS | B10: PARÁMETROS SOLICITADOS | E10: =OFERENTES!B9 -> INPLAYCO S.A.S.
E11: CALIFICACIÓN | H11: OBSERVACIÓN
A12: 4.2.1. EXPERIENCIA DEL PROPONENTE. (ANEXO No. 7) | B12: La experiencia deberá ser acreditada con mínimo DOS (2) Y MÁXIMO CUATRO (4) CERTIFICADOS de contratos que se encuentren terminados y liquidados, debidamente ejecutados, registrados, verificados y certificados por la respectiva Cámara de Comercio en el RUP, cuyo objeto sea igual o similar a la INTERVENTORÍA TÉCNICA PARA LA CONSTRUCCIÓN Y/O MEJORAMIENTO Y/O MANTENIMIENTO Y/O REMODELACIÓN Y/O REPARACIÓN Y/O AMPLIACIÓN DE EDIFICACIONES DE USO RESIDENCIAL O CONSTRUCCIÓN DE CONEXIONES INTRADOMICILIARIAS DE USO RESIDENCIAL, no obstante, por lo menos una (1) de las certificaciones aportadas deberá ser de INTERVENTORÍA A MEJORAMIENTO DE VIVIENDA. Los proponentes deberán diligenciar y presentar el ANEXO No. 7 “EXPERIENCIA HABILITANTE” Adicional a lo anterior deberán cumplir con las siguientes condiciones: La sumatoria de los contratos aportados deberá ser igual o superior al 100% del valor del Presupuesto Oficial expresado en SMMLV, información que será verificada en el RUP. Dentro de las certificaciones aportadas, en sumatoria se deberá acreditar haber realizado la interventoría a la ejecución de 507 mejoramientos de vivienda. Los contratos aportados deberán contar en sumatoria como mínimo con tres (3) de los siguientes códigos identificados en el Clasificador de Bienes y Servicios UNSPSC, hasta el tercer nivel (Artículo 2.2.1.1.1.5.3 Decreto 1082 de 2015) que le permitan acreditar experiencia con el objeto de cada uno de los contratos, información que será verificada en el RUP. | D12: CUMPLE / NO CUMPLE | E12: CUMPLE | H12: EVALUACION DETALLADA EN CUADO ANEXO
B14: En caso de proponentes plurales, se debe tener en cuenta las siguientes condiciones de asociación; Si la experiencia es acreditada por uno solo de los integrantes del proponente plural, este debe tener una participación mínima del 51%. Si la experiencia es acreditad por más de uno de los integrantes del proponente plural, aquel que acredite el contrato de mayor valor en SMMLV debe tener una participación de por lo menos el 40%. No se admiten integrantes del proponente plural con menos del 10% de participación. El proponente se ajustará a una de las siguientes exigencias para la acreditación según el carácter del contrato: i) Como contratista del estado: Se acreditará mediante la presentación de certificaciones de Contratos de Obra expedidas por la Entidad pública contratante de los contratos respectivos y/o Actas de Recibo Final debidamente firmadas en donde se puedan evidenciar las actividades ejecutadas. ii) Como constructor independiente: En el caso de los contratos celebrados con particulares se debe anexar certificación de interventoría expedida por el titular de la licencia y anexar copia de la Licencia Urbanística o de Construcción expedida por curaduría urbana o entidad competente, en el que se aprecie que la persona quien certifica actuó como responsable “Urbanizador o Constructor”, de igual manera se deberá acreditar mediante algún documento legal firmado que se ejecutaron las actividades solicitadas en el numeral 8.2.1. del estudio previo. En caso de diferencia entre la información relacionada en el Anexo correspondiente y las certificaciones, actas de obra, licencias de urbanismo y certificados de permiso de ocupación, prevalecerá las informaciones contenidas en estas últimas.
A15: REQUISITOS DE FORMACIÓN ACADÉMICA Y EXPERIENCIA DEL PERSONAL PROFESIONAL | B15: DIRECTOR DE INTERVENTORÍA 1: EDNA SOLEY RICO MAYORGA - Grupo 1 | D15: CUMPLE / NO CUMPLE | E15: CUMPLE | H15: EL PROPONENTE SUBSANA EN DEBIDA FORMA
B16: DIRECTOR DE INTERVENTORÍA 2: EDGAR EDUARDO ROA CASTILLO - Grupo 2 | E16: CUMPLE | H16: EL PROPONENTE SUBSANA EN DEBIDA FORMA
B17: RESIDENTE DE INTERVENTORÍA 1: MARIO HERNAN ORJUELA MALDONADO - Grupo 1 | E17: CUMPLE | H17: EL PROPONENTE SUBSANA EN DEBIDA FORMA
B18: RESIDENTE DE INTERVENTORÍA 2: EDWIN ALBERTO BAEZ SEPULVEDA - Grupo 1 | E18: CUMPLE | H18: EL PROPONENTE SUBSANA EN DEBIDA FORMA
B19: RESIDENTE DE INTERVENTORÍA 3: ASTRID GONZALEZ GUTIERREZ - Grupo 1 | E19: CUMPLE | H19: EL PROPONENTE SUBSANA EN DEBIDA FORMA
B20: RESIDENTE DE INTERVENTORÍA 1: WILLIAM FERNANDO GARZON RODRIGUEZ - Grupo 2 | E20: CUMPLE | H20: EL PROPONENTE SUBSANA EN DEBIDA FORMA
B21: RESIDENTE DE INTERVENTORÍA 2:JULIETH FERNANDA CASTRO SANDOVAL - Grupo 2 | E21: CUMPLE | H21: EL PROPONENTE SUBSANA EN DEBIDA FORMA
B22: RESIDENTE DE INTERVENTORÍA 3: LEONARDO SOLANO SOLANO - Grupo 2 | E22: CUMPLE | H22: EL PROPONENTE SUBSANA EN DEBIDA FORMA
A23: TOTAL VERIFICACIÓN TÉCNICA | D23: HÁBIL / NO HÁBIL | E23: HABIL
A24: COMITÉ EVALUADOR: JUAN CARLOS ARBELÁEZ MURILLO- Subdirector de Barrios STELLA ACEVEDO BELTRAN. Contratista Subdirección de Barrios. EDWIN ARIEL ULLOA CALVO. Contratista Subdirección de Barrios. JULIETTE ARDILA SANCHEZ. Contratista Subdirección de Barrios. DIANA CAROLINA BOJACA ALARCON. Contratista Subdirección de Barrios. | E24: OBSERVACIONES AL PROPONENTE: | G24: EL PROPONENTE SUBSANA EN DEBIDA FORMA

Sheet EXPERIENCIA OFERENTE 1 
C3: 4.2.1. EXPERIENCIA DEL PROPONENTE. (ANEXO No. 7) La experiencia deberá ser acreditada con mínimo DOS (2) Y MÁXIMO CUATRO (4) CERTIFICADOS de contratos que se encuentren terminados y liquidados, debidamente ejecutados, registrados, verificados y certificados por la respectiva Cámara de Comercio en el RUP, cuyo objeto sea igual o similar a la INTERVENTORÍA TÉCNICA PARA LA CONSTRUCCIÓN Y/O MEJORAMIENTO Y/O MANTENIMIENTO Y/O REMODELACIÓN Y/O REPARACIÓN Y/O AMPLIACIÓN DE EDIFICACIONES DE USO RESIDENCIAL O CONSTRUCCIÓN DE CONEXIONES INTRADOMICILIARIAS DE USO RESIDENCIAL, no obstante, por lo menos una (1) de las certificaciones aportadas deberá ser de INTERVENTORÍA A MEJORAMIENTO DE VIVIENDA. Los proponentes deberán diligenciar y presentar el ANEXO No. 7 “EXPERIENCIA HABILITANTE” Adicional a lo anterior deberán cumplir con las siguientes condiciones: La sumatoria de los contratos aportados deberá ser igual o superior al 100% del valor del Presupuesto Oficial expresado en SMMLV, información que será verificada en el RUP. Dentro de las certificaciones aportadas, en sumatoria se deberá acreditar haber realizado la interventoría a la ejecución de 507 mejoramientos de vivienda. Los contratos aportados deberán contar en sumatoria como mínimo con tres (3) de los siguientes códigos identificados en el Clasificador de Bienes y Servicios UNSPSC, hasta el tercer nivel (Artículo 2.2.1.1.1.5.3 Decreto 1082 de 2015) que le permitan acreditar experiencia con el objeto de cada uno de los contratos, información que será verificada en el RUP.
Y6: ='EVALUACION TECNICA 1'!B6 -> 894321429
H7: En caso de proponentes plurales, se debe tener en cuenta las siguientes condiciones de asociación; Si la experiencia es acreditada por uno solo de los integrantes del proponente plural, este debe tener una participación mínima del 51%. Si la experiencia es acreditad por más de uno de los integrantes del proponente plural, aquel que acredite el contrato de mayor valor en SMMLV debe tener una participación de por lo menos el 40%. No se admiten integrantes del proponente plural con menos del 10% de participación. El proponente se ajustará a una de las siguientes exigencias para la acreditación según el carácter del contrato: i) Como contratista del estado: Se acreditará mediante la presentación de certificaciones de Contratos de Obra expedidas por la Entidad pública contratante de los contratos respectivos y/o Actas de Recibo Final debidamente firmadas en donde se puedan evidenciar las actividades ejecutadas. ii) Como constructor independiente: En el caso de los contratos celebrados con particulares se debe anexar certificación de interventoría expedida por el titular de la licencia y anexar copia de la Licencia Urbanística o de Construcción expedida por curaduría urbana o entidad competente, en el que se aprecie que la persona quien certifica actuó como responsable “Urbanizador o Constructor”, de igual manera se deberá acreditar mediante algún documento legal firmado que se ejecutaron las actividades solicitadas en el numeral 8.2.1. del estudio previo. En caso de diferencia entre la información relacionada en el Anexo correspondiente y las certificaciones, actas de obra, licencias de urbanismo y certificados de permiso de ocupación, prevalecerá las informaciones contenidas en estas últimas. | Y7: =Y6/877803 -> 1018.8179
C8: Si el proponente es un Consorcio o una Unión Temporal podrá acreditar la experiencia mínima solicitada por la entidad de la siguiente forma: Nota 1: Cuando la experiencia acreditada corresponda a contratos realizados en consorcio o unión temporal, la experiencia en SMMLV será tomada de acuerdo con el porcentaje que le correspondió en dicha figura asociativa. Los proponentes deberán adjuntar copia del acuerdo de consorcio o de unión temporal y/o la certificación contractual expedida por la entidad contratante, siempre y cuando en la misma se indique de manera clara e inequívoca la participación que tuvo el participante en la ejecución del contrato. Nota 2: Solo se validarán los contratos reportados en el RUP que hayan sido verificados por la Cámara de Comercio respectiva y su inscripción se encuentre en firme. Nota 3: La SDHT, no tendrá en cuenta copias de los contratos como certificación. Nota 4: No se aceptan certificados de contratos en ejecución. Nota 5: No se aceptarán subcontratos ni contratos por administración delegada. Nota 6: En caso de que las certificaciones aportadas acrediten diferentes tipos de edificaciones, solo se tendrá en cuenta el valor de las relacionadas con el uso residencial. Nota 7: En caso de que el proponente o alguno de los integrantes del proponente plural acredite la experiencia como integrante de una figura asociativa, únicamente se tendrá en cuenta el valor reportado en el RUP afectado por el porcentaje de participación que tuvo dentro de esta.
C10: PROPONENTE 1
C12: OFERENTE No. | E12: =+[2]OFERENTES!A2 -> 1 | F12: =OFERENTES!B9 -> INPLAYCO S.A.S.
C13: INTEGRANTES | F13: 1 | G13: =OFERENTES!F9 -> 1 | H13: 2 | I13: =OFERENTES!H9 -> 0 | L13: 3 | M13: =OFERENTES!J9 -> 0
F14: =OFERENTES!E9 -> INPLAYCO S.A.S. | H14: =OFERENTES!G9 -> 0 | L14: =OFERENTES!I9 -> 0
C16: 4.2.1. EXPERIENCIA DEL PROPONENTE. (ANEXO No. 7)
B18: CONSECUTIVO RUP | C18: No | D18: PROPIETARIO O ENTIDAD CONTRATANTE | E18: APORTADA POR | F18: % en Cto | G18: Valor contrato expresadeo en SMMLV (RUP) | H18: OBJETO | L18: Fecha de Inicio | M18: Fecha de Terminación | N18: La sumatoria de los contratos aportados deberá ser igual o superior al 100% del valor del Presupuesto Oficial expresado en SMMLV, información que será verificada en el RUP. (1.018,82 SMMLV) | O18: Dentro de las certificaciones aportadas, en sumatoria se deberá acreditar haber realizado la interventoría a la ejecución de 507 mejoramientos de vivienda. | P18: Los contratos aportados deberán contar en sumatoria como mínimo con tres (3) de los siguientes códigos identificados en el Clasificador de Bienes y Servicios UNSPSC, hasta el tercer nivel (Artículo 2.2.1.1.1.5.3 Decreto 1082 de 2015) que le permitan acreditar experiencia con el objeto de cada uno de los contratos, información que será verificada en el RUP. | Q18: En caso de proponentes plurales, se debe tener en cuenta las siguientes condiciones de asociación; Si la experiencia es acreditada por uno solo de los integrantes del proponente plural, este debe tener una participación mínima del 51%. Si la experiencia es acreditad por más de uno de los integrantes del proponente plural, aquel que acredite el contrato de mayor valor en SMMLV debe tener una participación de por lo menos el 40%. No se admiten integrantes del proponente plural con menos del 10% de participación. | R18: El proponente se ajustará a una de las siguientes exigencias para la acreditación según el carácter del contrato: | T18: OBSERVACIONES
R19: i) Como contratista del estado: | S19: ii) Como constructor independiente:
N20: =+N25-1018.82 -> 1969.47 | O20: =+O25-507 -> 261 | P20: CUMPLE / NO CUMPLE | Q20: CUMPLE / NO CUMPLE | R20: CUMPLE / NO CUMPLE | S20: CUMPLE / NO CUMPLE
B21: 117 | C21: 1 | D21: INSTITUTO DE CASAS FISCALES DEL EJÉRCITO CONTRATO No. 092-ICFE- 2012 | E21: INPLAYCO S.A.S. | F21: 1 | G21: 943.69 | H21: INTERVENTORÍA CON FUNCIONES DE CONTROL TÉCNICO, ADMINISTRATIVO, FINANCIERO, CONTABLE Y AMBIENTAL PARA LA CONSTRUCCION DE DOS TORRES DE APARTAMENTOS PARA SUBOFICIALES EN TOLEMAIDA, DE CINCO PISOS CADA UNA CON CUATRO APARTAMENTOS POR PISO PARA UN TOTAL DE 40 APARTAMENTOS, INCLUYE OBRAS COMPLEMENTARIAS. ADICIONAL LA CONSTRUCCION DE UNA TORRES DE APARTAMENTOS PARA OFICIALES EN TOLEMAIDA DE CINCO PISOS CADA UNA CON CUATRO APARTAMENTOS POR PISO PARA UN TOTAL DE 20 APARTAMENTOS. | L21: 41208 | M21: 41627 | N21: =G21*F21 -> 943.69 | O21: 0 | P21: 771018 801015 801016 | Q21: NO APLICA | R21: CUMPLE | S21: NO APLICA
B22: 154 | C22: 2 | D22: INSTITUTO DE CASAS FISCALES DEL EJÉRCITO CONTRATO No. 061- ICFE- 2014 | E22: INPLAYCO S.A.S. | F22: 1 | G22: 1064.32 | H22: INTERVENTORÍA CON FUNCIONES DE CONTROL TÉCNICO, ADMINISTRATIVO, FINANCIERO, CONTABLE Y AMBIENTAL PARA LA CONSTRUCCION DE DOS EDIFICIO DE CINCO PISOS DE VIVIENDA FISCAL PARA OFICIALES Y DOS DE CINCO PISOS PARA SUBOFICIALES UBIDADOS EN LAS SECCIONALES DE VILLAVICENCIO-META. Y FLORENCIA-CAQUETÁ, TOTAL 80 APARTAMENTOS. | L22: 41795 | M22: 42190 | N22: =G22*F22 -> 1064.32 | R22: CUMPLE | S22: NO APLICA
B23: 183 | C23: 3 | D23: SECRETARÍA DEL HÁBITAT CONTRATO No. 495- 2018 | E23: INPLAYCO S.A.S. | F23: 0.7 | G23: 1400.4 | H23: INTERVENTORÍA TÉCNICA, ADMINISTRATIVA, SOCIAL Y PRESUPUESTAL DE LOS PROYECTOS DE MEJORAMIENTO DE VIVIENDA EN LA MODALIDAD DE HABITABILIDAD- GRUPO 2 | L23: 43272 | M23: 43469 | N23: =G23*F23 -> 980.28 | O23: 768 | R23: CUMPLE | S23: NO APLICA
C24: 4 | N24: =G24 -> 0
N25: =SUM(N21:N24) -> 2988.29 | O25: =SUM(O21:O24) -> 768
C28: 5.1.1. EXPERIENCIA ADICIONAL DEL PROPONENTE (ANEXO No. 10) (máximo 49 puntos)
C29: La SDHT a partir de la experiencia adicional a la habilitante requerida, debe asignar máximo CUARENTA Y NUEVE (49) puntos y se evalúa teniendo en cuenta los siguientes factores: Nota 1: El proponente deberá indicar claramente en su propuesta cuáles son las certificaciones que pretende que sean tenidas en cuenta para acreditar su experiencia adicional, indicándolo en el formato No. 10 “EXPERIENCIA ADICIONAL DEL PROPONENTE” y adjuntándolo como documento independiente en la plataforma del Secop II; si el proponente no adjunta o no relaciona esta información en el formato indicado, obtendrá cero (0) puntos en este criterio; igualmente, no podrá ser modificada la información relacionada en dicho formato ni reemplazar las certificaciones ya mencionadas en este por otras que se hayan adjuntado en la propuesta. Nota 2: Los contratos aportados para demostrar la experiencia adicional del proponente, podrán ser los mismos para acreditar el factor 1 EXPERIENCIA EN VALOR ACREDITADO EN MÁXIMO DOS (2) CONTRATOS DE INTERVENTORÍA A OBRAS DE MEJORAMIENTO DE VIVIENDA. y el factor 2 EXPERIENCIA POR NÚMERO DE UNIDADES DE VIVIENDA INTERVENIDAS EN MÁXIMO DOS (2) CONTRATOS DE INTERVENTORÍA A MEJORAMIENTO DE VIVIENDA. NOTA 3: Las certificaciones y/o actas de liquidación y/o actas de recibo final, presentadas por los proponentes para acreditar la experiencia adicional deberán ser expedidas por la entidad contratante, donde se especifique lo siguiente: a) Nombre del contratante. b) Nombre del contratista. c) Objeto del contrato. d) Fecha de inicio y fecha de terminación del contrato. e) Valor del contrato f) Valor ejecutado g) Cumplimiento total de las obligaciones contractuales h) Nombre y firma de quien emite la certificación Nota 4: Cuando la experiencia acreditada corresponda a contratos realizados en consorcio o unión temporal, la experiencia en valor y en cantidades será tomada de acuerdo con el porcentaje que le correspondió en dicha figura asociativa. Nota 5: Solo se validarán los contratos reportados en el RUP que hayan sido verificados por la Cámara de Comercio respectiva y su inscripción se encuentre en firme.
C31: Factor 1: EXPERIENCIA EN VALOR ACREDITADO EN MÁXIMO DOS (2) CONTRATOS DE INTERVENTORÍA A OBRAS DE MEJORAMIENTO DE VIVIENDA. (PUNTAJE MÁXIMO VEINTICINCO (25) PUNTOS).
C32: Esta experiencia corresponde a la suma del valor ejecutado y acreditado de cada contrato (máximo 2) expresado en SMMLV, los cuales serán verificados en el RUP. La experiencia se cumple adjuntando certificado y/o acta de recibo final, y/o acta de liquidación, de máximo dos (2) contratos en la que conste que el proponente o alguno de sus integrantes, participó en la ejecución del contrato a título individual o como integrante de consorcio o unión temporal, siendo en este último caso, el valor afectado por su porcentaje de participación.
C33: No | D33: PROPIETARIO O ENTIDAD CONTRATANTE | E33: APORTADA POR | F33: % en Cto | G33: Valor contrato expresadeo en SMMLV (RUP) | H33: OBJETO | L33: Fecha de Inicio | M33: Fecha de Terminación | N33: Valor Aplicable | O33: VALOR ACREDITADO DE LOS CONTRATOS | Q33: PUNTAJE A OTORGAR | R33: OBSERVACIONES
O34: =O37 -> 1167.9
B35: 182 | C35: 1 | D35: SECRETARIA DISTRITAL DEL HABITAT CONTRATO No. 599 DE 2017 | E35: inplayco sas | F35: 1 | G35: 1167.9 | H35: INTERVENTORÍA TÉCNICA, ADMINISTRATIVA, SOCIAL Y PRESUPUESTAL DE LOS PROYECTOS DE MEJORAMIENTO DE VIVIENDA EN LA MODALIDAD DE HABITABILIDAD. | L35: 43090 | M35: 43434 | N35: =G35 -> 1167.9 | O35: =N35 -> 1167.9 | Q35: 25
C36: 2 | N36: =G36 -> 0 | O36: =N36 -> 0
O37: =SUM(O35:P36) -> 1167.9
C41: Factor 2: EXPERIENCIA POR NÚMERO DE UNIDADES DE VIVIENDA INTERVENIDAS EN MÁXIMO DOS (2) CONTRATOS DE INTERVENTORÍA A MEJORAMIENTO DE VIVIENDA. (PUNTAJE MÁXIMO DE VEINTICUATRO (24) PUNTOS).
C42: Esta experiencia corresponde a la suma de los mejoramientos ejecutados y acreditados de cada contrato (máximo 2), los cuales serán verificados en el RUP. La experiencia se cumple adjuntando certificado y/o acta de recibo final, y/o acta de liquidación, de máximo dos (2) contratos en la que conste que el proponente o alguno de sus integrantes, participó en la ejecución del contrato a título individual o como integrante de consorcio o unión temporal, siendo en este último caso, el número de mejoramientos afectado por su porcentaje de participación.
C43: No | D43: PROPIETARIO O ENTIDAD CONTRATANTE | E43: APORTADA POR | F43: % en Cto | G43: Valor contrato expresadeo en SMMLV (RUP) | H43: OBJETO | L43: Fecha de Inicio | M43: Fecha de Terminación | N43: Valor Aplicable | O43: CANTIDAD DE UNIDADES DE MEJORAMIENTO DE VIVIENDA | Q43: PUNTAJE A OTORGAR | R43: OBSERVACIONES
O44: =P47 -> 0
B45: 182 | C45: 1 | D45: SECRETARIA DISTRITAL DEL HABITAT CONTRATO No. 599 DE 2017 | E45: inplayco sas | F45: 1 | G45: 1167.9 | H45: INTERVENTORÍA TÉCNICA, ADMINISTRATIVA, SOCIAL Y PRESUPUESTAL DE LOS PROYECTOS DE MEJORAMIENTO DE VIVIENDA EN LA MODALIDAD DE HABITABILIDAD. | L45: 43090 | M45: 43434 | N45: =G45 -> 1167.9 | O45: 714 | Q45: 24
C46: 2 | N46: =G46 -> 0
P47: =SUM(P45:P46) -> 0

Sheet DIRECTORES 1
B2: OFERENTE No. | D2: =OFERENTES!A9 -> 1 | E2: =OFERENTES!B9 -> INPLAYCO S.A.S.
B3: INTEGRANTES | E3: 1 | F3: =OFERENTES!F9 -> 1 | J3: 2 | K3: =OFERENTES!H9 -> 0 | N3: 3 | P3: =OFERENTES!J9 -> 0
E4: =OFERENTES!E9 -> INPLAYCO S.A.S. | J4: =OFERENTES!G9 -> 0 | N4: =OFERENTES!I9 -> 0
B6: PERSONAL REQUISITOS HABILITANTES | N6: PERSONAL REQUISITOS PONDERABLES
Z9: GRUPO 1
C10: Director De Interventoría Ingeniero Civil o Arquitecto. Mínimo ocho (8) años de experiencia Profesional, contados a partir de la expedición de la matrícula profesional. | K10: 1 | L10: GRUPO 1 | N10: CARGO | P10: DIRECTOR DE INTERVENTORÍA | V10: 1 | W10: GRUPO 1 | Y10: VALOR OBRA | Z10: 3724135319
N11: NOMBRE | P11: =E14 -> EDNA SOLEY RICO MAYORGA | Y11: VALOR INTERVENTORIA 12% | Z11: =Z10*12% -> 4.4689624e+08
Y12: SMMLV 2020 | Z12: 877803
C13: CARGO | E13: DIRECTOR DE INTERVENTORÍA | K13: CUMPLE | Z13: =Z11/Z12 -> 509.10767
C14: NOMBRE | E14: EDNA SOLEY RICO MAYORGA | J14: 44095 | K14: 8 años profesional | L14: =F17 -> 9
C15: PROFESION | D15: INGENIERA CIVIL | F15: EXP. MATRICULA PROF. | H15: 35688 | I15: =(J14-H15)/360 -> 23.352778 | N15: 7.2.2. FORMACIÓN ACADÉMICA Y PUBLICACIONES TÉCNICAS Y CIENTÍFICAS DEL EQUIPO DE TRABAJO (ANEXO No. 11) (máximo 10 puntos)
C16: POSGRADO | D16: NO APLICA | H16: CPLE / NO CPLE | I16: CUMPLE | K16: Experiencia Profesional | L16: =I16 -> CUMPLE
C17: 8 AÑOS | F17: =+G45 -> 9 | K17: Posgrado | L17: NO APLICA
K18: 254 unidades de vivienda intervenida | L18: =K56 -> 714 | N18: DIRECTOR DE INTERVENTORIA Criterio Puntaje | U18: PUNTAJE ASIGNADO | Z18: GRUPO 2
C19: EXPERIENCIA PROFESIONAL | K19: Máx. 4 proyectos | L19: =L52 -> CUMPLE | Y19: VALOR OBRA | Z19: 3728543251
C20: NOMBRE | D20: =E14 -> EDNA SOLEY RICO MAYORGA | J20: OBSERVACION | N20: especialización y/o maestría y/o doctorado, en gerencia de proyectos y/o dirección de proyectos y/o en áreas de ingeniería y/o arquitectura. | U20: MÁXMO 5 PUNTOS | Y20: VALOR INTERVENTORIA 12% | Z20: =Z19*12% -> 4.4742519e+08
C21: DATO | D21: FECHA INICIAL | E21: FECHA FINAL | F21: DIAS TOTALES | G21: AÑOS | H21: MESES | I21: DIAS | U21: 5 | Z21: =Z20/#REF! -> #REF!
C22: 1 | D22: 35079 | E22: 35505 | F22: =+E22-D22 -> 426 | G22: =DATEDIF(D22,E22,"Y") -> 1 | H22: =DATEDIF(D22,E22,"YM") -> 2 | I22: =DATEDIF(D22,E22,"MD") -> 1 | J22: INPLAYCO LTDA. - Folio 8
C23: 2 | D23: 35782 | E23: 36298 | F23: =+E23-D23 -> 516 | G23: =DATEDIF(D23,E23,"Y") -> 1 | H23: =DATEDIF(D23,E23,"YM") -> 5 | I23: =DATEDIF(D23,E23,"MD") -> 0 | J23: INPLAYCO LTDA. - Folio 10A | N23: NOMBRE DEL TITULO | P23: ESPECIALIZACIÓN EN GERENCIA DE PROYECTOS DE INGENIERÍA | T23: CUMPLE / NO CUMPLE
C24: 3 | D24: 36321 | E24: 36890 | F24: =+E24-D24 -> 569 | G24: =DATEDIF(D24,E24,"Y") -> 1 | H24: =DATEDIF(D24,E24,"YM") -> 6 | I24: =DATEDIF(D24,E24,"MD") -> 20 | J24: MUNICIPIO DE FLORENCIA - Folio 12A | T24: CUMPLE
C25: 4 | D25: 37545 | E25: 38374 | F25: =+E25-D25 -> 829 | G25: =DATEDIF(D25,E25,"Y") -> 2 | H25: =DATEDIF(D25,E25,"YM") -> 3 | I25: =DATEDIF(D25,E25,"MD") -> 6 | J25: ASOHECA - Folio 13 | N25: Las publicaciones técnicas y científicas deben estar relacionadas con el objeto a contratar y/o el cargo a desempeñar y/o con temas relacionas de la ingeniería civil y/o arquitectura.
C26: 5 | D26: 38418 | E26: 38989 | F26: =+E26-D26 -> 571 | G26: =DATEDIF(D26,E26,"Y") -> 1 | H26: =DATEDIF(D26,E26,"YM") -> 6 | I26: =DATEDIF(D26,E26,"MD") -> 22 | J26: UNIVERSIDAD NACIONAL DE COLOMBIA - Folio 13A
C27: 6 | D27: 38991 | E27: 39043 | F27: =+E27-D27 -> 52 | G27: =DATEDIF(D27,E27,"Y") -> 0 | H27: =DATEDIF(D27,E27,"YM") -> 1 | I27: =DATEDIF(D27,E27,"MD") -> 21 | J27: iNPLAYCO LTDA. - Folio 14
C28: 7 | D28: 39916 | E28: 39944 | F28: =+E28-D28 -> 28 | G28: =DATEDIF(D28,E28,"Y") -> 0 | H28: =DATEDIF(D28,E28,"YM") -> 0 | I28: =DATEDIF(D28,E28,"MD") -> 28 | J28: CONSORCIO SAN JOSE - Folio 17
C29: 8 | F29: =+E29-D29 -> 0 | G29: =DATEDIF(D29,E29,"Y") -> 0 | H29: =DATEDIF(D29,E29,"YM") -> 0 | I29: =DATEDIF(D29,E29,"MD") -> 0 | N29: NOMBRE DE LA PUBLICACION | T29: CUMPLE / NO CUMPLE
C30: 9 | D30: 41043 | E30: 41355 | F30: =+E30-D30 -> 312 | G30: =DATEDIF(D30,E30,"Y") -> 0 | H30: =DATEDIF(D30,E30,"YM") -> 10 | I30: =DATEDIF(D30,E30,"MD") -> 8 | J30: INPLAYCO LTDA. - 20
C31: 10 | D31: 43095 | E31: 43434 | F31: =+E31-D31 -> 339 | G31: =DATEDIF(D31,E31,"Y") -> 0 | H31: =DATEDIF(D31,E31,"YM") -> 11 | I31: =DATEDIF(D31,E31,"MD") -> 4 | J31: INPLAYCOS SAS - Folio 22
C32: 11 | F32: =+E32-D32 -> 0 | G32: =DATEDIF(D32,E32,"Y") -> 0 | H32: =DATEDIF(D32,E32,"YM") -> 0 | I32: =DATEDIF(D32,E32,"MD") -> 0
C33: 12 | F33: =+E33-D33 -> 0 | G33: =DATEDIF(D33,E33,"Y") -> 0 | H33: =DATEDIF(D33,E33,"YM") -> 0 | I33: =DATEDIF(D33,E33,"MD") -> 0
C34: 13 | F34: =+E34-D34 -> 0 | G34: =DATEDIF(D34,E34,"Y") -> 0 | H34: =DATEDIF(D34,E34,"YM") -> 0 | I34: =DATEDIF(D34,E34,"MD") -> 0
C35: 14 | F35: =+E35-D35 -> 0 | G35: =DATEDIF(D35,E35,"Y") -> 0 | H35: =DATEDIF(D35,E35,"YM") -> 0 | I35: =DATEDIF(D35,E35,"MD") -> 0
C36: 15 | F36: =+E36-D36 -> 0 | G36: =DATEDIF(D36,E36,"Y") -> 0 | H36: =DATEDIF(D36,E36,"YM") -> 0 | I36: =DATEDIF(D36,E36,"MD") -> 0
C37: 16 | F37: =+E37-D37 -> 0 | G37: =DATEDIF(D37,E37,"Y") -> 0 | H37: =DATEDIF(D37,E37,"YM") -> 0 | I37: =DATEDIF(D37,E37,"MD") -> 0
C38: 17 | F38: =+E38-D38 -> 0 | G38: =DATEDIF(D38,E38,"Y") -> 0 | H38: =DATEDIF(D38,E38,"YM") -> 0 | I38: =DATEDIF(D38,E38,"MD") -> 0
C39: 18 | F39: =+E39-D39 -> 0 | G39: =DATEDIF(D39,E39,"Y") -> 0 | H39: =DATEDIF(D39,E39,"YM") -> 0 | I39: =DATEDIF(D39,E39,"MD") -> 0
C40: SUB TOTAL | G40: =SUM(G22:G39) -> 6 | H40: =SUM(H22:H39) -> 44 | I40: =SUM(I22:I39) -> 110
G41: =+H42-H43 -> 3 | H41: =+I42-I43 -> 3
G42: =+G40+G41 -> 9 | H42: =(H40+H41)/12 -> 3.9166667 | I42: =+I40/30 -> 3.6666667
C43: AÑOS, MESES, DIAS | H43: =H42-INT(H42) -> 0.91666667 | I43: =I42-INT(I42) -> 0.66666667
C44: TOTAL | G44: AÑOS | H44: MESES | I44: DIAS
G45: =+G42 -> 9 | H45: =(H43)*12 -> 11 | I45: =+I43*30 -> 20 | N45: 7.2.3 EXPERIENCIA ADICIONAL DEL EQUIPO DE TRABAJO PARA CADA EQUIPO DE TRABAJO (ANEXO No. 12) (máximo 30 puntos)
C47: NOTAS GENERALES PARA LA ACREDITACIÓN DE LOS REQUISITOS TÉCNICOS HABILITANTES NOTA 2: Con el fin de tener en cuenta las certificaciones de los profesionales para el cumplimiento de la experiencia relaciona, estos debieron haber prestado sus servicios por lo menos en el 75% de duración en tiempo del contrato objeto de la certificación, de lo contrario, se realizará una regla de tres simple teniendo en cuenta el plazo final del contrato, el tiempo de labor del profesional y el número de viviendas intervenidas, así como, el plazo final del contrato, el tiempo de labor del profesional y el valor final del contrato. | N47: * Un contrato adicional a la experiencia habilitante, como director de interventoría en proyectos de: Interventoría al mejoramiento o mantenimiento o remodelación o reparación o construcción o ampliación de edificaciones de uso residencial o construcción de conexiones intradomiciliarias cuyo valor (del proyecto al que estuvo vinculado) sea igual o superior al 20% y hasta el 40% del valor del presupuesto oficial. 1 PUNTOS * Un contrato adicional a la experiencia habilitante, como director de interventoría en proyectos de: Interventoría al mejoramiento o mantenimiento o remodelación o reparación o construcción o ampliación de edificaciones de uso residencial o construcción de conexiones intradomiciliarias cuyo valor (del proyecto al que estuvo vinculado) sea superior al 40% y hasta el 60% del valor del presupuesto oficial. 2 PUNTOS * Un contrato adicional a la experiencia habilitante, como director de interventoría en proyectos de: Interventoría al mejoramiento o mantenimiento o remodelación o reparación o construcción o ampliación de edificaciones de uso residencial o construcción de conexiones intradomiciliarias cuyo valor (del proyecto al que estuvo vinculado) sea superior al 60% del valor del presupuesto oficial. 3 PUNTOS.
C49: EXPERIENCIA RELACIONADA: Aportar en Máximo cuatro (4) certificaciones de contratos como director de interventoría a obras de mejoramiento o mantenimiento o remodelación o reparación o construcción o ampliación de edificaciones de uso residencial o en proyectos de construcción de conexiones intradomiciliarias de uso residencial, cuya sumatoria sea igual o superior al 100% del presupuesto oficial para cada grupo y en sumatoria deberá ser igual o superior a 254 unidades de vivienda intervenidas. (Por lo menos uno deberá ser de interventoría a mejoramiento de vivienda). (509,11 SMMLV o $ 446.896.238,28) GRUPO 1
C50: No. | D50: PROYECTO / CONTRATO | F50: AÑO | G50: VALOR CONTRATO | H50: valor del SMMLV | I50: Valor contrato en SMMLV | J50: Valor contrato en pesos vigencia 2020 | K50: unidades de vivienda intervenidas | L50: CUMPLE / NO CUMPLE | N50: No. | O50: PROYECTO / CONTRATO | Q50: AÑO | R50: VALOR CONTRATO | S50: valor del SMMLV | T50: Valor contrato en SMMLV | U50: Valor contrato en pesos vigencia 2020 | V50: Porcentaje demostrado | W50: PUNTAJE ASIGNADO
C51: 0 | D51: Introducir numero o datos del contrato | G51: Introducir valor del contrato | H51: Seleccionar de la lista | I51: =+I56-509.11 -> 727.70574 | J51: =+J56-446896238.28 -> 6.3878433e+08 | K51: =K56-254 -> 460 | N51: 0 | O51: Introducir numero o datos del contrato | R51: Introducir valor del contrato | T51: =T54 -> 1285.709 | U51: =U54 -> 1.1285992e+09
C52: 1 | D52: CONTRATO No. 599-2019 DIRECTORA DE OBRA PARA LA INTERVENTORIA TECNICA, ADMINISTRATIVA, SOCIAL Y PRESUPUESTAL DE LOS PROYECTOS DE MEJORAMIENTO DE VIVIENDA EN LA MODALIDAD DE HABITABILIDAD | F52: 2017 | G52: 912420000 | H52: 737717 | I52: =G52/H52 -> 1236.8157 | J52: =I52*877803 -> 1.0856806e+09 | K52: 714 | L52: CUMPLE | N52: 1 | O52: Contrato No 024 de 200 DIRECTORA DE INTERVENTORÍA INTERVENTORÍA TÉCNICA, ADMINISTRATIVA, AMBIENTAL Y CONTABLE PARA LA CONSTRUCCION DE TRES EDIFICIOS DE VIVIENDA FISCAL PARA PERSONAL DE OFICIALES Y SUBOFICIALES EN LARANDIA - CAQUETA | Q52: 2009 | R52: 638868800 | S52: 496900 | T52: =R52/S52 -> 1285.709 | U52: =T52*877803 -> 1.1285992e+09 | V52: =U54/894321429 -> 1.2619615 | W52: 3
C53: 2
C54: 3 | N54: OBSERVACION: | T54: =SUM(T52:T53) -> 1285.709 | U54: =SUM(U52:U53) -> 1.1285992e+09
C55: 4
C56: OBSERVACIONES: ELPROPONENTE SUBSANA AL PROFESIONAL EN DEBIDA FORMA | I56: =SUM(I52:I55) -> 1236.8157 | J56: =SUM(J52:J55) -> 1.0856806e+09 | K56: =SUM(K52:K55) -> 714
C63: Director De Interventoría Ingeniero Civil o Arquitecto. Mínimo ocho (8) años de experiencia Profesional, contados a partir de la expedición de la matrícula profesional. | K63: 2 | L63: GRUPO 2 | N63: CARGO | P63: DIRECTOR DE INTERVENTORÍA | V63: 2 | W63: GRUPO 2
N64: NOMBRE | P64: =E67 -> EDGAR EDUARDO ROA CASTILLO
C66: CARGO | E66: DIRECTOR DE INTERVENTORÍA | K66: CUMPLE
C67: NOMBRE | E67: EDGAR EDUARDO ROA CASTILLO | J67: 44095 | K67: 8 años profesional | L67: =F70 -> 11
C68: PROFESION | D68: ARQUITECTO | F68: EXP. MATRICULA PROF. | H68: 37053 | I68: =(J67-H68)/360 -> 19.561111 | N68: 7.2.2. FORMACIÓN ACADÉMICA Y PUBLICACIONES TÉCNICAS Y CIENTÍFICAS DEL EQUIPO DE TRABAJO (ANEXO No. 11) (máximo 10 puntos)
C69: POSGRADO | D69: NO APLICA | H69: CPLE / NO CPLE | I69: CUMPLE | K69: Experiencia Profesional | L69: =I69 -> CUMPLE
C70: 8 AÑOS | F70: =+G98 -> 11 | K70: Posgrado | L70: NO APLICA
K71: 254 unidades de vivienda intervenida | L71: =K109 -> 966 | N71: DIRECTOR DE INTERVENTORIA Criterio Puntaje | U71: PUNTAJE ASIGNADO
C72: EXPERIENCIA PROFESIONAL | K72: Máx. 4 proyectos | L72: =L105 -> CUMPLE
C73: NOMBRE | D73: =E67 -> EDGAR EDUARDO ROA CASTILLO | J73: OBSERVACION | N73: especialización y/o maestría y/o doctorado, en gerencia de proyectos y/o dirección de proyectos y/o en áreas de ingeniería y/o arquitectura. | U73: MÁXMO 5 PUNTOS
C74: DATO | D74: FECHA INICIAL | E74: FECHA FINAL | F74: DIAS TOTALES | G74: AÑOS | H74: MESES | I74: DIAS | U74: 5
C75: 1 | D75: 36925 | E75: 37153 | F75: =+E75-D75 -> 228 | G75: =DATEDIF(D75,E75,"Y") -> 0 | H75: =DATEDIF(D75,E75,"YM") -> 7 | I75: =DATEDIF(D75,E75,"MD") -> 16 | J75: PRESBITERIO CENTRAL IPC - Folio 126
C76: 2 | D76: 37350 | E76: 37558 | F76: =+E76-D76 -> 208 | G76: =DATEDIF(D76,E76,"Y") -> 0 | H76: =DATEDIF(D76,E76,"YM") -> 6 | I76: =DATEDIF(D76,E76,"MD") -> 25 | J76: URBAN PLANNING - Folio 127 | N76: NOMBRE DEL TITULO | P76: ESPECIALIZACIÓN EN GESTIÓN AMBIENTAL URBANA | T76: CUMPLE / NO CUMPLE
C77: 3 | D77: 37572 | E77: 37741 | F77: =+E77-D77 -> 169 | G77: =DATEDIF(D77,E77,"Y") -> 0 | H77: =DATEDIF(D77,E77,"YM") -> 5 | I77: =DATEDIF(D77,E77,"MD") -> 18 | J77: JTL INMOBILIARIA - Folio 128 | T77: CUMPLE
C78: 4 | D78: 37743 | E78: 38069 | F78: =+E78-D78 -> 326 | G78: =DATEDIF(D78,E78,"Y") -> 0 | H78: =DATEDIF(D78,E78,"YM") -> 10 | I78: =DATEDIF(D78,E78,"MD") -> 21 | J78: INVERSIONES DEL NORTE LTDA. - Folio 129 | N78: Las publicaciones técnicas y científicas deben estar relacionadas con el objeto a contratar y/o el cargo a desempeñar y/o con temas relacionas de la ingeniería civil y/o arquitectura.
C79: 5 | D79: 38080 | E79: 38256 | F79: =+E79-D79 -> 176 | G79: =DATEDIF(D79,E79,"Y") -> 0 | H79: =DATEDIF(D79,E79,"YM") -> 5 | I79: =DATEDIF(D79,E79,"MD") -> 23 | J79: PINZON HERMANOS LTDA - Folio 130
C80: 6 | D80: 38270 | E80: 38711 | F80: =+E80-D80 -> 441 | G80: =DATEDIF(D80,E80,"Y") -> 1 | H80: =DATEDIF(D80,E80,"YM") -> 2 | I80: =DATEDIF(D80,E80,"MD") -> 15 | J80: ROGELIO ATEHORTUA ARENAS - Folio 131
C81: 7 | D81: 38725 | E81: 38817 | F81: =+E81-D81 -> 92 | G81: =DATEDIF(D81,E81,"Y") -> 0 | H81: =DATEDIF(D81,E81,"YM") -> 3 | I81: =DATEDIF(D81,E81,"MD") -> 2 | J81: BOHORQUEZ CONSTRUCTORES LTDA. - Folio 132
C82: 8 | D82: 39387 | E82: 39994 | F82: =+E82-D82 -> 607 | G82: =DATEDIF(D82,E82,"Y") -> 1 | H82: =DATEDIF(D82,E82,"YM") -> 7 | I82: =DATEDIF(D82,E82,"MD") -> 29 | J82: INVERCAS DOS - Folio 133 | N82: NOMBRE DE LA PUBLICACION | T82: CUMPLE / NO CUMPLE
C83: 9 | D83: 39995 | E83: 40170 | F83: =+E83-D83 -> 175 | G83: =DATEDIF(D83,E83,"Y") -> 0 | H83: =DATEDIF(D83,E83,"YM") -> 5 | I83: =DATEDIF(D83,E83,"MD") -> 22 | J83: LUIS PRIETO - Folio 134
C84: 10 | D84: 40191 | E84: 40541 | F84: =+E84-D84 -> 350 | G84: =DATEDIF(D84,E84,"Y") -> 0 | H84: =DATEDIF(D84,E84,"YM") -> 11 | I84: =DATEDIF(D84,E84,"MD") -> 16 | J84: CONSORCIO EDUCON DORADO - Folio 135
C85: 11 | D85: 40679 | E85: 41076 | F85: =+E85-D85 -> 397 | G85: =DATEDIF(D85,E85,"Y") -> 1 | H85: =DATEDIF(D85,E85,"YM") -> 1 | I85: =DATEDIF(D85,E85,"MD") -> 0 | J85: BIPASSANA COLOMBIA - Folio 136
C86: 12 | D86: 41086 | E86: 41212 | F86: =+E86-D86 -> 126 | G86: =DATEDIF(D86,E86,"Y") -> 0 | H86: =DATEDIF(D86,E86,"YM") -> 4 | I86: =DATEDIF(D86,E86,"MD") -> 4 | J86: HYL CONSTRUCCIONES LTDA. - Folio 137
C87: 13 | D87: 41228 | E87: 41577 | F87: =+E87-D87 -> 349 | G87: =DATEDIF(D87,E87,"Y") -> 0 | H87: =DATEDIF(D87,E87,"YM") -> 11 | I87: =DATEDIF(D87,E87,"MD") -> 15 | J87: CESAR ALEJANDRO SAMUDIO - Folio 138
C88: 14 | D88: 41660 | E88: 41963 | F88: =+E88-D88 -> 303 | G88: =DATEDIF(D88,E88,"Y") -> 0 | H88: =DATEDIF(D88,E88,"YM") -> 9 | I88: =DATEDIF(D88,E88,"MD") -> 30 | J88: CONSORCIO KP AIPI 2013 - Folio 143
C89: 15 | D89: 42029 | E89: 42201 | F89: =+E89-D89 -> 172 | G89: =DATEDIF(D89,E89,"Y") -> 0 | H89: =DATEDIF(D89,E89,"YM") -> 5 | I89: =DATEDIF(D89,E89,"MD") -> 21
C90: 16 | F90: =+E90-D90 -> 0 | G90: =DATEDIF(D90,E90,"Y") -> 0 | H90: =DATEDIF(D90,E90,"YM") -> 0 | I90: =DATEDIF(D90,E90,"MD") -> 0
C91: 17 | F91: =+E91-D91 -> 0 | G91: =DATEDIF(D91,E91,"Y") -> 0 | H91: =DATEDIF(D91,E91,"YM") -> 0 | I91: =DATEDIF(D91,E91,"MD") -> 0
C92: 18 | F92: =+E92-D92 -> 0 | G92: =DATEDIF(D92,E92,"Y") -> 0 | H92: =DATEDIF(D92,E92,"YM") -> 0 | I92: =DATEDIF(D92,E92,"MD") -> 0
C93: SUB TOTAL | G93: =SUM(G75:G92) -> 3 | H93: =SUM(H75:H92) -> 91 | I93: =SUM(I75:I92) -> 257
G94: =+H95-H96 -> 8 | H94: =+I95-I96 -> 8
G95: =+G93+G94 -> 11 | H95: =(H93+H94)/12 -> 8.25 | I95: =+I93/30 -> 8.5666667
C96: AÑOS, MESES, DIAS | H96: =H95-INT(H95) -> 0.25 | I96: =I95-INT(I95) -> 0.56666667
C97: TOTAL | G97: AÑOS | H97: MESES | I97: DIAS
G98: =+G95 -> 11 | H98: =(H96)*12 -> 3 | I98: =+I96*30 -> 17 | N98: 7.2.3 EXPERIENCIA ADICIONAL DEL EQUIPO DE TRABAJO PARA CADA EQUIPO DE TRABAJO (ANEXO No. 12) (máximo 30 puntos)
C100: NOTAS GENERALES PARA LA ACREDITACIÓN DE LOS REQUISITOS TÉCNICOS HABILITANTES NOTA 2: Con el fin de tener en cuenta las certificaciones de los profesionales para el cumplimiento de la experiencia relaciona, estos debieron haber prestado sus servicios por lo menos en el 75% de duración en tiempo del contrato objeto de la certificación, de lo contrario, se realizará una regla de tres simple teniendo en cuenta el plazo final del contrato, el tiempo de labor del profesional y el número de viviendas intervenidas, así como, el plazo final del contrato, el tiempo de labor del profesional y el valor final del contrato. | N100: * Un contrato adicional a la experiencia habilitante, como director de interventoría en proyectos de: Interventoría al mejoramiento o mantenimiento o remodelación o reparación o construcción o ampliación de edificaciones de uso residencial o construcción de conexiones intradomiciliarias cuyo valor (del proyecto al que estuvo vinculado) sea igual o superior al 20% y hasta el 40% del valor del presupuesto oficial. 1 PUNTOS * Un contrato adicional a la experiencia habilitante, como director de interventoría en proyectos de: Interventoría al mejoramiento o mantenimiento o remodelación o reparación o construcción o ampliación de edificaciones de uso residencial o construcción de conexiones intradomiciliarias cuyo valor (del proyecto al que estuvo vinculado) sea superior al 40% y hasta el 60% del valor del presupuesto oficial. 2 PUNTOS * Un contrato adicional a la experiencia habilitante, como director de interventoría en proyectos de: Interventoría al mejoramiento o mantenimiento o remodelación o reparación o construcción o ampliación de edificaciones de uso residencial o construcción de conexiones intradomiciliarias cuyo valor (del proyecto al que estuvo vinculado) sea superior al 60% del valor del presupuesto oficial. 3 PUNTOS.
C102: EXPERIENCIA RELACIONADA: Aportar en Máximo cuatro (4) certificaciones de contratos como director de interventoría a obras de mejoramiento o mantenimiento o remodelación o reparación o construcción o ampliación de edificaciones de uso residencial o en proyectos de construcción de conexiones intradomiciliarias de uso residencial, cuya sumatoria sea igual o superior al 100% del presupuesto oficial para cada grupo y en sumatoria deberá ser igual o superior a 254 unidades de vivienda intervenidas. (Por lo menos uno deberá ser de interventoría a mejoramiento de vivienda). (509,71 SMMLV o $ 447.425.190,12) GRUPO 2
C103: No. | D103: PROYECTO / CONTRATO | F103: AÑO | G103: VALOR CONTRATO | H103: valor del SMMLV | I103: Valor contrato en SMMLV | J103: Valor contrato en pesos vigencia 2020 | K103: unidades de vivienda intervenidas | L103: CUMPLE / NO CUMPLE | N103: No. | O103: PROYECTO / CONTRATO | Q103: AÑO | R103: VALOR CONTRATO | S103: valor del SMMLV | T103: Valor contrato en SMMLV | U103: Valor contrato en pesos vigencia 2020 | V103: Porcentaje demostrado | W103: PUNTAJE ASIGNADO
C104: 0 | D104: Introducir numero o datos del contrato | G104: Introducir valor del contrato | H104: Seleccionar de la lista | I104: =+I109-509.71 -> 1720.8328 | J104: =+J109-447425190.12 -> 1.510552e+09 | K104: =K109-254 -> 712 | N104: 0 | O104: Introducir numero o datos del contrato | R104: Introducir valor del contrato | T104: =T107 -> 944.18687 | U104: =U107 -> 8.2881007e+08
C105: 1 | D105: DIRECTOR DE INTERVENTORIA AL MEJORAMIENTO DE LA URBANIZACION PRADO NORTE DE LAS ETAPAS I, II Y III EN LA CIUDAD DE CARTAGO | F105: 2003 | G105: 102825000 | H105: 332000 | I105: =G105/H105 -> 309.71386 | J105: =I105*877803 -> 2.7186775e+08 | K105: =12*6*2 -> 144 | L105: CUMPLE | N105: 1 | O105: Contrato No 092-2012 DIRECTOR DE INTERVENTORIA INTERVENTORÍA CON FUNCIONES DE CONTROL TÉCNICO, ADMINISTRATIVO, FINANCIERO, CONTABLE Y AMBIENTAL PARA LA CONSTRUCCION DE TRES TORRES DE APARTAMENTOS PARA SUBOFICIALES EN TOLEMAIDA, DE CINCO PISOS CADA UNA CON CUATRO APARTAMENTOS POR PISO PARA UN TOTAL DE 60 APARTAMENTOS, INCLUYE OBRAS COMPLEMENTARIAS | Q105: 2013 | R105: 556598160 | S105: 589500 | T105: =R105/S105 -> 944.18687 | U105: =T105*877803 -> 8.2881007e+08 | V105: =U107/894321429 -> 0.92674741 | W105: 3
C106: 2 | D106: DIRECTOR DE INTERVENTORIA AL MANTENIMIENTO DE 52 VIVIENDAS EN EL CONJUNTO DENOMINADO BERRECUI | F106: 2004 | G106: 98985000 | H106: 358000 | I106: =G106/H106 -> 276.49441 | J106: =I106*877803 -> 2.4270763e+08 | K106: 52
C107: 3 | D107: CONTRATO No. CP-008-2012 DIRECTOR DE INTERVENTORIA A LA REMODELACION DE DOS VIVIENDAS EN EL BARRIO SUBA OSTA RICA, UBICADO EN LA CIUDAD DE BOGOTA D.C. | F107: 2012 | G107: 90617935 | H107: 566700 | I107: =G107/H107 -> 159.9046 | J107: =I107*877803 -> 1.4036473e+08 | K107: 2 | N107: OBSERVACION: | T107: =SUM(T105:T106) -> 944.18687 | U107: =SUM(U105:U106) -> 8.2881007e+08
C108: 4 | D108: CONTRATO No. 495 DE 2018 DIRECTOR DE INTERVENTORIA DE LOS PROYECTOS DE MEJORAMIENTO DE VIVIENDA EN LA MODALIDAD DE HABITABLIDAD, GRUPO 2 | F108: 2018 | G108: 1159699000 | H108: 781242 | I108: =G108/H108 -> 1484.4299 | J108: =I108*877803 -> 1.303037e+09 | K108: 768
C109: OBSERVACIONES: SUBSANA EN DEBIDA FORMA | I109: =SUM(I105:I108) -> 2230.5428 | J109: =SUM(J105:J108) -> 1.9579771e+09 | K109: =SUM(K105:K108) -> 966

Sheet RESIDENTES 1
B2: OFERENTE No. | D2: =OFERENTES!A9 -> 1 | E2: =OFERENTES!B9 -> INPLAYCO S.A.S.
B3: INTEGRANTES | E3: 1 | F3: =OFERENTES!F9 -> 1 | J3: 2 | K3: =OFERENTES!H9 -> 0 | N3: 3 | P3: =OFERENTES!J9 -> 0
E4: =OFERENTES!E9 -> INPLAYCO S.A.S. | J4: =OFERENTES!G9 -> 0 | N4: =OFERENTES!I9 -> 0
B6: PERSONAL REQUISITOS HABILITANTES | N6: PERSONAL REQUISITOS PONDERABLES
C10: Residente de Interventoría Arquitecto o Ingeniero Civil. Mínimo tres (3) años de experiencia Profesional, contados a partir de la expedición de la matrícula profesional (por cada profesional) | K10: 1 | L10: GRUPO 1 | N10: CARGO | P10: RESIDENTE DE INTERVENTORIA | V10: GRUPO 1 | W10: 1
N11: NOMBRE | P11: =E13 -> MARIO HERNAN ORJUELA MALDONADO
C12: CARGO | E12: RESIDENTE DE INTERVENTORIA | K12: CUMPLE
C13: NOMBRE | E13: MARIO HERNAN ORJUELA MALDONADO | J13: 44095 | K13: 3 años profesional | L13: =F16 -> 5 | N13: 5.2. FACTOR FORMACIÓN ACADÉMICA Y PUBLICACIONES TÉCNICAS Y CIENTÍFICAS DEL EQUIPO DE TRABAJO (PUNTAJE 5)
C14: PROFESION | D14: INGENIERO CIVIL | F14: EXP. MATRICULA PROF. | H14: 34837 | I14: =(J13-H14)/360 -> 25.716667 | K14: Experiencia Profesional | L14: =I15 -> CUMPLE
C15: POSGRADO | D15: NO APLICA | H15: CPLE / NO CPLE | I15: CUMPLE | K15: Posgrado | L15: NO APLICA
C16: 5 AÑOS | F16: =+G37 -> 5 | K16: 254 unidades de vivienda intervenida | L16: =K49 -> 491.2824 | N16: DIRECTOR DE INTERVENTORIA Criterio Puntaje | U16: PUNTAJE ASIGNADO
K17: Máx. 4 proyectos | L17: =L44 -> CUMPLE
C18: EXPERIENCIA PROFESIONAL | N18: Especialización y/o maestría y/o doctorado, en gerencia de proyectos y/o dirección de proyectos y/o en áreas de ingeniería y/o arquitectura.
C19: NOMBRE | D19: =E13 -> MARIO HERNAN ORJUELA MALDONADO | J19: OBSERVACION | U19: NO APLICA
C20: DATO | D20: FECHA INICIAL | E20: FECHA FINAL | F20: DIAS TOTALES | G20: AÑOS | H20: MESES | I20: DIAS
C21: 1 | D21: 37827 | E21: 38087 | F21: =+E21-D21 -> 260 | G21: =DATEDIF(D21,E21,"Y") -> 0 | H21: =DATEDIF(D21,E21,"YM") -> 8 | I21: =DATEDIF(D21,E21,"MD") -> 16 | J21: CONSTRUCTOPO LTDA. - Folio 32 | N21: NOMBRE DEL TITULO | P21: NO APLICA | T21: CUMPLE / NO CUMPLE
C22: 2 | D22: 38193 | E22: 38229 | F22: =+E22-D22 -> 36 | G22: =DATEDIF(D22,E22,"Y") -> 0 | H22: =DATEDIF(D22,E22,"YM") -> 1 | I22: =DATEDIF(D22,E22,"MD") -> 5 | J22: CONSORCIO INTERVENTORES BARRIOS UNIDOS - Folio 32A
C23: 3 | D23: 38231 | E23: 38313 | F23: =+E23-D23 -> 82 | G23: =DATEDIF(D23,E23,"Y") -> 0 | H23: =DATEDIF(D23,E23,"YM") -> 2 | I23: =DATEDIF(D23,E23,"MD") -> 21 | J23: ONG COLOMBIA PARA TODOS - Folio 33 | N23: Las publicaciones técnicas y científicas deben estar relacionadas con el objeto a contratar y/o el cargo a desempeñar y/o con temas relacionas de la ingeniería civil y/o arquitectura.
C24: 4 | D24: 38545 | E24: 38738 | F24: =+E24-D24 -> 193 | G24: =DATEDIF(D24,E24,"Y") -> 0 | H24: =DATEDIF(D24,E24,"YM") -> 6 | I24: =DATEDIF(D24,E24,"MD") -> 9 | J24: CONSORCIO SOLANO 21 - Folio 33A
C25: 5 | D25: 40739 | E25: 41073 | F25: =+E25-D25 -> 334 | G25: =DATEDIF(D25,E25,"Y") -> 0 | H25: =DATEDIF(D25,E25,"YM") -> 10 | I25: =DATEDIF(D25,E25,"MD") -> 29 | J25: INPLAYCO LTDA. - Folio 34
C26: 6 | D26: 41443 | E26: 41805 | F26: =+E26-D26 -> 362 | G26: =DATEDIF(D26,E26,"Y") -> 0 | H26: =DATEDIF(D26,E26,"YM") -> 11 | I26: =DATEDIF(D26,E26,"MD") -> 28 | J26: CONSORCIO OBRAS SED 2013 - Folio 36
C27: 7 | D27: 41879 | E27: 42180 | F27: =+E27-D27 -> 301 | G27: =DATEDIF(D27,E27,"Y") -> 0 | H27: =DATEDIF(D27,E27,"YM") -> 9 | I27: =DATEDIF(D27,E27,"MD") -> 28 | J27: CLEMENTE ALFREDO BUITRAGO - Folio 36A
C28: 8 | D28: 42382 | E28: 42628 | F28: =+E28-D28 -> 246 | G28: =DATEDIF(D28,E28,"Y") -> 0 | H28: =DATEDIF(D28,E28,"YM") -> 8 | I28: =DATEDIF(D28,E28,"MD") -> 2 | J28: HYC PROYECTOS - Folio 37
C29: 9 | D29: 43081 | E29: 43266 | F29: =+E29-D29 -> 185 | G29: =DATEDIF(D29,E29,"Y") -> 0 | H29: =DATEDIF(D29,E29,"YM") -> 6 | I29: =DATEDIF(D29,E29,"MD") -> 3 | J29: INPLAYCO SAS - Folio 37A
C30: 10 | F30: =+E30-D30 -> 0 | G30: =DATEDIF(D30,E30,"Y") -> 0 | H30: =DATEDIF(D30,E30,"YM") -> 0 | I30: =DATEDIF(D30,E30,"MD") -> 0
C31: 11 | F31: =+E31-D31 -> 0 | G31: =DATEDIF(D31,E31,"Y") -> 0 | H31: =DATEDIF(D31,E31,"YM") -> 0 | I31: =DATEDIF(D31,E31,"MD") -> 0 | N31: NOMBRE DE LA PUBLICACION | P31: NO APLICA | T31: CUMPLE / NO CUMPLE
C32: SUB TOTAL | G32: =SUM(G21:G31) -> 0 | H32: =SUM(H21:H31) -> 61 | I32: =SUM(I21:I31) -> 141
G33: =+H34-H35 -> 5 | H33: =+I34-I35 -> 4
G34: =+G32+G33 -> 5 | H34: =(H32+H33)/12 -> 5.4166667 | I34: =+I32/30 -> 4.7
C35: AÑOS, MESES, DIAS | H35: =H34-INT(H34) -> 0.41666667 | I35: =I34-INT(I34) -> 0.7
C36: TOTAL | G36: AÑOS | H36: MESES | I36: DIAS
G37: =+G34 -> 5 | H37: =(H35)*12 -> 5 | I37: =+I35*30 -> 21 | N37: 7.2.3 EXPERIENCIA ADICIONAL DEL EQUIPO DE TRABAJO PARA CADA EQUIPO DE TRABAJO (ANEXO No. 12) (máximo 30 puntos)
C39: NOTAS GENERALES PARA LA ACREDITACIÓN DE LOS REQUISITOS TÉCNICOS HABILITANTES NOTA 2: Con el fin de tener en cuenta las certificaciones de los profesionales para el cumplimiento de la experiencia relaciona, estos debieron haber prestado sus servicios por lo menos en el 75% de duración en tiempo del contrato objeto de la certificación, de lo contrario, se realizará una regla de tres simple teniendo en cuenta el plazo final del contrato, el tiempo de labor del profesional y el número de viviendas intervenidas, así como, el plazo final del contrato, el tiempo de labor del profesional y el valor final del contrato. | N39: *Un contrato adicional a la experiencia habilitante, como Residente de Interventoría en proyectos de: Interventoría al mejoramiento o mantenimiento o remodelación o reparación o construcción o ampliación de edificaciones de uso residencial o construcción de conexiones intradomiciliarias cuyo valor (del proyecto al que estuvo vinculado) sea igual o superior al 20% y hasta el 40% del valor del presupuesto oficial. 2 PUNTOS *Un contrato adicional a la experiencia habilitante, como Residente de Interventoría en proyectos de: Interventoría al mejoramiento o mantenimiento o remodelación o reparación o construcción o ampliación de edificaciones de uso residencial o construcción de conexiones intradomiciliarias cuyo valor (del proyecto al que estuvo vinculado) sea superior al 40% y hasta el 60% del valor del presupuesto oficial. 3 PUNTOS *Un contrato adicional a la experiencia habilitante, como Residente de Interventoría en proyectos de: Interventoría al mejoramiento o mantenimiento o remodelación o reparación o construcción o ampliación de edificaciones de uso residencial o construcción de conexiones intradomiciliarias cuyo valor (del proyecto al que estuvo vinculado) sea superior al 60% del valor del presupuesto oficial. 4 PUNTOS.
C41: EXPERIENCIA RELACIONADA: Aportar en Máximo cinco (5) certificaciones de contratos como Residente de interventoría a Obras de: mejoramiento o mantenimiento o remodelación o reparación o construcción o ampliación de edificaciones de uso residencial o en proyectos de construcción de conexiones intradomiciliarias de uso residencial, cuya sumatoria sea igual o superior al 100% del presupuesto oficial para cada grupo y en sumatoria deberá ser igual o superior a 254 unidades de vivienda intervenidas. (Por lo menos uno deberá ser de interventoría a mejoramiento de vivienda). (por cada profesional) (509,11 SMMLV o $ 446896238,28) GRUPO 1
C42: No. | D42: PROYECTO / CONTRATO | F42: AÑO | G42: VALOR CONTRATO | H42: valor del SMMLV | I42: Valor contrato en SMMLV | J42: Valor contrato en pesos vigencia 2020 | K42: unidades de vivienda intervenidas | L42: CUMPLE / NO CUMPLE | N42: No. | O42: PROYECTO / CONTRATO | Q42: AÑO | R42: VALOR CONTRATO | S42: valor del SMMLV | T42: Valor contrato en SMMLV | U42: Valor contrato en pesos vigencia 2020 | V42: Porcentaje demostrado | W42: PUNTAJE ASIGNADO
C43: 0 | D43: Introducir numero o datos del contrato | G43: Introducir valor del contrato | H43: Seleccionar de la lista | I43: =+I49-509.11 -> 781.34895 | J43: =+J49-446896238.28 -> 6.858725e+08 | K43: =K49-254 -> 237.2824 | N43: 0 | O43: Introducir numero o datos del contrato | R43: Introducir valor del contrato | T43: =T46 -> 1484.4299 | U43: =U46 -> 1.2292802e+09
C44: 1 | D44: CONTRATO No. 142 DE 2005 RESIDENTE DE INTERVENTORIA PARA EJECUTAR LA INTERVENTORIA TECNICA, ADMINISTRATIVA Y FINANCIERA PARA EL MANTENMIENTO DE DOS EDIFICIOS DE VIVIENDA, PARA UN TOTAL DE 30 APARTAMENTOS EN EL MUNICIPIO DE SOLANO CAQUETA | F44: 2005 | G44: 78125000 | H44: 381500 | I44: =G44/H44 -> 204.78375 | J44: =I44*877803 -> 1.7975979e+08 | K44: 30 | L44: CUMPLE | N44: 1 | O44: CONTRATO 495 DE 2018 RESIDENTE DE OBRA INTERVENTORIA TECNICA, ADMINISTRATIVA, SOCIAL Y PRESUPUESTAL DE LOS PROYECTOS DE MEJORAMIENTO E VIVIENDA EN LA MODALIDAD DE HABITABILIDAD, GRUPO 2 | Q44: 2018 | R44: 1159699000 | S44: 781242 | T44: =R44/S44 -> 1484.4299 | U44: =T44*828116 -> 1.2292802e+09 | V44: =U46/894321429 -> 1.3745395 | W44: 4
C45: 2 | D45: CONTRATO No. 058-2011 RESIDENTE DE INTERVENTORIA PARA EJECUTAR LA INTERVENTORIA PARA LA CONSTRUCCION DE EDIFICIOS DE VIVIENDA FISCAL PARA OFICIALES Y SUBOFICIALES DE 4 PISOS CON 8 APARTAMENTOS Y ZONAS EXTERIORES CADA UNO, UBICADOS 2 EN BARRANQUILLA, 1 EN FACATATIVA | F45: 2011 | G45: 2.425841e+08 | H45: 535600 | I45: =G45/H45 -> 452.92027 | J45: =I45*877803 -> 3.9757477e+08 | K45: =32*3 -> 96
C46: 3 | D46: CONTRATO No. 599-2017 RESIDENTE DE INTERVENTORIA DE LOS PROYECTOS DE MEJORAMIENTO DE VIVIENDA EN LA MODALIDAD DE HABITABILIDAD | F46: 2017 | G46: =912420000*51.16% -> 4.6679407e+08 | H46: 737717 | I46: =G46/H46 -> 632.75493 | J46: =I46*877803 -> 5.5543418e+08 | K46: =714*51.16% -> 365.2824 | N46: OBSERVACION: | T46: =SUM(T44:T45) -> 1484.4299 | U46: =SUM(U44:U45) -> 1.2292802e+09
C47: 4 | N47: 43090 | O47: 43266 | P47: =O47-N47 -> 176
C48: 5 | N48: 43090 | O48: 43434 | P48: =O48-N48 -> 344 | Q48: =P47/P48 -> 0.51162791
C49: OBSERVACIONES: EN LA CERTIFICACION No. 3 EMITIDA POR ELPROPONENTE INPLAYCO, EL PROFESIONAL SOLO ACREDITA EL 51,16% DE DURACION DE TIEMPO DEL CNTRATO, POR CONSIGUIENTE SE REALIZA LA REGLA DE TRES SIMPLE CONFORMEA LO INDICADO EN LA NOTA 2. | I49: =SUM(I44:I48) -> 1290.459 | J49: =SUM(J44:J48) -> 1.1327687e+09 | K49: =SUM(K44:K48) -> 491.2824
C56: Residente de Interventoría Arquitecto o Ingeniero Civil. Mínimo tres (3) años de experiencia Profesional, contados a partir de la expedición de la matrícula profesional (por cada profesional) | K56: 2 | L56: GRUPO 1 | N56: CARGO | P56: RESIDENTE DE INTERVENTORIA | V56: GRUPO 1 | W56: 2
N57: NOMBRE | P57: =E59 -> EDWIN ALBERTO BAEZ SEPULVEDA
C58: CARGO | E58: RESIDENTE DE INTERVENTORIA | K58: CUMPLE
C59: NOMBRE | E59: EDWIN ALBERTO BAEZ SEPULVEDA | J59: 44095 | K59: 3 años profesional | L59: =F62 -> 5 | N59: 5.2. FACTOR FORMACIÓN ACADÉMICA Y PUBLICACIONES TÉCNICAS Y CIENTÍFICAS DEL EQUIPO DE TRABAJO (PUNTAJE 5)
C60: PROFESION | D60: ARQUITECTO | F60: EXP. MATRICULA PROF. | H60: 40087 | I60: =(J59-H60)/360 -> 11.133333 | K60: Experiencia Profesional | L60: =I61 -> CUMPLE
C61: POSGRADO | D61: NO APLICA | H61: CPLE / NO CPLE | I61: CUMPLE | K61: Posgrado | L61: NO APLICA
C62: 3 AÑOS | F62: =+G81 -> 5 | K62: 254 unidades de vivienda intervenida | L62: =K93 -> 415.7068 | N62: DIRECTOR DE INTERVENTORIA Criterio Puntaje | U62: PUNTAJE ASIGNADO
K63: Máx. 4 proyectos | L63: =L88 -> CUMPLE
C64: EXPERIENCIA PROFESIONAL | N64: Especialización y/o maestría y/o doctorado, en gerencia de proyectos y/o dirección de proyectos y/o en áreas de ingeniería y/o arquitectura.
C65: NOMBRE | D65: =E59 -> EDWIN ALBERTO BAEZ SEPULVEDA | J65: OBSERVACION | U65: NO APLICA
C66: DATO | D66: FECHA INICIAL | E66: FECHA FINAL | F66: DIAS TOTALES | G66: AÑOS | H66: MESES | I66: DIAS
C67: 1 | D67: 40238 | E67: 40328 | F67: =+E67-D67 -> 90 | G67: =DATEDIF(D67,E67,"Y") -> 0 | H67: =DATEDIF(D67,E67,"YM") -> 2 | I67: =DATEDIF(D67,E67,"MD") -> 29 | J67: INPLAYCO LTDA. - Folio 52 | N67: NOMBRE DEL TITULO | P67: NO APLICA | T67: CUMPLE / NO CUMPLE
C68: 2 | D68: 40332 | E68: 40602 | F68: =+E68-D68 -> 270 | G68: =DATEDIF(D68,E68,"Y") -> 0 | H68: =DATEDIF(D68,E68,"YM") -> 8 | I68: =DATEDIF(D68,E68,"MD") -> 25 | J68: CONSORCIO LISA 2010 - Folio 54
C69: 3 | D69: 40610 | E69: 41142 | F69: =+E69-D69 -> 532 | G69: =DATEDIF(D69,E69,"Y") -> 1 | H69: =DATEDIF(D69,E69,"YM") -> 5 | I69: =DATEDIF(D69,E69,"MD") -> 13 | J69: CONSORCIO PUERTO GAITAN 2600 - Folio 56 | N69: Las publicaciones técnicas y científicas deben estar relacionadas con el objeto a contratar y/o el cargo a desempeñar y/o con temas relacionas de la ingeniería civil y/o arquitectura.
C70: 4 | D70: 41764 | E70: 42139 | F70: =+E70-D70 -> 375 | G70: =DATEDIF(D70,E70,"Y") -> 1 | H70: =DATEDIF(D70,E70,"YM") -> 0 | I70: =DATEDIF(D70,E70,"MD") -> 10 | J70: INPLAYCO LTDA. - Folio 56A
C71: 5 | D71: 42160 | E71: 42353 | F71: =+E71-D71 -> 193 | G71: =DATEDIF(D71,E71,"Y") -> 0 | H71: =DATEDIF(D71,E71,"YM") -> 6 | I71: =DATEDIF(D71,E71,"MD") -> 10 | J71: INPLAYCO LTDA. - Folio 59
C72: 6 | D72: 42495 | E72: 42755 | F72: =+E72-D72 -> 260 | G72: =DATEDIF(D72,E72,"Y") -> 0 | H72: =DATEDIF(D72,E72,"YM") -> 8 | I72: =DATEDIF(D72,E72,"MD") -> 15 | J72: INPLAYCO LTDA. - Folio 61
C73: 7 | D73: 42839 | E73: 43100 | F73: =+E73-D73 -> 261 | G73: =DATEDIF(D73,E73,"Y") -> 0 | H73: =DATEDIF(D73,E73,"YM") -> 8 | I73: =DATEDIF(D73,E73,"MD") -> 17 | J73: CONSORCIO BEDA - Folio 63
C74: 8 | D74: 43100 | E74: 43281 | F74: =+E74-D74 -> 181 | G74: =DATEDIF(D74,E74,"Y") -> 0 | H74: =DATEDIF(D74,E74,"YM") -> 5 | I74: =DATEDIF(D74,E74,"MD") -> 30 | J74: INPLAYCO SAS - Folio 69
C75: 9 | F75: =+E75-D75 -> 0 | G75: =DATEDIF(D75,E75,"Y") -> 0 | H75: =DATEDIF(D75,E75,"YM") -> 0 | I75: =DATEDIF(D75,E75,"MD") -> 0 | N75: NOMBRE DE LA PUBLICACION | P75: NO APLICA | T75: CUMPLE / NO CUMPLE
C76: SUB TOTAL | G76: =SUM(G67:G75) -> 2 | H76: =SUM(H67:H75) -> 42 | I76: =SUM(I67:I75) -> 149
G77: =+H78-H79 -> 3 | H77: =+I78-I79 -> 4
G78: =+G76+G77 -> 5 | H78: =(H76+H77)/12 -> 3.8333333 | I78: =+I76/30 -> 4.9666667
C79: AÑOS, MESES, DIAS | H79: =H78-INT(H78) -> 0.83333333 | I79: =I78-INT(I78) -> 0.96666667
C80: TOTAL | G80: AÑOS | H80: MESES | I80: DIAS
G81: =+G78 -> 5 | H81: =(H79)*12 -> 10 | I81: =+I79*30 -> 29 | N81: 7.2.3 EXPERIENCIA ADICIONAL DEL EQUIPO DE TRABAJO PARA CADA EQUIPO DE TRABAJO (ANEXO No. 12) (máximo 30 puntos)
C83: NOTAS GENERALES PARA LA ACREDITACIÓN DE LOS REQUISITOS TÉCNICOS HABILITANTES NOTA 2: Con el fin de tener en cuenta las certificaciones de los profesionales para el cumplimiento de la experiencia relaciona, estos debieron haber prestado sus servicios por lo menos en el 75% de duración en tiempo del contrato objeto de la certificación, de lo contrario, se realizará una regla de tres simple teniendo en cuenta el plazo final del contrato, el tiempo de labor del profesional y el número de viviendas intervenidas, así como, el plazo final del contrato, el tiempo de labor del profesional y el valor final del contrato. | N83: *Un contrato adicional a la experiencia habilitante, como Residente de Interventoría en proyectos de: Interventoría al mejoramiento o mantenimiento o remodelación o reparación o construcción o ampliación de edificaciones de uso residencial o construcción de conexiones intradomiciliarias cuyo valor (del proyecto al que estuvo vinculado) sea igual o superior al 20% y hasta el 40% del valor del presupuesto oficial. 2 PUNTOS *Un contrato adicional a la experiencia habilitante, como Residente de Interventoría en proyectos de: Interventoría al mejoramiento o mantenimiento o remodelación o reparación o construcción o ampliación de edificaciones de uso residencial o construcción de conexiones intradomiciliarias cuyo valor (del proyecto al que estuvo vinculado) sea superior al 40% y hasta el 60% del valor del presupuesto oficial. 3 PUNTOS *Un contrato adicional a la experiencia habilitante, como Residente de Interventoría en proyectos de: Interventoría al mejoramiento o mantenimiento o remodelación o reparación o construcción o ampliación de edificaciones de uso residencial o construcción de conexiones intradomiciliarias cuyo valor (del proyecto al que estuvo vinculado) sea superior al 60% del valor del presupuesto oficial. 4 PUNTOS.
C85: EXPERIENCIA RELACIONADA: Aportar en Máximo cinco (5) certificaciones de contratos como Residente de interventoría a Obras de: mejoramiento o mantenimiento o remodelación o reparación o construcción o ampliación de edificaciones de uso residencial o en proyectos de construcción de conexiones intradomiciliarias de uso residencial, cuya sumatoria sea igual o superior al 100% del presupuesto oficial para cada grupo y en sumatoria deberá ser igual o superior a 254 unidades de vivienda intervenidas. (Por lo menos uno deberá ser de interventoría a mejoramiento de vivienda). (por cada profesional) (509,11 SMMLV o $ 446896238,28) GRUPO 1
C86: No. | D86: PROYECTO / CONTRATO | F86: AÑO | G86: VALOR CONTRATO | H86: valor del SMMLV | I86: Valor contrato en SMMLV | J86: Valor contrato en pesos vigencia 2020 | K86: unidades de vivienda intervenidas | L86: CUMPLE / NO CUMPLE | N86: No. | O86: PROYECTO / CONTRATO | Q86: AÑO | R86: VALOR CONTRATO | S86: valor del SMMLV | T86: Valor contrato en SMMLV | U86: Valor contrato en pesos vigencia 2020 | V86: Porcentaje demostrado | W86: PUNTAJE ASIGNADO
C87: 0 | D87: Introducir numero o datos del contrato | G87: Introducir valor del contrato | H87: Seleccionar de la lista | I87: =+I93-509.11 -> 637.50312 | J87: =+J93-446896238.28 -> 5.596042e+08 | K87: =K93-254 -> 161.7068 | N87: 0 | O87: Introducir numero o datos del contrato | R87: Introducir valor del contrato | T87: =T90 -> 1484.4299 | U87: =U90 -> 1.2292802e+09
C88: 1 | D88: CONTRATO No. 092 DE 2014 RESIDENTE DE INTERVENTORIA PARA LA CONSTRUCCION DE UN EDIFICIO DE CINCO PISOS DE VIVIENDA FISCAL PARA SUBOFICIALES Y UNO DE CINCO PISOS PARA SUBOFICIALES Y UNO DE CINCO PISOS PARA SUBOFICIALES UBICADOS EN LA SECCIONAL DE IBAGUE-TOLIMA. TOTAL 40 APARTAMENTOS | F88: 2015 | G88: 319469168 | H88: 644350 | I88: =G88/H88 -> 495.80068 | J88: =I88*877803 -> 4.3521532e+08 | K88: 40 | L88: CUMPLE | N88: 1 | O88: CONTRATO 495 DE 2018 RESIDENTE DE OBRA INTERVENTORIA TECNICA, ADMINISTRATIVA, SOCIAL Y PRESUPUESTAL DE LOS PROYECTOS DE MEJORAMIENTO E VIVIENDA EN LA MODALIDAD DE HABITABILIDAD, GRUPO 2 | Q88: 2018 | R88: 1159699000 | S88: 781242 | T88: =R88/S88 -> 1484.4299 | U88: =T88*828116 -> 1.2292802e+09 | V88: =U90/894321429 -> 1.3745395 | W88: 4
C89: 2 | D89: CONTRATO No. 599-2017 RESIDENTE DE INTERVENTORIA DE LOS PROYECTOS DE MEJORAMIENTO DE VIVIENDA EN LA MODALIDAD DE HABITABILIDAD | F89: 2017 | G89: =912420000*52.62% -> 480115404 | H89: 737717 | I89: =G89/H89 -> 650.81244 | J89: =I89*877803 -> 5.7128512e+08 | K89: =714*52.62% -> 375.7068
C90: 3 | N90: OBSERVACION: | T90: =SUM(T88:T89) -> 1484.4299 | U90: =SUM(U88:U89) -> 1.2292802e+09
C91: 4 | N91: 43100 | O91: 43281 | P91: =O91-N91 -> 181
C92: 5 | N92: 43090 | O92: 43434 | P92: =O92-N92 -> 344 | Q92: =P91/P92 -> 0.52616279
C93: OBSERVACIONES: EN LA CERTIFICACION No. 2 EMITIDA POR EL PROPONENTE INPLYCO, EL PROFESIONAL SOLO ACREDITA EL 52,62% DE DURACION DE TIEMPO DEL CONTRATO, POR CONSIGUIENTE SE REALIZA LA REGLA DE TRES SIMPLE CONFORME A LO INDICADO EN LA NOTA 2. | I93: =SUM(I88:I92) -> 1146.6131 | J93: =SUM(J88:J92) -> 1.0065004e+09 | K93: =SUM(K88:K92) -> 415.7068
C100: Residente de Interventoría Arquitecto o Ingeniero Civil. Mínimo tres (3) años de experiencia Profesional, contados a partir de la expedición de la matrícula profesional (por cada profesional) | K100: 3 | L100: GRUPO 1 | N100: CARGO | P100: RESIDENTE DE INTERVENTORIA | V100: GRUPO 1 | W100: 3
N101: NOMBRE | P101: =E103 -> ASTRID GONZALEZ GUTIERREZ
C102: CARGO | E102: RESIDENTE DE INTERVENTORIA | K102: CUMPLE
C103: NOMBRE | E103: ASTRID GONZALEZ GUTIERREZ | J103: 44095 | K103: 3 años profesional | L103: =F106 -> 4 | N103: 5.2. FACTOR FORMACIÓN ACADÉMICA Y PUBLICACIONES TÉCNICAS Y CIENTÍFICAS DEL EQUIPO DE TRABAJO (PUNTAJE 5)
C104: PROFESION | D104: ARQUITECTA | F104: EXP. MATRICULA PROF. | H104: 36766 | I104: =(J103-H104)/360 -> 20.358333 | K104: Experiencia Profesional | L104: =I105 -> CUMPLE
C105: POSGRADO | D105: NO APLICA | H105: CPLE / NO CPLE | I105: CUMPLE | K105: Posgrado | L105: NO APLICA
C106: 3 AÑOS | F106: =+G123 -> 4 | K106: 254 unidades de vivienda intervenida | L106: =K135 -> 365.2824 | N106: DIRECTOR DE INTERVENTORIA Criterio Puntaje | U106: PUNTAJE ASIGNADO
K107: Máx. 4 proyectos | L107: =L130 -> CUMPLE
C108: EXPERIENCIA PROFESIONAL | N108: Especialización y/o maestría y/o doctorado, en gerencia de proyectos y/o dirección de proyectos y/o en áreas de ingeniería y/o arquitectura.
C109: NOMBRE | D109: =E103 -> ASTRID GONZALEZ GUTIERREZ | J109: OBSERVACION | U109: NO APLICA
C110: DATO | D110: FECHA INICIAL | E110: FECHA FINAL | F110: DIAS TOTALES | G110: AÑOS | H110: MESES | I110: DIAS
C111: 1 | D111: 36941 | E111: 37155 | F111: =+E111-D111 -> 214 | G111: =DATEDIF(D111,E111,"Y") -> 0 | H111: =DATEDIF(D111,E111,"YM") -> 7 | I111: =DATEDIF(D111,E111,"MD") -> 2 | J111: PABLO GOMEZ SILVA - Folio 84 | N111: NOMBRE DEL TITULO | P111: NO APLICA | T111: CUMPLE / NO CUMPLE
C112: 2 | D112: 37267 | E112: 37502 | F112: =+E112-D112 -> 235 | G112: =DATEDIF(D112,E112,"Y") -> 0 | H112: =DATEDIF(D112,E112,"YM") -> 7 | I112: =DATEDIF(D112,E112,"MD") -> 23 | J112: INPLAYCO LTDA. - Folio 84A
C113: 3 | D113: 38991 | E113: 39230 | F113: =+E113-D113 -> 239 | G113: =DATEDIF(D113,E113,"Y") -> 0 | H113: =DATEDIF(D113,E113,"YM") -> 7 | I113: =DATEDIF(D113,E113,"MD") -> 27 | J113: CATALINA BOLIVAR PALMA - Folio 86A | N113: Las publicaciones técnicas y científicas deben estar relacionadas con el objeto a contratar y/o el cargo a desempeñar y/o con temas relacionas de la ingeniería civil y/o arquitectura.
C114: 4 | D114: 42115 | E114: 42459 | F114: =+E114-D114 -> 344 | G114: =DATEDIF(D114,E114,"Y") -> 0 | H114: =DATEDIF(D114,E114,"YM") -> 11 | I114: =DATEDIF(D114,E114,"MD") -> 9 | J114: CONSORCIO INCA 2015 - Folio 87A
C115: 5 | D115: 42612 | E115: 42733 | F115: =+E115-D115 -> 121 | G115: =DATEDIF(D115,E115,"Y") -> 0 | H115: =DATEDIF(D115,E115,"YM") -> 3 | I115: =DATEDIF(D115,E115,"MD") -> 29 | J115: CONSORCIO PRESIDENCIA 2016 - Folio 92
C116: 6 | D116: 43105 | E116: 43281 | F116: =+E116-D116 -> 176 | G116: =DATEDIF(D116,E116,"Y") -> 0 | H116: =DATEDIF(D116,E116,"YM") -> 5 | I116: =DATEDIF(D116,E116,"MD") -> 25 | J116: INPLAYCO SAS - Folio 92A
C117: 7 | D117: 43726 | E117: 43861 | F117: =+E117-D117 -> 135 | G117: =DATEDIF(D117,E117,"Y") -> 0 | H117: =DATEDIF(D117,E117,"YM") -> 4 | I117: =DATEDIF(D117,E117,"MD") -> 13 | J117: INPLAYCO LTDA. - Folio 103 | N117: NOMBRE DE LA PUBLICACION | P117: NO APLICA | T117: CUMPLE / NO CUMPLE
C118: SUB TOTAL | G118: =SUM(G111:G117) -> 0 | H118: =SUM(H111:H117) -> 44 | I118: =SUM(I111:I117) -> 128
G119: =+H120-H121 -> 4 | H119: =+I120-I121 -> 4
G120: =+G118+G119 -> 4 | H120: =(H118+H119)/12 -> 4 | I120: =+I118/30 -> 4.2666667
C121: AÑOS, MESES, DIAS | H121: =H120-INT(H120) -> 0 | I121: =I120-INT(I120) -> 0.26666667
...

Sheet DESPLEGABLES
A2: 81101500
A3: 95121900
A4: 81151600 | C4: 81101500, 95121900, 81151600, 93142000, 801015, 801016
A5: 93142000
A6: 801015
A7: NO PRESENTA
C8: PRESUPUESTO OFICIAL | E8: % | F8: 737717
E9: 1 | F9: 0.3 | G9: 0.5 | H9: 0.2 | I9: 0.15
E10: =E11/F8 -> 6154.7747 | F10: =+E10*F9 -> 1846.4324 | G10: =+E10*G9 -> 3077.3873 | H10: =+E10*H9 -> 1230.9549 | I10: =+E10*I9 -> 923.2162
E11: 4540481912 | F11: =+E11*F9 -> 1.3621446e+09 | G11: =+E11*G9 -> 2270240956 | H11: =+E11*H9 -> 9.0809638e+08 | I11: =+E11*I9 -> 6.8107229e+08
B14: 1997 | C14: 172005
B15: 1999 | C15: 236460
B16: 2001 | C16: 286000
B17: 2002 | C17: 309000
B18: 2003 | C18: 332000 | F18: ARQUITECTO
B19: 2004 | C19: 358000 | D19: =+#REF!/#REF! -> #REF! | E19: 0 | F19: ING CIVIL | H19: 81101500
B20: 2005 | C20: 381500 | D20: =+#REF!/#REF! -> #REF! | E20: 0 | F20: OTRO | H20: 95121900
B21: 2006 | C21: 408000 | D21: =+#REF!/#REF! -> #REF! | E21: 0 | F21: HABILITADO | H21: 81151600
B22: 2007 | C22: 433700 | D22: =+#REF!/#REF! -> #REF! | E22: 0 | F22: NO HABILITADO | H22: 93142000
B23: 2008 | C23: 461500 | D23: =+#REF!/#REF! -> #REF! | E23: 0 | H23: 801015
B24: 2009 | C24: 496900 | D24: =+#REF!/#REF! -> #REF! | E24: 0 | H24: 801016
B25: 2010 | C25: 515000 | D25: =+#REF!/#REF! -> #REF! | E25: 0 | H25: NO APLICA
B26: 2011 | C26: 535600 | D26: =+#REF!/#REF! -> #REF! | E26: 0
B27: 2012 | C27: 566700 | D27: =+#REF!/#REF! -> #REF! | E27: 0 | I27: 300
B28: 2013 | C28: 589500 | D28: =+#REF!/#REF! -> #REF! | E28: 0 | F28: FECHA CIERRE | H28: 1 | I28: 200
B29: 2014 | C29: 616000 | F29: 43129 | H29: 2 | I29: 100
B30: 2015 | C30: 644350 | H30: 3
B31: 2016 | C31: 689455
B32: 2017 | C32: 737717 | I32: 1
B33: 2018 | C33: 781242
C34: 1 | I34: 2
F35: ARQUITECTO | I35: 3
D36: =+#REF!/#REF! -> #REF! | E36: 0 | I36: 4
D37: =+#REF!/#REF! -> #REF! | E37: 0 | H37: 0 | I37: 5
D38: =+#REF!/#REF! -> #REF! | E38: 0 | F38: HABILITADO | H38: 25
D39: =+#REF!/#REF! -> #REF! | E39: 0 | F39: NO HABILITADO | H39: 50
D40: =+#REF!/#REF! -> #REF! | E40: 0 | H40: 75
H41: 0
H42: 50 | I42: 20
D43: 4 | F43: CUMPLE | G43: NO CUMPLE | H43: 100 | I43: 50
