Workbook

Sheet PRESUPUESTO GENERAL
A1: Adecuación del aula y baño de primera infancia en la Institución Educativa Nuevo Horizonte, sede Antonia Santos
A3: SEDE ANTONIA SANTOS
A4: ITEM | B4: DESCRIPCION | C4: UN | D4: CANT. | E4: V.UNITARIO | F4: VTOTAL
A5: 1.2 | B5: DEMOLICIÓN MUROS EN MAMPOSTERÍA 0.15 M | C5: M2 | D5: 6 | E5: =+'1,2'!AB60 -> 22788 | F5: =+E5*D5 -> 136728
A6: CONCRETOS
A7: 3.1 | B7: VIGA AMARRE EN CONCRETO 3500 PSI | C7: M3 | D7: 0.9 | E7: =+'3,1'!AB60 -> 830106 | F7: =+E7*D7 -> 747095.4
A8: 3.2 | B8: VIGA AÉREA 3500 PSI | C8: M3 | D8: 0.108 | E8: =+'3,2'!AB60 -> 1180474 | F8: =+E8*D8 -> 127491.19
A9: 3.4 | B9: COLUMNAS 3500 PSI | C9: M3 | D9: 0.252 | E9: =+'3,4'!AB60 -> 1101603 | F9: =+E9*D9 -> 277603.96
A10: ACERO DE REFUERZO
A11: 4.1 | B11: ACERO FIGURADO 60000 PSI | C11: KG | D11: 165.97307 | E11: =+'4,1'!AB60 -> 8062 | F11: =+E11*D11 -> 1338074.9
A12: MAMPOSTERIA
A13: 5.1 | B13: MURO EN BLOQUE No. 5 E=0.12 | C13: M2 | D13: 8.32 | E13: =+'5,1'!AB60 -> 60726 | F13: =+E13*D13 -> 505240.32
A14: PAREDES Y ENCHAPES
A15: 6.1 | B15: BALDOSA CERÁMICA PARED 20X20, CALIDAD PRIMERA | C15: M2 | D15: =+(2*4)*1.8 -> 14.4 | E15: =+'6,1'!AB60 -> 85443 | F15: =+E15*D15 -> 1230379.2
A16: 6.2 | B16: BALDOSA CERÁMICA ANTIDESLIZANTE PARA PISO, CALIDAD PRIMERA | C16: M2 | D16: =2.5*2.5 -> 6.25 | E16: =+'6,2'!AB60 -> 90212 | F16: =+E16*D16 -> 563825
A17: 6.3 | B17: MURO DRYWALL DOBLE CARA 0.12 M | C17: M2 | D17: =6.8*1.8 -> 12.24 | E17: =+'6,3'!AB64 -> 139420 | F17: =+E17*D17 -> 1706500.8
A18: HIDROSANITARIO
A19: 7.1 | B19: PUNTO HIDRÁULICO PVC-P/PARAL 1/2" | C19: UND | D19: 2 | E19: =+'7,1'!AB63 -> 104338 | F19: =+E19*D19 -> 208676
A20: 7.2 | B20: SALIDA SANITARIA PVC-S/PARAL 2" | C20: UND | D20: 2 | E20: =+'7,2'!AB63 -> 109109 | F20: =+E20*D20 -> 218218
A21: 7.3 | B21: SALIDA SANITARIA PVC-S/PARAL 4" | C21: UND | D21: 1 | E21: =+'7,3'!AB63 -> 139668 | F21: =+E21*D21 -> 139668
A22: 7.4 | B22: TAPA CAJA DE INSPECCIÓN 110 X 110 | C22: UND | D22: 1 | E22: =+'7,4'!AB63 -> 66002 | F22: =+E22*D22 -> 66002
A23: 7.5 | B23: REALSE DE CAJA DE INSPECCION | C23: UND | D23: 1 | E23: =+'7,5'!AB63 -> 94069 | F23: =+E23*D23 -> 94069
A24: 7.6 | B24: SUMINISTRO E INSTALACIÓN SANITARIO INFANTIL (INCLUYE GRIFERÍA) | C24: UND | D24: 1 | E24: =+'7,6'!AB63 -> 673203 | F24: =+E24*D24 -> 673203
A25: 7.7 | B25: SUMINISTRO E INSTALACIÓN LAVAMANOS COLGAR (INCLUYE GRIFERÍA) | C25: UND | D25: 1 | E25: =+'7,7'!AB63 -> 212750 | F25: =+E25*D25 -> 212750
A26: CARPINTERIA METALICA
A27: 9.8 | B27: MARCO PARA PUERTA EN LÁMINA CAL 18-0.8 | C27: UND | D27: 2 | E27: =+'9,8'!AB63 -> 230693 | F27: =+E27*D27 -> 461386
A28: 9.9 | B28: PUERTA EN LAMINA CAL 18 INC. ANTICORROSIVO | C28: M2 | D28: 2 | E28: =+'9,9'!AB63 -> 308469 | F28: =+E28*D28 -> 616938
A29: VINILOS Y PINTURAS
A30: 10.2 | B30: VINILO SOBRE PAÑETE 2 MANOS | C30: M2 | D30: 18 | E30: =+'10,2'!AB63 -> 25607 | F30: =+E30*D30 -> 460926
A31: 10.3 | B31: ESTUCO | C31: M2 | D31: 18 | E31: =+'10,3'!AB63 -> 12044 | F31: =+E31*D31 -> 216792
A32: 10.4 | B32: PAÑETE LISO MUROS 1:4, E=1.5 CM (LINEAL) | C32: ML | D32: 4 | E32: =+'10,4'!AB63 -> 17467 | F32: =+E32*D32 -> 69868
A33: 10.5 | B33: PAÑETE LISO MUROS 1:4, E=1.5 CM | C33: M2 | D33: 18 | E33: =+'10,5'!AB63 -> 27663 | F33: =+E33*D33 -> 497934
A34: COSTO DIRECTO | F34: =+SUM(F5:F33) -> 10569369
A36: COSTO DIRECTO TOTAL | F36: =+F34 -> 10569369
A37: ADMINISTRACION | E37: =+'Desglose AIU'!G15 -> 0.103 | F37: =+F36*E37 -> 1088645
A38: IMPREVISTOS | E38: =+'Desglose AIU'!G16 -> 0.01 | F38: =+F36*E38 -> 105693.69
A39: UTILIDAD | E39: =+'Desglose AIU'!G17 -> 0.05 | F39: =+F36*E39 -> 528468.44
A40: COSTO INDIRECTO | F40: =+F37+F38+F39 -> 1722807.1
A41: TOTAL | F41: =+F36+F40 -> 12292176
B758: Firma:
...

Sheet Desglose AIU
B3: CALCULO DE LA ADMINISTRACIÓN, IMPREVISTO Y UTILIDAD
B4: CONCEPTO | C4: V.M./CON PRESTACIONES | D4: Dedicación | E4: Duración de la obra (Meses) | F4: V.PARCIAL | G4: %
B5: COSTO DIRECTO | G5: ='PRESUPUESTO GENERAL'!F36 -> 10569369
B6: ADMINISTRACION
B7: GASTOS DE LEGALIZACION E IMPUESTOS | C7: Valor | E7: % | F7: =SUM(F8:F13) -> 1088645 | G7: =+F7/G5 -> 0.103
B8: Contribucion Especial - Impuesto de Guerra | C8: =$G$5 -> 10569369 | E8: 0.05 | F8: =+C8*E8 -> 528468.44
B9: Poliza Única de Cumplimiento | C9: =$G$5 -> 10569369 | E9: 0.02 | F9: =+C9*E9 -> 211387.37
B10: Retefuente | C10: =$G$5 -> 10569369 | E10: 0.02 | F10: =+C10*E10 -> 211387.37
B11: Rete ICA | C11: =$G$5 -> 10569369 | E11: 0.01 | F11: =+C11*E11 -> 105693.69
B12: Tasa bomberil | C12: =F11 -> 105693.69 | E12: 0.05 | F12: =+C12*E12 -> 5284.6844
B13: Tasa FIC - SENA | C13: =$G$5 -> 10569369 | E13: 0.0025 | F13: =+C13*E13 -> 26423.422
B15: A | G15: =+G7 -> 0.103
B16: I | G16: 0.01
B17: U | G17: 0.05
B18: A.I.U. | G18: =SUM(G15:G17) -> 0.163

Sheet PRESUPUESTO
A1: MANTENIMIENTO DE INFRAESTRUCTURA DE TRES SALONES DE PRIMARIA Y TRES SALONES DE SECUNDARIA EN LA SEDE PRINCIPAL DE LA INSTITUCIÓN EDUCATIVA POLICARPA SALAVARRIETA DEL MUNICIPIO DE GIRARDOT - CUNDINAMARCA.
A2: ITEM | B2: DESCRIPCION | C2: UN | D2: CANT. | E2: V.UNITARIO | F2: VTOTAL
A3: PRELIMINAR | G3: iccu
A4: 1.1 | B4: DEMOLICIÓN PLACA PISO 0.10M | C4: M2 | D4: 34.95 | E4: =+#REF! -> #REF! | F4: =+E4*D4 -> #REF!
A5: 1.2 | B5: DEMOLICIÓN MUROS EN MAMPOSTERÍA 0.15 M | C5: M2 | D5: 8.4 | E5: =+'1,2'!AB60 -> 22788 | F5: =+E5*D5 -> 191419.2
A6: 1.3 | B6: RETIRO DE TOCON DE MADERA | C6: UND | D6: 2 | E6: =+#REF! -> #REF! | F6: =+E6*D6 -> #REF!
A7: 1.4 | B7: DESMONTE APARATOS SANITARIOS | C7: UND | D7: 4 | E7: =+#REF! -> #REF! | F7: =+E7*D7 -> #REF!
A8: EXCAVACIONES Y RELLENOS
A9: 2.1 | B9: EXCAVACIÓN MANUAL EN MATERIAL COMÚN H=0.0-2.0 M (INCLUYE RETIRO DE SOBRANTES A UNA DISTANCIA MENOR DE 5 KM) | C9: M3 | D9: 6.33 | E9: =+#REF! -> #REF! | F9: =+E9*D9 -> #REF!
A10: 2.2 | B10: RELLENO EN RECEBO COMÚN COMPACTADO MECÁNICAMENTE | C10: M3 | D10: 5.25 | E10: =+#REF! -> #REF! | F10: =+E10*D10 -> #REF!
A11: CONCRETOS
A12: 3.1 | B12: VIGA AMARRE EN CONCRETO 3500 PSI | C12: M3 | D12: 0.9 | E12: =+'3,1'!AB60 -> 830106 | F12: =+E12*D12 -> 747095.4
A13: 3.2 | B13: VIGA AÉREA 3500 PSI | C13: M3 | D13: 0.108 | E13: =+'3,2'!AB60 -> 1180474 | F13: =+E13*D13 -> 127491.19
A14: 3.3 | B14: PLACA DE CONTRAPISO 3000 PSI H= 0,10 CM CON REFUERZO EN MALLA ELECTROSOLDADA 6 MM, HUECO DE 15*15 | C14: M2 | D14: 31.1 | E14: =+#REF! -> #REF! | F14: =+E14*D14 -> #REF!
A15: 3.4 | B15: COLUMNAS 3500 PSI | C15: M3 | D15: 0.252 | E15: =+'3,4'!AB60 -> 1101603 | F15: =+E15*D15 -> 277603.96
A16: ACERO DE REFUERZO
A17: 4.1 | B17: ACERO FIGURADO 60000 PSI | C17: KG | D17: 120 | E17: =+'4,1'!AB60 -> 8062 | F17: =+E17*D17 -> 967440
A18: MAMPOSTERIA
A19: 5.1 | B19: MURO EN BLOQUE No. 5 E=0.12 | C19: M2 | D19: 15.98 | E19: =+'5,1'!AB60 -> 60726 | F19: =+E19*D19 -> 970401.48
A20: 5.2 | B20: MURO EN LADRILLO TOLETE RECOCIDO 0.12 M (LINEAL) | C20: ML | D20: 11 | E20: =+#REF! -> #REF! | F20: =+E20*D20 -> #REF!
A21: PAREDES Y ENCHAPES
A22: 6.1 | B22: BALDOSA CERÁMICA PARED 20X20, CALIDAD PRIMERA | C22: M2 | D22: 27 | E22: =+'6,1'!AB60 -> 85443 | F22: =+E22*D22 -> 2306961
A23: 6.2 | B23: BALDOSA CERÁMICA ANTIDESLIZANTE PARA PISO, CALIDAD PRIMERA | C23: M2 | D23: 25 | E23: =+'6,2'!AB60 -> 90212 | F23: =+E23*D23 -> 2255300
A24: HIDROSANITARIO
A25: 7.1 | B25: PUNTO HIDRÁULICO PVC-P/PARAL 1/2" | C25: UND | D25: 6 | E25: =+'7,1'!AB63 -> 104338 | F25: =+E25*D25 -> 626028
A26: 7.2 | B26: SALIDA SANITARIA PVC-S/PARAL 2" | C26: UND | D26: 3 | E26: =+'7,2'!AB63 -> 109109 | F26: =+E26*D26 -> 327327
A27: 7.3 | B27: SALIDA SANITARIA PVC-S/PARAL 4" | C27: UND | D27: 3 | E27: =+'7,3'!AB63 -> 139668 | F27: =+E27*D27 -> 419004
A28: 7.4 | B28: TAPA CAJA DE INSPECCIÓN 110 X 110 | C28: UND | D28: 1 | E28: =+'7,4'!AB63 -> 66002 | F28: =+E28*D28 -> 66002
A29: 7.5 | B29: REALSE DE CAJA DE INSPECCION | C29: UND | D29: 1 | E29: =+'7,5'!AB63 -> 94069 | F29: =+E29*D29 -> 94069
A30: 7.6 | B30: SUMINISTRO E INSTALACIÓN SANITARIO INFANTIL (INCLUYE GRIFERÍA) | C30: UND | D30: 2 | E30: =+'7,6'!AB63 -> 673203 | F30: =+E30*D30 -> 1346406
A31: 7.7 | B31: SUMINISTRO E INSTALACIÓN LAVAMANOS COLGAR (INCLUYE GRIFERÍA) | C31: UND | D31: 3 | E31: =+'7,7'!AB63 -> 212750 | F31: =+E31*D31 -> 638250
A32: 7.8 | B32: SUMINISTRO E INSTALACIÓN SANITARIO TANQUE (INCLUYE GRIFERÍA) | C32: UND | D32: 1 | E32: =+#REF! -> #REF! | F32: =+E32*D32 -> #REF!
A33: TECHOS Y CIELO RASO
A34: 8.1 | B34: CIELO RASO EN PVC e=8 mm (INCLUYE ESTRUCTURA DE APOYO) | C34: M2 | D34: =414.32-57.73-57.6 -> 298.99 | E34: =+#REF! -> #REF! | F34: =+E34*D34 -> #REF!
A35: CARPINTERIA METALICA
A36: 9.1 | B36: RECUBRIMIETNO DE VANO CON ANJEO TEMPLADO CONTROL DE PLAGAS; ANJEO EN FIBRA DE VIDRIO, ESTE ANJEO DEBE INSTALARSE CON PERFILES EN SUS AREISTAS PARA SU FIJACION, ELIMINANDO VANOS Y LUCES. INCLUYE SUMINISTRO, FRABRICACION Y FIJACION. | C36: M2 | D36: 52.949 | E36: =+'9,1'!AB63 -> 30091 | F36: =+E36*D36 -> 1593288.4
A37: 9.2 | B37: BARANDA DE SEGURIDAD PARA VACIO EN TUBO DE ACERO DE 2", ANCLADA AL PISO, INCLUYE DEMOLICIO, ANCLAJE Y RESANE | C37: ML | D37: 10.4 | E37: =+'9,2'!AB63 -> 137596 | F37: =+E37*D37 -> 1430998.4
A38: 9.3 | B38: REJA BANCARIA EN VARILLA CUADRADA DE 1/2" INC. ANTICORROSIVO | C38: M2 | D38: 12.72 | E38: =+'9,3'!AB63 -> 223989 | F38: =+E38*D38 -> 2849140.1
A39: 9.4 | B39: CERRAMIENTO MALLA ESLABONADA C. 10 INC. ÁNGULO (PARAL EN TUBO ESTRUCTURAL GALVANIZADO 2") | C39: M2 | D39: =18*2 -> 36 | E39: =+'9,4'!AB63 -> 165860 | F39: =+E39*D39 -> 5970960
A40: 9.5 | B40: ANTICORROSIVO SOBRE LÁMINA LINEAL | C40: ML | D40: 54 | E40: =+'9,5'!AB63 -> 4848 | F40: =+E40*D40 -> 261792
...

Sheet 1,2
H2: FORMATO ANÁLISIS DE PRECIOS UNITARIOS
B3: Fecha
B4: 20 | E4: 6 | G4: 2025
B5: DD | E5: MM | G5: AA
D9: LICITACIÓN O CONTRATO No. | E9: Adecuación del aula y baño de primera infancia en la Institución Educativa Nuevo Horizonte, sede Antonia Santos | N9: DE | P9: 2025
D11: OBJETO GRUPO No. _____
D12: Adecuación del aula y baño de primera infancia en la Institución Educativa Nuevo Horizonte, sede Antonia Santos
D17: B. DATOS ESPECÍFICOS
C19: item | F19: Descripción | R19: Unidad | U19: Cantidad
C20: 1.2 | F20: DEMOLICIÓN MUROS EN MAMPOSTERÍA 0.15 M | R20: M2 | U20: 1
D24: 1. Equipo
C26: ID | D26: Descripción | J26: Tipo | L26: Unidad | M26: Tarifa | R26: Rendimiento | U26: Vr. Unitario
D27: VOLQUETA M3 | L27: H | M27: 79797 | R27: 17 | U27: =+M27/R27 -> 4693.9412
D33: SUBTOTAL | U33: =SUM(U27:Y32) -> 4693.9412
D35: 2. Materiales
C37: ID | D37: Descripción | L37: Unidad | M37: Cantidad | R37: Precio Unit. | U37: Vr Unitario
C44: SUBTOTAL | U44: =SUM(U38:X43) -> 0
D46: 3. Transportes
C48: ID | D48: Material | I48: Unidad | J48: Vol. o Peso | L48: Distancia | M48: Cantidad | R48: Tarifa | U48: Vr. Unitario
U50: =IFERROR(ROUND(#REF!*R50,0),"")
U51: =IFERROR(ROUND(M50*R51,0),"") -> 0
C52: SUBTOTAL | U52: =SUM(U49:X51) -> 0
D54: 4. Mano de Obra
C56: ID | D56: Trabajador | I56: Unidad | J56: Precio Unit. | L56: Costo Prestacional. | M56: Total | R56: Rendimiento | U56: Vr. Unitario
D57: AYUDANTE (2) AA | I57: JRN | J57: 123370 | L57: 2.2 | M57: =+L57*J57 -> 271414 | R57: 15 | U57: =+M57/R57 -> 18094.267
I58: =+IFERROR(VLOOKUP(#REF!,#REF!,4,FALSE),"") | J58: =+IFERROR(VLOOKUP(#REF!,#REF!,5,FALSE),"") | L58: =IFERROR(J58*75.89%,"") | M58: =IFERROR(+J58+L58,"") | U58: =IFERROR(ROUND(M58/R58,0),"")
D59: SUBTOTAL | U59: =SUM(U57:X58) -> 18094.267
C60: TOTAL COSTO DIRECTO | U60: =ROUND(U59+U52+U44+U33,0) -> 22788 | AB60: =+U60 -> 22788

Sheet 3,1
H2: FORMATO ANÁLISIS DE PRECIOS UNITARIOS
B3: Fecha
B4: 20 | E4: 6 | G4: 2025
B5: DD | E5: MM | G5: AA
D9: LICITACIÓN O CONTRATO No. | E9: Adecuación del aula y baño de primera infancia en la Institución Educativa Nuevo Horizonte, sede Antonia Santos | N9: DE | P9: 2025
D11: OBJETO GRUPO No. _____
D12: Adecuación del aula y baño de primera infancia en la Institución Educativa Nuevo Horizonte, sede Antonia Santos
D17: B. DATOS ESPECÍFICOS
C19: item | F19: Descripción | R19: Unidad | U19: Cantidad
C20: 3.1 | F20: VIGA AMARRE EN CONCRETO 3500 PSI | R20: M3 | U20: 1
D24: 1. Equipo
C26: ID | D26: Descripción | J26: Tipo | L26: Unidad | M26: Tarifa | R26: Rendimiento | U26: Vr. Unitario
D27: VIBRADOR PARA CONCRETO | L27: D | M27: 82435 | R27: 25 | U27: =+M27/R27 -> 3297.4
D33: SUBTOTAL | U33: =SUM(U27:Y32) -> 3297.4
D35: 2. Materiales
C37: ID | D37: Descripción | L37: Unidad | M37: Cantidad | R37: Precio Unit. | U37: Vr Unitario
D38: CONCRETO 3500 PSI | L38: M3 | M38: 1.1 | R38: 426010 | U38: =+R38*M38 -> 468611
D39: PUNTILLA CON CABEZA 2" | L39: LB | M39: 1.47 | R39: 6430 | U39: =+M39*R39 -> 9452.1
D40: REPISA EN ORDINARIO | L40: ML | M40: 3.11 | R40: 3941 | U40: =+M40*R40 -> 12256.51
D41: TABLA BURRA ORDINARIO 0.30 | L41: ML | M41: 3.52 | R41: 7703 | U41: =+M41*R41 -> 27114.56
C44: SUBTOTAL | U44: =SUM(U38:X43) -> 517434.17
D46: 3. Transportes
C48: ID | D48: Material | I48: Unidad | J48: Vol. o Peso | L48: Distancia | M48: Cantidad | R48: Tarifa | U48: Vr. Unitario
U50: =IFERROR(ROUND(#REF!*R50,0),"")
U51: =IFERROR(ROUND(M50*R51,0),"") -> 0
C52: SUBTOTAL | U52: =SUM(U49:X51) -> 0
D54: 4. Mano de Obra
C56: ID | D56: Trabajador | I56: Unidad | J56: Precio Unit. | L56: Costo Prestacional. | M56: Total | R56: Rendimiento | U56: Vr. Unitario
D57: MANO DE OBRA AA | I57: JRN | J57: 154687 | L57: 2.2 | M57: =+L57*J57 -> 340311.4 | R57: 1.1 | U57: =+M57/R57 -> 309374
I58: =+IFERROR(VLOOKUP(#REF!,#REF!,4,FALSE),"") | J58: =+IFERROR(VLOOKUP(#REF!,#REF!,5,FALSE),"") | L58: =IFERROR(J58*75.89%,"") | M58: =IFERROR(+J58+L58,"") | U58: =IFERROR(ROUND(M58/R58,0),"")
D59: SUBTOTAL | U59: =SUM(U57:X58) -> 309374
C60: TOTAL COSTO DIRECTO | U60: =ROUND(U59+U52+U44+U33,0) -> 830106 | AB60: =+U60 -> 830106

Sheet 3,2
H2: FORMATO ANÁLISIS DE PRECIOS UNITARIOS
B3: Fecha
B4: 20 | E4: 6 | G4: 2025
B5: DD | E5: MM | G5: AA
D9: LICITACIÓN O CONTRATO No. | E9: Adecuación del aula y baño de primera infancia en la Institución Educativa Nuevo Horizonte, sede Antonia Santos | N9: DE | P9: 2025
D11: OBJETO GRUPO No. _____
D12: Adecuación del aula y baño de primera infancia en la Institución Educativa Nuevo Horizonte, sede Antonia Santos
D17: B. DATOS ESPECÍFICOS
C19: item | F19: Descripción | R19: Unidad | U19: Cantidad
C20: 3.2 | F20: VIGA AÉREA 3500 PSI | R20: M3 | U20: 1
D24: 1. Equipo
C26: ID | D26: Descripción | J26: Tipo | L26: Unidad | M26: Tarifa | R26: Rendimiento | U26: Vr. Unitario
D27: VIBRADOR PARA CONCRETO | L27: D | M27: 82435 | R27: 3.12 | U27: =+M27/R27 -> 26421.474
D28: ANDAMIO SECCIÓN | L28: D | M28: 1791 | R28: 3 | U28: =+M28/R28 -> 597
D33: SUBTOTAL | U33: =SUM(U27:Y32) -> 27018.474
D35: 2. Materiales
C37: ID | D37: Descripción | L37: Unidad | M37: Cantidad | R37: Precio Unit. | U37: Vr Unitario
D38: ALAMBRE NEGRO NO. 18 | L38: KG | M38: 2.1 | R38: 12294 | U38: =+R38*M38 -> 25817.4
D39: CONCRETO 3500 PSI | L39: M3 | M39: 1.03 | R39: 426010 | U39: =+M39*R39 -> 438790.3
D40: ALQUILER BOMBA PARA CONCRETO | L40: M3 | M40: 1.05 | R40: 61200 | U40: =+M40*R40 -> 64260
D41: PUNTILLA CON CABEZA 2" | L41: LB | M41: 3.99 | R41: 6430 | U41: =+M41*R41 -> 25655.7
D42: REPISA EN ORDINARIO | L42: ML | M42: 4.76 | R42: 3941 | U42: =+M42*R42 -> 18759.16
D43: TABLA BURRA ORDINARIO 0.30 | L43: ML | M43: 7.35 | R43: 7703 | U43: =+M43*R43 -> 56617.05
C44: SUBTOTAL | U44: =SUM(U38:X43) -> 629899.61
D46: 3. Transportes
C48: ID | D48: Material | I48: Unidad | J48: Vol. o Peso | L48: Distancia | M48: Cantidad | R48: Tarifa | U48: Vr. Unitario
U50: =IFERROR(ROUND(#REF!*R50,0),"")
U51: =IFERROR(ROUND(M50*R51,0),"") -> 0
C52: SUBTOTAL | U52: =SUM(U49:X51) -> 0
D54: 4. Mano de Obra
C56: ID | D56: Trabajador | I56: Unidad | J56: Precio Unit. | L56: Costo Prestacional. | M56: Total | R56: Rendimiento | U56: Vr. Unitario
D57: MANO DE OBRA AA | I57: JRN | J57: 154687 | L57: 2.2 | M57: =+L57*J57 -> 340311.4 | R57: 0.65 | U57: =+M57/R57 -> 523556
I58: =+IFERROR(VLOOKUP(#REF!,#REF!,4,FALSE),"") | J58: =+IFERROR(VLOOKUP(#REF!,#REF!,5,FALSE),"") | L58: =IFERROR(J58*75.89%,"") | M58: =IFERROR(+J58+L58,"") | U58: =IFERROR(ROUND(M58/R58,0),"")
D59: SUBTOTAL | U59: =SUM(U57:X58) -> 523556
C60: TOTAL COSTO DIRECTO | U60: =ROUND(U59+U52+U44+U33,0) -> 1180474 | AB60: =+U60 -> 1180474

Sheet 3,4
H2: FORMATO ANÁLISIS DE PRECIOS UNITARIOS
B3: Fecha
B4: 20 | E4: 6 | G4: 2025
B5: DD | E5: MM | G5: AA
D9: LICITACIÓN O CONTRATO No. | E9: Adecuación del aula y baño de primera infancia en la Institución Educativa Nuevo Horizonte, sede Antonia Santos | N9: DE | P9: 2025
D11: OBJETO GRUPO No. _____
D12: Adecuación del aula y baño de primera infancia en la Institución Educativa Nuevo Horizonte, sede Antonia Santos
D17: B. DATOS ESPECÍFICOS
C19: item | F19: Descripción | R19: Unidad | U19: Cantidad
C20: 3.4 | F20: COLUMNAS 3500 PSI | R20: M3 | U20: 1
D24: 1. Equipo
C26: ID | D26: Descripción | J26: Tipo | L26: Unidad | M26: Tarifa | R26: Rendimiento | U26: Vr. Unitario
D27: VIBRADOR PARA CONCRETO | L27: D | M27: 82435 | R27: 3 | U27: =+M27/R27 -> 27478.333
D28: ANDAMIO SECCIÓN | L28: D | M28: 1791 | R28: 1 | U28: =+M28/R28 -> 1791
D33: SUBTOTAL | U33: =SUM(U27:Y32) -> 29269.333
D35: 2. Materiales
C37: ID | D37: Descripción | L37: Unidad | M37: Cantidad | R37: Precio Unit. | U37: Vr Unitario
D38: CONCRETO 3500 PSI | L38: M3 | M38: 1.03 | R38: 426010 | U38: =+R38*M38 -> 438790.3
D39: PARAL TELESCÓPICO 2.2 M | L39: MS | M39: 1 | R39: 8957 | U39: =+R39*M39 -> 8957
D40: PUNTILLA CON CABEZA 2" | L40: LB | M40: 8 | R40: 6430 | U40: =+R40*M40 -> 51440
D41: REPISA EN ORDINARIO | L41: ML | M41: 7.26 | R41: 3941 | U41: =+R41*M41 -> 28611.66
D42: TABLA BURRA CEDRO ROJO 0.28 | L42: ML | M42: 2.64 | R42: 22044 | U42: =+R42*M42 -> 58196.16
D43: ANTISOL | L43: KG | M43: 0.01 | R43: 17915 | U43: =+R43*M43 -> 179.15
C44: SUBTOTAL | U44: =SUM(U38:X43) -> 586174.27
D46: 3. Transportes
C48: ID | D48: Material | I48: Unidad | J48: Vol. o Peso | L48: Distancia | M48: Cantidad | R48: Tarifa | U48: Vr. Unitario
U50: =IFERROR(ROUND(#REF!*R50,0),"")
U51: =IFERROR(ROUND(M50*R51,0),"") -> 0
C52: SUBTOTAL | U52: =SUM(U49:X51) -> 0
D54: 4. Mano de Obra
C56: ID | D56: Trabajador | I56: Unidad | J56: Precio Unit. | L56: Costo Prestacional. | M56: Total | R56: Rendimiento | U56: Vr. Unitario
D57: MANO DE OBRA AA | I57: JRN | J57: 154687 | L57: 2.2 | M57: =+L57*J57 -> 340311.4 | R57: 0.7 | U57: =+M57/R57 -> 486159.14
I58: =+IFERROR(VLOOKUP(#REF!,#REF!,4,FALSE),"") | J58: =+IFERROR(VLOOKUP(#REF!,#REF!,5,FALSE),"") | L58: =IFERROR(J58*75.89%,"") | M58: =IFERROR(+J58+L58,"") | U58: =IFERROR(ROUND(M58/R58,0),"")
D59: SUBTOTAL | U59: =SUM(U57:X58) -> 486159.14
C60: TOTAL COSTO DIRECTO | U60: =ROUND(U59+U52+U44+U33,0) -> 1101603 | AB60: =+U60 -> 1101603

Sheet 4,1
H2: FORMATO ANÁLISIS DE PRECIOS UNITARIOS
B3: Fecha
B4: 20 | E4: 6 | G4: 2025
B5: DD | E5: MM | G5: AA
D9: LICITACIÓN O CONTRATO No. | E9: Adecuación del aula y baño de primera infancia en la Institución Educativa Nuevo Horizonte, sede Antonia Santos | N9: DE | P9: 2025
D11: OBJETO GRUPO No. _____
D12: Adecuación del aula y baño de primera infancia en la Institución Educativa Nuevo Horizonte, sede Antonia Santos
D17: B. DATOS ESPECÍFICOS
C19: item | F19: Descripción | R19: Unidad | U19: Cantidad
C20: 4.1 | F20: ACERO FIGURADO 60000 PSI | R20: KG | U20: 1
D24: 1. Equipo
C26: ID | D26: Descripción | J26: Tipo | L26: Unidad | M26: Tarifa | R26: Rendimiento | U26: Vr. Unitario
D27: HERRAMIENTA MENOR | L27: GL | M27: 53.17 | R27: 1 | U27: =+M27/R27 -> 53.17
D33: SUBTOTAL | U33: =SUM(U27:Y32) -> 53.17
D35: 2. Materiales
C37: ID | D37: Descripción | L37: Unidad | M37: Cantidad | R37: Precio Unit. | U37: Vr Unitario
D38: ACERO DE REFUERZO 60000 PSI | L38: KG | M38: 1.05 | R38: 5958 | U38: =+R38*M38 -> 6255.9
D39: ALAMBRE NEGRO NO. 18 | L39: KG | M39: 0.03 | R39: 12294 | U39: =+R39*M39 -> 368.82
D40: SEGUETA | L40: UND | M40: 0.05 | R40: 6413 | U40: =+R40*M40 -> 320.65
C44: SUBTOTAL | U44: =SUM(U38:X43) -> 6945.37
D46: 3. Transportes
C48: ID | D48: Material | I48: Unidad | J48: Vol. o Peso | L48: Distancia | M48: Cantidad | R48: Tarifa | U48: Vr. Unitario
U50: =IFERROR(ROUND(#REF!*R50,0),"")
U51: =IFERROR(ROUND(M50*R51,0),"") -> 0
C52: SUBTOTAL | U52: =SUM(U49:X51) -> 0
D54: 4. Mano de Obra
C56: ID | D56: Trabajador | I56: Unidad | J56: Precio Unit. | L56: Costo Prestacional. | M56: Total | R56: Rendimiento | U56: Vr. Unitario
D57: MANO DE OBRA AA | I57: JRN | J57: 154687 | L57: 2.2 | M57: =+L57*J57 -> 340311.4 | R57: 320 | U57: =+M57/R57 -> 1063.4731
I58: =+IFERROR(VLOOKUP(#REF!,#REF!,4,FALSE),"") | J58: =+IFERROR(VLOOKUP(#REF!,#REF!,5,FALSE),"") | L58: =IFERROR(J58*75.89%,"") | M58: =IFERROR(+J58+L58,"") | U58: =IFERROR(ROUND(M58/R58,0),"")
D59: SUBTOTAL | U59: =SUM(U57:X58) -> 1063.4731
C60: TOTAL COSTO DIRECTO | U60: =ROUND(U59+U52+U44+U33,0) -> 8062 | AB60: =+U60 -> 8062

Sheet 5,1
H2: FORMATO ANÁLISIS DE PRECIOS UNITARIOS
B3: Fecha
B4: 20 | E4: 6 | G4: 2025
B5: DD | E5: MM | G5: AA
D9: LICITACIÓN O CONTRATO No. | E9: Adecuación del aula y baño de primera infancia en la Institución Educativa Nuevo Horizonte, sede Antonia Santos | N9: DE | P9: 2025
D11: OBJETO GRUPO No. _____
D12: Adecuación del aula y baño de primera infancia en la Institución Educativa Nuevo Horizonte, sede Antonia Santos
D17: B. DATOS ESPECÍFICOS
C19: item | F19: Descripción | R19: Unidad | U19: Cantidad
C20: 5.1 | F20: MURO EN BLOQUE No. 5 E=0.12 | R20: M2 | U20: 1
D24: 1. Equipo
C26: ID | D26: Descripción | J26: Tipo | L26: Unidad | M26: Tarifa | R26: Rendimiento | U26: Vr. Unitario
D33: SUBTOTAL | U33: =SUM(U27:Y32) -> 0
D35: 2. Materiales
C37: ID | D37: Descripción | L37: Unidad | M37: Cantidad | R37: Precio Unit. | U37: Vr Unitario
D38: BLOQUE No. 5 | L38: UND | M38: 12.7 | R38: 2125 | U38: =+R38*M38 -> 26987.5
D39: MORTERO 1:4 ELABORADO EN OBRA | L39: M3 | M39: 0.015 | R39: 547271 | U39: =+R39*M39 -> 8209.065
C44: SUBTOTAL | U44: =SUM(U38:X43) -> 35196.565
D46: 3. Transportes
C48: ID | D48: Material | I48: Unidad | J48: Vol. o Peso | L48: Distancia | M48: Cantidad | R48: Tarifa | U48: Vr. Unitario
U50: =IFERROR(ROUND(#REF!*R50,0),"")
U51: =IFERROR(ROUND(M50*R51,0),"") -> 0
C52: SUBTOTAL | U52: =SUM(U49:X51) -> 0
D54: 4. Mano de Obra
C56: ID | D56: Trabajador | I56: Unidad | J56: Precio Unit. | L56: Costo Prestacional. | M56: Total | R56: Rendimiento | U56: Vr. Unitario
D57: MANO DE OBRA AA | I57: JRN | J57: 154687 | L57: 2.2 | M57: =+L57*J57 -> 340311.4 | R57: 13.33 | U57: =+M57/R57 -> 25529.737
I58: =+IFERROR(VLOOKUP(#REF!,#REF!,4,FALSE),"") | J58: =+IFERROR(VLOOKUP(#REF!,#REF!,5,FALSE),"") | L58: =IFERROR(J58*75.89%,"") | M58: =IFERROR(+J58+L58,"") | U58: =IFERROR(ROUND(M58/R58,0),"")
D59: SUBTOTAL | U59: =SUM(U57:X58) -> 25529.737
C60: TOTAL COSTO DIRECTO | U60: =ROUND(U59+U52+U44+U33,0) -> 60726 | AB60: =+U60 -> 60726

Sheet 6,1
H2: FORMATO ANÁLISIS DE PRECIOS UNITARIOS
B3: Fecha
B4: 20 | E4: 6 | G4: 2025
B5: DD | E5: MM | G5: AA
D9: LICITACIÓN O CONTRATO No. | E9: Adecuación del aula y baño de primera infancia en la Institución Educativa Nuevo Horizonte, sede Antonia Santos | N9: DE | P9: 2025
D11: OBJETO GRUPO No. _____
D12: Adecuación del aula y baño de primera infancia en la Institución Educativa Nuevo Horizonte, sede Antonia Santos
D17: B. DATOS ESPECÍFICOS
C19: item | F19: Descripción | R19: Unidad | U19: Cantidad
C20: 6.1 | F20: BALDOSA CERÁMICA PARED 20X20, CALIDAD PRIMERA | R20: M2 | U20: 1
D24: 1. Equipo
C26: ID | D26: Descripción | J26: Tipo | L26: Unidad | M26: Tarifa | R26: Rendimiento | U26: Vr. Unitario
D33: SUBTOTAL | U33: =SUM(U27:Y32) -> 0
D35: 2. Materiales
C37: ID | D37: Descripción | L37: Unidad | M37: Cantidad | R37: Precio Unit. | U37: Vr Unitario
D38: ARENA LAVADA DE PEÑA EN MUNICIPIO | L38: M3 | M38: 0.02 | R38: 52096 | U38: =+R38*M38 -> 1041.92
D39: CEMENTO BLANCO | L39: KG | M39: 0.51 | R39: 3074 | U39: =+R39*M39 -> 1567.74
D40: CERÁMICA BLANCO 20X20 CALIDAD PRIMERA | L40: M2 | M40: 1.03 | R40: 40770 | U40: =+R40*M40 -> 41993.1
D41: CEMENTO GRIS | L41: KG | M41: 6.27 | R41: 713 | U41: =+R41*M41 -> 4470.51
D42: AGUA | L42: LT | M42: 2.85 | R42: 72 | U42: =+R42*M42 -> 205.2
C44: SUBTOTAL | U44: =SUM(U38:X43) -> 49278.47
D46: 3. Transportes
C48: ID | D48: Material | I48: Unidad | J48: Vol. o Peso | L48: Distancia | M48: Cantidad | R48: Tarifa | U48: Vr. Unitario
U50: =IFERROR(ROUND(#REF!*R50,0),"")
U51: =IFERROR(ROUND(M50*R51,0),"") -> 0
C52: SUBTOTAL | U52: =SUM(U49:X51) -> 0
D54: 4. Mano de Obra
C56: ID | D56: Trabajador | I56: Unidad | J56: Precio Unit. | L56: Costo Prestacional. | M56: Total | R56: Rendimiento | U56: Vr. Unitario
D57: MANO DE OBRA AA | I57: JRN | J57: 154687 | L57: 2.2 | M57: =+L57*J57 -> 340311.4 | R57: 9.41 | U57: =+M57/R57 -> 36164.867
I58: =+IFERROR(VLOOKUP(#REF!,#REF!,4,FALSE),"") | J58: =+IFERROR(VLOOKUP(#REF!,#REF!,5,FALSE),"") | L58: =IFERROR(J58*75.89%,"") | M58: =IFERROR(+J58+L58,"") | U58: =IFERROR(ROUND(M58/R58,0),"")
D59: SUBTOTAL | U59: =SUM(U57:X58) -> 36164.867
C60: TOTAL COSTO DIRECTO | U60: =ROUND(U59+U52+U44+U33,0) -> 85443 | AB60: =+U60 -> 85443

Sheet 6,2
H2: FORMATO ANÁLISIS DE PRECIOS UNITARIOS
B3: Fecha
B4: 20 | E4: 6 | G4: 2025
B5: DD | E5: MM | G5: AA
D9: LICITACIÓN O CONTRATO No. | E9: Adecuación del aula y baño de primera infancia en la Institución Educativa Nuevo Horizonte, sede Antonia Santos | N9: DE | P9: 2025
D11: OBJETO GRUPO No. _____
D12: Adecuación del aula y baño de primera infancia en la Institución Educativa Nuevo Horizonte, sede Antonia Santos
D17: B. DATOS ESPECÍFICOS
C19: item | F19: Descripción | R19: Unidad | U19: Cantidad
C20: 6.2 | F20: BALDOSA CERÁMICA ANTIDESLIZANTE PARA PISO, CALIDAD PRIMERA | R20: M2 | U20: 1
D24: 1. Equipo
C26: ID | D26: Descripción | J26: Tipo | L26: Unidad | M26: Tarifa | R26: Rendimiento | U26: Vr. Unitario
D33: SUBTOTAL | U33: =SUM(U27:Y32) -> 0
D35: 2. Materiales
C37: ID | D37: Descripción | L37: Unidad | M37: Cantidad | R37: Precio Unit. | U37: Vr Unitario
D38: ARENA LAVADA DE PEÑA EN MUNICIPIO | L38: M3 | M38: 0.02 | R38: 52096 | U38: =+R38*M38 -> 1041.92
D39: CEMENTO BLANCO | L39: KG | M39: 0.51 | R39: 3074 | U39: =+R39*M39 -> 1567.74
D40: CERAMICA ANTI DESLIZANRE PRIMERA CALIDAD | L40: M2 | M40: 1.03 | R40: 45400 | U40: =+R40*M40 -> 46762
D41: CEMENTO GRIS | L41: KG | M41: 6.27 | R41: 713 | U41: =+R41*M41 -> 4470.51
D42: AGUA | L42: LT | M42: 2.85 | R42: 72 | U42: =+R42*M42 -> 205.2
C44: SUBTOTAL | U44: =SUM(U38:X43) -> 54047.37
D46: 3. Transportes
C48: ID | D48: Material | I48: Unidad | J48: Vol. o Peso | L48: Distancia | M48: Cantidad | R48: Tarifa | U48: Vr. Unitario
U50: =IFERROR(ROUND(#REF!*R50,0),"")
U51: =IFERROR(ROUND(M50*R51,0),"") -> 0
C52: SUBTOTAL | U52: =SUM(U49:X51) -> 0
D54: 4. Mano de Obra
C56: ID | D56: Trabajador | I56: Unidad | J56: Precio Unit. | L56: Costo Prestacional. | M56: Total | R56: Rendimiento | U56: Vr. Unitario
D57: MANO DE OBRA AA | I57: JRN | J57: 154687 | L57: 2.2 | M57: =+L57*J57 -> 340311.4 | R57: 9.41 | U57: =+M57/R57 -> 36164.867
I58: =+IFERROR(VLOOKUP(#REF!,#REF!,4,FALSE),"") | J58: =+IFERROR(VLOOKUP(#REF!,#REF!,5,FALSE),"") | L58: =IFERROR(J58*75.89%,"") | M58: =IFERROR(+J58+L58,"") | U58: =IFERROR(ROUND(M58/R58,0),"")
D59: SUBTOTAL | U59: =SUM(U57:X58) -> 36164.867
C60: TOTAL COSTO DIRECTO | U60: =ROUND(U59+U52+U44+U33,0) -> 90212 | AB60: =+U60 -> 90212

Sheet 6,3
H2: FORMATO ANÁLISIS DE PRECIOS UNITARIOS
B3: Fecha
B4: 20 | E4: 6 | G4: 2025
B5: DD | E5: MM | G5: AA
D9: LICITACIÓN O CONTRATO No. | E9: Adecuación del aula y baño de primera infancia en la Institución Educativa Nuevo Horizonte, sede Antonia Santos | N9: DE | P9: 2025
D11: OBJETO GRUPO No. _____
D12: Adecuación del aula y baño de primera infancia en la Institución Educativa Nuevo Horizonte, sede Antonia Santos
D17: B. DATOS ESPECÍFICOS
C19: item | F19: Descripción | R19: Unidad | U19: Cantidad
C20: 6.3 | F20: MURO DRYWALL DOBLE CARA 0.12 M | R20: M2 | U20: 1
D24: 1. Equipo
C26: ID | D26: Descripción | J26: Tipo | L26: Unidad | M26: Tarifa | R26: Rendimiento | U26: Vr. Unitario
D33: SUBTOTAL | U33: =SUM(U27:Y32) -> 0
D35: 2. Materiales
C37: ID | D37: Descripción | L37: Unidad | M37: Cantidad | R37: Precio Unit. | U37: Vr Unitario
D38: CANAL B 9X2.44 CAL. 26 | L38: UND | M38: 0.35 | R38: 11985 | U38: =+R38*M38 -> 4194.75
D39: CARGA FULMINANTE FUERTE + CLAVO 5/16" B. VEL. 1" | L39: UND | M39: 1.61 | R39: 579 | U39: =+R39*M39 -> 932.19
D40: CINTA DE PAPEL SUPERCINTA 250 | L40: RL | M40: 0.07 | R40: 11197 | U40: =+R40*M40 -> 783.79
D41: LÁMINA DRYWALL 1/2" SUPERPLACA 1.22X2.44 | L41: UND | M41: 0.71 | R41: 71659 | U41: =+R41*M41 -> 50877.89
D42: LIJA DE AGUA 150 SUPER | L42: UND | M42: 0.42 | R42: 1791 | U42: =+R42*M42 -> 752.22
D43: MASILLA SUPERMÁSTICO 5GLN | L43: GLN | M43: 0.09 | R43: 82229 | U43: =+R43*M43 -> 7400.61
D44: PARAL B 9X2.44 CAL. 26 | L44: UND | M44: 0.71 | R44: 16482 | U44: =+R44*M44 -> 11702.22
D45: TORNILLO 7 X 7/16 | L45: UND | M45: 2.82 | R45: 30 | U45: =+R45*M45 -> 84.6
D46: TORNILLO GRABER 6X1" | L46: UND | M46: 27.22 | R46: 30 | U46: =+R46*M46 -> 816.6
C48: SUBTOTAL | U48: =SUM(U38:X47) -> 77544.87
D50: 3. Transportes
C52: ID | D52: Material | I52: Unidad | J52: Vol. o Peso | L52: Distancia | M52: Cantidad | R52: Tarifa | U52: Vr. Unitario
U54: =IFERROR(ROUND(#REF!*R54,0),"")
U55: =IFERROR(ROUND(M54*R55,0),"") -> 0
C56: SUBTOTAL | U56: =SUM(U53:X55) -> 0
D58: 4. Mano de Obra
C60: ID | D60: Trabajador | I60: Unidad | J60: Precio Unit. | L60: Costo Prestacional. | M60: Total | R60: Rendimiento | U60: Vr. Unitario
D61: MANO DE OBRA AA | I61: JRN | J61: 154687 | L61: 2.2 | M61: =+L61*J61 -> 340311.4 | R61: 5.5 | U61: =+M61/R61 -> 61874.8
I62: =+IFERROR(VLOOKUP(#REF!,#REF!,4,FALSE),"") | J62: =+IFERROR(VLOOKUP(#REF!,#REF!,5,FALSE),"") | L62: =IFERROR(J62*75.89%,"") | M62: =IFERROR(+J62+L62,"") | U62: =IFERROR(ROUND(M62/R62,0),"")
D63: SUBTOTAL | U63: =SUM(U61:X62) -> 61874.8
C64: TOTAL COSTO DIRECTO | U64: =ROUND(U63+U56+U48+U33,0) -> 139420 | AB64: =+U64 -> 139420

Sheet 7,1
H2: FORMATO ANÁLISIS DE PRECIOS UNITARIOS
B3: Fecha
B4: 20 | E4: 6 | G4: 2025
B5: DD | E5: MM | G5: AA
D9: LICITACIÓN O CONTRATO No. | E9: Adecuación del aula y baño de primera infancia en la Institución Educativa Nuevo Horizonte, sede Antonia Santos | N9: DE | P9: 2025
D11: OBJETO GRUPO No. _____
D12: Adecuación del aula y baño de primera infancia en la Institución Educativa Nuevo Horizonte, sede Antonia Santos
D17: B. DATOS ESPECÍFICOS
C19: item | F19: Descripción | R19: Unidad | U19: Cantidad
C20: 7.1 | F20: PUNTO HIDRÁULICO PVC-P/PARAL 1/2" | R20: UND | U20: 1
D24: 1. Equipo
C26: ID | D26: Descripción | J26: Tipo | L26: Unidad | M26: Tarifa | R26: Rendimiento | U26: Vr. Unitario
D27: HERRAMIENTA MENOR | L27: GL | M27: 3743.43 | R27: 1 | U27: =+R27*M27 -> 3743.43
D33: SUBTOTAL | U33: =SUM(U27:Y32) -> 3743.43
D35: 2. Materiales
C37: ID | D37: Descripción | L37: Unidad | M37: Cantidad | R37: Precio Unit. | U37: Vr Unitario
D38: TUBO PVC-P 1/2" RDE 9 | L38: ML | M38: 3 | R38: 5266 | U38: =+R38*M38 -> 15798
D39: CODO 90 PVC-P 1/2" | L39: UND | M39: 3 | R39: 875 | U39: =+R39*M39 -> 2625
D40: TEE PVC-P 1/2" | L40: UND | M40: 1 | R40: 1130 | U40: =+R40*M40 -> 1130
D41: TAPÓN SOLDADO PVC-P 1/2" | L41: UND | M41: 1 | R41: 480 | U41: =+R41*M41 -> 480
D42: TAPÓN ROSCAR PVC-P 1/2" | L42: UND | M42: 1 | R42: 666 | U42: =+R42*M42 -> 666
D43: ADAPTADOR MACHO PVC-P 1/2" | L43: UND | M43: 1 | R43: 589 | U43: =+R43*M43 -> 589
D44: SOLDADURA PVC LÍQUIDA 1/4 | L44: UND | M44: 0.03 | R44: 85812 | U44: =+R44*M44 -> 2574.36
D45: LIMPIADOR PVC 1/4 | L45: UND | M45: 0.03 | R45: 62120 | U45: =+R45*M45 -> 1863.6
C47: SUBTOTAL | U47: =SUM(U38:X46) -> 25725.96
D49: 3. Transportes
C51: ID | D51: Material | I51: Unidad | J51: Vol. o Peso | L51: Distancia | M51: Cantidad | R51: Tarifa | U51: Vr. Unitario
U53: =IFERROR(ROUND(#REF!*R53,0),"")
U54: =IFERROR(ROUND(M53*R54,0),"") -> 0
C55: SUBTOTAL | U55: =SUM(U52:X54) -> 0
D57: 4. Mano de Obra
C59: ID | D59: Trabajador | I59: Unidad | J59: Precio Unit. | L59: Costo Prestacional. | M59: Total | R59: Rendimiento | U59: Vr. Unitario
D60: MANO DE OBRA BB | I60: JRN | J60: 170156 | L60: 2.2 | M60: =+L60*J60 -> 374343.2 | R60: 5 | U60: =+M60/R60 -> 74868.64
I61: =+IFERROR(VLOOKUP(#REF!,#REF!,4,FALSE),"") | J61: =+IFERROR(VLOOKUP(#REF!,#REF!,5,FALSE),"") | L61: =IFERROR(J61*75.89%,"") | M61: =IFERROR(+J61+L61,"") | U61: =IFERROR(ROUND(M61/R61,0),"")
D62: SUBTOTAL | U62: =SUM(U60:X61) -> 74868.64
C63: TOTAL COSTO DIRECTO | U63: =ROUND(U62+U55+U47+U33,0) -> 104338 | AB63: =+U63 -> 104338

Sheet 7,2
H2: FORMATO ANÁLISIS DE PRECIOS UNITARIOS
B3: Fecha
B4: 20 | E4: 6 | G4: 2025
B5: DD | E5: MM | G5: AA
D9: LICITACIÓN O CONTRATO No. | E9: Adecuación del aula y baño de primera infancia en la Institución Educativa Nuevo Horizonte, sede Antonia Santos | N9: DE | P9: 2025
D11: OBJETO GRUPO No. _____
D12: Adecuación del aula y baño de primera infancia en la Institución Educativa Nuevo Horizonte, sede Antonia Santos
D17: B. DATOS ESPECÍFICOS
C19: item | F19: Descripción | R19: Unidad | U19: Cantidad
C20: 7.2 | F20: SALIDA SANITARIA PVC-S/PARAL 2" | R20: UND | U20: 1
D24: 1. Equipo
C26: ID | D26: Descripción | J26: Tipo | L26: Unidad | M26: Tarifa | R26: Rendimiento | U26: Vr. Unitario
D27: HERRAMIENTA MENOR | L27: GL | M27: =+U60*0.05 -> 3119.5267 | R27: 1 | U27: =+R27*M27 -> 3119.5267
D33: SUBTOTAL | U33: =SUM(U27:Y32) -> 3119.5267
D35: 2. Materiales
C37: ID | D37: Descripción | L37: Unidad | M37: Cantidad | R37: Precio Unit. | U37: Vr Unitario
D38: TUBO PVC SANITARIO 2" | L38: ML | M38: 1.1 | R38: 16695 | U38: =+R38*M38 -> 18364.5
D39: CODO 90 1/4 CXC SANITARIO 2" | L39: UND | M39: 2 | R39: 4405 | U39: =+R39*M39 -> 8810
D40: TAPÓN PRUEBAS PVC SANITARIO 2" | L40: UND | M40: 1 | R40: 1631 | U40: =+R40*M40 -> 1631
D41: SOLDADURA PVC LÍQUIDA 1/4 | L41: UND | M41: 0.1 | R41: 85812 | U41: =+R41*M41 -> 8581.2
D42: LIMPIADOR PVC 1/4 | L42: UND | M42: 0.1 | R42: 62120 | U42: =+R42*M42 -> 6212
C47: SUBTOTAL | U47: =SUM(U38:X46) -> 43598.7
D49: 3. Transportes
C51: ID | D51: Material | I51: Unidad | J51: Vol. o Peso | L51: Distancia | M51: Cantidad | R51: Tarifa | U51: Vr. Unitario
U53: =IFERROR(ROUND(#REF!*R53,0),"")
U54: =IFERROR(ROUND(M53*R54,0),"") -> 0
C55: SUBTOTAL | U55: =SUM(U52:X54) -> 0
D57: 4. Mano de Obra
C59: ID | D59: Trabajador | I59: Unidad | J59: Precio Unit. | L59: Costo Prestacional. | M59: Total | R59: Rendimiento | U59: Vr. Unitario
D60: MANO DE OBRA BB | I60: JRN | J60: 170156 | L60: 2.2 | M60: =+L60*J60 -> 374343.2 | R60: 6 | U60: =+M60/R60 -> 62390.533
I61: =+IFERROR(VLOOKUP(#REF!,#REF!,4,FALSE),"") | J61: =+IFERROR(VLOOKUP(#REF!,#REF!,5,FALSE),"") | L61: =IFERROR(J61*75.89%,"") | M61: =IFERROR(+J61+L61,"") | U61: =IFERROR(ROUND(M61/R61,0),"")
D62: SUBTOTAL | U62: =SUM(U60:X61) -> 62390.533
C63: TOTAL COSTO DIRECTO | U63: =ROUND(U62+U55+U47+U33,0) -> 109109 | AB63: =+U63 -> 109109

Sheet 7,3
H2: FORMATO ANÁLISIS DE PRECIOS UNITARIOS
B3: Fecha
B4: 20 | E4: 6 | G4: 2025
B5: DD | E5: MM | G5: AA
D9: LICITACIÓN O CONTRATO No. | E9: Adecuación del aula y baño de primera infancia en la Institución Educativa Nuevo Horizonte, sede Antonia Santos | N9: DE | P9: 2025
D11: OBJETO GRUPO No. _____
D12: Adecuación del aula y baño de primera infancia en la Institución Educativa Nuevo Horizonte, sede Antonia Santos
D17: B. DATOS ESPECÍFICOS
C19: item | F19: Descripción | R19: Unidad | U19: Cantidad
C20: 7.3 | F20: SALIDA SANITARIA PVC-S/PARAL 4" | R20: UND | U20: 1
D24: 1. Equipo
C26: ID | D26: Descripción | J26: Tipo | L26: Unidad | M26: Tarifa | R26: Rendimiento | U26: Vr. Unitario
D27: HERRAMIENTA MENOR | L27: GL | M27: =+U60*0.05 -> 3119.5267 | R27: 1 | U27: =+R27*M27 -> 3119.5267
D33: SUBTOTAL | U33: =SUM(U27:Y32) -> 3119.5267
D35: 2. Materiales
C37: ID | D37: Descripción | L37: Unidad | M37: Cantidad | R37: Precio Unit. | U37: Vr Unitario
D38: TUBO PVC SANITARIO 4" | L38: ML | M38: 1 | R38: 34749 | U38: =+R38*M38 -> 34749
D39: CODO 90 1/4 CXC SANITARIO 4" | L39: UND | M39: 1 | R39: 17585 | U39: =+R39*M39 -> 17585
D40: TAPÓN PRUEBAS PVC SANITARIO 4" | L40: UND | M40: 1 | R40: 4072 | U40: =+R40*M40 -> 4072
D41: SOLDADURA PVC LÍQUIDA 1/4 | L41: UND | M41: 0.12 | R41: 85812 | U41: =+R41*M41 -> 10297.44
D42: LIMPIADOR PVC 1/4 | L42: UND | M42: 0.12 | R42: 62120 | U42: =+R42*M42 -> 7454.4
C47: SUBTOTAL | U47: =SUM(U38:X46) -> 74157.84
D49: 3. Transportes
C51: ID | D51: Material | I51: Unidad | J51: Vol. o Peso | L51: Distancia | M51: Cantidad | R51: Tarifa | U51: Vr. Unitario
U53: =IFERROR(ROUND(#REF!*R53,0),"")
U54: =IFERROR(ROUND(M53*R54,0),"") -> 0
C55: SUBTOTAL | U55: =SUM(U52:X54) -> 0
D57: 4. Mano de Obra
C59: ID | D59: Trabajador | I59: Unidad | J59: Precio Unit. | L59: Costo Prestacional. | M59: Total | R59: Rendimiento | U59: Vr. Unitario
D60: MANO DE OBRA BB | I60: JRN | J60: 170156 | L60: 2.2 | M60: =+L60*J60 -> 374343.2 | R60: 6 | U60: =+M60/R60 -> 62390.533
I61: =+IFERROR(VLOOKUP(#REF!,#REF!,4,FALSE),"") | J61: =+IFERROR(VLOOKUP(#REF!,#REF!,5,FALSE),"") | L61: =IFERROR(J61*75.89%,"") | M61: =IFERROR(+J61+L61,"") | U61: =IFERROR(ROUND(M61/R61,0),"")
D62: SUBTOTAL | U62: =SUM(U60:X61) -> 62390.533
C63: TOTAL COSTO DIRECTO | U63: =ROUND(U62+U55+U47+U33,0) -> 139668 | AB63: =+U63 -> 139668

Sheet 7,4
H2: FORMATO ANÁLISIS DE PRECIOS UNITARIOS
B3: Fecha
B4: 20 | E4: 6 | G4: 2025
B5: DD | E5: MM | G5: AA
D9: LICITACIÓN O CONTRATO No. | E9: Adecuación del aula y baño de primera infancia en la Institución Educativa Nuevo Horizonte, sede Antonia Santos | N9: DE | P9: 2025
D11: OBJETO GRUPO No. _____
D12: Adecuación del aula y baño de primera infancia en la Institución Educativa Nuevo Horizonte, sede Antonia Santos
D17: B. DATOS ESPECÍFICOS
C19: item | F19: Descripción | R19: Unidad | U19: Cantidad
C20: 7.4 | F20: TAPA CAJA DE INSPECCIÓN 110 X 110 | R20: UND | U20: 1
D24: 1. Equipo
C26: ID | D26: Descripción | J26: Tipo | L26: Unidad | M26: Tarifa | R26: Rendimiento | U26: Vr. Unitario
D27: HERRAMIENTA MENOR | L27: GL | M27: =+U60*0.05 -> 850.7785 | R27: 1 | U27: =+R27*M27 -> 850.7785
D33: SUBTOTAL | U33: =SUM(U27:Y32) -> 850.7785
D35: 2. Materiales
C37: ID | D37: Descripción | L37: Unidad | M37: Cantidad | R37: Precio Unit. | U37: Vr Unitario
D38: ACERO DE REFUERZO 60000 PSI | L38: KG | M38: 4.11 | R38: 5958 | U38: =+R38*M38 -> 24487.38
D39: ARENA LAVADA DE RÍO EN MUNICIPIO | L39: M3 | M39: 0.07 | R39: 45056 | U39: =+R39*M39 -> 3153.92
D40: CEMENTO GRIS | L40: KG | M40: 15 | R40: 713 | U40: =+R40*M40 -> 10695
D41: GRAVILLA DE RÍO EN MUNICIPIO | L41: M3 | M41: 0.17 | R41: 57646 | U41: =+R41*M41 -> 9799.82
C47: SUBTOTAL | U47: =SUM(U38:X46) -> 48136.12
D49: 3. Transportes
C51: ID | D51: Material | I51: Unidad | J51: Vol. o Peso | L51: Distancia | M51: Cantidad | R51: Tarifa | U51: Vr. Unitario
U53: =IFERROR(ROUND(#REF!*R53,0),"")
U54: =IFERROR(ROUND(M53*R54,0),"") -> 0
C55: SUBTOTAL | U55: =SUM(U52:X54) -> 0
D57: 4. Mano de Obra
C59: ID | D59: Trabajador | I59: Unidad | J59: Precio Unit. | L59: Costo Prestacional. | M59: Total | R59: Rendimiento | U59: Vr. Unitario
D60: MANO DE OBRA AA | I60: JRN | J60: 154687 | L60: 2.2 | M60: =+L60*J60 -> 340311.4 | R60: 20 | U60: =+M60/R60 -> 17015.57
I61: =+IFERROR(VLOOKUP(#REF!,#REF!,4,FALSE),"") | J61: =+IFERROR(VLOOKUP(#REF!,#REF!,5,FALSE),"") | L61: =IFERROR(J61*75.89%,"") | M61: =IFERROR(+J61+L61,"") | U61: =IFERROR(ROUND(M61/R61,0),"")
D62: SUBTOTAL | U62: =SUM(U60:X61) -> 17015.57
C63: TOTAL COSTO DIRECTO | U63: =ROUND(U62+U55+U47+U33,0) -> 66002 | AB63: =+U63 -> 66002

Sheet 7,5
H2: FORMATO ANÁLISIS DE PRECIOS UNITARIOS
B3: Fecha
B4: 20 | E4: 6 | G4: 2025
B5: DD | E5: MM | G5: AA
D9: LICITACIÓN O CONTRATO No. | E9: Adecuación del aula y baño de primera infancia en la Institución Educativa Nuevo Horizonte, sede Antonia Santos | N9: DE | P9: 2025
D11: OBJETO GRUPO No. _____
D12: Adecuación del aula y baño de primera infancia en la Institución Educativa Nuevo Horizonte, sede Antonia Santos
D17: B. DATOS ESPECÍFICOS
C19: item | F19: Descripción | R19: Unidad | U19: Cantidad
C20: 7.5 | F20: REALSE DE CAJA DE INSPECCION | R20: UND | U20: 1
D24: 1. Equipo
C26: ID | D26: Descripción | J26: Tipo | L26: Unidad | M26: Tarifa | R26: Rendimiento | U26: Vr. Unitario
D27: HERRAMIENTA MENOR | L27: GL | M27: =+U60*0.05 -> 850.7785 | R27: 1 | U27: =+R27*M27 -> 850.7785
D33: SUBTOTAL | U33: =SUM(U27:Y32) -> 850.7785
D35: 2. Materiales
C37: ID | D37: Descripción | L37: Unidad | M37: Cantidad | R37: Precio Unit. | U37: Vr Unitario
D38: ARENA LAVADA DE PEÑA EN MUNICIPIO | L38: M3 | M38: 0.23 | R38: 52096 | U38: =+R38*M38 -> 11982.08
D39: CEMENTO GRIS | L39: KG | M39: 25 | R39: 713 | U39: =+R39*M39 -> 17825
D40: LADRILLO TOLETE COMÚN | L40: UND | M40: 60 | R40: 706 | U40: =+R40*M40 -> 42360
D41: ARENA LAVADA DE RÍO EN MUNICIPIO | L41: M3 | M41: 0.07 | R41: 57646 | U41: =+R41*M41 -> 4035.22
C47: SUBTOTAL | U47: =SUM(U38:X46) -> 76202.3
D49: 3. Transportes
C51: ID | D51: Material | I51: Unidad | J51: Vol. o Peso | L51: Distancia | M51: Cantidad | R51: Tarifa | U51: Vr. Unitario
U53: =IFERROR(ROUND(#REF!*R53,0),"")
U54: =IFERROR(ROUND(M53*R54,0),"") -> 0
C55: SUBTOTAL | U55: =SUM(U52:X54) -> 0
D57: 4. Mano de Obra
C59: ID | D59: Trabajador | I59: Unidad | J59: Precio Unit. | L59: Costo Prestacional. | M59: Total | R59: Rendimiento | U59: Vr. Unitario
D60: MANO DE OBRA AA | I60: JRN | J60: 154687 | L60: 2.2 | M60: =+L60*J60 -> 340311.4 | R60: 20 | U60: =+M60/R60 -> 17015.57
I61: =+IFERROR(VLOOKUP(#REF!,#REF!,4,FALSE),"") | J61: =+IFERROR(VLOOKUP(#REF!,#REF!,5,FALSE),"") | L61: =IFERROR(J61*75.89%,"") | M61: =IFERROR(+J61+L61,"") | U61: =IFERROR(ROUND(M61/R61,0),"")
D62: SUBTOTAL | U62: =SUM(U60:X61) -> 17015.57
C63: TOTAL COSTO DIRECTO | U63: =ROUND(U62+U55+U47+U33,0) -> 94069 | AB63: =+U63 -> 94069

Sheet 7,6
H2: FORMATO ANÁLISIS DE PRECIOS UNITARIOS
B3: Fecha
B4: 20 | E4: 6 | G4: 2025
B5: DD | E5: MM | G5: AA
D9: LICITACIÓN O CONTRATO No. | E9: Adecuación del aula y baño de primera infancia en la Institución Educativa Nuevo Horizonte, sede Antonia Santos | N9: DE | P9: 2025
D11: OBJETO GRUPO No. _____
D12: Adecuación del aula y baño de primera infancia en la Institución Educativa Nuevo Horizonte, sede Antonia Santos
D17: B. DATOS ESPECÍFICOS
C19: item | F19: Descripción | R19: Unidad | U19: Cantidad
C20: 7.6 | F20: SUMINISTRO E INSTALACIÓN SANITARIO INFANTIL (INCLUYE GRIFERÍA) | R20: UND | U20: 1
D24: 1. Equipo
C26: ID | D26: Descripción | J26: Tipo | L26: Unidad | M26: Tarifa | R26: Rendimiento | U26: Vr. Unitario
D27: HERRAMIENTA MENOR | L27: GL | M27: =+U60*0.05 -> 3743.432 | R27: 1 | U27: =+R27*M27 -> 3743.432
D33: SUBTOTAL | U33: =SUM(U27:Y32) -> 3743.432
D35: 2. Materiales
C37: ID | D37: Descripción | L37: Unidad | M37: Cantidad | R37: Precio Unit. | U37: Vr Unitario
D38: SANITARIO INFANTIL INCLUYE GRIFERÍA | L38: UND | M38: 1 | R38: 594591 | U38: =+R38*M38 -> 594591
C47: SUBTOTAL | U47: =SUM(U38:X46) -> 594591
D49: 3. Transportes
C51: ID | D51: Material | I51: Unidad | J51: Vol. o Peso | L51: Distancia | M51: Cantidad | R51: Tarifa | U51: Vr. Unitario
U53: =IFERROR(ROUND(#REF!*R53,0),"")
U54: =IFERROR(ROUND(M53*R54,0),"") -> 0
C55: SUBTOTAL | U55: =SUM(U52:X54) -> 0
D57: 4. Mano de Obra
C59: ID | D59: Trabajador | I59: Unidad | J59: Precio Unit. | L59: Costo Prestacional. | M59: Total | R59: Rendimiento | U59: Vr. Unitario
D60: MANO DE OBRA AA | I60: JRN | J60: 170156 | L60: 2.2 | M60: =+L60*J60 -> 374343.2 | R60: 5 | U60: =+M60/R60 -> 74868.64
I61: =+IFERROR(VLOOKUP(#REF!,#REF!,4,FALSE),"") | J61: =+IFERROR(VLOOKUP(#REF!,#REF!,5,FALSE),"") | L61: =IFERROR(J61*75.89%,"") | M61: =IFERROR(+J61+L61,"") | U61: =IFERROR(ROUND(M61/R61,0),"")
D62: SUBTOTAL | U62: =SUM(U60:X61) -> 74868.64
C63: TOTAL COSTO DIRECTO | U63: =ROUND(U62+U55+U47+U33,0) -> 673203 | AB63: =+U63 -> 673203

Sheet 7,7
H2: FORMATO ANÁLISIS DE PRECIOS UNITARIOS
B3: Fecha
B4: 20 | E4: 6 | G4: 2025
B5: DD | E5: MM | G5: AA
D9: LICITACIÓN O CONTRATO No. | E9: Adecuación del aula y baño de primera infancia en la Institución Educativa Nuevo Horizonte, sede Antonia Santos | N9: DE | P9: 2025
D11: OBJETO GRUPO No. _____
D12: Adecuación del aula y baño de primera infancia en la Institución Educativa Nuevo Horizonte, sede Antonia Santos
D17: B. DATOS ESPECÍFICOS
C19: item | F19: Descripción | R19: Unidad | U19: Cantidad
C20: 7.7 | F20: SUMINISTRO E INSTALACIÓN LAVAMANOS COLGAR (INCLUYE GRIFERÍA) | R20: UND | U20: 1
D24: 1. Equipo
C26: ID | D26: Descripción | J26: Tipo | L26: Unidad | M26: Tarifa | R26: Rendimiento | U26: Vr. Unitario
D27: HERRAMIENTA MENOR | L27: GL | M27: =+U60*0.05 -> 4159.3689 | R27: 1 | U27: =+R27*M27 -> 4159.3689
D33: SUBTOTAL | U33: =SUM(U27:Y32) -> 4159.3689
D35: 2. Materiales
C37: ID | D37: Descripción | L37: Unidad | M37: Cantidad | R37: Precio Unit. | U37: Vr Unitario
D38: LAVAMANOS DE COLGAR INCLUYE GRIFERÍA | L38: UND | M38: 1 | R38: 125403 | U38: =+R38*M38 -> 125403
C47: SUBTOTAL | U47: =SUM(U38:X46) -> 125403
D49: 3. Transportes
C51: ID | D51: Material | I51: Unidad | J51: Vol. o Peso | L51: Distancia | M51: Cantidad | R51: Tarifa | U51: Vr. Unitario
U53: =IFERROR(ROUND(#REF!*R53,0),"")
U54: =IFERROR(ROUND(M53*R54,0),"") -> 0
C55: SUBTOTAL | U55: =SUM(U52:X54) -> 0
D57: 4. Mano de Obra
C59: ID | D59: Trabajador | I59: Unidad | J59: Precio Unit. | L59: Costo Prestacional. | M59: Total | R59: Rendimiento | U59: Vr. Unitario
D60: MANO DE OBRA AA | I60: JRN | J60: 170156 | L60: 2.2 | M60: =+L60*J60 -> 374343.2 | R60: 4.5 | U60: =+M60/R60 -> 83187.378
I61: =+IFERROR(VLOOKUP(#REF!,#REF!,4,FALSE),"") | J61: =+IFERROR(VLOOKUP(#REF!,#REF!,5,FALSE),"") | L61: =IFERROR(J61*75.89%,"") | M61: =IFERROR(+J61+L61,"") | U61: =IFERROR(ROUND(M61/R61,0),"")
D62: SUBTOTAL | U62: =SUM(U60:X61) -> 83187.378
C63: TOTAL COSTO DIRECTO | U63: =ROUND(U62+U55+U47+U33,0) -> 212750 | AB63: =+U63 -> 212750

Sheet 9,1
H2: FORMATO ANÁLISIS DE PRECIOS UNITARIOS
B3: Fecha
B4: 20 | E4: 6 | G4: 2025
B5: DD | E5: MM | G5: AA
D9: LICITACIÓN O CONTRATO No. | E9: REMODELACION, ADECUACION Y MANTENIMIENTO DE LAS SEDES PRINCIPAL, ABTONIA SANTOS, PUERTO MONGUI Y PUERTO MONTERO, DE LA INTITUCION EDUCATIVA NUEVO HORIZONTE DE GIRARDOT | N9: DE | P9: 2025
D11: OBJETO GRUPO No. _____
D12: REMODELACION, ADECUACION Y MANTENIMIENTO DE LAS SEDES PRINCIPAL, ABTONIA SANTOS, PUERTO MONGUI Y PUERTO MONTERO, DE LA INTITUCION EDUCATIVA NUEVO HORIZONTE DE GIRARDOT
D17: B. DATOS ESPECÍFICOS
C19: item | F19: Descripción | R19: Unidad | U19: Cantidad
C20: 9.1 | F20: RECUBRIMIETNO DE VANO CON ANJEO TEMPLADO CONTROL DE PLAGAS; ANJEO EN FIBRA DE VIDRIO, ESTE ANJEO DEBE INSTALARSE CON PERFILES EN SUS AREISTAS PARA SU FIJACION, ELIMINANDO VANOS Y LUCES. INCLUYE SUMINISTRO, FRABRICACION Y FIJACION. | R20: M2 | U20: 1
D24: 1. Equipo
C26: ID | D26: Descripción | J26: Tipo | L26: Unidad | M26: Tarifa | R26: Rendimiento | U26: Vr. Unitario
D27: ANDAMIO SECCIÓN | L27: D | M27: 1791 | R27: 2 | U27: =+M27/R27 -> 895.5
D28: TALADRO | L28: D | M28: 50120 | R28: 100 | U28: =+M28/R28 -> 501.2
D29: HERRAMIENTA MENOR | L29: GL | M29: =+U60*0.05 -> 486.15914 | R29: 1 | U29: =+R29*M29 -> 486.15914
D33: SUBTOTAL | U33: =SUM(U27:Y32) -> 1882.8591
D35: 2. Materiales
C37: ID | D37: Descripción | L37: Unidad | M37: Cantidad | R37: Precio Unit. | U37: Vr Unitario
D38: ANGEO GRIS FIBRA DE VIDRIO | L38: M2 | M38: 1.1 | R38: 12200 | U38: =+R38*M38 -> 13420
D39: ÁNGULO CAL.26 LÁMINA GALV. 2.44 M | L39: UND | M39: 0.45 | R39: 6199 | U39: =+R39*M39 -> 2789.55
D40: CHAZO PLÁSTICO 1/4" | L40: UND | M40: 3 | R40: 161 | U40: =+R40*M40 -> 483
D41: PERNO 1/2" ALT. VEL. 1 3/4" | L41: UND | M41: 2 | R41: 896 | U41: =+R41*M41 -> 1792
C47: SUBTOTAL | U47: =SUM(U38:X46) -> 18484.55
D49: 3. Transportes
C51: ID | D51: Material | I51: Unidad | J51: Vol. o Peso | L51: Distancia | M51: Cantidad | R51: Tarifa | U51: Vr. Unitario
U53: =IFERROR(ROUND(#REF!*R53,0),"")
U54: =IFERROR(ROUND(M53*R54,0),"") -> 0
C55: SUBTOTAL | U55: =SUM(U52:X54) -> 0
D57: 4. Mano de Obra
C59: ID | D59: Trabajador | I59: Unidad | J59: Precio Unit. | L59: Costo Prestacional. | M59: Total | R59: Rendimiento | U59: Vr. Unitario
D60: MANO DE OBRA AA | I60: JRN | J60: 154687 | L60: 2.2 | M60: =+L60*J60 -> 340311.4 | R60: 35 | U60: =+M60/R60 -> 9723.1829
I61: =+IFERROR(VLOOKUP(#REF!,#REF!,4,FALSE),"") | J61: =+IFERROR(VLOOKUP(#REF!,#REF!,5,FALSE),"") | L61: =IFERROR(J61*75.89%,"") | M61: =IFERROR(+J61+L61,"") | U61: =IFERROR(ROUND(M61/R61,0),"")
D62: SUBTOTAL | U62: =SUM(U60:X61) -> 9723.1829
C63: TOTAL COSTO DIRECTO | U63: =ROUND(U62+U55+U47+U33,0) -> 30091 | AB63: =+U63 -> 30091

Sheet 9,2
H2: FORMATO ANÁLISIS DE PRECIOS UNITARIOS
B3: Fecha
B4: 20 | E4: 6 | G4: 2025
B5: DD | E5: MM | G5: AA
D9: LICITACIÓN O CONTRATO No. | E9: REMODELACION, ADECUACION Y MANTENIMIENTO DE LAS SEDES PRINCIPAL, ABTONIA SANTOS, PUERTO MONGUI Y PUERTO MONTERO, DE LA INTITUCION EDUCATIVA NUEVO HORIZONTE DE GIRARDOT | N9: DE | P9: 2025
D11: OBJETO GRUPO No. _____
D12: REMODELACION, ADECUACION Y MANTENIMIENTO DE LAS SEDES PRINCIPAL, ABTONIA SANTOS, PUERTO MONGUI Y PUERTO MONTERO, DE LA INTITUCION EDUCATIVA NUEVO HORIZONTE DE GIRARDOT
D17: B. DATOS ESPECÍFICOS
C19: item | F19: Descripción | R19: Unidad | U19: Cantidad
C20: 9.2 | F20: BARANDA DE SEGURIDAD PARA VACIO EN TUBO DE ACERO DE 2", ANCLADA AL PISO, INCLUYE DEMOLICIO, ANCLAJE, MALLA ESLAVONADA, PINTURA EN ESMALTE SINTETICO, SOLDADURA, RESANE Y FIJACION A PISO | R20: ML | U20: 1
D24: 1. Equipo
C26: ID | D26: Descripción | J26: Tipo | L26: Unidad | M26: Tarifa | R26: Rendimiento | U26: Vr. Unitario
D27: HERRAMIENTA MENOR | L27: GL | M27: =+U60*0.05 -> 1701.557 | R27: 1 | U27: =+M27/R27 -> 1701.557
D33: SUBTOTAL | U33: =SUM(U27:Y32) -> 1701.557
D35: 2. Materiales
C37: ID | D37: Descripción | L37: Unidad | M37: Cantidad | R37: Precio Unit. | U37: Vr Unitario
D38: PLATINA HIERRO 3/4" X 1/8" | L38: ML | M38: 2 | R38: 2150 | U38: =+R38*M38 -> 4300
D39: SOLDADURA 6013 DE 1/8 | L39: KG | M39: 0.2 | R39: 12505 | U39: =+R39*M39 -> 2501
D40: VARILLA 3/4" LISA | L40: KG | M40: 0.5 | R40: 6603 | U40: =+R40*M40 -> 3301.5
D41: MALLA ESLABONADA CAL. 10 | L41: M2 | M41: 1 | R41: 17198 | U41: =+R41*M41 -> 17198
D42: WASH - PRIMER A PINTURA | L42: GLN | M42: 0.08 | R42: 158599 | U42: =+R42*M42 -> 12687.92
D43: WASH - PRIMER B CATALIZADOR | L43: GLN | M43: 0.08 | R43: 96740 | U43: =+R43*M43 -> 7739.2
D44: ESMALTE SINTÉTICO | L44: GLN | M44: 0.08 | R44: 107309 | U44: =+R44*M44 -> 8584.72
D45: TUBO AN PARA CERRAMIENTO 2" | L45: ML | M45: 1 | R45: 28484 | U45: =+R45*M45 -> 28484
D46: ÁNGULO HIERRO 1" X 1" X 6M | L46: ML | M46: 2.1 | R46: 8127 | U46: =+R46*M46 -> 17066.7
C47: SUBTOTAL | U47: =SUM(U38:X46) -> 101863.04
D49: 3. Transportes
C51: ID | D51: Material | I51: Unidad | J51: Vol. o Peso | L51: Distancia | M51: Cantidad | R51: Tarifa | U51: Vr. Unitario
U53: =IFERROR(ROUND(#REF!*R53,0),"")
U54: =IFERROR(ROUND(M53*R54,0),"") -> 0
C55: SUBTOTAL | U55: =SUM(U52:X54) -> 0
D57: 4. Mano de Obra
C59: ID | D59: Trabajador | I59: Unidad | J59: Precio Unit. | L59: Costo Prestacional. | M59: Total | R59: Rendimiento | U59: Vr. Unitario
D60: MANO DE OBRA AA | I60: JRN | J60: 154687 | L60: 2.2 | M60: =+L60*J60 -> 340311.4 | R60: 10 | U60: =+M60/R60 -> 34031.14
I61: =+IFERROR(VLOOKUP(#REF!,#REF!,4,FALSE),"") | J61: =+IFERROR(VLOOKUP(#REF!,#REF!,5,FALSE),"") | L61: =IFERROR(J61*75.89%,"") | M61: =IFERROR(+J61+L61,"") | U61: =IFERROR(ROUND(M61/R61,0),"")
D62: SUBTOTAL | U62: =SUM(U60:X61) -> 34031.14
C63: TOTAL COSTO DIRECTO | U63: =ROUND(U62+U55+U47+U33,0) -> 137596 | AB63: =+U63 -> 137596

Sheet 9,3
H2: FORMATO ANÁLISIS DE PRECIOS UNITARIOS
B3: Fecha
B4: 20 | E4: 6 | G4: 2025
B5: DD | E5: MM | G5: AA
D9: LICITACIÓN O CONTRATO No. | E9: REMODELACION, ADECUACION Y MANTENIMIENTO DE LAS SEDES PRINCIPAL, ABTONIA SANTOS, PUERTO MONGUI Y PUERTO MONTERO, DE LA INTITUCION EDUCATIVA NUEVO HORIZONTE DE GIRARDOT | N9: DE | P9: 2025
D11: OBJETO GRUPO No. _____
D12: REMODELACION, ADECUACION Y MANTENIMIENTO DE LAS SEDES PRINCIPAL, ABTONIA SANTOS, PUERTO MONGUI Y PUERTO MONTERO, DE LA INTITUCION EDUCATIVA NUEVO HORIZONTE DE GIRARDOT
D17: B. DATOS ESPECÍFICOS
C19: item | F19: Descripción | R19: Unidad | U19: Cantidad
C20: 9.3 | F20: REJA BANCARIA EN VARILLA CUADRADA DE 1/2" INC. ANTICORROSIVO | R20: M2 | U20: 1
D24: 1. Equipo
C26: ID | D26: Descripción | J26: Tipo | L26: Unidad | M26: Tarifa | R26: Rendimiento | U26: Vr. Unitario
D33: SUBTOTAL | U33: =SUM(U27:Y32) -> 0
D35: 2. Materiales
C37: ID | D37: Descripción | L37: Unidad | M37: Cantidad | R37: Precio Unit. | U37: Vr Unitario
D38: ANTICORROSIVO | L38: GLN | M38: 0.2 | R38: 65926 | U38: =+R38*M38 -> 13185.2
D39: HIERRO CUADRADO 1/2" X 6M | L39: UND | M39: 1.74 | R39: 45298 | U39: =+R39*M39 -> 78818.52
D40: SOLDADURA ELÉCTRICA 0.004 KG DE 3/23" | L40: KG | M40: 0.6 | R40: 25513 | U40: =+R40*M40 -> 15307.8
C47: SUBTOTAL | U47: =SUM(U38:X46) -> 107311.52
D49: 3. Transportes
C51: ID | D51: Material | I51: Unidad | J51: Vol. o Peso | L51: Distancia | M51: Cantidad | R51: Tarifa | U51: Vr. Unitario
U53: =IFERROR(ROUND(#REF!*R53,0),"")
U54: =IFERROR(ROUND(M53*R54,0),"") -> 0
C55: SUBTOTAL | U55: =SUM(U52:X54) -> 0
D57: 4. Mano de Obra
C59: ID | D59: Trabajador | I59: Unidad | J59: Precio Unit. | L59: Costo Prestacional. | M59: Total | R59: Rendimiento | U59: Vr. Unitario
D60: MANO DE OBRA AA | I60: JRN | J60: 185624 | L60: 2.2 | M60: =+L60*J60 -> 408372.8 | R60: 3.5 | U60: =+M60/R60 -> 116677.94
I61: =+IFERROR(VLOOKUP(#REF!,#REF!,4,FALSE),"") | J61: =+IFERROR(VLOOKUP(#REF!,#REF!,5,FALSE),"") | L61: =IFERROR(J61*75.89%,"") | M61: =IFERROR(+J61+L61,"") | U61: =IFERROR(ROUND(M61/R61,0),"")
D62: SUBTOTAL | U62: =SUM(U60:X61) -> 116677.94
C63: TOTAL COSTO DIRECTO | U63: =ROUND(U62+U55+U47+U33,0) -> 223989 | AB63: =+U63 -> 223989

Sheet 9,4
H2: FORMATO ANÁLISIS DE PRECIOS UNITARIOS
B3: Fecha
B4: 20 | E4: 6 | G4: 2025
B5: DD | E5: MM | G5: AA
D9: LICITACIÓN O CONTRATO No. | E9: REMODELACION, ADECUACION Y MANTENIMIENTO DE LAS SEDES PRINCIPAL, ABTONIA SANTOS, PUERTO MONGUI Y PUERTO MONTERO, DE LA INTITUCION EDUCATIVA NUEVO HORIZONTE DE GIRARDOT | N9: DE | P9: 2025
D11: OBJETO GRUPO No. _____
D12: REMODELACION, ADECUACION Y MANTENIMIENTO DE LAS SEDES PRINCIPAL, ABTONIA SANTOS, PUERTO MONGUI Y PUERTO MONTERO, DE LA INTITUCION EDUCATIVA NUEVO HORIZONTE DE GIRARDOT
D17: B. DATOS ESPECÍFICOS
C19: item | F19: Descripción | R19: Unidad | U19: Cantidad
C20: 9.4 | F20: CERRAMIENTO MALLA ESLABONADA C. 10 INC. ÁNGULO (PARAL EN TUBO ESTRUCTURAL GALVANIZADO 2") | R20: M2 | U20: 1
D24: 1. Equipo
C26: ID | D26: Descripción | J26: Tipo | L26: Unidad | M26: Tarifa | R26: Rendimiento | U26: Vr. Unitario
D33: SUBTOTAL | U33: =SUM(U27:Y32) -> 0
D35: 2. Materiales
C37: ID | D37: Descripción | L37: Unidad | M37: Cantidad | R37: Precio Unit. | U37: Vr Unitario
D38: MALLA ESLABONADA CAL. 10 | L38: M2 | M38: 1 | R38: 17198 | U38: =+R38*M38 -> 17198
D39: SOLDADURA ELÉCTRICA 0.004 KG DE 3/23" | L39: KG | M39: 0.3 | R39: 25513 | U39: =+R39*M39 -> 7653.9
D40: TUBO AN PARA CERRAMIENTO 2" | L40: ML | M40: 0.725 | R40: 28484 | U40: =+R40*M40 -> 20650.9
D41: ÁNGULO HIERRO 1" X 1" X 6M | L41: ML | M41: 2.1 | R41: 8127 | U41: =+R41*M41 -> 17066.7
D42: ALAMBRE DE PUAS No. 12 | L42: KG | M42: 0.13 | R42: 9207 | U42: =+R42*M42 -> 1196.91
C47: SUBTOTAL | U47: =SUM(U38:X46) -> 63766.41
D49: 3. Transportes
C51: ID | D51: Material | I51: Unidad | J51: Vol. o Peso | L51: Distancia | M51: Cantidad | R51: Tarifa | U51: Vr. Unitario
U53: =IFERROR(ROUND(#REF!*R53,0),"")
U54: =IFERROR(ROUND(M53*R54,0),"") -> 0
C55: SUBTOTAL | U55: =SUM(U52:X54) -> 0
D57: 4. Mano de Obra
C59: ID | D59: Trabajador | I59: Unidad | J59: Precio Unit. | L59: Costo Prestacional. | M59: Total | R59: Rendimiento | U59: Vr. Unitario
D60: MANO DE OBRA DD | I60: JRN | J60: 185624 | L60: 2.2 | M60: =+L60*J60 -> 408372.8 | R60: 4 | U60: =+M60/R60 -> 102093.2
I61: =+IFERROR(VLOOKUP(#REF!,#REF!,4,FALSE),"") | J61: =+IFERROR(VLOOKUP(#REF!,#REF!,5,FALSE),"") | L61: =IFERROR(J61*75.89%,"") | M61: =IFERROR(+J61+L61,"") | U61: =IFERROR(ROUND(M61/R61,0),"")
D62: SUBTOTAL | U62: =SUM(U60:X61) -> 102093.2
C63: TOTAL COSTO DIRECTO | U63: =ROUND(U62+U55+U47+U33,0) -> 165860 | AB63: =+U63 -> 165860

Sheet 9,5
H2: FORMATO ANÁLISIS DE PRECIOS UNITARIOS
B3: Fecha
B4: 20 | E4: 6 | G4: 2025
B5: DD | E5: MM | G5: AA
D9: LICITACIÓN O CONTRATO No. | E9: REMODELACION, ADECUACION Y MANTENIMIENTO DE LAS SEDES PRINCIPAL, ABTONIA SANTOS, PUERTO MONGUI Y PUERTO MONTERO, DE LA INTITUCION EDUCATIVA NUEVO HORIZONTE DE GIRARDOT | N9: DE | P9: 2025
D11: OBJETO GRUPO No. _____
D12: REMODELACION, ADECUACION Y MANTENIMIENTO DE LAS SEDES PRINCIPAL, ABTONIA SANTOS, PUERTO MONGUI Y PUERTO MONTERO, DE LA INTITUCION EDUCATIVA NUEVO HORIZONTE DE GIRARDOT
D17: B. DATOS ESPECÍFICOS
C19: item | F19: Descripción | R19: Unidad | U19: Cantidad
C20: 9.5 | F20: ANTICORROSIVO SOBRE LÁMINA LINEAL | R20: ML | U20: 1
D24: 1. Equipo
C26: ID | D26: Descripción | J26: Tipo | L26: Unidad | M26: Tarifa | R26: Rendimiento | U26: Vr. Unitario
D33: SUBTOTAL | U33: =SUM(U27:Y32) -> 0
D35: 2. Materiales
C37: ID | D37: Descripción | L37: Unidad | M37: Cantidad | R37: Precio Unit. | U37: Vr Unitario
D38: ANTICORROSIVO | L38: GLN | M38: 0.01 | R38: 65926 | U38: =+R38*M38 -> 659.26
D39: DISOLVENTE THINNER | L39: GLN | M39: 0.01 | R39: 53572 | U39: =+R39*M39 -> 535.72
D40: LIJA DE AGUA 150 SUPER | L40: UND | M40: 0.63 | R40: 1791 | U40: =+R40*M40 -> 1128.33
C47: SUBTOTAL | U47: =SUM(U38:X46) -> 2323.31
D49: 3. Transportes
C51: ID | D51: Material | I51: Unidad | J51: Vol. o Peso | L51: Distancia | M51: Cantidad | R51: Tarifa | U51: Vr. Unitario
U53: =IFERROR(ROUND(#REF!*R53,0),"")
U54: =IFERROR(ROUND(M53*R54,0),"") -> 0
C55: SUBTOTAL | U55: =SUM(U52:X54) -> 0
D57: 4. Mano de Obra
C59: ID | D59: Trabajador | I59: Unidad | J59: Precio Unit. | L59: Costo Prestacional. | M59: Total | R59: Rendimiento | U59: Vr. Unitario
D60: MANO DE OBRA CC | I60: JRN | J60: 177890 | L60: 2.2 | M60: =+L60*J60 -> 391358 | R60: 155 | U60: =+M60/R60 -> 2524.8903
I61: =+IFERROR(VLOOKUP(#REF!,#REF!,4,FALSE),"") | J61: =+IFERROR(VLOOKUP(#REF!,#REF!,5,FALSE),"") | L61: =IFERROR(J61*75.89%,"") | M61: =IFERROR(+J61+L61,"") | U61: =IFERROR(ROUND(M61/R61,0),"")
D62: SUBTOTAL | U62: =SUM(U60:X61) -> 2524.8903
C63: TOTAL COSTO DIRECTO | U63: =ROUND(U62+U55+U47+U33,0) -> 4848 | AB63: =+U63 -> 4848

Sheet 9,6
H2: FORMATO ANÁLISIS DE PRECIOS UNITARIOS
B3: Fecha
B4: 20 | E4: 6 | G4: 2025
B5: DD | E5: MM | G5: AA
D9: LICITACIÓN O CONTRATO No. | E9: REMODELACION, ADECUACION Y MANTENIMIENTO DE LAS SEDES PRINCIPAL, ABTONIA SANTOS, PUERTO MONGUI Y PUERTO MONTERO, DE LA INTITUCION EDUCATIVA NUEVO HORIZONTE DE GIRARDOT | N9: DE | P9: 2025
D11: OBJETO GRUPO No. _____
D12: REMODELACION, ADECUACION Y MANTENIMIENTO DE LAS SEDES PRINCIPAL, ABTONIA SANTOS, PUERTO MONGUI Y PUERTO MONTERO, DE LA INTITUCION EDUCATIVA NUEVO HORIZONTE DE GIRARDOT
D17: B. DATOS ESPECÍFICOS
C19: item | F19: Descripción | R19: Unidad | U19: Cantidad
C20: 9.6 | F20: ESMALTE SOBRE MALLA ELAVONADA | R20: M2 | U20: 1
D24: 1. Equipo
C26: ID | D26: Descripción | J26: Tipo | L26: Unidad | M26: Tarifa | R26: Rendimiento | U26: Vr. Unitario
D33: SUBTOTAL | U33: =SUM(U27:Y32) -> 0
D35: 2. Materiales
C37: ID | D37: Descripción | L37: Unidad | M37: Cantidad | R37: Precio Unit. | U37: Vr Unitario
D38: DISOLVENTE THINNER | L38: GLN | M38: 0.01 | R38: 53572 | U38: =+R38*M38 -> 535.72
D39: ESMALTE SINTÉTICO | L39: GLN | M39: 0.01 | R39: 107309 | U39: =+R39*M39 -> 1073.09
D40: LIJA DE AGUA 150 SUPER | L40: UND | M40: 1.05 | R40: 1791 | U40: =+R40*M40 -> 1880.55
C47: SUBTOTAL | U47: =SUM(U38:X46) -> 3489.36
D49: 3. Transportes
C51: ID | D51: Material | I51: Unidad | J51: Vol. o Peso | L51: Distancia | M51: Cantidad | R51: Tarifa | U51: Vr. Unitario
U53: =IFERROR(ROUND(#REF!*R53,0),"")
U54: =IFERROR(ROUND(M53*R54,0),"") -> 0
C55: SUBTOTAL | U55: =SUM(U52:X54) -> 0
D57: 4. Mano de Obra
C59: ID | D59: Trabajador | I59: Unidad | J59: Precio Unit. | L59: Costo Prestacional. | M59: Total | R59: Rendimiento | U59: Vr. Unitario
D60: MANO DE OBRA CC | I60: JRN | J60: 177890 | L60: 2.2 | M60: =+L60*J60 -> 391358 | R60: 65 | U60: =+M60/R60 -> 6020.8923
