Workbook

Sheet Radio
B4: RADIO NACIONAL Y REGIONAL | F4: Valor Unitario Incluido Iva | I4: MEDIANA
B5: Cubrimiento | C5: Emisora | D5: Programa | E5: Duración | F5: MIACOM | G5: CANAL TRECE | H5: FIX IT SAS
B6: Nacional | C6: Blu Radio | D6: Mañanas Blu | E6: 15 Seg | F6: 5349367.7 | G6: 7156636 | H6: 5591810 | I6: =+MEDIAN(I16:I16) -> 4291140
E7: 20 Seg | F7: 6686709.7 | G7: 8945795 | H7: 6990060 | I7: =+MEDIAN(F7:H7) -> 6990060
B8: Nacional | C8: Blu Radio | D8: Voz Populi | E8: 15 Seg | F8: 3969142.5 | G8: 6024889 | H8: 4148340 | I8: =+MEDIAN(F8:H8) -> 4148340
E9: 20 Seg | F9: 4961428.7 | G9: 7531111 | H9: 5186020 | I9: =+MEDIAN(F9:H9) -> 5186020
B10: Nacional | C10: RCN Radio | D10: Noticiero Am | E10: 15 Seg | F10: 4105071.6 | G10: 6890343 | H10: 4291140 | I10: =+MEDIAN(F10:H10) -> 4291140
E11: 20 Seg | F11: 5131339.5 | G11: 8612928 | H11: 5363330 | I11: =+MEDIAN(F11:H11) -> 5363330
B12: Nacional | C12: RCN Radio | D12: Noticiero Medio Dia | E12: 15 Seg | F12: 2756159 | G12: 5059575 | H12: 2880990 | I12: =+MEDIAN(F12:H12) -> 2880990
E13: 20 Seg | F13: 3445764 | G13: 6324469 | H13: 3602130 | I13: =+MEDIAN(F13:H13) -> 3602130
B14: Nacional | C14: RCN Radio | D14: El Tren De La Tarde | E14: 15 Seg | F14: 2756159 | G14: 2052679 | H14: 2880990 | I14: =+MEDIAN(F14:H14) -> 2756159
E15: 20 Seg | F15: 3445764 | G15: 2565848 | H15: 3602130 | I15: =+MEDIAN(F15:H15) -> 3445764
B16: Nacional | C16: La Fm | D16: Noticiero La Fm | E16: 15 Seg | F16: 4105071.6 | G16: 11372949 | H16: 4291140 | I16: =+MEDIAN(F16:H16) -> 4291140
E17: 20 Seg | F17: 5131339.5 | G17: 14216186 | H17: 5363330 | I17: =+MEDIAN(F17:H17) -> 5363330
B18: Nacional | C18: Radio Uno | D18: Programa Am | E18: 15 Seg | F18: 3364368 | G18: 1087365 | H18: 3516450 | I18: =+MEDIAN(F18:H18) -> 3364368
E19: 20 Seg | F19: 4205460 | G19: 1359206 | H19: 4395860 | I19: =+MEDIAN(F19:H19) -> 4205460
B20: Nacional | C20: Radio Uno | D20: Programación Musical | E20: 15 Seg | F20: 2942465.4 | G20: 1686525 | H20: 3076150 | I20: =+MEDIAN(F20:H20) -> 2942465.4
E21: 20 Seg | F21: 3678081.8 | G21: 2108156 | H21: 3844890 | I21: =+MEDIAN(F21:H21) -> 3678081.8
B22: Nacional | C22: La Mega | D22: Programa Am | E22: 15 Seg | F22: 1890422.1 | G22: 721211 | H22: 1976590 | I22: =+MEDIAN(F22:H22) -> 1890422.1
E23: 20 Seg | F23: 2363027.6 | G23: 901514 | H23: 2470440 | I23: =+MEDIAN(F23:H23) -> 2363027.6
B24: Nacional | C24: La Mega | D24: Programación Musical | E24: 15 Seg | F24: 2172594.9 | G24: 865454 | H24: 2270520 | I24: =+MEDIAN(F24:H24) -> 2172594.9
E25: 20 Seg | F25: 2715743.6 | G25: 1081817 | H25: 2838150 | I25: =+MEDIAN(F25:H25) -> 2715743.6
B26: Nacional | C26: La Cariñosa | D26: Programa Am | E26: 15 Seg | F26: 1300075 | G26: 355058 | H26: 1358980 | I26: =+MEDIAN(F26:H26) -> 1300075
E27: 20 Seg | F27: 1618876 | G27: 443822 | H27: 1692180 | I27: =+MEDIAN(F27:H27) -> 1618876
B28: Nacional | C28: La Cariñosa | D28: Programación Musical | E28: 15 Seg | F28: 1300075 | G28: 471561 | H28: 1358980 | I28: =+MEDIAN(F28:H28) -> 1300075
E29: 20 Seg | F29: 1618876 | G29: 589452 | H29: 1692180 | I29: =+MEDIAN(F29:H29) -> 1618876
B30: Nacional | C30: Rumba St | D30: Programa Am | E30: 15 Seg | F30: 443608.2 | G30: 965314 | H30: 464100 | I30: =+MEDIAN(F30:H30) -> 464100
E31: 20 Seg | F31: 554510.25 | G31: 1206642 | H31: 579530 | I31: =+MEDIAN(F31:H31) -> 579530
B32: Nacional | C32: Rumba St | D32: Programación Musical | E32: 15 Seg | F32: 443608.2 | G32: 1342563 | H32: 464100 | I32: =+MEDIAN(F32:H32) -> 464100
E33: 20 Seg | F33: 554510.25 | G33: 1678203 | H33: 579530 | I33: =+MEDIAN(F33:H33) -> 579530
B34: Nacional | C34: El Sol | D34: Programa Am | E34: 15 Seg | F34: 1420360.2 | G34: 965314 | H34: 1485120 | I34: =+MEDIAN(F34:H34) -> 1420360.2
E35: 20 Seg | F35: 1775450.2 | G35: 1206642 | H35: 1856400 | I35: =+MEDIAN(F35:H35) -> 1775450.2
B36: Nacional | C36: Caracol Básica | D36: Noticiero 6 Am | E36: 15 Seg | F36: 7759752 | G36: 12693321 | H36: 8111040 | I36: =+MEDIAN(F36:H36) -> 8111040
E37: 20 Seg | F37: 9699690 | G37: 15866651 | H37: 10138800 | I37: =+MEDIAN(F37:H37) -> 10138800
B38: Nacional | C38: Caracol Básica | D38: Noticiero Medio Dia | E38: 15 Seg | F38: 2991303 | G38: 4893142 | H38: 3127320 | I38: =+MEDIAN(F38:H38) -> 3127320
E39: 20 Seg | F39: 3739128.8 | G39: 6116427 | H39: 3907960 | I39: =+MEDIAN(F39:H39) -> 3907960
B40: Nacional | C40: Caracol Básica | D40: La Luciérnaga | E40: 15 Seg | F40: 6396369 | G40: 10463113 | H40: 6685420 | I40: =+MEDIAN(F40:H40) -> 6685420
E41: 20 Seg | F41: 7995461.2 | G41: 13078891 | H41: 8357370 | I41: =+MEDIAN(F41:H41) -> 8357370
B42: Nacional | C42: La W | D42: Noticiero La W | E42: 15 Seg | F42: 4032493.5 | G42: 6596310 | H42: 4214980 | I42: =+MEDIAN(F42:H42) -> 4214980
E43: 20 Seg | F43: 5040616.9 | G43: 8245388 | H43: 5269320 | I43: =+MEDIAN(F43:H43) -> 5269320
B44: Nacional | C44: Tropicana St | D44: Programa Am | E44: 15 Seg | F44: 2995372.8 | G44: 268513 | H44: 3130890 | I44: =+MEDIAN(F44:H44) -> 2995372.8
E45: 20 Seg | F45: 3744216 | G45: 335641 | H45: 3913910 | I45: =+MEDIAN(F45:H45) -> 3744216
B46: Nacional | C46: Tropicana St | D46: Programación Musical | E46: 15 Seg | F46: 2422209.3 | G46: 1161705 | H46: 2532320 | I46: =+MEDIAN(F46:H46) -> 2422209.3
E47: 20 Seg | F47: 3027761.6 | G47: 1452131 | H47: 3165400 | I47: =+MEDIAN(F47:H47) -> 3027761.6
B48: Nacional | C48: Bésame | D48: Programa Am | E48: 15 Seg | F48: 2057962.2 | G48: 166433 | H48: 2151520 | I48: =+MEDIAN(F48:H48) -> 2057962.2
E49: 20 Seg | F49: 2572452.8 | G49: 208042 | H49: 2689400 | I49: =+MEDIAN(F49:H49) -> 2572452.8
B50: Nacional | C50: Bésame | D50: Programación Musical | E50: 15 Seg | F50: 1826661.9 | G50: 588065 | H50: 1909950 | I50: =+MEDIAN(F50:H50) -> 1826661.9
E51: 20 Seg | F51: 2283327.4 | G51: 735081 | H51: 2387140 | I51: =+MEDIAN(F51:H51) -> 2283327.4
B52: Nacional | C52: los 40 | D52: Programa Am | E52: 15 Seg | F52: 963864.3 | G52: 880987 | H52: 1007930 | I52: =+MEDIAN(F52:H52) -> 963864.3
E53: 20 Seg | F53: 1204830.4 | G53: 1101234 | H53: 1259020 | I53: =+MEDIAN(F53:H53) -> 1204830.4
B54: Nacional | C54: los 40 | D54: Programación Musical | E54: 15 Seg | F54: 815316.6 | G54: 766703 | H54: 852040 | I54: =+MEDIAN(F54:H54) -> 815316.6
E55: 20 Seg | F55: 1019145.8 | G55: 958379 | H55: 1065050 | I55: =+MEDIAN(F55:H55) -> 1019145.8
B56: Nacional | C56: Colmundo Radio | D56: Portal Informativo | E56: 15 Seg | F56: 1901501 | G56: 355058 | H56: 1987300 | I56: =+MEDIAN(F56:H56) -> 1901501
E57: 20 Seg | F57: 3132615.5 | G57: 443822 | H57: 3274880 | I57: =+MEDIAN(F57:H57) -> 3132615.5
B58: Nacional | C58: Colmundo Radio | D58: Deportes | E58: 15 Seg | F58: 1901501 | G58: 466014 | H58: 1987300 | I58: =+MEDIAN(F58:H58) -> 1901501
E59: 20 Seg | F59: 3132615.5 | G59: 582517 | H59: 3274880 | I59: =+MEDIAN(F59:H59) -> 3132615.5
B60: Bogotá | C60: La Kalle | D60: Programa Am | E60: 15 Seg | F60: 570438.99 | G60: 355058 | H60: 596190 | I60: =+MEDIAN(F60:H60) -> 570438.99
E61: 20 Seg | F61: 712714.68 | G61: 443822 | H61: 744940 | I61: =+MEDIAN(F61:H61) -> 712714.68
B62: Bogotá | C62: La Kalle | D62: Programación Musical | E62: 15 Seg | F62: 460738.67 | G62: 621351 | H62: 481950 | I62: =+MEDIAN(F62:H62) -> 481950
E63: 20 Seg | F63: 573380.56 | G63: 776689 | H63: 599760 | I63: =+MEDIAN(F63:H63) -> 599760
B64: Bogotá | C64: Candela | D64: Programa Am | E64: 15 Seg | F64: 659985.9 | G64: 621351 | H64: 690200 | I64: =+MEDIAN(F64:H64) -> 659985.9
E65: 20 Seg | F65: 824982.38 | G65: 776689 | H65: 862750 | I65: =+MEDIAN(F65:H65) -> 824982.38
B66: Bogotá | C66: Candela | D66: Programación Musical | E66: 15 Seg | F66: 507368.4 | G66: 1342563 | H66: 530740 | I66: =+MEDIAN(F66:H66) -> 530740
E67: 20 Seg | F67: 634210.5 | G67: 1678203 | H67: 662830 | I67: =+MEDIAN(F67:H67) -> 662830
B68: Bogotá | C68: Vibra | D68: Programa Am | E68: 15 Seg | F68: 639636.9 | G68: 776689 | H68: 668780 | I68: =+MEDIAN(F68:H68) -> 668780
E69: 20 Seg | F69: 799546.12 | G69: 970862 | H69: 835380 | I69: =+MEDIAN(F69:H69) -> 835380
B70: Medellín -104.9 | C70: Olímpica St | D70: Programa Am | E70: 15 Seg | F70: 368995.2 | G70: 499300 | H70: 385560 | I70: =+MEDIAN(F70:H70) -> 385560
E71: 20 Seg | F71: 461244 | G71: 624125 | H71: 481950 | I71: =+MEDIAN(F71:H71) -> 481950
B72: Cali - 104.5 | C72: Olímpica St | D72: Programa Am | E72: 15 Seg | F72: 368995.2 | G72: 477109 | H72: 385560 | I72: =+MEDIAN(F72:H72) -> 385560
E73: 20 Seg | F73: 461244 | G73: 596386 | H73: 481950 | I73: =+MEDIAN(F73:H73) -> 481950
B74: Barranquilla - 92.1 | C74: Olímpica St | D74: Programa Am | E74: 15 Seg | F74: 320835.9 | G74: 721211 | H74: 335580 | I74: =+MEDIAN(F74:H74) -> 335580
E75: 20 Seg | F75: 401044.88 | G75: 901514 | H75: 418880 | I75: =+MEDIAN(F75:H75) -> 418880
B76: Bucaramanga - 97.7 | C76: Olímpica St | D76: Programa Am | E76: 15 Seg | F76: 175001.4 | G76: 521491 | H76: 183260 | I76: =+MEDIAN(F76:H76) -> 183260
E77: 20 Seg | F77: 218751.75 | G77: 651864 | H77: 228480 | I77: =+MEDIAN(F77:H77) -> 228480
B78: Pereira - 102.7 | C78: Olímpica St | D78: Programa Am | E78: 15 Seg | F78: 167540.1 | G78: 477109 | H78: 174930 | I78: =+MEDIAN(F78:H78) -> 174930
E79: 20 Seg | F79: 209425.12 | G79: 596386 | H79: 218960 | I79: =+MEDIAN(F79:H79) -> 218960
B80: Cartagena - 90.5 | C80: Olímpica St | D80: Programa Am | E80: 15 Seg | F80: 152617.5 | G80: 399440 | H80: 159460 | I80: =+MEDIAN(F80:H80) -> 159460
E81: 20 Seg | F81: 190771.88 | G81: 499300 | H81: 199920 | I81: =+MEDIAN(F81:H81) -> 199920
B82: Ibagué - 94.3 | C82: Olímpica St | D82: Programa Am | E82: 15 Seg | F82: 141764.7 | G82: 255198 | H82: 148750 | I82: =+MEDIAN(F82:H82) -> 148750
E83: 20 Seg | F83: 177205.88 | G83: 318997 | H83: 185640 | I83: =+MEDIAN(F83:H83) -> 185640
B84: Armenia - 96.1 | C84: Olímpica St | D84: Programa Am | E84: 15 Seg | F84: 134981.7 | G84: 166433 | H84: 141610 | I84: =+MEDIAN(F84:H84) -> 141610
E85: 20 Seg | F85: 168727.12 | G85: 208042 | H85: 176120 | I85: =+MEDIAN(F85:H85) -> 176120
B86: Montería - 90.5 | C86: Olímpica St | D86: Programa Am | E86: 15 Seg | F86: 134981.7 | G86: 133147 | H86: 141610 | I86: =+MEDIAN(F86:H86) -> 134981.7
E87: 20 Seg | F87: 168727.12 | G87: 166433 | H87: 176120 | I87: =+MEDIAN(F87:H87) -> 168727.12
B88: Neiva - 100.3 | C88: Olímpica St | D88: Programa Am | E88: 15 Seg | F88: 137016.6 | G88: 233007 | H88: 142800 | I88: =+MEDIAN(F88:H88) -> 142800
E89: 20 Seg | F89: 171270.75 | G89: 291258 | H89: 178500 | I89: =+MEDIAN(F89:H89) -> 178500
B90: Valledupar - 93.7 | C90: Olímpica St | D90: Programa Am | E90: 15 Seg | F90: 134981.7 | G90: 255198 | H90: 141610 | I90: =+MEDIAN(F90:H90) -> 141610
E91: 20 Seg | F91: 168727.12 | G91: 318997 | H91: 176120 | I91: =+MEDIAN(F91:H91) -> 176120
B92: Sincelejo - 101.5 | C92: Olímpica St | D92: Programa Am | E92: 15 Seg | F92: 133625.1 | G92: 255198 | H92: 139230 | I92: =+MEDIAN(F92:H92) -> 139230
E93: 20 Seg | F93: 167031.38 | G93: 318997 | H93: 174930 | I93: =+MEDIAN(F93:H93) -> 174930
B94: Santa Marta - 97.1 | C94: Olímpica St | D94: Programa Am | E94: 15 Seg | F94: 126842.1 | G94: 255198 | H94: 132090 | I94: =+MEDIAN(F94:H94) -> 132090
E95: 20 Seg | F95: 158552.62 | G95: 318997 | H95: 165410 | I95: =+MEDIAN(F95:H95) -> 165410
B96: Cúcuta - 94.7 | C96: Olímpica St | D96: Programa Am | E96: 15 Seg | F96: 118024.2 | G96: 210816 | H96: 123760 | I96: =+MEDIAN(F96:H96) -> 123760
E97: 20 Seg | F97: 147530.25 | G97: 263520 | H97: 154700 | I97: =+MEDIAN(F97:H97) -> 154700
B98: Villavicencio - 105.3 | C98: Olímpica St | D98: Programa Am | E98: 15 Seg | F98: 101066.7 | G98: 221911 | H98: 105910 | I98: =+MEDIAN(F98:H98) -> 105910
E99: 20 Seg | F99: 126333.38 | G99: 277389 | H99: 132090 | I99: =+MEDIAN(F99:H99) -> 132090
B100: Maicao - 89.5 | C100: Olímpica St | D100: Programa Am | E100: 15 Seg | F100: 91570.5 | G100: 194172 | H100: 95200 | I100: =+MEDIAN(F100:H100) -> 95200
E101: 20 Seg | F101: 114463.12 | G101: 242715 | H101: 120190 | I101: =+MEDIAN(F101:H101) -> 120190
B102: Honda - Mariquita 90.5 | C102: Olímpica St | D102: Programa Am | E102: 15 Seg | F102: 91570.5 | G102: 188625 | H102: 95200 | I102: =+MEDIAN(F102:H102) -> 95200
E103: 20 Seg | F103: 114463.12 | G103: 235781 | H103: 120190 | I103: =+MEDIAN(F103:H103) -> 120190
...

Sheet Prensa
A7: PRENSA ESCRITA | H7: Valor Unitario Incluido Iva | K7: MEDIANA
A8: Cubrimiento | B8: Periódico | C8: Ubicación | D8: Tamaño | E8: Pagina | F8: Color | G8: Dia De Publicación | H8: MIACOM | I8: CANAL TRECE | J8: FIX IT SAS
A9: Nacional | B9: La Republica | C9: Primer Cuadernillo | D9: 1/4 pag. | E9: Par / Impar | F9: Blanco y Negro | G9: L-V | H9: 10377990 | I9: 60129614 | J9: 11055100 | K9: =+MEDIAN(H9:J9) -> 11055100
D10: 1/8 pág. | E10: Par / Impar | H10: 5188995 | I10: 56631738 | J10: 5527550 | K10: =+MEDIAN(H10:J10) -> 5527550
D11: Inserto | E11: Par / Impar | H11: 4760000 | I11: 2906 | J11: 5070590 | K11: =+MEDIAN(H11:J11) -> 4760000
A12: Nacional | B12: El Espectador | C12: Primer Cuadernillo | D12: 1/4 pag. | E12: Par / Impar | F12: Blanco y Negro | G12: L-V | H12: 9853200 | I12: 28224331 | J12: 10495800 | K12: =+MEDIAN(H12:J12) -> 10495800
D13: 1/8 pág. | E13: Par / Impar | H13: 4926600 | I13: 59916024 | J13: 5247900 | K13: =+MEDIAN(H13:J13) -> 5247900
D14: Inserto | E14: Par / Impar | H14: 4760000 | I14: 980 | J14: 5070590 | K14: =+MEDIAN(H14:J14) -> 4760000
A15: Nacional | B15: El Espectador | C15: Primer Cuadernillo | D15: 1/4 pag. | E15: Par / Impar | F15: Blanco y Negro | G15: D | H15: 11823840 | I15: 0 | J15: 12594960 | K15: =+MEDIAN(H15:J15) -> 11823840
D16: 1/8 pág. | E16: Par / Impar | H16: 5911920 | I16: 49486198 | J16: 6297480 | K16: =+MEDIAN(H16:J16) -> 6297480
D17: Inserto | E17: Par / Impar | H17: 4998000 | I17: 980 | J17: 5324060 | K17: =+MEDIAN(H17:J17) -> 4998000
A18: Nacional | B18: El Tiempo | C18: Primer Cuadernillo | D18: 1/4 pag. | E18: Par / Impar | F18: Blanco y Negro | G18: L-V | H18: 32868990 | I18: 60129614 | J18: 35012180 | K18: =+MEDIAN(H18:J18) -> 35012180
D19: 1/8 pág. | E19: Par / Impar | H19: 16434495 | I19: 56631738 | J19: 17506090 | K19: =+MEDIAN(H19:J19) -> 17506090
D20: Inserto | E20: Par / Impar | H20: 14280000 | I20: 2906 | J20: 15211770 | K20: =+MEDIAN(H20:J20) -> 14280000
A21: Nacional | B21: El Tiempo | C21: Primer Cuadernillo | D21: 1/4 pag. | E21: Par / Impar | F21: Blanco y Negro | G21: D | H21: 39442788 | I21: 37577333 | J21: 42015330 | K21: =+MEDIAN(H21:J21) -> 39442788
D22: 1/8 pág. | E22: Par / Impar | H22: 19721394 | I22: 50103111 | J22: 21007070 | K22: =+MEDIAN(H22:J22) -> 21007070
D23: Inserto | E23: Par / Impar | H23: 19040000 | I23: 4623 | J23: 20281170 | K23: =+MEDIAN(H23:J23) -> 19040000
A24: Manizales | B24: La Patria | C24: Primer Cuadernillo | D24: 1/4 pag. | E24: Par / Impar | F24: Blanco y Negro | G24: L-V | H24: 8314530 | I24: 9372578 | J24: 8857170 | K24: =+MEDIAN(H24:J24) -> 8857170
D25: 1/8 pág. | E25: Par / Impar | H25: 4157265 | I25: 4744144 | J25: 4427990 | K25: =+MEDIAN(H25:J25) -> 4427990
D26: Inserto | E26: Par / Impar | H26: 3570000 | I26: 1057 | J26: 3803240 | K26: =+MEDIAN(H26:J26) -> 3570000
A27: Armenia | B27: La Crónica | C27: Primer Cuadernillo | D27: 1/4 pag. | E27: Par / Impar | F27: Blanco y Negro | G27: L-V | H27: 6406365 | I27: 9372578 | J27: 6824650 | K27: =+MEDIAN(H27:J27) -> 6824650
D28: 1/8 pág. | E28: Par / Impar | H28: 3203182.5 | I28: 4744144 | J28: 3411730 | K28: =+MEDIAN(H28:J28) -> 3411730
D29: Inserto | E29: Par / Impar | H29: 2618000 | I29: 1057 | J29: 2788170 | K29: =+MEDIAN(H29:J29) -> 2618000
A30: Pereira | B30: La Tarde | C30: Primer Cuadernillo | D30: 1/4 pag. | E30: Par / Impar | F30: Blanco y Negro | G30: L-V | H30: 10024560 | I30: 9372578 | J30: 10677870 | K30: =+MEDIAN(H30:J30) -> 10024560
D31: 1/8 pág. | E31: Par / Impar | H31: 5012280 | I31: 4744144 | J31: 5339530 | K31: =+MEDIAN(H31:J31) -> 5012280
D32: Inserto | E32: Par / Impar | H32: 323870.4 | I32: 1057 | J32: 345100 | K32: =+MEDIAN(H32:J32) -> 323870.4
A33: Medellín | B33: El Colombiano | C33: Primer Cuadernillo | D33: 1/4 pag. | E33: Par / Impar | F33: Blanco y Negro | G33: L-V | H33: 14181587 | I33: 19422778 | J33: 15105860 | K33: =+MEDIAN(H33:J33) -> 15105860
D34: 1/8 pág. | E34: Par / Impar | H34: 7090793.5 | I34: 8078862 | J34: 7552930 | K34: =+MEDIAN(H34:J34) -> 7552930
D35: Inserto | E35: Par / Impar | H35: 5950000 | I35: 1294 | J35: 6337940 | K35: =+MEDIAN(H35:J35) -> 5950000
A36: Cali | B36: El País | C36: Primer Cuadernillo | D36: 1/4 pag. | E36: Par / Impar | F36: Blanco y Negro | G36: L-V | H36: 17659600 | I36: 19422778 | J36: 18811520 | K36: =+MEDIAN(H36:J36) -> 18811520
D37: 1/8 pág. | E37: Par / Impar | H37: 8829800 | I37: 8078862 | J37: 9405760 | K37: =+MEDIAN(H37:J37) -> 8829800
D38: Inserto | E38: Par / Impar | H38: 8330000 | I38: 1294 | J38: 8872640 | K38: =+MEDIAN(H38:J38) -> 8330000
A39: Arauca | B39: El nuevo Oriente | C39: Primer Cuadernillo | D39: 1/4 pag. | E39: Par / Impar | F39: Blanco y Negro | G39: L-D | H39: 4676700 | I39: 9581214 | J39: 4981340 | K39: =+MEDIAN(H39:J39) -> 4981340
D40: 1/8 pág. | E40: Par / Impar | H40: 2338350 | I40: 4849750 | J40: 2490670 | K40: =+MEDIAN(H40:J40) -> 2490670
D41: Inserto | E41: Par / Impar | H41: 2142000 | I41: 1123 | J41: 2281230 | K41: =+MEDIAN(H41:J41) -> 2142000
A42: Bucaramanga | B42: Vanguardia | C42: Primer Cuadernillo | D42: 1/4 pag. | E42: Par / Impar | F42: Blanco y Negro | G42: L-V | H42: 6188000 | I42: 9372578 | J42: 6591410 | K42: =+MEDIAN(H42:J42) -> 6591410
D43: 1/8 pág. | E43: Par / Impar | H43: 3094000 | I43: 4744144 | J43: 3296300 | K43: =+MEDIAN(H43:J43) -> 3296300
D44: Inserto | E44: Par / Impar | H44: 2975000 | I44: 1057 | J44: 3168970 | K44: =+MEDIAN(H44:J44) -> 2975000
A45: Cartagena | B45: El Universal | C45: Primer Cuadernillo | D45: 1/4 pag. | E45: Par / Impar | F45: Blanco y Negro | G45: L-V | H45: 6188000 | I45: 9372578 | J45: 6591410 | K45: =+MEDIAN(H45:J45) -> 6591410
D46: 1/8 pág. | E46: Par / Impar | H46: 3094000 | I46: 4744144 | J46: 3296300 | K46: =+MEDIAN(H46:J46) -> 3296300
D47: Inserto | E47: Par / Impar | H47: 2975000 | I47: 1057 | J47: 3168970 | K47: =+MEDIAN(H47:J47) -> 2975000
A48: Cartagena | B48: El Universal | C48: Primer Cuadernillo | D48: 1/4 pag. | E48: Par / Impar | F48: Blanco y Negro | G48: D | H48: 5734610 | I48: 9581214 | J48: 6108270 | K48: =+MEDIAN(H48:J48) -> 6108270
D49: 1/8 pág. | E49: Par / Impar | H49: 2867305 | I49: 4849750 | J49: 3054730 | K49: =+MEDIAN(H49:J49) -> 3054730
D50: Inserto | E50: Par / Impar | H50: 2499000 | I50: 1123 | J50: 2662030 | K50: =+MEDIAN(H50:J50) -> 2499000
A51: Barranquilla | B51: El Heraldo | C51: Primer Cuadernillo | D51: 1/4 pag. | E51: Par / Impar | F51: Blanco y Negro | G51: L-V | H51: 5365097.2 | I51: 9372578 | J51: 5714380 | K51: =+MEDIAN(H51:J51) -> 5714380
D52: 1/8 pág. | E52: Par / Impar | H52: 2682548.6 | I52: 4744144 | J52: 2857190 | K52: =+MEDIAN(H52:J52) -> 2857190
D53: Inserto | E53: Par / Impar | H53: 2439500 | I53: 1057 | J53: 2598960 | K53: =+MEDIAN(H53:J53) -> 2439500
A54: Montería | B54: El Meridiano | C54: Primer Cuadernillo | D54: 1/4 pag. | E54: Par / Impar | F54: Blanco y Negro | G54: L-D | H54: 3823470 | I54: 9372578 | J54: 4073370 | K54: =+MEDIAN(H54:J54) -> 4073370
D55: 1/8 pág. | E55: Par / Impar | H55: 1911735 | I55: 4744144 | J55: 2036090 | K55: =+MEDIAN(H55:J55) -> 2036090
D56: Inserto | E56: Par / Impar | H56: 1428000 | I56: 1057 | J56: 1520820 | K56: =+MEDIAN(H56:J56) -> 1428000
A57: Sincelejo | B57: El Meridiano | C57: Primer Cuadernillo | D57: 1/4 pag. | E57: Par / Impar | F57: Blanco y Negro | G57: L-D | H57: 4157265 | I57: 9581214 | J57: 4427990 | K57: =+MEDIAN(H57:J57) -> 4427990
D58: 1/8 pág. | E58: Par / Impar | H58: 2078632.5 | I58: 4849750 | J58: 2214590 | K58: =+MEDIAN(H58:J58) -> 2214590
D59: Inserto | E59: Par / Impar | H59: 1904000 | I59: 1123 | J59: 2027760 | K59: =+MEDIAN(H59:J59) -> 1904000
A60: Cúcuta | B60: La Opinión | C60: Primer Cuadernillo | D60: 1/4 pag. | E60: Par / Impar | F60: Blanco y Negro | G60: L-V | H60: 3823470 | I60: 9372578 | J60: 4073370 | K60: =+MEDIAN(H60:J60) -> 4073370
D61: 1/8 pág. | E61: Par / Impar | H61: 1911735 | I61: 4744144 | J61: 2036090 | K61: =+MEDIAN(H61:J61) -> 2036090
D62: Inserto | E62: Par / Impar | H62: 1428000 | I62: 1057 | J62: 1520820 | K62: =+MEDIAN(H62:J62) -> 1428000
A63: Pasto | B63: Diario del Sur | C63: Primer Cuadernillo | D63: 1/4 pag. | E63: Par / Impar | F63: Blanco y Negro | G63: L-V | H63: 3823470 | I63: 9372578 | J63: 4073370 | K63: =+MEDIAN(H63:J63) -> 4073370
D64: 1/8 pág. | E64: Par / Impar | H64: 1911735 | I64: 4744144 | J64: 2036090 | K64: =+MEDIAN(H64:J64) -> 2036090
D65: Inserto | E65: Par / Impar | H65: 1428000 | I65: 1057 | J65: 1520820 | K65: =+MEDIAN(H65:J65) -> 1428000
A66: Neiva | B66: La Nación | C66: Primer Cuadernillo | D66: 1/4 pag. | E66: Par / Impar | F66: Blanco y Negro | G66: L-V | H66: 3823470 | I66: 9372578 | J66: 4073370 | K66: =+MEDIAN(H66:J66) -> 4073370
D67: 1/8 pág. | E67: Par / Impar | H67: 1911735 | I67: 4744144 | J67: 2036090 | K67: =+MEDIAN(H67:J67) -> 2036090
D68: Inserto | E68: Par / Impar | H68: 1428000 | I68: 1057 | J68: 1520820 | K68: =+MEDIAN(H68:J68) -> 1428000
A69: Popayán | B69: El Nuevo Liberal | C69: Primer Cuadernillo | D69: 1/4 pag. | E69: Par / Impar | F69: Blanco y Negro | G69: L-V | H69: 3823470 | I69: 9372578 | J69: 4073370 | K69: =+MEDIAN(H69:J69) -> 4073370
D70: 1/8 pág. | E70: Par / Impar | H70: 1911735 | I70: 4744144 | J70: 2036090 | K70: =+MEDIAN(H70:J70) -> 2036090
D71: Inserto | E71: Par / Impar | H71: 1428000 | I71: 1057 | J71: 1520820 | K71: =+MEDIAN(H71:J71) -> 1428000
A72: Santa Marta | B72: El Informador | C72: Primer Cuadernillo | D72: 1/4 pag. | E72: Par / Impar | F72: Blanco y Negro | G72: L-V | H72: 6188000 | I72: 9372578 | J72: 6591410 | K72: =+MEDIAN(H72:J72) -> 6591410
D73: 1/8 pág. | E73: Par / Impar | H73: 3094000 | I73: 4744144 | J73: 3296300 | K73: =+MEDIAN(H73:J73) -> 3296300
D74: Inserto | E74: Par / Impar | H74: 2975000 | I74: 1057 | J74: 3168970 | K74: =+MEDIAN(H74:J74) -> 2975000
A75: Yopal | B75: Prensa Libre | C75: Primer Cuadernillo | D75: 1/4 pag. | E75: Par / Impar | F75: Blanco y Negro | G75: L-D | H75: 10472000 | I75: 9581214 | J75: 11155060 | K75: =+MEDIAN(H75:J75) -> 10472000
D76: 1/8 pág. | E76: Par / Impar | H76: 5236000 | I76: 4849750 | J76: 5577530 | K76: =+MEDIAN(H76:J76) -> 5236000
D77: Inserto | E77: Par / Impar | H77: 4760000 | I77: 1123 | J77: 5070590 | K77: =+MEDIAN(H77:J77) -> 4760000
A78: Valledupar | B78: El Pilón | C78: Primer Cuadernillo | D78: 1/4 pag. | E78: Par / Impar | F78: Blanco y Negro | G78: L-D | H78: 6188000 | I78: 9581214 | J78: 6591410 | K78: =+MEDIAN(H78:J78) -> 6591410
D79: 1/8 pág. | E79: Par / Impar | H79: 3094000 | I79: 4849750 | J79: 3296300 | K79: =+MEDIAN(H79:J79) -> 3296300
D80: Inserto | E80: Par / Impar | H80: 2975000 | I80: 1123 | J80: 3168970 | K80: =+MEDIAN(H80:J80) -> 2975000
A81: Riohacha | B81: El Pilón | C81: Primer Cuadernillo | D81: 1/4 pag. | E81: Par / Impar | F81: Blanco y Negro | G81: L-D | H81: 5734610 | I81: 9581214 | J81: 6108270 | K81: =+MEDIAN(H81:J81) -> 6108270
D82: 1/8 pág. | E82: Par / Impar | H82: 2867305 | I82: 4849750 | J82: 3054730 | K82: =+MEDIAN(H82:J82) -> 3054730
D83: Inserto | E83: Par / Impar | H83: 2499000 | I83: 1123 | J83: 2662030 | K83: =+MEDIAN(H83:J83) -> 2499000
H85: VALOR TOTAL UNITARIO | K85: =SUM(K9:K83) -> 4.8300596e+08

Sheet Digital
B6: DIGITAL - REDES SOCIALES | D6: Valor Unitario Incluido Iva | G6: MEDIANA
B7: MEDIO | C7: TIPO DE COMPRA | D7: MIACOM | E7: CANAL TRECE | F7: FIX IT SAS
B8: FACEBOOK | C8: Video CPC | D8: 1190 | E8: 1109556 | F8: 2380 | G8: =+MEDIAN(D8:F8) -> 2380
C9: Video CPM | D9: 2380 | E9: 1109556 | F9: 3570 | G9: =+MEDIAN(D9:F9) -> 3570
C10: Imagen Estática CPC | D10: 952 | E10: 332867 | F10: 1190 | G10: =+MEDIAN(D10:F10) -> 1190
C11: Imagen Estática CPM | D11: 2380 | E11: 332867 | F11: 3570 | G11: =+MEDIAN(D11:F11) -> 3570
B12: Google Ads | C12: CPM | D12: 7140 | E12: 332867 | F12: 10710 | G12: =+MEDIAN(D12:F12) -> 10710
B13: INSTAGRAM | C13: Video CPC | D13: 1785 | E13: 1109556 | F13: 2380 | G13: =+MEDIAN(D13:F13) -> 2380
C14: Video CPM | D14: 3570 | E14: 1109556 | F14: 5950 | G14: =+MEDIAN(D14:F14) -> 5950
C15: Imagen Estática CPC | D15: 1428 | E15: 332867 | F15: 2380 | G15: =+MEDIAN(D15:F15) -> 2380
C16: Imagen Estática CPM | D16: 3570 | E16: 332867 | F16: 5950 | G16: =+MEDIAN(D16:F16) -> 5950
B17: X | C17: Video CPC | D17: 4760 | E17: 1109556 | F17: 7140 | G17: =+MEDIAN(D17:F17) -> 7140
C18: Video CPM | D18: 7140 | E18: 1109556 | F18: 10710 | G18: =+MEDIAN(D18:F18) -> 10710
C19: Imagen Estática CPC | D19: 2380 | E19: 332867 | F19: 3570 | G19: =+MEDIAN(D19:F19) -> 3570
C20: Imagen Estática CPM | D20: 7140 | E20: 332867 | F20: 10710 | G20: =+MEDIAN(D20:F20) -> 10710
B21: TIK TOK | C21: Video CPC | D21: 952 | E21: 1109556 | F21: 1190 | G21: =+MEDIAN(D21:F21) -> 1190
C22: Video CPM | D22: 4760 | E22: 1109556 | F22: 7140 | G22: =+MEDIAN(D22:F22) -> 7140
C23: Visualizaciones | D23: 238 | E23: 1479408 | F23: 595 | G23: =+MEDIAN(D23:F23) -> 595
B24: YOUTUBE | C24: CPM | D24: 7140 | E24: 332867 | F24: 10710 | G24: =+MEDIAN(D24:F24) -> 10710
E26: VALOR TOTAL UNITARIO | G26: =SUM(G8:G24) -> 89845
B28: DIGITAL - MEDIOS DE COMUNICACIÓN | E28: Valor Unitario Incluido Iva | H28: MEDIANA
B29: MEDIO | C29: TIPO DE COMPRA | D29: DESCRIPCIÓN | E29: MIACOM | F29: CANAL TRECE | G29: FIX IT SAS
B30: EL ESPECTADOR | C30: CONTENIDOS | D30: Textos, especiales y/o publirreportajes que se incluyan en la oferta que sean enviados por las redes de esos medios una o dos veces. No requerimos pauta programática. | E30: 10376800 | F30: 36060570 | G30: 11676280 | H30: =+MEDIAN(E30:G30) -> 11676280
B31: EL TIEMPO | C31: CONTENIDOS | E31: 5123545 | F31: 34211310 | G31: 5765550 | H31: =+MEDIAN(E31:G31) -> 5765550
B32: CARACOL | C32: CONTENIDOS | E32: 4539850 | F32: 27738900 | G32: 5108670 | H32: =+MEDIAN(E32:G32) -> 5108670
B33: BLU RADIO | C33: CONTENIDOS | E33: 10749039 | F33: 27738900 | G33: 12095160 | H33: =+MEDIAN(E33:G33) -> 12095160
B34: WRADIO | C34: CONTENIDOS | E34: 4539850 | F34: 36060570 | G34: 5108670 | H34: =+MEDIAN(E34:G34) -> 5108670
B35: LA REPÚBLICA | C35: CONTENIDOS | E35: 11906755 | F35: 27738900 | G35: 13397020 | H35: =+MEDIAN(E35:G35) -> 13397020
B36: PUBLIMETRO | C36: CONTENIDOS | E36: 7863247.2 | F36: 34211310 | G36: 8847650 | H36: =+MEDIAN(E36:G36) -> 8847650
B37: EXTRA | C37: CONTENIDOS | E37: 2111030.2 | F37: 27738900 | G37: 2375240 | H37: =+MEDIAN(E37:G37) -> 2375240
B38: KIEN Y KE | C38: CONTENIDOS | E38: 9518703.5 | F38: 27738900 | G38: 10710000 | H38: =+MEDIAN(E38:G38) -> 10710000
B39: CAMBIO | C39: CONTENIDOS | E39: 10214662 | F39: 30380700 | G39: 11493020 | H39: =+MEDIAN(E39:G39) -> 11493020
B40: ÚLTIMA HORA COL | C40: CONTENIDOS | E40: 13619550 | F40: 30380700 | G40: 15324820 | H40: =+MEDIAN(E40:G40) -> 15324820
B41: LAS DOS ORILLAS | C41: CONTENIDOS | E41: 11440422 | F41: 27738900 | G41: 12872230 | H41: =+MEDIAN(E41:G41) -> 12872230
B42: VALORA ANALITIK | C42: CONTENIDOS | E42: 8988903 | F42: 27738900 | G42: 10113810 | H42: =+MEDIAN(E42:G42) -> 10113810
F44: VALOR TOTAL UNITARIO | H44: =SUM(H30:H42) -> 124888120
B46: DIGITAL - PORTALES | C46: TIPO DE COMPRA | D46: DESCRIPCIÓN | E46: Valor Unitario Incluido Iva | H46: MEDIANA
B47: MEDIO | E47: MIACOM | F47: CANAL TRECE | G47: FIX IT SAS
B48: Proclama Cauca | C48: CONTENIDOS | D48: Textos, especiales y/o publirreportajes que se incluyan en la oferta que sean enviados por las redes de esos medios una o dos veces. No requerimos pauta programática. | E48: 4760000 | F48: 10567200 | G48: 5356190 | H48: =+MEDIAN(E48:G48) -> 5356190
B49: Razón Publica | C49: CONTENIDOS | E49: 6188000 | F49: 10567200 | G49: 6962690 | H49: =+MEDIAN(E49:G49) -> 6962690
B50: Cuestión Publica | C50: CONTENIDOS | E50: 6188000 | F50: 10567200 | G50: 6962690 | H50: =+MEDIAN(E50:G50) -> 6962690
B51: Cerosetenta | C51: CONTENIDOS | E51: 7735000 | F51: 10567200 | G51: 8703660 | H51: =+MEDIAN(E51:G51) -> 8703660
B52: Mutante | C52: CONTENIDOS | E52: 3570000 | F52: 10567200 | G52: 4017440 | H52: =+MEDIAN(E52:G52) -> 4017440
B53: Rutas del Conflicto | C53: CONTENIDOS | E53: 3808000 | F53: 10567200 | G53: 4285190 | H53: =+MEDIAN(E53:G53) -> 4285190
B54: Volcánicas | C54: CONTENIDOS | E54: 5712000 | F54: 10567200 | G54: 6427190 | H54: =+MEDIAN(E54:G54) -> 6427190
B55: Universo Centro | C55: CONTENIDOS | E55: 5950000 | F55: 10567200 | G55: 6694940 | H55: =+MEDIAN(E55:G55) -> 6694940
B56: Oreja Roja | C56: CONTENIDOS | E56: 6545000 | F56: 10567200 | G56: 7364910 | H56: =+MEDIAN(E56:G56) -> 7364910
B57: Periódico virtual de Popayán | C57: CONTENIDOS | E57: 4938500 | F57: 10567200 | G57: 5557300 | H57: =+MEDIAN(E57:G57) -> 5557300
B58: ZONA CERO | C58: CONTENIDOS | E58: 3808000 | F58: 10567200 | G58: 4285190 | H58: =+MEDIAN(E58:G58) -> 4285190
B59: Periodicoeldiario.com | C59: CONTENIDOS | E59: 3570000 | F59: 10567200 | G59: 4017440 | H59: =+MEDIAN(E59:G59) -> 4017440
B60: Boyacá7días | C60: CONTENIDOS | E60: 2737000 | F60: 10567200 | G60: 3079720 | H60: =+MEDIAN(E60:G60) -> 3079720
F62: VALOR TOTAL UNITARIO | H62: =SUM(H48:H60) -> 73714550

Sheet Emisoras Comunitarias
B6: RADIO COMUNITARIA Y COMUNITARIAS | J6: Valor Unitario Incluido Iva | M6: MEDIANA
B7: COBERTURA | C7: CIUDAD | D7: EMISORA | E7: PROGRAMA | F7: DURACIÓN | G7: VALOR UNITARIO | H7: VALOR IVA | I7: VALOR CON IVA | J7: MIACOM | K7: CANAL TRECE | L7: FIX IT SAS
B8: San Andrés | C8: San Andrés | D8: Good news radio Station | F8: 15 Seg | J8: 23800 | K8: 19814 | L8: 29750 | M8: =+MEDIAN(J8:L8) -> 23800
F9: 20 Seg | J9: 29750 | K9: 24767 | L9: 41650 | M9: =+MEDIAN(J9:L9) -> 29750
F10: 30 Seg | H10: =+G10*19% -> 0 | I10: =G10+H10 -> 0 | J10: 35700 | K10: 33023 | L10: 47600 | M10: =+MEDIAN(J10:L10) -> 35700
B11: Atlántico | C11: Galapa | D11: Popular Stereo | F11: 15 Seg | J11: 23800 | K11: 19814 | L11: 29750 | M11: =+MEDIAN(J11:L11) -> 23800
F12: 20 Seg | J12: 29750 | K12: 24767 | L12: 41650 | M12: =+MEDIAN(J12:L12) -> 29750
F13: 30 Seg | H13: =+G13*19% -> 0 | I13: =G13+H13 -> 0 | J13: 35700 | K13: 33023 | L13: 47600 | M13: =+MEDIAN(J13:L13) -> 35700
C14: Malambo | D14: Sensación Stereo | F14: 15 Seg | J14: 23800 | K14: 19814 | L14: 29750 | M14: =+MEDIAN(J14:L14) -> 23800
F15: 20 Seg | J15: 29750 | K15: 24767 | L15: 41650 | M15: =+MEDIAN(J15:L15) -> 29750
F16: 30 Seg | H16: =+G16*19% -> 0 | I16: =G16+H16 -> 0 | J16: 35700 | K16: 33023 | L16: 47600 | M16: =+MEDIAN(J16:L16) -> 35700
B17: Bolívar | C17: Cartagena, Área 2 | D17: Colectiva 101.6 Fm | F17: 15 Seg | J17: 23800 | K17: 19814 | L17: 29750 | M17: =+MEDIAN(J17:L17) -> 23800
F18: 20 Seg | J18: 29750 | K18: 24767 | L18: 41650 | M18: =+MEDIAN(J18:L18) -> 29750
F19: 30 Seg | H19: =+G19*19% -> 0 | I19: =G19+H19 -> 0 | J19: 35700 | K19: 33023 | L19: 47600 | M19: =+MEDIAN(J19:L19) -> 35700
C20: María La Baja | D20: Divina Stereo | F20: 15 Seg | J20: 23800 | K20: 17436 | L20: 29750 | M20: =+MEDIAN(J20:L20) -> 23800
F21: 20 Seg | J21: 29750 | K21: 21795 | L21: 41650 | M21: =+MEDIAN(J21:L21) -> 29750
F22: 30 Seg | H22: =+G22*19% -> 0 | I22: =G22+H22 -> 0 | J22: 35700 | K22: 29060 | L22: 47600 | M22: =+MEDIAN(J22:L22) -> 35700
B23: Cesar | C23: Aguachica | D23: Campo Serrano | F23: 15 Seg | J23: 23800 | K23: 17436 | L23: 29750 | M23: =+MEDIAN(J23:L23) -> 23800
F24: 20 Seg | J24: 29750 | K24: 21795 | L24: 41650 | M24: =+MEDIAN(J24:L24) -> 29750
F25: 30 Seg | H25: =+G25*19% -> 0 | I25: =G25+H25 -> 0 | J25: 35700 | K25: 29060 | L25: 47600 | M25: =+MEDIAN(J25:L25) -> 35700
C26: Codazzi | D26: Sensación Stereo | F26: 15 Seg | J26: 23800 | K26: 26154 | L26: 29750 | M26: =+MEDIAN(J26:L26) -> 26154
F27: 20 Seg | J27: 29750 | K27: 32692 | L27: 41650 | M27: =+MEDIAN(J27:L27) -> 32692
F28: 30 Seg | H28: =+G28*19% -> 0 | I28: =G28+H28 -> 0 | J28: 35700 | K28: 43590 | L28: 47600 | M28: =+MEDIAN(J28:L28) -> 43590
B29: Magdalena | C29: Ciénaga | D29: Innovación Stereo | F29: 15 Seg | J29: 23800 | K29: 37448 | L29: 29750 | M29: =+MEDIAN(J29:L29) -> 29750
F30: 20 Seg | J30: 29750 | K30: 46809 | L30: 41650 | M30: =+MEDIAN(J30:L30) -> 41650
F31: 30 Seg | H31: =+G31*19% -> 0 | I31: =G31+H31 -> 0 | J31: 35700 | K31: 62413 | L31: 47600 | M31: =+MEDIAN(J31:L31) -> 47600
C32: Santa Marta | D32: Voces Fm | F32: 15 Seg | J32: 23800 | K32: 37448 | L32: 29750 | M32: =+MEDIAN(J32:L32) -> 29750
F33: 20 Seg | J33: 29750 | K33: 46809 | L33: 41650 | M33: =+MEDIAN(J33:L33) -> 41650
F34: 30 Seg | H34: =+G34*19% -> 0 | I34: =G34+H34 -> 0 | J34: 35700 | K34: 62413 | L34: 47600 | M34: =+MEDIAN(J34:L34) -> 47600
C35: Zona Bananera | D35: Sol Stereo | F35: 15 Seg | J35: 23800 | K35: 35664 | L35: 29750 | M35: =+MEDIAN(J35:L35) -> 29750
F36: 20 Seg | J36: 29750 | K36: 44580 | L36: 41650 | M36: =+MEDIAN(J36:L36) -> 41650
F37: 30 Seg | H37: =+G37*19% -> 0 | I37: =G37+H37 -> 0 | J37: 35700 | K37: 59441 | L37: 47600 | M37: =+MEDIAN(J37:L37) -> 47600
B38: Sucre | C38: Corozal | D38: Wz Radio | F38: 15 Seg | J38: 23800 | K38: 23776 | L38: 29750 | M38: =+MEDIAN(J38:L38) -> 23800
F39: 20 Seg | J39: 29750 | K39: 29720 | L39: 41650 | M39: =+MEDIAN(J39:L39) -> 29750
F40: 30 Seg | H40: =+G40*19% -> 0 | I40: =G40+H40 -> 0 | J40: 35700 | K40: 39627 | L40: 47600 | M40: =+MEDIAN(J40:L40) -> 39627
C41: Tibú | D41: La Voz De La Garraba | F41: 15 Seg | J41: 23800 | K41: 23776 | L41: 29750 | M41: =+MEDIAN(J41:L41) -> 23800
F42: 20 Seg | J42: 29750 | K42: 29720 | L42: 41650 | M42: =+MEDIAN(J42:L42) -> 29750
F43: 30 Seg | H43: =+G43*19% -> 0 | I43: =G43+H43 -> 0 | J43: 35700 | K43: 39627 | L43: 47600 | M43: =+MEDIAN(J43:L43) -> 39627
B44: Arauca | C44: Arauca Capital | D44: Kapital Stereo | F44: 15 Seg | J44: 23800 | K44: 31702 | L44: 29750 | M44: =+MEDIAN(J44:L44) -> 29750
F45: 20 Seg | J45: 29750 | K45: 39627 | L45: 41650 | M45: =+MEDIAN(J45:L45) -> 39627
F46: 30 Seg | H46: =+G46*19% -> 0 | I46: =G46+H46 -> 0 | J46: 35700 | K46: 52836 | L46: 47600 | M46: =+MEDIAN(J46:L46) -> 47600
C47: Saravena | D47: Sarare Fm Stereo | F47: 15 Seg | J47: 23800 | K47: 35664 | L47: 29750 | M47: =+MEDIAN(J47:L47) -> 29750
F48: 20 Seg | J48: 29750 | K48: 44580 | L48: 41650 | M48: =+MEDIAN(J48:L48) -> 41650
F49: 30 Seg | H49: =+G49*19% -> 0 | I49: =G49+H49 -> 0 | J49: 35700 | K49: 59441 | L49: 47600 | M49: =+MEDIAN(J49:L49) -> 47600
B50: Casanare | C50: Paz de Ariporo | D50: Caporal Estereo | F50: 15 Seg | J50: 23800 | K50: 22191 | L50: 29750 | M50: =+MEDIAN(J50:L50) -> 23800
F51: 20 Seg | J51: 29750 | K51: 27739 | L51: 41650 | M51: =+MEDIAN(J51:L51) -> 29750
F52: 30 Seg | H52: =+G52*19% -> 0 | I52: =G52+H52 -> 0 | J52: 35700 | K52: 36985 | L52: 47600 | M52: =+MEDIAN(J52:L52) -> 36985
C53: Yopal | D53: Manantial Estéreo | F53: 15 Seg | J53: 23800 | K53: 17436 | L53: 29750 | M53: =+MEDIAN(J53:L53) -> 23800
F54: 20 Seg | J54: 29750 | K54: 21795 | L54: 41650 | M54: =+MEDIAN(J54:L54) -> 29750
F55: 30 Seg | H55: =+G55*19% -> 0 | I55: =G55+H55 -> 0 | J55: 35700 | K55: 29060 | L55: 47600 | M55: =+MEDIAN(J55:L55) -> 35700
B56: Meta | C56: Acacias | D56: Rca | F56: 15 Seg | J56: 23800 | K56: 17436 | L56: 29750 | M56: =+MEDIAN(J56:L56) -> 23800
F57: 20 Seg | J57: 29750 | K57: 21795 | L57: 41650 | M57: =+MEDIAN(J57:L57) -> 29750
F58: 30 Seg | H58: =+G58*19% -> 0 | I58: =G58+H58 -> 0 | J58: 35700 | K58: 29060 | L58: 47600 | M58: =+MEDIAN(J58:L58) -> 35700
C59: Villavicencio, Área 2 | D59: Exitosa Stereo 107.8 | F59: 15 Seg | J59: 23800 | K59: 17436 | L59: 29750 | M59: =+MEDIAN(J59:L59) -> 23800
F60: 20 Seg | J60: 29750 | K60: 21795 | L60: 41650 | M60: =+MEDIAN(J60:L60) -> 29750
F61: 30 Seg | H61: =+G61*19% -> 0 | I61: =G61+H61 -> 0 | J61: 35700 | K61: 29060 | L61: 47600 | M61: =+MEDIAN(J61:L61) -> 35700
B62: Santander | C62: Capitanejo | D62: Chicamocha Stereo | F62: 15 Seg | J62: 23800 | K62: 17436 | L62: 29750 | M62: =+MEDIAN(J62:L62) -> 23800
F63: 20 Seg | J63: 29750 | K63: 21795 | L63: 41650 | M63: =+MEDIAN(J63:L63) -> 29750
F64: 30 Seg | H64: =+G64*19% -> 0 | I64: =G64+H64 -> 0 | J64: 35700 | K64: 29060 | L64: 47600 | M64: =+MEDIAN(J64:L64) -> 35700
C65: Málaga | D65: La Voz De Los Andes | F65: 15 Seg | J65: 23800 | K65: 17436 | L65: 29750 | M65: =+MEDIAN(J65:L65) -> 23800
F66: 20 Seg | J66: 29750 | K66: 21795 | L66: 41650 | M66: =+MEDIAN(J66:L66) -> 29750
F67: 30 Seg | H67: =+G67*19% -> 0 | I67: =G67+H67 -> 0 | J67: 35700 | K67: 29060 | L67: 47600 | M67: =+MEDIAN(J67:L67) -> 35700
B68: Boyacá | C68: Duitama | D68: Señal Duitama | F68: 15 Seg | J68: 23800 | K68: 26748 | L68: 29750 | M68: =+MEDIAN(J68:L68) -> 26748
F69: 20 Seg | J69: 29750 | K69: 33436 | L69: 41650 | M69: =+MEDIAN(J69:L69) -> 33436
F70: 30 Seg | H70: =+G70*19% -> 0 | I70: =G70+H70 -> 0 | J70: 35700 | K70: 44580 | L70: 47600 | M70: =+MEDIAN(J70:L70) -> 44580
C71: Tunja | D71: Radio Milagro Oicatá - Última Hora | F71: 15 Seg | J71: 23800 | K71: 19814 | L71: 29750 | M71: =+MEDIAN(J71:L71) -> 23800
F72: 20 Seg | J72: 29750 | K72: 24767 | L72: 41650 | M72: =+MEDIAN(J72:L72) -> 29750
F73: 30 Seg | H73: =+G73*19% -> 0 | I73: =G73+H73 -> 0 | J73: 35700 | K73: 33023 | L73: 47600 | M73: =+MEDIAN(J73:L73) -> 35700
C74: Tunja | D74: Viva FM Stereo - Noticiero del Transporte | F74: 15 Seg | J74: 23800 | K74: 19814 | L74: 29750 | M74: =+MEDIAN(J74:L74) -> 23800
F75: 20 Seg | J75: 29750 | K75: 24767 | L75: 41650 | M75: =+MEDIAN(J75:L75) -> 29750
F76: 30 Seg | H76: =+G76*19% -> 0 | I76: =G76+H76 -> 0 | J76: 35700 | K76: 33023 | L76: 47600 | M76: =+MEDIAN(J76:L76) -> 35700
C77: Tunja | D77: Radio Visión Noticias | F77: 15 Seg | J77: 23800 | K77: 19814 | L77: 29750 | M77: =+MEDIAN(J77:L77) -> 23800
F78: 20 Seg | J78: 29750 | K78: 24767 | L78: 41650 | M78: =+MEDIAN(J78:L78) -> 29750
F79: 30 Seg | H79: =+G79*19% -> 0 | I79: =G79+H79 -> 0 | J79: 35700 | K79: 33023 | L79: 47600 | M79: =+MEDIAN(J79:L79) -> 35700
C80: Garagoa | D80: Santabarbara Stereo | F80: 15 Seg | J80: 23800 | K80: 19814 | L80: 29750 | M80: =+MEDIAN(J80:L80) -> 23800
F81: 20 Seg | J81: 29750 | K81: 24767 | L81: 41650 | M81: =+MEDIAN(J81:L81) -> 29750
F82: 30 Seg | H82: =+G82*19% -> 0 | I82: =G82+H82 -> 0 | J82: 35700 | K82: 33023 | L82: 47600 | M82: =+MEDIAN(J82:L82) -> 35700
C83: Moniquirá | D83: Hit Stereo | F83: 15 Seg | J83: 23800 | K83: 19814 | L83: 29750 | M83: =+MEDIAN(J83:L83) -> 23800
F84: 20 Seg | J84: 29750 | K84: 24767 | L84: 41650 | M84: =+MEDIAN(J84:L84) -> 29750
F85: 30 Seg | H85: =+G85*19% -> 0 | I85: =G85+H85 -> 0 | J85: 35700 | K85: 33023 | L85: 47600 | M85: =+MEDIAN(J85:L85) -> 35700
C86: Puerto Boyacá | D86: Claveriana Stereo Fm | F86: 15 Seg | J86: 23800 | K86: 26154 | L86: 29750 | M86: =+MEDIAN(J86:L86) -> 26154
F87: 20 Seg | J87: 29750 | K87: 32692 | L87: 41650 | M87: =+MEDIAN(J87:L87) -> 32692
F88: 30 Seg | H88: =+G88*19% -> 0 | I88: =G88+H88 -> 0 | J88: 35700 | K88: 43590 | L88: 47600 | M88: =+MEDIAN(J88:L88) -> 43590
C89: Tunja | D89: Positiva 101.1 Fm | F89: 15 Seg | J89: 23800 | K89: 19814 | L89: 29750 | M89: =+MEDIAN(J89:L89) -> 23800
F90: 20 Seg | J90: 29750 | K90: 24767 | L90: 41650 | M90: =+MEDIAN(J90:L90) -> 29750
F91: 30 Seg | H91: =+G91*19% -> 0 | I91: =G91+H91 -> 0 | J91: 35700 | K91: 33023 | L91: 47600 | M91: =+MEDIAN(J91:L91) -> 35700
B92: Cundinamarca | C92: Facatativá | D92: Unilatina Radio | F92: 15 Seg | J92: 23800 | K92: 23776 | L92: 29750 | M92: =+MEDIAN(J92:L92) -> 23800
F93: 20 Seg | J93: 29750 | K93: 29720 | L93: 41650 | M93: =+MEDIAN(J93:L93) -> 29750
F94: 30 Seg | H94: =+G94*19% -> 0 | I94: =G94+H94 -> 0 | J94: 35700 | K94: 39627 | L94: 47600 | M94: =+MEDIAN(J94:L94) -> 39627
C95: Funza | D95: Bacatá Stereo | F95: 15 Seg | J95: 23800 | K95: 23776 | L95: 29750 | M95: =+MEDIAN(J95:L95) -> 23800
F96: 20 Seg | J96: 29750 | K96: 29720 | L96: 41650 | M96: =+MEDIAN(J96:L96) -> 29750
F97: 30 Seg | H97: =+G97*19% -> 0 | I97: =G97+H97 -> 0 | J97: 35700 | K97: 39627 | L97: 47600 | M97: =+MEDIAN(J97:L97) -> 39627
C98: Mosquera | D98: Asoam Stereo | F98: 15 Seg | J98: 23800 | K98: 17436 | L98: 29750 | M98: =+MEDIAN(J98:L98) -> 23800
F99: 20 Seg | J99: 29750 | K99: 21795 | L99: 41650 | M99: =+MEDIAN(J99:L99) -> 29750
F100: 30 Seg | H100: =+G100*19% -> 0 | I100: =G100+H100 -> 0 | J100: 35700 | K100: 29060 | L100: 47600 | M100: =+MEDIAN(J100:L100) -> 35700
C101: Zipaquirá | D101: Catedral St | F101: 15 Seg | J101: 23800 | K101: 23776 | L101: 29750 | M101: =+MEDIAN(J101:L101) -> 23800
F102: 20 Seg | J102: 29750 | K102: 29720 | L102: 41650 | M102: =+MEDIAN(J102:L102) -> 29750
F103: 30 Seg | H103: =+G103*19% -> 0 | I103: =G103+H103 -> 0 | J103: 35700 | K103: 39627 | L103: 47600 | M103: =+MEDIAN(J103:L103) -> 39627
B104: Tolima | C104: Espinal | D104: Espinal Estéreo | F104: 15 Seg | J104: 23800 | K104: 17436 | L104: 29750 | M104: =+MEDIAN(J104:L104) -> 23800
F105: 20 Seg | J105: 29750 | K105: 21795 | L105: 41650 | M105: =+MEDIAN(J105:L105) -> 29750
...

Sheet Otros Medios
B5: MENSAJES INSTITUCIONALES EN OTROS MEDIOS
B7: PERIFONEO | G7: Valor Unitario Incluido Iva | J7: MEDIANA
B8: UBICACIÓN | C8: TIPO ELEMENTO | D8: CANTIDAD | E8: VALOR UNITARIO | F8: VALOR IVA | G8: MIACOM | H8: CANAL TRECE | I8: FIX IT SAS
B9: Quibdó - Chocó | C9: 1 hora de perifoneo | D9: 1 | F9: =+E9*19% -> 0 | G9: 142800 | H9: 110956 | I9: 214200 | J9: =+MEDIAN(G9:I9) -> 142800
B10: Fundación - Magdalena | C10: 1 hora de perifoneo | D10: 1 | F10: =+E10*19% -> 0 | G10: 142800 | H10: 101709 | I10: 214200 | J10: =+MEDIAN(G10:I10) -> 142800
B11: Abrego - Norte de Santander | C11: 1 hora de perifoneo | D11: 1 | F11: =+E11*19% -> 0 | G11: 142800 | H11: 138695 | I11: 214200 | J11: =+MEDIAN(G11:I11) -> 142800
B12: Malambo - Atlántico | C12: 1 hora de perifoneo | D12: 1 | F12: =+E12*19% -> 0 | G12: 142800 | H12: 101709 | I12: 214200 | J12: =+MEDIAN(G12:I12) -> 142800
B13: Rionegro - Antioquia | C13: 1 hora de perifoneo | D13: 1 | F13: =+E13*19% -> 0 | G13: 142800 | H13: 101709 | I13: 214200 | J13: =+MEDIAN(G13:I13) -> 142800
B14: Caloto - Cauca | C14: 1 hora de perifoneo | D14: 1 | F14: =+E14*19% -> 0 | G14: 142800 | H14: 138695 | I14: 214200 | J14: =+MEDIAN(G14:I14) -> 142800
B16: Siempre que la actividad este autorizada por el ordenamiento jurídico en el respectivo territorio. | H16: VALOR TOTAL UNITARIO | J16: =SUM(J9:J14) -> 856800
B19: PUBLICIDAD EXTERIOR TERMINALES DE TRANSPORTE | G19: Valor Unitario Incluido Iva | J19: MEDIANA
B20: UBICACIÓN | C20: TIPO ELEMENTO | D20: CANTIDAD | E20: VALOR UNITARIO | F20: VALOR IVA | G20: MIACOM | H20: CANAL TRECE | I20: FIX IT SAS
B21: Bogotá | C21: Difusión plataforma estática | D21: Un (1) mes | G21: 35700000 | H21: 31632702 | I21: 37485000 | J21: =+MEDIAN(G21:I21) -> 35700000
B22: Cali | C22: Difusión plataforma estática | D22: Un (1) mes | G22: 8330000 | H22: 28293678 | I22: 8746500 | J22: =+MEDIAN(G22:I22) -> 8746500
B23: Cartagena | C23: Difusión plataforma estática | D23: Un (1) mes | G23: 14280000 | H23: 33249695 | I23: 14994000 | J23: =+MEDIAN(G23:I23) -> 14994000
B24: Cúcuta | C24: Difusión plataforma estática | D24: Un (1) mes | G24: 14280000 | H24: 15089962 | I24: 14994000 | J24: =+MEDIAN(G24:I24) -> 14994000
H26: VALOR TOTAL UNITARIO | J26: =SUM(J21:J24) -> 74434500

Sheet Tasa de Intermediación
B2: Descripcion | C2: MIACOM | D2: CANAL TRECE | E2: FIX IT SAS | F2: Promedio Simple | G2: Precio de Referencia
B3: Tasa de Intermediación | C3: 0 | D3: 0.07 | E3: 0.06 | F3: =+AVERAGE(C3:E3) -> 0.043333333 | G3: =+F3 -> 0.043333333

Sheet RESUMEN
B2: RESUMEN ESTUDIO DE MERCADO
B3: CONCEPTO | C3: SUMATORIA VALORES UNITARIOS
B4: RADIO | C4: =+Radio!I157 -> 1.9672456e+08
B5: PRENSA | C5: =+Prensa!K85 -> 4.8300596e+08
B6: DIGITAL REDES SOCIALES | C6: =+Digital!G26 -> 89845
B7: DIGITAL MEDIOS DE COMUNICACIÓN | C7: =+Digital!H44 -> 124888120
B8: DIGITAL PORTALES | C8: =+Digital!H62 -> 73714550
B9: EMISORAS COMUNITARIAS | C9: =+'Emisoras Comunitarias'!M156 -> 4667868
B10: PERIFONEO | C10: =+'Otros Medios'!J16 -> 856800
B11: PUBLICIDAD EXTERIOR TERMINALES | C11: =+'Otros Medios'!J26 -> 74434500
B13: TOTAL VALORES UNITARIOS | C13: =SUM(C4:C11) -> 9.583822e+08
B15: Tasa de Intermediación (4,33%) | C15: =C13*4.33% -> 41497949
B17: VALOR TOTAL | C17: =+C13+C15 -> 9.9988015e+08
