Workbook

Sheet Radio
B4: RADIO NACIONAL Y REGIONAL | F4: Valor Unitario Incluido Iva | I4: MEDIANA
B5: Cubrimiento | C5: Emisora | D5: Programa | E5: Duración | F5: MIACOM | G5: CANAL TRECE | H5: FIX IT SAS
B6: Nacional | C6: Blu Radio | D6: Mañanas Blu | E6: 15 Seg | F6: 5349367.7 | G6: 7156636 | H6: 5591810 | I6: =+MEDIAN(I16:I16) -> 4291140
E7: 20 Seg | F7: 6686709.7 | G7: 8945795 | H7: 6990060 | I7: =+MEDIAN(F7:H7) -> 6990060
B8: Nacional | C8: Blu Radio | D8: Voz Populi | E8: 15 Seg | F8: 3969142.5 | G8: 6024889 | H8: 4148340 | I8: =+MEDIAN(F8:H8) -> 4148340
E9: 20 Seg | F9: 4961428.7 | G9: 7531111 | H9: 5186020 | I9: =+MEDIAN(F9:H9) -> 5186020
B10: Nacional | C10: RCN Radio | D10: Noticiero Am | E10: 15 Seg | F10: 4105071.6 | G10: 6890343 | H10: 4291140 | I10: =+MEDIAN(F10:H10) -> 4291140
E11: 20 Seg | F11: 5131339.5 | G11: 8612928 | H11: 5363330 | I11: =+MEDIAN(F11:H11) -> 5363330
B12: Nacional | C12: RCN Radio | D12: Noticiero Medio Dia | E12: 15 Seg | F12: 2756159 | G12: 5059575 | H12: 2880990 | I12: =+MEDIAN(F12:H12) -> 2880990
E13: 20 Seg | F13: 3445764 | G13: 6324469 | H13: 3602130 | I13: =+MEDIAN(F13:H13) -> 3602130
B14: Nacional | C14: RCN Radio | D14: El Tren De La Tarde | E14: 15 Seg | F14: 2756159 | G14: 2052679 | H14: 2880990 | I14: =+MEDIAN(F14:H14) -> 2756159
E15: 20 Seg | F15: 3445764 | G15: 2565848 | H15: 3602130 | I15: =+MEDIAN(F15:H15) -> 3445764
B16: Nacional | C16: La Fm | D16: Noticiero La Fm | E16: 15 Seg | F16: 4105071.6 | G16: 11372949 | H16: 4291140 | I16: =+MEDIAN(F16:H16) -> 4291140
E17: 20 Seg | F17: 5131339.5 | G17: 14216186 | H17: 5363330 | I17: =+MEDIAN(F17:H17) -> 5363330
B18: Nacional | C18: Radio Uno | D18: Programa Am | E18: 15 Seg | F18: 3364368 | G18: 1087365 | H18: 3516450 | I18: =+MEDIAN(F18:H18) -> 3364368
E19: 20 Seg | F19: 4205460 | G19: 1359206 | H19: 4395860 | I19: =+MEDIAN(F19:H19) -> 4205460
B20: Nacional | C20: Radio Uno | D20: Programación Musical | E20: 15 Seg | F20: 2942465.4 | G20: 1686525 | H20: 3076150 | I20: =+MEDIAN(F20:H20) -> 2942465.4
E21: 20 Seg | F21: 3678081.8 | G21: 2108156 | H21: 3844890 | I21: =+MEDIAN(F21:H21) -> 3678081.8
B22: Nacional | C22: La Mega | D22: Programa Am | E22: 15 Seg | F22: 1890422.1 | G22: 721211 | H22: 1976590 | I22: =+MEDIAN(F22:H22) -> 1890422.1
E23: 20 Seg | F23: 2363027.6 | G23: 901514 | H23: 2470440 | I23: =+MEDIAN(F23:H23) -> 2363027.6
B24: Nacional | C24: La Mega | D24: Programación Musical | E24: 15 Seg | F24: 2172594.9 | G24: 865454 | H24: 2270520 | I24: =+MEDIAN(F24:H24) -> 2172594.9
E25: 20 Seg | F25: 2715743.6 | G25: 1081817 | H25: 2838150 | I25: =+MEDIAN(F25:H25) -> 2715743.6
B26: Nacional | C26: La Cariñosa | D26: Programa Am | E26: 15 Seg | F26: 1300075 | G26: 355058 | H26: 1358980 | I26: =+MEDIAN(F26:H26) -> 1300075
E27: 20 Seg | F27: 1618876 | G27: 443822 | H27: 1692180 | I27: =+MEDIAN(F27:H27) -> 1618876
B28: Nacional | C28: La Cariñosa | D28: Programación Musical | E28: 15 Seg | F28: 1300075 | G28: 471561 | H28: 1358980 | I28: =+MEDIAN(F28:H28) -> 1300075
E29: 20 Seg | F29: 1618876 | G29: 589452 | H29: 1692180 | I29: =+MEDIAN(F29:H29) -> 1618876
B30: Nacional | C30: Rumba St | D30: Programa Am | E30: 15 Seg | F30: 443608.2 | G30: 965314 | H30: 464100 | I30: =+MEDIAN(F30:H30) -> 464100
E31: 20 Seg | F31: 554510.25 | G31: 1206642 | H31: 579530 | I31: =+MEDIAN(F31:H31) -> 579530
B32: Nacional | C32: Rumba St | D32: Programación Musical | E32: 15 Seg | F32: 443608.2 | G32: 1342563 | H32: 464100 | I32: =+MEDIAN(F32:H32) -> 464100
E33: 20 Seg | F33: 554510.25 | G33: 1678203 | H33: 579530 | I33: =+MEDIAN(F33:H33) -> 579530
B34: Nacional | C34: El Sol | D34: Programa Am | E34: 15 Seg | F34: 1420360.2 | G34: 965314 | H34: 1485120 | I34: =+MEDIAN(F34:H34) -> 1420360.2
E35: 20 Seg | F35: 1775450.2 | G35: 1206642 | H35: 1856400 | I35: =+MEDIAN(F35:H35) -> 1775450.2
B36: Nacional | C36: Caracol Básica | D36: Noticiero 6 Am | E36: 15 Seg | F36: 7759752 | G36: 12693321 | H36: 8111040 | I36: =+MEDIAN(F36:H36) -> 8111040
E37: 20 Seg | F37: 9699690 | G37: 15866651 | H37: 10138800 | I37: =+MEDIAN(F37:H37) -> 10138800
B38: Nacional | C38: Caracol Básica | D38: Noticiero Medio Dia | E38: 15 Seg | F38: 2991303 | G38: 4893142 | H38: 3127320 | I38: =+MEDIAN(F38:H38) -> 3127320
E39: 20 Seg | F39: 3739128.8 | G39: 6116427 | H39: 3907960 | I39: =+MEDIAN(F39:H39) -> 3907960
B40: Nacional | C40: Caracol Básica | D40: La Luciérnaga | E40: 15 Seg | F40: 6396369 | G40: 10463113 | H40: 6685420 | I40: =+MEDIAN(F40:H40) -> 6685420
E41: 20 Seg | F41: 7995461.2 | G41: 13078891 | H41: 8357370 | I41: =+MEDIAN(F41:H41) -> 8357370
B42: Nacional | C42: La W | D42: Noticiero La W | E42: 15 Seg | F42: 4032493.5 | G42: 6596310 | H42: 4214980 | I42: =+MEDIAN(F42:H42) -> 4214980
E43: 20 Seg | F43: 5040616.9 | G43: 8245388 | H43: 5269320 | I43: =+MEDIAN(F43:H43) -> 5269320
...

Sheet Prensa
A7: PRENSA ESCRITA | H7: Valor Unitario Incluido Iva | K7: MEDIANA
A8: Cubrimiento | B8: Periódico | C8: Ubicación | D8: Tamaño | E8: Pagina | F8: Color | G8: Dia De Publicación | H8: MIACOM | I8: CANAL TRECE | J8: FIX IT SAS
A9: Nacional | B9: La Republica | C9: Primer Cuadernillo | D9: 1/4 pag. | E9: Par / Impar | F9: Blanco y Negro | G9: L-V | H9: 10377990 | I9: 60129614 | J9: 11055100 | K9: =+MEDIAN(H9:J9) -> 11055100
D10: 1/8 pág. | E10: Par / Impar | H10: 5188995 | I10: 56631738 | J10: 5527550 | K10: =+MEDIAN(H10:J10) -> 5527550
D11: Inserto | E11: Par / Impar | H11: 4760000 | I11: 2906 | J11: 5070590 | K11: =+MEDIAN(H11:J11) -> 4760000
A12: Nacional | B12: El Espectador | C12: Primer Cuadernillo | D12: 1/4 pag. | E12: Par / Impar | F12: Blanco y Negro | G12: L-V | H12: 9853200 | I12: 28224331 | J12: 10495800 | K12: =+MEDIAN(H12:J12) -> 10495800
D13: 1/8 pág. | E13: Par / Impar | H13: 4926600 | I13: 59916024 | J13: 5247900 | K13: =+MEDIAN(H13:J13) -> 5247900
D14: Inserto | E14: Par / Impar | H14: 4760000 | I14: 980 | J14: 5070590 | K14: =+MEDIAN(H14:J14) -> 4760000
A15: Nacional | B15: El Espectador | C15: Primer Cuadernillo | D15: 1/4 pag. | E15: Par / Impar | F15: Blanco y Negro | G15: D | H15: 11823840 | I15: 0 | J15: 12594960 | K15: =+MEDIAN(H15:J15) -> 11823840
D16: 1/8 pág. | E16: Par / Impar | H16: 5911920 | I16: 49486198 | J16: 6297480 | K16: =+MEDIAN(H16:J16) -> 6297480
D17: Inserto | E17: Par / Impar | H17: 4998000 | I17: 980 | J17: 5324060 | K17: =+MEDIAN(H17:J17) -> 4998000
A18: Nacional | B18: El Tiempo | C18: Primer Cuadernillo | D18: 1/4 pag. | E18: Par / Impar | F18: Blanco y Negro | G18: L-V | H18: 32868990 | I18: 60129614 | J18: 35012180 | K18: =+MEDIAN(H18:J18) -> 35012180
D19: 1/8 pág. | E19: Par / Impar | H19: 16434495 | I19: 56631738 | J19: 17506090 | K19: =+MEDIAN(H19:J19) -> 17506090
D20: Inserto | E20: Par / Impar | H20: 14280000 | I20: 2906 | J20: 15211770 | K20: =+MEDIAN(H20:J20) -> 14280000
A21: Nacional | B21: El Tiempo | C21: Primer Cuadernillo | D21: 1/4 pag. | E21: Par / Impar | F21: Blanco y Negro | G21: D | H21: 39442788 | I21: 37577333 | J21: 42015330 | K21: =+MEDIAN(H21:J21) -> 39442788
D22: 1/8 pág. | E22: Par / Impar | H22: 19721394 | I22: 50103111 | J22: 21007070 | K22: =+MEDIAN(H22:J22) -> 21007070
D23: Inserto | E23: Par / Impar | H23: 19040000 | I23: 4623 | J23: 20281170 | K23: =+MEDIAN(H23:J23) -> 19040000
A24: Manizales | B24: La Patria | C24: Primer Cuadernillo | D24: 1/4 pag. | E24: Par / Impar | F24: Blanco y Negro | G24: L-V | H24: 8314530 | I24: 9372578 | J24: 8857170 | K24: =+MEDIAN(H24:J24) -> 8857170
D25: 1/8 pág. | E25: Par / Impar | H25: 4157265 | I25: 4744144 | J25: 4427990 | K25: =+MEDIAN(H25:J25) -> 4427990
D26: Inserto | E26: Par / Impar | H26: 3570000 | I26: 1057 | J26: 3803240 | K26: =+MEDIAN(H26:J26) -> 3570000
A27: Armenia | B27: La Crónica | C27: Primer Cuadernillo | D27: 1/4 pag. | E27: Par / Impar | F27: Blanco y Negro | G27: L-V | H27: 6406365 | I27: 9372578 | J27: 6824650 | K27: =+MEDIAN(H27:J27) -> 6824650
D28: 1/8 pág. | E28: Par / Impar | H28: 3203182.5 | I28: 4744144 | J28: 3411730 | K28: =+MEDIAN(H28:J28) -> 3411730
D29: Inserto | E29: Par / Impar | H29: 2618000 | I29: 1057 | J29: 2788170 | K29: =+MEDIAN(H29:J29) -> 2618000
A30: Pereira | B30: La Tarde | C30: Primer Cuadernillo | D30: 1/4 pag. | E30: Par / Impar | F30: Blanco y Negro | G30: L-V | H30: 10024560 | I30: 9372578 | J30: 10677870 | K30: =+MEDIAN(H30:J30) -> 10024560
D31: 1/8 pág. | E31: Par / Impar | H31: 5012280 | I31: 4744144 | J31: 5339530 | K31: =+MEDIAN(H31:J31) -> 5012280
D32: Inserto | E32: Par / Impar | H32: 323870.4 | I32: 1057 | J32: 345100 | K32: =+MEDIAN(H32:J32) -> 323870.4
A33: Medellín | B33: El Colombiano | C33: Primer Cuadernillo | D33: 1/4 pag. | E33: Par / Impar | F33: Blanco y Negro | G33: L-V | H33: 14181587 | I33: 19422778 | J33: 15105860 | K33: =+MEDIAN(H33:J33) -> 15105860
D34: 1/8 pág. | E34: Par / Impar | H34: 7090793.5 | I34: 8078862 | J34: 7552930 | K34: =+MEDIAN(H34:J34) -> 7552930
D35: Inserto | E35: Par / Impar | H35: 5950000 | I35: 1294 | J35: 6337940 | K35: =+MEDIAN(H35:J35) -> 5950000
A36: Cali | B36: El País | C36: Primer Cuadernillo | D36: 1/4 pag. | E36: Par / Impar | F36: Blanco y Negro | G36: L-V | H36: 17659600 | I36: 19422778 | J36: 18811520 | K36: =+MEDIAN(H36:J36) -> 18811520
D37: 1/8 pág. | E37: Par / Impar | H37: 8829800 | I37: 8078862 | J37: 9405760 | K37: =+MEDIAN(H37:J37) -> 8829800
D38: Inserto | E38: Par / Impar | H38: 8330000 | I38: 1294 | J38: 8872640 | K38: =+MEDIAN(H38:J38) -> 8330000
A39: Arauca | B39: El nuevo Oriente | C39: Primer Cuadernillo | D39: 1/4 pag. | E39: Par / Impar | F39: Blanco y Negro | G39: L-D | H39: 4676700 | I39: 9581214 | J39: 4981340 | K39: =+MEDIAN(H39:J39) -> 4981340
D40: 1/8 pág. | E40: Par / Impar | H40: 2338350 | I40: 4849750 | J40: 2490670 | K40: =+MEDIAN(H40:J40) -> 2490670
D41: Inserto | E41: Par / Impar | H41: 2142000 | I41: 1123 | J41: 2281230 | K41: =+MEDIAN(H41:J41) -> 2142000
A42: Bucaramanga | B42: Vanguardia | C42: Primer Cuadernillo | D42: 1/4 pag. | E42: Par / Impar | F42: Blanco y Negro | G42: L-V | H42: 6188000 | I42: 9372578 | J42: 6591410 | K42: =+MEDIAN(H42:J42) -> 6591410
D43: 1/8 pág. | E43: Par / Impar | H43: 3094000 | I43: 4744144 | J43: 3296300 | K43: =+MEDIAN(H43:J43) -> 3296300
D44: Inserto | E44: Par / Impar | H44: 2975000 | I44: 1057 | J44: 3168970 | K44: =+MEDIAN(H44:J44) -> 2975000
A45: Cartagena | B45: El Universal | C45: Primer Cuadernillo | D45: 1/4 pag. | E45: Par / Impar | F45: Blanco y Negro | G45: L-V | H45: 6188000 | I45: 9372578 | J45: 6591410 | K45: =+MEDIAN(H45:J45) -> 6591410
D46: 1/8 pág. | E46: Par / Impar | H46: 3094000 | I46: 4744144 | J46: 3296300 | K46: =+MEDIAN(H46:J46) -> 3296300
...

Sheet Digital
B6: DIGITAL - REDES SOCIALES | D6: Valor Unitario Incluido Iva | G6: MEDIANA
B7: MEDIO | C7: TIPO DE COMPRA | D7: MIACOM | E7: CANAL TRECE | F7: FIX IT SAS
B8: FACEBOOK | C8: Video CPC | D8: 1190 | E8: 1109556 | F8: 2380 | G8: =+MEDIAN(D8:F8) -> 2380
C9: Video CPM | D9: 2380 | E9: 1109556 | F9: 3570 | G9: =+MEDIAN(D9:F9) -> 3570
C10: Imagen Estática CPC | D10: 952 | E10: 332867 | F10: 1190 | G10: =+MEDIAN(D10:F10) -> 1190
C11: Imagen Estática CPM | D11: 2380 | E11: 332867 | F11: 3570 | G11: =+MEDIAN(D11:F11) -> 3570
B12: Google Ads | C12: CPM | D12: 7140 | E12: 332867 | F12: 10710 | G12: =+MEDIAN(D12:F12) -> 10710
B13: INSTAGRAM | C13: Video CPC | D13: 1785 | E13: 1109556 | F13: 2380 | G13: =+MEDIAN(D13:F13) -> 2380
C14: Video CPM | D14: 3570 | E14: 1109556 | F14: 5950 | G14: =+MEDIAN(D14:F14) -> 5950
C15: Imagen Estática CPC | D15: 1428 | E15: 332867 | F15: 2380 | G15: =+MEDIAN(D15:F15) -> 2380
C16: Imagen Estática CPM | D16: 3570 | E16: 332867 | F16: 5950 | G16: =+MEDIAN(D16:F16) -> 5950
B17: X | C17: Video CPC | D17: 4760 | E17: 1109556 | F17: 7140 | G17: =+MEDIAN(D17:F17) -> 7140
C18: Video CPM | D18: 7140 | E18: 1109556 | F18: 10710 | G18: =+MEDIAN(D18:F18) -> 10710
C19: Imagen Estática CPC | D19: 2380 | E19: 332867 | F19: 3570 | G19: =+MEDIAN(D19:F19) -> 3570
C20: Imagen Estática CPM | D20: 7140 | E20: 332867 | F20: 10710 | G20: =+MEDIAN(D20:F20) -> 10710
B21: TIK TOK | C21: Video CPC | D21: 952 | E21: 1109556 | F21: 1190 | G21: =+MEDIAN(D21:F21) -> 1190
C22: Video CPM | D22: 4760 | E22: 1109556 | F22: 7140 | G22: =+MEDIAN(D22:F22) -> 7140
C23: Visualizaciones | D23: 238 | E23: 1479408 | F23: 595 | G23: =+MEDIAN(D23:F23) -> 595
B24: YOUTUBE | C24: CPM | D24: 7140 | E24: 332867 | F24: 10710 | G24: =+MEDIAN(D24:F24) -> 10710
E26: VALOR TOTAL UNITARIO | G26: =SUM(G8:G24) -> 89845
B28: DIGITAL - MEDIOS DE COMUNICACIÓN | E28: Valor Unitario Incluido Iva | H28: MEDIANA
B29: MEDIO | C29: TIPO DE COMPRA | D29: DESCRIPCIÓN | E29: MIACOM | F29: CANAL TRECE | G29: FIX IT SAS
B30: EL ESPECTADOR | C30: CONTENIDOS | D30: Textos, especiales y/o publirreportajes que se incluyan en la oferta que sean enviados por las redes de esos medios una o dos veces. No requerimos pauta programática. | E30: 10376800 | F30: 36060570 | G30: 11676280 | H30: =+MEDIAN(E30:G30) -> 11676280
B31: EL TIEMPO | C31: CONTENIDOS | E31: 5123545 | F31: 34211310 | G31: 5765550 | H31: =+MEDIAN(E31:G31) -> 5765550
B32: CARACOL | C32: CONTENIDOS | E32: 4539850 | F32: 27738900 | G32: 5108670 | H32: =+MEDIAN(E32:G32) -> 5108670
B33: BLU RADIO | C33: CONTENIDOS | E33: 10749039 | F33: 27738900 | G33: 12095160 | H33: =+MEDIAN(E33:G33) -> 12095160
B34: WRADIO | C34: CONTENIDOS | E34: 4539850 | F34: 36060570 | G34: 5108670 | H34: =+MEDIAN(E34:G34) -> 5108670
B35: LA REPÚBLICA | C35: CONTENIDOS | E35: 11906755 | F35: 27738900 | G35: 13397020 | H35: =+MEDIAN(E35:G35) -> 13397020
B36: PUBLIMETRO | C36: CONTENIDOS | E36: 7863247.2 | F36: 34211310 | G36: 8847650 | H36: =+MEDIAN(E36:G36) -> 8847650
B37: EXTRA | C37: CONTENIDOS | E37: 2111030.2 | F37: 27738900 | G37: 2375240 | H37: =+MEDIAN(E37:G37) -> 2375240
B38: KIEN Y KE | C38: CONTENIDOS | E38: 9518703.5 | F38: 27738900 | G38: 10710000 | H38: =+MEDIAN(E38:G38) -> 10710000
B39: CAMBIO | C39: CONTENIDOS | E39: 10214662 | F39: 30380700 | G39: 11493020 | H39: =+MEDIAN(E39:G39) -> 11493020
B40: ÚLTIMA HORA COL | C40: CONTENIDOS | E40: 13619550 | F40: 30380700 | G40: 15324820 | H40: =+MEDIAN(E40:G40) -> 15324820
B41: LAS DOS ORILLAS | C41: CONTENIDOS | E41: 11440422 | F41: 27738900 | G41: 12872230 | H41: =+MEDIAN(E41:G41) -> 12872230
B42: VALORA ANALITIK | C42: CONTENIDOS | E42: 8988903 | F42: 27738900 | G42: 10113810 | H42: =+MEDIAN(E42:G42) -> 10113810
F44: VALOR TOTAL UNITARIO | H44: =SUM(H30:H42) -> 124888120
B46: DIGITAL - PORTALES | C46: TIPO DE COMPRA | D46: DESCRIPCIÓN | E46: Valor Unitario Incluido Iva | H46: MEDIANA
B47: MEDIO | E47: MIACOM | F47: CANAL TRECE | G47: FIX IT SAS
B48: Proclama Cauca | C48: CONTENIDOS | D48: Textos, especiales y/o publirreportajes que se incluyan en la oferta que sean enviados por las redes de esos medios una o dos veces. No requerimos pauta programática. | E48: 4760000 | F48: 10567200 | G48: 5356190 | H48: =+MEDIAN(E48:G48) -> 5356190
B49: Razón Publica | C49: CONTENIDOS | E49: 6188000 | F49: 10567200 | G49: 6962690 | H49: =+MEDIAN(E49:G49) -> 6962690
...

Sheet Emisoras Comunitarias
B6: RADIO COMUNITARIA Y COMUNITARIAS | J6: Valor Unitario Incluido Iva | M6: MEDIANA
B7: COBERTURA | C7: CIUDAD | D7: EMISORA | E7: PROGRAMA | F7: DURACIÓN | G7: VALOR UNITARIO | H7: VALOR IVA | I7: VALOR CON IVA | J7: MIACOM | K7: CANAL TRECE | L7: FIX IT SAS
B8: San Andrés | C8: San Andrés | D8: Good news radio Station | F8: 15 Seg | J8: 23800 | K8: 19814 | L8: 29750 | M8: =+MEDIAN(J8:L8) -> 23800
F9: 20 Seg | J9: 29750 | K9: 24767 | L9: 41650 | M9: =+MEDIAN(J9:L9) -> 29750
F10: 30 Seg | H10: =+G10*19% -> 0 | I10: =G10+H10 -> 0 | J10: 35700 | K10: 33023 | L10: 47600 | M10: =+MEDIAN(J10:L10) -> 35700
B11: Atlántico | C11: Galapa | D11: Popular Stereo | F11: 15 Seg | J11: 23800 | K11: 19814 | L11: 29750 | M11: =+MEDIAN(J11:L11) -> 23800
F12: 20 Seg | J12: 29750 | K12: 24767 | L12: 41650 | M12: =+MEDIAN(J12:L12) -> 29750
F13: 30 Seg | H13: =+G13*19% -> 0 | I13: =G13+H13 -> 0 | J13: 35700 | K13: 33023 | L13: 47600 | M13: =+MEDIAN(J13:L13) -> 35700
C14: Malambo | D14: Sensación Stereo | F14: 15 Seg | J14: 23800 | K14: 19814 | L14: 29750 | M14: =+MEDIAN(J14:L14) -> 23800
F15: 20 Seg | J15: 29750 | K15: 24767 | L15: 41650 | M15: =+MEDIAN(J15:L15) -> 29750
F16: 30 Seg | H16: =+G16*19% -> 0 | I16: =G16+H16 -> 0 | J16: 35700 | K16: 33023 | L16: 47600 | M16: =+MEDIAN(J16:L16) -> 35700
B17: Bolívar | C17: Cartagena, Área 2 | D17: Colectiva 101.6 Fm | F17: 15 Seg | J17: 23800 | K17: 19814 | L17: 29750 | M17: =+MEDIAN(J17:L17) -> 23800
F18: 20 Seg | J18: 29750 | K18: 24767 | L18: 41650 | M18: =+MEDIAN(J18:L18) -> 29750
F19: 30 Seg | H19: =+G19*19% -> 0 | I19: =G19+H19 -> 0 | J19: 35700 | K19: 33023 | L19: 47600 | M19: =+MEDIAN(J19:L19) -> 35700
C20: María La Baja | D20: Divina Stereo | F20: 15 Seg | J20: 23800 | K20: 17436 | L20: 29750 | M20: =+MEDIAN(J20:L20) -> 23800
F21: 20 Seg | J21: 29750 | K21: 21795 | L21: 41650 | M21: =+MEDIAN(J21:L21) -> 29750
F22: 30 Seg | H22: =+G22*19% -> 0 | I22: =G22+H22 -> 0 | J22: 35700 | K22: 29060 | L22: 47600 | M22: =+MEDIAN(J22:L22) -> 35700
B23: Cesar | C23: Aguachica | D23: Campo Serrano | F23: 15 Seg | J23: 23800 | K23: 17436 | L23: 29750 | M23: =+MEDIAN(J23:L23) -> 23800
F24: 20 Seg | J24: 29750 | K24: 21795 | L24: 41650 | M24: =+MEDIAN(J24:L24) -> 29750
F25: 30 Seg | H25: =+G25*19% -> 0 | I25: =G25+H25 -> 0 | J25: 35700 | K25: 29060 | L25: 47600 | M25: =+MEDIAN(J25:L25) -> 35700
C26: Codazzi | D26: Sensación Stereo | F26: 15 Seg | J26: 23800 | K26: 26154 | L26: 29750 | M26: =+MEDIAN(J26:L26) -> 26154
F27: 20 Seg | J27: 29750 | K27: 32692 | L27: 41650 | M27: =+MEDIAN(J27:L27) -> 32692
F28: 30 Seg | H28: =+G28*19% -> 0 | I28: =G28+H28 -> 0 | J28: 35700 | K28: 43590 | L28: 47600 | M28: =+MEDIAN(J28:L28) -> 43590
B29: Magdalena | C29: Ciénaga | D29: Innovación Stereo | F29: 15 Seg | J29: 23800 | K29: 37448 | L29: 29750 | M29: =+MEDIAN(J29:L29) -> 29750
F30: 20 Seg | J30: 29750 | K30: 46809 | L30: 41650 | M30: =+MEDIAN(J30:L30) -> 41650
F31: 30 Seg | H31: =+G31*19% -> 0 | I31: =G31+H31 -> 0 | J31: 35700 | K31: 62413 | L31: 47600 | M31: =+MEDIAN(J31:L31) -> 47600
C32: Santa Marta | D32: Voces Fm | F32: 15 Seg | J32: 23800 | K32: 37448 | L32: 29750 | M32: =+MEDIAN(J32:L32) -> 29750
F33: 20 Seg | J33: 29750 | K33: 46809 | L33: 41650 | M33: =+MEDIAN(J33:L33) -> 41650
F34: 30 Seg | H34: =+G34*19% -> 0 | I34: =G34+H34 -> 0 | J34: 35700 | K34: 62413 | L34: 47600 | M34: =+MEDIAN(J34:L34) -> 47600
C35: Zona Bananera | D35: Sol Stereo | F35: 15 Seg | J35: 23800 | K35: 35664 | L35: 29750 | M35: =+MEDIAN(J35:L35) -> 29750
F36: 20 Seg | J36: 29750 | K36: 44580 | L36: 41650 | M36: =+MEDIAN(J36:L36) -> 41650
F37: 30 Seg | H37: =+G37*19% -> 0 | I37: =G37+H37 -> 0 | J37: 35700 | K37: 59441 | L37: 47600 | M37: =+MEDIAN(J37:L37) -> 47600
B38: Sucre | C38: Corozal | D38: Wz Radio | F38: 15 Seg | J38: 23800 | K38: 23776 | L38: 29750 | M38: =+MEDIAN(J38:L38) -> 23800
F39: 20 Seg | J39: 29750 | K39: 29720 | L39: 41650 | M39: =+MEDIAN(J39:L39) -> 29750
F40: 30 Seg | H40: =+G40*19% -> 0 | I40: =G40+H40 -> 0 | J40: 35700 | K40: 39627 | L40: 47600 | M40: =+MEDIAN(J40:L40) -> 39627
C41: Tibú | D41: La Voz De La Garraba | F41: 15 Seg | J41: 23800 | K41: 23776 | L41: 29750 | M41: =+MEDIAN(J41:L41) -> 23800
F42: 20 Seg | J42: 29750 | K42: 29720 | L42: 41650 | M42: =+MEDIAN(J42:L42) -> 29750
F43: 30 Seg | H43: =+G43*19% -> 0 | I43: =G43+H43 -> 0 | J43: 35700 | K43: 39627 | L43: 47600 | M43: =+MEDIAN(J43:L43) -> 39627
B44: Arauca | C44: Arauca Capital | D44: Kapital Stereo | F44: 15 Seg | J44: 23800 | K44: 31702 | L44: 29750 | M44: =+MEDIAN(J44:L44) -> 29750
F45: 20 Seg | J45: 29750 | K45: 39627 | L45: 41650 | M45: =+MEDIAN(J45:L45) -> 39627
...

Sheet Otros Medios
B5: MENSAJES INSTITUCIONALES EN OTROS MEDIOS
B7: PERIFONEO | G7: Valor Unitario Incluido Iva | J7: MEDIANA
B8: UBICACIÓN | C8: TIPO ELEMENTO | D8: CANTIDAD | E8: VALOR UNITARIO | F8: VALOR IVA | G8: MIACOM | H8: CANAL TRECE | I8: FIX IT SAS
B9: Quibdó - Chocó | C9: 1 hora de perifoneo | D9: 1 | F9: =+E9*19% -> 0 | G9: 142800 | H9: 110956 | I9: 214200 | J9: =+MEDIAN(G9:I9) -> 142800
B10: Fundación - Magdalena | C10: 1 hora de perifoneo | D10: 1 | F10: =+E10*19% -> 0 | G10: 142800 | H10: 101709 | I10: 214200 | J10: =+MEDIAN(G10:I10) -> 142800
B11: Abrego - Norte de Santander | C11: 1 hora de perifoneo | D11: 1 | F11: =+E11*19% -> 0 | G11: 142800 | H11: 138695 | I11: 214200 | J11: =+MEDIAN(G11:I11) -> 142800
B12: Malambo - Atlántico | C12: 1 hora de perifoneo | D12: 1 | F12: =+E12*19% -> 0 | G12: 142800 | H12: 101709 | I12: 214200 | J12: =+MEDIAN(G12:I12) -> 142800
B13: Rionegro - Antioquia | C13: 1 hora de perifoneo | D13: 1 | F13: =+E13*19% -> 0 | G13: 142800 | H13: 101709 | I13: 214200 | J13: =+MEDIAN(G13:I13) -> 142800
B14: Caloto - Cauca | C14: 1 hora de perifoneo | D14: 1 | F14: =+E14*19% -> 0 | G14: 142800 | H14: 138695 | I14: 214200 | J14: =+MEDIAN(G14:I14) -> 142800
B16: Siempre que la actividad este autorizada por el ordenamiento jurídico en el respectivo territorio. | H16: VALOR TOTAL UNITARIO | J16: =SUM(J9:J14) -> 856800
B19: PUBLICIDAD EXTERIOR TERMINALES DE TRANSPORTE | G19: Valor Unitario Incluido Iva | J19: MEDIANA
B20: UBICACIÓN | C20: TIPO ELEMENTO | D20: CANTIDAD | E20: VALOR UNITARIO | F20: VALOR IVA | G20: MIACOM | H20: CANAL TRECE | I20: FIX IT SAS
B21: Bogotá | C21: Difusión plataforma estática | D21: Un (1) mes | G21: 35700000 | H21: 31632702 | I21: 37485000 | J21: =+MEDIAN(G21:I21) -> 35700000
B22: Cali | C22: Difusión plataforma estática | D22: Un (1) mes | G22: 8330000 | H22: 28293678 | I22: 8746500 | J22: =+MEDIAN(G22:I22) -> 8746500
B23: Cartagena | C23: Difusión plataforma estática | D23: Un (1) mes | G23: 14280000 | H23: 33249695 | I23: 14994000 | J23: =+MEDIAN(G23:I23) -> 14994000
B24: Cúcuta | C24: Difusión plataforma estática | D24: Un (1) mes | G24: 14280000 | H24: 15089962 | I24: 14994000 | J24: =+MEDIAN(G24:I24) -> 14994000
H26: VALOR TOTAL UNITARIO | J26: =SUM(J21:J24) -> 74434500

Sheet Tasa de Intermediación
B2: Descripcion | C2: MIACOM | D2: CANAL TRECE | E2: FIX IT SAS | F2: Promedio Simple | G2: Precio de Referencia
B3: Tasa de Intermediación | C3: 0 | D3: 0.07 | E3: 0.06 | F3: =+AVERAGE(C3:E3) -> 0.043333333 | G3: =+F3 -> 0.043333333

Sheet RESUMEN
B2: RESUMEN ESTUDIO DE MERCADO
B3: CONCEPTO | C3: SUMATORIA VALORES UNITARIOS
B4: RADIO | C4: =+Radio!I157 -> 1.9672456e+08
B5: PRENSA | C5: =+Prensa!K85 -> 4.8300596e+08
B6: DIGITAL REDES SOCIALES | C6: =+Digital!G26 -> 89845
B7: DIGITAL MEDIOS DE COMUNICACIÓN | C7: =+Digital!H44 -> 124888120
B8: DIGITAL PORTALES | C8: =+Digital!H62 -> 73714550
B9: EMISORAS COMUNITARIAS | C9: =+'Emisoras Comunitarias'!M156 -> 4667868
B10: PERIFONEO | C10: =+'Otros Medios'!J16 -> 856800
B11: PUBLICIDAD EXTERIOR TERMINALES | C11: =+'Otros Medios'!J26 -> 74434500
B13: TOTAL VALORES UNITARIOS | C13: =SUM(C4:C11) -> 9.583822e+08
B15: Tasa de Intermediación (4,33%) | C15: =C13*4.33% -> 41497949
B17: VALOR TOTAL | C17: =+C13+C15 -> 9.9988015e+08
