Workbook
Name _: #REF!
Name _: #REF!
Name _: #REF!
Name _: #REF!
Name _: #REF!
Name _: #REF!
Name _: #REF!
Name _: #REF!
Name ___AFC1: [1]INV!$A$25:$D$28
Name ___AFC3: [1]INV!$F$25:$I$28
Name ___AFC5: [1]INV!$K$25:$N$28
Name ___BGC1: [1]INV!$A$5:$D$8
Name ___BGC3: [1]INV!$F$5:$I$8
Name ___BGC5: [1]INV!$K$5:$N$8
Name ___CAC1: [1]INV!$A$19:$D$22
Name ___CAC3: [1]INV!$F$19:$I$22
Name ___CAC5: [1]INV!$K$19:$N$22
Name ___EST1: #REF!
Name ___EST1: #REF!
Name ___EST1: #REF!
Name ___EST1: #REF!
Name ___EST1: #REF!
Name ___EST1: #REF!
Name ___EST1: #REF!
Name ___EST10: #REF!
Name ___EST10: #REF!
Name ___EST10: #REF!
Name ___EST10: #REF!
Name ___EST10: #REF!
Name ___EST10: #REF!
Name ___EST10: #REF!
Name ___EST11: #REF!
Name ___EST11: #REF!
Name ___EST11: #REF!
Name ___EST11: #REF!
Name ___EST11: #REF!
Name ___EST11: #REF!
Name ___EST11: #REF!
Name ___EST12: #REF!
Name ___EST12: #REF!
Name ___EST12: #REF!
Name ___EST12: #REF!
Name ___EST12: #REF!
Name ___EST12: #REF!
Name ___EST12: #REF!
Name ___EST13: #REF!
Name ___EST13: #REF!
Name ___EST13: #REF!
Name ___EST13: #REF!
Name ___EST13: #REF!
Name ___EST13: #REF!
Name ___EST13: #REF!
Name ___EST14: #REF!
Name ___EST14: #REF!
Name ___EST14: #REF!
Name ___EST14: #REF!
Name ___EST14: #REF!
Name ___EST14: #REF!
Name ___EST14: #REF!
Name ___EST15: #REF!

Sheet K-Kr Constructor
A1: EMPRESA NACIONAL PROMOTORA DEL DESARROLLO TERRITORIAL – ENTerritorio Sistema general de Regalias OBJETO: “INTERVENTORÍA TÉCNICA, ADMINISTRATIVA, FINANCIERA, AMBIENTAL Y DE CONTROL SOCIAL, LEGAL Y PRESU-PUESTAL PARA EL MEJORAMIENTO, ADECUACIÓN, REMODELACIÓN Y AJUSTES A DISEÑOS DE POLIDEPORTIVOS EN LOS BARRIOS CARTAGENITA SECTOR JARDÍN, LA PAZ Y LOS MONARKAS MUNICIPIO DE FACATATIVÁ – DEPARTA-MENTO DE CUNDINAMARCA.” CONTRATACIÓN DIRECTA CDI 073-2020
A2: REQUISITOS MINIMOS DE CARÁCTER TECNICO
A4: SMMLV AÑO ACTUAL | B4: 877803
A5: PRESUPUESTO | B5: 1.7549663e+08
A6: POE (SMMLV) | B6: =+B5/B4 -> 199.92712
A7: 150% POE (SMMLV) - Puntaje K adicional | B7: =+B6*150% -> 299.89068 | C7: (cuando aplique)
A8: 150% POE ($) - Puntaje K adicional | B8: =+B7*B4 -> 2.6324494e+08 | C8: (cuando aplique)
A10: Capacidad de Organización (CO) | D10: Cálculo de la Experiencia (E )
D11: Experiencia (E) =
D14: Mayor a | E14: Menor o igual a | F14: Puntaje
D15: 0 | E15: 3 | F15: 60
D16: 3 | E16: 6 | F16: 80
A17: DÓLAR | B17: MINIMO EN USD | C17: MINIMO EN PESOS | D17: 6 | E17: 10 | F17: 100
A18: 1853.3 | B18: 125000 | C18: =+B18*A18 -> 231662500 | D18: 10 | E18: Mayores | F18: 120
A21: Cálculo de la Capacidad Financiera (CF) | D21: Cálculo de la Capacidad Técnica (CT)
A22: Índice de liquidez = | D22: Capacidad técnica (CT) se asigna con base en la siguiente tabla:
A24: Mayor o igual a | B24: Menor a | C24: Puntaje | D24: Desde | E24: Hasta | F24: Puntaje
A25: 0 | B25: 0.5 | C25: 20 | D25: 1 | E25: 5 | F25: 20
A26: 0.5 | B26: 0.75 | C26: 25 | D26: 6 | E26: 10 | F26: 30
A27: 0.75 | B27: 1 | C27: 30 | D27: 11 | E27: Mayores | F27: 40
A28: 1 | B28: 1.5 | C28: 35
A29: 1.5 | B29: Mayores | C29: 40
A31: OFERENTE | B31: =VLOOKUP(A32,Conformación!$A$5:$S$129,2,FALSE) -> CONSTRUCTODO INGENIEROS CONTRATISTAS LTDA
A32: 1 | B32: =VLOOKUP(A32,Conformación!$A$5:$S$129,4,FALSE) -> (CONSTRUCTODO INGENIEROS CONTRATISTAS LTDA. 100% - 0% - 0%- 0%- 0%)
A35: DESCRIPCIÓN | B35: INTEGRANTE 1 | C35: INTEGRANTE 2 | D35: INTEGRANTE 3 | E35: INTEGRANTE 4 | F35: OBSERVACIONES
B36: =VLOOKUP(A32,Conformación!$A$5:$S$129,5,FALSE) -> CONSTRUCTODO INGENIEROS CONTRATISTAS LTDA. | C36: =VLOOKUP(A32,Conformación!$A$5:$S$129,8,FALSE) -> 0 | D36: =VLOOKUP(A32,Conformación!$A$5:$S$129,11,FALSE) -> 0 | E36: =VLOOKUP(A32,Conformación!$A$5:$S$129,14,FALSE) -> 0
B37: =VLOOKUP(A32,Conformación!$A$5:$S$129,7,FALSE) -> 1 | C37: =VLOOKUP(A32,Conformación!$A$5:$S$129,10,FALSE) -> 0 | D37: =VLOOKUP(A32,Conformación!$A$5:$S$129,13,FALSE) -> 0 | E37: =VLOOKUP(A32,Conformación!$A$5:$S$129,16,FALSE) -> 0
A38: Capacidad de Organización (CO) | B38: =B39 -> 0 | C38: =+C39 -> 0
A39: Mayor ingreso operacional | G39: FORMATO 18
A40: Puntos * experiencia (E ) | B40: =+IF(AND(B42>$D$15,B42<=$E$15),$F$15,IF(AND(B42>$D$16,B42<=$E$16),$F$16,IF(AND(B42>$D$17,B42<=$E$17),$F$17,IF(B42>$D$18,$F$18,"N/A")))) -> N/A | C40: =+IF(AND(C42>$D$15,C42<=$E$15),$F$15,IF(AND(C42>$D$16,C42<=$E$16),$F$16,IF(AND(C42>$D$17,C42<=$E$17),$F$17,IF(C42>$D$18,$F$18,"N/A")))) -> #DIV/0! | D40: =+IF(AND(D42>$D$15,D42<=$E$15),$F$15,IF(AND(D42>$D$16,D42<=$E$16),$F$16,IF(AND(D42>$D$17,D42<=$E$17),$F$17,IF(D42>$D$18,$F$18,"N/A")))) -> #DIV/0! | E40: =+IF(AND(E42>$D$15,E42<=$E$15),$F$15,IF(AND(E42>$D$16,E42<=$E$16),$F$16,IF(AND(E42>$D$17,E42<=$E$17),$F$17,IF(E42>$D$18,$F$18,"N/A")))) -> #DIV/0!
A41: Valor Total de los contratos (RUP) | G41: FORMATO 15 VALOR TOTAL
A42: Calculo de la Experiencia | B42: =+(B41/($B$5*B37)) -> 0 | C42: =+(C41/($B$5*C37)) -> #DIV/0! | D42: =+(D41/($B$5*D37)) -> #DIV/0! | E42: =+(E41/($B$5*E37)) -> #DIV/0!
A43: Puntos * capacidad Financiera (CF) | B43: =+IF(AND(B44>=$A$25,B44<$B$25),$C$25,IF(AND(B44>=$A$26,B44<$B$26),$C$26,IF(AND(B44>=$A$27,B44<$B$27),$C$27,IF(AND(B44>=$A$28,B44<$B$28),$C$28,IF(B44>=$A$29,$C$29,"N/A"))))) -> 20 | C43: =+IF(AND(C44>=$A$25,C44<$B$25),$C$25,IF(AND(C44>=$A$26,C44<$B$26),$C$26,IF(AND(C44>=$A$27,C44<$B$27),$C$27,IF(AND(C44>=$A$28,C44<$B$28),$C$28,IF(C44>=$A$29,$C$29,"N/A"))))) -> 20 | D43: =+IF(AND(D44>=$A$25,D44<$B$25),$C$25,IF(AND(D44>=$A$26,D44<$B$26),$C$26,IF(AND(D44>=$A$27,D44<$B$27),$C$27,IF(AND(D44>=$A$28,D44<$B$28),$C$28,IF(D44>=$A$29,$C$29,"N/A"))))) -> 20 | E43: =+IF(AND(E44>=$A$25,E44<$B$25),$C$25,IF(AND(E44>=$A$26,E44<$B$26),$C$26,IF(AND(E44>=$A$27,E44<$B$27),$C$27,IF(AND(E44>=$A$28,E44<$B$28),$C$28,IF(E44>=$A$29,$C$29,"N/A"))))) -> 20
A44: Indice de Liquidez | G44: RUP
A45: Puntos * Capacidad Técnica (CT) | B45: =+IF(AND(B46>=$D$25,B46<=$E$25),$F$25,IF(AND(B46>=$D$26,B46<=$E$26),$F$26,IF(B46>=$D$27,$F$27,"N/A"))) -> N/A | C45: =+IF(AND(C46>=$D$25,C46<=$E$25),$F$25,IF(AND(C46>=$D$26,C46<=$E$26),$F$26,IF(C46>=$D$27,$F$27,"N/A"))) -> N/A | D45: =+IF(AND(D46>=$D$25,D46<=$E$25),$F$25,IF(AND(D46>=$D$26,D46<=$E$26),$F$26,IF(D46>=$D$27,$F$27,"N/A"))) -> N/A | E45: =+IF(AND(E46>=$D$25,E46<=$E$25),$F$25,IF(AND(E46>=$D$26,E46<=$E$26),$F$26,IF(E46>=$D$27,$F$27,"N/A"))) -> N/A
A46: Numero de Profesionales | G46: FORMATO 16
A47: Saldo de contratos en ejecución (SCE) | B47: =+'FORMATO 06 Saldo contrato (SCE)'!H21 -> #DIV/0! | C47: =+'FORMATO 06 Saldo contrato (SCE)'!H40 -> #DIV/0! | D47: =+'FORMATO 06 Saldo contrato (SCE)'!H59 -> #DIV/0! | E47: =+'FORMATO 06 Saldo contrato (SCE)'!H78 -> #DIV/0! | G47: TOMAR DATO DE LA PESTAÑA: FORMATO 06 Saldo contrato (SCE)
A48: CAPACIDAD RESIDUAL DEL OFERENTE | B48: =+((B38*((B40+B43+B45)/100))-B47) -> #VALUE! | C48: =+((C38*((C40+C43+C45)/100))-C47) -> #DIV/0! | D48: =+((D38*((D40+D43+D45)/100))-D47) -> #DIV/0! | E48: =+((E38*((E40+E43+E45)/100))-E47) -> #DIV/0!
E49: =SUM(B48:C48) -> #VALUE! | F49: =+IF(E49>=$B$5,"CUMPLE KR",IF(E49<$B$5,"NO CUMPLE KR")) -> #VALUE!
A51: CONTADOR O REVISOR FISCAL (CUANDO APLIQUE) | B51: CONTADOR / NOMBRE REVISOR FISCAL
...

Sheet Conformación
A1: =+'K-Kr Constructor'!A1 -> EMPRESA NACIONAL PROMOTORA DEL DESARROLLO TERRITORIAL – ENTerritorio Sistema general de Regalias OBJETO: “INTERVENTORÍA TÉCNICA, ADMINISTRATIVA, FINANCIERA, AMBIENTAL Y DE CONTROL SOCIAL, LEGAL Y PRESU-PUESTAL PARA EL MEJORAMIENTO, ADECUACIÓN, REMODELACIÓN Y AJUSTES A DISEÑOS DE POLIDEPORTIVOS EN LOS BARRIOS CARTAGENITA SECTOR JARDÍN, LA PAZ Y LOS MONARKAS MUNICIPIO DE FACATATIVÁ – DEPARTA-MENTO DE CUNDINAMARCA.” CONTRATACIÓN DIRECTA CDI 073-2020
A4: No. | B4: NOMBRE DEL OFERENTE | C4: REPRESENTANTE LEGAL | D4: INTEGRANTES | E4: INTEGRANTE 1 | F4: Identificación Int. 1 | G4: % Int. 1 | H4: INTEGRANTE 2 | I4: Identificación Int. 2 | J4: % Int. 2 | K4: INTEGRANTE 3 | L4: Identificación Int. 3 | M4: % Int. 3 | N4: INTEGRANTE 4 | O4: Identificación Int. 4 | P4: % Int. 4 | Q4: INTEGRANTE 5 | R4: Identificación Int. 5 | S4: % Int. 5 | T4: Telefono | U4: FAX | V4: Direccion | W4: Email | X4: Ciudad | Y4: ANTICIPO
A5: 1 | B5: CONSTRUCTODO INGENIEROS CONTRATISTAS LTDA | C5: HENRY ALBERTO CASTRO REINA C.C. 80.019.099 | D5: ="("&E5&" "&TEXT(G5,"##0%")&" - "&H5&" "&TEXT(J5,"##0%")&" - "&K5&" "&TEXT(M5,"##0%")&"-"&N5&" "&TEXT(P5,"##0%")&"-"&Q5&" "&TEXT(S5,"##0%")&") " -> (CONSTRUCTODO INGENIEROS CONTRATISTAS LTDA. 100% - 0% - 0%- 0%- 0%) | E5: CONSTRUCTODO INGENIEROS CONTRATISTAS LTDA. | F5: NIT: 900.084.348-2 | G5: 1 | L5: NIT o C.C. | O5: NIT o C.C. | R5: NIT o C.C. | T5: 3124573673 | U5: 7589566 | V5: AVENIDA CARACAS #34-86 BOGOTÁ D.C. | W5: constructodoltda@gmail.com | X5: BOGOTÁ D.C | Y5: NO INDICA
A6: 2
A7: 3
A8: 4
A9: 5
A10: 6
A11: 7
A12: 8
A13: 9
A14: 10
A15: 11
A16: 12
A17: 13
... A29: 25

Sheet FORMATO 06 Saldo contrato (SCE)
A1: =+'K-Kr Constructor'!A1:F1 -> EMPRESA NACIONAL PROMOTORA DEL DESARROLLO TERRITORIAL – ENTerritorio Sistema general de Regalias OBJETO: “INTERVENTORÍA TÉCNICA, ADMINISTRATIVA, FINANCIERA, AMBIENTAL Y DE CONTROL SOCIAL, LEGAL Y PRESU-PUESTAL PARA EL MEJORAMIENTO, ADECUACIÓN, REMODELACIÓN Y AJUSTES A DISEÑOS DE POLIDEPORTIVOS EN LOS BARRIOS CARTAGENITA SECTOR JARDÍN, LA PAZ Y LOS MONARKAS MUNICIPIO DE FACATATIVÁ – DEPARTA-MENTO DE CUNDINAMARCA.” CONTRATACIÓN DIRECTA CDI 073-2020
A3: OFERENTE | B3: =VLOOKUP(A4,Conformación!$A$5:$S$129,2,FALSE) -> CONSTRUCTODO INGENIEROS CONTRATISTAS LTDA
A4: 1 | B4: =VLOOKUP(A4,Conformación!$A$5:$S$129,4,FALSE) -> (CONSTRUCTODO INGENIEROS CONTRATISTAS LTDA. 100% - 0% - 0%- 0%- 0%)
A6: INTEGRANTE 1
A7: =VLOOKUP(A4,Conformación!$A$5:$S$129,5,FALSE) -> CONSTRUCTODO INGENIEROS CONTRATISTAS LTDA.
A8: =VLOOKUP(A4,Conformación!$A$5:$S$129,7,FALSE) -> 1
A9: DESCRIPCIÓN | B9: CONTRATO 1 | C9: CONTRATO 2 | D9: CONTRATO 3 | E9: CONTRATO 4 | F9: CONTRATO 5 | G9: CONTRATO 6 | H9: CONTRATO 7
A10: Plazo (MESES)
A11: Plazo (DIAS) | B11: =+B10*30 -> 0 | C11: =+C10*30 -> 0 | D11: =+D10*30 -> 0 | E11: =+E10*30 -> 0 | F11: =+F10*30 -> 0 | G11: =+G10*30 -> 0 | H11: =+H10*30 -> 0
A12: Valor
A13: Fecha de inicio | B13: 0 | C13: 0 | D13: 0 | E13: 0 | F13: 0 | G13: 0 | H13: 0 | I13: si el contrato NO ha iniciado, se deja la fecha del cierre del proceso
A14: Fecha de suspensión | B14: 0 | C14: 0 | D14: 0 | E14: 0 | F14: 0 | G14: 0 | H14: 0
A15: Porcentaje de participación: | B15: 0 | C15: 0 | D15: 0 | E15: 0 | F15: 0 | G15: 0 | H15: 0
A16: Fecha de presentación de la oferta objeto del Proceso de Contratación | B16: 0 | C16: 0 | D16: 0 | E16: 0 | F16: 0 | G16: 0 | H16: 0 | I16: FECHA DEL CIERRE DEL PROCESO
A17: Días ejecutados | B17: =IF(B14=0,DAYS360(B13,B16),DAYS360(B13,B14)) -> 0 | C17: =IF(C14=0,DAYS360(C13,C16),DAYS360(C13,C14)) -> 0 | D17: =IF(D14=0,DAYS360(D13,D16),DAYS360(D13,D14)) -> 0 | E17: =IF(E14=0,DAYS360(E13,E16),DAYS360(E13,E14)) -> 0 | F17: =IF(F14=0,DAYS360(F13,F16),DAYS360(F13,F14)) -> 0 | G17: =IF(G14=0,DAYS360(G13,G16),DAYS360(G13,G14)) -> 0 | H17: =IF(H14=0,DAYS360(H13,H16),DAYS360(H13,H14)) -> 0
A18: Días por ejecutar | B18: =+(B10*30)-B17 -> 0 | C18: =+(C10*30)-C17 -> 0 | D18: =+(D10*30)-D17 -> 0 | E18: =+(E10*30)-E17 -> 0 | F18: =+(F10*30)-F17 -> 0 | G18: =+(G10*30)-G17 -> 0 | H18: =+(H10*30)-H17 -> 0 | J18: si la celda queda de este color (se debe digitar 360)
A19: Saldo diario del contrato en ejecución | B19: =+(B12/(B10*30)) -> #DIV/0! | C19: =+(C12/(C10*30)) -> #DIV/0! | D19: =+(D12/(D10*30)) -> #DIV/0! | E19: =+(E12/(E10*30)) -> #DIV/0! | F19: =+(F12/(F10*30)) -> #DIV/0! | G19: =+(G12/(G10*30)) -> #DIV/0! | H19: =+(H12/(H10*30)) -> #DIV/0!
A20: SALDO DEL CONTRATO EN EJECUCIÓN | B20: =+B19*B18*B15 -> #DIV/0! | C20: =+C19*C18*C15 -> #DIV/0! | D20: =+D19*D18*D15 -> #DIV/0! | E20: =+E19*E18*E15 -> #DIV/0! | F20: =+F19*F18*F15 -> #DIV/0! | G20: =+G19*G18*G15 -> #DIV/0! | H20: =+H19*H18*H15 -> #DIV/0! | J20: si la celda queda de este color (se tiene un valor negativo)
A21: TOTAL DE SALDOS DE CONTRATOS EN EJECUCIÓN | H21: =SUM(B20:H20) -> #DIV/0! | J21: dejar cero (0)
A23: Nota: En la casilla de los dias por ejecutar se superan los 360 dias: Se debe colocar 360 dias
A25: INTEGRANTE 2
A26: =VLOOKUP(A4,Conformación!$A$5:$S$129,8,FALSE) -> 0
A27: =VLOOKUP(A4,Conformación!$A$5:$S$129,10,FALSE) -> 0
A28: DESCRIPCIÓN | B28: CONTRATO 1 | C28: CONTRATO 2 | D28: CONTRATO 3 | E28: CONTRATO 4 | F28: CONTRATO 5 | G28: CONTRATO 6 | H28: CONTRATO 7
A29: Plazo (MESES)
A30: Plazo (DIAS) | B30: =+B29*30 -> 0 | C30: =+C29*30 -> 0 | D30: =+D29*30 -> 0 | E30: =+E29*30 -> 0 | F30: =+F29*30 -> 0 | G30: =+G29*30 -> 0 | H30: =+H29*30 -> 0
A31: Valor
A32: Fecha de inicio | B32: 0 | C32: 0 | D32: 0 | E32: 0 | F32: 0 | G32: 0 | H32: 0 | I32: =+$I$13 -> si el contrato NO ha iniciado, se deja la fecha del cierre del proceso
A33: Fecha de suspensión | B33: 0 | C33: 0 | D33: 0 | E33: 0 | F33: 0 | G33: 0 | H33: 0
A34: Porcentaje de participación: | B34: 0 | C34: 0 | D34: 0 | E34: 0 | F34: 0 | G34: 0 | H34: 0
A35: Fecha de presentación de la oferta objeto del Proceso de Contratación | B35: 0 | C35: 0 | D35: 0 | E35: 0 | F35: 0 | G35: 0 | H35: 0 | I35: =+$I$16 -> FECHA DEL CIERRE DEL PROCESO
A36: Días ejecutados | B36: =IF(B33=0,DAYS360(B32,B35),DAYS360(B32,B33)) -> 0 | C36: =IF(C33=0,DAYS360(C32,C35),DAYS360(C32,C33)) -> 0 | D36: =IF(D33=0,DAYS360(D32,D35),DAYS360(D32,D33)) -> 0 | E36: =IF(E33=0,DAYS360(E32,E35),DAYS360(E32,E33)) -> 0 | F36: =IF(F33=0,DAYS360(F32,F35),DAYS360(F32,F33)) -> 0 | G36: =IF(G33=0,DAYS360(G32,G35),DAYS360(G32,G33)) -> 0 | H36: =IF(H33=0,DAYS360(H32,H35),DAYS360(H32,H33)) -> 0
A37: Días por ejecutar | B37: =+(B29*30)-B36 -> 0 | C37: =+(C29*30)-C36 -> 0 | D37: =+(D29*30)-D36 -> 0 | E37: =+(E29*30)-E36 -> 0 | F37: =+(F29*30)-F36 -> 0 | G37: =+(G29*30)-G36 -> 0 | H37: =+(H29*30)-H36 -> 0 | J37: si la celda queda de este color (se debe digitar 360)
A38: Saldo diario del contrato en ejecución | B38: =+(B31/(B29*30)) -> #DIV/0! | C38: =+(C31/(C29*30)) -> #DIV/0! | D38: =+(D31/(D29*30)) -> #DIV/0! | E38: =+(E31/(E29*30)) -> #DIV/0! | F38: =+(F31/(F29*30)) -> #DIV/0! | G38: =+(G31/(G29*30)) -> #DIV/0! | H38: =+(H31/(H29*30)) -> #DIV/0!
A39: SALDO DEL CONTRATO EN EJECUCIÓN | B39: =+B38*B37*B34 -> #DIV/0! | C39: =+C38*C37*C34 -> #DIV/0! | D39: =+D38*D37*D34 -> #DIV/0! | E39: =+E38*E37*E34 -> #DIV/0! | F39: =+F38*F37*F34 -> #DIV/0! | G39: =+G38*G37*G34 -> #DIV/0! | H39: =+H38*H37*H34 -> #DIV/0! | J39: si la celda queda de este color (se tiene un valor negativo)
A40: TOTAL DE SALDOS DE CONTRATOS EN EJECUCIÓN | H40: =SUM(B39:H39) -> #DIV/0! | J40: dejar cero (0)
A42: Nota: En la casilla de los dias por ejecutar se superan los 360 dias: Se debe colocar 360 dias
A44: INTEGRANTE 3
A45: =VLOOKUP(A4,Conformación!$A$5:$S$129,11,FALSE) -> 0
A46: =VLOOKUP(A4,Conformación!$A$5:$S$129,13,FALSE) -> 0
...

Sheet Exp. oferente
A1: =+'K-Kr Constructor'!A1:F1 -> EMPRESA NACIONAL PROMOTORA DEL DESARROLLO TERRITORIAL – ENTerritorio Sistema general de Regalias OBJETO: “INTERVENTORÍA TÉCNICA, ADMINISTRATIVA, FINANCIERA, AMBIENTAL Y DE CONTROL SOCIAL, LEGAL Y PRESU-PUESTAL PARA EL MEJORAMIENTO, ADECUACIÓN, REMODELACIÓN Y AJUSTES A DISEÑOS DE POLIDEPORTIVOS EN LOS BARRIOS CARTAGENITA SECTOR JARDÍN, LA PAZ Y LOS MONARKAS MUNICIPIO DE FACATATIVÁ – DEPARTA-MENTO DE CUNDINAMARCA.” CONTRATACIÓN DIRECTA CDI 073-2020
U2: AÑO | V2: SMMLV
A3: EXPERIENCIA TÉCNICA DEL OFERENTE | U3: 1984 | V3: 11298
U4: 1985 | V4: 13557.6
A5: El oferente debe acreditar en su oferta, que cuenta con experiencia específica en: | U5: 1986 | V5: 16811.4
A6: EN LA EJECUCIÓN DE CONTRATOS DE INTERVENTORIA A LA ELABORACIÓN DE ESTUDIOS O DISEÑOS DE SISTEMAS DE ACUEDUCTO O ALCANTARILLADO QUE INCLUYAN DENTRO DE SU ALCANCE PLANTAS DE TRATAMIENTO DE AGUA POTABLE (PTAP) Y/O PLANTAS DE TRATAMIENTO DE AGUA RESIDUAL (PTAR). | U6: 1987 | V6: 20509.8
A7: La experiencia deberá ser acreditada con la ejecución de MÁXIMO CINCO (5) CONTRATOS (Terminados).
A8: Los contratos aportados deben sumar en su conjunto, un valor igual o superior a 1,0 vez el valor del POE, expresado en SMMLV en la fecha de terminación | U8: 1987 | V8: 20509.8
A9: MÍNIMO UNO (1) de los contratos aportados, deberá tener un valor igual o superior a UNA (1) vez el valor del POE, expresado en SMMLV a la fecha de terminación. | U9: 1987 | V9: 20509.8
A10: Mínimo (1) uno de los contratos aportados deberá tener dentro de sus actividades intervenciones en construcción de Boxcoulver. | U10: 1987 | V10: 20509.8
A11: Mínimo (1) uno de los contratos aportados debe ser igual o superior valor al POE expresado en SMLMV en la fecha de terminación | U11: 1987 | V11: 20509.8
U12: 1988 | V12: 25637.4
J13: SMMLV | U13: 1989 | V13: 32559.6
J14: =I15/I16 -> 199.92712 | U14: 1990 | V14: 41025
F15: Los contratos aportados deberán sumar, en su conjunto, un valor igual o superior a 2 veces el valor del POE, expresado en SMMLV a la fecha de terminación | G15: =I15/I16 -> 199.92712 | H15: presup.of | I15: =+'K-Kr Constructor'!B5 -> 1.7549663e+08 | J15: SMMLV | U15: 1991 | V15: 51716.1
H16: SMMLV 2020 | I16: 877803 | J16: =(I15/I16) -> 199.92712 | U16: 1992 | V16: 65190
U17: 1993 | V17: 81510
U18: 1994 | V18: 98700
B19: Oferente | C19: 1 | D19: =VLOOKUP(C19,Conformación!$A$5:$S$129,2,FALSE) -> CONSTRUCTODO INGENIEROS CONTRATISTAS LTDA | U19: 1995 | V19: 118933.5
D20: =VLOOKUP(C19,Conformación!$A$5:$S$129,4,FALSE) -> (CONSTRUCTODO INGENIEROS CONTRATISTAS LTDA. 100% - 0% - 0%- 0%- 0%) | U20: 1996 | V20: 142125
O21: INTEGRANTES | U21: 1997 | V21: 172005
O22: =+G37 -> CONSTRUCTODO INGENIEROS CONTRATISTAS LTDA. | P22: =+G38 -> 0 | Q22: =+G39 -> 0 | R22: =+G40 -> 0 | S22: =+G41 -> 0 | U22: 1998 | V22: 203826
A23: No | B23: PROPIETARIO O ENTIDAD CONTRATANTE | C23: APORTADA POR | D23: % en Cto | E23: CONSECUTIVO RUP | F23: OBJETO | G23: Fecha de Terminación | H23: Página | I23: VALOR | J23: =+J$13 -> SMMLV | K23: OBSERVACIONES | O23: =+IF(C24=$O$22,J24,0) -> 15.110792 | P23: =+IF(C24=$P$22,J24,0) -> 0 | Q23: =+IF(C24=$Q$22,J24,0) -> 0 | R23: =+IF(C24=$R$22,J24,0) -> 0 | S23: =+IF(C24=$S$22,J24,0) -> 0 | U23: 1999 | V23: 236460
A24: 1 | B24: FONADE | C24: CONSTRUCTODO INGENIEROS CONTRATISTAS LTDA. | D24: 0.9 | E24: 19 | F24: “INTERVENTORÍA TÉCNICA, ADMINISTRATIVA Y DE CONTROL PRESUPUESTAL A LAS OBRAS DE ADECUACIÓN DE UNA PLACA POLIDEPORTIVA Y DE LA CUBIERTA EXISTENTE EN EL POLIDEPORTIVO DEL CORREGIMIENTO ESTACIÓN COCORNA, UBICADO EN EL MUNICIPIO DE PUERTO TRIUNFO, ANTIOQUIA.” | G24: 40859 | H24: SECOP ll | I24: 8992600 | J24: =IF(G24=0,0,IF(G24<0,"FUERA DE TIEMPO",I24*D24/VLOOKUP(YEAR(G24),$U$3:$V$45,2,0))) -> 15.110792 | K24: CUMPLE La certificación acredita debidamente discriminada en la experiencia pedida. | L24: =+IF(J24>=$G$15,1,0) -> 0 | O24: =+IF(C25=$O$22,J25,0) -> 119.74973 | P24: =+IF(C25=$P$22,J25,0) -> 0 | Q24: =+IF(C25=$Q$22,J25,0) -> 0 | R24: =+IF(C25=$R$22,J25,0) -> 0 | S24: =+IF(C25=$S$22,J25,0) -> 0 | U24: 2000 | V24: 260100
A25: 2 | B25: UNIDAD DE RIESGOS | C25: CONSTRUCTODO INGENIEROS CONTRATISTAS LTDA. | D25: 0.9 | E25: 10 | F25: INTERVENTORÍA ADMINISTRATIVA, TÉCNICA, FINANCIERA Y AMBIENTAL, PARA LA ONSTRUCCIÓN DE AULAS Y DE BATERÍAS ANITARIAS DE LAS SEDES EDUCATIVAS AFECTADAS POR LA TEMPORADA INVERNAL DESDE EL 01 DE SEPTIEMBRE A 10 DE DICIEMBRE DE 2011 EN LAS ZONAS 7 – 8 – 9 – 11 QUE INCLUYEN EL SUBGRUPO 2 DEPARTAMENTOS DE BOLÍVAR Y CÓRDOBA MUNICIPIOS DE MAGANGUE, BUENAVISTA Y MONTERÍA, EN DESARROLLO DEL CONVENIO No. 9677-04-720-2012 CELEBRADO ENTRE EL FONDO NACIONAL DE GESTIÓN DEL RIESGO DE DESASTRES FNGRD –FIDUPREVISORA S.A. Y EL MINISTERIO DE DUCACIÓN NACIONAL. | G25: 41828 | H25: SECOP ll | I25: 81962035 | J25: =IF(G25=0,0,IF(G25<0,"FUERA DE TIEMPO",I25*D25/VLOOKUP(YEAR(G25),$U$3:$V$596,2,0))) -> 119.74973 | K25: CUMPLE Cumple requisito minimo 1 contrato debe ser 1 vez el POE | L25: =+IF(J25>=$G$15,1,0) -> 0 | O25: =+IF(C26=$O$22,J26,0) -> 0 | P25: =+IF(C26=$P$22,J26,0) -> 0 | Q25: =+IF(C26=$Q$22,J26,0) -> 0 | R25: =+IF(C26=$R$22,J26,0) -> 0 | S25: =+IF(C26=$S$22,J26,0) -> 0 | U25: 2001 | V25: 286000
A26: 3 | B26: ORGANIZACIÓN DE ESTADOS IBEROAMERICANO S | C26: PROYECTOS GENERALES Y COMPAÑÍA SAS | D26: 0.9 | E26: 26 | F26: “INTERVENTORIA TECNICA, ADMINISTRATIVA Y FINANCIERA AL TRANSPORTE, LA CONSTRUCCIÓN DE LAS BASES Y LA INSTALACIÓN DE LAS AULAS PARA ATENDER LAS INSTITUCIONES EDUCATIVAS AFECTADAS POR LA OLA INVERNAL EN EL DEPARTAMENTOS DE CHOCO. ESTA CONTRATACIÓN SE REALIZA EN EL MARCO DE LOS CONVENIOS MEDIANTE LOS CUALES LA OEI SE OBLIGA PARA CON EL MINISTERIO DE EDUCACIÓN NACIONAL A JECUTAR LAS FASES 1 Y 2 DEL PLAN DE ACCIÓN DE EMERGENCIA INVERNAL DEL SECTOR DUCATIVO”. | G26: 41379 | H26: SECOP ll | I26: 230533470 | J26: =IF(G26=0,0,IF(G26<0,"FUERA DE TIEMPO",I26*D26/VLOOKUP(YEAR(G26),$U$3:$V$45,2,0))) -> 351.9595 | K26: CUMPLE La certificación acredita debidamente discriminada en la experiencia pedida. | L26: =+IF(J26>=$G$15,1,0) -> 1 | O26: =+IF(C28=$O$22,J28,0) -> 191.34646 | P26: =+IF(C28=$P$22,J28,0) -> 0 | Q26: =+IF(C28=$Q$22,J28,0) -> 0 | R26: =+IF(C28=$R$22,J28,0) -> 0 | S26: =+IF(C28=$S$22,J28,0) -> 0 | U26: 2002 | V26: 309000
A27: 4 | B27: EL INSTITUCIÓN DE EDUCACIÓN SUPERIOR COLEGIO INTEGRADO NACIONAL ORIENTE DE CALDAS | C27: CONSTRUCTODO INGENIEROS CONTRATISTAS LTDA. | D27: 1 | E27: 21 | F27: INTERVENTORÍA TÉCNICA, ADMINISTRATIVA, FINANCIERA Y AMBIENTAL, PARA EL CONTRATO DE OBRA OBJETO DE LA LICITACIÓN PÚBLICA LP-001-2015 CORRESPONDIENTE A LAS DEMOLICIONES DEL PUENTE Y TRES BLOQUES DE LA SEDE CENTRAL, LA CASA DE HABITACIÓN, AULAS DE LA GRANJA Y LA CAPILLA, LA AMPLIACIÓN DEL BLOQUE 2 DE LA SEDE CENTRAL, EL REFORZAMIENTO DEL CENTRO DE LA MADERA Y LA CONSTRUCCIÓN DE OBRAS DEL CTT GRANJA; BIBLIOTECA Y LABORATORIOS PERTENECIENTES A LA INSTITUCIÓN EDUCATIVA IES- CINOC, EN EL MUNICIPIO DE PENSILVANIA CALDAS. | G27: 42448 | I27: 101444319 | J27: =IF(G27=0,0,IF(G27<0,"FUERA DE TIEMPO",I27*D27/VLOOKUP(YEAR(G27),$U$3:$V$45,2,0))) -> 147.13718
A28: 5 | B28: MUNICIPIO DE SAN VICENTE DEL CAGUAN | C28: CONSTRUCTODO INGENIEROS CONTRATISTAS LTDA. | D28: 0.9 | E28: 33 | F28: INTERVENTORÍA TÉCNICA, ADMINISTRATIVA Y FINANCIERA PARA LA REMODELACIÓN PRIMERA ET APA DEL PARQUE DE LOS FUNDADORES - ARQUE FUNDACIONAL DEL MUNICIPIO DE SAN VICENTE DEL CAGUÁN. | G28: 43100 | I28: 156843928 | J28: =IF(G28=0,0,IF(G28<0,"FUERA DE TIEMPO",I28*D28/VLOOKUP(YEAR(G28),$U$3:$V$45,2,0))) -> 191.34646
A29: 5 | J29: =IF(G29=0,0,IF(G29<0,"FUERA DE TIEMPO",I29*D29/VLOOKUP(YEAR(G29),$U$3:$V$45,2,0))) -> 0 | L29: =+IF(J29>=$G$15,1,0) -> 0 | O29: =+IF(C30=$O$22,J30,0) -> 0 | P29: =+IF(C30=$P$22,J30,0) -> 0 | Q29: =+IF(C30=$Q$22,J30,0) -> 0 | R29: =+IF(C30=$R$22,J30,0) -> 0 | S29: =+IF(C30=$S$22,J30,0) -> 0 | U29: 2004 | V29: 358000
A30: 6 | J30: =IF(G30=0,0,IF(G30<0,"FUERA DE TIEMPO",I30*D30/VLOOKUP(YEAR(G30),$U$3:$V$45,2,0))) -> 0 | L30: =+IF(J30>=$G$15,1,0) -> 0 | O30: =+IF(C31=$O$22,J31,0) -> 0 | P30: =+IF(C31=$P$22,J31,0) -> 0 | Q30: =+IF(C31=$Q$22,J31,0) -> 0 | R30: =+IF(C31=$R$22,J31,0) -> 0 | S30: =+IF(C31=$S$22,J31,0) -> 0 | U30: 2005 | V30: 381500
A31: 7 | J31: =IF(G31=0,0,IF(G31<0,"FUERA DE TIEMPO",I31*D31/VLOOKUP(YEAR(G31),$U$3:$V$45,2,0))) -> 0 | L31: =+IF(J31>=$G$15,1,0) -> 0 | O31: =+IF(C32=$O$22,J32,0) -> 0 | P31: =+IF(C32=$P$22,J32,0) -> 0 | Q31: =+IF(C32=$Q$22,J32,0) -> 0 | R31: =+IF(C32=$R$22,J32,0) -> 0 | S31: =+IF(C32=$S$22,J32,0) -> 0 | U31: 2006 | V31: 408000
A32: 8 | J32: =IF(G32=0,0,IF(G32<0,"FUERA DE TIEMPO",I32*D32/VLOOKUP(YEAR(G32),$U$3:$V$45,2,0))) -> 0 | L32: =+IF(J32>=$G$15,1,0) -> 0 | O32: =+IF(C33=$O$22,J33,0) -> 0 | P32: =+IF(C33=$P$22,J33,0) -> 0 | Q32: =+IF(C33=$Q$22,J33,0) -> 0 | R32: =+IF(C33=$R$22,J33,0) -> 0 | S32: =+IF(C33=$S$22,J33,0) -> 0 | U32: 2007 | V32: 433700
A33: 9 | J33: =IF(G33=0,0,IF(G33<0,"FUERA DE TIEMPO",I33*D33/VLOOKUP(YEAR(G33),$U$3:$V$45,2,0))) -> 0 | L33: =+IF(J33>=$G$15,1,0) -> 0 | O33: =SUM(O23:O32) -> 326.20698 | P33: =SUM(P23:P32) -> 0 | Q33: =SUM(Q23:Q32) -> 0 | R33: =SUM(R23:R32) -> 0 | S33: =SUM(S23:S32) -> 0 | U33: 2008 | V33: 461500
A34: 10 | J34: =IF(G34=0,0,IF(G34<0,"FUERA DE TIEMPO",I34*D34/VLOOKUP(YEAR(G34),$U$3:$V$45,2,0))) -> 0 | L34: =+IF(J34>=$G$15,1,0) -> 0 | U34: 2009 | V34: 496900
I35: TOTAL | J35: =SUM(J24:J34) -> 825.30366 | L35: =SUM(L24:L34) -> 1 | U35: 2010 | V35: 515000
B36: NOTA: VERIFICAR QUE LOS CONTRATOS ESTEN EN EL RUP (CUANDO APLIQUE) | J36: =+IF(OR(L35=0,J42>=1),"NO CUMPLE","CUMPLE") -> CUMPLE | K36: =IF(J36="NO CUMPLE","0",IF(J35>=$J$16,"CUMPLE SUMATORIA DE TODOS 1,0 DEL POE",IF(J35<($J$16*2),"NO CUMPLE SUMATORIA DE TODOS 2,0 DEL POE"))) -> CUMPLE SUMATORIA DE TODOS 1,0 DEL POE | U36: 2011 | V36: 535600
G37: =VLOOKUP(C19,Conformación!$A$5:$S$129,5,FALSE) -> CONSTRUCTODO INGENIEROS CONTRATISTAS LTDA. | H37: =VLOOKUP(C19,Conformación!$A$5:$S$129,7,FALSE) -> 1 | I37: =+O33 -> 326.20698 | J37: =+IF(I37<MAX($I$37:$I$41),"",IF(I37=MAX($I$37:$I$41)*AND(SUM($I$37:$I$41)>MAX($I$37:$I$41))*AND((H37>=0.34)),"V.Bo.",IF(I37=MAX($I$37:$I$41)*AND(I37=SUM($I$37:$I$41))*AND(H37>=0.51),"V.Bo.","NO CUMPLE"))) -> V.Bo. | U37: 2012 | V37: 566700
G38: =VLOOKUP(C19,Conformación!$A$5:$S$129,8,FALSE) -> 0 | H38: =VLOOKUP(C19,Conformación!$A$5:$S$129,10,FALSE) -> 0 | I38: =+P33 -> 0 | J38: =+IF(I38<MAX($I$37:$I$41),"",IF(I38=MAX($I$37:$I$41)*AND(SUM($I$37:$I$41)>MAX($I$37:$I$41))*AND((H38>=0.34)),"V.Bo.",IF(I38=MAX($I$37:$I$41)*AND(I38=SUM($I$37:$I$41))*AND(H38>=0.51),"V.Bo.","NO CUMPLE"))) | U38: 2013 | V38: 589500
G39: =VLOOKUP(C19,Conformación!$A$5:$S$129,11,FALSE) -> 0 | H39: =VLOOKUP(C19,Conformación!$A$5:$S$129,13,FALSE) -> 0 | I39: =+Q33 -> 0 | J39: =+IF(I39<MAX($I$37:$I$41),"",IF(I39=MAX($I$37:$I$41)*AND(SUM($I$37:$I$41)>MAX($I$37:$I$41))*AND((H39>=0.34)),"V.Bo.",IF(I39=MAX($I$37:$I$41)*AND(I39=SUM($I$37:$I$41))*AND(H39>=0.51),"V.Bo.","NO CUMPLE"))) | U39: 2014 | V39: 616000
G40: =VLOOKUP(C19,Conformación!$A$5:$S$129,14,FALSE) -> 0 | H40: =VLOOKUP(C19,Conformación!$A$5:$S$129,16,FALSE) -> 0 | I40: =+R33 -> 0 | J40: =+IF(I40<MAX($I$37:$I$41),"",IF(I40=MAX($I$37:$I$41)*AND(SUM($I$37:$I$41)>MAX($I$37:$I$41))*AND((H40>=0.34)),"V.Bo.",IF(I40=MAX($I$37:$I$41)*AND(I40=SUM($I$37:$I$41))*AND(H40>=0.51),"V.Bo.","NO CUMPLE"))) | U40: 2015 | V40: 644350
...

Sheet Exp. oferente ADICIONAL
A1: =+'K-Kr Constructor'!A1:F1 -> EMPRESA NACIONAL PROMOTORA DEL DESARROLLO TERRITORIAL – ENTerritorio Sistema general de Regalias OBJETO: “INTERVENTORÍA TÉCNICA, ADMINISTRATIVA, FINANCIERA, AMBIENTAL Y DE CONTROL SOCIAL, LEGAL Y PRESU-PUESTAL PARA EL MEJORAMIENTO, ADECUACIÓN, REMODELACIÓN Y AJUSTES A DISEÑOS DE POLIDEPORTIVOS EN LOS BARRIOS CARTAGENITA SECTOR JARDÍN, LA PAZ Y LOS MONARKAS MUNICIPIO DE FACATATIVÁ – DEPARTA-MENTO DE CUNDINAMARCA.” CONTRATACIÓN DIRECTA CDI 073-2020
U2: AÑO | V2: SMMLV
A3: EXPERIENCIA ADICIONAL TÉCNICA DEL OFERENTE | U3: 1984 | V3: 11298
U4: 1985 | V4: 13557.6
A5: El oferente debe acreditar en su oferta, que cuenta con experiencia específica ADICIONAL en: | U5: 1986 | V5: 16811.4
A6: SERVICIO DE TRANSPORTE TERRESTRE AUTOMOTOR ESPECIAL DE PASAJEROS. | U6: 1987 | V6: 20509.8
I7: PUNTAJE | J7: SMMLV | K7: No. de contratos | U7: 1988 | V7: 25637.4
A8: El oferente que presente dos (2) contratos celebrados con entidades públicas o privadas cuya sumatoria sea el 0.5 del (POE) o superior a este para la prestación de servicios de transporte terrestre automotor especial de pasajeros. | I8: 10 | J8: 0.5 | K8: 2 | U8: 1989 | V8: 32559.6
J9: ='Exp. oferente'!J16/2 -> 99.96356 | U9: 1990 | V9: 41025
A10: El oferente que presente tres (3) contratos celebrados con entidades públicas o privadas cuya sumatoria sea el 0.5 del (POE) o superior a este para la prestación de servicios de transporte terrestre especial automotor de pasajeros. | I10: 20 | J10: 0.5 | K10: 3 | U10: 1991 | V10: 51716.1
J11: =J9 -> 99.96356 | U11: 1992 | V11: 65190
A12: El oferente que presente cuatro (4) contratos celebrados con entidades públicas o privadas cuya sumatoria sea el 0.5 del (POE) o superior a este para la prestación de servicios de transporte terrestre especial automotor de pasajeros | I12: 30 | J12: 0.5 | K12: 4 | U12: 1993 | V12: 81510
J13: =J11 -> 99.96356 | U13: 1994 | V13: 98700
B16: Oferente | C16: 1 | D16: =VLOOKUP(C16,Conformación!$A$5:$S$129,2,FALSE) -> CONSTRUCTODO INGENIEROS CONTRATISTAS LTDA | U16: 1995 | V16: 118933.5
D17: =VLOOKUP(C16,Conformación!$A$5:$S$129,4,FALSE) -> (CONSTRUCTODO INGENIEROS CONTRATISTAS LTDA. 100% - 0% - 0%- 0%- 0%) | U17: 1996 | V17: 142125
O18: INTEGRANTES | U18: 1997 | V18: 172005
O19: =+G28 -> 0 | P19: =+G29 -> 0 | Q19: =+G30 -> 0 | R19: =+G31 -> 0 | S19: =+G32 -> 0 | U19: 1998 | V19: 203826
A20: No | B20: PROPIETARIO O ENTIDAD CONTRATANTE | C20: APORTADA POR | D20: % en Cto | E20: CONSECUTIVO RUP | F20: OBJETO | G20: Fecha de Terminación | H20: Página | I20: VALOR | J20: SMMLV | K20: CALIFICACION | O20: =+IF(C21=$O$19,J21,0) -> 0 | P20: =+IF(C21=$P$19,J21,0) -> 0 | Q20: =+IF(C21=$Q$19,J21,0) -> 0 | R20: =+IF(C21=$R$19,J21,0) -> 0 | S20: =+IF(C21=$S$19,J21,0) -> 0 | U20: 1999 | V20: 236460
A21: 1 | J21: =IF(G21=0,0,IF(G21<0,"FUERA DE TIEMPO",I21*D21/VLOOKUP(YEAR(G21),$U$3:$V$41,2,0))) -> 0 | O21: =+IF(C22=$O$19,J22,0) -> 0 | P21: =+IF(C22=$P$19,J22,0) -> 0 | Q21: =+IF(C22=$Q$19,J22,0) -> 0 | R21: =+IF(C22=$R$19,J22,0) -> 0 | S21: =+IF(C22=$S$19,J22,0) -> 0 | U21: 2000 | V21: 260100
A22: 2 | J22: =IF(G22=0,0,IF(G22<0,"FUERA DE TIEMPO",I22*D22/VLOOKUP(YEAR(G22),$U$3:$V$41,2,0))) -> 0 | O22: =+IF(C23=$O$19,J23,0) -> 0 | P22: =+IF(C23=$P$19,J23,0) -> 0 | Q22: =+IF(C23=$Q$19,J23,0) -> 0 | R22: =+IF(C23=$R$19,J23,0) -> 0 | S22: =+IF(C23=$S$19,J23,0) -> 0 | U22: 2001 | V22: 286000
A23: 3 | J23: =IF(G23=0,0,IF(G23<0,"FUERA DE TIEMPO",I23*D23/VLOOKUP(YEAR(G23),$U$3:$V$41,2,0))) -> 0 | O23: =+IF(C24=$O$19,J24,0) -> 0 | P23: =+IF(C24=$P$19,J24,0) -> 0 | Q23: =+IF(C24=$Q$19,J24,0) -> 0 | R23: =+IF(C24=$R$19,J24,0) -> 0 | S23: =+IF(C24=$S$19,J24,0) -> 0 | U23: 2002 | V23: 309000
A24: 4 | J24: =IF(G24=0,0,IF(G24<0,"FUERA DE TIEMPO",I24*D24/VLOOKUP(YEAR(G24),$U$3:$V$39,2,0))) -> 0 | O24: =+IF(C25=$O$19,J25,0) -> 0 | P24: =+IF(C25=$P$19,J25,0) -> 0 | Q24: =+IF(C25=$Q$19,J25,0) -> 0 | R24: =+IF(C25=$R$19,J25,0) -> 0 | S24: =+IF(C25=$S$19,J25,0) -> 0 | U24: 2003 | V24: 332000
A25: 5 | J25: =IF(G25=0,0,IF(G25<0,"FUERA DE TIEMPO",I25*D25/VLOOKUP(YEAR(G25),$U$3:$V$39,2,0))) -> 0 | O25: =+IF(#REF!=$O$19,#REF!,0) -> #REF! | P25: =+IF(#REF!=$P$19,#REF!,0) -> #REF! | Q25: =+IF(#REF!=$Q$19,#REF!,0) -> #REF! | R25: =+IF(#REF!=$R$19,#REF!,0) -> #REF! | S25: =+IF(#REF!=$S$19,#REF!,0) -> #REF! | U25: 2004 | V25: 358000
I26: TOTAL | J26: =SUM(J21:J25) -> 0 | K26: =SUM(K21:K25) -> 0 | U26: 2005 | V26: 381500
B27: NOTA: VERIFICAR QUE LOS CONTRATOS ESTEN EN EL RUP (CUANDO APLIQUE) | I27: =+IF(OR(J26<=$J$9),"NO CUMPLE","CUMPLE") -> NO CUMPLE | U27: 2006 | V27: 408000
U28: 2007 | V28: 433700
U29: 2008 | V29: 461500
U30: 2009 | V30: 496900
U31: 2010 | V31: 515000
U32: 2011 | V32: 535600
U33: 2012 | V33: 566700
U34: 2013 | V34: 589500
B35: Oferente | C35: 2 | D35: =VLOOKUP(C35,Conformación!$A$5:$S$129,2,FALSE) -> 0 | U35: 2014 | V35: 616000
D36: =VLOOKUP(C35,Conformación!$A$5:$S$129,4,FALSE) -> 0 | U36: 2015 | V36: 644350
O37: INTEGRANTES | U37: 2016 | V37: 689454
O38: =+G47 -> 0 | P38: =+G48 -> 0 | Q38: =+G49 -> 0 | R38: =+G50 -> 0 | S38: =+G51 -> 0 | U38: 2017 | V38: 737717
A39: No | B39: PROPIETARIO O ENTIDAD CONTRATANTE | C39: APORTADA POR | D39: % en Cto | E39: CONSECUTIVO RUP | F39: OBJETO | G39: Fecha de Terminación | H39: Página | I39: VALOR | J39: SMMLV | K39: CALIFICACION | O39: =+IF(C40=$O$38,J40,0) -> 0 | P39: =+IF(C40=$P$38,J40,0) -> 0 | Q39: =+IF(C40=$Q$38,J40,0) -> 0 | R39: =+IF(C40=$R$38,J40,0) -> 0 | S39: =+IF(C40=$S$38,J40,0) -> 0 | U39: 2018 | V39: 781242
A40: 1 | J40: =IF(G40=0,0,IF(G40<0,"FUERA DE TIEMPO",I40*D40/VLOOKUP(YEAR(G40),$U$3:$V$41,2,0))) -> 0 | O40: =+IF(C41=$O$38,J41,0) -> 0 | P40: =+IF(C41=$P$38,J41,0) -> 0 | Q40: =+IF(C41=$Q$38,J41,0) -> 0 | R40: =+IF(C41=$R$38,J41,0) -> 0 | S40: =+IF(C41=$S$38,J41,0) -> 0 | U40: 2019 | V40: 828116
A41: 2 | J41: =IF(G41=0,0,IF(G41<0,"FUERA DE TIEMPO",I41*D41/VLOOKUP(YEAR(G41),$U$3:$V$41,2,0))) -> 0 | O41: =+IF(C42=$O$38,J42,0) -> 0 | P41: =+IF(C42=$P$38,J42,0) -> 0 | Q41: =+IF(C42=$Q$38,J42,0) -> 0 | R41: =+IF(C42=$R$38,J42,0) -> 0 | S41: =+IF(C42=$S$38,J42,0) -> 0 | U41: 2020 | V41: 877803
A42: 3 | J42: =IF(G42=0,0,IF(G42<0,"FUERA DE TIEMPO",I42*D42/VLOOKUP(YEAR(G42),$U$3:$V$41,2,0))) -> 0 | O42: =+IF(C43=$O$38,J43,0) -> 0 | P42: =+IF(C43=$P$38,J43,0) -> 0 | Q42: =+IF(C43=$Q$38,J43,0) -> 0 | R42: =+IF(C43=$R$38,J43,0) -> 0 | S42: =+IF(C43=$S$38,J43,0) -> 0
...

Sheet Formato 3
A1: DEL FORMATO 3 EXTRAER LA SIGUIENTE INFORMACIÓN
A2: Oferente No. | B2: Nombre del oferente | C2: No. De contratos aportados | D2: OBJETO | E2: PROPIETARIO O ENTIDAD CONTRATANTE | F2: CONTRATISTA O APORTADA POR: | G2: % de ejecución | H2: CONSECUTIVO RUP | I2: Fecha de Terminación | J2: VALOR
A3: 1 | B3: UNIÓN TEMPORAL TRANSET ENT 2020 | C3: 1 | D3: Prestar el servicio de transporte público terrestre automotor especial para el Instituto Colombiano de Bienestar Familiar a nivel nacional para la Macro región tres (3) | E3: Instituto Colombiano de Bienestar Familiar -ICBF | F3: SETCOLTUR S.A.S. | G3: 50 | H3: 39 | I3: 43617 | J3: 27876.2
C4: 2 | D4: Servicio de transporte especial de personal de sus funcionarios y alquiler de vehículos en campo quifa cajua. | E4: Frontera Energy Colombia Corp. | F4: INVERSIONES TRANSTURISMO S.A.S. | G4: 100 | H4: 53 | I4: 43344 | J4: 51684.4
C5: 3
C6: 4
C7: 5
A8: 2 | B8: TRANSPORTES CSC S.A.S - Nit. 900.470.772-8 | C8: 1 | D8: PRESTAR EL SERVICIO DE TRANSPORTE PUBLICO TERRESTRE AUTOMOTOR ESPECIAL PARA EL INSTITUTO COLOMBIANO DE BIENESTAR FAMILIAR A NIVEL NACIONAL, PARA LA MACRO REGION 4 | E8: Instituto Colombiano de Bienestar Familiar -ICBF | F8: TRANSPORTES CSC S.A.S. | G8: 25 | H8: 28 | I8: 43281 | J8: 22024.66
C9: 2
C10: 3
C11: 4
C12: 5
A13: 3 | B13: TRANSPORTES ESPECIALES ALIADOS SAS - NIT:900444852-9 | C13: 1 | D13: SERVICIO DE TRANSPORTE SIMULTÁNEO DE PERSONAL, EQUIPOS, HERRAMIENTAS Y OTRAS SIMILARES REQUERIDAS EN EL DESARROLLO DE LAS FUNCIONES DIARIAS | E13: MIGMAR LTDA | F13: TRANSPORTES ESPECIALES ALIADOS SAS | G13: 100 | H13: 32 | I13: 42004 | J13: 1333.77
C14: 2 | D14: SERVICIO DE TRANSPORTE ESPECIAL PARA LA MOVILIZACION DEL PERSONAL, EQUIPOS Y HERRAMIENTAS | E14: PRODUCCIONES RTI SAS | F14: TRANSPORTES ESPECIALES ALIADOS SAS | G14: 100 | H14: 34 | I14: 42596 | J14: 738.25
C15: 3 | D15: SERVICIO DE TRANSPORTE ESPECIAL DE PACIENTES DEL DEPARTAMENTO DE CUNDINAMARCA PARA DAR CUMPLIMIENTO A LOS FALLOS DE TUTELA | E15: SECRETARIA DE SALUD DE CUNDINAMARCA | F15: TRANSPORTES ESPECIALES ALIADOS SAS | G15: 100 | H15: 33 | I15: 42354 | J15: 2933.18
C16: 4 | D16: EL CONTRATISTA, obrando por su cuenta y riesgo, por sus propios medios y con sus propios equipos y personal especializado, en forma independiente y con plena autonomía técnica, administrativa y directiva, se compromete a prestar el servicio público de transporte terrestre automotor especial, para la empresa de energíade BogotáS.A ESP –EEB S.A ESP | E16: GRUPO ENERGIA DE BOGOTA | F16: CONSORCIO EMPRESARIAL T&C | G16: 45 | H16: 96 | I16: 43454 | J16: 13958.54
C17: 5 | D17: Prestar servicio de transporte terrestre automotor especial | E17: AG STUDIOS COLOMBIA S.A.S | F17: TRANSPORTES ESPECIALES ALIADOS SAS | G17: 100 | H17: 90 | I17: 43455 | J17: 2206.73
A18: 4 | B18: UT TURIALIANZA ENPDT | C18: 1 | D18: TransporteTerrestre en la modalidad de servicios especiales para el transporte de personal operativo y Ejecutivode la compañía. | E18: Mersen | F18: Alianza Terrestre S.A.S | G18: 100 | H18: 2 | I18: 41297 | J18: 4141.77
C19: 2 | D19: Prestacióndel servicio de apoyo a la operaciónde transporte de Corantioquia | E19: Corantioquia | F19: Alianza Terrestre S.A.S | G19: 100 | H19: 13 | I19: 42803 | J19: 482.51
C20: 3 | D20: Prestacióndel servicio de apoyo a la operaciónde transporte de Corantioquia | E20: Corantioquia | F20: Alianza Terrestre S.A.S | G20: 100 | H20: 32 | I20: 43493 | J20: 346.93
C21: 4 | D21: Prestación del Servicio de transporte Terrestre AutomotorEspecialpara los Niños, Estudiantes, docentes, y personal administrativo. | E21: Municipio de Envigado | F21: Transportes Turiscar S.A.S | G21: 100 | H21: 27 | I21: 42349 | J21: 1523
C22: 5 | D22: Servicio de transporte Terrestre Automotor de pasajeros En camperos y Camionetas | E22: Municipio de Medellín | F22: Transportes Turiscar S.A.S | G22: 18 | H22: 28 | I22: 42118 | J22: 18954 *18% 3411,72
A23: 5 | B23: MI ÁGUILA TRANSPORTES S.A.S - NIT:900 850 867-1 | C23: 1 | D23: Prestar el servicio público de transporte terrestre automotor especial dentro de Bogotá D.C., y/o cualquier destino nacional, en virtud del carácter del radio de acción dispuesto en el Decreto 1079 de 2015, para las empresas de transporte público terrestre automotor especial, en vehículos debidamente aprobados y homologados por el Ministerio de Transporte al personal del CONTRATANTE. | E23: Linktic S.A.S. | F23: MI ÁGUILA TRANSPORTES S.A.S | G23: 100 | H23: 6 | I23: 43281 | J23: 768
C24: 2
C25: 3
C26: 4
C27: 5
A28: 6 | B28: TRANSPORTES ESPECIALES UNO A LIMITADA - NIT:805.028.887-8 | C28: 1 | D28: SERVICIO DE TRANSPORTE TERRESTRE | E28: ELECTRIFICADORA DE SANTANDER | F28: TRANSPORTES ESPECIALES UNO A LIMITADA | G28: 100 | H28: 26 | I28: 43097 | J28: 4551.46
C29: 2 | D29: PRESTACION DEL SERVICIO DE TRANSPORTE TERRESTRE DE PERSONAS | E29: COLOMBIA MOVIL TIGO | F29: CONSORCIO LOGISTICA UNO A | G29: 90 | H29: 7 | I29: 40543 | J29: 2856.54
C30: 3
C31: 4
C32: 5
A33: 7 | B33: MIL SERVICIOSS.A.S. - 808.002.622-1 | C33: 1 | D33: prestación del servicio de transporte automo-tor en la modalidad alquiler en 40 camionetasdoble cabina sin conductor y sin combustible para desarrollar actividades propias de la ra-zón social en el departamento de Córdoba, Sucre, y Antioquia. | E33: CONCORPLANET MEL | F33: MIL SERVICIOSS.A.S. | G33: 100 | H33: 8 | I33: 43100 | J33: 878.25
C34: 2 | D34: Servicio de transporte de pasajeros en modalidad especial. | E34: AGENCIA INTEGRAR SEGUROS DE COLOMBIA LTDA+ | F34: MIL SERVICIOSS.A.S. | G34: 100 | H34: 2 | I34: 42004 | J34: 511.73
C35: 3
C36: 4
C37: 5
A38: 8 | B38: TRANSPORTES ESPECIALES FSG S.A.S. NIT:830.117.701-1 | C38: 1 | D38: Prestación del servicio de transporte público terrestre automotor especial para los proyectos y las dependencias del nivel central de la SDG | E38: Secretaria de Gobierno | F38: TRANSPORTES ESPECIALES FSG S.A.S. | G38: 100 | H38: 102 | I38: 43327 | J38: 1083.1
C39: 2 | D39: Prestación del servicio de transporte público terrestre automotor especial para los proyectos y las dependencias del nivel central de la SDG | E39: Secretaria de Gobierno | F39: TRANSPORTES ESPECIALES FSG S.A.S. | G39: 100 | H39: 78 | I39: 42947 | J39: 903.75
C40: 3 | D40: Prestación del servicio de transporte público especial terrestre, con plena autonomía técnica y administrativa y bajo su propia responsabilidad, para las dependencias que conforman la SG de la Alcaldía Mayor de Bogotá. | E40: Secretaria General | F40: TRANSPORTES ESPECIALES FSG S.A.S. | G40: 100 | H40: 81 | I40: 43214 | J40: 881.95
...

Sheet Formato 3A
A1: DEL FORMATO 3A EXTRAER LA SIGUIENTE INFORMACIÓN
A2: Oferente No. | B2: Nombre del oferente | C2: No. De contratos aportados | D2: OBJETO | E2: PROPIETARIO O ENTIDAD CONTRATANTE | F2: CONTRATISTA O APORTADA POR: | G2: % de ejecución | H2: CONSECUTIVO RUP | I2: Fecha de Terminación | J2: VALOR
A3: 1 | B3: UNIÓN TEMPORAL TRANSET ENT 2020 | C3: 1 | D3: Prestación del servicio de transporte especial en camionetas doble cabina 4X4, para el traslado de personal de la compañía, insumos y herramientas en todo el territorio nacional (Tolima, Huila, Santander, Norte de Santander, Caldas, Valle del Cauca, Nariño, Putumayo, Antioquia, Chocó, Guajira, Cesar, Magdalena, Bolívar, Sucre, Córdoba, entre otras) | E3: COLVISEG TDA. | F3: SETCOLTUR S.A.S | G3: 100 | H3: 36 | I3: 42705 | J3: 990000000
C4: 2 | D4: Prestación del servicio de transporte especial en camionetas doble cabina 4X4, para el traslado de personal de la compañía, insumos y herramientas en todo el territorio nacional (Tolima, Huila, Santander, Norte de Santander, Caldas, Valle del Cauca, Nariño, Putumayo, Antioquia, Chocó, Guajira, Cesar, Magdalena, Bolívar, Sucre, Córdoba, entre otras) | E4: COLVISEG TDA. | F4: SETCOLTUR S.A.S | G4: 100 | H4: 37 | I4: 43070 | J4: 442500000
C5: 3 | D5: Prestar el servicio de transporte escolar en todas las modalidades de servicioque requiera al Secretaría de Educación del Distrito | E5: SECRETARÍA DE EDUCACIÓN DISTRITAL | F5: INVERSIONES TRANSTURISMO S.A.S. | G5: 100 | H5: 20 | I5: 42156 | J5: 3193905408
C6: 4 | D6: Prestación del servicio de transporte para los trabajadores de la Empresa de Acueducto y Alcantarillado de Bogotá ESP,que laboran en la central de operaciones, las subcentrales de Santa Lucíay Usaquén,las plantas Wiesner, El Dorado, El Salitre y el Sistema de Chingaza y aquellos servicios especiales que requiera a empresa | E6: EMPRESA DE ACUEDUCTO Y ALCANTARILLADO DE BOGOTA ESP | F6: INVERSIONES TRANSTURISMO S.A.S. | G6: 70 | H6: 38 | I6: 42370 | J6: 12095466199
A7: 2 | B7: TRANSPORTES CSC S.A.S - Nit. 900.470.772-8 | C7: 1 | D7: PRESTAR EL SERVICIO DE TRANSPORTETERRESTREESPECIAL DE PASAJEROS CON 16 CAMIONETAS TIPO VAN DE 7 PASAJEROS Y 2 VAN DE 11 PASAJEROSPARA LOS DIFERENTES PROYECTOS QUE SE EJECUTAN EN LA EMPRESA | E7: CONSORCIO CONCESION MILENIO | F7: TRANSPORTES CSC S.A.S | G7: 100 | H7: 11 | I7: 42372 | J7: 908452573
C8: 2 | D8: PRESTAR EL SERVICIO DE TRANSPORTE TERRESTRE ESPECIAL DE PASAJEROS CON 13CAMIONETAS TIPO VAN DE 7 PASAJEROS PARA LOS DIFERENTES PROYECTOS QUE SE EJECUTAN EN LA EMPRESA | E8: RETAIL LATAM S.A.S | F8: TRANSPORTES CSC S.A.S | G8: 100 | H8: 12 | I8: 42794 | J8: 843312815
C9: 3 | D9: PRESTACIÓN DE SERVICIO PUBLICO DE TRANSPORTE TERRESTRE AUTOMOTOR ESPECIAL PARA LA SECRETARIA DISTRITAL DE INTEGRACION SOCIAL | E9: SECRETARIA DISTRITAL DE INTEGRACION SOCIAL | F9: TRANSPORTES CSC S.A.S | G9: 100 | H9: 23 | I9: 42925 | J9: 4324606133
C10: 4 | D10: PRESTAR EL SERVICIO PUBLICO DE TRANSPORTE TERRESTRE AUTOMOTOR ESPECIAL PARA EL CENTRO DE INVESTIGACIÓN TIBAITATA Y SEDE CENTRAL, EN CAMIONETAS DOBLE CABINA 4X4 Y MICROBUSES HACIA VARIOS MUNICIPIOS DE LOS DEPARTAMENTOS DE CUNDINAMARCA, BOYACA, TOLIMA, HUILA, SANTANDER Y META | E10: AGROSAVIA | F10: TRANSPORTES CSC S.A.S | G10: 100 | H10: 31 | I10: 43373 | J10: 903679021
A11: 3 | B11: TRANSPORTES ESPECIALES ALIADOS SAS - NIT:900444852-9 | C11: 1 | D11: SERVICIO DE TRANSPORTE TERRESTRE AUTOMOTOR ESPECIAL PARA LA MOVILIZACION DE PASAJEROS Y PERSONAL | E11: PRODUCCIONES RTI SAS | F11: TRANSPORTES ESPECIALES ALIADOS SAS | G11: 100 | H11: 31 | I11: 42230 | J11: 1080625009
C12: 2 | D12: CONTRATAR EL SERVICIO DE TRANSPORTE DE PERSONAL EN CAMIONETAS 4X4, CON DESTINO AL CONVENIO 918-2014 SUSCRITO ENTRE EL INVIAS Y LA UPTC | E12: UNIVERSIDAD PEDAGOGICA Y TECNOLOGICA DE COLOMBIA | F12: TRANSPORTES ESPECIALES ALIADOS SAS | G12: 100 | H12: 58 | I12: 42970 | J12: 2283933500
C13: 3 | D13: SERVICIO DE TRANSPORTE TERRESTRE ESPECIAL PLACA BLANCA, A FIN DE GARANTIZAR LA ATENCION Y NORMAL DESPLAZAMIENTO EN LA SUBRED INTEGRADA DE SERVICIO DE SALUD E.S.E., EN LA CIUDAD DE BOGOTA., EN LAS LOCALIDADES CIUDAD BOLIVAR, TUNJUELITO, USME, SUAMPAZA Y PARA DAR CUMPLIMIENTO A LOS CONTRATOS EN EL MARCO DEL PLAN DE INTERVENCIONES COLECTIVAS (PIC), RUTA DE SALUD, DE PARTICIPACIÓN Y DEMÁS CONVENIOS, SUSCRITOS CON EL FONDO FINANCIERO DISTRITAL DE SALUD-SECRETARIA DISTRITAL DE SALUD | E13: UNIVERSIDAD PEDAGOGICA Y TECNOLOGICA DE COLOMBIA | F13: TRANSPORTES ESPECIALES ALIADOS SAS | G13: 100 | H13: 87 | I13: 43119 | J13: 1742375000
C14: 4 | D14: SERVICIO DE TRANSPORTE DE PASAJEROS | E14: CASA EDITORIAL EL TIEMPOSA | F14: TRANSPORTES ESPECIALES ALIADOS SAS | G14: 100 | H14: 59 | I14: 43132 | J14: 1193633629
A15: 4 | B15: UT TURIALIANZA ENPDT | C15: 1 | D15: Servicio de transporte Terrestre Automotor Especial Camperos y Camionetas | E15: Municipio de Medellín | F15: TransportesTuriscar S.A.S | G15: 30 | H15: 31 | I15: 42809 | J15: $ 12.668.123.299 *30% $ 3.800.436.989
C16: 2 | D16: Servicio de transporte Terrestre Automotor Especial Camperos y Camionetas | E16: Municipio de Medellín | F16: TransportesTuriscar S.A.S | G16: 25 | H16: 32 | I16: 43159 | J16: $ 17.078.580.636 * 25% $ 4.269.645.159
C17: 3 | D17: Transporte Terrestre de personal de LAN. | E17: LANColombia Airlines | F17: Alianza Terrestre S.A.S | G17: 100 | H17: 1 | I17: 41639 | J17: 998696746
C18: 4 | D18: Servicio de transporte Terrestre Automotor para el cumplimiento de las actividadesmisionales del AMVA | E18: Área Metropolitana Valle Aburra | F18: Alianza Terrestre S.A.S | G18: 75 | H18: 17 | I18: 42916 | J18: $ 1.280.498.220 *75% $ 960.373.665
A19: 5 | B19: MI ÁGUILA TRANSPORTES S.A.S - NIT:900 850 867-1 | C19: 1 | D19: Prestar el servicio público de transporte terrestre automotor especial dentro de Bogotá D.C., y/o cualquier destino nacional, en virtud del carácterdel radio de acción dispuesto en el Decreto 1079 de 2015, para las empresas de transporte público terrestre automotor especial, en vehículos debidamente aprobados y homologados por el Ministerio de Transporte al personal del CONTRATANTE. | E19: Sociedad Puerto industrial Aguadulce S.A | F19: MI ÁGUILA TRANSPORTES S.A.S | G19: 100 | H19: 1 | I19: 43281 | J19: 581334297
C20: 2 | D20: Prestar el servicio público de transporte terrestre automotor especial dentro de Bogotá D.C., y/o cualquier destino nacional, en virtud del carácter del radio de acción dispuesto en el Decreto 1079 de 2015, para las empresas de transporte público terrestre automotor especial, en vehículos debidamente aprobados y homologados por el Ministerio de Transporte al personal del CONTRATANTE. | E20: Cine Colombia S.A. | F20: MI ÁGUILA TRANSPORTES S.A.S | G20: 100 | H20: 2 | I20: 43555 | J20: 335292844
C21: 3 | D21: Prestar el servicio público de transporte terrestre automotor especial dentro de Bogotá D.C., y/o cualquier destino nacional, en virtud del carácter del radio de acción dispuesto en el Decreto 1079 de 2015, para las empresas de transporte público terrestre automotor especial, en vehículos debidamente aprobados y homologados por el Ministerio de Transporte al personal del CONTRATANTE | E21: MassDigital S.A. | F21: MI ÁGUILA TRANSPORTES S.A.S | G21: 100 | H21: 9 | I21: 43281 | J21: 135972914
C22: 4 | D22: Prestar el servicio público de transporte terrestre automotor especial dentro de Bogotá D.C., y/o cualquier destino nacional, en virtud del carácter del radio de acción dispuesto en el Decreto 1079 de 2015, para las empresas de transporte público terrestre automotor especial, en vehículos debidamente aprobados y homologados por el Ministerio de Transporte al personal del CONTRATANTE | E22: Dupont Colombia S.A. | F22: MI ÁGUILA TRANSPORTES S.A.S | G22: 100 | H22: 4 | I22: 43281 | J22: 155267214
A23: 6 | B23: TRANSPORTES ESPECIALES UNO A LIMITADA - NIT:805.028.887-8 | C23: 1 | D23: PRESTACION DEL SERVICIO DE TRANSPORTE ESPECIAL | E23: HOSPITAL DE ENGATIVA E.S.E. | F23: TRANSPORTES ESPECIALES UNO A LTDA | G23: 100 | H23: 22 | I23: 42460 | J23: 192600000
C24: 2 | D24: PRESTAR EL SERVICIO DE TRANSPORTE PÚBLICO TERRESTRE AUTOMOTOR ESPECIAL | E24: INSTITUTO COLOMBIANO DE BIENESTAR FAMILIAR | F24: UNION TEMPORAL TRANSPORTES NACIONALES | G24: 25 | H24: 23 | I24: 42366 | J24: 2763220970
C25: 3 | D25: TRANSPORTE DE PASAJEROS | E25: TELMEX S.A. | F25: TRANSPORTES ESPECIALES UNO A LTDA | G25: 100 | H25: 25 | I25: 42297 | J25: 862169036
C26: 4 | D26: PRESTACION DEL SERVICIO DE TRANSPORTE TERRESTRE DE PERSONAS | E26: COLOMBIA MOVIL S.A. | F26: CONSORCIO LOGISTICA UNO A | G26: 90 | H26: 1 | I26: 41333 | J26: 7084520599
A27: 7 | B27: MIL SERVICIOSS.A.S. - 808.002.622-1 | C27: 1 | D27: Contratar el servicio de transporte especial para el desarrollo de las actividades estable-cidasen el plan de acciónque soporta la eje-cuciónde los recursos del FONDIGER | E27: IDIGER | F27: UNION TEMPORAL MILEXPRESS | G27: 40 | H27: 3 | I27: 42948 | J27: 585000000
C28: 2 | D28: Contratar el servicio de transporte especial para el desarrollo de las actividades de Ges-tión del Riesgo del IDIGER | E28: IDIGER | F28: UNION TEMPORAL ACAR MIL IDIGER 2017 | G28: 40 | H28: 6 | I28: 43270 | J28: 445705305
C29: 3 | D29: Prestacióndel servicio de transporte automo-tor especial la modalidad para desarrollar ac-tividades propias de la razónsocial en el de-partamento de Norte de Santander.$ | E29: TRANSPORTADORES NORTE DE SANTAN-DER S.A.S. | F29: MIL SERVICIOS S.A.S | G29: 100 | H29: 20 | I29: 43465 | J29: 97062037
C30: 4 | D30: Servicio de transorte automotor especialen la modalidad de satisfacer las necesidades y desarrollo delas actividades establecidasen el plan de acciónque soporta la ejecuciónde los recursos de transporte especial personas | E30: UNIVERSIDAD EX-TERNADO DE CO-LOMBIA | F30: MIL SERVICIOS S.A.S | G30: 100 | H30: 15 | I30: 43069 | J30: 35715000
A31: 8 | B31: TRANSPORTES ESPECIALES FSG S.A.S. NIT:830.117.701-1 | C31: 1 | D31: Prestación de servicios de transporte terrestre especializado de pasajeros. | E31: Instituto Distrital para la Protección de la Niñez y la Juventud - IDIPRON | F31: TRANSPORTES ESPECIALES FSG S.A.S. | G31: 100 | H31: 10 | I31: 40525 | J31: 609000000
C32: 2 | D32: Contratar la prestación del servicio de transporte público terrestre automotor especial de pasajeros. | E32: Corporación Autonoma Regional de Cundinamarca- CAR | F32: TRANSPORTES ESPECIALES FSG S.A.S. | G32: 100 | H32: 22 | I32: 41346 | J32: 10009918529
C33: 3 | D33: Contratar el servicio de transporte público terrestre automotor especial de pasajeros. | E33: Transportadora de Gas Internacional S.A. ESP | F33: TRANSPORTES ESPECIALES FSG S.A.S. | G33: 100 | H33: 72 | I33: 42009 | J33: 1612134350
C34: 4 | D34: Prestar el servicio público de transporte público terrestre automotor especial de pasajeros. | E34: Secretaría Distrital de Ambiente | F34: TRANSPORTES ESPECIALES FSG S.A.S. | G34: 100 | H34: 99 | I34: 42737 | J34: 5182753753
A35: 9 | B35: BIP TRANSPORTES SAS - NIT:830.061.945-7 | C35: 1 | D35: Prestar el servicio de Transportepublico terrestreautomotor especial para el Instituto Colombiano de Bienestar Familia a Nivel Nacional para la Macro Regiónuno (1). | E35: INSTITUTO COLOMBIANO DE BIENESTAR FAMILIAR | F35: CONSORCIO EMPRESARIAL VEB BIP TRANSPORTES LTDA 33%ESTURIVANNS SAS 33%VIAJEROS SA 33% | G35: 33 | H35: 68 | I35: 43616 | J35: 30334796796
C36: 2 | D36: Servicio de Transporte Publico Terrestre Automotor Especial de los Funcionarios mediante oferta Mercantil BT 22042015 | E36: PROMIGAS SA ESP | F36: BIP TRANSPORTES SAS | G36: NO RESGISTRÓ | H36: 59 | I36: 43373 | J36: 4367236122
C37: 3 | D37: Contratar la prestación del servicio público de transporte especial, para el desplazamiento de los vicepresidentes y directores de oficina, que por el ejercicio de sus funciones y responsabilidades así lo requieran, en el perímetro urbano y rural de Bogotá y de manera excepcional en los municipios del departamento de Cundinamarca y a otros municipios del territorio Nacional | E37: COLPENSIONES | F37: CONSORCIO EMPRESARIAL UNI2BIP TRANSPORTES LTDA 50%PLATINO VIP LTDA50% | G37: 50 | H37: 42 | I37: 43072 | J37: 2359157053
C38: 4 | D38: Contratar el servicio público de transporte terrestre automotor especial urbano y/o rural por horas y/o días con conductor, para la dirección territorial centro que participaran en la recolección en los operativos de campo de la encuesta multipropósito. para el Lote 1 correspondiente a transporte especial Horas en la ciudad de Bogotá-Cundinamarca | E38: DEPARTAMENTO NACIONAL DE ESTADISTICA DANE | F38: UNION TEMPORAL VIP & BIPBIP TRANSPORTES LTDA 50%PLATINO VIP LTDA50% | G38: 50 | H38: 40 | I38: 43069 | J38: 1602989889
A39: 10 | B39: EFITRANS S.A.S - NIT:811028194-4 | C39: 1 | D39: Servicio de transporte terrestre automotor especial de pasajeros | E39: Contraloria General de Antioquia | F39: EFITRANS S.A.S | G39: 100 | H39: 24 | I39: 41791 | J39: 1050000000
C40: 2 | D40: Servicio de transporte terrestre automotor especial de pasajeros | E40: Municipio de Medellin | F40: EFITRANS S.A.S | G40: 50 | H40: 1 | I40: 41334 | J40: 6985128990
...

Sheet Información general
A1: De la carta de presentación y acuerdo consorcial cuando sea consorcio extraer la siguiente información:
A2: Oferente No. | B2: Nombre del oferente | C2: Nombre del representante legal | D2: Nombre de los integrantes si es consorcio, escribir el NIT o CC de cada integrante y porcentaje de participación | E2: Telefono | F2: Direccion | G2: Email | H2: Ciudad
A3: 1 | B3: UNIÓN TEMPORAL TRANSET ENT 2020 | C3: JOSE FABIO CONTRERAS NARANJO CC 80.367.159 de Bogotá | D3: Integrante 1: SETCOLTUR S.A.S. NIT: 830.115.149-4 (50%) - Integrante 2: INVERSIONES TRANSTURISMO S.A.S. (50%) NIT 830.050.283-2 | E3: 3183887029 | F3: Tv. 31 No 11 -39 Sur Of. 217 / 216 C.C. Ciudad Montes. Bogotá D.C. | G3: gerencia@setcoltur.comjricardo.briceno@gmail.comlidercomercial@transturismo.co | H3: Bogotá D.C.
A4: 2 | B4: TRANSPORTES CSC S.A.S - Nit. 900.470.772-8 | C4: CARLOS AUGUSTO ROMERO FALLAcon CC No. 79.047.744 | D4: TRANSPORTES CSC S.A.S - Nit. 900.470.772-8 - 100% | E4: 796 83 74 | F4: Calle 66 B No.70 D –34 Bogotá D.C. | G4: Licitacionestcsc@hotmail.com | H4: Bogotá D.C.
A5: 3 | B5: TRANSPORTES ESPECIALES ALIADOS SAS - NIT:900444852-9 | C5: JENISLISBED PACHÓN SOTO - CEDULA DE CIUDADANÍA:65.715.223 del Libano Tolima | D5: TRANSPORTES ESPECIALES ALIADOS SAS - NIT:900444852-9 - 100% | E5: 3214390541 - 2565883 | F5: Cl 52ª # 85-22 | G5: direccioncomercial@transportesaliados.com.co | H5: Bogotá D.C.
A6: 4 | B6: UT TURIALIANZA ENPDT | C6: LUIS EDISON ARISTIZABAL ALZATE - C.C. 98.555.937 de Envigado Antioquia | D6: ALIANZA TERRESTRE S.A.S -con Nit: 830.087.371-2 - 50% TRANSPORTES Y VIAJES TURISCAR S.A.S. con Nit: 811.040.774-5 - 50% | E6: 3164720431-(4)448 3245 | F6: CALLE 2 B Nº 55-103 Barrio Manzanares | G6: Comercial1.alianzaterrestre@gmail.com | H6: Medellin
A7: 5 | B7: MI ÁGUILA TRANSPORTES S.A.S - NIT:900 850 867-1 | C7: Fernán Ocampo González CC 16.073.175 de Manizales. | D7: MI ÁGUILA TRANSPORTES S.A.S - NIT:900 850 867-1 - 100% | E7: 7458868 3173007679 | F7: Carrera 15 No. 80 90 Segundo piso | G7: licitaciones@miaguila.com | H7: Bogotá D.C.
A8: 6 | B8: TRANSPORTES ESPECIALES UNO A LIMITADA - NIT:805.028.887-8 | C8: GERMAN ULISES RODRIGUEZ NUÑEZ - CC 80.409.335 | D8: TRANSPORTES ESPECIALES UNO A LIMITADA - NIT:805.028.887-8 - 100% | E8: 7449608 | F8: Cra12 A No. 77 -41 | G8: proyectos@transportesunoa.com | H8: Bogotá D.C.
A9: 7 | B9: MIL SERVICIOSS.A.S. - 808.002.622-1 | C9: MARIA FERNANDA RODRIGUEZ LOPEZ - CC 37.331.669 Ocaña Norte de Santander | D9: MIL SERVICIOSS.A.S. - 808.002.622-1 - 100% | E9: (1) 2150548 | F9: Tv 14ª No. 119-97 Of. 102 | G9: licitaciones@milservicios.co | H9: Bogotá D.C.
A10: 8 | B10: TRANSPORTES ESPECIALES FSG S.A.S. NIT:830.117.701-1 | C10: FERNANDO SUAREZ GONZÁLEZ - CEDULA DE CIUDADANÍA: 19.450.358 | D10: TRANSPORTES ESPECIALES FSG S.A.S. NIT:830.117.701-1 - 100% | E10: 4926600 | F10: Cra. 29ªN°74-71 | G10: comercial2@transportesfsg.com | H10: Bogotá D.C.
A11: 9 | B11: BIP TRANSPORTES SAS - NIT:830.061.945-7 | C11: NELSON ROBERTO PARRA PALENCIA - cc 79.514.314 | D11: BIP TRANSPORTES SAS - NIT:830.061.945-7 - 100% | E11: 4824250 7 3156997444 | F11: CRA 23 No. 122 -59 | G11: comercial2@biptransportes.com | H11: Bogotá D.C.
A12: 10 | B12: EFITRANS S.A.S - NIT:811028194-4 | C12: EDISON ALEXANDER OSORIO ALVAREZ CEDULA DE CIUDADANÍA:98.594.821 | D12: EFITRANS S.A.S - NIT:811028194-4 - 100% | E12: 4482248 | F12: CRA 70 A No 51-21 | G12: comercial2@efitrans.com | H12: Medellin
A13: 11 | B13: INVERSIONES TRANSABANA SAS - NIT:900.512.082-6 | C13: ANDRES FERNANDO DUARTE ORTIZ CEDULA DE CIUDADANÍA:79.628.542 | D13: INVERSIONES TRANSABANA SAS - NIT:900.512.082-6 - 100% | E13: TELEFONOS:3208021052 FAX:3208021052 | F13: Transversal 76D # 82C-04 | G13: transsabana@yahoo.com | H13: Bogotá D.C.
A14: 12 | B14: TRANSPORTES ESPECIALES NUEVA ERA S.A.Scon Nit. 901.056.044-3 | C14: OSCAR MAURICIO MORA DURAN - CC 80.136.794 de Bogotá | D14: TRANSPORTES ESPECIALES NUEVA ERA S.A.Scon Nit. 901.056.044-3 - 100% | E14: (57-1) 7920895 | F14: Calle 85.ª no. 28b-41 | G14: comercial@tne.com.co | H14: Bogotá D.C.
A15: 13 | B15: SASO SA - NIT:860.515.115-1 | C15: GERMAN SORIANO VELASQUEZ - CC 19.462.127de Bogotá D.C | D15: SASO SA - NIT:860.515.115-1 - 100% | E15: 3002151 | F15: CRA 49 No 104B –93 | G15: transsasolicita@gmail.com | H15: Bogotá D.C.
A16: 14 | B16: Servicio de Alquiler y Transporte Alvarado y Cuesta - SERVITAC S.A.S. NIT 830.090.037-8 | C16: OLGA LUCIA ALVARADO CONTRERAS C.C. 39753385 | D16: Servicio de Alquiler y Transporte Alvarado y Cuesta - SERVITAC S.A.S. 100% | E16: 7022515 | F16: carrera 70H No. 127A-06 barrio Niza | G16: gerencia@servitac.com | H16: Bogotá D.C.
A17: 15 | B17: MAVETRANS SAS 900.627.348-4 | C17: MARTHA LUCIA VEGA MARTINEZ C.C. 52.224.603 | D17: MAVETRANS SAS 100% | E17: 3142999891 | F17: AV BOYACA Nº 53-81 L 5 | G17: gerencia@mavetrans.com | H17: Bogotá D.C.
A18: 16 | B18: PLATINO VIP S.A.S. 800105371-1 | C18: RAFAEL EDUARDO VARGAS ALBA 79.514.920 | D18: PLATINO VIP S.A.S.100% | E18: 4824698 | F18: Calle 128ª # 58ª - 47 | G18: platino.esmeraldasantamaria@gmail.com | H18: Bogotá D.C.
A19: 17 | B19: BUSEXPRESS S.A.S 806.012.364-1 | C19: MOISES DIAZ VELAZQUEZ 72.126.835 | D19: BUSEXPRESS S.A.S 100% | E19: 3136166977 | F19: Calle 75 No. 43-39 | G19: secretariageneral@busexpress | H19: Bogotá D.C.
A20: 18 | B20: TRANSPORTES ESIVANS SAS 830.102.646-7 | C20: ERNESTO JOSE GARRIDO BARLETTA 79779395 | D20: ERNESTO JOSE GARRIDO BARLETTA 100% | E20: 9262010 - 3144113114 | F20: Cra 58 # 127-59 Of. 379 | G20: oper.esivans@gmail.com | H20: Bogotá D.C.
A21: 19 | B21: UT. ENTERRITORIO JG 20 N/A | C21: MAURICIO EUGENIO BETANCOURT HERNANDEZ 16.703.362 | D21: TRANSPORTES ESPECIALIZADOS JR S.A.S 50% RANSPORTES GALAXIA S.A 50% | E21: 3142082641 | F21: CALLE 81 NO.92-10 | G21: paola.suarez@transportesjr.com.co | H21: Bogotá D.C.
A22: 20 | B22: ASOCIACION DE TRANSPORTADORES ESPECIALES AS TRANSPORTES 811.036.515-9 | C22: DIDIER OCHOA ARISTIZABAL 71.772.022 | D22: ASOCIACION DE TRANSPORTADORES ESPECIALES AS TRANSPORTES 100% | E22: 3183540340 | F22: CARRERA 69 #49-06 | G22: comercialzonacentro@astransportes.net | H22: Medellín
A23: 21 | B23: ESTURIVANNS S.A.S 830038996-6 | C23: MARIA DEL CARMEN SALAS CASTRO 51.647.622 | D23: ESTURIVANNS S.A.S 100% | E23: 3105509780 | F23: CRA. 7 N° 37-25 OFICINA 402 | G23: licitaciones@esturivanns.com | H23: Bogotá D.C.
A24: 22 | B24: Organización ORT S.A.S 830.099.803 – 4 | C24: Gonzalo López Pinto 14324756 | D24: Organización ORT S.A.S 100% | E24: 5559260 Ext 914 | F24: Calle 73 No. 75 - 55 | G24: Licitar.3@ortsas.com | H24: Bogotá D.C.
A25: 23 | B25: COOPERATIVA MULTIACTIVA AL SERVICIO DEL TRANSPORTE, LA MOVILIDAD Y LOGÍSTICA – TML COLOMBIA 830.111.836-8 | C25: Nubia Yanneth Ladino Ochoa 51.707.493 | D25: COOPERATIVA MULTIACTIVA AL SERVICIO DEL TRANSPORTE, LA MOVILIDAD Y LOGÍSTICA – TML COLOMBIA 100% | E25: 3183568263 | F25: Carrera 50 # 79-55 | G25: yanneth.ladino@gruposattis.com, andrea.nieto@gruposattis.com | H25: Bogotá D.C.
A26: 24 | B26: LINEAS ESCOLARES Y TURISMO S.A - LIDERTUR S.A 800.126.471-1 | C26: LIDA CHACON ORJUELA 52.493.549 | D26: LINEAS ESCOLARES Y TURISMO S.A - LIDERTUR S.A 100% | E26: 3155457995 | F26: CR 68A N.67B-10 | G26: comercial@lidertur.com.co | H26: Bogotá D.C.
A27: 25 | B27: Fundación Ways Of Hope 900.251.399-4 | C27: Ana Lucia Sánchez Rodriguez 1’018.420.242 | D27: Fundación Ways Of Hope 100% | E27: 320 8861905 | F27: Calle 68b bis #7c-95 | G27: N/A | H27: Bogotá D.C.

Sheet Resumen Evaluación
