Workbook

Sheet CONTRATO 
C1: MEDELLIN | F1: CENTRO DE DIAGNOSTICO AUTOMOTOR AUTOFULL SAS
A2: Item | B2: Código UNSPSC | C2: Descripción | D2: Cantidad | E2: Unidad | F2: Valor unitario | G2: Valor total | I2: ASIGNADO | J2: 167469873
C3: VEHICULOS PARTICULARES | F3: INCLUIDO VALOR BASE + IVA + RUNT + SICOV + IVA + RECAUDO+ IVA + ANSV | I3: CONTRATADO INCLUIDO MODIFICATORIO 1 | J3: =+G37 -> 127640134
C4: MOTOCICLETAS | J4: =J2-G37 -> 39829739
A5: 1 | B5: 78181505 | C5: Revisión técnico mecánica motos con RUNT Modelo 2018 a 2022 | D5: 120 | E5: UN | F5: 204789 | G5: =F5*D5 -> 24574680
A6: 2 | B6: 78181505 | C6: Revisión técnico mecánica motos con RUNT Modelo 2009 a 2017 | D6: 51 | E6: UN | F6: 205089 | G6: =F6*D6 -> 10459539
C7: LIVIANOS
A8: 3 | B8: 78181505 | C8: Revisión técnico mecánica vehiculo liviano particular con RUNT Modelo 2018 a 2022 | D8: 12 | E8: UN | F8: 299868 | G8: =F8*D8 -> 3598416
A9: 4 | B9: 78181505 | C9: Revisión técnico mecánica vehiculo liviano particular con RUNT Modelo 2009 a 2017 | D9: 51 | E9: UN | F9: 300168 | G9: =F9*D9 -> 15308568
A10: 5 | B10: 78181505 | C10: Revisión técnico mecánica vehiculo liviano particular con RUNT Modelo 2008 y anteriores | D10: 5 | E10: UN | F10: 299868 | G10: =F10*D10 -> 1499340
C11: PESADOS
A12: 6 | B12: 78181505 | C12: Revisión técnico mecánica vehiculo pesado particular con RUNT Modelo 2018 a 2022 | D12: 8 | E12: UN | F12: 451683 | G12: =F12*D12 -> 3613464
A13: 7 | B13: 78181505 | C13: Revisión técnico mecánica vehiculo pesado particular con RUNT Modelo 2009 a 2017 | D13: 32 | E13: UN | F13: 451883 | G13: =F13*D13 -> 14460256
A14: 8 | B14: 78181505 | C14: Revisión técnico mecánica vehiculo pesado particular con RUNT Modelo 2008 y anteriores | D14: 30 | E14: UN | F14: 451683 | G14: =F14*D14 -> 13550490
C15: VEHICULOS SERVICIO PUBLICO
C16: PESADOS
A17: 9 | B17: 78181505 | C17: Revisión técnico mecánica vehiculo pesado público con RUNT Modelo 2009 a 2017 | D17: 22 | E17: UN | F17: 451383 | G17: =F17*D17 -> 9930426
A18: 10 | B18: 78181505 | C18: Revisión técnico mecánica vehiculo pesado público con RUNT Modelo 2008 y anteriores | D18: 15 | E18: UN | F18: 451183 | G18: =F18*D18 -> 6767745
C19: TOTAL MEDELLIN | G19: =SUM(G5:G18) -> 103762924
C20: PUERTO BERRIO | F20: CENTRO DE DIAGNOSTICO AUTOMOTOR AUTOFULL SAS
A21: Item | B21: Código UNSPSC | C21: Descripción | D21: Cantidad | E21: Unidad | F21: Valor unitario | G21: Valor total
C22: VEHICULOS PARTICULARES | F22: INCLUIDO VALOR BASE + IVA + RUNT + SICOV + IVA + RECAUDO+ IVA + ANSV
C23: MOTOCICLETAS
A24: 2 | B24: 78181505 | C24: Revisión técnico mecánica motos con RUNT Modelo 2018 a 2022 | D24: 8 | E24: UN | F24: 204789 | G24: =F24*D24 -> 1638312
A25: 3 | B25: 78181505 | C25: Revisión técnico mecánica motos con RUNT Modelo 2009 a 2017 | D25: 5 | E25: UN | F25: 205089 | G25: =F25*D25 -> 1025445
C26: LIVIANOS
A27: 7 | B27: 78181505 | C27: Revisión técnico mecánica vehiculo liviano particular con RUNT Modelo 2009 a 2017 | D27: 10 | E27: UN | F27: 300168 | G27: =F27*D27 -> 3001680
A28: 8 | B28: 78181505 | C28: Revisión técnico mecánica vehiculo liviano particular con RUNT Modelo 2008 y anteriores | D28: 2 | E28: UN | F28: 299868 | G28: =F28*D28 -> 599736
C29: PESADOS
A30: 11 | B30: 78181505 | C30: Revisión técnico mecánica vehiculo pesado particular con RUNT Modelo 2009 a 2017 | D30: 15 | E30: UN | F30: 451883 | G30: =F30*D30 -> 6778245
A31: 12 | B31: 78181505 | C31: Revisión técnico mecánica vehiculo pesado particular con RUNT Modelo 2008 y anteriores | D31: 8 | E31: UN | F31: 451683 | G31: =F31*D31 -> 3613464
C32: VEHICULOS SERVICIO PUBLICO
C33: PESADOS
A34: 19 | B34: 78181505 | C34: Revisión técnico mecánica vehiculo pesado público con RUNT Modelo 2009 a 2017 | D34: 7 | E34: UN | F34: 451383 | G34: =F34*D34 -> 3159681
A35: 20 | B35: 78181505 | C35: Revisión técnico mecánica vehiculo pesado público con RUNT Modelo 2008 y anteriores | D35: 9 | E35: UN | F35: 451183 | G35: =F35*D35 -> 4060647
C36: TOTAL PUERTO BERRIO | G36: =SUM(G24:G35) -> 23877210
C37: TOTAL CONTRATO | G37: =G36+G19 -> 127640134

Sheet GRUPO UNO
A1: CUARTA BRIGADA | O1: 55 | P1: 32 | Q1: Revisión técnico mecánica vehiculo pesado particular con RUNT Modelo 2009 a 2017
A3: MODELO | B3: FECHA DE VENCIMIENTO | C3: TIPO DE VEHICULO | D3: PLACA MILITAR | E3: PLACA CIVIL | F3: PLACA AMARILLA (particular) | G3: PLACA BLANCA (publico) | H3: CENTRO DE COSTO | I3: No. ACTIVO FIJO | J3: No. INVENTARIO | K3: PRESUPUESTO ASIGNADO | L3: PRESUPUESTO A COMPROMETER | M3: EXCEDENTE Y/O FALTANTE
A4: 2013 | B4: 45963 | C4: CAMIONETA - HILUX 4X4, TOYOTA | D4: C13744 | E4: GAL059 | F4: x | H4: 3M2H161220 | I4: 167500000733 | J4: 8004030000000000002220906 | K4: 350125 | L4: 300168 | M4: =+K4-L4 -> 49957
A5: 2020 | B5: 45957 | C5: MOTOCICLETA - DR-X SUZUKI | D5: F20076 | E5: BLN99F | F5: x | H5: 3M2H161359 | I5: 167500001331 | J5: 8004030000000000002718147 | K5: 233529 | L5: 204789 | M5: =+K5-L5 -> 28740
A6: 2020 | B6: 45912 | C6: MOTOCICLETA - DR-X SUZUKI | D6: F20077 | E6: BLO90F | F6: x | H6: 3M2H161360 | I6: 167500001332 | J6: 8004030000000000002718148 | K6: 233529 | L6: 204789 | M6: =+K6-L6 -> 28740
A7: 2014 | B7: 45957 | C7: MOTOCICLETA - XTZ250 YAMAHA | D7: F14342 | E7: NGF02C | F7: x | H7: 3M2H161218 | I7: 167500000731 | J7: 8004030000000000002220751 | K7: 233529 | L7: 205089 | M7: =+K7-L7 -> 28440
A8: 2014 | B8: 45948 | C8: MOTOCICLETA - XTZ250, YAMAHA | D8: F14344 | E8: NGF04C | F8: x | H8: 3M2H161211 | I8: 167500000724 | J8: 8004030000000000002220757 | K8: 233529 | L8: 205089 | M8: =+K8-L8 -> 28440
A9: 2014 | B9: 45957 | C9: MOTOCICLETA - XTZ250, YAMAHA | D9: F14345 | E9: NGF05C | F9: x | H9: 3M2H161216 | I9: 167500000729 | J9: 8004030000000000002220752 | K9: 233529 | L9: 205089 | M9: =+K9-L9 -> 28440
A10: 2014 | B10: 45948 | C10: MOTOCICLETA - XTZ250, YAMAHA | D10: F14349 | E10: NGF09C | F10: x | H10: 3M2H161210 | I10: 167500000723 | J10: 8004030000000000002220756 | K10: 233529 | L10: 205089 | M10: =+K10-L10 -> 28440
A11: 2014 | B11: 45957 | C11: MOTOCICLETA - XTZ250, YAMAHA | D11: F14350 | E11: NGF10C | F11: x | H11: 3M2H161212 | I11: 167500000725 | J11: 8004030000000000002220759 | K11: 233529 | L11: 205089 | M11: =+K11-L11 -> 28440
A12: 2014 | B12: 45951 | C12: MOTOCICLETA - XTZ250, YAMAHA | D12: F14351 | E12: NGF11C | F12: x | H12: 3M2H161215 | I12: 167500000728 | J12: 8004030000000000002220758 | K12: 233529 | L12: 205089 | M12: =+K12-L12 -> 28440
A13: 2018 | B13: 45948 | C13: MOTOCICLETA - XTZ250, YAMAHA | D13: F18280 | E13: VMU93E | F13: x | H13: 3M2H161361 | I13: 167500001302 | J13: 8004030000000000002719812 | K13: 233529 | L13: 204789 | M13: =+K13-L13 -> 28740
A14: 2013 | B14: 45957 | C14: MOTOCICLETA - ECO DELUXE ES, HONDA | D14: F13696 | E14: CHV40C | F14: x | H14: 3M2H161150 | I14: 167500000555 | J14: 8004030000000000001985282 | K14: 233529 | L14: 205089 | M14: =+K14-L14 -> 28440
A15: 2005 | B15: 45964 | C15: CAMION 3 A 7 TON, NPR CHEVROLET | D15: K05294 | E15: TPR010 | G15: x | H15: 3M2H160860 | I15: 167500000148 | J15: 8004030000000000000094513 | K15: 536364 | L15: 451183 | M15: =+K15-L15 -> 85181
A16: 2005 | B16: 45942 | C16: CAMION 3 A 7 TON, NPR CHEVROLET | D16: K05295 | E16: TPR014 | G16: x | H16: 3M2H160861 | I16: 167500000149 | J16: 8004030000000000000094522 | K16: 536364 | L16: 451183 | M16: =+K16-L16 -> 85181
A17: 2005 | B17: 45971 | C17: CAMION 3 A 7 TON, NPR CHEVROLET | D17: K05296 | E17: UAM810 | G17: x | H17: 3M2H160862 | I17: 167500000150 | J17: 8004030000000000000372996 | K17: 536364 | L17: 451183 | M17: =+K17-L17 -> 85181
A18: 2005 | B18: 45990 | C18: CAMION 3 A 7 TON, NPR CHEVROLET | D18: K05297 | E18: UAM811 | G18: x | H18: 3M2H160863 | I18: 167500000151 | J18: 8004030000000000000375384 | K18: 536364 | L18: 451183 | M18: =+K18-L18 -> 85181
A19: 2005 | B19: 45948 | C19: CAMION 3 A 7 TON, NPR CHEVROLET | D19: K05301 | E19: UYR006 | G19: x | H19: 3M2H160867 | I19: 167500000155 | J19: 8004030000000000000373024 | K19: 536364 | L19: 451183 | M19: =+K19-L19 -> 85181
A20: 2005 | B20: 45996 | C20: CAMION 3 A 7 TON, NPR CHEVROLET | D20: K05303 | E20: VCF115 | G20: x | H20: 3M2H160869 | I20: 167500000157 | J20: 8004030000000000000085635 | K20: 536364 | L20: 451183 | M20: =+K20-L20 -> 85181
A21: BAEEV 4 | K21: =SUM(K4:K20) -> 5903599 | L21: =SUM(L4:L20) -> 5057256 | M21: =SUM(M4:M20) -> 846343
A22: MODELO | B22: FECHA DE VENCIMIENTO | C22: TIPO DE VEHICULO | D22: PLACA MILITAR | E22: PLACA CIVIL | F22: PLACA AMARILLA (particular) | G22: PLACA BLANCA (publico) | H22: CENTRO DE COSTO | I22: No. ACTIVO FIJO | J22: No. INVENTARIO | K22: VALOR | M22: EXCEDENTE Y/O FALTANTE
A23: 2003 | B23: 45942 | C23: CAMION KODIAK | D23: N03381 | E23: AUS036 | F23: X | H23: 3M2H160895 | I23: 167500000180 | J23: 8004030000000000000086136 | K23: 536364 | L23: 451683 | M23: =+K23-L23 -> 84681
A24: 2001 | B24: 45938 | C24: CAMION KODIAK | D24: N01044 | E24: SHI170 | F24: X | H24: 3M2H161257 | I24: 167500000817 | J24: 8004030000000000000207468 | K24: 536364 | L24: 451683 | M24: =+K24-L24 -> 84681
A25: 1998 | B25: 45857 | C25: CAMION KODIAK | D25: N98291 | E25: OMK341 | F25: X | H25: 3M2H160897 | I25: 167500000165 | J25: 8004030000000000000094957 | K25: 536364 | L25: 451683 | M25: =+K25-L25 -> 84681
A26: 2008 | B26: N/A | C26: CAMION KODIAK | D26: N08309 | E26: UTX037 | F26: X | H26: 3M2H160896 | I26: 167500000229 | J26: 8004030000000000000559899 | K26: 536364 | L26: 451683 | M26: =+K26-L26 -> 84681
A27: 2008 | B27: 45979 | C27: CAMIONETA LUV D' MAX | D27: C08079 | E27: QYA609 | F27: X | H27: 3M2H160885 | I27: 167500000218 | J27: 8004030000000000000440248 | K27: 350125 | L27: 299868 | M27: =+K27-L27 -> 50257
A28: 2014 | B28: 45974 | C28: CAMIONETA LUV D' MAX | D28: C14632 | E28: DIW975 | F28: X | H28: 3M2H161190 | I28: 167500000669 | J28: 8004030000000000002113994 | K28: 350125 | L28: 300168 | M28: =+K28-L28 -> 49957
A29: 2014 | B29: 45983 | C29: CAMIONETA LUV D' MAX | D29: C14631 | E29: DIW974 | F29: X | H29: 3M2H161191 | I29: 167500000670 | J29: 8004030000000000002113995 | K29: 350125 | L29: 300168 | M29: =+K29-L29 -> 49957
A30: 2010 | B30: 45966 | C30: CAMION NPR | D30: K10053 | E30: UIP143 | F30: X | H30: 3M2H160892 | I30: 167500000280 | J30: 8004030000000000001091384 | K30: 536364 | L30: 451883 | M30: =+K30-L30 -> 84481
A31: 2010 | B31: 45987 | C31: CAMION NPR | D31: K10054 | E31: UZQ132 | F31: X | H31: 3M2H160888 | I31: 167500000281 | J31: 8004030000000000001091385 | K31: 536364 | L31: 451883 | M31: =+K31-L31 -> 84481
A32: 2003 | B32: 45975 | C32: CAMION NPR | D32: K03158 | E32: KGJ683 | F32: X | H32: 3M2H160889 | I32: 167500000233 | J32: 8004030000000000000793581 | K32: 536364 | L32: 451683 | M32: =+K32-L32 -> 84681
A33: 2003 | B33: 45966 | C33: CAMION NPR | D33: K03160 | E33: LHA661 | F33: X | H33: 3M2H160890 | I33: 167500000234 | J33: 8004030000000000000793582 | K33: 536364 | L33: 451683 | M33: =+K33-L33 -> 84681
A34: 2014 | B34: 45912 | C34: CAMION NPR | D34: K14628 | E34: NDC761 | F34: X | H34: 3M2H161194 | I34: 167500000674 | J34: 8004030000000000002113999 | K34: 536364 | L34: 451883 | M34: =+K34-L34 -> 84481
A35: 2014 | B35: 45923 | C35: CAMION NPR | D35: K14629 | E35: NDC762 | F35: X | H35: 3M2H161192 | I35: 167500000672 | J35: 8004030000000000002113997 | K35: 536364 | L35: 451883 | M35: =+K35-L35 -> 84481
A36: 2014 | B36: 45955 | C36: CAMION NPR | D36: K14627 | E36: NDC760 | F36: X | H36: 3M2H161193 | I36: 167500000673 | J36: 8004030000000000002113998 | K36: 536364 | L36: 451883 | M36: =+K36-L36 -> 84481
A37: 2018 | B37: 45980 | C37: MOTOCICLETA XTZ250 | D37: F18299 | E37: VMU97E | F37: X | H37: 3M2H04109 | I37: 167500001433 | J37: 8004030000000000002821367 | K37: 233529 | L37: 204789 | M37: =+K37-L37 -> 28740
A38: 2018 | B38: 05/112025 | C38: MOTOCICLETA XTZ250 | D38: F18296 | E38: VMU84E | F38: X | H38: 3M2H04106 | I38: 167500001430 | J38: 8004030000000000002821364 | K38: 233529 | L38: 204789 | M38: =+K38-L38 -> 28740
A39: 2018 | B39: 45980 | C39: MOTOCICLETA XTZ250 | D39: F18298 | E39: VMU86E | F39: X | H39: 3M2H04108 | I39: 167500001432 | J39: 8004030000000000002821366 | K39: 233529 | L39: 204789 | M39: =+K39-L39 -> 28740
A40: 2018 | B40: 45980 | C40: MOTOCICLETA XTZ250 | D40: F18297 | E40: VMU85E | F40: X | H40: 3M2H04107 | I40: 167500001431 | J40: 8004030000000000002821365 | K40: 233529 | L40: 204789 | M40: =+K40-L40 -> 28740
A41: 2017 | B41: 45987 | C41: MOTOCICLETA XTZ250 | D41: F17223 | E41: RVH35D | F41: X | H41: 3M2H04100 | I41: 167500000886 | J41: 8004030000000000002524396 | K41: 233529 | L41: 205089 | M41: =+K41-L41 -> 28440
...

Sheet REDUCCION Y ADICION
A1: MEDELLIN | P1: MEDELLIN
A2: MODELO | B2: FECHA DE VENCIMIENTO | C2: TIPO DE VEHICULO | D2: PLACA MILITAR | E2: PLACA CIVIL | F2: PLACA AMARILLA (particular) | G2: PLACA BLANCA (publico) | H2: CENTRO DE COSTO | I2: No. ACTIVO FIJO | J2: No. INVENTARIO | K2: VALOR A REDUCIR | N2: 8 | O2: 78181505 | P2: Revisión técnico mecánica vehiculo pesado particular con RUNT Modelo 2008 y anteriores | Q2: =31-1 -> 30 | R2: UN | S2: 451683 | T2: =S2*Q2 -> 13550490
A3: BIOSP
A4: 2006 | B4: 45581 | C4: CAMION 3 A 7 TON CHEVROLET NPR | D4: EJC-K-06207 | E4: OKA684 | F4: x | H4: 3M2H160965 | I4: 167500000194. | J4: 8004030000000000000382590. | K4: =451683-R19 -> 437322 | N4: 4 | O4: 78181505 | P4: Revisión técnico mecánica vehiculo liviano particular con RUNT Modelo 2009 a 2017 | Q4: =55-3-1 -> 51 | R4: UN | S4: 300168 | T4: =S4*Q4 -> 15308568
A5: BASPC 04 | P5: MOTOCICLETAS
A6: 2016 | B6: 45926 | C6: CAMIONETA KOLEOS | D6: D16009 | E6: FDY099 | F6: X | H6: 3M2H01200 | I6: 167500O00846 | J6: 8004030000000000002439383 | K6: 300168 | N6: 1 | O6: 78181505 | P6: Revisión técnico mecánica motos con RUNT Modelo 2018 a 2022 | Q6: =121-1 -> 120 | R6: UN | S6: 204789 | T6: =S6*Q6 -> 24574680
A7: 2015 | B7: 45920 | C7: CAMIONETA DUSTER DYNAMIQUE | D7: C15032 | E7: EAN061 | F7: X | H7: 3M2H161271 | I7: 16750000O837 | J7: 8004030000000000002355944 | K7: 300168 | N7: 2 | O7: 78181505 | P7: Revisión técnico mecánica motos con RUNT Modelo 2009 a 2017 | Q7: =54-3 -> 51 | R7: UN | S7: 205089 | T7: =S7*Q7 -> 10459539
A8: 2016 | B8: 45905 | C8: CAMIONETA KOLEOS | D8: D16007 | E8: EAO039 | F8: X | H8: 3M2H161267 | I8: 1675000O1574 | J8: 8004030000000000002398803 | K8: 300168 | P8: PUERTO BERRIO
A9: VALOR A REDUCIR - BASPC 04 | K9: =SUM(K6:K8) -> 900504 | N9: 3 | O9: 78181505 | P9: Revisión técnico mecánica motos con RUNT Modelo 2009 a 2017 | Q9: =7-2 -> 5 | R9: UN | S9: 205089 | T9: =S9*Q9 -> 1025445
A10: BINUT
A11: 2011 | B11: 45901 | C11: CAMIONETA FORD RANGER | D11: C11159 | E11: DIN334 | F11: X | H11: 3M2H160817 | I11: 167500000527 | J11: 8004030000000000001746906 | K11: 300168 | N11: ADICION
A12: 2018 | B12: 45932 | C12: MOTOCICLETA YAMAHA XTZ 250 | D12: F18218 | E12: RVO91D | F12: X | H12: 3M2H160922 | I12: 167500000979 | J12: 8004030000000000002601233 | K12: 204789 | N12: 3 | O12: 78181505 | P12: Revisión técnico mecánica vehiculo liviano particular con RUNT Modelo 2018 a 2022 | Q12: =11+1 -> 12 | R12: UN | S12: 299868 | T12: =S12*Q12 -> 3598416
A13: VALOR A REDUCIR - BINUT | K13: =SUM(K11:K12) -> 504957
A14: BAEEV 08
A15: 2015 | B15: 45566 | C15: MOTOCICLETA YAMAHA XTZ 250 | D15: F15780 | E15: RRH23D | F15: x | H15: 3M2H206509 | I15: 167500001032 | J15: 8004030000000000002384762 | K15: =+S7 -> 205089
A16: 2015 | B16: 45566 | C16: MOTOCICLETA YAMAHA XTZ 660 | D16: F16015 | E16: RTC15D | F16: x | H16: 3M2H206516 | I16: 167500000265 | J16: 8004030000000000002412964 | K16: 205089
A17: 2015 | B17: 45566 | C17: MOTOCICLETA YAMAHA XTZ 660 | D17: F16016 | E17: RTC16D | F17: x | H17: 3M2H206517 | I17: 167500000266 | J17: 8004030000000000002412965 | K17: 205089
A18: VALOR A REDUCIR - BAEEV8 | K18: =SUM(K15:K17) -> 615267 | L18: 2472411 | P18: ASIGNADO A BIDEH | Q18: VALOR CONTRATO | R18: REASIGNADO DEL BIOSP AL BIDEH
A19: VALOR A REDUCIR - MEDELLIN | K19: =K18+K13+K9+K4 -> 2458050 | L19: =L18-R19 -> 2458050 | P19: 285507 | Q19: 299868 | R19: =Q19-P19 -> 14361
A20: PUERTO BERRIO
A21: BICAB 14
A22: MODELO | B22: FECHA DE VENCIMIENTO | C22: TIPO DE VEHICULO | D22: PLACA MILITAR | E22: PLACA CIVIL | F22: PLACA AMARILLA (particular) | G22: PLACA BLANCA (publico) | H22: CENTRO DE COSTO | I22: No. ACTIVO FIJO | J22: No. INVENTARIO | K22: VALOR A REDUCIR
A23: 2014 | B23: VENCIDA | C23: MOTOCICLETA | D23: F14221 | E23: NGF45C | F23: X | H23: 3M2H206498 | I23: 167500001608 | J23: 8004030000000000002248022 | K23: 205089 | M23: BRIGADAS | N23: CONTRATO INICIALINICIAL | O23: CONTRATO INICIAL APLICADA REDUCCION | P23: VALOR A REDUCIR
A24: 2015 | B24: 45982 | C24: MOTOCICLETA | D24: F15791 | E24: RRH22D | F24: X | H24: 3M2H206424 | I24: 167500001283 | J24: 8004030000000000002384761 | K24: 205089 | M24: MEDELLIN | N24: 105935467 | O24: =N24-K19 -> 103477417 | P24: =N24-O24 -> 2458050
A25: VALOR A REDUCIR - PUERTO BERRIO | K25: =SUM(K23:K24) -> 410178 | M25: PUERTO BERRIO | N25: 24287388 | O25: =N25-K25 -> 23877210 | P25: =N25-O25 -> 410178
A26: VALOR TOTAL A REDUCIR DEL CONTRATO | K26: =K25+K19 -> 2868228 | M26: TOTAL | N26: 130222855 | O26: =SUM(O24:O25) -> 127354627 | P26: =SUM(P24:P25) -> 2868228
A28: ADICION No. 1
A29: MEDELLIN
A30: MODELO | B30: FECHA DE VENCIMIENTO | C30: TIPO DE VEHICULO | D30: PLACA MILITAR | E30: PLACA CIVIL | F30: PLACA AMARILLA (particular) | G30: PLACA BLANCA (publico) | H30: CENTRO DE COSTO | I30: No. ACTIVO FIJO | J30: No. INVENTARIO | K30: VALOR ADICIONAR
A31: BIDEH
A32: 2018 | B32: 45805 | C32: DUSTER DINAMYQUE | D32: EJ-00012 | E32: YZU057 | F32: x | H32: 3M2H207074 | I32: 167500001664 | J32: 8004030000000000002580525 | K32: =+P19 -> 285507
A33: VALOR REASIGNADO Y NO SE REDUCIDO DEL BIOSP
A34: BIOSP
A35: 2006 | B35: 45581 | C35: CAMION 3 A 7 TON CHEVROLET NPR | D35: EJC-K-06207 | E35: OKA684 | F35: x | H35: 3M2H160965 | I35: 167500000194. | J35: 8004030000000000000382590. | K35: =+R19 -> 14361
A36: RECURSOS DEFINITIVOS A CUBRIR NECESIDAD DEL BIDEH | K36: =SUM(K32:K35) -> 299868

Sheet UND MEDELLIN
A1: GRUPO MEDELLIN: UNIDADES DE LA CUARTA BRIGADA (BR04), INCLUIDO BAEEV8 Y UNIDADES INDEPENDIENTES
A2: CUARTA BRIGADA
A3: BAEEV 4
A4: MODELO | B4: FECHA DE VENCIMIENTO | C4: TIPO DE VEHICULO | D4: PLACA MILITAR | E4: PLACA CIVIL | F4: PLACA AMARILLA (particular) | G4: PLACA BLANCA (publico) | H4: CENTRO DE COSTO | I4: No. ACTIVO FIJO | J4: No. INVENTARIO
A5: 2013 | B5: 45963 | C5: CAMIONETA - HILUX 4X4, TOYOTA | D5: C13744 | E5: GAL059 | F5: x | H5: 3M2H161220 | I5: 167500000733 | J5: 8004030000000000002220906
A6: 2020 | B6: 45957 | C6: MOTOCICLETA - DR-X SUZUKI | D6: F20076 | E6: BLN99F | F6: x | H6: 3M2H161359 | I6: 167500001331 | J6: 8004030000000000002718147
A7: 2020 | B7: 45912 | C7: MOTOCICLETA - DR-X SUZUKI | D7: F20077 | E7: BLO90F | F7: x | H7: 3M2H161360 | I7: 167500001332 | J7: 8004030000000000002718148
A8: 2014 | B8: 45957 | C8: MOTOCICLETA - XTZ250 YAMAHA | D8: F14342 | E8: NGF02C | F8: x | H8: 3M2H161218 | I8: 167500000731 | J8: 8004030000000000002220751
A9: 2014 | B9: 45948 | C9: MOTOCICLETA - XTZ250, YAMAHA | D9: F14344 | E9: NGF04C | F9: x | H9: 3M2H161211 | I9: 167500000724 | J9: 8004030000000000002220757
A10: 2014 | B10: 45957 | C10: MOTOCICLETA - XTZ250, YAMAHA | D10: F14345 | E10: NGF05C | F10: x | H10: 3M2H161216 | I10: 167500000729 | J10: 8004030000000000002220752
A11: 2014 | B11: 45948 | C11: MOTOCICLETA - XTZ250, YAMAHA | D11: F14349 | E11: NGF09C | F11: x | H11: 3M2H161210 | I11: 167500000723 | J11: 8004030000000000002220756
A12: 2014 | B12: 45957 | C12: MOTOCICLETA - XTZ250, YAMAHA | D12: F14350 | E12: NGF10C | F12: x | H12: 3M2H161212 | I12: 167500000725 | J12: 8004030000000000002220759
A13: 2014 | B13: 45951 | C13: MOTOCICLETA - XTZ250, YAMAHA | D13: F14351 | E13: NGF11C | F13: x | H13: 3M2H161215 | I13: 167500000728 | J13: 8004030000000000002220758
A14: 2018 | B14: 45948 | C14: MOTOCICLETA - XTZ250, YAMAHA | D14: F18280 | E14: VMU93E | F14: x | H14: 3M2H161361 | I14: 167500001302 | J14: 8004030000000000002719812
A15: 2013 | B15: 45957 | C15: MOTOCICLETA - ECO DELUXE ES, HONDA | D15: F13696 | E15: CHV40C | F15: x | H15: 3M2H161150 | I15: 167500000555 | J15: 8004030000000000001985282
A16: 2005 | B16: 45964 | C16: CAMION 3 A 7 TON, NPR CHEVROLET | D16: K05294 | E16: TPR010 | G16: x | H16: 3M2H160860 | I16: 167500000148 | J16: 8004030000000000000094513
A17: 2005 | B17: 45942 | C17: CAMION 3 A 7 TON, NPR CHEVROLET | D17: K05295 | E17: TPR014 | G17: x | H17: 3M2H160861 | I17: 167500000149 | J17: 8004030000000000000094522
A18: 2005 | B18: 45971 | C18: CAMION 3 A 7 TON, NPR CHEVROLET | D18: K05296 | E18: UAM810 | G18: x | H18: 3M2H160862 | I18: 167500000150 | J18: 8004030000000000000372996
A19: 2005 | B19: 45990 | C19: CAMION 3 A 7 TON, NPR CHEVROLET | D19: K05297 | E19: UAM811 | G19: x | H19: 3M2H160863 | I19: 167500000151 | J19: 8004030000000000000375384
A20: 2005 | B20: 45948 | C20: CAMION 3 A 7 TON, NPR CHEVROLET | D20: K05301 | E20: UYR006 | G20: x | H20: 3M2H160867 | I20: 167500000155 | J20: 8004030000000000000373024
A21: 2005 | B21: 45996 | C21: CAMION 3 A 7 TON, NPR CHEVROLET | D21: K05303 | E21: VCF115 | G21: x | H21: 3M2H160869 | I21: 167500000157 | J21: 8004030000000000000085635
A22: BAACA 4
A23: MODELO | B23: FECHA DE VENCIMIENTO | C23: TIPO DE VEHICULO | D23: PLACA MILITAR | E23: PLACA CIVIL | F23: PLACA AMARILLA (particular) | G23: PLACA BLANCA (publico) | H23: CENTRO DE COSTO | I23: No. ACTIVO FIJO | J23: No. INVENTARIO
A24: 2003 | B24: 45942 | C24: CAMION KODIAK | D24: N03381 | E24: AUS036 | F24: X | H24: 3M2H160895 | I24: 167500000180 | J24: 8004030000000000000086136
A25: 2001 | B25: 45938 | C25: CAMION KODIAK | D25: N01044 | E25: SHI170 | F25: X | H25: 3M2H161257 | I25: 167500000817 | J25: 8004030000000000000207468
A26: 1998 | B26: 45857 | C26: CAMION KODIAK | D26: N98291 | E26: OMK341 | F26: X | H26: 3M2H160897 | I26: 167500000165 | J26: 8004030000000000000094957
A27: 2008 | B27: N/A | C27: CAMION KODIAK | D27: N08309 | E27: UTX037 | F27: X | H27: 3M2H160896 | I27: 167500000229 | J27: 8004030000000000000559899
A28: 2008 | B28: 45979 | C28: CAMIONETA LUV D' MAX | D28: C08079 | E28: QYA609 | F28: X | H28: 3M2H160885 | I28: 167500000218 | J28: 8004030000000000000440248
A29: 2014 | B29: 45974 | C29: CAMIONETA LUV D' MAX | D29: C14632 | E29: DIW975 | F29: X | H29: 3M2H161190 | I29: 167500000669 | J29: 8004030000000000002113994
A30: 2014 | B30: 45983 | C30: CAMIONETA LUV D' MAX | D30: C14631 | E30: DIW974 | F30: X | H30: 3M2H161191 | I30: 167500000670 | J30: 8004030000000000002113995
A31: 2010 | B31: 45966 | C31: CAMION NPR | D31: K10053 | E31: UIP143 | F31: X | H31: 3M2H160892 | I31: 167500000280 | J31: 8004030000000000001091384
A32: 2010 | B32: 45987 | C32: CAMION NPR | D32: K10054 | E32: UZQ132 | F32: X | H32: 3M2H160888 | I32: 167500000281 | J32: 8004030000000000001091385
A33: 2003 | B33: 45975 | C33: CAMION NPR | D33: K03158 | E33: KGJ683 | F33: X | H33: 3M2H160889 | I33: 167500000233 | J33: 8004030000000000000793581
A34: 2003 | B34: 45966 | C34: CAMION NPR | D34: K03160 | E34: LHA661 | F34: X | H34: 3M2H160890 | I34: 167500000234 | J34: 8004030000000000000793582
A35: 2014 | B35: 45912 | C35: CAMION NPR | D35: K14628 | E35: NDC761 | F35: X | H35: 3M2H161194 | I35: 167500000674 | J35: 8004030000000000002113999
A36: 2014 | B36: 45923 | C36: CAMION NPR | D36: K14629 | E36: NDC762 | F36: X | H36: 3M2H161192 | I36: 167500000672 | J36: 8004030000000000002113997
A37: 2014 | B37: 45955 | C37: CAMION NPR | D37: K14627 | E37: NDC760 | F37: X | H37: 3M2H161193 | I37: 167500000673 | J37: 8004030000000000002113998
A38: 2018 | B38: 45980 | C38: MOTOCICLETA XTZ250 | D38: F18299 | E38: VMU97E | F38: X | H38: 3M2H04109 | I38: 167500001433 | J38: 8004030000000000002821367
A39: 2018 | B39: 05/112025 | C39: MOTOCICLETA XTZ250 | D39: F18296 | E39: VMU84E | F39: X | H39: 3M2H04106 | I39: 167500001430 | J39: 8004030000000000002821364
A40: 2018 | B40: 45980 | C40: MOTOCICLETA XTZ250 | D40: F18298 | E40: VMU86E | F40: X | H40: 3M2H04108 | I40: 167500001432 | J40: 8004030000000000002821366
...

Sheet GRUPO DOS
A1: DECIMA CUARTA BRIGADA
A2: MODELO | B2: FECHA DE VENCIMIENTO | C2: TIPO DE VEHICULO | D2: PLACA MILITAR | E2: PLACA CIVIL | F2: PLACA AMARILLA (particular) | G2: PLACA BLANCA (publico) | H2: CENTRO DE COSTO | I2: No. ACTIVO FIJO | J2: No. INVENTARIO | K2: VALOR | L2: PRESUPUESTO A COMPROMETER | M2: EXCEDENTE Y/O FALTANTE
A3: 2001 | B3: 45962 | C3: CAMION KODIAK | D3: N01035 | E3: SHI191 | G3: X | H3: 3M2H193259 | I3: 167500001210 | J3: 8004030000000000001247886 | K3: 536364 | L3: 451183 | M3: =+K3-L3 -> 85181
A4: 1997 | B4: 45975 | C4: CAMION CARROTANQUE | D4: I97233 | E4: BIB618 | F4: X | H4: 3M2H193260 | I4: 167500001211 | J4: 8004030000000000001247899 | K4: 536364 | L4: 451683 | M4: =+K4-L4 -> 84681
A5: 2003 | B5: 45975 | C5: CAMION KODIAK | D5: N03378 | E5: BNA139 | G5: X | H5: 3M2H193263 | I5: 167500001214 | J5: 8004030000000000001247888 | K5: 536364 | L5: 451183 | M5: =+K5-L5 -> 85181
A6: 2009 | B6: 45981 | C6: CAMION NPR | D6: K09208 | E6: ZTV048 | F6: X | H6: 3M2H193264 | I6: 167500001215 | J6: 8004030000000000001247904 | K6: 536364 | L6: 451883 | M6: =+K6-L6 -> 84481
A7: 2010 | B7: 45975 | C7: CAMION NPR | D7: K10200 | E7: EJK347 | F7: X | H7: 3M2H193266 | I7: 167500001217 | J7: 8004030000000000001247925 | K7: 536364 | L7: 451883 | M7: =+K7-L7 -> 84481
A8: 2010 | B8: 45975 | C8: MOTOCICLETA | D8: F10616 | E8: SQC78B | F8: X | H8: 3M2H193269 | I8: 167500001220 | J8: 8004030000000000001403450 | K8: 233529 | L8: 205089 | M8: =+K8-L8 -> 28440
A9: 2016 | B9: 45975 | C9: AMBULANCIA NISSAN | D9: A16007 | E9: EAO082 | F9: X | H9: 3M2H193278 | I9: 167500001229 | J9: 8004030000000000002412029 | K9: 350125 | L9: 300168 | M9: =+K9-L9 -> 49957
A10: BIBAR | K10: =SUM(K3:K9) -> 3265474 | L10: =SUM(L3:L9) -> 2763072 | M10: =SUM(M3:M9) -> 502402
A11: MODELO | B11: FECHA DE VENCIMIENTO | C11: TIPO DE VEHICULO | D11: PLACA MILITAR | E11: PLACA CIVIL | F11: PLACA AMARILLA (particular) | G11: PLACA BLANCA (publico) | H11: CENTRO DE COSTO | I11: No. ACTIVO FIJO | J11: No. INVENTARIO | K11: VALOR | M11: EXCEDENTE Y/O FALTANTE
A12: 2003 | B12: 45955 | C12: CAMIÓN LIVIANO DE 3 A 7 TON. (ESTACAS), CHEVROLET NPR | D12: K03380 | E12: CEW017 | F12: x | H12: 3M2H206407 | I12: 167500001073 | J12: 8004030000000000001268048 - | K12: 536364 | L12: 451683 | M12: =+K12-L12 -> 84681
A13: 2009 | B13: 45940 | C13: CAMIÓN LIVIANO DE 3 A 7 TON. (ESTACAS), HYUNDAI HD72 | D13: K09204 | E13: SMK535 | G13: x | H13: 3M2H206411 | I13: 167500001069 | J13: 8004030000000000001268063 - | K13: 536364 | L13: 451383 | M13: =+K13-L13 -> 84981
A14: 2010 | B14: 45940 | C14: CAMIÓN LIVIANO DE 3 A 7 TON. (ESTACAS), CHEVROLET NPR | D14: K10049 | E14: UNK047 | G14: x | H14: 3M2H206413 | I14: 167500001067 | J14: 8004030000000000001268065 - | K14: 536364 | L14: 451383 | M14: =+K14-L14 -> 84981
A15: 2010 | B15: 45940 | C15: CAMIÓN LIVIANO DE 3 A 7 TON. (ESTACAS), CHEVROLET NPR | D15: K10048 | E15: VZR748 | G15: x | H15: 3M2H206412 | I15: 167500001068 | J15: 8004030000000000001268064 - | K15: 536364 | L15: 451383 | M15: =+K15-L15 -> 84981
A16: 2002 | B16: 45966 | C16: CAMIÓN LIVIANO DE 3 A 7 TON. (ESTACAS), CHEVROLET NPR | D16: K02108 | E16: WDF000 | G16: x | H16: 3M2H206404 | I16: 167500001076 | J16: 8004030000000000001268044 - | K16: 536364 | L16: 451183 | M16: =+K16-L16 -> 85181
A17: 2007 | B17: 45936 | C17: CAMIÓN MEDIANO DE 7 A 12 TON. (ESTACAS), CHEVROLET KODIAK | D17: N07211 | E17: EXT122 | F17: x | H17: 3M2H206436 | I17: 167500001044 | J17: 8004030000000000000502052 - | K17: 536364 | L17: 451683 | M17: =+K17-L17 -> 84681
A18: 2007 | B18: 45936 | C18: CAMIÓN MEDIANO DE 7 A 12 TON. (ESTACAS), CHEVROLET KODIAK | D18: N07210 | E18: EXT123 | F18: x | H18: 3M2H206437 | I18: 167500001043 | J18: 8004030000000000000502059 - | K18: 536364 | L18: 451683 | M18: =+K18-L18 -> 84681
A19: 2002 | B19: 45936 | C19: CAMIÓN MEDIANO DE 7 A 12 TON. (ESTACAS), CHEVROLET KODIAK | D19: N02138 | E19: IUA010 | G19: x | H19: 3M2H206406 | I19: 167500001074 | J19: 8004030000000000001268046 - | K19: 536364 | L19: 451183 | M19: =+K19-L19 -> 85181
A20: 2011 | B20: 45939 | C20: CAMIÓN MEDIANO DE 7 A 12 TON. (ESTACAS), CHEVROLET FTR | D20: N11081 | E20: VOH306 | G20: x | H20: 3M2H206417 | I20: 167500001063 | J20: 8004030000000000001443881 - | K20: 536364 | L20: 451383 | M20: =+K20-L20 -> 84981
A21: 2013 | B21: 45935 | C21: CAMIONETA CHEVROLET LUV DMAX | D21: C13661 | E21: DIW726 | F21: x | H21: 3M2H206418 | I21: 167500001062 | J21: 8004030000000000002005728 - | K21: 350125 | L21: 300168 | M21: =+K21-L21 -> 49957
A22: 2013 | B22: 45935 | C22: CAMIONETA, CHEVROLET LUV DMAX | D22: C13660 | E22: DIW727 | F22: x | H22: 3M2H206419 | I22: 167500001061 | J22: 8004030000000000002005729 - | K22: 350125 | L22: 300168 | M22: =+K22-L22 -> 49957
A23: 2014 | B23: 45935 | C23: CAMIÓN LIVIANO DE 3 A 7 TON. (ESTACAS), CHEVROLET NPR | D23: K14861 | E23: GAL061 | F23: x | H23: 3M2H206421 | I23: 167500001059 | J23: 8004030000000000002168706 - | K23: 536364 | L23: 451883 | M23: =+K23-L23 -> 84481
A24: 2004 | B24: 45975 | C24: CAMPERO TOYOTA PRADO VXA | D24: D04093 | E24: FDY096 | F24: x | H24: 3M2H206434 | I24: 167500001046 | J24: 8004030000000000002466483 - | K24: 350125 | L24: 299868 | M24: =+K24-L24 -> 50257
A25: 2012 | B25: 45937 | C25: CAMIONETA CHEVROLET LUV DMAX | D25: C15659 | E25: GAW066 | F25: x | H25: 3M2H206426 | I25: 167500001054 | J25: 8004030000000000002384769 - | K25: 350125 | L25: 300168 | M25: =+K25-L25 -> 49957
A26: 2013 | B26: 45948 | C26: MOTOCICLETA, YAMAHA YBR125DX | D26: F13743 | E26: NGD91C | F26: x | H26: 3M2H206423 | I26: 167500001057 | J26: 8004030000000000002267134 - | K26: 233529 | L26: 205089 | M26: =+K26-L26 -> 28440
A27: 2010 | B27: 45924 | C27: AMBULANCIA CHEVROLET LUV DIMAX | D27: A10470 | E27: DOE308 | F27: x | H27: 3M2H206364 | I27: 167500001168 | J27: 8004030000000000001443783 - | K27: 350125 | L27: 300168 | M27: =+K27-L27 -> 49957
A28: 2010 | B28: 45986 | C28: CAMIONETA SUZUKI GRAND VITARA | D28: C10492 | E28: DOE343 | F28: x | H28: 3M2H206416 | I28: 167500001064 | J28: 8004030000000000001443810 - | K28: 350125 | L28: 300168 | M28: =+K28-L28 -> 49957
A29: 2008 | B29: 45953 | C29: CAMIÓN LIVIANO DE 3 A 7 TON. (ESTACAS), CHEVROLET NPR | D29: K08184 | E29: VZD017 | G29: x | H29: 3M2H206414 | I29: 167500000060 | J29: 8004030000000000001268066 | K29: 536364 | L29: 451183 | M29: =+K29-L29 -> 85181
A30: 2010 | B30: 45944 | C30: VOLQUETA 10 MTS, CHEVROLET FTR | D30: R10339 | E30: XYD117 | G30: x | H30: 3M2H206415 | I30: 167500001065 | J30: 8004030000000000001268069 | K30: 536364 | L30: 451383 | M30: =+K30-L30 -> 84981
A31: BASPC 14 | K31: =SUM(K12:K30) -> 8770647 | L31: =SUM(L12:L30) -> 7423193 | M31: =SUM(M12:M30) -> 1347454
A32: MODELO | B32: FECHA DE VENCIMIENTO | C32: TIPO DE VEHICULO | D32: PLACA MILITAR | E32: PLACA CIVIL | F32: PLACA AMARILLA (particular) | G32: PLACA BLANCA (publico) | H32: CENTRO DE COSTO | I32: No. ACTIVO FIJO | J32: No. INVENTARIO | K32: VALOR | M32: EXCEDENTE Y/O FALTANTE
A33: 2003 | B33: 45962 | C33: CAMION | D33: K03366 | E33: BVM054 | F33: X | H33: 3M2H206379 | I33: 167500001145 | J33: 8004030000000000001268080 | K33: 536364 | L33: 451683 | M33: =+K33-L33 -> 84681
A34: 2003 | B34: 45982 | C34: CAMION | D34: N03376 | E34: EJE027 | F34: X | H34: 3M2H206377 | I34: 167500001143 | J34: 8004030000000000001268078 | K34: 536364 | L34: 451683 | M34: =+K34-L34 -> 84681
A35: 2007 | B35: 45981 | C35: CAMIONETA | D35: A07271 | E35: IBZ419 | F35: X | H35: 3M2H206381 | I35: 167500001147 | J35: 8004030000000000001268102 | K35: 350125 | L35: 299868 | M35: =+K35-L35 -> 50257
A36: 2014 | B36: VENCIDA | C36: MOTOCICLETA | D36: F14221 | E36: NGF45C | F36: X | H36: 3M2H206498 | I36: 167500001608 | J36: 8004030000000000002248022 | O36: 233529 | P36: 205089 | Q36: =+O36-P36 -> 28440
A37: 2015 | B37: 45982 | C37: MOTOCICLETA | D37: F15791 | E37: RRH22D | F37: X | H37: 3M2H206424 | I37: 167500001283 | J37: 8004030000000000002384761 | O37: 233529 | P37: 205089 | Q37: =+O37-P37 -> 28440
A38: 2015 | B38: VENCIDA | C38: MOTOCICLETA | D38: F15669 | E38: RRK95D | F38: X | H38: 3M2H206499 | I38: 167500001609 | J38: 8004030000000000002393590 | K38: 233529 | L38: 205089 | M38: =+K38-L38 -> 28440
A39: 2016 | B39: VENCIDA | C39: MOTOCICLETA | D39: F16213 | E39: RTC58D | F39: X | H39: 3M2H206393 | I39: 167500001159 | J39: 8004030000000000002439319 | K39: 233529 | L39: 205089 | M39: =+K39-L39 -> 28440
A40: 2003 | B40: 45982 | C40: CAMION | D40: K03367 | E40: SHI475 | G40: X | H40: 3M2H206378 | I40: 167500001144 | J40: 8004030000000000001268079 | K40: 536364 | L40: 451183 | M40: =+K40-L40 -> 85181
...

Sheet UND PTO BERRIO
A1: GRUPO PUERTO BERRIO. UNIDADES DE LA DECIMA CUARTA BRIGADA EXCLUIDO BAEEV8
A2: DECIMA CUARTA BRIGADA
A3: BIBAR
A4: MODELO | B4: FECHA DE VENCIMIENTO | C4: TIPO DE VEHICULO | D4: PLACA MILITAR | E4: PLACA CIVIL | F4: PLACA AMARILLA (particular) | G4: PLACA BLANCA (publico) | H4: CENTRO DE COSTO | I4: No. ACTIVO FIJO | J4: No. INVENTARIO
A5: 2001 | B5: 45962 | C5: CAMION KODIAK | D5: N01035 | E5: SHI191 | G5: X | H5: 3M2H193259 | I5: 167500001210 | J5: 8004030000000000001247886
A6: 1997 | B6: 45975 | C6: CAMION CARROTANQUE | D6: I97233 | E6: BIB618 | F6: X | H6: 3M2H193260 | I6: 167500001211 | J6: 8004030000000000001247899
A7: 2003 | B7: 45975 | C7: CAMION KODIAK | D7: N03378 | E7: BNA139 | G7: X | H7: 3M2H193263 | I7: 167500001214 | J7: 8004030000000000001247888
A8: 2009 | B8: 45981 | C8: CAMION NPR | D8: K09208 | E8: ZTV048 | F8: X | H8: 3M2H193264 | I8: 167500001215 | J8: 8004030000000000001247904
A9: 2010 | B9: 45975 | C9: CAMION NPR | D9: K10200 | E9: EJK347 | F9: X | H9: 3M2H193266 | I9: 167500001217 | J9: 8004030000000000001247925
A10: 2010 | B10: 45975 | C10: MOTOCICLETA | D10: F10616 | E10: SQC78B | F10: X | H10: 3M2H193269 | I10: 167500001220 | J10: 8004030000000000001403450
A11: 2016 | B11: 45975 | C11: AMBULANCIA NISSAN | D11: A16007 | E11: EAO082 | F11: X | H11: 3M2H193278 | I11: 167500001229 | J11: 8004030000000000002412029
A12: BASPC 14
A13: MODELO | B13: FECHA DE VENCIMIENTO | C13: TIPO DE VEHICULO | D13: PLACA MILITAR | E13: PLACA CIVIL | F13: PLACA AMARILLA (particular) | G13: PLACA BLANCA (publico) | H13: CENTRO DE COSTO | I13: No. ACTIVO FIJO | J13: No. INVENTARIO
A14: 2003 | B14: 45955 | C14: CAMIÓN LIVIANO DE 3 A 7 TON. (ESTACAS), CHEVROLET NPR | D14: K03380 | E14: CEW017 | F14: x | H14: 3M2H206407 | I14: 167500001073 | J14: 8004030000000000001268048 -
A15: 2009 | B15: 45940 | C15: CAMIÓN LIVIANO DE 3 A 7 TON. (ESTACAS), HYUNDAI HD72 | D15: K09204 | E15: SMK535 | G15: x | H15: 3M2H206411 | I15: 167500001069 | J15: 8004030000000000001268063 -
A16: 2010 | B16: 45940 | C16: CAMIÓN LIVIANO DE 3 A 7 TON. (ESTACAS), CHEVROLET NPR | D16: K10049 | E16: UNK047 | G16: x | H16: 3M2H206413 | I16: 167500001067 | J16: 8004030000000000001268065 -
A17: 2010 | B17: 45940 | C17: CAMIÓN LIVIANO DE 3 A 7 TON. (ESTACAS), CHEVROLET NPR | D17: K10048 | E17: VZR748 | G17: x | H17: 3M2H206412 | I17: 167500001068 | J17: 8004030000000000001268064 -
A18: 2002 | B18: 45966 | C18: CAMIÓN LIVIANO DE 3 A 7 TON. (ESTACAS), CHEVROLET NPR | D18: K02108 | E18: WDF000 | G18: x | H18: 3M2H206404 | I18: 167500001076 | J18: 8004030000000000001268044 -
A19: 2007 | B19: 45936 | C19: CAMIÓN MEDIANO DE 7 A 12 TON. (ESTACAS), CHEVROLET KODIAK | D19: N07211 | E19: EXT122 | F19: x | H19: 3M2H206436 | I19: 167500001044 | J19: 8004030000000000000502052 -
A20: 2007 | B20: 45936 | C20: CAMIÓN MEDIANO DE 7 A 12 TON. (ESTACAS), CHEVROLET KODIAK | D20: N07210 | E20: EXT123 | F20: x | H20: 3M2H206437 | I20: 167500001043 | J20: 8004030000000000000502059 -
A21: 2002 | B21: 45936 | C21: CAMIÓN MEDIANO DE 7 A 12 TON. (ESTACAS), CHEVROLET KODIAK | D21: N02138 | E21: IUA010 | G21: x | H21: 3M2H206406 | I21: 167500001074 | J21: 8004030000000000001268046 -
A22: 2011 | B22: 45939 | C22: CAMIÓN MEDIANO DE 7 A 12 TON. (ESTACAS), CHEVROLET FTR | D22: N11081 | E22: VOH306 | G22: x | H22: 3M2H206417 | I22: 167500001063 | J22: 8004030000000000001443881 -
A23: 2013 | B23: 45935 | C23: CAMIONETA CHEVROLET LUV DMAX | D23: C13661 | E23: DIW726 | F23: x | H23: 3M2H206418 | I23: 167500001062 | J23: 8004030000000000002005728 -
A24: 2013 | B24: 45935 | C24: CAMIONETA, CHEVROLET LUV DMAX | D24: C13660 | E24: DIW727 | F24: x | H24: 3M2H206419 | I24: 167500001061 | J24: 8004030000000000002005729 -
A25: 2014 | B25: 45935 | C25: CAMIÓN LIVIANO DE 3 A 7 TON. (ESTACAS), CHEVROLET NPR | D25: K14861 | E25: GAL061 | F25: x | H25: 3M2H206421 | I25: 167500001059 | J25: 8004030000000000002168706 -
A26: 2004 | B26: 45975 | C26: CAMPERO TOYOTA PRADO VXA | D26: D04093 | E26: FDY096 | F26: x | H26: 3M2H206434 | I26: 167500001046 | J26: 8004030000000000002466483 -
A27: 2012 | B27: 45937 | C27: CAMIONETA CHEVROLET LUV DMAX | D27: C15659 | E27: GAW066 | F27: x | H27: 3M2H206426 | I27: 167500001054 | J27: 8004030000000000002384769 -
A28: 2013 | B28: 45948 | C28: MOTOCICLETA, YAMAHA YBR125DX | D28: F13743 | E28: NGD91C | F28: x | H28: 3M2H206423 | I28: 167500001057 | J28: 8004030000000000002267134 -
A29: 2010 | B29: 45924 | C29: AMBULANCIA CHEVROLET LUV DIMAX | D29: A10470 | E29: DOE308 | F29: x | H29: 3M2H206364 | I29: 167500001168 | J29: 8004030000000000001443783 -
A30: 2010 | B30: 45986 | C30: CAMIONETA SUZUKI GRAND VITARA | D30: C10492 | E30: DOE343 | F30: x | H30: 3M2H206416 | I30: 167500001064 | J30: 8004030000000000001443810 -
A31: 2008 | B31: 45953 | C31: CAMIÓN LIVIANO DE 3 A 7 TON. (ESTACAS), CHEVROLET NPR | D31: K08184 | E31: VZD017 | G31: x | H31: 3M2H206414 | I31: 167500000060 | J31: 8004030000000000001268066
A32: 2010 | B32: 45944 | C32: VOLQUETA 10 MTS, CHEVROLET FTR | D32: R10339 | E32: XYD117 | G32: x | H32: 3M2H206415 | I32: 167500001065 | J32: 8004030000000000001268069
A33: BICAB 14
A34: MODELO | B34: FECHA DE VENCIMIENTO | C34: TIPO DE VEHICULO | D34: PLACA MILITAR | E34: PLACA CIVIL | F34: PLACA AMARILLA (particular) | G34: PLACA BLANCA (publico) | H34: CENTRO DE COSTO | I34: No. ACTIVO FIJO | J34: No. INVENTARIO
A35: 2003 | B35: 45962 | C35: CAMION | D35: K03366 | E35: BVM054 | F35: X | H35: 3M2H206379 | I35: 167500001145 | J35: 8004030000000000001268080
A36: 2003 | B36: 45982 | C36: CAMION | D36: N03376 | E36: EJE027 | F36: X | H36: 3M2H206377 | I36: 167500001143 | J36: 8004030000000000001268078
A37: 2007 | B37: 45981 | C37: CAMIONETA | D37: A07271 | E37: IBZ419 | F37: X | H37: 3M2H206381 | I37: 167500001147 | J37: 8004030000000000001268102
A38: 2014 | B38: VENCIDA | C38: MOTOCICLETA | D38: F14221 | E38: NGF45C | F38: X | H38: 3M2H206498 | I38: 167500001608 | J38: 8004030000000000002248022
A39: 2015 | B39: 45982 | C39: MOTOCICLETA | D39: F15791 | E39: RRH22D | F39: X | H39: 3M2H206424 | I39: 167500001283 | J39: 8004030000000000002384761
A40: 2015 | B40: VENCIDA | C40: MOTOCICLETA | D40: F15669 | E40: RRK95D | F40: X | H40: 3M2H206499 | I40: 167500001609 | J40: 8004030000000000002393590
...

Sheet PTO CANT MIN DEL PROCESO
A1: GRUPO MEDELLIN: UNIDADES DE LA CUARTA BRIGADA (BR04), BAEEV8 Y UNIDADES INDEPENDIENTES | H1: GRUPO PUERTO BERRIO. UNIDADES DE LA DECIMA CUARTA BRIGADA EXCLUIDO BAEEV8
A2: PARTIDAS FIJAS TECNOMECANICA TRANSPORTE | H2: PARTIDAS FIJAS TECNOMECANICA TRANSPORTE
A3: BR | B3: NOMBRE UNIDAD | C3: REC | D3: DESCRIPCIÓN DEL RUBRO | E3: UNIDAD | F3: PRESUPUESTO ASIGNADO | H3: BR | I3: NOMBRE UNIDAD | J3: REC | K3: DESCRIPCIÓN DEL RUBRO | L3: UNIDAD | M3: VALOR POR ARTÍCULO PRESUPUESTAL
A4: CENTRALIZADAS BR 4 | B4: BATALLÓN ESPECIAL, ENERGETICO Y VIAL N|°4 "BG JAIME POLANIA PUYO" | C4: 10 CSF | D4: OTROS SERVICIOS PROFESIONALES, CIENTÍFICOS Y TÉCNICOS (SERVICIOS DE ENSAYO Y ANALISIS TECNICOS ) | E4: BAEEV4 | F4: 5903599 | H4: BR14 | I4: BATALLÓN DE A.S.P.C. No.14 "CACIQUE PIPATON" | J4: 10 CSF | K4: OTROS SERVICIOS PROFESIONALES, CIENTÍFICOS Y TÉCNICOS (SERVICIOS DE ENSAYO Y ANALISIS TECNICOS ) | L4: BAS14 | M4: 8770647
B5: BATALLÓN DE ARTILLERÍA No.4 " CR. JORGE EDUARDO SANCHEZ RODRIGUEZ" | E5: BAACA4 | F5: 8351553 | I5: BATALLÓN DE INFANTERÍA No.3 "BATALLA DE BARBULA" | L5: BIBAR | M5: 3265474
B6: BATALLÓN DE INFANTERÍA No.10 "CR. ATANASIO GIRARDOT" | E6: BIGIR | F6: 3896418 | I6: BATALLÓN DE INFANTERÍA No.42 "BATALLA DE BOMBONÁ" | L6: BIBOM | M6: 3615599
B7: BATALLÓN DE INGENIEROS No.4 " GR. PEDRO NEL OSPINA" | E7: BIOSP | F7: 3732195 | I7: BATALLÓN DE INGENIEROS No.14 "BATALLA DE CALIBIO" | L7: BICAB | M7: 3966061
B8: BATALLÓN DE INFANTERÍA No.32 "GR. PEDRO JUSTO BERRIO" | E8: BIPEB | F8: 3057556 | I8: BATALLÓN DE INSTRUCCIÓN, ENTRENAMIENTO Y REENTRENAMIENTO No.14 “JOSÉ ANTONIO CHAVARRÍA” | L8: BITER14 | M8: 1772978
B9: GRUPO DE ACCIÓN UNIFICADA PARA LA LIBERACIÓN PERSONAL RIONEGRO | E9: GGRIO | F9: 1401174 | H9: TOTAL PARTIDAS FIJAS TECNOMECANICA TRANSPORTE | M9: =SUM(M4:M8) -> 21390759
B10: GRUPO DE ACCIÓN UNIFICADA PARA LA LIBERACIÓN PERSONAL ANTIOQUIA | E10: GGANT | F10: 700250 | H10: RECURSOS OFICIO No Radicado N° 2025217000786553: MDN-COGFM-COEJC-SECEJ-JEMPP-CEDE4-DIPEL-
B11: BATALLÓN DE INSTRUCCIÓN, ENTRENAMIENTO Y REENTRENAMIENTO No.4 “FRAY MARIANO GARNICA Y ORJUELA” | E11: BITER4 | F11: 1772978 | H11: BATALLÓN DE INFANTERÍA No.3 "BATALLA DE BARBULA" | J11: 10 CSF | K11: OTROS SERVICIOS PROFESIONALES, CIENTÍFICOS Y TÉCNICOS (SERVICIOS DE ENSAYO Y ANALISIS TECNICOS ) | L11: BIBAR | M11: 1868232
B12: BATALLÓN DE A.S.P.C. No.4 "YARIGUIES" | E12: BASPC-04 | F12: 11710933 | H12: TOTAL RECURSOS OFICIO No Radicado N° 2025217000786553: MDN-COGFM-COEJC-SECEJ-JEMPP-CEDE4-DIPEL- | M12: =SUM(M11) -> 1868232
B13: BATALLÓN DE INFANTERÍA No.11 "CACIQUE NUTIBARA" | E13: BINUT | F13: 9523130 | H13: TECNOMECANICA LINEA AMARILLA - BLANCA Plan Anual de Adquisiciones vigencia 2025
B14: GRUPO DE CABALLERÍA MECANIZADO No. 4 "JUAN DEL CORRAL" | E14: GMCOR | F14: 5038789 | H14: BATALLÓN DE INGENIEROS No.14 "BATALLA DE CALIBIO" | J14: 10 CSF | K14: OTROS SERVICIOS PROFESIONALES, CIENTÍFICOS Y TÉCNICOS (SERVICIOS DE ENSAYO Y ANALISIS TECNICOS ) | L14: BICAB | M14: 5343010
A15: BR 14 | B15: BATALLÓN ESPECIAL, ENERGÉTICO Y VIAL No.8 "MY. MARIO SERPA CUESTO" | E15: BAEEV8 | F15: 5950552 | H15: TOTAL LINEA AMARILLA - BLANCA | M15: =SUM(M14) -> 5343010
A16: INDEPENDIENTES | B16: BATALLÓN DE INGENIEROS DE DESMINADO HUMANITARIO N° 7 “CORONEL GABINO GUTIÉRREZ” | E16: BIDEH7 | F16: 4807507 | H16: TOTAL PRESUPUESTO GRUPO PUERTO BERRIO | M16: =M15+M12+M9 -> 28602001
B17: BATALLÓN DE MOVILIDAD Y MANIOBRA DE AVIACIÓN No.7 “Teniente EDUARDO MORALES SAAVEDRA”. | E17: BMMA7 | F17: 2845706 | M17: =M16+#REF! -> #REF!
B18: BATALLÓN DE APOYO DE ACCIÓN INTEGRAL Y DESARROLLO No. 7 | E18: BAAID7 | F18: 2495581
B19: BATALLÓN DE FUERZAS ESPECIALES URBANAS No. 7 | E19: BAFUR7 | F19: 14656499
B20: ESTABLECIMIENTO PENITENCIARIO Y CARCELARIO EN EL BATALLÓN DE INGENIEROS No. 04 "Gn. PEDRO NEL OSPINA" | E20: EJEBE | F20: 1936864
B21: FUERZA DE DESPLIEGUE CONTRA AMENAZAS TRANSNACIONALES | E21: FUDAT | F21: 1586739
B22: ZONA 4 | E22: ZONA4 | F22: 700250
B23: GRUPO MARTE DIVISIONARIO N° 7 | E23: GMD07 | F23: 536364
A24: TOTAL PARTIDAS FIJAS TECNOMECANICA TRANSPORTE | F24: =SUM(F4:F23) -> 90604637
A25: TECNOMECANICA TRANSPORTE Plan Anual de Adquisiciones vigencia 2025
A26: GRUPO DE ACCIÓN UNIFICADA PARA LA LIBERACIÓN PERSONAL ANTIOQUIA | C26: 10 CSF | D26: OTROS SERVICIOS PROFESIONALES, CIENTÍFICOS Y TÉCNICOS (SERVICIOS DE ENSAYO Y ANALISIS TECNICOS ) | E26: GGANT | F26: 2812497
A27: GRUPO DE ACCIÓN UNIFICADA PARA LA LIBERACIÓN PERSONAL RIONEGRO | E27: GGORI | F27: 3893543
A28: TOTAL TECNOMECANICA TRANSPORTE Plan Anual de Adquisiciones vigencia 2025 | F28: =SUM(F26:F27) -> 6706040
A29: RECURSOS OFICIO No Radicado N° 2025217000786553: MDN-COGFM-COEJC-SECEJ-JEMPP-CEDE4-DIPEL-
A30: BATALLÓN ESPECIAL, ENERGETICO Y VIAL N|°4 "BG JAIME POLANIA PUYO" | C30: 10 CSF | D30: OTROS SERVICIOS PROFESIONALES, CIENTÍFICOS Y TÉCNICOS (SERVICIOS DE ENSAYO Y ANALISIS TECNICOS ) | E30: BAEEV4 | F30: 1167645
A31: BATALLÓN DE ARTILLERÍA No.4 " CR. JORGE EDUARDO SANCHEZ RODRIGUEZ" | E31: BAACA4 | F31: 2802348
A32: BATALLÓN DE INFANTERÍA No.10 "CR. ATANASIO GIRARDOT" | E32: BIGIR | F32: 3969993
A33: BATALLÓN DE INFANTERÍA No.32 "GR. PEDRO JUSTO BERRIO" | E33: BIPEB | F33: 2568819
A34: BATALLÓN DE A.S.P.C. No.4 "YARIGUIES" | E34: BASPC-04 | F34: 1401174
A35: GRUPO DE CABALLERÍA MECANIZADO No. 4 "JUAN DEL CORRAL" | E35: GMCOR | F35: 1634703
A36: BATALLÓN ESPECIAL, ENERGÉTICO Y VIAL No.8 "MY. MARIO SERPA CUESTO" | E36: BAEEV8 | F36: 3269406
A37: TOTAL RECURSOS OFICIO No Radicado N° 2025217000786553: MDN-COGFM-COEJC-SECEJ-JEMPP-CEDE4-DIPEL- | F37: =SUM(F30:F36) -> 16814088
A38: TECNOMECANICA LINEA AMARILLA - BLANCA Plan Anual de Adquisiciones vigencia 2025
A39: BATALLÓN DE INGENIEROS DE DESMINADO HUMANITARIO N° 7 “CORONEL GABINO GUTIÉRREZ” | C39: 10 CSF | D39: OTROS SERVICIOS PROFESIONALES, CIENTÍFICOS Y TÉCNICOS (SERVICIOS DE ENSAYO Y ANALISIS TECNICOS ) | E39: BIDEH7 | F39: 3601262
A40: BATALLÓN DE INGENIEROS No.4 " GR. PEDRO NEL OSPINA" | E40: BIOSP | F40: 5873111
...

Sheet DISTRIBUCION PTO
A2: ARTICULO PRESUPUESTAL (SIIF NACIÓN) | D2: RECURSO | E2: DESCRIPCIÓN DEL RUBRO | J2: UNIDAD BENEFICIADA | L2: PRESUPUESTO TOTAL ASIGNADO | M2: VALOR TOTAL A CONTRATAR | N2: SOBRANTE TOTAL PRESUPUESTAL
A3: A-02-02-02-008-003 | D3: 10 CSF | E3: OTROS SERVICIOS PROFESIONALES, CIENTÍFICOS Y TÉCNICOS (SERVICIOS DE ENSAYO Y ANALISIS TECNICOS ) | J3: UNIDADES CENTRALIZADAS ADMINISTRATIVAMENTE POR LA CENACMED | L3: =+L33+L38+L49+L56 -> 149888804 | M3: =+M33+M38+M49+M56 -> 127640134 | N3: =+N33+N38+N49+N56 -> 22096855
A5: PARTIDAS FIJAS TECNOMECANICA TRANSPORTE
A6: BR | B6: NOMBRE UNIDAD | E6: REC | F6: DESCRIPCIÓN DEL RUBRO | K6: UNIDAD | L6: PRESUPUESTO TOTAL ASIGNADO | M6: VALOR TOTAL A CONTRATAR | N6: SOBRANTE PRESUPUESTAL | P6: OAPF-2025 | Q6: REDUCCION | R6: RADICADO
A7: CENTRALIZADAS BR 4 | B7: BATALLÓN ESPECIAL, ENERGETICO Y VIAL N|°4 "BG JAIME POLANIA PUYO" | E7: 10 CSF | F7: OTROS SERVICIOS PROFESIONALES, CIENTÍFICOS Y TÉCNICOS (SERVICIOS DE ENSAYO Y ANALISIS TECNICOS ) | K7: BAEEV4 | L7: 5903599 | M7: =+'GRUPO UNO'!L21 -> 5057256 | N7: =L7-M7 -> 846343 | P7: 5903599 | Q7: =+P7-L7 -> 0
B8: BATALLÓN DE ARTILLERÍA No.4 " CR. JORGE EDUARDO SANCHEZ RODRIGUEZ" | K8: BAACA4 | L8: 8351553 | M8: =+'GRUPO UNO'!L43 -> 7099051 | N8: =L8-M8 -> 1252502 | P8: 8887917 | Q8: =+P8-L8 -> 536364 | R8: Oficio R N° 2025451001548803
B9: BATALLÓN DE INFANTERÍA No.10 "CR. ATANASIO GIRARDOT" | K9: BIGIR | L9: 3896418 | M9: =+'GRUPO UNO'!L55 -> 3320803 | N9: =L9-M9 -> 575615 | P9: 3896418 | Q9: =+P9-L9 -> 0
B10: BATALLÓN DE INGENIEROS No.4 " GR. PEDRO NEL OSPINA" | K10: BIOSP | L10: 3732195 | M10: =+'GRUPO UNO'!L65 -> 2719997 | N10: ES USADO LINEA BLANCA Y AMARILLA | P10: 3732195 | Q10: =+P10-L10 -> 0
B11: BATALLÓN DE INFANTERÍA No.32 "GR. PEDRO JUSTO BERRIO" | K11: BIPEB | L11: 3057556 | M11: =+'GRUPO UNO'!L77 -> 2636757 | N11: =L11-M11 -> 420799 | P11: 3593920 | Q11: =+P11-L11 -> 536364 | R11: Oficio R N° 2025452005102243
B12: GRUPO DE ACCIÓN UNIFICADA PARA LA LIBERACIÓN PERSONAL RIONEGRO | K12: GGRIO | L12: 1401174 | M12: =+'GRUPO UNO'!L85 -> 1230534 | N12: =L12-M12 -> 170640 | P12: 1401174 | Q12: =+P12-L12 -> 0
B13: GRUPO DE ACCIÓN UNIFICADA PARA LA LIBERACIÓN PERSONAL ANTIOQUIA | K13: GGANT | L13: 700250 | M13: =+'GRUPO UNO'!L89 -> 600336 | N13: =L13-M13 -> 99914 | P13: 700250 | Q13: =+P13-L13 -> 0
B14: BATALLÓN DE INSTRUCCIÓN, ENTRENAMIENTO Y REENTRENAMIENTO No.4 “FRAY MARIANO GARNICA Y ORJUELA” | K14: BITER4 | L14: 1772978 | M14: =+'GRUPO UNO'!L95 -> 1504102 | N14: =L14-M14 -> 268876 | P14: 1772978 | Q14: =+P14-L14 -> 0
B15: BATALLÓN DE A.S.P.C. No.4 "YARIGUIES" | K15: BASPC-04 | L15: 11710933 | M15: =+'GRUPO UNO'!L124 -> 9037605 | N15: =L15-M15 -> 2673328 | P15: 15654304 | Q15: =+P15-L15 -> 3943371 | R15: Oficio R N° 2025644002836093
B16: BATALLÓN DE INFANTERÍA No.11 "CACIQUE NUTIBARA" | K16: BINUT | L16: 9523130 | M16: =+'GRUPO UNO'!L158 -> 7718813 | N16: =L16-M16 -> 1804317 | P16: 14237068 | Q16: =+P16-L16 -> 4713938 | R16: Oficio R N° 2025488001519323 | S16: 3944045 | T16: =+S16-Q16 -> -769893
B17: GRUPO DE CABALLERÍA MECANIZADO No. 4 "JUAN DEL CORRAL" | K17: GMCOR | L17: 5038789 | M17: =+'GRUPO UNO'!L172 -> 4280005 | N17: =L17-M17 -> 758784 | P17: 5038789 | Q17: =+P17-L17 -> 0
A18: BR14 | B18: BATALLÓN ESPECIAL, ENERGÉTICO Y VIAL No.8 "MY. MARIO SERPA CUESTO" | K18: BAEEV8 | L18: 5950552 | M18: =+'GRUPO UNO'!L192 -> 4484132 | N18: =L18-M18 -> 1466420 | P18: 7304099 | Q18: =+P18-L18 -> 1353547 | R18: Oficio R N° 0885
B19: BATALLÓN DE A.S.P.C. No.14 "CACIQUE PIPATON" | K19: BAS14 | L19: 8770647 | M19: =+'GRUPO DOS'!L31 -> 7423193 | N19: =L19-M19 -> 1347454 | P19: 9890665 | Q19: =+P19-L19 -> 1120018 | R19: Oficio R N° 2025990002983703
B20: BATALLÓN DE INFANTERÍA No.3 "BATALLA DE BARBULA" | K20: BIBAR | L20: 3265474 | M20: =+'GRUPO DOS'!L10 -> 2763072 | N20: =L20-M20 -> 502402 | P20: 5319608 | Q20: =+P20-L20 -> 2054134 | R20: Oficio R N° 2025992002805183
B21: BATALLÓN DE INFANTERÍA No.42 "BATALLA DE BOMBONÁ" | K21: BIBOM | L21: 3615599 | M21: =+'GRUPO DOS'!L53 -> 3063740 | N21: =L21-M21 -> 551859 | P21: 3615599 | Q21: =+P21-L21 -> 0
B22: BATALLÓN DE INGENIEROS No.14 "BATALLA DE CALIBIO" | K22: BICAB | L22: 3966061 | M22: =+'GRUPO DOS'!L43 -> 2966961 | N22: =L22-M22 -> 999100 | P22: 6625865 | Q22: =+P22-L22 -> 2659804 | R22: Oficio R N° 202553700024311
B23: BATALLÓN DE INSTRUCCIÓN, ENTRENAMIENTO Y REENTRENAMIENTO No.14 “JOSÉ ANTONIO CHAVARRÍA” | K23: BITER14 | L23: 1772978 | M23: =+'GRUPO DOS'!L59 -> 1503102 | N23: =L23-M23 -> 269876 | P23: 1772978 | Q23: =+P23-L23 -> 0
A24: INDEPENDIENTES | B24: BATALLÓN DE INGENIEROS DE DESMINADO HUMANITARIO N° 7 “CORONEL GABINO GUTIÉRREZ” | K24: BIDEH7 | L24: 4807507 | M24: =+'GRUPO UNO'!L208 -> 4108335 | N24: =L24-M24 -> 699172 | P24: 4807507 | Q24: =+P24-L24 -> 0
B25: BATALLÓN DE INGENIEROS DE DESMINADO HUMANITARIO N° 7 “CORONEL GABINO GUTIÉRREZ” ADICION No. 1 | K25: BIDEH7 | M25: =+'REDUCCION Y ADICION'!K32 -> 285507
B26: BATALLÓN DE MOVILIDAD Y MANIOBRA DE AVIACIÓN No.7 “Teniente EDUARDO MORALES SAAVEDRA”. | K26: BMMA7 | L26: 2845706 | M26: =+'GRUPO UNO'!L219 -> 2407468 | N26: =L26-M26 -> 438238 | P26: 2845706 | Q26: =+P26-L26 -> 0
B27: BATALLÓN DE APOYO DE ACCIÓN INTEGRAL Y DESARROLLO No. 7 | K27: BAAID7 | L27: 2495581 | M27: =+'GRUPO UNO'!L226 -> 2106200 | N27: =L27-M27 -> 389381 | P27: 2495581 | Q27: =+P27-L27 -> 0
B28: BATALLÓN DE FUERZAS ESPECIALES URBANAS No. 7 | K28: BAFUR7 | L28: 14656499 | M28: =+'GRUPO UNO'!L274 -> 12623423 | N28: =L28-M28 -> 2033076 | P28: 14656499 | Q28: =+P28-L28 -> 0
B29: ESTABLECIMIENTO PENITENCIARIO Y CARCELARIO EN EL BATALLÓN DE INGENIEROS No. 04 "Gn. PEDRO NEL OSPINA" | K29: EJEBE | L29: 1936864 | M29: =+'GRUPO UNO'!L281 -> 1652555 | N29: =L29-M29 -> 284309 | P29: 1936864 | Q29: =+P29-L29 -> 0
B30: FUERZA DE DESPLIEGUE CONTRA AMENAZAS TRANSNACIONALES | K30: FUDAT | L30: 1586739 | M30: =+'GRUPO UNO'!L287 -> 1352087 | N30: =L30-M30 -> 234652 | P30: 1586739 | Q30: =+P30-L30 -> 0
B31: ZONA 4 | K31: ZONA4 | L31: 700250 | M31: =+'GRUPO UNO'!L291 -> 600036 | N31: =L31-M31 -> 100214 | P31: 700250 | Q31: =+P31-L31 -> 0
B32: GRUPO MARTE DIVISIONARIO N° 7 | K32: GMD07 | L32: 536364 | M32: =+'GRUPO UNO'!L211 -> 451683 | N32: =L32-M32 -> 84681 | P32: 536364 | Q32: =+P32-L32 -> 0
A33: TOTAL | L33: =SUM(L7:L32) -> 111995396 | M33: =SUM(M7:M32) -> 92996753 | N33: =SUM(N7:N32) -> 18271952 | P33: =SUM(P7:P32) -> 128912936 | Q33: =+P33-L33 -> 16917540 | R33: =+L33+Q33 -> 128912936
P34: BR14
A35: TECNOMECANICA TRANSPORTE Plan Anual de Adquisiciones vigencia 2025
A36: GRUPO DE ACCIÓN UNIFICADA PARA LA LIBERACIÓN PERSONAL ANTIOQUIA | E36: 10 CSF | F36: OTROS SERVICIOS PROFESIONALES, CIENTÍFICOS Y TÉCNICOS (SERVICIOS DE ENSAYO Y ANALISIS TECNICOS ) | K36: GGANT | L36: 2563398 | M36: =+'GRUPO UNO'!L312 -> 2403306 | N36: =L36-M36 -> 160092
A37: GRUPO DE ACCIÓN UNIFICADA PARA LA LIBERACIÓN PERSONAL RIONEGRO | K37: GGORI | L37: 3566900 | M37: =+'GRUPO UNO'!L303 -> 3306672 | N37: =L37-M37 -> 260228
A38: TOTAL | L38: =+L37+L36 -> 6130298 | M38: =SUM(M36:M37) -> 5709978 | N38: =SUM(N36:N37) -> 420320 | R38: =+L38 -> 6130298
A40: RECURSOS OFICIO No Radicado N° 2025217000786553: MDN-COGFM-COEJC-SECEJ-JEMPP-CEDE4-DIPEL- 29.25
A41: BATALLÓN ESPECIAL, ENERGETICO Y VIAL N|°4 "BG JAIME POLANIA PUYO" | E41: 10 CSF | F41: OTROS SERVICIOS PROFESIONALES, CIENTÍFICOS Y TÉCNICOS (SERVICIOS DE ENSAYO Y ANALISIS TECNICOS ) | K41: BAEEV4 | L41: 1167645 | M41: =+'GRUPO UNO'!L320 -> 1023945 | N41: =L41-M41 -> 143700 | P41: 1167645 | Q41: =+P41-L41 -> 0
A42: BATALLÓN DE ARTILLERÍA No.4 " CR. JORGE EDUARDO SANCHEZ RODRIGUEZ" | K42: BAACA4 | L42: 2802348 | M42: =+'GRUPO UNO'!L334 -> 2457468 | N42: =L42-M42 -> 344880 | P42: 2802348 | Q42: =+P42-L42 -> 0
A43: BATALLÓN DE INFANTERÍA No.10 "CR. ATANASIO GIRARDOT" | K43: BIGIR | L43: 3969993 | M43: =+'GRUPO UNO'!L353 -> 3481413 | N43: =L43-M43 -> 488580 | P43: 3969993 | Q43: =+P43-L43 -> 0
...

Sheet PLAN CONSOLIDADO
A2: ARTICULO PRESUPUESTAL (SIIF NACIÓN) | D2: RECURSO | E2: DESCRIPCIÓN DEL RUBRO | J2: UNIDAD BENEFICIADA | K2: VALOR POR ARTÍCULO PRESUPUESTAL
A3: A-02-02-02-008-003 | D3: 10 CSF | E3: OTROS SERVICIOS PROFESIONALES, CIENTÍFICOS Y TÉCNICOS (SERVICIOS DE ENSAYO Y ANALISIS TECNICOS ) | J3: UNIDAD BENEFICIADA | L3: =+L32+L37+L48+L55 -> 149888804 | M3: =+M32+M37+M48+M55 -> 127354627 | N3: =+N32+N37+N48+N55 -> 22096855
A5: PARTIDAS FIJAS TECNOMECANICA TRANSPORTE
A6: BR | B6: NOMBRE UNIDAD | E6: REC | F6: DESCRIPCIÓN DEL RUBRO | K6: UNIDAD | L6: PRESUPUESTO ASIGNADO | M6: PRESUPUESTO ASIGNADO | N6: SOBRANTE PRESUPUESTAL | Q6: OAPF-2025 | R6: REDUCCION | S6: RADICADO
A7: CENTRALIZADAS BR 4 | B7: BATALLÓN ESPECIAL, ENERGETICO Y VIAL N|°4 "BG JAIME POLANIA PUYO" | E7: 10 CSF | F7: OTROS SERVICIOS PROFESIONALES, CIENTÍFICOS Y TÉCNICOS (SERVICIOS DE ENSAYO Y ANALISIS TECNICOS ) | K7: BAEEV4 | L7: 5903599 | M7: =+'GRUPO UNO'!L21 -> 5057256 | N7: =L7-M7 -> 846343 | Q7: 5903599 | R7: =+Q7-L7 -> 0
B8: BATALLÓN DE ARTILLERÍA No.4 " CR. JORGE EDUARDO SANCHEZ RODRIGUEZ" | K8: BAACA4 | L8: 8351553 | M8: =+'GRUPO UNO'!L43 -> 7099051 | N8: =L8-M8 -> 1252502 | Q8: 8887917 | R8: =+Q8-L8 -> 536364 | S8: Oficio R N° 2025451001548803
B9: BATALLÓN DE INFANTERÍA No.10 "CR. ATANASIO GIRARDOT" | K9: BIGIR | L9: 3896418 | M9: =+'GRUPO UNO'!L55 -> 3320803 | N9: =L9-M9 -> 575615 | Q9: 3896418 | R9: =+Q9-L9 -> 0
B10: BATALLÓN DE INGENIEROS No.4 " GR. PEDRO NEL OSPINA" | K10: BIOSP | L10: 3732195 | M10: =+'GRUPO UNO'!L65 -> 2719997 | N10: ES USADO LINEA BLANCA Y AMARILLA | O10: 237713 | P10: =N10-O10 -> #VALUE! | Q10: 3732195 | R10: =+Q10-L10 -> 0
B11: BATALLÓN DE INFANTERÍA No.32 "GR. PEDRO JUSTO BERRIO" | K11: BIPEB | L11: 3057556 | M11: =+'GRUPO UNO'!L77 -> 2636757 | N11: =L11-M11 -> 420799 | Q11: 3593920 | R11: =+Q11-L11 -> 536364 | S11: Oficio R N° 2025452005102243
B12: GRUPO DE ACCIÓN UNIFICADA PARA LA LIBERACIÓN PERSONAL RIONEGRO | K12: GGRIO | L12: 1401174 | M12: =+'GRUPO UNO'!L85 -> 1230534 | N12: =L12-M12 -> 170640 | Q12: 1401174 | R12: =+Q12-L12 -> 0
B13: GRUPO DE ACCIÓN UNIFICADA PARA LA LIBERACIÓN PERSONAL ANTIOQUIA | K13: GGANT | L13: 700250 | M13: =+'GRUPO UNO'!L89 -> 600336 | N13: =L13-M13 -> 99914 | Q13: 700250 | R13: =+Q13-L13 -> 0
B14: BATALLÓN DE INSTRUCCIÓN, ENTRENAMIENTO Y REENTRENAMIENTO No.4 “FRAY MARIANO GARNICA Y ORJUELA” | K14: BITER4 | L14: 1772978 | M14: =+'GRUPO UNO'!L95 -> 1504102 | N14: =L14-M14 -> 268876 | Q14: 1772978 | R14: =+Q14-L14 -> 0
B15: BATALLÓN DE A.S.P.C. No.4 "YARIGUIES" | K15: BASPC-04 | L15: 11710933 | M15: =+'GRUPO UNO'!L124 -> 9037605 | N15: =L15-M15 -> 2673328 | Q15: 15654304 | R15: =+Q15-L15 -> 3943371 | S15: Oficio R N° 2025644002836093
B16: BATALLÓN DE INFANTERÍA No.11 "CACIQUE NUTIBARA" | K16: BINUT | L16: 9523130 | M16: =+'GRUPO UNO'!L158 -> 7718813 | N16: =L16-M16 -> 1804317 | Q16: 14237068 | R16: =+Q16-L16 -> 4713938 | S16: Oficio R N° 2025488001519323 | T16: 3944045 | U16: =+T16-R16 -> -769893
B17: GRUPO DE CABALLERÍA MECANIZADO No. 4 "JUAN DEL CORRAL" | K17: GMCOR | L17: 5038789 | M17: =+'GRUPO UNO'!L172 -> 4280005 | N17: =L17-M17 -> 758784 | Q17: 5038789 | R17: =+Q17-L17 -> 0
A18: BR14 | B18: BATALLÓN ESPECIAL, ENERGÉTICO Y VIAL No.8 "MY. MARIO SERPA CUESTO" | K18: BAEEV8 | L18: 5950552 | M18: =+'GRUPO UNO'!L192 -> 4484132 | N18: =L18-M18 -> 1466420 | P18: =SUM(Q7:Q18) -> 72122711 | Q18: 7304099 | R18: =+Q18-L18 -> 1353547 | S18: Oficio R N° 0885
B19: BATALLÓN DE A.S.P.C. No.14 "CACIQUE PIPATON" | K19: BAS14 | L19: 8770647 | M19: =+'GRUPO DOS'!L31 -> 7423193 | N19: =L19-M19 -> 1347454 | Q19: 9890665 | R19: =+Q19-L19 -> 1120018 | S19: Oficio R N° 2025990002983703
B20: BATALLÓN DE INFANTERÍA No.3 "BATALLA DE BARBULA" | K20: BIBAR | L20: 3265474 | M20: =+'GRUPO DOS'!L10 -> 2763072 | N20: =L20-M20 -> 502402 | Q20: 5319608 | R20: =+Q20-L20 -> 2054134 | S20: Oficio R N° 2025992002805183
B21: BATALLÓN DE INFANTERÍA No.42 "BATALLA DE BOMBONÁ" | K21: BIBOM | L21: 3615599 | M21: =+'GRUPO DOS'!L53 -> 3063740 | N21: =L21-M21 -> 551859 | Q21: 3615599 | R21: =+Q21-L21 -> 0
B22: BATALLÓN DE INGENIEROS No.14 "BATALLA DE CALIBIO" | K22: BICAB | L22: 3966061 | M22: =+'GRUPO DOS'!L43 -> 2966961 | N22: =L22-M22 -> 999100 | Q22: 6625865 | R22: =+Q22-L22 -> 2659804 | S22: Oficio R N° 202553700024311
B23: BATALLÓN DE INSTRUCCIÓN, ENTRENAMIENTO Y REENTRENAMIENTO No.14 “JOSÉ ANTONIO CHAVARRÍA” | K23: BITER14 | L23: 1772978 | M23: =+'GRUPO DOS'!L59 -> 1503102 | N23: =L23-M23 -> 269876 | Q23: 1772978 | R23: =+Q23-L23 -> 0
A24: INDEPENDIENTES | B24: BATALLÓN DE INGENIEROS DE DESMINADO HUMANITARIO N° 7 “CORONEL GABINO GUTIÉRREZ” | K24: BIDEH7 | L24: 4807507 | M24: =+'GRUPO UNO'!L208 -> 4108335 | N24: =L24-M24 -> 699172 | Q24: 4807507 | R24: =+Q24-L24 -> 0
B25: BATALLÓN DE MOVILIDAD Y MANIOBRA DE AVIACIÓN No.7 “Teniente EDUARDO MORALES SAAVEDRA”. | K25: BMMA7 | L25: 2845706 | M25: =+'GRUPO UNO'!L219 -> 2407468 | N25: =L25-M25 -> 438238 | Q25: 2845706 | R25: =+Q25-L25 -> 0
B26: BATALLÓN DE APOYO DE ACCIÓN INTEGRAL Y DESARROLLO No. 7 | K26: BAAID7 | L26: 2495581 | M26: =+'GRUPO UNO'!L226 -> 2106200 | N26: =L26-M26 -> 389381 | Q26: 2495581 | R26: =+Q26-L26 -> 0
B27: BATALLÓN DE FUERZAS ESPECIALES URBANAS No. 7 | K27: BAFUR7 | L27: 14656499 | M27: =+'GRUPO UNO'!L274 -> 12623423 | N27: =L27-M27 -> 2033076 | Q27: 14656499 | R27: =+Q27-L27 -> 0
B28: ESTABLECIMIENTO PENITENCIARIO Y CARCELARIO EN EL BATALLÓN DE INGENIEROS No. 04 "Gn. PEDRO NEL OSPINA" | K28: EJEBE | L28: 1936864 | M28: =+'GRUPO UNO'!L281 -> 1652555 | N28: =L28-M28 -> 284309 | Q28: 1936864 | R28: =+Q28-L28 -> 0
B29: FUERZA DE DESPLIEGUE CONTRA AMENAZAS TRANSNACIONALES | K29: FUDAT | L29: 1586739 | M29: =+'GRUPO UNO'!L287 -> 1352087 | N29: =L29-M29 -> 234652 | Q29: 1586739 | R29: =+Q29-L29 -> 0
B30: ZONA 4 | K30: ZONA4 | L30: 700250 | M30: =+'GRUPO UNO'!L291 -> 600036 | N30: =L30-M30 -> 100214 | Q30: 700250 | R30: =+Q30-L30 -> 0
B31: GRUPO MARTE DIVISIONARIO N° 7 | K31: GMD07 | L31: 536364 | M31: =+'GRUPO UNO'!L211 -> 451683 | N31: =L31-M31 -> 84681 | P31: =SUM(Q24:Q31) -> 29565510 | Q31: 536364 | R31: =+Q31-L31 -> 0
A32: TOTAL | L32: =SUM(L7:L31) -> 111995396 | M32: =SUM(M7:M31) -> 92711246 | N32: =SUM(N7:N31) -> 18271952 | P32: =SUM(P18:P31) -> 101688221 | Q32: =SUM(Q7:Q31) -> 128912936 | R32: =+Q32-L32 -> 16917540 | S32: =+L32+R32 -> 128912936
P33: =SUM(Q19:Q23) -> 27224715 | Q33: BR14
A34: TECNOMECANICA TRANSPORTE Plan Anual de Adquisiciones vigencia 2025 | P34: =P32+P33 -> 128912936
A35: GRUPO DE ACCIÓN UNIFICADA PARA LA LIBERACIÓN PERSONAL ANTIOQUIA | E35: 10 CSF | F35: OTROS SERVICIOS PROFESIONALES, CIENTÍFICOS Y TÉCNICOS (SERVICIOS DE ENSAYO Y ANALISIS TECNICOS ) | K35: GGANT | L35: 2563398 | M35: =+'GRUPO UNO'!L312 -> 2403306 | N35: =L35-M35 -> 160092
A36: GRUPO DE ACCIÓN UNIFICADA PARA LA LIBERACIÓN PERSONAL RIONEGRO | K36: GGORI | L36: 3566900 | M36: =+'GRUPO UNO'!L303 -> 3306672 | N36: =L36-M36 -> 260228
A37: TOTAL………………………………… | L37: =+L36+L35 -> 6130298 | M37: =SUM(M35:M36) -> 5709978 | N37: =SUM(N35:N36) -> 420320 | S37: =+L37 -> 6130298
A39: RECURSOS OFICIO No Radicado N° 2025217000786553: MDN-COGFM-COEJC-SECEJ-JEMPP-CEDE4-DIPEL- 29.25
