Workbook

Sheet VERIFICACION 
A1: RESOLUCION 00001 DE ENERO 2 DE 2025
A2: PROG | B2: SUBP | C2: PROY | D2: SPRY | E2: PROD | F2: OBJ | G2: REC | H2: CONCEPTO | I2: VALOR | K2: LOTE 1 | M2: LOTE2 | O2: LOTE3 | Q2: LOTE4 | S2: LOTE5
H3: INVERSIÓN | I3: 114155647000 | J3: asignación | K3: BOGOTA | L3: ORIENTE | M3: BOGOTA | N3: ORIENTE | O3: BOGOTA | P3: ORIENTE | Q3: BOGOTA | R3: ORIENTE | S3: BOGOTA
H4: =+CONCATENATE(A7,"-",B7,"-",C7,"-",D7,"-",E7,"-",F7) -> 2901-0800-9-20111D-2901002-02
A5: 2901 | B5: 0800 | C5: 9 | G5: 10 | H5: FORTALECIMIENTO DE LA CAPACIDAD Y CALIDAD CIENTÍFICA DE LOS ENSAYOS REALIZADOS EN LOS LABORATORIOS FORENSES NACIONAL | I5: 11474400000
A6: 2901 | B6: 0800 | C6: 9 | D6: 20111D | E6: 2901002 | H6: SERVICIOS DE LABORATORIO FORENSE
A7: 2901 | B7: 0800 | C7: 9 | D7: 20111D | E7: 2901002 | F7: 02 | G7: 10 | H7: ADQUISICIÓN DE BIENES Y SERVICIOS | I7: 11474400000 | J7: 115218379
H8: disponer de insumos, reactivos y equipos según necesidades de los laboratorios forenses | J8: 100000000
H9: disponer de insumos, reactivos y equipos según necesidades de los laboratorios forenses | J9: 295552981
H10: disponer de insumos, reactivos y equipos según necesidades de los laboratorios forenses | J10: 30000000
H11: disponer de insumos, reactivos y equipos según necesidades de los laboratorios forenses | J11: 30000000
I12: =+SUM(J7:J11) -> 570771360
H13: =+CONCATENATE(A16,"-",B16,"-",C16,"-",D16,"-",E16,"-",F16) -> 2901-0800-14-20111D-2901006-02
A14: 2901 | B14: 0800 | C14: 14 | G14: 21 | H14: MEJORAMIENTO DE LOS PROCEDIMIENTOS Y DE LA CAPACIDAD DE RESPUESTA EN LOS SERVICIOS DE PATOLOGÍA FORENSE A NIVEL NACIONAL | I14: 1191767000
A15: 2901 | B15: 0800 | C15: 14 | D15: 20111D | E15: 2901006 | H15: SERVICIO DE INVESTIGACION PENAL, CRIMINALISTICA Y MEDICINA LEGAL
A16: 2901 | B16: 0800 | C16: 14 | D16: 20111D | E16: 2901006 | F16: 02 | G16: 10 | H16: ADQUISICIÓN DE BIENES Y SERVICIOS | I16: 4332952000
H17: disponer de equipos, insumos y reactivos a los laboratorios en casos de accidentes de transito | I17: =+J17 -> 100920000 | J17: 100920000
H18: disponer con bienes y servicios según los requisitos de la NTC ISO/IEC 17025 en casos de accidentes de transito | I18: =+J18 -> 130000000 | J18: 130000000
A19: 2901 | B19: 0800 | C19: 14 | D19: 20111D | E19: 2901006 | F19: 02 | G19: 21 | H19: ADQUISICIÓN DE BIENES Y SERVICIOS | I19: 1191767000
A20: 2901 | B20: 0800 | C20: 14 | D20: 20111D | E20: 2901010 | H20: SALAS DE NECROPSIAS DOTADAS
H21: disponer de equipos, instrumental, insumos y aplicativos en casos de rutina, de muertes colectivas y desastres a nivel nacional | I21: =+J21 -> 300000000 | J21: 300000000
A23: 2901 | B23: 0800 | C23: 16 | G23: 10 | H23: FORTALECIMIENTO DEL INSTITUTO NACIONAL DE MEDICINA LEGAL Y CIENCIAS FORENSES EN ATENCIÓN A LOS RETOS DEL POSCONFLICTO A NIVEL NACIONAL | I23: 21856000000
A24: 2901 | B24: 0800 | C24: 16 | D24: 20113A | E24: 2901002 | H24: SERVICIOS DE LABORATORIO FORENSE
A25: 2901 | B25: 0800 | C25: 16 | D25: 20113A | E25: 2901002 | F25: 02 | G25: 10 | H25: ADQUISICIÓN DE BIENES Y SERVICIOS | I25: 14263763540
H26: contar con enseres, equipos de oficina y equipos para la dotación de los laboratorios forense de antropología | I26: =+J26 -> 350000000 | J26: 350000000
H27: disponer de insumos, reactivos y equipos según necesidades de los laboratorios forenses | I27: =+J27 -> 98308640 | J27: 98308640
A31: 2901 | B31: 0800 | C31: 16 | D31: 20113A | E31: 2901007 | H31: SERVICIOS DE GENETICA FORENSE
A32: 2901 | B32: 0800 | C32: 16 | D32: 20113A | E32: 2901007 | F32: 02 | G32: 10 | H32: ADQUISICIÓN DE BIENES Y SERVICIOS | I32: 5531215836
H33: Disponer de reactivos, insumos, equipos y herramientas informaticas para los laboratorios de genética | J33: 100000000
H34: Disponer de reactivos, insumos, equipos y herramientas informaticas para los laboratorios de genética | J34: 200000000
J35: 130000000
I36: =+SUM(J33:J35) -> 430000000
J38: =SUM(J5:J36) -> 1980000000
J39: 1850000000
J40: =+J39-J38 -> -130000000

Sheet CONSOLIDADO 
O1: VALOR UNITARIO PROMEDIO (INCLUÍDO IVA) en caso de que aplique o impuestos a que haya lugar | P1: TOTAL REGIONALIZADO | AA1: REGIONALIZADO | AD1: VALIDACIÓN | AE1: VER/
A2: LOTE | B2: # ITEM | C2: DESCRIPCIÓN | D2: PRESENTACIÓN | E2: CANTIDAD REGIONALIZADA | N2: CANTIDAD TOTAL / ESTIMADA | P2: VALOR TOTAL REGIONALIZADO | Y2: VALOR TOTAL | AA2: REGIONAL | AB2: VALOR TOTAL | AC2: TOTAL POR LOTE | AD2: VALIDACION | AE2: VER/
Z3: LOTE 1 | AA3: =+P4 -> BOGOTÁ | AB3: =+SUM(P5:P9) -> 474415466 | AC3: =+SUM(AB3:AB4) -> 517506779 | AE3: =+EXACT(AB3,AD3) -> FALSE
E4: BOGOTÁ | F4: ORIENTE | G4: CENTRAL | H4: SUR | I4: NORTE | J4: OCCIDENTE | K4: NOROCCIDENTE | L4: SUROCCIDENTE | M4: NORORIENTE | P4: =+E4 -> BOGOTÁ | Q4: =+F4 -> ORIENTE | R4: =+G4 -> CENTRAL | S4: =+H4 -> SUR | T4: =+I4 -> NORTE | U4: =+J4 -> OCCIDENTE | V4: =+K4 -> NOROCCIDENTE | W4: =+L4 -> SUROCCIDENTE | X4: =+M4 -> NORORIENTE | Z4: LOTE 1 | AA4: =+Q4 -> ORIENTE | AB4: =SUM(Q5:Q9) -> 43091313 | AE4: =+EXACT(AB4,AD4) -> FALSE
A5: =+'DATOS REGIONALIZADO LOTE 1'!A5 -> 1 | B5: =+'DATOS REGIONALIZADO LOTE 1'!B5 -> 1 | C5: =+'DATOS REGIONALIZADO LOTE 1'!C5 -> CABINAS EXTRACTORAS PARA LABORATORIO DE ESTUPEFACIENTES DE LA REGIONAL BOGOTA (2) CABINA Y (1) CABINA PARA - PATOLOGIA - LABORATORIO DE HISTOTECNOLOGÍA | D5: =+'DATOS REGIONALIZADO LOTE 1'!D5 -> UNIDAD | E5: =+'DATOS REGIONALIZADO LOTE 1'!E5 -> 3 | F5: =+'DATOS REGIONALIZADO LOTE 1'!F5 -> 0 | G5: =+'DATOS REGIONALIZADO LOTE 1'!G5 -> 0 | H5: =+'DATOS REGIONALIZADO LOTE 1'!H5 -> 0 | ... Y5: =+'DATOS REGIONALIZADO LOTE 1'!Y5 -> 193627554 | Z5: LOTE 2 | AA5: BOGOTÁ | AB5: =+'DATOS REGIONALIZADO LOTE 2'!P7 -> 161915416 | AC5: =+Tabla37[[#This Row],[VALOR TOTAL]]+AB6 -> 208217404 | AE5: =+EXACT(AB5,AD5) -> FALSE
A6: =+'DATOS REGIONALIZADO LOTE 1'!A6 -> 1 | B6: =+'DATOS REGIONALIZADO LOTE 1'!B6 -> 2 | C6: =+'DATOS REGIONALIZADO LOTE 1'!C6 -> CABINA EXTRACTORA PARA EL GRUPO DE PATOLOGIA FORENSE DE LA REGIONAL BOGOTA | D6: =+'DATOS REGIONALIZADO LOTE 1'!D6 -> UNIDAD | E6: =+'DATOS REGIONALIZADO LOTE 1'!E6 -> 1 | F6: =+'DATOS REGIONALIZADO LOTE 1'!F6 -> 0 | G6: =+'DATOS REGIONALIZADO LOTE 1'!G6 -> 0 | H6: =+'DATOS REGIONALIZADO LOTE 1'!H6 -> 0 | ... Y6: =+'DATOS REGIONALIZADO LOTE 1'!Y6 -> 60791847 | Z6: LOTE 2 | AA6: ORIENTE | AB6: =+'DATOS REGIONALIZADO LOTE 2'!Q7 -> 46301988 | AE6: =+EXACT(AB6,AD6) -> FALSE
A7: =+'DATOS REGIONALIZADO LOTE 1'!A7 -> 1 | B7: =+'DATOS REGIONALIZADO LOTE 1'!B7 -> 3 | C7: =+'DATOS REGIONALIZADO LOTE 1'!C7 -> CABINAS EXTRACTORAS PARA EL LABORATORIO DE EVIDENCIA TRAZA DE LA REGIONAL BOGOTA | D7: =+'DATOS REGIONALIZADO LOTE 1'!D7 -> UNIDAD | E7: =+'DATOS REGIONALIZADO LOTE 1'!E7 -> 3 | F7: =+'DATOS REGIONALIZADO LOTE 1'!F7 -> 0 | G7: =+'DATOS REGIONALIZADO LOTE 1'!G7 -> 0 | H7: =+'DATOS REGIONALIZADO LOTE 1'!H7 -> 0 | ... Y7: =+'DATOS REGIONALIZADO LOTE 1'!Y7 -> 165895179 | Z7: LOTE 3 | AA7: BOGOTÁ | AB7: =+Tabla34[[#This Row],[VALOR TOTAL]] -> 668421095 | AC7: =+Tabla37[[#This Row],[VALOR TOTAL]]+AB8 -> 668421095 | AE7: =+EXACT(AB7,AD7) -> FALSE
A8: =+'DATOS REGIONALIZADO LOTE 1'!A8 -> 1 | B8: =+'DATOS REGIONALIZADO LOTE 1'!B8 -> 4 | C8: =+'DATOS REGIONALIZADO LOTE 1'!C8 -> CABINA EXTRACTORA PARA EL LABORATORIO DE GENÉTICA DE LA REGIONAL BOGOTA | D8: =+'DATOS REGIONALIZADO LOTE 1'!D8 -> UNIDAD | E8: =+'DATOS REGIONALIZADO LOTE 1'!E8 -> 1 | F8: =+'DATOS REGIONALIZADO LOTE 1'!F8 -> 0 | G8: =+'DATOS REGIONALIZADO LOTE 1'!G8 -> 0 | H8: =+'DATOS REGIONALIZADO LOTE 1'!H8 -> 0 | ... Y8: =+'DATOS REGIONALIZADO LOTE 1'!Y8 -> 54100886 | Z8: LOTE 3 | AA8: ORIENTE | AB8: =+Tabla34[[#This Row],[VALOR TOTAL]] -> 0 | AE8: =+EXACT(AB8,AD8) -> FALSE
A9: =+'DATOS REGIONALIZADO LOTE 1'!A9 -> 1 | B9: =+'DATOS REGIONALIZADO LOTE 1'!B9 -> 5 | C9: =+'DATOS REGIONALIZADO LOTE 1'!C9 -> CABINA DE SEGURIDAD BIOLÓGICA CLASE II TIPO II PARA EL LABORATORIO DE GENÉTICA VILLAVICENCIO | D9: =+'DATOS REGIONALIZADO LOTE 1'!D9 -> UNIDAD | E9: =+'DATOS REGIONALIZADO LOTE 1'!E9 -> 0 | F9: =+'DATOS REGIONALIZADO LOTE 1'!F9 -> 1 | G9: =+'DATOS REGIONALIZADO LOTE 1'!G9 -> 0 | H9: =+'DATOS REGIONALIZADO LOTE 1'!H9 -> 0 | ... Y9: =+'DATOS REGIONALIZADO LOTE 1'!Y9 -> 43091313 | Z9: LOTE 4 | AA9: BOGOTÁ | AB9: =+'DATOS REGIONALIZADO LOTE 4 tota'!AB7 -> 328507571 | AC9: =+Tabla37[[#This Row],[VALOR TOTAL]]+AB10 -> 548261931 | AE9: =+EXACT(AB9,AD9) -> FALSE
A10: =+'DATOS REGIONALIZADO LOTE 2'!A5 -> 2 | B10: =+'DATOS REGIONALIZADO LOTE 2'!B5 -> 6 | C10: =+'DATOS REGIONALIZADO LOTE 2'!C5 -> MICROSCOPIO ÓPTICO TRINOCULAR | D10: =+'DATOS REGIONALIZADO LOTE 2'!D5 -> UNIDAD | E10: =+'DATOS REGIONALIZADO LOTE 2'!E5 -> 0 | F10: =+'DATOS REGIONALIZADO LOTE 2'!F5 -> 1 | G10: =+'DATOS REGIONALIZADO LOTE 2'!G5 -> 0 | H10: =+'DATOS REGIONALIZADO LOTE 2'!H5 -> 0 | ... Y10: =+'DATOS REGIONALIZADO LOTE 2'!Y5 -> 46301988 | Z10: LOTE 4 | AA10: ORIENTE | AB10: =+'DATOS REGIONALIZADO LOTE 4 tota'!AB8 -> 219754360 | AE10: =+EXACT(AB10,AD10) -> FALSE
A11: =+'DATOS REGIONALIZADO LOTE 2'!A6 -> 2 | B11: =+'DATOS REGIONALIZADO LOTE 2'!B6 -> 7 | C11: =+'DATOS REGIONALIZADO LOTE 2'!C6 -> Estereomicroscopio con camara | D11: =+'DATOS REGIONALIZADO LOTE 2'!D6 -> UNIDAD | E11: =+'DATOS REGIONALIZADO LOTE 2'!E6 -> 1 | F11: =+'DATOS REGIONALIZADO LOTE 2'!F6 -> 0 | G11: =+'DATOS REGIONALIZADO LOTE 2'!G6 -> 0 | H11: =+'DATOS REGIONALIZADO LOTE 2'!H6 -> 0 | ... Y11: =+'DATOS REGIONALIZADO LOTE 2'!Y6 -> 161915416 | Z11: LOTE 5 | AA11: BOGOTÁ | AB11: =+Tabla36[[#This Row],[VALOR TOTAL]] -> #VALUE! | AC11: =+Tabla37[[#This Row],[VALOR TOTAL]]+AB12 -> #VALUE! | AE11: =+EXACT(AB11,AD11) -> #VALUE!
A12: =+'DATOS REGIONALIZADO LOTE 3'!A5 -> 3 | B12: =+'DATOS REGIONALIZADO LOTE 3'!B5 -> 8 | C12: =+'DATOS REGIONALIZADO LOTE 3'!C5 -> Baño De Flotación | D12: =+'DATOS REGIONALIZADO LOTE 3'!D5 -> UNIDAD | E12: =+'DATOS REGIONALIZADO LOTE 3'!E5 -> 1 | F12: =+'DATOS REGIONALIZADO LOTE 3'!F5 -> 0 | G12: =+'DATOS REGIONALIZADO LOTE 3'!G5 -> 0 | H12: =+'DATOS REGIONALIZADO LOTE 3'!H5 -> 0 | ... Y12: =+'DATOS REGIONALIZADO LOTE 3'!Y5 -> 7329714 | Z12: LOTE 5 | AA12: ORIENTE | AB12: =+Tabla36[[#This Row],[VALOR TOTAL]] -> #VALUE! | AE12: =+EXACT(AB12,AD12) -> #VALUE!
A13: =+'DATOS REGIONALIZADO LOTE 3'!A6 -> 3 | B13: =+'DATOS REGIONALIZADO LOTE 3'!B6 -> 9 | C13: =+'DATOS REGIONALIZADO LOTE 3'!C6 -> Central De Inclusión | D13: =+'DATOS REGIONALIZADO LOTE 3'!D6 -> UNIDAD | E13: =+'DATOS REGIONALIZADO LOTE 3'!E6 -> 1 | F13: =+'DATOS REGIONALIZADO LOTE 3'!F6 -> 0 | G13: =+'DATOS REGIONALIZADO LOTE 3'!G6 -> 0 | H13: =+'DATOS REGIONALIZADO LOTE 3'!H6 -> 0 | ... Y13: =+'DATOS REGIONALIZADO LOTE 3'!Y6 -> 101320276 | AA13: TOTAL | AB13: =+SUM(AB3:AB12) -> #VALUE! | AC13: =+SUM(AC3:AC12) -> #VALUE! | AD13: =+Y32 -> 2516493785 | AE13: =+EXACT(AB13,AD13) -> #VALUE!
A14: =+'DATOS REGIONALIZADO LOTE 3'!A7 -> 3 | B14: =+'DATOS REGIONALIZADO LOTE 3'!B7 -> 10 | C14: =+'DATOS REGIONALIZADO LOTE 3'!C7 -> Criostato | D14: =+'DATOS REGIONALIZADO LOTE 3'!D7 -> UNIDAD | E14: =+'DATOS REGIONALIZADO LOTE 3'!E7 -> 1 | F14: =+'DATOS REGIONALIZADO LOTE 3'!F7 -> 0 | G14: =+'DATOS REGIONALIZADO LOTE 3'!G7 -> 0 | H14: =+'DATOS REGIONALIZADO LOTE 3'!H7 -> 0 | ... Y14: =+'DATOS REGIONALIZADO LOTE 3'!Y7 -> 179604981
A15: =+'DATOS REGIONALIZADO LOTE 3'!A8 -> 3 | B15: =+'DATOS REGIONALIZADO LOTE 3'!B8 -> 11 | C15: =+'DATOS REGIONALIZADO LOTE 3'!C8 -> Micrótomo Motorizado | D15: =+'DATOS REGIONALIZADO LOTE 3'!D8 -> UNIDAD | E15: =+'DATOS REGIONALIZADO LOTE 3'!E8 -> 1 | F15: =+'DATOS REGIONALIZADO LOTE 3'!F8 -> 0 | G15: =+'DATOS REGIONALIZADO LOTE 3'!G8 -> 0 | H15: =+'DATOS REGIONALIZADO LOTE 3'!H8 -> 0 | ... Y15: =+'DATOS REGIONALIZADO LOTE 3'!Y8 -> 133386702
A16: =+'DATOS REGIONALIZADO LOTE 3'!A9 -> 3 | B16: =+'DATOS REGIONALIZADO LOTE 3'!B9 -> 12 | C16: =+'DATOS REGIONALIZADO LOTE 3'!C9 -> Procesador de Tejidos automatico cerrado | D16: =+'DATOS REGIONALIZADO LOTE 3'!D9 -> UNIDAD | E16: =+'DATOS REGIONALIZADO LOTE 3'!E9 -> 1 | F16: =+'DATOS REGIONALIZADO LOTE 3'!F9 -> 0 | G16: =+'DATOS REGIONALIZADO LOTE 3'!G9 -> 0 | H16: =+'DATOS REGIONALIZADO LOTE 3'!H9 -> 0 | ... Y16: =+'DATOS REGIONALIZADO LOTE 3'!Y9 -> 246779422
A17: =+'DATOS REGIONALIZADO LOTE 4 tota'!A5 -> 4 | B17: =+'DATOS REGIONALIZADO LOTE 4 tota'!B5 -> 13 | C17: =+'DATOS REGIONALIZADO LOTE 4 tota'!C5 -> Baño ultrasónico para uso en laboratorio | D17: =+'DATOS REGIONALIZADO LOTE 4 tota'!D5 -> UNIDAD | E17: =+'DATOS REGIONALIZADO LOTE 4 tota'!E5 -> 2 | F17: =+'DATOS REGIONALIZADO LOTE 4 tota'!F5 -> 0 | G17: =+'DATOS REGIONALIZADO LOTE 4 tota'!G5 -> 0 | H17: =+'DATOS REGIONALIZADO LOTE 4 tota'!H5 -> 0 | ... Y17: =+'DATOS REGIONALIZADO LOTE 4 tota'!Y5 -> 14365286 | AA17: PATOLOGIA
A18: =+'DATOS REGIONALIZADO LOTE 4 tota'!A6 -> 4 | B18: =+'DATOS REGIONALIZADO LOTE 4 tota'!B6 -> 14 | C18: =+'DATOS REGIONALIZADO LOTE 4 tota'!C6 -> Agitador tipo vórtex para tubos | D18: =+'DATOS REGIONALIZADO LOTE 4 tota'!D6 -> UNIDAD | E18: =+'DATOS REGIONALIZADO LOTE 4 tota'!E6 -> 0 | F18: =+'DATOS REGIONALIZADO LOTE 4 tota'!F6 -> 2 | G18: =+'DATOS REGIONALIZADO LOTE 4 tota'!G6 -> 0 | H18: =+'DATOS REGIONALIZADO LOTE 4 tota'!H6 -> 0 | ... Y18: =+'DATOS REGIONALIZADO LOTE 4 tota'!Y6 -> 5206980 | AA18: LABORATORIOS
A19: =+'DATOS REGIONALIZADO LOTE 4 tota'!A7 -> 8 | B19: =+'DATOS REGIONALIZADO LOTE 4 tota'!B7 -> 23 | C19: =+'DATOS REGIONALIZADO LOTE 4 tota'!C7 -> Homogenizador de tejidos, vertical con vástago: | D19: =+'DATOS REGIONALIZADO LOTE 4 tota'!D7 -> UNIDAD | E19: =+'DATOS REGIONALIZADO LOTE 4 tota'!E7 -> 1 | F19: =+'DATOS REGIONALIZADO LOTE 4 tota'!F7 -> 0 | G19: =+'DATOS REGIONALIZADO LOTE 4 tota'!G7 -> 0 | H19: =+'DATOS REGIONALIZADO LOTE 4 tota'!H7 -> 0 | ... Y19: =+'DATOS REGIONALIZADO LOTE 4 tota'!Y7 -> 19454635 | AA19: GENÉTICA
A20: =+'DATOS REGIONALIZADO LOTE 4 tota'!A8 -> 8 | B20: =+'DATOS REGIONALIZADO LOTE 4 tota'!B8 -> 24 | C20: =+'DATOS REGIONALIZADO LOTE 4 tota'!C8 -> Vórtex multiprobeta / multitubo: | D20: =+'DATOS REGIONALIZADO LOTE 4 tota'!D8 -> UNIDAD | E20: =+'DATOS REGIONALIZADO LOTE 4 tota'!E8 -> 3 | F20: =+'DATOS REGIONALIZADO LOTE 4 tota'!F8 -> 0 | G20: =+'DATOS REGIONALIZADO LOTE 4 tota'!G8 -> 0 | H20: =+'DATOS REGIONALIZADO LOTE 4 tota'!H8 -> 0 | ... Y20: =+'DATOS REGIONALIZADO LOTE 4 tota'!Y8 -> 72741357
A21: =+'DATOS REGIONALIZADO LOTE 4 tota'!A9 -> 9 | B21: =+'DATOS REGIONALIZADO LOTE 4 tota'!B9 -> 25 | C21: =+'DATOS REGIONALIZADO LOTE 4 tota'!C9 -> Esterilizador o autocleve horizontal y/o sobremesa: | D21: =+'DATOS REGIONALIZADO LOTE 4 tota'!D9 -> UNIDAD | E21: =+'DATOS REGIONALIZADO LOTE 4 tota'!E9 -> 1 | F21: =+'DATOS REGIONALIZADO LOTE 4 tota'!F9 -> 0 | G21: =+'DATOS REGIONALIZADO LOTE 4 tota'!G9 -> 0 | H21: =+'DATOS REGIONALIZADO LOTE 4 tota'!H9 -> 0 | ... Y21: =+'DATOS REGIONALIZADO LOTE 4 tota'!Y9 -> 29155000
A22: =+'DATOS REGIONALIZADO LOTE 4 tota'!A10 -> 10 | B22: =+'DATOS REGIONALIZADO LOTE 4 tota'!B10 -> 26 | C22: =+'DATOS REGIONALIZADO LOTE 4 tota'!C10 -> Evaporador concentrador de muestras con centrifuga (rapidvap) | D22: =+'DATOS REGIONALIZADO LOTE 4 tota'!D10 -> UNIDAD | E22: =+'DATOS REGIONALIZADO LOTE 4 tota'!E10 -> 1 | F22: =+'DATOS REGIONALIZADO LOTE 4 tota'!F10 -> 0 | G22: =+'DATOS REGIONALIZADO LOTE 4 tota'!G10 -> 0 | H22: =+'DATOS REGIONALIZADO LOTE 4 tota'!H10 -> 0 | ... Y22: =+'DATOS REGIONALIZADO LOTE 4 tota'!Y10 -> 192791293
A23: =+'DATOS REGIONALIZADO LOTE 4 tota'!A11 -> 11 | B23: =+'DATOS REGIONALIZADO LOTE 4 tota'!B11 -> 27 | C23: =+'DATOS REGIONALIZADO LOTE 4 tota'!C11 -> Evaporador concentrador de muestras (rapidvap) | D23: =+'DATOS REGIONALIZADO LOTE 4 tota'!D11 -> UNIDAD | E23: =+'DATOS REGIONALIZADO LOTE 4 tota'!E11 -> 0 | F23: =+'DATOS REGIONALIZADO LOTE 4 tota'!F11 -> 1 | G23: =+'DATOS REGIONALIZADO LOTE 4 tota'!G11 -> 0 | H23: =+'DATOS REGIONALIZADO LOTE 4 tota'!H11 -> 0 | ... Y23: =+'DATOS REGIONALIZADO LOTE 4 tota'!Y11 -> 136873800
A24: =+'DATOS REGIONALIZADO LOTE 4 tota'!A12 -> 12 | B24: =+'DATOS REGIONALIZADO LOTE 4 tota'!B12 -> 28 | C24: =+'DATOS REGIONALIZADO LOTE 4 tota'!C12 -> Sistema dilutor dispensador de Líquidos | D24: =+'DATOS REGIONALIZADO LOTE 4 tota'!D12 -> UNIDAD | E24: =+'DATOS REGIONALIZADO LOTE 4 tota'!E12 -> 0 | F24: =+'DATOS REGIONALIZADO LOTE 4 tota'!F12 -> 1 | G24: =+'DATOS REGIONALIZADO LOTE 4 tota'!G12 -> 0 | H24: =+'DATOS REGIONALIZADO LOTE 4 tota'!H12 -> 0 | ... Y24: =+'DATOS REGIONALIZADO LOTE 4 tota'!Y12 -> 59381000
A25: =+'DATOS REGIONALIZADO LOTE 4 tota'!A13 -> 13 | B25: =+'DATOS REGIONALIZADO LOTE 4 tota'!B13 -> 29 | C25: =+'DATOS REGIONALIZADO LOTE 4 tota'!C13 -> Sistema de esterilización con luz UV-C (254nm) (Crosslinker) | D25: =+'DATOS REGIONALIZADO LOTE 4 tota'!D13 -> UNIDAD | E25: =+'DATOS REGIONALIZADO LOTE 4 tota'!E13 -> 0 | F25: =+'DATOS REGIONALIZADO LOTE 4 tota'!F13 -> 1 | G25: =+'DATOS REGIONALIZADO LOTE 4 tota'!G13 -> 0 | H25: =+'DATOS REGIONALIZADO LOTE 4 tota'!H13 -> 0 | ... Y25: =+'DATOS REGIONALIZADO LOTE 4 tota'!Y13 -> 18292580
A26: =+'DATOS REGIONALIZADO LOTE 5'!A5 -> 5 | B26: =+'DATOS REGIONALIZADO LOTE 5'!B5 -> 15 | C26: =+'DATOS REGIONALIZADO LOTE 5'!C5 -> Centrifuga de mesa de altas revoluciones con refrigeración: | D26: =+'DATOS REGIONALIZADO LOTE 5'!D5 -> UNIDAD | E26: =+'DATOS REGIONALIZADO LOTE 5'!E5 -> 2 | F26: =+'DATOS REGIONALIZADO LOTE 5'!F5 -> 0 | G26: =+'DATOS REGIONALIZADO LOTE 5'!G5 -> 0 | H26: =+'DATOS REGIONALIZADO LOTE 5'!H5 -> 0 | ... Y26: =+'DATOS REGIONALIZADO LOTE 5'!Y5 -> 228239620
A27: =+'DATOS REGIONALIZADO LOTE 5'!A6 -> 5 | B27: =+'DATOS REGIONALIZADO LOTE 5'!B6 -> 16 | C27: =+'DATOS REGIONALIZADO LOTE 5'!C6 -> Centrifuga de mesa no refrigerada | D27: =+'DATOS REGIONALIZADO LOTE 5'!D6 -> UNIDAD | E27: =+'DATOS REGIONALIZADO LOTE 5'!E6 -> 0 | F27: =+'DATOS REGIONALIZADO LOTE 5'!F6 -> 1 | G27: =+'DATOS REGIONALIZADO LOTE 5'!G6 -> 0 | H27: =+'DATOS REGIONALIZADO LOTE 5'!H6 -> 0 | ... Y27: =+'DATOS REGIONALIZADO LOTE 5'!Y6 -> 73211033
A28: =+'DATOS REGIONALIZADO LOTE 5'!A7 -> 5 | B28: =+'DATOS REGIONALIZADO LOTE 5'!B7 -> 17 | C28: =+'DATOS REGIONALIZADO LOTE 5'!C7 -> Centrífuga de Piso refrigerada. | D28: =+'DATOS REGIONALIZADO LOTE 5'!D7 -> UNIDAD | E28: =+'DATOS REGIONALIZADO LOTE 5'!E7 -> 0 | F28: =+'DATOS REGIONALIZADO LOTE 5'!F7 -> 2 | G28: =+'DATOS REGIONALIZADO LOTE 5'!G7 -> 0 | H28: =+'DATOS REGIONALIZADO LOTE 5'!H7 -> 0 | ... Y28: =+'DATOS REGIONALIZADO LOTE 5'!Y7 -> 222853680
A29: =+'DATOS REGIONALIZADO LOTE 5'!A8 -> 5 | B29: =+'DATOS REGIONALIZADO LOTE 5'!B8 -> 18 | C29: =+'DATOS REGIONALIZADO LOTE 5'!C8 -> Microcentrífuga de alta velocidad tipo MiniSpli | D29: =+'DATOS REGIONALIZADO LOTE 5'!D8 -> UNIDAD | E29: =+'DATOS REGIONALIZADO LOTE 5'!E8 -> 0 | F29: =+'DATOS REGIONALIZADO LOTE 5'!F8 -> 2 | G29: =+'DATOS REGIONALIZADO LOTE 5'!G8 -> 0 | H29: =+'DATOS REGIONALIZADO LOTE 5'!H8 -> 0 | ... Y29: =+'DATOS REGIONALIZADO LOTE 5'!Y8 -> 14949098
A30: =+'DATOS REGIONALIZADO LOTE 6'!A5 -> 6 | B30: =+'DATOS REGIONALIZADO LOTE 6'!B5 -> 19 | C30: =+'DATOS REGIONALIZADO LOTE 6'!C5 -> scaner 3D portatil e inalambrico CR de alta precisión | D30: =+'DATOS REGIONALIZADO LOTE 6'!D5 -> UNIDAD | E30: =+'DATOS REGIONALIZADO LOTE 6'!E5 -> 1 | F30: =+'DATOS REGIONALIZADO LOTE 6'!F5 -> 0 | G30: =+'DATOS REGIONALIZADO LOTE 6'!G5 -> 0 | H30: =+'DATOS REGIONALIZADO LOTE 6'!H5 -> 0 | ... Y30: =+'DATOS REGIONALIZADO LOTE 6'!Y5 -> 19359943
A31: =+'DATOS REGIONALIZADO LOTE 6'!A6 -> 6 | B31: =+'DATOS REGIONALIZADO LOTE 6'!B6 -> 20 | C31: =+'DATOS REGIONALIZADO LOTE 6'!C6 -> impresora 3D | D31: =+'DATOS REGIONALIZADO LOTE 6'!D6 -> UNIDAD | E31: =+'DATOS REGIONALIZADO LOTE 6'!E6 -> 1 | F31: =+'DATOS REGIONALIZADO LOTE 6'!F6 -> 0 | G31: =+'DATOS REGIONALIZADO LOTE 6'!G6 -> 0 | H31: =+'DATOS REGIONALIZADO LOTE 6'!H6 -> 0 | ... Y31: =+'DATOS REGIONALIZADO LOTE 6'!Y6 -> 15473202
B32: TOTAL REGIONALIZADO | P32: =+SUM(P5:P31) -> 1896332313 | Q32: =+SUM(Q5:Q31) -> 620161472 | R32: =+SUM(R5:R31) -> 0 | S32: =+SUM(S5:S31) -> 0 | T32: =+SUM(T5:T31) -> 0 | U32: =+SUM(U5:U31) -> 0 | V32: =+SUM(V5:V31) -> 0 | W32: =+SUM(W5:W31) -> 0 | ... Y32: =+SUM(Y5:Y31) -> 2516493785
P33: BOGOTÁ | Q33: ORIENTE
N34: porcentaje presupuesto total por regional | P34: =+P32/Y32 -> 0.75356129 | Q34: =1-P34 -> 0.24643871
D36: valor presupuesto asignado total | P36: 1850000000
D38: recursos faltantes | P38: =+Y32-P36 -> 666493785

Sheet DATOS REGIONALIZADO LOTE 1
O1: VALOR UNITARIO PROMEDIO (INCLUÍDO IVA) en caso de que aplique o impuestos a que haya lugar | P1: TOTAL REGIONALIZADO | AA1: REGIONALIZADO
A2: LOTE | B2: # ITEM | C2: DESCRIPCIÓN | D2: PRESENTACIÓN | E2: CANTIDAD REGIONALIZADA | N2: CANTIDAD TOTAL / ESTIMADA | P2: VALOR TOTAL REGIONALIZADO | Y2: VALOR TOTAL | AA2: REGIONAL | AB2: VALOR TOTAL | AC2: Columna1
AA3: =+P4 -> BOGOTÁ | AB3: =+SUM(P5:P9) -> 474415466 | AC3: =+Tabla3[[#This Row],[VALOR TOTAL]]=P10 -> TRUE
E4: BOGOTÁ | F4: ORIENTE | G4: CENTRAL | H4: SUR | I4: NORTE | J4: OCCIDENTE | K4: NOROCCIDENTE | L4: SUROCCIDENTE | M4: NORORIENTE | P4: =+E4 -> BOGOTÁ | Q4: =+F4 -> ORIENTE | R4: =+G4 -> CENTRAL | S4: =+H4 -> SUR | T4: =+I4 -> NORTE | U4: =+J4 -> OCCIDENTE | V4: =+K4 -> NOROCCIDENTE | W4: =+L4 -> SUROCCIDENTE | X4: =+M4 -> NORORIENTE | AA4: =+Q4 -> ORIENTE | AB4: =SUM(Q5:Q9) -> 43091313 | AC4: =+Y9=Tabla3[[#This Row],[VALOR TOTAL]] -> TRUE
A5: 1 | B5: 1 | C5: CABINAS EXTRACTORAS PARA LABORATORIO DE ESTUPEFACIENTES DE LA REGIONAL BOGOTA (2) CABINA Y (1) CABINA PARA - PATOLOGIA - LABORATORIO DE HISTOTECNOLOGÍA | D5: UNIDAD | E5: 3 | F5: 0 | G5: 0 | H5: 0 | I5: 0 | J5: 0 | K5: 0 | L5: 0 | M5: 0 | N5: =+E5+F5 -> 3 | O5: 64542518 | P5: =+E5*O5 -> 193627554 | Q5: =+F5*O5 -> 0 | R5: =+G5*O5 -> 0 | S5: =+H5*O5 -> 0 | T5: =+I5*O5 -> 0 | U5: =+J5*O5 -> 0 | V5: =+K5*O5 -> 0 | W5: =+L5*O5 -> 0 | X5: =+M5*O5 -> 0 | Y5: =+SUM(P5:X5) -> 193627554 | AA5: TOTAL | AB5: =+SUM(AB3:AB4) -> 517506779 | AC5: =+Y10=Tabla3[[#This Row],[VALOR TOTAL]] -> TRUE
A6: 1 | B6: 2 | C6: CABINA EXTRACTORA PARA EL GRUPO DE PATOLOGIA FORENSE DE LA REGIONAL BOGOTA | D6: UNIDAD | E6: 1 | F6: 0 | G6: 0 | H6: 0 | I6: 0 | J6: 0 | K6: 0 | L6: 0 | M6: 0 | N6: =+E6+F6 -> 1 | O6: 60791847 | P6: =+E6*O6 -> 60791847 | Q6: =+F6*O6 -> 0 | R6: =+G6*O6 -> 0 | S6: =+H6*O6 -> 0 | T6: =+I6*O6 -> 0 | U6: =+J6*O6 -> 0 | V6: =+K6*O6 -> 0 | W6: =+L6*O6 -> 0 | X6: =+M6*O6 -> 0 | Y6: =+SUM(P6:X6) -> 60791847
A7: 1 | B7: 3 | C7: CABINAS EXTRACTORAS PARA EL LABORATORIO DE EVIDENCIA TRAZA DE LA REGIONAL BOGOTA | D7: UNIDAD | E7: 3 | F7: 0 | G7: 0 | H7: 0 | I7: 0 | J7: 0 | K7: 0 | L7: 0 | M7: 0 | N7: =+E7+F7 -> 3 | O7: 55298393 | P7: =+E7*O7 -> 165895179 | Q7: =+F7*O7 -> 0 | R7: =+G7*O7 -> 0 | S7: =+H7*O7 -> 0 | T7: =+I7*O7 -> 0 | U7: =+J7*O7 -> 0 | V7: =+K7*O7 -> 0 | W7: =+L7*O7 -> 0 | X7: =+M7*O7 -> 0 | Y7: =+SUM(P7:X7) -> 165895179
A8: 1 | B8: 4 | C8: CABINA EXTRACTORA PARA EL LABORATORIO DE GENÉTICA DE LA REGIONAL BOGOTA | D8: UNIDAD | E8: 1 | F8: 0 | G8: 0 | H8: 0 | I8: 0 | J8: 0 | K8: 0 | L8: 0 | M8: 0 | N8: =+E8+F8 -> 1 | O8: 54100886 | P8: =+E8*O8 -> 54100886 | Q8: =+F8*O8 -> 0 | R8: =+G8*O8 -> 0 | S8: =+H8*O8 -> 0 | T8: =+I8*O8 -> 0 | U8: =+J8*O8 -> 0 | V8: =+K8*O8 -> 0 | W8: =+L8*O8 -> 0 | X8: =+M8*O8 -> 0 | Y8: =+SUM(P8:X8) -> 54100886
A9: 1 | B9: 5 | C9: CABINA DE SEGURIDAD BIOLÓGICA CLASE II TIPO II PARA EL LABORATORIO DE GENÉTICA VILLAVICENCIO | D9: UNIDAD | E9: 0 | F9: 1 | G9: 0 | H9: 0 | I9: 0 | J9: 0 | K9: 0 | L9: 0 | M9: 0 | N9: =+E9+F9 -> 1 | O9: 43091313 | P9: =+E9*O9 -> 0 | Q9: =+F9*O9 -> 43091313 | R9: =+G9*O9 -> 0 | S9: =+H9*O9 -> 0 | T9: =+I9*O9 -> 0 | U9: =+J9*O9 -> 0 | V9: =+K9*O9 -> 0 | W9: =+L9*O9 -> 0 | X9: =+M9*O9 -> 0 | Y9: =+SUM(P9:X9) -> 43091313
B10: TOTAL REGIONALIZADO | P10: =+SUM(P5:P9) -> 474415466 | Q10: =+SUM(Q5:Q9) -> 43091313 | R10: =+SUM(R5:R9) -> 0 | S10: =+SUM(S5:S9) -> 0 | T10: =+SUM(T5:T9) -> 0 | U10: =+SUM(U5:U9) -> 0 | V10: =+SUM(V5:V9) -> 0 | W10: =+SUM(W5:W9) -> 0 | X10: =+SUM(X5:X9) -> 0 | Y10: =SUM(Y5:Y9) -> 517506779
P11: 574752018 | Q11: 53949297 | Y11: 628701315
P12: =+P11-P10-'DATOS REGIONALIZADO lote 7'!AG8 -> 60285956 | Q12: =+Q11-Q10 -> 10857984 | Y12: =+P12+Q12 -> 71143940
C14: info presupuestal | AC14: Suma de valor REG bta | AD14: Suma de valor REG oriente | AE14: total
C15: =+C30 -> código Rubro = A- 2901-0800-14-20111D-2901006-02 Nombre del proyecto = MEJORAMIENTO DE LOS PROCEDIMIENTOS Y DE LA CAPACIDAD DE RESPUESTA EN LOS SERVICIOS DE PATOLOGÍA FORENSE A NIVEL NACIONAL Nombre del Poducto = SERVICIO DE INVESTIGACION PENAL, CRIMINALISTICA Y MEDICINA LEGAL Nombre del Objeto del Gasto = ADQUISICIÓN DE BIENES Y SERVICIOS Actividad Asociada = disponer de equipos, insumos y reactivos a los laboratorios en casos de accidentes de transito | AC15: =+D30 -> 54100886 | AD15: =+E30 -> 0 | AE15: =+AC15+AD15 -> 54100886
C16: =+C31 -> código Rubro = A-2901-0800-16-20113A-2901002-02 Nombre del proyecto = FORTALECIMIENTO DEL INSTITUTO NACIONAL DE MEDICINA LEGAL Y CIENCIAS FORENSES EN ATENCIÓN A LOS RETOS DEL POSCONFLICTO A NIVEL NACIONAL Nombre del Poducto = SERVICIOS DE LABORATORIO FORENSE Nombre del Objeto del Gasto = ADQUISICIÓN DE BIENES Y SERVICIOS Actividad Asociada = contar con enseres, equipos de oficina y equipos para la dotación de los laboratorios forense de antropología | AC16: =+D31 -> 60791847 | AD16: =+E31 -> 0 | AE16: =+AC16+AD16 -> 60791847
C17: =+C32 -> código Rubro = A-2901-0800-16-20113A-2901007-02 Nombre del proyecto = FORTALECIMIENTO DEL INSTITUTO NACIONAL DE MEDICINA LEGAL Y CIENCIAS FORENSES EN ATENCIÓN A LOS RETOS DEL POSCONFLICTO A NIVEL NACIONAL Nombre del Poducto = SERVICIOS DE GENETICA FORENSE Nombre del Objeto del Gasto = ADQUISICIÓN DE BIENES Y SERVICIOS Actividad Asociada = Disponer de reactivos, insumos, equipos y herramientas informaticas para los laboratorios de genética | AC17: =+D32 -> 0 | AD17: =+E32 -> 43091313 | AE17: =+AC17+AD17 -> 43091313
C18: =+C33 -> código Rubro = A-2901-0800-9-20111D-2901002-02 Nombre del proyecto = FORTALECIMIENTO DE LA CAPACIDAD Y CALIDAD CIENTÍFICA DE LOS ENSAYOS REALIZADOS EN LOS LABORATORIOS FORENSES NACIONAL Nombre del Poducto = SERVICIOS DE LABORATORIO FORENSE Nombre del Objeto del Gasto = ADQUISICIÓN DE BIENES Y SERVICIOS Actividad Asociada = disponer de insumos, reactivos y equipos según necesidades de los laboratorios forenses | AC18: =+D33 -> 359522733 | AD18: =+E33 -> 0 | AE18: =+AC18+AD18 -> 359522733
C19: TOTAL | AC19: =SUM(AC15:AC18) -> 474415466 | AD19: =SUM(AD15:AD18) -> 43091313 | AE19: =+SUM(AE15:AE18) -> 517506779 | AF19: =+AE19=AB5 -> TRUE
C22: código Rubro = A- 2901-0800-14-20111D-2901006-02 Nombre del proyecto = MEJORAMIENTO DE LOS PROCEDIMIENTOS Y DE LA CAPACIDAD DE RESPUESTA EN LOS SERVICIOS DE PATOLOGÍA FORENSE A NIVEL NACIONAL Nombre del Poducto = SERVICIO DE INVESTIGACION PENAL, CRIMINALISTICA Y MEDICINA LEGAL Nombre del Objeto del Gasto = ADQUISICIÓN DE BIENES Y SERVICIOS Actividad Asociada = disponer de equipos, insumos y reactivos a los laboratorios en casos de accidentes de transito | AC22: 54100886 | AD22: 0
C23: código Rubro = A-2901-0800-16-20113A-2901002-02 Nombre del proyecto = FORTALECIMIENTO DEL INSTITUTO NACIONAL DE MEDICINA LEGAL Y CIENCIAS FORENSES EN ATENCIÓN A LOS RETOS DEL POSCONFLICTO A NIVEL NACIONAL Nombre del Poducto = SERVICIOS DE LABORATORIO FORENSE Nombre del Objeto del Gasto = ADQUISICIÓN DE BIENES Y SERVICIOS Actividad Asociada = contar con enseres, equipos de oficina y equipos para la dotación de los laboratorios forense de antropología | AC23: 60791847 | AD23: 0
C24: código Rubro = A-2901-0800-16-20113A-2901007-02 Nombre del proyecto = FORTALECIMIENTO DEL INSTITUTO NACIONAL DE MEDICINA LEGAL Y CIENCIAS FORENSES EN ATENCIÓN A LOS RETOS DEL POSCONFLICTO A NIVEL NACIONAL Nombre del Poducto = SERVICIOS DE GENETICA FORENSE Nombre del Objeto del Gasto = ADQUISICIÓN DE BIENES Y SERVICIOS Actividad Asociada = Disponer de reactivos, insumos, equipos y herramientas informaticas para los laboratorios de genética | AC24: 0 | AF24: 43091313
C25: código Rubro = A-2901-0800-9-20111D-2901002-02 Nombre del proyecto = FORTALECIMIENTO DE LA CAPACIDAD Y CALIDAD CIENTÍFICA DE LOS ENSAYOS REALIZADOS EN LOS LABORATORIOS FORENSES NACIONAL Nombre del Poducto = SERVICIOS DE LABORATORIO FORENSE Nombre del Objeto del Gasto = ADQUISICIÓN DE BIENES Y SERVICIOS Actividad Asociada = disponer de insumos, reactivos y equipos según necesidades de los laboratorios forenses | AC25: 359522733 | AF25: 0
AC26: =+SUM(AC22:AC25) -> 474415466
AC27: =+AC19-AC26 -> 0
C28: Etiquetas de fila | D28: Suma de valor REG bta | E28: Suma de valor REG oriente
C29: 1 | D29: 474415466 | E29: 43091313
C30: código Rubro = A- 2901-0800-14-20111D-2901006-02 Nombre del proyecto = MEJORAMIENTO DE LOS PROCEDIMIENTOS Y DE LA CAPACIDAD DE RESPUESTA EN LOS SERVICIOS DE PATOLOGÍA FORENSE A NIVEL NACIONAL Nombre del Poducto = SERVICIO DE INVESTIGACION PENAL, CRIMINALISTICA Y MEDICINA LEGAL Nombre del Objeto del Gasto = ADQUISICIÓN DE BIENES Y SERVICIOS Actividad Asociada = disponer de equipos, insumos y reactivos a los laboratorios en casos de accidentes de transito | D30: 54100886 | E30: 0
C31: código Rubro = A-2901-0800-16-20113A-2901002-02 Nombre del proyecto = FORTALECIMIENTO DEL INSTITUTO NACIONAL DE MEDICINA LEGAL Y CIENCIAS FORENSES EN ATENCIÓN A LOS RETOS DEL POSCONFLICTO A NIVEL NACIONAL Nombre del Poducto = SERVICIOS DE LABORATORIO FORENSE Nombre del Objeto del Gasto = ADQUISICIÓN DE BIENES Y SERVICIOS Actividad Asociada = contar con enseres, equipos de oficina y equipos para la dotación de los laboratorios forense de antropología | D31: 60791847 | E31: 0
C32: código Rubro = A-2901-0800-16-20113A-2901007-02 Nombre del proyecto = FORTALECIMIENTO DEL INSTITUTO NACIONAL DE MEDICINA LEGAL Y CIENCIAS FORENSES EN ATENCIÓN A LOS RETOS DEL POSCONFLICTO A NIVEL NACIONAL Nombre del Poducto = SERVICIOS DE GENETICA FORENSE Nombre del Objeto del Gasto = ADQUISICIÓN DE BIENES Y SERVICIOS Actividad Asociada = Disponer de reactivos, insumos, equipos y herramientas informaticas para los laboratorios de genética | D32: 0 | E32: 43091313
C33: código Rubro = A-2901-0800-9-20111D-2901002-02 Nombre del proyecto = FORTALECIMIENTO DE LA CAPACIDAD Y CALIDAD CIENTÍFICA DE LOS ENSAYOS REALIZADOS EN LOS LABORATORIOS FORENSES NACIONAL Nombre del Poducto = SERVICIOS DE LABORATORIO FORENSE Nombre del Objeto del Gasto = ADQUISICIÓN DE BIENES Y SERVICIOS Actividad Asociada = disponer de insumos, reactivos y equipos según necesidades de los laboratorios forenses | D33: 359522733 | E33: 0
C34: Total general | D34: 474415466 | E34: 43091313

Sheet DATOS REGIONALIZADO LOTE 2
O1: VALOR UNITARIO PROMEDIO (INCLUÍDO IVA) en caso de que aplique o impuestos a que haya lugar | P1: TOTAL REGIONALIZADO
A2: LOTE | B2: # ITEM | C2: DESCRIPCIÓN | D2: PRESENTACIÓN | E2: CANTIDAD REGIONALIZADA | N2: CANTIDAD TOTAL / ESTIMADA | P2: VALOR TOTAL REGIONALIZADO | Y2: VALOR TOTAL | AA2: REGIONALIZADO
AA3: REGIONAL | AB3: VALOR TOTAL
E4: BOGOTÁ | F4: ORIENTE | G4: CENTRAL | H4: SUR | I4: NORTE | J4: OCCIDENTE | K4: NOROCCIDENTE | L4: SUROCCIDENTE | M4: NORORIENTE | P4: =+E4 -> BOGOTÁ | Q4: =+F4 -> ORIENTE | R4: =+G4 -> CENTRAL | S4: =+H4 -> SUR | T4: =+I4 -> NORTE | U4: =+J4 -> OCCIDENTE | V4: =+K4 -> NOROCCIDENTE | W4: =+L4 -> SUROCCIDENTE | X4: =+M4 -> NORORIENTE | AA4: =+P4 -> BOGOTÁ | AB4: =+SUM(P5:P6) -> 161915416
A5: 2 | B5: 6 | C5: MICROSCOPIO ÓPTICO TRINOCULAR | D5: UNIDAD | E5: 0 | F5: 1 | G5: 0 | H5: 0 | I5: 0 | J5: 0 | K5: 0 | L5: 0 | M5: 0 | N5: =+SUM(E5:F5) -> 1 | O5: 46301988 | P5: =+E5*O5 -> 0 | Q5: =+F5*O5 -> 46301988 | R5: =+G5*O5 -> 0 | S5: =+H5*O5 -> 0 | T5: =+I5*O5 -> 0 | U5: =+J5*O5 -> 0 | V5: =+K5*O5 -> 0 | W5: =+L5*O5 -> 0 | X5: =+M5*O5 -> 0 | Y5: =+SUM(P5:X5) -> 46301988 | AA5: =+Q4 -> ORIENTE | AB5: =SUM(Q5:Q6) -> 46301988
A6: 2 | B6: 7 | C6: Estereomicroscopio con camara | D6: UNIDAD | E6: 1 | F6: 0 | G6: 0 | H6: 0 | I6: 0 | J6: 0 | K6: 0 | L6: 0 | M6: 0 | N6: =+SUM(E6:F6) -> 1 | O6: 161915416 | P6: =+E6*O6 -> 161915416 | Q6: =+F6*O6 -> 0 | R6: =+G6*O6 -> 0 | S6: =+H6*O6 -> 0 | T6: =+I6*O6 -> 0 | U6: =+J6*O6 -> 0 | V6: =+K6*O6 -> 0 | W6: =+L6*O6 -> 0 | X6: =+M6*O6 -> 0 | Y6: =+SUM(P6:X6) -> 161915416 | AA6: TOTAL | AB6: =+SUM(AB4:AB5) -> 208217404
B7: TOTAL REGIONALIZADO | P7: =+SUM(P5:P6) -> 161915416 | Q7: =+SUM(Q5:Q6) -> 46301988 | R7: =+SUM(R5:R6) -> 0 | S7: =+SUM(S5:S6) -> 0 | T7: =+SUM(T5:T6) -> 0 | U7: =+SUM(U5:U6) -> 0 | V7: =+SUM(V5:V6) -> 0 | W7: =+SUM(W5:W6) -> 0 | X7: =+SUM(X5:X6) -> 0 | Y7: =SUM(Y5:Y6) -> 208217404
B10: info presupuestal | AB10: Suma de valor REG bta | AC10: Suma de valor REG oriente | AD10: total
B11: código Rubro = A-2901-0800-16-20113A-2901002-02 Nombre del proyecto = FORTALECIMIENTO DEL INSTITUTO NACIONAL DE MEDICINA LEGAL Y CIENCIAS FORENSES EN ATENCIÓN A LOS RETOS DEL POSCONFLICTO A NIVEL NACIONAL Nombre del Poducto = SERVICIOS DE LABORATORIO FORENSE Nombre del Objeto del Gasto = ADQUISICIÓN DE BIENES Y SERVICIOS Actividad Asociada = contar con enseres, equipos de oficina y equipos para la dotación de los laboratorios forense de antropología | AB11: 161915416 | AC11: 0 | AD11: =+AB11+AC11 -> 161915416
B12: código Rubro = B-2901-0800-16-20113A-2901002-02 Nombre del proyecto = FORTALECIMIENTO DEL INSTITUTO NACIONAL DE MEDICINA LEGAL Y CIENCIAS FORENSES EN ATENCIÓN A LOS RETOS DEL POSCONFLICTO A NIVEL NACIONAL Nombre del Poducto = SERVICIOS DE LABORATORIO FORENSE Nombre del Objeto del Gasto = ADQUISICIÓN DE BIENES Y SERVICIOS Actividad Asociada = disponer de insumos, reactivos y equipos según necesidades de los laboratorios forenses | AB12: 0 | AC12: 46301988 | AD12: =+AB12+AC12 -> 46301988
B13: TOTAL | AB13: =SUM(AB11:AB12) -> 161915416 | AC13: =SUM(AC11:AC12) -> 46301988 | AD13: =SUM(AD11:AD12) -> 208217404 | AF13: =+AD13=AB6 -> TRUE
C15: Etiquetas de fila | D15: Suma de valor REG bta | E15: Suma de valor REG oriente
C16: 2 | D16: 161915416 | E16: 46301988
C17: código Rubro = A-2901-0800-16-20113A-2901002-02 Nombre del proyecto = FORTALECIMIENTO DEL INSTITUTO NACIONAL DE MEDICINA LEGAL Y CIENCIAS FORENSES EN ATENCIÓN A LOS RETOS DEL POSCONFLICTO A NIVEL NACIONAL Nombre del Poducto = SERVICIOS DE LABORATORIO FORENSE Nombre del Objeto del Gasto = ADQUISICIÓN DE BIENES Y SERVICIOS Actividad Asociada = contar con enseres, equipos de oficina y equipos para la dotación de los laboratorios forense de antropología | D17: 161915416 | E17: 0
C18: código Rubro = B-2901-0800-16-20113A-2901002-02 Nombre del proyecto = FORTALECIMIENTO DEL INSTITUTO NACIONAL DE MEDICINA LEGAL Y CIENCIAS FORENSES EN ATENCIÓN A LOS RETOS DEL POSCONFLICTO A NIVEL NACIONAL Nombre del Poducto = SERVICIOS DE LABORATORIO FORENSE Nombre del Objeto del Gasto = ADQUISICIÓN DE BIENES Y SERVICIOS Actividad Asociada = disponer de insumos, reactivos y equipos según necesidades de los laboratorios forenses | D18: 0 | E18: 46301988
C19: Total general | D19: 161915416 | E19: 46301988

Sheet CONS ASIGNACION RUBROS (3)
H1: VALOR UNITARIO PROMEDIO (INCLUÍDO IVA) en caso de que aplique o impuestos a que haya lugar | I1: TOTAL REGIONALIZADO | L1: grupo | M1: codigo rubro | N1: valor | O1: pendiente | AB1: REGIONALIZADO | AE1: VALIDACIÓN | AF1: VER/
E2: CANTIDAD REGIONALIZADA | I2: VALOR TOTAL REGIONALIZADO | K2: VALOR TOTAL | AB2: REGIONAL | AC2: VALOR TOTAL | AD2: TOTAL POR LOTE | AE2: VALIDACION | AF2: VER/
AA3: LOTE 1 | AB3: =+I4 -> valor REG bta | AC3: =+SUM(I5:I9) -> 474415466 | AD3: =+SUM(AC3:AC4) -> 517506779 | AF3: =+EXACT(AC3,AE3) -> FALSE
A4: LOTE | B4: # ITEM | C4: DESCRIPCIÓN | D4: PRESENTACIÓN | E4: BOGOTÁ | F4: ORIENTE | G4: CANTIDAD TOTAL / ESTIMADA | H4: valor unitario | I4: valor REG bta | J4: valor REG oriente | K4: VALOR TOTAL | L4: grupo | M4: codigo rubro | N4: valor rubro | O4: valor restante | P4: info presupuestal | Q4: positivos | R4: negativos | AA4: LOTE 1 | AB4: =+J4 -> valor REG oriente | AC4: =SUM(J5:J9) -> 43091313 | AF4: =+EXACT(AC4,AE4) -> FALSE
A5: =+'DATOS REGIONALIZADO LOTE 1'!A5 -> 1 | B5: =+'DATOS REGIONALIZADO LOTE 1'!B5 -> 1 | C5: =+'DATOS REGIONALIZADO LOTE 1'!C5 -> CABINAS EXTRACTORAS PARA LABORATORIO DE ESTUPEFACIENTES DE LA REGIONAL BOGOTA (2) CABINA Y (1) CABINA PARA - PATOLOGIA - LABORATORIO DE HISTOTECNOLOGÍA | D5: =+'DATOS REGIONALIZADO LOTE 1'!D5 -> UNIDAD | E5: =+'DATOS REGIONALIZADO LOTE 1'!E5 -> 3 | F5: =+'DATOS REGIONALIZADO LOTE 1'!F5 -> 0 | G5: =+'DATOS REGIONALIZADO LOTE 1'!N5 -> 3 | H5: =+'DATOS REGIONALIZADO LOTE 1'!O5 -> 64542518 | I5: =+'DATOS REGIONALIZADO LOTE 1'!P5 -> 193627554 | J5: =+'DATOS REGIONALIZADO LOTE 1'!Q5 -> 0 | K5: =+'DATOS REGIONALIZADO LOTE 1'!Y5 -> 193627554 | L5: LABORATORIO | M5: A-2901-0800-9-20111D-2901002-02 | N5: =+VLOOKUP(M5,Hoja3!$B$2:$E$8,4,FALSE) -> 455552981 | O5: =+N5-K5 -> 261925427 | P5: =+VLOOKUP(M5,Hoja3!$B$2:$D$8,3,FALSE) -> código Rubro = A-2901-0800-9-20111D-2901002-02 Nombre del proyecto = FORTALECIMIENTO DE LA CAPACIDAD Y CALIDAD CIENTÍFICA DE LOS ENSAYOS REALIZADOS EN LOS LABORATORIOS FORENSES NACIONAL Nombre del Poducto = SERVICIOS DE LABORATORIO FORENSE Nombre del Objeto del Gasto = ADQUISICIÓN DE BIENES Y SERVICIOS Actividad Asociada = disponer de insumos, reactivos y equipos según necesidades de los laboratorios forenses | Q5: =+K5 -> 193627554 | AA5: LOTE 2 | AB5: BOGOTÁ | AC5: =+'DATOS REGIONALIZADO LOTE 2'!P7 -> 161915416 | AD5: =+Tabla3791025[[#This Row],[VALOR TOTAL]]+AC6 -> 208217404 | AF5: =+EXACT(AC5,AE5) -> FALSE
A6: =+'DATOS REGIONALIZADO LOTE 1'!A6 -> 1 | B6: =+'DATOS REGIONALIZADO LOTE 1'!B6 -> 2 | C6: =+'DATOS REGIONALIZADO LOTE 1'!C6 -> CABINA EXTRACTORA PARA EL GRUPO DE PATOLOGIA FORENSE DE LA REGIONAL BOGOTA | D6: =+'DATOS REGIONALIZADO LOTE 1'!D6 -> UNIDAD | E6: =+'DATOS REGIONALIZADO LOTE 1'!E6 -> 1 | F6: =+'DATOS REGIONALIZADO LOTE 1'!F6 -> 0 | G6: =+'DATOS REGIONALIZADO LOTE 1'!N6 -> 1 | H6: =+'DATOS REGIONALIZADO LOTE 1'!O6 -> 60791847 | I6: =+'DATOS REGIONALIZADO LOTE 1'!P6 -> 60791847 | J6: =+'DATOS REGIONALIZADO LOTE 1'!Q6 -> 0 | K6: =+'DATOS REGIONALIZADO LOTE 1'!Y6 -> 60791847 | L6: PATOLOGIA | M6: A-2901-0800-16-20113A-2901002-02 | N6: =+VLOOKUP(M6,Hoja3!$B$2:$E$8,4,FALSE) -> 465218379 | O6: =+N6-K6 -> 404426532 | P6: =+VLOOKUP(M6,Hoja3!$B$2:$D$8,3,FALSE) -> código Rubro = A-2901-0800-16-20113A-2901002-02 Nombre del proyecto = FORTALECIMIENTO DEL INSTITUTO NACIONAL DE MEDICINA LEGAL Y CIENCIAS FORENSES EN ATENCIÓN A LOS RETOS DEL POSCONFLICTO A NIVEL NACIONAL Nombre del Poducto = SERVICIOS DE LABORATORIO FORENSE Nombre del Objeto del Gasto = ADQUISICIÓN DE BIENES Y SERVICIOS Actividad Asociada = contar con enseres, equipos de oficina y equipos para la dotación de los laboratorios forense de antropología | Q6: =+K6 -> 60791847 | AA6: LOTE 2 | AB6: ORIENTE | AC6: =+'DATOS REGIONALIZADO LOTE 2'!Q7 -> 46301988 | AF6: =+EXACT(AC6,AE6) -> FALSE
A7: =+'DATOS REGIONALIZADO LOTE 1'!A7 -> 1 | B7: =+'DATOS REGIONALIZADO LOTE 1'!B7 -> 3 | C7: =+'DATOS REGIONALIZADO LOTE 1'!C7 -> CABINAS EXTRACTORAS PARA EL LABORATORIO DE EVIDENCIA TRAZA DE LA REGIONAL BOGOTA | D7: =+'DATOS REGIONALIZADO LOTE 1'!D7 -> UNIDAD | E7: =+'DATOS REGIONALIZADO LOTE 1'!E7 -> 3 | F7: =+'DATOS REGIONALIZADO LOTE 1'!F7 -> 0 | G7: =+'DATOS REGIONALIZADO LOTE 1'!N7 -> 3 | H7: =+'DATOS REGIONALIZADO LOTE 1'!O7 -> 55298393 | I7: =+'DATOS REGIONALIZADO LOTE 1'!P7 -> 165895179 | J7: =+'DATOS REGIONALIZADO LOTE 1'!Q7 -> 0 | K7: =+'DATOS REGIONALIZADO LOTE 1'!Y7 -> 165895179 | L7: LABORATORIO | M7: A-2901-0800-9-20111D-2901002-02 | N7: =+O5 -> 261925427 | O7: =+N7-K7 -> 96030248 | P7: =+VLOOKUP(M7,Hoja3!$B$2:$D$8,3,FALSE) -> código Rubro = A-2901-0800-9-20111D-2901002-02 Nombre del proyecto = FORTALECIMIENTO DE LA CAPACIDAD Y CALIDAD CIENTÍFICA DE LOS ENSAYOS REALIZADOS EN LOS LABORATORIOS FORENSES NACIONAL Nombre del Poducto = SERVICIOS DE LABORATORIO FORENSE Nombre del Objeto del Gasto = ADQUISICIÓN DE BIENES Y SERVICIOS Actividad Asociada = disponer de insumos, reactivos y equipos según necesidades de los laboratorios forenses | Q7: =+K7 -> 165895179 | AA7: LOTE 3 | AB7: BOGOTÁ | AC7: =+Tabla34[[#This Row],[VALOR TOTAL]] -> 668421095 | AD7: =+Tabla3791025[[#This Row],[VALOR TOTAL]]+AC8 -> 668421095 | AF7: =+EXACT(AC7,AE7) -> FALSE
A8: =+'DATOS REGIONALIZADO LOTE 1'!A8 -> 1 | B8: =+'DATOS REGIONALIZADO LOTE 1'!B8 -> 4 | C8: =+'DATOS REGIONALIZADO LOTE 1'!C8 -> CABINA EXTRACTORA PARA EL LABORATORIO DE GENÉTICA DE LA REGIONAL BOGOTA | D8: =+'DATOS REGIONALIZADO LOTE 1'!D8 -> UNIDAD | E8: =+'DATOS REGIONALIZADO LOTE 1'!E8 -> 1 | F8: =+'DATOS REGIONALIZADO LOTE 1'!F8 -> 0 | G8: =+'DATOS REGIONALIZADO LOTE 1'!N8 -> 1 | H8: =+'DATOS REGIONALIZADO LOTE 1'!O8 -> 54100886 | I8: =+'DATOS REGIONALIZADO LOTE 1'!P8 -> 54100886 | J8: =+'DATOS REGIONALIZADO LOTE 1'!Q8 -> 0 | K8: =+'DATOS REGIONALIZADO LOTE 1'!Y8 -> 54100886 | L8: GENÉTICA | M8: A- 2901-0800-14-20111D-2901006-02 | N8: =+VLOOKUP(M8,Hoja3!$B$2:$E$8,4,FALSE) -> 100920000 | O8: =+N8-K8 -> 46819114 | P8: =+VLOOKUP(M8,Hoja3!$B$2:$D$8,3,FALSE) -> código Rubro = A- 2901-0800-14-20111D-2901006-02 Nombre del proyecto = MEJORAMIENTO DE LOS PROCEDIMIENTOS Y DE LA CAPACIDAD DE RESPUESTA EN LOS SERVICIOS DE PATOLOGÍA FORENSE A NIVEL NACIONAL Nombre del Poducto = SERVICIO DE INVESTIGACION PENAL, CRIMINALISTICA Y MEDICINA LEGAL Nombre del Objeto del Gasto = ADQUISICIÓN DE BIENES Y SERVICIOS Actividad Asociada = disponer de equipos, insumos y reactivos a los laboratorios en casos de accidentes de transito | Q8: =+K8 -> 54100886 | AA8: LOTE 3 | AB8: ORIENTE | AC8: =+Tabla34[[#This Row],[VALOR TOTAL]] -> 0 | AF8: =+EXACT(AC8,AE8) -> FALSE
A9: =+'DATOS REGIONALIZADO LOTE 1'!A9 -> 1 | B9: =+'DATOS REGIONALIZADO LOTE 1'!B9 -> 5 | C9: =+'DATOS REGIONALIZADO LOTE 1'!C9 -> CABINA DE SEGURIDAD BIOLÓGICA CLASE II TIPO II PARA EL LABORATORIO DE GENÉTICA VILLAVICENCIO | D9: =+'DATOS REGIONALIZADO LOTE 1'!D9 -> UNIDAD | E9: =+'DATOS REGIONALIZADO LOTE 1'!E9 -> 0 | F9: =+'DATOS REGIONALIZADO LOTE 1'!F9 -> 1 | G9: =+'DATOS REGIONALIZADO LOTE 1'!N9 -> 1 | H9: =+'DATOS REGIONALIZADO LOTE 1'!O9 -> 43091313 | I9: =+'DATOS REGIONALIZADO LOTE 1'!P9 -> 0 | J9: =+'DATOS REGIONALIZADO LOTE 1'!Q9 -> 43091313 | K9: =+'DATOS REGIONALIZADO LOTE 1'!Y9 -> 43091313 | L9: GENÉTICA | M9: A-2901-0800-16-20113A-2901007-02 | N9: =+VLOOKUP(M9,Hoja3!$B$2:$E$8,4,FALSE) -> 300000000 | O9: =+N9-K9 -> 256908687 | P9: =+VLOOKUP(M9,Hoja3!$B$2:$D$8,3,FALSE) -> código Rubro = A-2901-0800-16-20113A-2901007-02 Nombre del proyecto = FORTALECIMIENTO DEL INSTITUTO NACIONAL DE MEDICINA LEGAL Y CIENCIAS FORENSES EN ATENCIÓN A LOS RETOS DEL POSCONFLICTO A NIVEL NACIONAL Nombre del Poducto = SERVICIOS DE GENETICA FORENSE Nombre del Objeto del Gasto = ADQUISICIÓN DE BIENES Y SERVICIOS Actividad Asociada = Disponer de reactivos, insumos, equipos y herramientas informaticas para los laboratorios de genética | Q9: =+J9 -> 43091313 | AA9: LOTE 4 | AB9: BOGOTÁ | AC9: =+'DATOS REGIONALIZADO LOTE 4 tota'!AB7 -> 328507571 | AD9: =+Tabla3791025[[#This Row],[VALOR TOTAL]]+AC10 -> 548261931 | AF9: =+EXACT(AC9,AE9) -> FALSE
A10: =+'DATOS REGIONALIZADO LOTE 2'!A5 -> 2 | B10: =+'DATOS REGIONALIZADO LOTE 2'!B5 -> 6 | C10: =+'DATOS REGIONALIZADO LOTE 2'!C5 -> MICROSCOPIO ÓPTICO TRINOCULAR | D10: =+'DATOS REGIONALIZADO LOTE 2'!D5 -> UNIDAD | E10: =+'DATOS REGIONALIZADO LOTE 2'!E5 -> 0 | F10: =+'DATOS REGIONALIZADO LOTE 2'!F5 -> 1 | G10: =+'DATOS REGIONALIZADO LOTE 2'!N5 -> 1 | H10: =+'DATOS REGIONALIZADO LOTE 2'!O5 -> 46301988 | I10: =+'DATOS REGIONALIZADO LOTE 2'!P5 -> 0 | J10: =+'DATOS REGIONALIZADO LOTE 2'!Q5 -> 46301988 | K10: =+'DATOS REGIONALIZADO LOTE 2'!Y5 -> 46301988 | L10: LABORATORIO | M10: B-2901-0800-16-20113A-2901002-02 | N10: =+VLOOKUP(M10,Hoja3!$B$2:$E$8,4,FALSE) -> 98308640 | O10: =+N10-K10 -> 52006652 | P10: =+VLOOKUP(M10,Hoja3!$B$2:$D$8,3,FALSE) -> código Rubro = B-2901-0800-16-20113A-2901002-02 Nombre del proyecto = FORTALECIMIENTO DEL INSTITUTO NACIONAL DE MEDICINA LEGAL Y CIENCIAS FORENSES EN ATENCIÓN A LOS RETOS DEL POSCONFLICTO A NIVEL NACIONAL Nombre del Poducto = SERVICIOS DE LABORATORIO FORENSE Nombre del Objeto del Gasto = ADQUISICIÓN DE BIENES Y SERVICIOS Actividad Asociada = disponer de insumos, reactivos y equipos según necesidades de los laboratorios forenses | Q10: =+K10 -> 46301988 | AA10: LOTE 4 | AB10: ORIENTE | AC10: =+'DATOS REGIONALIZADO LOTE 4 tota'!AB8 -> 219754360 | AF10: =+EXACT(AC10,AE10) -> FALSE
A11: =+'DATOS REGIONALIZADO LOTE 2'!A6 -> 2 | B11: =+'DATOS REGIONALIZADO LOTE 2'!B6 -> 7 | C11: =+'DATOS REGIONALIZADO LOTE 2'!C6 -> Estereomicroscopio con camara | D11: =+'DATOS REGIONALIZADO LOTE 2'!D6 -> UNIDAD | E11: =+'DATOS REGIONALIZADO LOTE 2'!E6 -> 1 | F11: =+'DATOS REGIONALIZADO LOTE 2'!F6 -> 0 | G11: =+'DATOS REGIONALIZADO LOTE 2'!N6 -> 1 | H11: =+'DATOS REGIONALIZADO LOTE 2'!O6 -> 161915416 | I11: =+'DATOS REGIONALIZADO LOTE 2'!P6 -> 161915416 | J11: =+'DATOS REGIONALIZADO LOTE 2'!Q6 -> 0 | K11: =+'DATOS REGIONALIZADO LOTE 2'!Y6 -> 161915416 | L11: PATOLOGIA | M11: A-2901-0800-16-20113A-2901002-02 | N11: =+O6 -> 404426532 | O11: =+N11-K11 -> 242511116 | P11: =+VLOOKUP(M11,Hoja3!$B$2:$D$8,3,FALSE) -> código Rubro = A-2901-0800-16-20113A-2901002-02 Nombre del proyecto = FORTALECIMIENTO DEL INSTITUTO NACIONAL DE MEDICINA LEGAL Y CIENCIAS FORENSES EN ATENCIÓN A LOS RETOS DEL POSCONFLICTO A NIVEL NACIONAL Nombre del Poducto = SERVICIOS DE LABORATORIO FORENSE Nombre del Objeto del Gasto = ADQUISICIÓN DE BIENES Y SERVICIOS Actividad Asociada = contar con enseres, equipos de oficina y equipos para la dotación de los laboratorios forense de antropología | Q11: =+K11 -> 161915416 | AA11: LOTE 5 | AB11: BOGOTÁ | AC11: =+Tabla36[[#This Row],[VALOR TOTAL]] -> #VALUE! | AD11: =+Tabla3791025[[#This Row],[VALOR TOTAL]]+AC12 -> #VALUE! | AF11: =+EXACT(AC11,AE11) -> #VALUE!
A12: =+'DATOS REGIONALIZADO LOTE 3'!A5 -> 3 | B12: =+'DATOS REGIONALIZADO LOTE 3'!B5 -> 8 | C12: =+'DATOS REGIONALIZADO LOTE 3'!C5 -> Baño De Flotación | D12: =+'DATOS REGIONALIZADO LOTE 3'!D5 -> UNIDAD | E12: =+'DATOS REGIONALIZADO LOTE 3'!E5 -> 1 | F12: =+'DATOS REGIONALIZADO LOTE 3'!F5 -> 0 | G12: =+'DATOS REGIONALIZADO LOTE 3'!N5 -> 1 | H12: =+'DATOS REGIONALIZADO LOTE 3'!O5 -> 7329714 | I12: =+'DATOS REGIONALIZADO LOTE 3'!P5 -> 7329714 | J12: =+'DATOS REGIONALIZADO LOTE 3'!Q5 -> 0 | K12: =+'DATOS REGIONALIZADO LOTE 3'!Y5 -> 7329714 | L12: PATOLOGIA | M12: C-2901-0800-14-20111D-2901006-02 | N12: =+VLOOKUP(M12,Hoja3!$B$2:$E$8,4,FALSE) -> #N/A | O12: =+N12-K12 -> #N/A | P12: =+VLOOKUP(M12,Hoja3!$B$2:$D$8,3,FALSE) -> #N/A | Q12: =+K12 -> 7329714 | AA12: LOTE 5 | AB12: ORIENTE | AC12: =+Tabla36[[#This Row],[VALOR TOTAL]] -> #VALUE! | AF12: =+EXACT(AC12,AE12) -> #VALUE!
A13: =+'DATOS REGIONALIZADO LOTE 3'!A6 -> 3 | B13: =+'DATOS REGIONALIZADO LOTE 3'!B6 -> 9 | C13: =+'DATOS REGIONALIZADO LOTE 3'!C6 -> Central De Inclusión | D13: =+'DATOS REGIONALIZADO LOTE 3'!D6 -> UNIDAD | E13: =+'DATOS REGIONALIZADO LOTE 3'!E6 -> 1 | F13: =+'DATOS REGIONALIZADO LOTE 3'!F6 -> 0 | G13: =+'DATOS REGIONALIZADO LOTE 3'!N6 -> 1 | H13: =+'DATOS REGIONALIZADO LOTE 3'!O6 -> 101320276 | I13: =+'DATOS REGIONALIZADO LOTE 3'!P6 -> 101320276 | J13: =+'DATOS REGIONALIZADO LOTE 3'!Q6 -> 0 | K13: =+'DATOS REGIONALIZADO LOTE 3'!Y6 -> 101320276 | L13: PATOLOGIA | M13: A-2901-0800-16-20113A-2901002-02 | N13: =+O11 -> 242511116 | O13: =+N13-K13 -> 141190840 | P13: =+VLOOKUP(M13,Hoja3!$B$2:$D$8,3,FALSE) -> código Rubro = A-2901-0800-16-20113A-2901002-02 Nombre del proyecto = FORTALECIMIENTO DEL INSTITUTO NACIONAL DE MEDICINA LEGAL Y CIENCIAS FORENSES EN ATENCIÓN A LOS RETOS DEL POSCONFLICTO A NIVEL NACIONAL Nombre del Poducto = SERVICIOS DE LABORATORIO FORENSE Nombre del Objeto del Gasto = ADQUISICIÓN DE BIENES Y SERVICIOS Actividad Asociada = contar con enseres, equipos de oficina y equipos para la dotación de los laboratorios forense de antropología | Q13: =+K13 -> 101320276 | AB13: TOTAL | AC13: =+SUM(AC3:AC12) -> #VALUE! | AD13: =+SUM(AD3:AD12) -> #VALUE! | AE13: =+K34 -> 2646466360 | AF13: =+EXACT(AC13,AE13) -> #VALUE!
A14: =+'DATOS REGIONALIZADO LOTE 3'!A7 -> 3 | B14: =+'DATOS REGIONALIZADO LOTE 3'!B7 -> 10 | C14: =+'DATOS REGIONALIZADO LOTE 3'!C7 -> Criostato | D14: =+'DATOS REGIONALIZADO LOTE 3'!D7 -> UNIDAD | E14: =+'DATOS REGIONALIZADO LOTE 3'!E7 -> 1 | F14: =+'DATOS REGIONALIZADO LOTE 3'!F7 -> 0 | G14: =+'DATOS REGIONALIZADO LOTE 3'!N7 -> 1 | H14: =+'DATOS REGIONALIZADO LOTE 3'!O7 -> 179604981 | I14: =+'DATOS REGIONALIZADO LOTE 3'!P7 -> 179604981 | J14: =+'DATOS REGIONALIZADO LOTE 3'!Q7 -> 0 | K14: =+'DATOS REGIONALIZADO LOTE 3'!Y7 -> 179604981 | L14: PATOLOGIA | M14: C-2901-0800-14-20111D-2901006-02 | N14: =+O12 -> #N/A | O14: =+N14-K14 -> #N/A | P14: =+VLOOKUP(M14,Hoja3!$B$2:$D$8,3,FALSE) -> #N/A | Q14: =+K14 -> 179604981
A15: =+'DATOS REGIONALIZADO LOTE 3'!A8 -> 3 | B15: =+'DATOS REGIONALIZADO LOTE 3'!B8 -> 11 | C15: =+'DATOS REGIONALIZADO LOTE 3'!C8 -> Micrótomo Motorizado | D15: =+'DATOS REGIONALIZADO LOTE 3'!D8 -> UNIDAD | E15: =+'DATOS REGIONALIZADO LOTE 3'!E8 -> 1 | F15: =+'DATOS REGIONALIZADO LOTE 3'!F8 -> 0 | G15: =+'DATOS REGIONALIZADO LOTE 3'!N8 -> 1 | H15: =+'DATOS REGIONALIZADO LOTE 3'!O8 -> 133386702 | I15: =+'DATOS REGIONALIZADO LOTE 3'!P8 -> 133386702 | J15: =+'DATOS REGIONALIZADO LOTE 3'!Q8 -> 0 | K15: =+'DATOS REGIONALIZADO LOTE 3'!Y8 -> 133386702 | L15: PATOLOGIA | M15: B-2901-0800-14-20111D-2901006-02 | N15: =+K15 -> 133386702 | O15: =+N15-K15 -> 0 | P15: =+VLOOKUP(M15,Hoja3!$B$2:$D$8,3,FALSE) -> código Rubro = B-2901-0800-14-20111D-2901006-02 Nombre del proyecto = MEJORAMIENTO DE LOS PROCEDIMIENTOS Y DE LA CAPACIDAD DE RESPUESTA EN LOS SERVICIOS DE PATOLOGÍA FORENSE A NIVEL NACIONAL Nombre del Poducto = SERVICIO DE INVESTIGACION PENAL, CRIMINALISTICA Y MEDICINA LEGAL Nombre del Objeto del Gasto = ADQUISICIÓN DE BIENES Y SERVICIOS Actividad Asociada = disponer con bienes y servicios según los requisitos de la NTC ISO/IEC 17025 en casos de accidentes de transito | Q15: =+I15+O15 -> 133386702 | R15: =+O15 -> 0
A16: =+'DATOS REGIONALIZADO LOTE 3'!A9 -> 3 | B16: =+'DATOS REGIONALIZADO LOTE 3'!B9 -> 12 | C16: =+'DATOS REGIONALIZADO LOTE 3'!C9 -> Procesador de Tejidos automatico cerrado | D16: =+'DATOS REGIONALIZADO LOTE 3'!D9 -> UNIDAD | E16: =+'DATOS REGIONALIZADO LOTE 3'!E9 -> 1 | F16: =+'DATOS REGIONALIZADO LOTE 3'!F9 -> 0 | G16: =+'DATOS REGIONALIZADO LOTE 3'!N9 -> 1 | H16: 113065305 | I16: =+H16 -> 113065305 | J16: =+'DATOS REGIONALIZADO LOTE 3'!Q9 -> 0 | K16: =+I16 -> 113065305 | L16: PATOLOGIA | M16: C-2901-0800-14-20111D-2901006-02 | N16: =+O14 -> #N/A | P16: =+VLOOKUP(M16,Hoja3!$B$2:$D$8,3,FALSE) -> #N/A | Q16: =+N16 -> #N/A
A17: 3 | B17: 12 | C17: Procesador de Tejidos | D17: uni | E17: 1 | F17: 0 | G17: 1 | H17: 133714117 | I17: =+H17*E17 -> 133714117 | K17: =+I17 -> 133714117 | L17: PATOLOGIA | M17: A-2901-0800-16-20113A-2901002-02 | N17: =+K17 -> 133714117 | O17: =+N17-I17 -> 0 | P17: =+VLOOKUP(M17,Hoja3!$B$2:$D$8,3,FALSE) -> código Rubro = A-2901-0800-16-20113A-2901002-02 Nombre del proyecto = FORTALECIMIENTO DEL INSTITUTO NACIONAL DE MEDICINA LEGAL Y CIENCIAS FORENSES EN ATENCIÓN A LOS RETOS DEL POSCONFLICTO A NIVEL NACIONAL Nombre del Poducto = SERVICIOS DE LABORATORIO FORENSE Nombre del Objeto del Gasto = ADQUISICIÓN DE BIENES Y SERVICIOS Actividad Asociada = contar con enseres, equipos de oficina y equipos para la dotación de los laboratorios forense de antropología | Q17: =+N17 -> 133714117 | R17: =+O17 -> 0 | S17: =+Q17-R17 -> 133714117
A18: =+'DATOS REGIONALIZADO LOTE 4 tota'!A5 -> 4 | B18: =+'DATOS REGIONALIZADO LOTE 4 tota'!B5 -> 13 | C18: =+'DATOS REGIONALIZADO LOTE 4 tota'!C5 -> Baño ultrasónico para uso en laboratorio | D18: =+'DATOS REGIONALIZADO LOTE 4 tota'!D5 -> UNIDAD | E18: =+'DATOS REGIONALIZADO LOTE 4 tota'!E5 -> 2 | F18: =+'DATOS REGIONALIZADO LOTE 4 tota'!F5 -> 0 | G18: =+'DATOS REGIONALIZADO LOTE 4 tota'!N5 -> 2 | H18: =+'DATOS REGIONALIZADO LOTE 4 tota'!O5 -> 7182643 | I18: =+'DATOS REGIONALIZADO LOTE 4 tota'!P5 -> 14365286 | J18: =+'DATOS REGIONALIZADO LOTE 4 tota'!Q5 -> 0 | K18: =+'DATOS REGIONALIZADO LOTE 4 tota'!Y5 -> 14365286 | L18: LABORATORIO | M18: A- 2901-0800-14-20111D-2901006-02 | N18: =+K18 -> 14365286 | O18: =+N18-K18 -> 0 | P18: =+VLOOKUP(M18,Hoja3!$B$2:$D$8,3,FALSE) -> código Rubro = A- 2901-0800-14-20111D-2901006-02 Nombre del proyecto = MEJORAMIENTO DE LOS PROCEDIMIENTOS Y DE LA CAPACIDAD DE RESPUESTA EN LOS SERVICIOS DE PATOLOGÍA FORENSE A NIVEL NACIONAL Nombre del Poducto = SERVICIO DE INVESTIGACION PENAL, CRIMINALISTICA Y MEDICINA LEGAL Nombre del Objeto del Gasto = ADQUISICIÓN DE BIENES Y SERVICIOS Actividad Asociada = disponer de equipos, insumos y reactivos a los laboratorios en casos de accidentes de transito | Q18: =+N18 -> 14365286 | R18: =+O18 -> 0 | AB18: PATOLOGIA
A19: =+'DATOS REGIONALIZADO LOTE 4 tota'!A6 -> 4 | B19: =+'DATOS REGIONALIZADO LOTE 4 tota'!B6 -> 14 | C19: =+'DATOS REGIONALIZADO LOTE 4 tota'!C6 -> Agitador tipo vórtex para tubos | D19: =+'DATOS REGIONALIZADO LOTE 4 tota'!D6 -> UNIDAD | E19: =+'DATOS REGIONALIZADO LOTE 4 tota'!E6 -> 0 | F19: =+'DATOS REGIONALIZADO LOTE 4 tota'!F6 -> 2 | G19: =+'DATOS REGIONALIZADO LOTE 4 tota'!N6 -> 2 | H19: =+'DATOS REGIONALIZADO LOTE 4 tota'!O6 -> 2603490 | I19: =+'DATOS REGIONALIZADO LOTE 4 tota'!P6 -> 0 | J19: =+'DATOS REGIONALIZADO LOTE 4 tota'!Q6 -> 5206980 | K19: =+'DATOS REGIONALIZADO LOTE 4 tota'!Y6 -> 5206980 | L19: LABORATORIO | M19: B-2901-0800-16-20113A-2901002-02 | N19: =+O10 -> 52006652 | O19: =+N19-K19 -> 46799672 | P19: =+VLOOKUP(M19,Hoja3!$B$2:$D$8,3,FALSE) -> código Rubro = B-2901-0800-16-20113A-2901002-02 Nombre del proyecto = FORTALECIMIENTO DEL INSTITUTO NACIONAL DE MEDICINA LEGAL Y CIENCIAS FORENSES EN ATENCIÓN A LOS RETOS DEL POSCONFLICTO A NIVEL NACIONAL Nombre del Poducto = SERVICIOS DE LABORATORIO FORENSE Nombre del Objeto del Gasto = ADQUISICIÓN DE BIENES Y SERVICIOS Actividad Asociada = disponer de insumos, reactivos y equipos según necesidades de los laboratorios forenses | Q19: =+K19 -> 5206980 | AB19: LABORATORIOS
A20: =+'DATOS REGIONALIZADO LOTE 4 tota'!A7 -> 8 | B20: =+'DATOS REGIONALIZADO LOTE 4 tota'!B7 -> 23 | C20: =+'DATOS REGIONALIZADO LOTE 4 tota'!C7 -> Homogenizador de tejidos, vertical con vástago: | D20: =+'DATOS REGIONALIZADO LOTE 4 tota'!D7 -> UNIDAD | E20: =+'DATOS REGIONALIZADO LOTE 4 tota'!E7 -> 1 | F20: =+'DATOS REGIONALIZADO LOTE 4 tota'!F7 -> 0 | G20: =+'DATOS REGIONALIZADO LOTE 4 tota'!N7 -> 1 | H20: =+'DATOS REGIONALIZADO LOTE 4 tota'!O7 -> 19454635 | I20: =+'DATOS REGIONALIZADO LOTE 4 tota'!P7 -> 19454635 | J20: =+'DATOS REGIONALIZADO LOTE 4 tota'!Q7 -> 0 | K20: =+'DATOS REGIONALIZADO LOTE 4 tota'!Y7 -> 19454635 | L20: GENÉTICA | M20: A-2901-0800-16-20113A-2901007-02 | N20: =+O9 -> 256908687 | O20: =+N20-K20 -> 237454052 | P20: =+VLOOKUP(M20,Hoja3!$B$2:$D$8,3,FALSE) -> código Rubro = A-2901-0800-16-20113A-2901007-02 Nombre del proyecto = FORTALECIMIENTO DEL INSTITUTO NACIONAL DE MEDICINA LEGAL Y CIENCIAS FORENSES EN ATENCIÓN A LOS RETOS DEL POSCONFLICTO A NIVEL NACIONAL Nombre del Poducto = SERVICIOS DE GENETICA FORENSE Nombre del Objeto del Gasto = ADQUISICIÓN DE BIENES Y SERVICIOS Actividad Asociada = Disponer de reactivos, insumos, equipos y herramientas informaticas para los laboratorios de genética | Q20: =+I20 -> 19454635 | AB20: GENÉTICA
A21: =+'DATOS REGIONALIZADO LOTE 4 tota'!A8 -> 8 | B21: =+'DATOS REGIONALIZADO LOTE 4 tota'!B8 -> 24 | C21: =+'DATOS REGIONALIZADO LOTE 4 tota'!C8 -> Vórtex multiprobeta / multitubo: | D21: =+'DATOS REGIONALIZADO LOTE 4 tota'!D8 -> UNIDAD | E21: =+'DATOS REGIONALIZADO LOTE 4 tota'!E8 -> 3 | F21: =+'DATOS REGIONALIZADO LOTE 4 tota'!F8 -> 0 | G21: =+'DATOS REGIONALIZADO LOTE 4 tota'!N8 -> 3 | H21: =+'DATOS REGIONALIZADO LOTE 4 tota'!O8 -> 24247119 | I21: =+'DATOS REGIONALIZADO LOTE 4 tota'!P8 -> 72741357 | J21: =+'DATOS REGIONALIZADO LOTE 4 tota'!Q8 -> 0 | K21: =+'DATOS REGIONALIZADO LOTE 4 tota'!Y8 -> 72741357 | L21: LABORATORIO | M21: B-2901-0800-16-20113A-2901002-02 | N21: =+K21 -> 72741357 | O21: =+N21-K21 -> 0 | P21: =+VLOOKUP(M21,Hoja3!$B$2:$D$8,3,FALSE) -> código Rubro = B-2901-0800-16-20113A-2901002-02 Nombre del proyecto = FORTALECIMIENTO DEL INSTITUTO NACIONAL DE MEDICINA LEGAL Y CIENCIAS FORENSES EN ATENCIÓN A LOS RETOS DEL POSCONFLICTO A NIVEL NACIONAL Nombre del Poducto = SERVICIOS DE LABORATORIO FORENSE Nombre del Objeto del Gasto = ADQUISICIÓN DE BIENES Y SERVICIOS Actividad Asociada = disponer de insumos, reactivos y equipos según necesidades de los laboratorios forenses | Q21: =+N21 -> 72741357 | R21: =+O21 -> 0
A22: =+'DATOS REGIONALIZADO LOTE 4 tota'!A9 -> 9 | B22: =+'DATOS REGIONALIZADO LOTE 4 tota'!B9 -> 25 | C22: =+'DATOS REGIONALIZADO LOTE 4 tota'!C9 -> Esterilizador o autocleve horizontal y/o sobremesa: | D22: =+'DATOS REGIONALIZADO LOTE 4 tota'!D9 -> UNIDAD | E22: =+'DATOS REGIONALIZADO LOTE 4 tota'!E9 -> 1 | F22: =+'DATOS REGIONALIZADO LOTE 4 tota'!F9 -> 0 | G22: =+'DATOS REGIONALIZADO LOTE 4 tota'!N9 -> 1 | H22: =+'DATOS REGIONALIZADO LOTE 4 tota'!O9 -> 29155000 | I22: =+'DATOS REGIONALIZADO LOTE 4 tota'!P9 -> 29155000 | J22: =+'DATOS REGIONALIZADO LOTE 4 tota'!Q9 -> 0 | K22: =+'DATOS REGIONALIZADO LOTE 4 tota'!Y9 -> 29155000 | L22: LABORATORIO | M22: B-2901-0800-16-20113A-2901002-02 | N22: =+K22 -> 29155000 | O22: =+N22-K22 -> 0 | P22: =+VLOOKUP(M22,Hoja3!$B$2:$D$8,3,FALSE) -> código Rubro = B-2901-0800-16-20113A-2901002-02 Nombre del proyecto = FORTALECIMIENTO DEL INSTITUTO NACIONAL DE MEDICINA LEGAL Y CIENCIAS FORENSES EN ATENCIÓN A LOS RETOS DEL POSCONFLICTO A NIVEL NACIONAL Nombre del Poducto = SERVICIOS DE LABORATORIO FORENSE Nombre del Objeto del Gasto = ADQUISICIÓN DE BIENES Y SERVICIOS Actividad Asociada = disponer de insumos, reactivos y equipos según necesidades de los laboratorios forenses | Q22: =+N22 -> 29155000 | R22: =+O22 -> 0
A23: =+'DATOS REGIONALIZADO LOTE 4 tota'!A10 -> 10 | B23: =+'DATOS REGIONALIZADO LOTE 4 tota'!B10 -> 26 | C23: =+'DATOS REGIONALIZADO LOTE 4 tota'!C10 -> Evaporador concentrador de muestras con centrifuga (rapidvap) | D23: =+'DATOS REGIONALIZADO LOTE 4 tota'!D10 -> UNIDAD | E23: =+'DATOS REGIONALIZADO LOTE 4 tota'!E10 -> 1 | F23: =+'DATOS REGIONALIZADO LOTE 4 tota'!F10 -> 0 | G23: =+'DATOS REGIONALIZADO LOTE 4 tota'!N10 -> 1 | H23: =+'DATOS REGIONALIZADO LOTE 4 tota'!O10 -> 192791293 | I23: =+'DATOS REGIONALIZADO LOTE 4 tota'!P10 -> 192791293 | J23: =+'DATOS REGIONALIZADO LOTE 4 tota'!Q10 -> 0 | K23: =+'DATOS REGIONALIZADO LOTE 4 tota'!Y10 -> 192791293 | L23: LABORATORIO | M23: B-2901-0800-16-20113A-2901002-02 | N23: =+K23 -> 192791293 | O23: =+N23-K23 -> 0 | P23: =+VLOOKUP(M23,Hoja3!$B$2:$D$8,3,FALSE) -> código Rubro = B-2901-0800-16-20113A-2901002-02 Nombre del proyecto = FORTALECIMIENTO DEL INSTITUTO NACIONAL DE MEDICINA LEGAL Y CIENCIAS FORENSES EN ATENCIÓN A LOS RETOS DEL POSCONFLICTO A NIVEL NACIONAL Nombre del Poducto = SERVICIOS DE LABORATORIO FORENSE Nombre del Objeto del Gasto = ADQUISICIÓN DE BIENES Y SERVICIOS Actividad Asociada = disponer de insumos, reactivos y equipos según necesidades de los laboratorios forenses | R23: =+O23 -> 0
A24: =+'DATOS REGIONALIZADO LOTE 4 tota'!A11 -> 11 | B24: =+'DATOS REGIONALIZADO LOTE 4 tota'!B11 -> 27 | C24: =+'DATOS REGIONALIZADO LOTE 4 tota'!C11 -> Evaporador concentrador de muestras (rapidvap) | D24: =+'DATOS REGIONALIZADO LOTE 4 tota'!D11 -> UNIDAD | E24: =+'DATOS REGIONALIZADO LOTE 4 tota'!E11 -> 0 | F24: =+'DATOS REGIONALIZADO LOTE 4 tota'!F11 -> 1 | G24: =+'DATOS REGIONALIZADO LOTE 4 tota'!N11 -> 1 | H24: =+'DATOS REGIONALIZADO LOTE 4 tota'!O11 -> 136873800 | I24: =+'DATOS REGIONALIZADO LOTE 4 tota'!P11 -> 0 | J24: =+'DATOS REGIONALIZADO LOTE 4 tota'!Q11 -> 136873800 | K24: =+'DATOS REGIONALIZADO LOTE 4 tota'!Y11 -> 136873800 | L24: LABORATORIO | M24: B-2901-0800-16-20113A-2901002-02 | N24: =+K24 -> 136873800 | O24: =+N24-K24 -> 0 | P24: =+VLOOKUP(M24,Hoja3!$B$2:$D$8,3,FALSE) -> código Rubro = B-2901-0800-16-20113A-2901002-02 Nombre del proyecto = FORTALECIMIENTO DEL INSTITUTO NACIONAL DE MEDICINA LEGAL Y CIENCIAS FORENSES EN ATENCIÓN A LOS RETOS DEL POSCONFLICTO A NIVEL NACIONAL Nombre del Poducto = SERVICIOS DE LABORATORIO FORENSE Nombre del Objeto del Gasto = ADQUISICIÓN DE BIENES Y SERVICIOS Actividad Asociada = disponer de insumos, reactivos y equipos según necesidades de los laboratorios forenses | R24: =+O24 -> 0
