Workbook

Sheet FICHA TECNICA
B1: PRESUPUESTO
B3: NOMBRE DEL PROYECTO: | C3: ITEM | D3: Elaboración de estudios y diseños para el Mejoramiento de la Red Vial Terciaria en el Municipio de Dabeiba, Departamento de Antioquia.
A5: ITEM | B5: PRODUCTO | D5: ACTIVIDAD | F5: Cant [km] | G5: Vr/Unitario | H5: Total
A6: =+#REF! -> #REF! | B6: =+D3 -> Elaboración de estudios y diseños para el Mejoramiento de la Red Vial Terciaria en el Municipio de Dabeiba, Departamento de Antioquia. | C6: 1 | D6: Levantamiento topógrafico: Se utilizará personal experto con equipo de precisión. Incluye amarre geodesico dejando mojones materializados en campo para cada tramo para la georreferenciación de los proyectos, Informe, cartera topográfica, levantamiento topografico, planimetria con planta general, curvas y perfiles. Se debe garantizar que el levantamiento este ligado al sistema de coordenadas local. | F6: 9
C7: 2 | D7: Estudio de suelos: Exploración de campo (apiques), ensayos de granulometria, limites de Atterberg, humedad natural y CBR a traves de la prueba de penetrómetro dinámico de cono; elaboración del informe, conclusiones y recomendaciones de diseño. | F7: 9
A8: 2 | C8: 3 | D8: Diseño Geometrico de la vía, de conformidad con la normatividad INVIAS aplicable, metodología de diseño geometrico de la vía, planos y detalles del diseño. | F8: 9
C9: 4 | D9: Diseño estructura de pavimento y análisis de transito: incidencia de la intensidad y análisis de la composición del transito (aforos vehiculares), obtención de la capacidad de soporte de la subrasante, diseño de la estructura de pavimento, cumpliendo con la normatividad invias aplicable. | F9: 9
A10: 3 | C10: 5 | D10: Diseño Hidrologico e hidraulico: informe de diseño, determinación de los parametros hidrologicos e hidraulicos, memorias de calculo, determinación de la intensidad de la lluvia en la zona del proyecto, calculo del caudal de diseño, diseño hidraulico de alcantarillas, sistema berma- cuneta y aliviaderos. | F10: 9
C11: 6 | D11: Plan de manejo de transito | F11: 9
C12: 7 | D12: Presuesto de obra. Incluye: cálculo de administración, interventoria y factor multipicador; elaboración de Analis de precios unitarios (APU) y auxliares, memorias gráficas, cronograma y flujo financiero de obra, especificaciones técnicas y proceso constructivo. | F12: 9
C13: 8 | D13: =+VLOOKUP(C13,APU!$A$3:$J$341,2,FALSE) -> Plan de manejo ambiental. Incluye: análisis de riesgo e informe | F13: 9
C14: SUBTOTAL
C15: IVA (19%)
C16: PROVISIÓN PARA EL PAGO DE PRIMAS DE PÓLIZAS (GARANTÍAS)
C17: TOTAL
B19: * Presupuesto indicativo para el calculo de la cadena de valor en la MGA
B22: * El presente presupuesto no incorpora interventoría ya que la supervisión será realizada de manera directa por la administración municipal con sus funcionarios. El proyecto contempla una coordinación de consultoria para garantizar la calidad y la correcta ejecución de cada uno de los componentes en apego a las especificaciones técnicas del proyecto.
B25: *EL PAGO DE GARANTIAS ES UN VALOR REEMBOLSABLE QUE SÓLO SE PAGARÁ DE ACUERDO AL COSTO REAL DE LAS PÓLIZAS ADQUIRIDAS

Sheet PRESUPUESTO
B1: PRESUPUESTO
B3: NOMBRE DEL PROYECTO: | C3: ITEM | D3: Elaboración de estudios y diseños para el Mejoramiento de la Red Vial Terciaria en el Municipio de Dabeiba, Departamento de Antioquia.
A5: ITEM | B5: PRODUCTO | D5: ACTIVIDAD | F5: Cant [km] | G5: Vr/Unitario | H5: Total
A6: =+#REF! -> #REF! | B6: =+D3 -> Elaboración de estudios y diseños para el Mejoramiento de la Red Vial Terciaria en el Municipio de Dabeiba, Departamento de Antioquia. | C6: 1 | D6: Levantamiento topógrafico: Se utilizará personal experto con equipo de precisión. Incluye amarre geodesico dejando mojones materializados en campo para cada tramo para la georreferenciación de los proyectos, Informe, cartera topográfica, levantamiento topografico, planimetria con planta general, curvas y perfiles. Se debe garantizar que el levantamiento este ligado al sistema de coordenadas local. | F6: 9 | G6: =APU!J6 -> 3972285 | H6: =+F6*G6 -> 35750565
C7: 2 | D7: Estudio de suelos: Exploración de campo (apiques), ensayos de granulometria, limites de Atterberg, humedad natural y CBR a traves de la prueba de penetrómetro dinámico de cono; elaboración del informe, conclusiones y recomendaciones de diseño. | F7: 9 | G7: =APU!J26 -> 5274868 | H7: =+F7*G7 -> 47473812
A8: 2 | C8: 3 | D8: Diseño Geometrico de la vía, de conformidad con la normatividad INVIAS aplicable, metodología de diseño geometrico de la vía, planos y detalles del diseño. | F8: 9 | G8: =+VLOOKUP(C8,APU!$A$3:$J$341,10,FALSE) -> 4535340 | H8: =+F8*G8 -> 40818060
C9: 4 | D9: Diseño estructura de pavimento y análisis de transito: incidencia de la intensidad y análisis de la composición del transito (aforos vehiculares), obtención de la capacidad de soporte de la subrasante, diseño de la estructura de pavimento, cumpliendo con la normatividad invias aplicable. | F9: 9 | G9: =APU!J67 -> 4648508 | H9: =+F9*G9 -> 41836572
A10: 3 | C10: 5 | D10: Diseño Hidrologico e hidraulico: informe de diseño, determinación de los parametros hidrologicos e hidraulicos, memorias de calculo, determinación de la intensidad de la lluvia en la zona del proyecto, calculo del caudal de diseño, diseño hidraulico de alcantarillas, sistema berma- cuneta y aliviaderos. | F10: 9 | G10: =APU!J85 -> 3061210 | H10: =+F10*G10 -> 27550890
C11: 6 | D11: Plan de manejo de transito | F11: 9 | G11: =APU!J102 -> 1903728 | H11: =+F11*G11 -> 17133552
C12: 7 | D12: Presuesto de obra. Incluye: cálculo de administración, interventoria y factor multipicador; elaboración de Analis de precios unitarios (APU) y auxliares, memorias gráficas, cronograma y flujo financiero de obra, especificaciones técnicas y proceso constructivo. | F12: 9 | G12: =APU!J120 -> 3209215 | H12: =+F12*G12 -> 28882935
C13: 8 | D13: =+VLOOKUP(C13,APU!$A$3:$J$341,2,FALSE) -> Plan de manejo ambiental. Incluye: análisis de riesgo e informe | F13: 9 | G13: =+VLOOKUP(C13,APU!$A$3:$J$341,10,FALSE) -> 2877365 | H13: =+F13*G13 -> 25896285
C14: SUBTOTAL | H14: =+SUM(H6:H13) -> 265342671
C15: IVA (19%) | H15: =H14*0.19 -> 50415107
C16: PROVISIÓN PARA EL PAGO DE PRIMAS DE PÓLIZAS (GARANTÍAS) | H16: 2318230.3
C17: TOTAL | H17: 3.1807601e+08
B19: * Presupuesto indicativo para el calculo de la cadena de valor en la MGA
B22: * El presente presupuesto no incorpora interventoría ya que la supervisión será realizada de manera directa por la administración municipal con sus funcionarios. El proyecto contempla una coordinación de consultoria para garantizar la calidad y la correcta ejecución de cada uno de los componentes en apego a las especificaciones técnicas del proyecto.
B25: *EL PAGO DE GARANTIAS ES UN VALOR REEMBOLSABLE QUE SÓLO SE PAGARÁ DE ACUERDO AL COSTO REAL DE LAS PÓLIZAS ADQUIRIDAS
E30: HADY LORENA VILLA
E31: Secretaria de Planeación y Habitat
E32: Municipio de Dabeiba

Sheet MO
A2: =+PRESUPUESTO!D3 -> Elaboración de estudios y diseños para el Mejoramiento de la Red Vial Terciaria en el Municipio de Dabeiba, Departamento de Antioquia.
A4: LISTADO DE MANO DE OBRA
A6: SALARIO MINIMO 2025 | D6: 1423500
A8: MANO DE OBRA | B8: TIPO DE CARGO | C8: UNIDAD | D8: SALARIO | E8: CON FM | F8: SMLV | I8: =+APU!J8+#REF!+#REF!+#REF!+#REF!+#REF!+#REF! -> #REF!
A9: Coordinador de consultoria | B9: Profesional | C9: Mes | D9: 9000000 | E9: =+D9*FM!$D$8 -> 18141750 | F9: =+D9/$D$6 -> 6.3224447 | H9: =+E9*3 -> 54425250 | I9: =+H9*0.2 -> 10885050 | K9: =+I9-I8 -> #REF!
A10: Topografo | B10: Profesional | C10: Mes | D10: 6000000 | E10: =+D10*FM!$D$8 -> 12094500 | F10: =+D10/$D$6 -> 4.2149631
A11: Cadenero 1 | B11: Asistencial | C11: Mes | D11: 1500000 | E11: =+D11*FM!$D$8 -> 3023625 | F11: =+D11/$D$6 -> 1.0537408
A12: Cadenero 2 | B12: Asistencial | C12: Mes | D12: 1500000 | E12: =+D12*FM!$D$8 -> 3023625 | F12: =+D12/$D$6 -> 1.0537408
A13: Arquitecto urbanista | B13: Profesional | C13: Mes | D13: 6000000 | E13: =+D13*FM!$D$8 -> 12094500 | F13: =+D13/$D$6 -> 4.2149631
A14: Delineante de arquitectura | B14: Técnologo | C14: Mes | D14: 3500000 | E14: =+D14*FM!$D$8 -> 7055125 | F14: =+D14/$D$6 -> 2.4587285
A15: Ingeniero civil | B15: Profesional | C15: Mes | D15: =+D13 -> 6000000 | E15: =+D15*FM!$D$8 -> 12094500 | F15: =+D15/$D$6 -> 4.2149631
A16: Ingeniero sanitario | B16: Profesional | C16: Mes | D16: =+D15 -> 6000000 | E16: =+D16*FM!$D$8 -> 12094500 | F16: =+D16/$D$6 -> 4.2149631 | J16: 6267687.1
A17: Ingeniero electrico | B17: Profesional | C17: Mes | D17: =+D16 -> 6000000 | E17: =+D17*FM!$D$8 -> 12094500 | F17: =+D17/$D$6 -> 4.2149631
A18: Ingeniero civil - especialista estructural | B18: Profesional | C18: Mes | D18: =+D9 -> 9000000 | E18: =+D18*FM!$D$8 -> 18141750 | F18: =+D18/$D$6 -> 6.3224447
A19: Ingeniero civil - especialista vías | B19: Profesional | C19: Mes | D19: =9000000 -> 9000000 | E19: =+D19*FM!$D$8 -> 18141750 | F19: =+D19/$D$6 -> 6.3224447
A20: Ingeniero civil - especialista hidrulica | B20: Profesional | C20: Mes | D20: =+D18 -> 9000000 | E20: =+D20*FM!$D$8 -> 18141750 | F20: =+D20/$D$6 -> 6.3224447
A21: Ingeniero civil - especialista Geotecnia | B21: Profesional | C21: Mes | D21: =+D20 -> 9000000 | E21: =+D21*FM!$D$8 -> 18141750 | F21: =+D21/$D$6 -> 6.3224447
A22: Ingeniero diseñador estructuras hidráulicas | B22: Profesional | C22: Mes | D22: =+D21 -> 9000000 | E22: =+D22*FM!$D$8 -> 18141750 | F22: =+D22/$D$6 -> 6.3224447
A23: Abogado | B23: Profesional | C23: Mes | D23: 4500000 | E23: =+D23*FM!$D$8 -> 9070875 | F23: =+D23/$D$6 -> 3.1612223
A24: Ayudante | B24: Asistencial | C24: Mes | D24: 1500000 | E24: =+D24*FM!$D$8 -> 3023625 | F24: =+D24/$D$6 -> 1.0537408
A25: Ayudante Aforo | B25: Asistencial | C25: Mes | D25: 1500000 | E25: =+D25*FM!$D$8 -> 3023625 | F25: =+D25/$D$6 -> 1.0537408

Sheet APU
A1: ANÁLISIS DE PRECIO UNITARIO
A2: =+PRESUPUESTO!D3 -> Elaboración de estudios y diseños para el Mejoramiento de la Red Vial Terciaria en el Municipio de Dabeiba, Departamento de Antioquia.
A3: ITEM | B3: DESCRIPCIÓN | J3: Costo total
A4: 1 | B4: =PRESUPUESTO!D6 -> Levantamiento topógrafico: Se utilizará personal experto con equipo de precisión. Incluye amarre geodesico dejando mojones materializados en campo para cada tramo para la georreferenciación de los proyectos, Informe, cartera topográfica, levantamiento topografico, planimetria con planta general, curvas y perfiles. Se debe garantizar que el levantamiento este ligado al sistema de coordenadas local. | J4: =+J22 -> 4965019
A5: ITEM | B5: DESCRIPCIÓN | C5: UNIDAD | D5: CANTIDAD | E5: TIEMPO EN DIAS | F5: SALARIO MENSUAL | G5: SALARIO DIA | H5: % DEDICACIÓN | I5: FACTOR MULTIPLICADOR | J5: TOTAL
A6: =A4+0.01 -> 1.01 | B6: Costos directos | J6: =+J7+J13 -> 3972285
B7: Personal | J7: =SUM(J8:J11) -> 1572285
B8: Coordinador de consultoria | C8: =+VLOOKUP(B8,MO!$A$9:$F$24,2,FALSE) -> Profesional | D8: 1 | E8: 2 | F8: =+VLOOKUP(B8,MO!$A$9:$F$24,4,FALSE) -> 9000000 | G8: =+F8/30 -> 300000 | H8: 0.3 | I8: =+FM!$D$8 -> 2.01575 | J8: =+ROUND((D8*E8*G8*H8*I8),0) -> 362835
B9: Topografo | C9: =+VLOOKUP(B9,MO!$A$9:$F$24,2,FALSE) -> Profesional | D9: 1 | E9: 2 | F9: =+VLOOKUP(B9,MO!$A$9:$F$24,4,FALSE) -> 6000000 | G9: =+F9/30 -> 200000 | H9: 1 | I9: =+FM!$D$8 -> 2.01575 | J9: =+ROUND((D9*E9*G9*H9*I9),0) -> 806300
B10: Cadenero 1 | C10: =+VLOOKUP(B10,MO!$A$9:$F$24,2,FALSE) -> Asistencial | D10: 1 | E10: 2 | F10: =+VLOOKUP(B10,MO!$A$9:$F$24,4,FALSE) -> 1500000 | G10: =+F10/30 -> 50000 | H10: 1 | I10: =+FM!$D$8 -> 2.01575 | J10: =+ROUND((D10*E10*G10*H10*I10),0) -> 201575
B11: Cadenero 2 | C11: =+VLOOKUP(B11,MO!$A$9:$F$24,2,FALSE) -> Asistencial | D11: 1 | E11: 2 | F11: =+VLOOKUP(B11,MO!$A$9:$F$24,4,FALSE) -> 1500000 | G11: =+F11/30 -> 50000 | H11: 1 | I11: =+FM!$D$8 -> 2.01575 | J11: =+ROUND((D11*E11*G11*H11*I11),0) -> 201575
B12: =MO!A14 -> Delineante de arquitectura | C12: =+VLOOKUP(B12,MO!$A$9:$F$24,2,FALSE) -> Técnologo | D12: 1 | E12: 2 | F12: =+VLOOKUP(B12,MO!$A$9:$F$24,4,FALSE) -> 3500000 | G12: =+F12/30 -> 116666.67 | H12: 1 | I12: =+FM!$D$8 -> 2.01575 | J12: =+ROUND((D12*E12*G12*H12*I12),0) -> 470342
B13: Otros costos directos | J13: =SUM(J14:J17) -> 2400000
B14: Equipos de topografía (GPS y ESTACIÓN) | C14: Día-equipo | E14: 2 | G14: 350000 | J14: =+ROUND((E14*G14),0) -> 700000
B15: Materiales mojones | C15: UN | E15: 2 | G15: 100000 | J15: =+ROUND((E15*G15),0) -> 200000
B16: Transporte de personal | C16: UN | D16: 2 | G16: 500000 | J16: =+D16*G16 -> 1000000
B17: Transporte de equipo | C17: UN | E17: 2 | G17: 250000 | J17: =+ROUND((E17*G17),0) -> 500000
A18: =+A6+0.01 -> 1.02 | B18: Costos indirectos | J18: =SUM(J19:J20) -> 200000
B19: Gastos de papelería y equipos de oficina | C19: UN | D19: 1 | G19: 200000 | J19: =+D19*G19 -> 200000
J20: =+D20*G20 -> 0
A21: IVA | J21: =ROUND(((J6+J18)*0.19),0) -> 792734
A22: TOTAL COSTOS DIRECTOS + INDIRECTOS CON IVA | J22: =+J6+J18+J21 -> 4965019
A24: 2 | B24: =PRESUPUESTO!D7 -> Estudio de suelos: Exploración de campo (apiques), ensayos de granulometria, limites de Atterberg, humedad natural y CBR a traves de la prueba de penetrómetro dinámico de cono; elaboración del informe, conclusiones y recomendaciones de diseño. | J24: =+J46 -> 7586093
A25: ITEM | B25: DESCRIPCIÓN | C25: UNIDAD | D25: CANTIDAD | E25: TIEMPO EN DIAS | F25: SALARIO MENSUAL | G25: SALARIO DIA | H25: % DEDICACIÓN | I25: FACTOR MULTIPLICADOR | J25: TOTAL
A26: =A24+0.01 -> 2.01 | B26: Costos directos | J26: =+J27+J31+J36+J34+J42 -> 5274868
B27: Personal | J27: =SUM(J28:J30) -> 1390868
B28: Coordinador de consultoria | C28: =+IFERROR((VLOOKUP(B28,MO!$A$9:$F$24,2,FALSE)),"") -> Profesional | D28: 1 | E28: 1 | F28: =+IFERROR((VLOOKUP(B28,MO!$A$9:$F$24,4,FALSE)),"") -> 9000000 | G28: =+IFERROR(F28/30,"") -> 300000 | H28: 0.3 | I28: =IF(B28="","",FM!$D$8) -> 2.01575 | J28: =+IFERROR((ROUND((D28*E28*G28*H28*I28),0)),"") -> 181418
B29: Ingeniero civil - especialista Geotecnia | C29: =+IFERROR((VLOOKUP(B29,MO!$A$9:$F$24,2,FALSE)),"") -> Profesional | D29: 1 | E29: 2 | F29: =+IFERROR((VLOOKUP(B29,MO!$A$9:$F$24,4,FALSE)),"") -> 9000000 | G29: =+IFERROR(F29/30,"") -> 300000 | H29: 1 | I29: =IF(B29="","",FM!$D$8) -> 2.01575 | J29: =+IFERROR((ROUND((D29*E29*G29*H29*I29),0)),"") -> 1209450
B31: Documental | J31: =SUM(J32:J33) -> 1200000
B32: Elaboración de informe con sus conclusiones y recomendaciones | C32: UN | D32: 1 | F32: 1200000 | J32: =+IFERROR((ROUND((D32*F32),0)),"") -> 1200000
J33: =+IFERROR((ROUND((D33*F33),0)),"") -> 0
B34: Perforaciones | D34: Cant perfraciones | E34: ml | J34: =SUM(J35:J35) -> 450000
B35: Perforación mecánica a cielo abierto para urbanismo | C35: ml | D35: 3 | E35: 1.5 | G35: 100000 | J35: =+IFERROR((ROUND((D35*E35*G35),0)),"") -> 450000
B36: Ensayos de laboratorio | D36: Cant perfraciones | E36: cant ens x perf | J36: =SUM(J37:J41) -> 1134000
B37: Granulometria - clasificación | C37: UN | D37: =D35 -> 3 | E37: 3 | G37: 77000 | J37: =+ROUND((E37*G37),0) -> 231000
B38: Límites de Atterberg (LL, LP y LC) | C38: UN | D38: =D35 -> 3 | E38: 3 | G38: 60000 | J38: =+ROUND((E38*G38),0) -> 180000
B39: Humedad natural | C39: UN | D39: =D35 -> 3 | E39: 3 | G39: 16000 | J39: =+ROUND((E39*G39),0) -> 48000
B40: Peso especifico | C40: UN | D40: =D35 -> 3 | E40: 3 | G40: 25000 | J40: =+ROUND((E40*G40),0) -> 75000
B41: CBR Inalterado | C41: UN | D41: =D35 -> 3 | E41: 3 | G41: 200000 | J41: =+ROUND((E41*G41),0) -> 600000
A42: =+A26+0.01 -> 2.02 | B42: Costos indirectos | J42: =SUM(J43:J44) -> 1100000
...

Sheet FM
A3: =+PRESUPUESTO!D3 -> Elaboración de estudios y diseños para el Mejoramiento de la Red Vial Terciaria en el Municipio de Dabeiba, Departamento de Antioquia.
A5: CÁLCULO DEL FACTOR MULTIPLICADOR
A7: ITEM | B7: DESCRIPCION | D7: %
B8: COSTO DIRECTO - FACTOR PRESTACIONAL | D8: =D10+D13+D27+D33+D41 -> 2.01575
A10: 1 | B10: Salario Básico | D10: =+SUM(D11:D11) -> 1
A11: 1.01 | B11: Salario Básico (Nómina Total Mensual) | D11: 1
A13: 2 | B13: Prestaciones Sociales | D13: =SUM(D14:D26) -> 0.6124
A14: 2.01 | B14: Prima anual | D14: 0.0833
A15: 2.02 | B15: Vacaciones | D15: 0.0417
A16: 2.03 | B16: Plan obligatorio de salud | D16: 0.085
A17: 2.04 | B17: Fondo de Pensiones | D17: 0.12
A18: 2.05 | B18: Riesgos Profesionales | D18: 0.0696
A19: 2.06 | B19: Parafiscales: Caja de compensión | D19: 0.04
A20: 2.07 | B20: Cesantías | D20: 0.0833
A21: 2.08 | B21: Intereses a las Cesantías | D21: 0.01
A22: 2.09 | B22: ICBF | D22: 0.03
A23: 2.1 | B23: Sena | D23: 0.02
A24: 2.11 | B24: Dotación | D24: 0.01
A25: 2.12 | B25: EPP | D25: 0.015
A26: 2.13 | B26: Examen de ingresp - egreso | D26: 0.0045
A27: 2 | B27: COSTOS INDIRECTOS | D27: =SUM(D28:D29) -> 0.0101
A28: 2.01 | B28: Costos oficina (arrendamiento, administración y servicios públicos, mantenimiento de oficinas, aseo, vigilancia, y mantenimiento de vehículos de administración y gerencia, documentación técnica, gastos de viaje, gastos de representación) | D28: 0.0078
A29: 2.02 | B29: Papelería de la oficina del consultor para uso del proyecto (cafetería y otros gastos funcionamiento | D29: 0.0023
A30: 2.03 | B30: Muebles y equipos de oficina, pago programas, sistematización y actualización tecnológica, rack. | D30: 0.0062
A31: 2.04 | B31: Personal administrativo, técnico y no técnico, no facturable, entrenamiento de personal, capacitación y actualización técnica (cursos, seminarios, congresos). | D31: 0.0114
A32: 2.05 | B32: Asesoría contable, tributaria (revisoría fiscal) y médica | D32: 0.0119
A33: 3 | B33: Otros costos (Estampillas e impuestos) | D33: =+SUM(D34:D40) -> 0.21
A34: 3.01 | B34: Pro deporte y recreacion | D34: 0.02
A35: 3.02 | B35: Pro adulto mayor | D35: 0.04
A36: 3.03 | B36: Pro cultura | D36: 0.01
A37: 3.04 | B37: Pro hospital | D37: 0.01
A38: 3.05 | B38: Pro justicia | D38: 0.01
A39: 3.06 | B39: Reteica | D39: 0.01
A40: 3.07 | B40: Retefuente | D40: 0.11
A41: 4 | B41: UTILIDAD | D41: =+SUM(D42) -> 0.18325
A42: 4.01 | B42: Honorarios | C42: 0.1 | D42: =+C42*(D33+D27+D13+D10) -> 0.18325
B44: TOTAL Factor Multiplicador | D44: =D10+D27+D41+D33+D13 -> 2.01575

Sheet POLIZA
A1: DEPARTAMENTO DE ANTIOQUIA
A2: MUNICIPIO DE DABEIBA
A3: =PRESUPUESTO!D3 -> Elaboración de estudios y diseños para el Mejoramiento de la Red Vial Terciaria en el Municipio de Dabeiba, Departamento de Antioquia. | F3: INSERTE ESCUDO ENTIDAD AQUÍ
A5: CÁLCULO DE PÓLIZAS DE INTERVENTORÍA
A7: VALOR DEL CONTRATO ( $ ) | B7: =PRESUPUESTO!H17 -> 3.1807601e+08 | C7: =+IFERROR(B7/'[1]DATOS INICIALES'!$B$14,"") -> 223.44644
A8: PLAZO DEL CONTRATO | B8: =IF('[1]DATOS INICIALES'!$B$21="","",'[1]DATOS INICIALES'!$B$21) -> 4 | C8: =+IFERROR(B8*30,"") -> 120
A9: ANTICIPO | B9: 0 | C9: =+IFERROR(B9*B7,"") -> 0
A11: TIPO DE GARANTÍA | B11: VALOR ASEGURADO | E11: COBERTURA ( DÍAS ) | F11: TASA ANUAL | G11: PRIMA
B12: % | C12: BASE | D12: VALOR
A13: CUMPLIMIENTO | B13: 0.2 | C13: =+$B$7 -> 3.1807601e+08 | D13: =+IFERROR(B13*C13,"") -> 63615202 | E13: =+IFERROR($C$8+180,"") -> 300 | F13: 0.003 | G13: =+IFERROR(F13*D13*E13/360,"") -> 159038
A14: BUEN MANEJO Y CORRECTA INVERSIÓN DEL ANTICIPO | C14: =+$C$9 -> 0 | D14: =+IFERROR(B14*C14,"") -> 0 | E14: =+IFERROR($C$8+180,"") -> 300 | F14: 0.003 | G14: =+IFERROR(F14*D14*E14/360,"") -> 0
A15: SALARIOS Y PRESTACIONES SOCIALES | B15: 0.2 | C15: =+$B$7 -> 3.1807601e+08 | D15: =+IFERROR(B15*C15,"") -> 63615202 | E15: =+IFERROR($C$8+1080,"") -> 1200 | F15: 0.0025 | G15: =+IFERROR(F15*D15*E15/360,"") -> 530126.68
A16: CALIDAD DEL SERVICIO | B16: 0.2 | C16: =+$B$7 -> 3.1807601e+08 | D16: =+IFERROR(B16*C16,"") -> 63615202 | E16: =+IF($B$7="","",1800) -> 1800 | F16: 0.003 | G16: =+IFERROR(F16*D16*E16/360,"") -> 954228.03
A17: DECRETO 1082 SMMLV RESPONSABILIDAD CIVIL | B17: SMMLV | C17: MONTO ASEGURABLE | E17: PLAZO MESES | F17: TASA ANUAL | G17: PRIMA
A18: =+IF('[1]DATOS INICIALES'!$B$29="NO","",IF(B7="","",IF(C7<=1500,200,IF(C7<=2500,300,IF(C7<=5000,400,IF(C7<=10000,500,"5%")))))) -> 200 | B18: =+'[1]DATOS INICIALES'!$B$14 -> 1423500 | C18: =+IFERROR(IF(C7>10000,C7+5%,A18*B18),"") -> 284700000 | E18: =+$B$8 -> 4 | F18: 0.003 | G18: =+IFERROR(F18*E18*C18/12,"") -> 284700
A19: SUBTOTAL PRIMA | G19: =IF(SUM(G13:G16,G18)=0,"",SUM(G13:G16,G18)) -> 1928092.7
A20: GASTOS DE EXPEDICIÓN | G20: =+IF(G19="","",20000) -> 20000
A21: I.V.A. | G21: =+IFERROR((G19+G20)*0.19,"") -> 370137.62
A22: TOTAL POLIZAS | G22: =IF(G19="",0,SUM(G19:G21)) -> 2318230.3

Sheet CRONOGRAMA FINAL
A1: CRONOGRAMA Y FLUJO DE FONDOS
B6: NOMBRE DEL PROYECTO: | C6: =+PRESUPUESTO!D3 -> Elaboración de estudios y diseños para el Mejoramiento de la Red Vial Terciaria en el Municipio de Dabeiba, Departamento de Antioquia.
A8: ITEM | B8: DESCRIPCIÓN ACTIVIDAD | C8: ENTREGABLES | D8: PROFESIONALES | E8: CRONOGRAMA Y FLUJO DE FONDOS | H8: TOTAL
E9: 1 | F9: 2 | G9: 3
A12: 1 | B12: =PRESUPUESTO!D6 -> Levantamiento topógrafico: Se utilizará personal experto con equipo de precisión. Incluye amarre geodesico dejando mojones materializados en campo para cada tramo para la georreferenciación de los proyectos, Informe, cartera topográfica, levantamiento topografico, planimetria con planta general, curvas y perfiles. Se debe garantizar que el levantamiento este ligado al sistema de coordenadas local. | C12: El objetivo principal del estudio topográfico es realizar los levantamientos de campo con la medición de parámetros de planimetría y altimetría, requeridos por los distintos componentes y objetivos del proyecto que servirán de base en la preparación de los documentos técnicos objeto del contrato. Se debe garantizar que el Levantamiento esté ligado al sistema de coordenadas local (coordenadas cartográficas cartesianas), y la información aitimétrica con la precisión requerida, referida al sistema de Catastro Municipal y que permitan adelantar los trámites de permisos y licencia necesarios. Se deberá elaborar el levantamiento topográfico detallado de la vía, efectuando los amarres al sistema de coordenadas del IGAC (cuando aplique). El informe topográfico deberá contener la siguiente información: a) Localización del proyecto donde se referencie la localización de los amarres al sistema de coordenadas del IGAC, cuando no se cuente con placa certificada del IGAC y los puntos internos de control amarrados a esos mojones, que permitan realizar el replanteo del proyecto. b) Memorias topográficas en original y dos (copias) y copia en medio magnética donde se deben anexar las carteras topográficas. c) Planos topográficos completos de cada una de las secciones transversales cada 20 metros y la sección en planta con cotas redondas cada metro, que incluyan todos los elementos existentes como: Postes de energía, linderos, redes de servicios públicos, construcciones aledañas, estructuras y/o obras hidráulicas, árboles, señales, accesos peatonales y vehiculares a predios, sardineles, bordillos, entre otros.d) Dibujos, en versión digital e impreso mediante el uso de AutoCAD de los levantamientos y cálculos ejecutados. e) El topógrafo encargado del levantamiento topográfico, anexará en las memorias copia de su respectiva matrícula profesional vigente. | D12: Topógrafo titulado con mínimo 3 años de experiencia en levantamientos topográficos, que haya participado en la construcción de obras de infraestructura pública o privada de vias y auxiliar de campo | E12: =PRESUPUESTO!H6 -> 35750565 | H12: =+SUM(E12:G12) -> 35750565
A13: 2 | B13: =PRESUPUESTO!D7 -> Estudio de suelos: Exploración de campo (apiques), ensayos de granulometria, limites de Atterberg, humedad natural y CBR a traves de la prueba de penetrómetro dinámico de cono; elaboración del informe, conclusiones y recomendaciones de diseño. | C13: Conocer el perfil estratigráfico del suelo con base la exploración de campo (apiques),determinar mediante pruebas y ensayos de laboratorio las propiedades físicas-mecánicas del suelo tales como: Granulometría, límites de Atterberg, humedad natural y CBR a través de la prueba de penetrómetro dinámico de cono. Además, ubicar el nivel de aguas freáticas o estables su ausencia. El estudio de suelos deberá contener la siguiente información: • Localización del proyecto y caracterización general del área de estudio. • Investigación del suelo, donde se determine las propiedades físicas mecánicas del subsuelo a partir de las exploraciones en campo (apiques). La localización de los apiques debe ser georreferenciada. • Perfiles estratigráficos de los diferentes apiques donde se identifique existencia de nivel freático y el tipo de material de acuerdo con la clasificación de la CUSC y la ASHTO • Resultados y análisis. Granulometría, humedad natural, materia orgánica, límites de Atterberg y CBR. • Análisis de resultados y recomendaciones para el diseño de las estructuras de acuerdo al tipo de proyecto. | D13: ingeniero civil especialista en geotecnia. el laboratorio donde se relicen los ensayos deberia esta debidamente acreditado y con certificación de calidad ICONTEC que garantice la calidad de los resultados entregados en los estudios. | E13: =PRESUPUESTO!H7 -> 47473812 | H13: =+SUM(E13:G13) -> 47473812
A14: 3 | B14: =PRESUPUESTO!D8 -> Diseño Geometrico de la vía, de conformidad con la normatividad INVIAS aplicable, metodología de diseño geometrico de la vía, planos y detalles del diseño. | C14: Corresponde al diseño geométrico de la vía de acuerdo a la normatividad INVIAS, y tendrá en cuenta las ubicaciones de las estructuras de drenaje (aliviaderos y alcantarillas) en las recomendaciones y conclusiones del estudio de suelos La memoria de diseño debe incluir en su contenido la siguiente información: a) Información general del proyecto. b) Metodología del diseño geométrico de la vía c) Planos y detalles del diseño con los siguientes elementos: - Plano en planta del eje de la vía con el diseño de las curvas horizontales - Plano con el perfil longitudinal de la vía y el diseño de las curvas verticales - Secciones trasversales cada 20 metros El contratista está obligado a entregar al contratante dos (2) juegos impresos (original y 2 copias) de la totalidad de los planos de diseños, al igual que los correspondientes medios ópticos (Discos compactos), anexará en las memorias copia de su respectiva matrícula profesional vigente. | D14: Ingeniero civil especialista en vias con experiencia mínima de 3 años en la construcción y/o diseño de proyectos de infraestructura vial o Ingeniero Civil con 5 años de experiencia general en el proyecto de infraestructura pública o privada | F14: =PRESUPUESTO!H8 -> 40818060 | H14: =+SUM(E14:G14) -> 40818060
A15: 4 | B15: =PRESUPUESTO!D9 -> Diseño estructura de pavimento y análisis de transito: incidencia de la intensidad y análisis de la composición del transito (aforos vehiculares), obtención de la capacidad de soporte de la subrasante, diseño de la estructura de pavimento, cumpliendo con la normatividad invias aplicable. | C15: El diseño estructural deberá corresponder en un todo con el diseño geométrico de la vía y al análisis de tránsito, y estar basado en las recomendaciones y conclusiones del estudio de suelos. El diseño estructural debe cumplir como con los criterios de diseño mínimos adoptados por la guía de diseño de pavimentos con placa huella del Instituto Nacional de Vías INVIAS. Como mínimo se deberán contener: a) Análisis de la composición del tránsito donde se verifique las características de diseño de acuerdo a la guía de diseño de pavimentos con placa huella. b) Definición de las características de la mezcla de concreto para cada uno de los elementos estructurales que componen la placa huella (resistencia a la compresión, tamaño máximo de los agregados y asentamientos), diseño de mezcla. c) Planos estructurales constructivos, los cuales deben contemplar las plantas con localización y dimensiones de todos los elementos, los despieces y colocación de refuerzos, traslapos, longitudes de desarrollo, cortes y detalles especiales que se requieran para una fácil interpretación y ejecución. Dentro de los planos, se deberá indicar las especificaciones de los materiales de construcción y toda la información que se considere relevante para la construcción y supervisión técnica. Deberá entregarse como mínimo la siguiente información: - Esquema en planta, perfil y detalles de la placa huella (incluye bordillo y cuneta si aplica) - Distribución del acero de refuerzo - Planta y perfil de viga riostra El contratista está obligado a entregar al contratante dos (2) juegos impresos (original y 2 copias) de la totalidad de los planos de diseños, al igual que los correspondientes medios ópticos (Discos compactos), anexará en las memorias copia de su respectiva matrícula profesional vigente. Carta de responsabilidad del Diseñador con copia de la matrícula profesional del calculista responsable. | D15: Ingeniero civil especialista en vias con experiencia mínima de 3 años en la construcción y/o diseño de proyectos de infraestructura vial o Ingeniero Civil con 5 años de experiencia general en proyectos de infraestructura pública o privada | F15: =PRESUPUESTO!H9 -> 41836572 | H15: =+SUM(E15:G15) -> 41836572
A16: 5 | B16: =PRESUPUESTO!D10 -> Diseño Hidrologico e hidraulico: informe de diseño, determinación de los parametros hidrologicos e hidraulicos, memorias de calculo, determinación de la intensidad de la lluvia en la zona del proyecto, calculo del caudal de diseño, diseño hidraulico de alcantarillas, sistema berma- cuneta y aliviaderos. | C16: El diseño comprende el diseño de drenaje superficial de la vía necesarios para garantizar la estabilidad de la estructura, la evacuación y disposición de las aguas lluvias. Debe cumplir las recomendaciones para el diseño de drenaje superficial de la vía, de acuerdo a la guía de diseño de pavimentos con placa huella del Instituto Nacional de Vías INVIAS. Se deben entregar memorias de cálculo y los planos de diseños hidráulicos cumpliendo todas las normas vigentes, además de los planos de detalles, cortes y perfiles. Como mínimo se deberán contener: a) Memorias de cálculo. Consistente en la determinar la intensidad de la lluvia en la zona del proyecto, cálculo del caudal de diseño, diseño de hidráulico alcantarillas, sistema bermacuneta y aliviaderos. b) Planos de detalles de las obras hidráulicas. c) Detalles constructivos. d) Normas técnicas de diseño aplicables - Guía de diseño de pavimentos del Instituto Nacional de Vías INVIAS. | D16: Ingeniero civil especialista en hidraulica e hidrologia con experiencia mínima de 3 años en la construcción y/o diseño de proyectos de infraestructura vial o Ingeniero Civil con 5 años de experiencia general en proyectos de infraestructura pública o privada | F16: =PRESUPUESTO!H10 -> 27550890 | H16: =+SUM(E16:G16) -> 27550890
A17: 6 | B17: =PRESUPUESTO!D11 -> Plan de manejo de transito | C17: Documento técnico del PMT (justificación, normatividad, descripción de la obra). Diagnóstico de movilidad (aforos, riesgos, caracterización de usuarios). Planos y esquemas gráficos (zona de intervención, desvíos, señalización). Plan de señalización y dispositivos de control temporal. Plan de desvíos y rutas alternas. Cronograma de aplicación del PMT. Plan de contingencia y seguridad vial. Plan de comunicación e información al usuario. Informe de personal y recursos asignados. Informe final con registro fotográfico y actas de verificación. | D17: Ingeniero civil con experiencia mínima de 3 años en la construcción y/o diseño de proyectos de infraestructura vial Ingeniero Civil con 5 años de experiencia general en el proyecto de infraestructura pública o privada | G17: =PRESUPUESTO!H11 -> 17133552 | H17: =+SUM(E17:G17) -> 17133552
A18: 7 | B18: =PRESUPUESTO!D12 -> Presuesto de obra. Incluye: cálculo de administración, interventoria y factor multipicador; elaboración de Analis de precios unitarios (APU) y auxliares, memorias gráficas, cronograma y flujo financiero de obra, especificaciones técnicas y proceso constructivo. | C18: Debera entregar: El presupuesto de obra ordenado por capitulos de acuerdo con las especificaciones de construcción y las cantidades de obra deberán estar acompañadas de sus memorias, la programación de obra definiendo los tiempos de duración y secuencia de tiempos asociados a cada una de las diferentes actividades del presupuesto; regulando las etapas de construcción, determinando los tiempos teóricos de obra, que muestre la ruta crítica, fecha de iniciaciones primeras y últimas, fechas de finalización primeras y últimas y holgura de cada actividad, flujo de caja del proyecto, valores unitarios de las actividades que conforman el presupuesto para calcular el costo de actividades de obra(Análisis de Precios Unitarios -APU), estudio de precios de mercado mediante la solicitud de cotizaciones, este último se utiliza exclusivamente para la estimación de costos de muebles, herramientas y equipos, las cotizaciones se deben solicitar a fabricantes especializados y reconocidos en el mercado. | D18: Ingeniero Civil con 5 años de experiencia general en el proyecto de infraestructura pública o privada | G18: =PRESUPUESTO!H12 -> 28882935 | H18: =+SUM(E18:G18) -> 28882935
A19: 8 | B19: =PRESUPUESTO!D13 -> Plan de manejo ambiental. Incluye: análisis de riesgo e informe | C19: Deberá entregar: PMA con la siguiente información mínima: Descripción y localización del proyecto: Descripción del proyecto y de las actividades constructivas del proyecto. Caracterización ambiental del área de estudio: Línea base y caracterización de los aspectos biofísicos y socioeconómicos del área directa e indirecta del proyecto en sus diferentes componentes, demanda ambiental de recursos para el proyecto. Identificación y evaluación de los impactos ambientales: Metodología de identificación de impactos, descripción y valoración de impactos sin proyecto y con proyecto. Medidas de manejo ambiental: Planteamiento de medidas preventivas, correctivas y compensatorias de los impactos ambientales generados proel proyecto en su etapa de construcción y operación, con sus indicadores de seguimiento. Presupuesto general. Carta de responsabilidad: Se anexará certificado de responsabilidad del profesional responsable del PMA con copia de la matrícula profesional. El PMA se elaborará teniendo en cuenta los requerimientos normativos para este tipo de proyectos, en concordancia con los requerimientos de la autoridad ambiental. | D19: Ingeniero sanitario, Ingeniero Ambiental o Ingeniero civil con 3 años de experiencia general o como especialista en el área ambiental | G19: =PRESUPUESTO!H13 -> 25896285 | H19: =+SUM(E19:G19) -> 25896285
D20: GASTOS POR MES | E20: =SUM(E12:E19) -> 83224377 | F20: =SUM(F12:F19) -> 110205522 | G20: =SUM(G12:G19) -> 71912772 | H20: =SUM(H12:H19) -> 265342671
D21: SUB TOTAL | E21: =+SUM(E20:G20) -> 265342671
D22: IVA | E22: =PRESUPUESTO!H15 -> 50415107 | H22: =E22 -> 50415107
D23: POLIZAS | E23: =PRESUPUESTO!H16 -> 2318230.3 | H23: =E23 -> 2318230.3
D24: TOTAL | E24: =PRESUPUESTO!H17 -> 3.1807601e+08 | H24: =E24 -> 3.1807601e+08
