Workbook

Sheet Proyección (2)
B3: =CosteoIndividual!B2 -> RESUMEN COTIZACIONES DE PRECIOS - Matriz de Calculo -FDLB-ES-C-076-2025
B5: ITEM | C5: PRODUCTO O SERVICIO | D5: ESPECIFICACION TECNICA | E5: DESCRIPCION TECNICA | F5: UNIDAD DE MEDIDA | G5: CANTIDAD | H5: VALOR UNITARIO PROMEDIO O MEDIANA (INCLUIDO IVA SI APLICA) | I5: VALOR PROMEDIO O MEDIANA TOTAL (INCLUIDO IVA SI APLICA) | J5: FUENTE DE CONSULTA | K5: DESVIACIÓN ESTÁNDAR | L5: SI DESVEST ES >15% SE PROMEDIA CON MEDIANA | M5: Tecnica Utilizada
B6: 1 | C6: Alquiler de mesón plástico tipo 1 | D6: Servicio de alquiler por un (1) día de mesón plegable plástico de alta resistencia con faldón y/o mantel de ochenta centímetros (0.80) x un metro con veinte centímetros (1.20) que incluya transporte y personal conforme a la programación establecida por la Alcaldía Local de Bosa. | E6: El servicio de Alquiler se debe disponer dos (2) horas antes del evento, incluye transporte y personal para la instalación y desmontaje en el lugar y horario establecido por la Alcaldía Local de Bosa. | F6: UN | G6: 1 | H6: =CosteoIndividual!P6 -> 17621 | I6: =IFERROR(H6*G6,"") -> 17621 | J6: =CosteoIndividual!R6 -> Proceso SECOP II FDLB-ES-C-076-2025 | K6: =CosteoIndividual!S6 -> 93.144464 | L6: =CosteoIndividual!T6 -> 0.0052860868 | M6: =IF(L6="","",IF(L6<0.15,"Promedio","Mediana")) -> Promedio
B7: 2 | C7: Alquiler de mesón plástico tipo 2 | D7: Servicio de alquiler por un (1) día de mesón plegable plástico de alta resistencia con faldón y/o mantel de ochenta centímetros (0.80) x un metro con ochenta centímetros (1.80) que incluya transporte y personal conforme a la programación establecida por la Alcaldía Local de Bosa. | E7: El servicio de Alquiler se debe disponer dos (2) horas antes del evento, incluye transporte y personal para la instalación y desmontaje en el lugar y horario establecido por la Alcaldía Local de Bosa. | F7: UN | G7: 1 | H7: =CosteoIndividual!P7 -> 24571 | I7: =IFERROR(H7*G7,"") -> 24571 | J7: =CosteoIndividual!R7 -> Proceso SECOP II FDLB-ES-C-076-2025 | K7: =CosteoIndividual!S7 -> 130.02628 | L7: =CosteoIndividual!T7 -> 0.0052919028 | M7: =IF(L7="","",IF(L7<0.15,"Promedio","Mediana")) -> Promedio
B8: 3 | C8: Alquiler de silla plástica sin brazos | D8: Alquiler de silla plástica sin brazos durante un (1) día que incluya instalación, transporte y desinstalación conforme a la programación establecida por la Alcaldía Local de Bosa. | E8: El servicio de Alquiler se debe disponer dos (2) horas antes del evento, incluye transporte y personal para la instalación y desmontaje en el lugar y horario establecido por la Alcaldía Local de Bosa. | F8: UN | G8: 1 | H8: =CosteoIndividual!P8 -> 3652 | I8: =IFERROR(H8*G8,"") -> 3652 | J8: =CosteoIndividual!R8 -> Proceso SECOP II FDLB-ES-C-076-2025 | K8: =CosteoIndividual!S8 -> 19.449 | L8: =CosteoIndividual!T8 -> 0.0053252086 | M8: =IF(L8="","",IF(L8<0.15,"Promedio","Mediana")) -> Promedio
B9: 4 | C9: Alquiler Vallas de separación con publicidad | D9: Alquiler de valla metálica de separación de mínimo dos (2) metros de ancho x un metro con veinte centímetros (1,20) de altura que incluya una (1) impresión a full color sobre banner de trece (13) onz instalado en la valla, debe incluir transporte de carga, personal para su instalación, desmontaje y el diseño según la programación establecida por la Alcaldía Local de Bosa.el servicio de alquiler por diez (10) horas | E9: El servicio de la Valla de Separación se debe disponer un (1) día antes del inicio del evento para realizar la ubicación y así garantizar el correcto desarrollo del evento, incluye transporte y personal para la instalación y desmontaje en el lugar y horario establecido por la Alcaldía Local de Bosa. | F9: UN | G9: 1 | H9: =CosteoIndividual!P9 -> 59005 | I9: =IFERROR(H9*G9,"") -> 59005 | J9: =CosteoIndividual!R9 -> Proceso SECOP II FDLB-ES-C-076-2025 | K9: =CosteoIndividual!S9 -> 311.85575 | L9: =CosteoIndividual!T9 -> 0.0052852161 | M9: =IF(L9="","",IF(L9<0.15,"Promedio","Mediana")) -> Promedio
B10: 5 | C10: Alquiler Vallas de separación sin publicidad | D10: Alquiler de valla metálica de separación de mínimo dos (2) metros de ancho x un metro con veinte centímetros (1,20) de altura, debe incluir transporte de carga, personal para su instalación y desmontaje según la programación establecida por la Alcaldía Local de Bosa.el servicio de alquiler por diez (10) horas | E10: El servicio de Alquiler de la Valla de Separación se debe disponer un (1) día antes del inicio del evento para realizar la ubicación y así garantizar el correcto desarrollo del evento, incluye transporte y personal para la instalación y desmontaje en el lugar y horario establecido por la Alcaldía Local de Bosa. | F10: UN | G10: 1 | H10: =CosteoIndividual!P10 -> 27438 | I10: =IFERROR(H10*G10,"") -> 27438 | J10: =CosteoIndividual!R10 -> Proceso SECOP II FDLB-ES-C-076-2025 | K10: =CosteoIndividual!S10 -> 144.93392 | L10: =CosteoIndividual!T10 -> 0.005282274 | M10: =IF(L10="","",IF(L10<0.15,"Promedio","Mediana")) -> Promedio
B11: 6 | C11: Ambulancia TAB 1 | D11: Servicio por una (1) hora de Ambulancia para Traslado Asistencial Básico (TAB) que cuente con la dotación requerida en equipos e insumos, tripulada por auxiliar de enfermería con experiencia en traslado asistencial básico y conductores entrenados y capacitados en el manejo de vehículos de emergencia, conforme a la programación establecida por la Alcaldia Local de Bosa.el servicio de alquiler por diez (10) horas | E11: El servicio de ambulancia debe garantizar la presencia permanente en el lugar del evento y estar disponible para. realizar el traslado de pacientes en caso de ser necesario, el servicio se prestara en el lugar y horario establecido por la Alcaldía Local de Bosa. | F11: UN | G11: 1 | H11: =CosteoIndividual!P11 -> 118297 | I11: =IFERROR(H11*G11,"") -> 118297 | J11: =CosteoIndividual!R11 -> Proceso SECOP II FDLB-ES-C-076-2025 | K11: =CosteoIndividual!S11 -> 625.32303 | L11: =CosteoIndividual!T11 -> 0.0052860571 | M11: =IF(L11="","",IF(L11<0.15,"Promedio","Mediana")) -> Promedio
B12: 7 | C12: Ambulancia TAB 2 | D12: Servicio por diez (10) horas de Ambulancia para Traslado Asistencial Básico (TAB) que cuente con la dotación requerida en equipos e insumos, tripulada por auxiliar de enfermería con experiencia en traslado asistencial básico y conductores entrenados y capacitados en el manejo de vehículos de emergencia, conforme a la programación establecida por la Alcaldia Local de Bosa.el servicio de alquiler por diez (10) horas | E12: El servicio de ambulancia debe garantizar la presencia permanente en el lugar del evento y estar disponible para. realizar el traslado de pacientes en caso de ser necesario, el servicio se prestara en el lugar y horario establecido por la Alcaldía Local de Bosa. | F12: UN | G12: 1 | H12: =CosteoIndividual!P12 -> 1212544 | I12: =IFERROR(H12*G12,"") -> 1212544 | J12: =CosteoIndividual!R12 -> Proceso SECOP II FDLB-ES-C-076-2025 | K12: =CosteoIndividual!S12 -> 6410.498 | L12: =CosteoIndividual!T12 -> 0.0052868149 | M12: =IF(L12="","",IF(L12<0.15,"Promedio","Mediana")) -> Promedio
B13: 8 | C13: Ambulancia TAM 1 | D13: Servicio por una (1) hora de Ambulancia para Traslado Asistencial Medicalizado (TAM) que cuente con la dotación requerida en equipos e insumos, unidad de intervención con equipo avanzado, tripulada por médico entrenado, enfermera, auxiliar o tecnólogo en atención prehospitalaria, conforme a la programación establecida por la Alcaldia Local de Bosa.el servicio de alquiler por diez (10) horas | E13: El servicio de ambulancia debe garantizar la presencia permanente en el lugar del evento y estar disponible para. realizar el traslado de pacientes en caso de ser necesario, el servicio se prestara en el lugar y horario establecido por la Alcaldía Local de Bosa. | F13: UN | G13: 1 | H13: =CosteoIndividual!P13 -> 135633 | I13: =IFERROR(H13*G13,"") -> 135633 | J13: =CosteoIndividual!R13 -> Proceso SECOP II FDLB-ES-C-076-2025 | K13: =CosteoIndividual!S13 -> 717.02902 | L13: =CosteoIndividual!T13 -> 0.0052865508 | M13: =IF(L13="","",IF(L13<0.15,"Promedio","Mediana")) -> Promedio
B14: 9 | C14: Ambulancia TAM 2 | D14: Servicio por diez (10) horas de Ambulancia para Traslado Asistencial Medicalizado (TAM) que cuente con la dotación requerida en equipos e insumos, unidad de intervención con equipo avanzado, tripulada por médico entrenado, enfermera, auxiliar o tecnólogo en atención prehospitalaria, conforme a la programación establecida por la Alcaldia Local de Bosa.el servicio de alquiler por diez (10) horas | E14: El servicio de ambulancia debe garantizar la presencia permanente en el lugar del evento y estar disponible para. realizar el traslado de pacientes en caso de ser necesario, el servicio se prestara en el lugar y horario establecido por la Alcaldía Local de Bosa. | F14: UN | G14: 1 | H14: =CosteoIndividual!P14 -> 1356326 | I14: =IFERROR(H14*G14,"") -> 1356326 | J14: =CosteoIndividual!R14 -> Proceso SECOP II FDLB-ES-C-076-2025 | K14: =CosteoIndividual!S14 -> 7170.856 | L14: =CosteoIndividual!T14 -> 0.0052869706 | M14: =IF(L14="","",IF(L14<0.15,"Promedio","Mediana")) -> Promedio
B15: 10 | C15: Atril | D15: Alquiler de atril para auditorio con escudo de Bogotá. Alcaldía Mayor de Bogotá D.C - Tiempo de Alquiler 1 Día.el servicio de alquiler por diez (10) horas | E15: El servicio de alquiler será por día y/o evento, incluye transporte, instalación, operación (si es requerido) y desinstalación en el lugar y horario establecido por la Alcaldía Local de Bosa. | F15: UN | G15: 1 | H15: =CosteoIndividual!P15 -> 138991 | I15: =IFERROR(H15*G15,"") -> 138991 | J15: =CosteoIndividual!R15 -> Proceso SECOP II FDLB-ES-C-076-2025 | K15: =CosteoIndividual!S15 -> 734.95128 | L15: =CosteoIndividual!T15 -> 0.0052877574 | M15: =IF(L15="","",IF(L15<0.15,"Promedio","Mediana")) -> Promedio
B16: 11 | C16: Cajita Niños y Niñas (Especial Niños) | D16: Servicio de alimentación que incluya una (1) cajita (Especial Niños) con un (1) Sándwich de queso y jamón, o una (1) milhoja o una (1) Mantecada, una (1) fruta entera (manzana, durazno o ciruelas), una (1) bebida de avena o yogurt o leche achocolatada en botella pet o envase Tetrapak y un (1) dulce (Entre las opciones se podrá suministrar galletas o palitroques-salados o dulces como monedas de chocolate o brownies). Todo lo anterior empacado en una (1) caja de picnic fabricada en cartón 100 % reciclable, para ser entregados conforme a la programación establecida por la Alcaldía Local de Bosa.el servicio de alquiler por diez (10) horas | E16: El servicio de alimentación debe incluir transporte y personal para la entrega en el lugar establecido por la Alcaldía Local de Bosa | F16: UN | G16: 1 | H16: =CosteoIndividual!P16 -> 20411 | I16: =IFERROR(H16*G16,"") -> 20411 | J16: =CosteoIndividual!R16 -> Proceso SECOP II FDLB-ES-C-076-2025 | K16: =CosteoIndividual!S16 -> 107.82194 | L16: =CosteoIndividual!T16 -> 0.0052825775 | M16: =IF(L16="","",IF(L16<0.15,"Promedio","Mediana")) -> Promedio
B17: 12 | C17: Escarapelas | D17: Impresión de escarapela en propalcote de trescientos (300) gramos en tamaño cuarto de carta, impresa a full color (4 x 1) plastificada, debe incluir bolsillo plástico y cordón para ser distribuida de manera individual e incluir el diseño suministrado por la Alcaldía Local de Bosa.el servicio de alquiler por diez (10) horas | E17: La escarapela debe estar fabricada en materiales de alta calidad y disponer de transporte y personal para entregarse en el lugar dispuesto por la Alcaldía Local de Bosa | F17: UN | G17: 1 | H17: =CosteoIndividual!P17 -> 5799 | I17: =IFERROR(H17*G17,"") -> 5799 | J17: =CosteoIndividual!R17 -> Proceso SECOP II FDLB-ES-C-076-2025 | K17: =CosteoIndividual!S17 -> 30.651734 | L17: =CosteoIndividual!T17 -> 0.0052853924 | M17: =IF(L17="","",IF(L17<0.15,"Promedio","Mediana")) -> Promedio
... B26: 21 | C26: Refrigerio Tipo 1 | D26: Refrigerio compuesto por un (1) pastel de pollo o un (1) pastel de carne o un (1) pastel gloria o un (1) sándwich con dos (2) rebanadas de pan, una (1) tajada de jamón y una (1) tajada de queso, una (1) fruta entera y un (1) jugo en envase pet o Tetrapak doscientos (200) ml, una (1) fruta (manzana, pera, durazno, banano, mandarina, o ciruela), todos los alimentos relacionados en esta descripción técnica deberán estar en empaques desechables biodegradables aptos para el almacenamiento y transporte de alimentos, para ser entregados conforme a la programación establecida por la Alcaldía Local de Bosa. el servicio de alquiler por diez (10) horas | E26: El servicio de refrigerio debe incluir transporte y personal en el lugar y horario establecido por la Alcaldía Local de Bosa | F26: UN | G26: 1 | H26: =CosteoIndividual!P26 -> 14551 | I26: =IFERROR(H26*G26,"") -> 14551 | J26: =CosteoIndividual!R26 -> Proceso SECOP II FDLB-ES-C-076-2025 | K26: =CosteoIndividual!S26 -> 76.819967 | L26: =CosteoIndividual!T26 -> 0.0052792609 | M26: =IF(L26="","",IF(L26<0.15,"Promedio","Mediana")) -> Promedio
B27: 22 | C27: Almuerzo | D27: Servicio de almuerzo compuesto por una (1) porción de proteína, una (1) porción de ensalada fresca, una (1) porción de arroz blanco, una (1) porción de verdura, una (1) porción de papa en cascos y una bebida de jugo natural, todos los alimentos relacionados en esta descripción técnica deberán estar en empaques desechables biodegradables aptos para el almacenamiento y transporte de alimentos preparados que incluya cuchara, tenedor, cuchillo, servilleta, para ser entregados conforme a la programación establecida por la Alcaldía Local de Bosa el servicio de alquiler por diez (10) horas | F27: Unidad | G27: 1 | H27: =CosteoIndividual!P27 -> 25511 | I27: =IFERROR(H27*G27,"") -> 25511 | J27: =CosteoIndividual!R27 -> Proceso SECOP II FDLB-ES-C-076-2025 | K27: =CosteoIndividual!S27 -> 134.7791 | L27: =CosteoIndividual!T27 -> 0.0052831554 | M27: =IF(L27="","",IF(L27<0.15,"Promedio","Mediana")) -> Promedio
B28: 23 | C28: Alquiler de Amplificador para Bajo 200W | D28: 200W de salida reales y 2 canales para bajo con altavoz de aluminio 12 "; Canal limpio con control de ganancia dedicado. EQ gráfico de 5 bandas EQ; Salida de auriculares independiente; Componentes de alta calidad. Conexión 110Vel servicio de alquiler por diez (10) horas | E28: Ver anexo técnico | F28: UNIDAD | G28: 1 | H28: =CosteoIndividual!P28 -> 356331 | I28: =IFERROR(H28*G28,"") -> 356331 | J28: =CosteoIndividual!R28 -> Proceso SECOP II FDLB-ES-C-076-2025 | K28: =CosteoIndividual!S28 -> 1883.9308 | L28: =CosteoIndividual!T28 -> 0.0052870223 | M28: =IF(L28="","",IF(L28<0.15,"Promedio","Mediana")) -> Promedio
B29: 24 | C29: Alquiler de Amplificador para Bajo 70W | D29: 70W de salida reales y 2 canales para bajo con altavoz de aluminio 12 "; Canal limpio con control de ganancia dedicado. EQ gráfico de 5 bandas EQ; Salida de auriculares independiente; Componentes de alta calidad. Conexión 110Vel servicio de alquiler por diez (10) horas | E29: Ver anexo técnico | F29: UNIDAD | G29: 1 | H29: =CosteoIndividual!P29 -> 273188 | I29: =IFERROR(H29*G29,"") -> 273188 | J29: =CosteoIndividual!R29 -> Proceso SECOP II FDLB-ES-C-076-2025 | K29: =CosteoIndividual!S29 -> 1444.2388 | L29: =CosteoIndividual!T29 -> 0.0052866087 | M29: =IF(L29="","",IF(L29<0.15,"Promedio","Mediana")) -> Promedio
B30: 25 | C30: Alquiler de Amplificador para Guitarra 100W | D30: Amplificador cabina/cabezote de guitarra Minimo 100W de salida para guitarra con amplificador de 2 canales independientes, FX dual y altavoz de 12 "; Procesador de efectos digital con chorus, flanger, delay además de reverberación por separado; EQ Independiente de graves y agudos controles de tono en cada canal; Control de contorno para el rango medio. Adicional para auriculares y salida de línea con simulación de altavoz integrada. Entrada para pedales de efectos. Conexión 110Vel servicio de alquiler por diez (10) horas | E30: Ver anexo técnico | F30: UNIDAD | G30: 1 | H30: =CosteoIndividual!P30 -> 376129 | I30: =IFERROR(H30*G30,"") -> 376129 | J30: =CosteoIndividual!R30 -> Proceso SECOP II FDLB-ES-C-076-2025 | K30: =CosteoIndividual!S30 -> 1988.4956 | L30: =CosteoIndividual!T30 -> 0.0052867363 | M30: =IF(L30="","",IF(L30<0.15,"Promedio","Mediana")) -> Promedio
B31: 26 | C31: Alquiler de Amplificador para Guitarra 30W | D31: Amplificador combo de guitarra Minimo 30W de salida para guitarra con amplificador de 2 canales independientes, FX dual y altavoz de 12 "; Procesador de efectos digital con chorus, flanger, delay además de reverberación por separado; EQ Independiente de graves y agudos controles de tono en cada canal; Control de contorno para el rango medio. Adicional para auriculares y salida de línea con simulación de altavoz integrada. Entrada para pedales de efectos. Conexión 110Vel servicio de alquiler por diez (10) horas | E31: Ver anexo técnico | F31: UNIDAD | G31: 1 | H31: =CosteoIndividual!P31 -> 282513 | I31: =IFERROR(H31*G31,"") -> 282513 | J31: =CosteoIndividual!R31 -> Proceso SECOP II FDLB-ES-C-076-2025 | K31: =CosteoIndividual!S31 -> 1493.6353 | L31: =CosteoIndividual!T31 -> 0.0052869564 | M31: =IF(L31="","",IF(L31<0.15,"Promedio","Mediana")) -> Promedio
B32: 27 | C32: Alquiler de andamio certificado | D32: Alquiler de andamio certificado de 4 metros x 2 metrosel servicio de alquiler por diez (10) horas | E32: Ver anexo técnico | F32: SET | G32: 1 | H32: =CosteoIndividual!P32 -> 534498 | I32: =IFERROR(H32*G32,"") -> 534498 | J32: =CosteoIndividual!R32 -> Proceso SECOP II FDLB-ES-C-076-2025 | K32: =CosteoIndividual!S32 -> 2825.7279 | L32: =CosteoIndividual!T32 -> 0.0052866964 | M32: =IF(L32="","",IF(L32<0.15,"Promedio","Mediana")) -> Promedio
B33: 28 | C33: Alquiler de Back Line Tipo 1 | D33: Alquiler de BackLine que incluya una (1) bateria acustica de minimo ocho (8) piezas de marca mundialmente reconocida, un (1) amplificador de guitarra y una (1) cabina para amplificador de guitarra de marca mundialmente reconocida, un (1) amplificador de bajo con una (1) cabina para amplificador de bajo minimo cuatro (4) x diez (10) de marca mundialmente reconocida que incluya un (1) auxiliar para instalación, operación y desinstalación, transporte de carga y todos los accesorios para garantizar su correcto funcionamiento en el lugar establecido por la Alcaldia Local de Bosael servicio de alquiler por diez (10) horas | E33: El servicio de alquiler del Alquiler de Back Line Tipo 1 se debe disponer mínimo dos (2) horas antes del inicio del evento para realizar la ubicación y así garantizar el correcto desarrollo del evento, incluye transporte de carga y personal para la instalación y desmontaje en el lugar y horario establecido por la Alcaldía Local de Bosa. | F33: UN | G33: 1 | H33: =CosteoIndividual!P33 -> 1981826 | I33: =IFERROR(H33*G33,"") -> 1981826 | J33: =CosteoIndividual!R33 -> Proceso SECOP II FDLB-ES-C-076-2025 | K33: =CosteoIndividual!S33 -> 10477.706 | L33: =CosteoIndividual!T33 -> 0.0052868947 | M33: =IF(L33="","",IF(L33<0.15,"Promedio","Mediana")) -> Promedio
B34: 29 | C34: Alquiler de Back Line Tipo 2 | D34: Alquiler de BackLine que incluya una (1) bateria acustica de minimo ocho (8) piezas de marca mundialmente reconocida, dos (2) amplificadores de guitarra y dos (2) cabinas para amplificador de guitarra de marca mundialmente reconocida, un (1) amplificador de bajo con una (1) cabina para amplificador de bajo minimo ocho (8) x diez (10) de marca mundialmente reconocida que incluya un (1) auxiliar para instalación, operación y desinstalación, transporte de carga y todos los accesorios para garantizar su correcto funcionamiento en el lugar establecido por la Alcaldia Local de Bosael servicio de alquiler por diez (10) horas | E34: El servicio de alquiler del Alquiler de Back Line Tipo 2 se debe disponer mínimo dos (2) horas antes del inicio del evento para realizar la ubicación y así garantizar el correcto desarrollo del evento, incluye transporte de carga y personal para la instalación y desmontaje en el lugar y horario establecido por la Alcaldía Local de Bosa. | F34: UN | G34: 1 | H34: =CosteoIndividual!P34 -> 2672496 | I34: =IFERROR(H34*G34,"") -> 2672496 | J34: =CosteoIndividual!R34 -> Proceso SECOP II FDLB-ES-C-076-2025 | K34: =CosteoIndividual!S34 -> 14129.273 | L34: =CosteoIndividual!T34 -> 0.0052869207 | M34: =IF(L34="","",IF(L34<0.15,"Promedio","Mediana")) -> Promedio
B35: 30 | C35: Alquiler de Back Line Tipo 3 | D35: Alquiler de BackLine que incluya dos (2) baterias acusticas de minimo ocho (8) piezas de marca mundialmente reconocida, dos (2) amplificadores de guitarra y dos (2) cabinas para amplificador de guitarra de marca mundialmente reconocida, dos (2) amplificador de bajo con dos (2) cabina para amplificador de bajo minimo ocho (8) x diez (10) de marca mundialmente reconocida que incluya un (1) auxiliar para instalación, operación y desinstalación, transporte de carga y todos los accesorios para garantizar su correcto funcionamiento en el lugar establecido por la Alcaldia Local de Bosael servicio de alquiler por diez (10) horas | E35: El servicio de alquiler del Alquiler de Back Line Tipo 3 se debe disponer mínimo tres (3) horas antes del inicio del evento para realizar la ubicación y así garantizar el correcto desarrollo del evento, incluye transporte de carga y personal para la instalación y desmontaje en el lugar y horario establecido por la Alcaldía Local de Bosa. | F35: UN | G35: 1 | H35: =CosteoIndividual!P35 -> 2850662 | I35: =IFERROR(H35*G35,"") -> 2850662 | J35: =CosteoIndividual!R35 -> Proceso SECOP II FDLB-ES-C-076-2025 | K35: =CosteoIndividual!S35 -> 15071.07 | L35: =CosteoIndividual!T35 -> 0.005286866 | M35: =IF(L35="","",IF(L35<0.15,"Promedio","Mediana")) -> Promedio
B36: 31 | C36: Alquiler de Back Line Tipo 4 | D36: Alquiler de BackLine que incluya un (1) set de percusión compuestos por un (1) timbal latino, un (1) set de congas con base de marca mundialmente reconocida, un (1) amplificador de guitarra y una (1) cabina para amplificador de guitarra de marca mundialmente reconocida, un (1) amplificador de bajo con una (1) cabina para amplificador de bajo minimo ocho (8) x diez (10) de marca mundialmente reconocida que incluya un (1) auxiliar para instalación, operación y desinstalación, transporte de carga y todos los accesorios para garantizar su correcto funcionamiento en el lugar establecido por la Alcaldia Local de Bosael servicio de alquiler por diez (10) horas | E36: El servicio de alquiler del Alquiler de Back Line Tipo 4 se debe disponer mínimo dos (2) horas antes del inicio del evento para realizar la ubicación y así garantizar el correcto desarrollo del evento, incluye transporte de carga y personal para la instalación y desmontaje en el lugar y horario establecido por la Alcaldía Local de Bosa. | F36: UN | G36: 1 | H36: =CosteoIndividual!P36 -> 2001622 | I36: =IFERROR(H36*G36,"") -> 2001622 | J36: =CosteoIndividual!R36 -> Proceso SECOP II FDLB-ES-C-076-2025 | K36: =CosteoIndividual!S36 -> 10582.325 | L36: =CosteoIndividual!T36 -> 0.005286874 | M36: =IF(L36="","",IF(L36<0.15,"Promedio","Mediana")) -> Promedio
B37: 32 | C37: Alquiler de Back Line Tipo 5 | D37: Alquiler de BackLine que incluya una (1) bateria acustica de minimo ocho (8) piezas de marca mundialmente reconocida, un (1) set de percusión compuestos por un (1) timbal latino de marca mundialmente reconocida, un (1) set de congas con base de marca mundialmente reconocida, un (1) amplificador de guitarra y una (1) cabina para amplificador de guitarra de marca mundialmente reconocida, un (1) amplificador de bajo con una (1) cabina para amplificador de bajo minimo ocho (8) x diez (10) de marca mundialmente reconocida que incluya un (1) auxiliar para instalación, operación y desinstalación, transporte de carga y todos los accesorios para garantizar su correcto funcionamiento en el lugar establecido por la Alcaldia Local de Bosael servicio de alquiler por diez (10) horas | E37: El servicio de alquiler del Alquiler de Back Line Tipo 5 se debe disponer mínimo tres (3) horas antes del inicio del evento para realizar la ubicación y así garantizar el correcto desarrollo del evento, incluye transporte de carga y personal para la instalación y desmontaje en el lugar y horario establecido por la Alcaldía Local de Bosa. | F37: UN | G37: 1 | H37: =CosteoIndividual!P37 -> 3206797 | I37: =IFERROR(H37*G37,"") -> 3206797 | J37: =CosteoIndividual!R37 -> Proceso SECOP II FDLB-ES-C-076-2025 | K37: =CosteoIndividual!S37 -> 16954.135 | L37: =CosteoIndividual!T37 -> 0.0052869369 | M37: =IF(L37="","",IF(L37<0.15,"Promedio","Mediana")) -> Promedio
B38: 33 | C38: Alquiler de Back Line Tipo 6 | D38: Alquiler de BackLine que incluya un (1) rack para Dee Jay con dos (2) tornamesas, un (1) mixer de cuatro (4) canales una (1) base alta para compudaror portatil, todo lo anterior de marca mundialmente reconocida, un (1) auxiliar para instalación, operación y desinstalación, transporte de carga y todos los accesorios para garantizar su correcto funcionamiento en el lugar establecido por la Alcaldia Local de Bosael servicio de alquiler por diez (10) horas | E38: El servicio de alquiler del Alquiler de Back Line Tipo 6 se debe disponer mínimo dos (2) horas antes del inicio del evento para realizar la ubicación y así garantizar el correcto desarrollo del evento, incluye transporte de carga y personal para la instalación y desmontaje en el lugar y horario establecido por la Alcaldía Local de Bosa. | F38: UN | G38: 1 | H38: =CosteoIndividual!P38 -> 1428758 | I38: =IFERROR(H38*G38,"") -> 1428758 | J38: =CosteoIndividual!R38 -> Proceso SECOP II FDLB-ES-C-076-2025 | K38: =CosteoIndividual!S38 -> 7553.5909 | L38: =CosteoIndividual!T38 -> 0.0052868221 | M38: =IF(L38="","",IF(L38<0.15,"Promedio","Mediana")) -> Promedio
B39: 34 | C39: Alquiler de Back Line Tipo 7 | D39: Alquiler de BackLine que incluya un (1) rack para Dee Jay con dos (2) tornamesas, un (1) mixer de cuatro (4) canales una (1) base alta para compudaror portatil, una (1) bateria acustica de minimo ocho (8) piezas de marca mundialmente reconocida, un (1) amplificador de guitarra y una (1) cabina para amplificador de guitarra de marca mundialmente reconocida, un (1) amplificador de bajo con una (1) cabina para amplificador de bajo minimo cuatro (4) x diez (10) de marca mundialmente reconocida, un (1) auxiliar para instalación, operación y desinstalación, transporte de carga y todos los accesorios para garantizar su correcto funcionamiento en el lugar establecido por la Alcaldia Local de Bosael servicio de alquiler por diez (10) horas | E39: El servicio de alquiler del Alquiler de Back Line Tipo 7 se debe disponer mínimo dos (2) horas antes del inicio del evento para realizar la ubicación y así garantizar el correcto desarrollo del evento, incluye transporte de carga y personal para la instalación y desmontaje en el lugar y horario establecido por la Alcaldía Local de Bosa. | F39: UN | G39: 1 | H39: =CosteoIndividual!P39 -> 3370053 | I39: =IFERROR(H39*G39,"") -> 3370053 | J39: =CosteoIndividual!R39 -> Proceso SECOP II FDLB-ES-C-076-2025 | K39: =CosteoIndividual!S39 -> 17817.06 | L39: =CosteoIndividual!T39 -> 0.0052868776 | M39: =IF(L39="","",IF(L39<0.15,"Promedio","Mediana")) -> Promedio
... B63: 58 | C63: Alquiler de muro de contención tipo 2 | D63: Alquiler de muro de contención portátil tipo barricada de dos metros con cuarenta centímetros (2,40) de ancho x un metro con veinte centímetros (1,20) de altura fabricado en aluminio o metal diseñado para contener el publico en eventos masivos, debe incluir accesorios, transporte de carga y personal para la instalación y desinstalación en el lugar dispuesto por la Alcaldía de Bosael servicio de alquiler por diez (10) horas | E63: El servicio de alquiler del Muro de Contención se debe disponer mínimo cuatro (4) horas antes del inicio del evento para realizar la ubicación y así garantizar el correcto desarrollo, incluye transporte de carga y personal para la instalación y desmontaje en el lugar y horario establecido por la Alcaldía Local de Bosa. | F63: UN | G63: 1 | H63: =CosteoIndividual!P63 -> 71266 | I63: =IFERROR(H63*G63,"") -> 71266 | J63: =CosteoIndividual!R63 -> Proceso SECOP II FDLB-ES-C-076-2025 | K63: =CosteoIndividual!S63 -> 376.88862 | L63: =CosteoIndividual!T63 -> 0.0052884423 | M63: =IF(L63="","",IF(L63<0.15,"Promedio","Mediana")) -> Promedio
B64: 59 | C64: Alquiler de pantalla inflable | D64: Alquiler de Pantalla de pelicula inflable de 20 pies pantalla D, Tiempo de Alquiler 1 Díael servicio de alquiler por diez (10) horas | F64: UN | G64: 1 | H64: =CosteoIndividual!P64 -> 534499 | I64: =IFERROR(H64*G64,"") -> 534499 | J64: =CosteoIndividual!R64 -> Proceso SECOP II FDLB-ES-C-076-2025 | K64: =CosteoIndividual!S64 -> 2825.957 | L64: =CosteoIndividual!T64 -> 0.00528711 | M64: =IF(L64="","",IF(L64<0.15,"Promedio","Mediana")) -> Promedio
B65: 60 | C65: Alquiler de pantalla LED tipo 1 | D65: Alquiler de pantalla LED diseñada para exteriores en formato de tres (3) metros de ancho x dos (2) metros de altura en resolución pitch 3mm, con procesador y computador para la proyección de material audiovisual, estructura para la instalación a nivel del piso, cables de señal, sistema de electricidad, accesorios, transporte de carga, personal técnico y auxiliar para su instalación, operación y desmontaje conforme a la programación establecida por la Alcaldía Local de Bosa.el servicio de alquiler por diez (10) horas | E65: El servicio de Alquiler de Pantalla Led se debe disponer cuatro (4) horas antes del inicio del evento para realizar pruebas y así garantizar el correcto funcionamiento, incluye transporte y personal para la instalación, operación y desmontaje en el lugar y horario establecido por la Alcaldía Local de Bosa. | F65: UN | G65: 1 | H65: =CosteoIndividual!P65 -> 1781665 | I65: =IFERROR(H65*G65,"") -> 1781665 | J65: =CosteoIndividual!R65 -> Proceso SECOP II FDLB-ES-C-076-2025 | K65: =CosteoIndividual!S65 -> 9419.3849 | L65: =CosteoIndividual!T65 -> 0.0052868436 | M65: =IF(L65="","",IF(L65<0.15,"Promedio","Mediana")) -> Promedio
B66: 61 | C66: Alquiler de pantalla LED tipo 2 | D66: Alquiler de pantalla LED diseñada para exteriores en formato de cuatro (4) metros de ancho x tres (3) metros de altura en resolución pitch 3mm, con procesador y computador para la proyección de material audiovisual, estructura para la instalación a nivel del piso, cables de señal, sistema de electricidad, accesorios, transporte de carga, personal técnico y auxiliar para su instalación, operación y desmontaje conforme a la programación establecida por la Alcaldía Local de Bosa.el servicio de alquiler por diez (10) horas | E66: El servicio de Alquiler de Pantalla Led se debe disponer cuatro (4) horas antes del inicio del evento para realizar pruebas y así garantizar el correcto funcionamiento, incluye transporte y personal para la instalación, operación y desmontaje en el lugar y horario establecido por la Alcaldía Local de Bosa. | F66: UN | G66: 1 | H66: =CosteoIndividual!P66 -> 3563330 | I66: =IFERROR(H66*G66,"") -> 3563330 | J66: =CosteoIndividual!R66 -> Proceso SECOP II FDLB-ES-C-076-2025 | K66: =CosteoIndividual!S66 -> 18839.053 | L66: =CosteoIndividual!T66 -> 0.0052869235 | M66: =IF(L66="","",IF(L66<0.15,"Promedio","Mediana")) -> Promedio
B67: 62 | C67: Alquiler de pantalla LED tipo 3 | D67: Alquiler de pantalla LED diseñada para exteriores en formato de seis (6) metros de ancho x tres (3) metros de altura en resolución pitch 3mm, con procesador y computador para la proyección de material audiovisual, estructura para la instalación a nivel del piso, cables de señal, sistema de electricidad, accesorios, transporte de carga, personal técnico y auxiliar para su instalación, operación y desmontaje conforme a la programación establecida por la Alcaldía Local de Bosa.el servicio de alquiler por diez (10) horas | E67: El servicio de Alquiler de Pantalla Led se debe disponer cuatro (4) horas antes del inicio del evento para realizar pruebas y así garantizar el correcto funcionamiento, incluye transporte y personal para la instalación, operación y desmontaje en el lugar y horario establecido por la Alcaldía Local de Bosa. | F67: UN | G67: 1 | H67: =CosteoIndividual!P67 -> 3563330 | I67: =IFERROR(H67*G67,"") -> 3563330 | J67: =CosteoIndividual!R67 -> Proceso SECOP II FDLB-ES-C-076-2025 | K67: =CosteoIndividual!S67 -> 18839.053 | L67: =CosteoIndividual!T67 -> 0.0052869235 | M67: =IF(L67="","",IF(L67<0.15,"Promedio","Mediana")) -> Promedio
B68: 63 | C68: Alquiler de pasa cable tipo 1 | D68: Alquiler de pasa cables de dos (2) canales de un (1) metro de longitud que incluya transporte de carga y personal para la instalación y desinstalación en el lugar dispuesto por la Alcaldia Local de Bosa.el servicio de alquiler por diez (10) horas | E68: El servicio de alquiler del pasa cable se debe disponer mínimo cuatro (4) horas antes del inicio del evento para realizar la ubicación y así garantizar el correcto desarrollo, incluye transporte de carga y personal para la instalación y desmontaje en el lugar y horario establecido por la Alcaldía Local de Bosa. | F68: UN | G68: 1 | H68: =CosteoIndividual!P68 -> 26725 | I68: =IFERROR(H68*G68,"") -> 26725 | J68: =CosteoIndividual!R68 -> Proceso SECOP II FDLB-ES-C-076-2025 | K68: =CosteoIndividual!S68 -> 141.29785 | L68: =CosteoIndividual!T68 -> 0.00528711 | M68: =IF(L68="","",IF(L68<0.15,"Promedio","Mediana")) -> Promedio
B69: 64 | C69: Alquiler de pasa cable tipo 2 | D69: Alquiler de pasa cables de cuatro (4) canales de un (1) metro de longitud que incluya transporte de carga y personal para la instalación y desinstalación en el lugar dispuesto por la Alcaldia Local de Bosa.el servicio de alquiler por diez (10) horas | E69: El servicio de alquiler del pasa cable se debe disponer mínimo cuatro (4) horas antes del inicio del evento para realizar la ubicación y así garantizar el correcto desarrollo, incluye transporte de carga y personal para la instalación y desmontaje en el lugar y horario establecido por la Alcaldía Local de Bosa. | F69: UN | G69: 1 | H69: =CosteoIndividual!P69 -> 35633 | I69: =IFERROR(H69*G69,"") -> 35633 | J69: =CosteoIndividual!R69 -> Proceso SECOP II FDLB-ES-C-076-2025 | K69: =CosteoIndividual!S69 -> 188.30288 | L69: =CosteoIndividual!T69 -> 0.0052844484 | M69: =IF(L69="","",IF(L69<0.15,"Promedio","Mediana")) -> Promedio
B70: 65 | C70: Alquiler de planta eléctrica tipo 1 | D70: Planta eléctrica insonorizada de seis (6) Kva a dos (2) fases, un (1) neutro y un (1) polo a tierra con todos sus elementos de seguridad, bajantes eléctricas, distribuidores eléctricos, tapa cables y combustible para prestar servicio por ocho (8) horas debe incluir accesorios, transporte de carga, personal técnico para su instalación, operación y desmontaje conforme a la programación establecida por la Alcaldía Local de Bosa.el servicio de alquiler por diez (10) horas | E70: El servicio de alquiler de planta eléctrica se debe disponer cuatro (4) horas antes del inicio del evento para realizar pruebas y así garantizar el correcto funcionamiento, incluye transporte y personal para la instalación, operación y desmontaje en el lugar y horario establecido por la Alcaldía Local de Bosa. | F70: UN | G70: 1 | H70: =CosteoIndividual!P70 -> 445416 | I70: =IFERROR(H70*G70,"") -> 445416 | J70: =CosteoIndividual!R70 -> Proceso SECOP II FDLB-ES-C-076-2025 | K70: =CosteoIndividual!S70 -> 2354.7755 | L70: =CosteoIndividual!T70 -> 0.0052866838 | M70: =IF(L70="","",IF(L70<0.15,"Promedio","Mediana")) -> Promedio
B71: 66 | C71: Alquiler de planta eléctrica tipo 2 | D71: Planta eléctrica insonorizada de cuarenta (40) Kva a tres (3) fases, un (1) neutro y un (1) polo a tierra con todos sus elementos de seguridad, bajantes eléctricas, distribuidores eléctricos, tapa cables y combustible para prestar servicio por diez (10) horas debe incluir accesorios, transporte de carga, personal técnico para su instalación, operación y desmontaje conforme a la programación establecida por la Alcaldía Local de Bosa.el servicio de alquiler por diez (10) horas | E71: El servicio de alquiler de planta eléctrica se debe disponer cuatro (4) horas antes del inicio del evento para realizar pruebas y así garantizar el correcto funcionamiento, incluye transporte y personal para la instalación, operación y desmontaje en el lugar y horario establecido por la Alcaldía Local de Bosa. | F71: UN | G71: 1 | H71: =CosteoIndividual!P71 -> 1425332 | I71: =IFERROR(H71*G71,"") -> 1425332 | J71: =CosteoIndividual!R71 -> Proceso SECOP II FDLB-ES-C-076-2025 | K71: =CosteoIndividual!S71 -> 7535.5079 | L71: =CosteoIndividual!T71 -> 0.0052868436 | M71: =IF(L71="","",IF(L71<0.15,"Promedio","Mediana")) -> Promedio
B72: 67 | C72: Alquiler de planta eléctrica tipo 3 | D72: Planta eléctrica insonorizada de setenta y cinco (75) Kva a tres (3) fases, un (1) neutro y un (1) polo a tierra con todos sus elementos de seguridad, bajantes eléctricas, distribuidores eléctricos, tapa cables y combustible para prestar servicio por diez (10) horas debe incluir accesorios, transporte de carga, personal técnico para su instalación, operación y desmontaje conforme a la programación establecida por la Alcaldía Local de Bosa.el servicio de alquiler por diez (10) horas | E72: El servicio de alquiler de planta eléctrica se debe disponer cuatro (4) horas antes del inicio del evento para realizar pruebas y así garantizar el correcto funcionamiento, incluye transporte y personal para la instalación, operación y desmontaje en el lugar y horario establecido por la Alcaldía Local de Bosa. | F72: UN | G72: 1 | H72: =CosteoIndividual!P72 -> 1959831 | I72: =IFERROR(H72*G72,"") -> 1959831 | J72: =CosteoIndividual!R72 -> Proceso SECOP II FDLB-ES-C-076-2025 | K72: =CosteoIndividual!S72 -> 10361.465 | L72: =CosteoIndividual!T72 -> 0.0052869162 | M72: =IF(L72="","",IF(L72<0.15,"Promedio","Mediana")) -> Promedio
B73: 68 | C73: Alquiler de planta eléctrica tipo 4 | D73: Planta eléctrica insonorizada de ciento veinticinco (125) Kva a tres (3) fases, un (1) neutro y un (1) polo a tierra con todos sus elementos de seguridad, bajantes eléctricas, distribuidores eléctricos, tapa cables y combustible para prestar servicio por diez (10) horas debe incluir accesorios, transporte de carga, personal técnico para su instalación, operación y desmontaje conforme a la programación establecida por la Alcaldía Local de Bosa.el servicio de alquiler por diez (10) horas | E73: El servicio de alquiler de planta eléctrica se debe disponer cuatro (4) horas antes del inicio del evento para realizar pruebas y así garantizar el correcto funcionamiento, incluye transporte y personal para la instalación, operación y desmontaje en el lugar y horario establecido por la Alcaldía Local de Bosa. | F73: UN | G73: 1 | H73: =CosteoIndividual!P73 -> 2494331 | I73: =IFERROR(H73*G73,"") -> 2494331 | J73: =CosteoIndividual!R73 -> Proceso SECOP II FDLB-ES-C-076-2025 | K73: =CosteoIndividual!S73 -> 13187.139 | L73: =CosteoIndividual!T73 -> 0.0052868436 | M73: =IF(L73="","",IF(L73<0.15,"Promedio","Mediana")) -> Promedio
B74: 69 | C74: Alquiler de Puente estructural (Truss) tipo 1 | D74: Alquiler de un (1) puente estructural de cuatro (4) metros de ancho x cinco (5) metros de altura desde el piso ensamblado en estructura tipo truss, el puente estructural deberá estar elevado desde el piso con dos (2) columnas las cuales pueden ser elevadores y estar en la capacidad de soportar la carga del sistema de sonido, pantallas de video y sistema de iluminación dispuestos para el desarrollo del evento que incluya transporte de carga, personal técnico para la instalación y desinstalación, todos lo contrapesos y elementos de seguridad que garantice su correcta instalación y seguridad de los asistentes al evento conforme a la programación establecida por la Alcaldia Local de Bosael servicio de alquiler por diez (10) horas | E74: El servicio de alquiler del Puente Estructural se debe disponer mínimo un (1) día antes del inicio del evento para realizar la ubicación y así garantizar el correcto desarrollo del evento, incluye transporte de carga y personal para la instalación y desmontaje en el lugar y horario establecido por la Alcaldía Local de Bosa. | F74: UN | G74: 1 | H74: =CosteoIndividual!P74 -> 890832 | I74: =IFERROR(H74*G74,"") -> 890832 | J74: =CosteoIndividual!R74 -> Proceso SECOP II FDLB-ES-C-076-2025 | K74: =CosteoIndividual!S74 -> 4709.8339 | L74: =CosteoIndividual!T74 -> 0.0052870034 | M74: =IF(L74="","",IF(L74<0.15,"Promedio","Mediana")) -> Promedio
...

Sheet CosteoIndividual
B2: RESUMEN COTIZACIONES DE PRECIOS - Matriz de Calculo -FDLB-ES-C-076-2025
I3: Proceso FDLB-ES-C-076-2025 | L3: Proceso FDLB-ES-C-091-2025
I4: 01-GESPROSOL | J4: 02-tres diamantes producciones s.a.s | K4: 03-Open in New Tab Fundacion Andres Fierro | L4: 01-COMUNICACIONES VISUALIZA S.A.S. | M4: 02-GRUPO VECTOR | N4: 03-A UN CLICK NS | O4: 04-SOCIEDAD D3 S.A.S
B5: ITEM | C5: PRODUCTO O SERVICIO | D5: ESPECIFICACIÓN TECNICA | E5: DESCRIPCIÓN TECNICA | F5: Tiempo | G5: UNIDAD DE MEDIDA A COTIZAR | H5: CANTIDAD A COTIZAR | I5: Cotización 1 VALOR UNITARIO (INCLUIDO IVA SI APLICA) | J5: Cotización 2 VALOR UNITARIO (INCLUIDO IVA SI APLICA) | K5: Cotización 3 VALOR UNITARIO (INCLUIDO IVA SI APLICA) | L5: Cotización 1 VALOR UNITARIO (INCLUIDO IVA SI APLICA) | M5: Cotización 2 VALOR UNITARIO (INCLUIDO IVA SI APLICA) | N5: Cotización 3 VALOR UNITARIO (INCLUIDO IVA SI APLICA) | O5: Cotización 3 VALOR UNITARIO (INCLUIDO IVA SI APLICA) | P5: VALOR UNITARIO PROMEDIO O MEDIANA (INCLUIDO IVA SI APLICA) | Q5: VALOR PROMEDIO O MEDIANA TOTAL (INCLUIDO IVA SI APLICA) | R5: FUENTE DE CONSULTA | S5: DESVIACIÓN ESTÁNDAR | T5: SI DESVEST ES >15% SE PROMEDIA CON MEDIANA | V5: Cotizaciones Elemento
B6: 1 | C6: Alquiler de mesón plástico tipo 1 | D6: Servicio de alquiler por un (1) día de mesón plegable plástico de alta resistencia con faldón y/o mantel de ochenta centímetros (0.80) x un metro con veinte centímetros (1.20) que incluya transporte y personal conforme a la programación establecida por la Alcaldía Local de Bosa. | E6: El servicio de Alquiler se debe disponer dos (2) horas antes del evento, incluye transporte y personal para la instalación y desmontaje en el lugar y horario establecido por la Alcaldía Local de Bosa. | F6: UN | G6: 1 | H6: 1 | I6: 17568 | J6: 17728.23 | K6: 17565.821 | P6: =IFERROR(IF(T6>(0.15),ROUND(MEDIAN(I6:O6),0),ROUND(AVERAGE(I6:O6),0)),"") -> 17621 | Q6: =IFERROR(P6*H6,"") -> 17621 | R6: Proceso SECOP II FDLB-ES-C-076-2025 | S6: =IFERROR(STDEV(I6:O6),"") -> 93.144464 | T6: =IFERROR(S6/AVERAGE(I6:O6),"") -> 0.0052860868 | V6: =COUNTIF(I6:O6,">0") -> 3
B7: 2 | C7: Alquiler de mesón plástico tipo 2 | D7: Servicio de alquiler por un (1) día de mesón plegable plástico de alta resistencia con faldón y/o mantel de ochenta centímetros (0.80) x un metro con ochenta centímetros (1.80) que incluya transporte y personal conforme a la programación establecida por la Alcaldía Local de Bosa. | E7: El servicio de Alquiler se debe disponer dos (2) horas antes del evento, incluye transporte y personal para la instalación y desmontaje en el lugar y horario establecido por la Alcaldía Local de Bosa. | F7: UN | G7: 1 | H7: 1 | I7: 24497 | J7: 24720.933 | K7: 24494.463 | P7: =IFERROR(IF(T7>(0.15),ROUND(MEDIAN(I7:O7),0),ROUND(AVERAGE(I7:O7),0)),"") -> 24571 | Q7: =IFERROR(P7*H7,"") -> 24571 | R7: Proceso SECOP II FDLB-ES-C-076-2025 | S7: =IFERROR(STDEV(I7:O7),"") -> 130.02628 | T7: =IFERROR(S7/AVERAGE(I7:O7),"") -> 0.0052919028 | V7: =COUNTIF(I7:O7,">0") -> 3
B8: 3 | C8: Alquiler de silla plástica sin brazos | D8: Alquiler de silla plástica sin brazos durante un (1) día que incluya instalación, transporte y desinstalación conforme a la programación establecida por la Alcaldía Local de Bosa. | E8: El servicio de Alquiler se debe disponer dos (2) horas antes del evento, incluye transporte y personal para la instalación y desmontaje en el lugar y horario establecido por la Alcaldía Local de Bosa. | F8: UN | G8: 1 | H8: 1 | I8: 3641 | J8: 3674.709 | K8: 3641.0448 | P8: =IFERROR(IF(T8>(0.15),ROUND(MEDIAN(I8:O8),0),ROUND(AVERAGE(I8:O8),0)),"") -> 3652 | Q8: =IFERROR(P8*H8,"") -> 3652 | R8: Proceso SECOP II FDLB-ES-C-076-2025 | S8: =IFERROR(STDEV(I8:O8),"") -> 19.449 | T8: =IFERROR(S8/AVERAGE(I8:O8),"") -> 0.0053252086 | V8: =COUNTIF(I8:O8,">0") -> 3
B9: 4 | C9: Alquiler Vallas de separación con publicidad | D9: Alquiler de valla metálica de separación de mínimo dos (2) metros de ancho x un metro con veinte centímetros (1,20) de altura que incluya una (1) impresión a full color sobre banner de trece (13) onz instalado en la valla, debe incluir transporte de carga, personal para su instalación, desmontaje y el diseño según la programación establecida por la Alcaldía Local de Bosa.el servicio de alquiler por diez (10) horas | E9: El servicio de la Valla de Separación se debe disponer un (1) día antes del inicio del evento para realizar la ubicación y así garantizar el correcto desarrollo del evento, incluye transporte y personal para la instalación y desmontaje en el lugar y horario establecido por la Alcaldía Local de Bosa. | F9: UN | G9: 1 | H9: 1 | I9: 58829 | J9: 59365.372 | K9: 58821.522 | P9: =IFERROR(IF(T9>(0.15),ROUND(MEDIAN(I9:O9),0),ROUND(AVERAGE(I9:O9),0)),"") -> 59005 | Q9: =IFERROR(P9*H9,"") -> 59005 | R9: Proceso SECOP II FDLB-ES-C-076-2025 | S9: =IFERROR(STDEV(I9:O9),"") -> 311.85575 | T9: =IFERROR(S9/AVERAGE(I9:O9),"") -> 0.0052852161 | V9: =COUNTIF(I9:O9,">0") -> 3
B10: 5 | C10: Alquiler Vallas de separación sin publicidad | D10: Alquiler de valla metálica de separación de mínimo dos (2) metros de ancho x un metro con veinte centímetros (1,20) de altura, debe incluir transporte de carga, personal para su instalación y desmontaje según la programación establecida por la Alcaldía Local de Bosa.el servicio de alquiler por diez (10) horas | E10: El servicio de Alquiler de la Valla de Separación se debe disponer un (1) día antes del inicio del evento para realizar la ubicación y así garantizar el correcto desarrollo del evento, incluye transporte y personal para la instalación y desmontaje en el lugar y horario establecido por la Alcaldía Local de Bosa. | F10: UN | G10: 1 | H10: 1 | I10: 27356 | J10: 27605.131 | K10: 27352.239 | P10: =IFERROR(IF(T10>(0.15),ROUND(MEDIAN(I10:O10),0),ROUND(AVERAGE(I10:O10),0)),"") -> 27438 | Q10: =IFERROR(P10*H10,"") -> 27438 | R10: Proceso SECOP II FDLB-ES-C-076-2025 | S10: =IFERROR(STDEV(I10:O10),"") -> 144.93392 | T10: =IFERROR(S10/AVERAGE(I10:O10),"") -> 0.005282274 | V10: =COUNTIF(I10:O10,">0") -> 3
B11: 6 | C11: Ambulancia TAB 1 | D11: Servicio por una (1) hora de Ambulancia para Traslado Asistencial Básico (TAB) que cuente con la dotación requerida en equipos e insumos, tripulada por auxiliar de enfermería con experiencia en traslado asistencial básico y conductores entrenados y capacitados en el manejo de vehículos de emergencia, conforme a la programación establecida por la Alcaldia Local de Bosa.el servicio de alquiler por diez (10) horas | E11: El servicio de ambulancia debe garantizar la presencia permanente en el lugar del evento y estar disponible para. realizar el traslado de pacientes en caso de ser necesario, el servicio se prestara en el lugar y horario establecido por la Alcaldía Local de Bosa. | F11: UN | G11: 1 | H11: 1 | I11: 117943 | J11: 119018.7 | K11: 117928.36 | P11: =IFERROR(IF(T11>(0.15),ROUND(MEDIAN(I11:O11),0),ROUND(AVERAGE(I11:O11),0)),"") -> 118297 | Q11: =IFERROR(P11*H11,"") -> 118297 | R11: Proceso SECOP II FDLB-ES-C-076-2025 | S11: =IFERROR(STDEV(I11:O11),"") -> 625.32303 | T11: =IFERROR(S11/AVERAGE(I11:O11),"") -> 0.0052860571 | V11: =COUNTIF(I11:O11,">0") -> 3
B12: 7 | C12: Ambulancia TAB 2 | D12: Servicio por diez (10) horas de Ambulancia para Traslado Asistencial Básico (TAB) que cuente con la dotación requerida en equipos e insumos, tripulada por auxiliar de enfermería con experiencia en traslado asistencial básico y conductores entrenados y capacitados en el manejo de vehículos de emergencia, conforme a la programación establecida por la Alcaldia Local de Bosa.el servicio de alquiler por diez (10) horas | E12: El servicio de ambulancia debe garantizar la presencia permanente en el lugar del evento y estar disponible para. realizar el traslado de pacientes en caso de ser necesario, el servicio se prestara en el lugar y horario establecido por la Alcaldía Local de Bosa. | F12: UN | G12: 1 | H12: 1 | I12: 1208917 | J12: 1219946.2 | K12: 1208770.1 | P12: =IFERROR(IF(T12>(0.15),ROUND(MEDIAN(I12:O12),0),ROUND(AVERAGE(I12:O12),0)),"") -> 1212544 | Q12: =IFERROR(P12*H12,"") -> 1212544 | R12: Proceso SECOP II FDLB-ES-C-076-2025 | S12: =IFERROR(STDEV(I12:O12),"") -> 6410.498 | T12: =IFERROR(S12/AVERAGE(I12:O12),"") -> 0.0052868149 | V12: =COUNTIF(I12:O12,">0") -> 3
B13: 8 | C13: Ambulancia TAM 1 | D13: Servicio por una (1) hora de Ambulancia para Traslado Asistencial Medicalizado (TAM) que cuente con la dotación requerida en equipos e insumos, unidad de intervención con equipo avanzado, tripulada por médico entrenado, enfermera, auxiliar o tecnólogo en atención prehospitalaria, conforme a la programación establecida por la Alcaldia Local de Bosa.el servicio de alquiler por diez (10) horas | E13: El servicio de ambulancia debe garantizar la presencia permanente en el lugar del evento y estar disponible para. realizar el traslado de pacientes en caso de ser necesario, el servicio se prestara en el lugar y horario establecido por la Alcaldía Local de Bosa. | F13: UN | G13: 1 | H13: 1 | I13: 135227 | J13: 136460.57 | K13: 135210.45 | P13: =IFERROR(IF(T13>(0.15),ROUND(MEDIAN(I13:O13),0),ROUND(AVERAGE(I13:O13),0)),"") -> 135633 | Q13: =IFERROR(P13*H13,"") -> 135633 | R13: Proceso SECOP II FDLB-ES-C-076-2025 | S13: =IFERROR(STDEV(I13:O13),"") -> 717.02902 | T13: =IFERROR(S13/AVERAGE(I13:O13),"") -> 0.0052865508 | V13: =COUNTIF(I13:O13,">0") -> 3
B14: 9 | C14: Ambulancia TAM 2 | D14: Servicio por diez (10) horas de Ambulancia para Traslado Asistencial Medicalizado (TAM) que cuente con la dotación requerida en equipos e insumos, unidad de intervención con equipo avanzado, tripulada por médico entrenado, enfermera, auxiliar o tecnólogo en atención prehospitalaria, conforme a la programación establecida por la Alcaldia Local de Bosa.el servicio de alquiler por diez (10) horas | E14: El servicio de ambulancia debe garantizar la presencia permanente en el lugar del evento y estar disponible para. realizar el traslado de pacientes en caso de ser necesario, el servicio se prestara en el lugar y horario establecido por la Alcaldía Local de Bosa. | F14: UN | G14: 1 | H14: 1 | I14: 1352268 | J14: 1364605.7 | K14: 1352104.5 | P14: =IFERROR(IF(T14>(0.15),ROUND(MEDIAN(I14:O14),0),ROUND(AVERAGE(I14:O14),0)),"") -> 1356326 | Q14: =IFERROR(P14*H14,"") -> 1356326 | R14: Proceso SECOP II FDLB-ES-C-076-2025 | S14: =IFERROR(STDEV(I14:O14),"") -> 7170.856 | T14: =IFERROR(S14/AVERAGE(I14:O14),"") -> 0.0052869706 | V14: =COUNTIF(I14:O14,">0") -> 3
B15: 10 | C15: Atril | D15: Alquiler de atril para auditorio con escudo de Bogotá. Alcaldía Mayor de Bogotá D.C - Tiempo de Alquiler 1 Día.el servicio de alquiler por diez (10) horas | E15: El servicio de alquiler será por día y/o evento, incluye transporte, instalación, operación (si es requerido) y desinstalación en el lugar y horario establecido por la Alcaldía Local de Bosa. | F15: UN | G15: 1 | H15: 1 | I15: 138575 | J15: 139839.71 | K15: 138558.63 | P15: =IFERROR(IF(T15>(0.15),ROUND(MEDIAN(I15:O15),0),ROUND(AVERAGE(I15:O15),0)),"") -> 138991 | Q15: =IFERROR(P15*H15,"") -> 138991 | R15: Proceso SECOP II FDLB-ES-C-076-2025 | S15: =IFERROR(STDEV(I15:O15),"") -> 734.95128 | T15: =IFERROR(S15/AVERAGE(I15:O15),"") -> 0.0052877574 | V15: =COUNTIF(I15:O15,">0") -> 3
B16: 11 | C16: Cajita Niños y Niñas (Especial Niños) | D16: Servicio de alimentación que incluya una (1) cajita (Especial Niños) con un (1) Sándwich de queso y jamón, o una (1) milhoja o una (1) Mantecada, una (1) fruta entera (manzana, durazno o ciruelas), una (1) bebida de avena o yogurt o leche achocolatada en botella pet o envase Tetrapak y un (1) dulce (Entre las opciones se podrá suministrar galletas o palitroques-salados o dulces como monedas de chocolate o brownies). Todo lo anterior empacado en una (1) caja de picnic fabricada en cartón 100 % reciclable, para ser entregados conforme a la programación establecida por la Alcaldía Local de Bosa.el servicio de alquiler por diez (10) horas | E16: El servicio de alimentación debe incluir transporte y personal para la entrega en el lugar establecido por la Alcaldía Local de Bosa | F16: UN | G16: 1 | H16: 1 | I16: 20350 | J16: 20535.35 | K16: 20347.224 | P16: =IFERROR(IF(T16>(0.15),ROUND(MEDIAN(I16:O16),0),ROUND(AVERAGE(I16:O16),0)),"") -> 20411 | Q16: =IFERROR(P16*H16,"") -> 20411 | R16: Proceso SECOP II FDLB-ES-C-076-2025 | S16: =IFERROR(STDEV(I16:O16),"") -> 107.82194 | T16: =IFERROR(S16/AVERAGE(I16:O16),"") -> 0.0052825775 | V16: =COUNTIF(I16:O16,">0") -> 3
B17: 12 | C17: Escarapelas | D17: Impresión de escarapela en propalcote de trescientos (300) gramos en tamaño cuarto de carta, impresa a full color (4 x 1) plastificada, debe incluir bolsillo plástico y cordón para ser distribuida de manera individual e incluir el diseño suministrado por la Alcaldía Local de Bosa.el servicio de alquiler por diez (10) horas | E17: La escarapela debe estar fabricada en materiales de alta calidad y disponer de transporte y personal para entregarse en el lugar dispuesto por la Alcaldía Local de Bosa | F17: UN | G17: 1 | H17: 1 | I17: 5782 | J17: 5834.7209 | K17: 5781.2687 | P17: =IFERROR(IF(T17>(0.15),ROUND(MEDIAN(I17:O17),0),ROUND(AVERAGE(I17:O17),0)),"") -> 5799 | Q17: =IFERROR(P17*H17,"") -> 5799 | R17: Proceso SECOP II FDLB-ES-C-076-2025 | S17: =IFERROR(STDEV(I17:O17),"") -> 30.651734 | T17: =IFERROR(S17/AVERAGE(I17:O17),"") -> 0.0052853924 | V17: =COUNTIF(I17:O17,">0") -> 3
B18: 13 | C18: Estación Café Tipo 1 | D18: Espacio habilitado para que los asistentes se sirvan por sí mismos algo de beber, deberá contar con cien (100) bebidas de dos (2) tipos de jugos naturales en vasos de siete (7) onz, trescientas (300) bebidas calientes en vasos de cuatro (4) onz entre café y aromática, un (1) botellón de agua mineral para ser distribuida en vasos de siete (7) onz y trescientas (300) galletas, todo lo anterior ubicado sobre una (1) mesa de un metro con veinte centímetros (1,20) de ancho x sesenta centímetros (0,60) de profundidad con mantel y sobre mantel, servilletas y bandejas, todos los vasos deben ser desechables y biodegradables, una (1) persona de apoyo para garantizar el orden y aseo de la estación en los lugares dispuestos por la Alcaldía Local de Bosa-El servicio de alquiler por ocho (8) horas | E18: El servicio de la Estación de Café debe incluir transporte y personal en el lugar y horario establecido por la Alcaldía Local de Bosa. | F18: UN | G18: 1 | H18: 1 | I18: 809218 | J18: 816601.01 | K18: 809120.07 | P18: =IFERROR(IF(T18>(0.15),ROUND(MEDIAN(I18:O18),0),ROUND(AVERAGE(I18:O18),0)),"") -> 811646 | Q18: =IFERROR(P18*H18,"") -> 811646 | R18: Proceso SECOP II FDLB-ES-C-076-2025 | S18: =IFERROR(STDEV(I18:O18),"") -> 4291.1302 | T18: =IFERROR(S18/AVERAGE(I18:O18),"") -> 0.0052869457 | V18: =COUNTIF(I18:O18,">0") -> 3
B19: 14 | C19: Estación Café Tipo 2 | D19: Estación de café y aromática e insumos y elementos menaje desechable (vasos, mezcladores, azúcar, entre otros): 300 bebidas vaso 5 onz de cartón. (Incluye transporte a lugares definidos por la alcaldía) El servicio de alquiler por ocho (8) horas | F19: UN | G19: 1 | H19: 1 | I19: 532701 | J19: 537561.53 | K19: 532636.9 | P19: =IFERROR(IF(T19>(0.15),ROUND(MEDIAN(I19:O19),0),ROUND(AVERAGE(I19:O19),0)),"") -> 534300 | Q19: =IFERROR(P19*H19,"") -> 534300 | R19: Proceso SECOP II FDLB-ES-C-076-2025 | S19: =IFERROR(STDEV(I19:O19),"") -> 2824.9163 | T19: =IFERROR(S19/AVERAGE(I19:O19),"") -> 0.005287137 | V19: =COUNTIF(I19:O19,">0") -> 3
B20: 15 | C20: Intérprete De Lenguaje De Señas | D20: Bachiller, Técnico (en cualquier area) y acreditado en intérprete de lengua de señas. Mínimo 2 años de experiencia como intérprete.el servicio de alquiler por diez (10) horas | E20: Persona por hora | F20: Hora | G20: 1 | H20: 1 | I20: 144057 | J20: 145371.49 | K20: 144039.73 | P20: =IFERROR(IF(T20>(0.15),ROUND(MEDIAN(I20:O20),0),ROUND(AVERAGE(I20:O20),0)),"") -> 144489 | Q20: =IFERROR(P20*H20,"") -> 144489 | R20: Proceso SECOP II FDLB-ES-C-076-2025 | S20: =IFERROR(STDEV(I20:O20),"") -> 763.95435 | T20: =IFERROR(S20/AVERAGE(I20:O20),"") -> 0.0052872689 | V20: =COUNTIF(I20:O20,">0") -> 3
B21: 16 | C21: Módulo De Estabilización Y Clasificación (MEC) | D21: Prestación de servicio por diez (10) horas con Módulo de Estabilización y Clasificación (MEC) que incluya todos los elementos para la prestación del servicio conforme a la normatividad (Carpa acondicionada y dotada para atención, un (1) medico y una enfermera, camilla, botiquin y desfibrilador Incluye transporte, instalación y desinstalación conforme a la programación establecida por la Alcaldia Local de Bosa.el servicio de alquiler por diez (10) horas | E21: El servicio de ambulancia debe garantizar la presencia permanente en el lugar del evento y estar disponible para. realizar el traslado de pacientes en caso de ser necesario, el servicio se prestara en el lugar y horario establecido por la Alcaldía Local de Bosa. | F21: UN | G21: 1 | H21: 1 | I21: 1179247 | J21: 1190006.2 | K21: 1179104.5 | P21: =IFERROR(IF(T21>(0.15),ROUND(MEDIAN(I21:O21),0),ROUND(AVERAGE(I21:O21),0)),"") -> 1182786 | Q21: =IFERROR(P21*H21,"") -> 1182786 | R21: Proceso SECOP II FDLB-ES-C-076-2025 | S21: =IFERROR(STDEV(I21:O21),"") -> 6253.3763 | T21: =IFERROR(S21/AVERAGE(I21:O21),"") -> 0.0052869893 | V21: =COUNTIF(I21:O21,">0") -> 3
B22: 17 | C22: Paca De Agua 1 | D22: Paca de agua con veinticuatro (24) botellas de trescientos (300) mililitrosel servicio de alquiler por diez (10) horas | E22: La entrega debe incluir transporte y/o gastos de entrega en el lugar y horario establecido por la Alcaldía Local de Bosa. | F22: UN | G22: 1 | H22: 1 | I22: 21316 | J22: 21510.492 | K22: 21313.433 | P22: =IFERROR(IF(T22>(0.15),ROUND(MEDIAN(I22:O22),0),ROUND(AVERAGE(I22:O22),0)),"") -> 21380 | Q22: =IFERROR(P22*H22,"") -> 21380 | R22: Proceso SECOP II FDLB-ES-C-076-2025 | S22: =IFERROR(STDEV(I22:O22),"") -> 113.03828 | T22: =IFERROR(S22/AVERAGE(I22:O22),"") -> 0.00528711 | V22: =COUNTIF(I22:O22,">0") -> 3
B23: 18 | C23: Paca De Agua 2 | D23: Paca de agua con veinticuatro (24) botellas de seiscientos (600) mililitrosel servicio de alquiler por diez (10) horas | E23: La entrega debe incluir transporte y/o gastos de entrega en el lugar y horario establecido por la Alcaldía Local de Bosa. | F23: UN | G23: 1 | H23: 1 | I23: 42632 | J23: 43020.984 | K23: 42626.866 | P23: =IFERROR(IF(T23>(0.15),ROUND(MEDIAN(I23:O23),0),ROUND(AVERAGE(I23:O23),0)),"") -> 42760 | Q23: =IFERROR(P23*H23,"") -> 42760 | R23: Proceso SECOP II FDLB-ES-C-076-2025 | S23: =IFERROR(STDEV(I23:O23),"") -> 226.07656 | T23: =IFERROR(S23/AVERAGE(I23:O23),"") -> 0.00528711 | V23: =COUNTIF(I23:O23,">0") -> 3
B24: 19 | C24: Pintura Tipo Aerosol Grafiti | D24: Pinturas en aerosol de tipo profesional grafiti para uso en grafitis con filtro UV garantía para exteriores - Presentación x 400 ml Diferentes Coloresel servicio de alquiler por diez (10) horas | E24: Aerosol Presentación 400 ml | F24: UN | G24: 1 | H24: 1 | I24: 44632 | J24: 45039.475 | K24: 44626.866 | P24: =IFERROR(IF(T24>(0.15),ROUND(MEDIAN(I24:O24),0),ROUND(AVERAGE(I24:O24),0)),"") -> 44766 | Q24: =IFERROR(P24*H24,"") -> 44766 | R24: Proceso SECOP II FDLB-ES-C-076-2025 | S24: =IFERROR(STDEV(I24:O24),"") -> 236.75199 | T24: =IFERROR(S24/AVERAGE(I24:O24),"") -> 0.0052886429 | V24: =COUNTIF(I24:O24,">0") -> 3
