Workbook

Sheet RESUMEN_MATERIALES
B2: PROYECTO MATERIALES SENA JAMUNDÍ
B6: PROPUESTA MATERIALES
B8: BLOQUE DE AULAS Y ADMINISTRATIVO
B9: CÓDIGO SECTOR | C9: ESPACIO | D9: VALOR
B10: AU3 | C10: LABORATORIO DE MICROBIOLOGÍA | D10: ='AU3. LAB MICRO'!H21 -> 236817.69
B11: AU3 | C11: LABORATORIO DE QUÍMICA | D11: ='AU3. LAB INV.'!H18 -> 236817.69
B12: AU4 | C12: TALLER DE DISEÑO DE PRODUCTO | D12: ='AU3. LAB INV.'!H18 -> 236817.69
B14: SUBTOTAL BLOQUE DE AULAS Y ADMINISTRATIVO | D14: =SUM(D10:D13) -> 710453.08
F17: =D18-F18 -> -107466.92
B18: TOTAL PROPUESTA DE MOBILIARIO | D18: =D14 -> 710453.08 | F18: 817920
B21: NOTA 1: Los elementos dotacionales recomendados fueron especificados con base en las fichas de caracterización, planimetría suministradas y requerimientos realizados por el equipo de interventoría. NOTA 2: Los valores unitarios incluyen IVA NOTA 3: Se estableció un promedio de $4600 COP para las conversión de los elementos cotizados en USD asi como un valor del 40% que contempla costos de ingreso, nacionalización, transporte e impuestos NOTA 4: Las caracteristicas de los equipos especializados se definieron de acuerdo a las recomendaciones de los proveedores NOTA 5: Es potestad del contratante la modificación, variación o ajuste a las presentes recomendaciones de dotación y mobiliario. NOTA 6: Las recomendaciones y propuesta de mobiliario fueron elaborados en junio de 2023. Las fechas posteriores a la realización del presente documento deberán contempral eventuales incrementos como el IPC. Se proyecta IPC como indicador de impacto sobre la base de 10 años - 5.64%.

Sheet MATRIZ MATERIALES. GENERAL
B2: MATRIZ MOBILIARIO PROYECTO SENA JAMUNDÍ | H2: OBSERVACIÓN
J3: GD GROUP | M3: INFINYTE | P3: SUMINISTROS | S3: ZETA | V3: PROMEDIO
B4: CÓDIGO | C4: DESCRIPCIÓN | D4: CARACRETÍSTICAS | E4: DIMENSIONES ESTIMADAS | F4: IMAGEN | G4: VALOR UNITARIO SIN IVA | J4: VALOR UNITARIO ANTES DE IMPUESTO | K4: VALOR TOTAL ANTES DE IMPUESTO X CANTIDAD | M4: VALOR UNITARIO ANTES DE IMPUESTO | N4: VALOR TOTAL ANTES DE IMPUESTO X CANTIDAD | P4: VALOR UNITARIO ANTES DE IMPUESTO | Q4: VALOR TOTAL ANTES DE IMPUESTO X CANTIDAD | S4: VALOR UNITARIO ANTES DE IMPUESTO | T4: VALOR TOTAL ANTES DE IMPUESTO X CANTIDAD | V4: VALOR UNITARIO ANTES DE IMPUESTO | W4: VALOR TOTAL ANTES DE IMPUESTO X CANTIDAD
B6: DOTACIÓN PARA LABORATORIOS
B8: LA-29 | C8: Termohigrómetro digital calibrado | D8: Termohigrómetro digital ambiental + Sensor externo para monitoreo de temperatura y humedad relativa. Rango de temperatura ambiente interior: 0°C a 50°C. Rango de temperatura sensor externo: -50°C a 70°C. Exactitud: +/- 1.0°C / 5%HR Alimentación mediante baterías AAA | J8: 198275.86 | K8: 198275.86 | M8: 198800 | N8: 198800 | P8: 199250 | Q8: 199250 | S8: 199700 | T8: 199700 | V8: 199006.47 | W8: 199006.47
J9: SUBTOTAL | K9: =SUM(K7:K8) -> 198275.86 | M9: SUBTOTAL | N9: =SUM(N7:N8) -> 198800 | P9: SUBTOTAL | Q9: =SUM(Q7:Q8) -> 199250 | S9: SUBTOTAL | T9: =SUM(T7:T8) -> 199700 | V9: SUBTOTAL | W9: =SUM(W7:W8) -> 199006.47
J10: IVA 19% | K10: =K9*19% -> 37672.414 | M10: IVA 19% | N10: =N9*19% -> 37772 | P10: IVA 19% | Q10: =Q9*19% -> 37857.5 | S10: IVA 19% | T10: =T9*19% -> 37943 | V10: IVA 19% | W10: =W9*19% -> 37811.228
J12: TOTAL | K12: =SUM(K9:K10) -> 235948.28 | M12: TOTAL | N12: =SUM(N9:N10) -> 236572 | P12: TOTAL | Q12: =SUM(Q9:Q10) -> 237107.5 | S12: TOTAL | T12: =SUM(T9:T10) -> 237643 | V12: TOTAL | W12: =SUM(W9:W10) -> 236817.69

Sheet AU3. LAB MICRO
B3: EDIFICIO | C3: BLOQUE DE AULAS Y ADMINISTRATIVO (NIVEL +0.00)
B4: DEPENDENCIA | C4: LABORATORIO DE MICROBIOLOGÍA
B5: OTROS MATERIALES Y SUMINISTROS
J6: GD GROUP | M6: INFINYTE | P6: SUMINISTROS | S6: ZETA | V6: PROMEDIO
B7: CÓDIGO | C7: DESCRIPCIÓN | D7: CARACRETÍSTICAS | E7: DIMENSIONES ESTIMADAS | F7: CANTIDAD TOTAL | G7: VALOR UNITARIO SIN IVA | H7: VALOR TOTAL SIN IVA | J7: VALOR UNITARIO ANTES DE IMPUESTO | K7: VALOR TOTAL ANTES DE IMPUESTO X CANTIDAD | M7: VALOR UNITARIO ANTES DE IMPUESTO | N7: VALOR TOTAL ANTES DE IMPUESTO X CANTIDAD | P7: VALOR UNITARIO ANTES DE IMPUESTO | Q7: VALOR TOTAL ANTES DE IMPUESTO X CANTIDAD | S7: VALOR UNITARIO ANTES DE IMPUESTO | T7: VALOR TOTAL ANTES DE IMPUESTO X CANTIDAD | V7: VALOR UNITARIO ANTES DE IMPUESTO | W7: VALOR TOTAL ANTES DE IMPUESTO X CANTIDAD
B9: OTROS MATERIALES Y SUMINISTROS
B11: LA-29 | C11: ='MATRIZ MATERIALES. GENERAL'!C8 -> Termohigrómetro digital calibrado | D11: ='MATRIZ MATERIALES. GENERAL'!D8 -> Termohigrómetro digital ambiental + Sensor externo para monitoreo de temperatura y humedad relativa. Rango de temperatura ambiente interior: 0°C a 50°C. Rango de temperatura sensor externo: -50°C a 70°C. Exactitud: +/- 1.0°C / 5%HR Alimentación mediante baterías AAA | E11: ='MATRIZ MATERIALES. GENERAL'!E8 -> 0 | F11: 1 | G11: =V11 -> 199006.47 | H11: =F11*G11 -> 199006.47 | J11: 198275.86 | K11: 198275.86 | M11: 198800 | N11: 198800 | P11: 199250 | Q11: 199250 | S11: 199700 | T11: 199700 | V11: =AVERAGE(S11,P11,M11,J11) -> 199006.47 | W11: =+V11*F11 -> 199006.47
J12: SUBTOTAL | K12: =SUM(K11) -> 198275.86 | M12: SUBTOTAL | N12: =SUM(N11) -> 198800 | P12: SUBTOTAL | Q12: =SUM(Q11) -> 199250 | S12: SUBTOTAL | T12: =SUM(T11) -> 199700 | V12: SUBTOTAL | W12: =SUM(W11) -> 199006.47
J13: IVA 19% | K13: =K12*19% -> 37672.414 | M13: IVA 19% | N13: =N12*19% -> 37772 | P13: IVA 19% | Q13: =Q12*19% -> 37857.5 | S13: IVA 19% | T13: =T12*19% -> 37943 | V13: IVA 19% | W13: =W12*19% -> 37811.228
B14: NOTA: NO PRESENTA REQUERIMIENTOS PARA OTROS MATERIALES Y SUMINISTROS
J15: TOTAL | K15: =SUM(K12:K13) -> 235948.28 | M15: TOTAL | N15: =SUM(N12:N13) -> 236572 | P15: TOTAL | Q15: =SUM(Q12:Q13) -> 237107.5 | S15: TOTAL | T15: =SUM(T12:T13) -> 237643 | V15: TOTAL | W15: =SUM(W12:W13) -> 236817.69
B18: NOTA 1: Los elementos dotacionales recomendados fueron especificados con base en las fichas de caracterización, planimetría suministradas y requerimientos realizados por el equipo de interventoría. NOTA 2: Los valores unitarios incluyen IVA NOTA 3: Se estableció un promedio de $4600 COP para las conversión de los elementos cotizados en USD asi como un valor del 40% que contempla costos de ingreso, nacionalización, transporte e impuestos NOTA 4: Las caracteristicas de los equipos especializados se definieron de acuerdo a las recomendaciones de los proveedores NOTA 5: Es potestad del contratante la modificación, variación o ajuste a las presentes recomendaciones de dotación y mobiliario. NOTA 6: Las recomendaciones y propuesta de mobiliario fueron elaborados en junio de 2023. Las fechas posteriores a la realización del presente documento deberán contempral eventuales incrementos como el IPC. | F18: SUBTOTAL | H18: =SUM(H9:H12) -> 199006.47
F19: IVA 19% | H19: =+H18*19% -> 37811.228
F21: TOTAL | H21: =SUM(H18:H19) -> 236817.69

Sheet AU3. LAB INV.
B3: EDIFICIO | C3: BLOQUE DE AULAS Y ADMINISTRATIVO (NIVEL +0.00)
B4: DEPENDENCIA | C4: LABORATORIO DE INVESTIGACIÓN
B5: OTROS MATERIALES Y SUMINISTROS
J6: GD GROUP | M6: INFINYTE | P6: SUMINISTROS | S6: ZETA | V6: PROMEDIO
B7: CÓDIGO | C7: DESCRIPCIÓN | D7: CARACRETÍSTICAS | E7: DIMENSIONES ESTIMADAS | F7: CANTIDAD TOTAL | G7: VALOR UNITARIO SIN IVA | H7: VALOR TOTAL SIN IVA | J7: VALOR UNITARIO ANTES DE IMPUESTO | K7: VALOR TOTAL ANTES DE IMPUESTO X CANTIDAD | M7: VALOR UNITARIO ANTES DE IMPUESTO | N7: VALOR TOTAL ANTES DE IMPUESTO X CANTIDAD | P7: VALOR UNITARIO ANTES DE IMPUESTO | Q7: VALOR TOTAL ANTES DE IMPUESTO X CANTIDAD | S7: VALOR UNITARIO ANTES DE IMPUESTO | T7: VALOR TOTAL ANTES DE IMPUESTO X CANTIDAD | V7: VALOR UNITARIO ANTES DE IMPUESTO | W7: VALOR TOTAL ANTES DE IMPUESTO X CANTIDAD
B9: OTROS MATERIALES Y SUMINISTROS
B11: ='MATRIZ MATERIALES. GENERAL'!B8 -> LA-29 | C11: ='MATRIZ MATERIALES. GENERAL'!C8 -> Termohigrómetro digital calibrado | D11: ='MATRIZ MATERIALES. GENERAL'!D8 -> Termohigrómetro digital ambiental + Sensor externo para monitoreo de temperatura y humedad relativa. Rango de temperatura ambiente interior: 0°C a 50°C. Rango de temperatura sensor externo: -50°C a 70°C. Exactitud: +/- 1.0°C / 5%HR Alimentación mediante baterías AAA | E11: ='MATRIZ MATERIALES. GENERAL'!E8 -> 0 | F11: 1 | G11: =V11 -> 199006.47 | H11: =F11*G11 -> 199006.47 | J11: 198275.86 | K11: 198275.86 | M11: 198800 | N11: 198800 | P11: 199250 | Q11: 199250 | S11: 199700 | T11: 199700 | V11: =AVERAGE(S11,P11,M11,J11) -> 199006.47 | W11: =+V11*F11 -> 199006.47
J12: SUBTOTAL | K12: =SUM(K11) -> 198275.86 | M12: SUBTOTAL | N12: =SUM(N11) -> 198800 | P12: SUBTOTAL | Q12: =SUM(Q11) -> 199250 | S12: SUBTOTAL | T12: =SUM(T11) -> 199700 | V12: SUBTOTAL | W12: =SUM(W11) -> 199006.47
J13: IVA 19% | K13: =K12*19% -> 37672.414 | M13: IVA 19% | N13: =N12*19% -> 37772 | P13: IVA 19% | Q13: =Q12*19% -> 37857.5 | S13: IVA 19% | T13: =T12*19% -> 37943 | V13: IVA 19% | W13: =W12*19% -> 37811.228
B15: NOTA 1: Los elementos dotacionales recomendados fueron especificados con base en las fichas de caracterización, planimetría suministradas y requerimientos realizados por el equipo de interventoría. NOTA 2: Los valores unitarios incluyen IVA NOTA 3: Se estableció un promedio de $4600 COP para las conversión de los elementos cotizados en USD asi como un valor del 40% que contempla costos de ingreso, nacionalización, transporte e impuestos NOTA 4: Las caracteristicas de los equipos especializados se definieron de acuerdo a las recomendaciones de los proveedores NOTA 5: Es potestad del contratante la modificación, variación o ajuste a las presentes recomendaciones de dotación y mobiliario. NOTA 6: Las recomendaciones y propuesta de mobiliario fueron elaborados en junio de 2023. Las fechas posteriores a la realización del presente documento deberán contempral eventuales incrementos como el IPC. | F15: SUBTOTAL | H15: =SUM(H11) -> 199006.47 | J15: TOTAL | K15: =SUM(K12:K13) -> 235948.28 | M15: TOTAL | N15: =SUM(N12:N13) -> 236572 | P15: TOTAL | Q15: =SUM(Q12:Q13) -> 237107.5 | S15: TOTAL | T15: =SUM(T12:T13) -> 237643 | V15: TOTAL | W15: =SUM(W12:W13) -> 236817.69
F16: IVA 19% | H16: =+H15*19% -> 37811.228
F18: TOTAL | H18: =SUM(H15:H16) -> 236817.69

Sheet AU3. LAB QUIMICA
B3: EDIFICIO | C3: BLOQUE DE AULAS Y ADMINISTRATIVO (NIVEL +0.00)
B4: DEPENDENCIA | C4: LABORATORIO DE QUÍMICA
B5: OTROS MATERIALES Y SUMINISTROS
J6: GD GROUP | M6: INFINYTE | P6: SUMINISTROS | S6: ZETA | V6: PROMEDIO
B7: CÓDIGO | C7: DESCRIPCIÓN | D7: CARACRETÍSTICAS | E7: DIMENSIONES ESTIMADAS | F7: CANTIDAD TOTAL | G7: VALOR UNITARIO SIN IVA | H7: VALOR TOTAL SIN IVA | J7: VALOR UNITARIO ANTES DE IMPUESTO | K7: VALOR TOTAL ANTES DE IMPUESTO X CANTIDAD | M7: VALOR UNITARIO ANTES DE IMPUESTO | N7: VALOR TOTAL ANTES DE IMPUESTO X CANTIDAD | P7: VALOR UNITARIO ANTES DE IMPUESTO | Q7: VALOR TOTAL ANTES DE IMPUESTO X CANTIDAD | S7: VALOR UNITARIO ANTES DE IMPUESTO | T7: VALOR TOTAL ANTES DE IMPUESTO X CANTIDAD | V7: VALOR UNITARIO ANTES DE IMPUESTO | W7: VALOR TOTAL ANTES DE IMPUESTO X CANTIDAD
B9: OTROS MATERIALES Y SUMINISTROS
B11: LA-29 | C11: =VLOOKUP($B$11,'MATRIZ MATERIALES. GENERAL'!B8:G8,2,FALSE) -> Termohigrómetro digital calibrado | D11: =VLOOKUP($B$11,'MATRIZ MATERIALES. GENERAL'!B8:G8,3,FALSE) -> Termohigrómetro digital ambiental + Sensor externo para monitoreo de temperatura y humedad relativa. Rango de temperatura ambiente interior: 0°C a 50°C. Rango de temperatura sensor externo: -50°C a 70°C. Exactitud: +/- 1.0°C / 5%HR Alimentación mediante baterías AAA | E11: =VLOOKUP($B$11,'MATRIZ MATERIALES. GENERAL'!B8:G8,4,FALSE) -> 0 | F11: 1 | G11: =V11 -> 199006.47 | H11: =F11*G11 -> 199006.47 | J11: 198275.86 | K11: 198275.86 | M11: 198800 | N11: 198800 | P11: 199250 | Q11: 199250 | S11: 199700 | T11: 199700 | V11: =AVERAGE(S11,P11,M11,J11) -> 199006.47 | W11: =+V11*F11 -> 199006.47
G12: 0 | J12: SUBTOTAL | K12: =SUM(K11) -> 198275.86 | M12: SUBTOTAL | N12: =SUM(N11) -> 198800 | P12: SUBTOTAL | Q12: =SUM(Q11) -> 199250 | S12: SUBTOTAL | T12: =SUM(T11) -> 199700 | V12: SUBTOTAL | W12: =SUM(W11) -> 199006.47
J13: IVA 19% | K13: =K12*19% -> 37672.414 | M13: IVA 19% | N13: =N12*19% -> 37772 | P13: IVA 19% | Q13: =Q12*19% -> 37857.5 | S13: IVA 19% | T13: =T12*19% -> 37943 | V13: IVA 19% | W13: =W12*19% -> 37811.228
B15: NOTA 1: Los elementos dotacionales recomendados fueron especificados con base en las fichas de caracterización, planimetría suministradas y requerimientos realizados por el equipo de interventoría. NOTA 2: Los valores unitarios incluyen IVA NOTA 3: Se estableció un promedio de $4600 COP para las conversión de los elementos cotizados en USD asi como un valor del 40% que contempla costos de ingreso, nacionalización, transporte e impuestos NOTA 4: Las caracteristicas de los equipos especializados se definieron de acuerdo a las recomendaciones de los proveedores NOTA 5: Es potestad del contratante la modificación, variación o ajuste a las presentes recomendaciones de dotación y mobiliario. NOTA 6: Las recomendaciones y propuesta de mobiliario fueron elaborados en junio de 2023. Las fechas posteriores a la realización del presente documento deberán contempral eventuales incrementos como el IPC. | F15: SUBTOTAL | H15: =SUM(H11) -> 199006.47 | J15: TOTAL | K15: =SUM(K12:K13) -> 235948.28 | M15: TOTAL | N15: =SUM(N12:N13) -> 236572 | P15: TOTAL | Q15: =SUM(Q12:Q13) -> 237107.5 | S15: TOTAL | T15: =SUM(T12:T13) -> 237643 | V15: TOTAL | W15: =SUM(W12:W13) -> 236817.69
F16: IVA 19% | H16: =+H15*19% -> 37811.228
F18: TOTAL | H18: =SUM(H15:H16) -> 236817.69
