Workbook
Name BASE: #REF!
Name BASE: #REF!
Name BASE: #REF!
Name BASE: #REF!
Name Casas_de_juventud: #REF!
Name Casas_de_juventud: #REF!
Name Casas_de_juventud: #REF!
Name Casas_de_juventud: #REF!
Name Centros_Forjar: #REF!
Name Centros_Forjar: #REF!
Name Centros_Forjar: #REF!
Name Centros_Forjar: #REF!
Name CONCPETOLINEA: #REF!
Name CONCPETOLINEA: #REF!
Name CONCPETOLINEA: #REF!
Name CONCPETOLINEA: #REF!
Name dgsgdffg: #REF!
Name dgsgdffg: #REF!
Name dgsgdffg: #REF!
Name dgsgdffg: #REF!
Name DIMENSION: #REF!
Name DIMENSION: #REF!
Name DIMENSION: #REF!
Name DIMENSION: #REF!
Name Escuelas_culturales: #REF!
Name Escuelas_culturales: #REF!
Name Escuelas_culturales: #REF!
Name Escuelas_culturales: #REF!
Name Escuelas_deportivas: #REF!
Name Escuelas_deportivas: #REF!
Name Escuelas_deportivas: #REF!
Name Escuelas_deportivas: #REF!
Name ESTADO: [1]LISTAS!$B$5:$B$10
Name ESTADODOS: [1]LISTAS!$B$6:$B$10
Name ETAPA: #REF!
Name ETAPA: #REF!
Name ETAPA: #REF!
Name ETAPA: #REF!
Name FGKJHLKHKJÑ: #REF!
Name FGKJHLKHKJÑ: #REF!
Name FGKJHLKHKJÑ: #REF!
Name FGKJHLKHKJÑ: #REF!
Name GGGGGGGGGGGGG: #REF!
Name GGGGGGGGGGGGG: #REF!
Name GGGGGGGGGGGGG: #REF!
Name GGGGGGGGGGGGG: #REF!
Name IED: #REF!
Name IED: #REF!
Name IED: #REF!
Name IED: #REF!
Name INDICADOR: [2]listas!$S$216:$S$275
Name LINEA: #REF!
Name LINEA: #REF!
Name LINEA: #REF!
Name LINEA: #REF!
Name Mipymes: #REF!
Name Mipymes: #REF!
Name Mipymes: #REF!
Name Mipymes: #REF!
Name NIVEL: #REF!

Sheet Estudio de mercado ajustado
A1: ESTUDIO DE MERCADO | L1: COTIZACIÓN 1 | Q1: COTIZACIÓN 2 | V1: COTIZACIÓN 3 | AA1: PROMEDIOS TOTALES
A2: Ítem | B2: Componente | C2: Actividad | D2: Alcance de la actividad | E2: Duración | F2: Población Obejtivo | G2: Descripción | H2: Cantidad | I2: Unidad de medida | J2: Tiempo | K2: Unidad de medida | L2: Valor unitario sin IVA | M2: Valor IVA | N2: Valor unitario con IVA | O2: Valor total Sin IVA | P2: Valor total con IVA | Q2: Valor unitario sin IVA | R2: Valor IVA | S2: Valor unitario con IVA | T2: Valor total Sin IVA | U2: Valor total con IVA | V2: Valor unitario sin IVA | W2: Valor IVA | X2: Valor unitario con IVA | Y2: Valor total Sin IVA | Z2: Valor total con IVA | AA2: Promedio Valor unitario sin IVA | AB2: Promedio Valor IVA | AC2: Promedio Valor unitario con IVA | AD2: Promedio Valor total Sin IVA | AE2: Prmedio Valor total con IVA | AF2: DESVIACIÓN ESTANDAR | AG2: COEF VAR.
A3: 1 | B3: Componente: Prevención de violencia en el contexto familiar, violencia sexual y promoción y garantía de derechos | C3: A.2 “La familia es para cuidarla” | D3: Implementar acciones de sensibilización para prevenir la violencia en el contexto familiar y promover dinámicas de cuidado y entornos protectores. | E3: 30 minutos de sensibilización por casa | F3: 500 personas | G3: Sensibilización de 30 minutos por casa (Papeleria) Tener en cuenta materiales referidos en la estrategia “La familia es para cuidarla”. Impresión de piezas comunicativas de prevención de violencias: Pieza gráfica del folleto de la campaña La familia es para cuidarla, dispuesta por la SDIS- Subdirección para la Familia. Impresión del Instrumento el cuidado familiar, aportado por la SDIS. | H3: 500 | I3: Personas | J3: 30 | K3: minutos de sensibilización por casa | L3: 83475 | M3: =+L3*19% -> 15860.25 | N3: =+M3+L3 -> 99335.25 | O3: =H3*L3 -> 41737500 | P3: =N3*H3 -> 49667625 | Q3: 80000 | R3: =+Q3*0.19 -> 15200 | S3: =+Q3+R3 -> 95200 | T3: =Q3*H3 -> 40000000 | U3: =S3*H3 -> 47600000 | V3: 75000 | W3: 14250 | X3: 89250 | Y3: =V3*H3 -> 37500000 | Z3: =X3*H3 -> 44625000 | AA3: =AVERAGE(L3,Q3,V3) -> 79491.667 | AB3: =AVERAGE(M3,R3,W3) -> 15103.417 | AC3: =AVERAGE(N3,S3,X3) -> 94595.083 | AD3: =AVERAGE(O3,T3,Y3) -> 39745833 | AE3: =AVERAGE(P3,U3,Z3) -> 47297542 | AF3: =_xlfn.STDEV.P(P3,U3,Z3) -> 2069722.6 | AG3: =AF3/AE3 -> 0.043759623
A4: 2 | G4: -Diseñar un (1) folleto digital o Flip book para compartir en línea y dejar como recurso instalado en las viviendas visitadas. El Flip book, debe contener (por lo menos 10 páginas con recursos escritos y visuales que contengan información convenida y aprobada por el comité de seguimiento y la oficina de prensa, en temas te prevención de violencia en el contexto familiar y violencia sexual. -500 Folletos plegables en papel estucado o couché, en Formato A4. Medidas: 210 × 297 mm. Impresos en tintas de 5 colores. Con información sobre la prevención de violencia sexual y en el contexto familiar. | H4: 500 | I4: unidad | L4: 890.4 | M4: =+L4*19% -> 169.176 | N4: =+M4+L4 -> 1059.576 | O4: =H4*L4 -> 445200 | P4: =N4*H4 -> 529788 | Q4: 800 | R4: =+Q4*0.19 -> 152 | S4: =+Q4+R4 -> 952 | T4: =Q4*H4 -> 400000 | U4: =S4*H4 -> 476000 | V4: 800 | W4: 152 | X4: 952 | Y4: =V4*H4 -> 400000 | Z4: =X4*H4 -> 476000 | AA4: =AVERAGE(L4,Q4,V4) -> 830.13333 | AB4: =AVERAGE(M4,R4,W4) -> 157.72533 | AC4: =AVERAGE(N4,S4,X4) -> 987.85867 | AD4: =AVERAGE(O4,T4,Y4) -> 415066.67 | AE4: =AVERAGE(P4,U4,Z4) -> 493929.33 | AF4: =_xlfn.STDEV.P(P4,U4,Z4) -> 25355.906 | AG4: =AF4/AE4 -> 0.051335089
A5: 3 | G5: -200 Imanes con números/rutas de atención impreso en 5 colores, de 10cms x 6cms. Para pegar en la nevera. Diseño a definir por el comité de seguimiento. | H5: 200 | I5: unidad | L5: 1669.5 | M5: =+L5*19% -> 317.205 | N5: =+M5+L5 -> 1986.705 | O5: =H5*L5 -> 333900 | P5: =N5*H5 -> 397341 | Q5: 1500 | R5: =+Q5*0.19 -> 285 | S5: =+Q5+R5 -> 1785 | T5: =Q5*H5 -> 300000 | U5: =S5*H5 -> 357000 | V5: 1500 | W5: 285 | X5: 1785 | Y5: =V5*H5 -> 300000 | Z5: =X5*H5 -> 357000 | AA5: =AVERAGE(L5,Q5,V5) -> 1556.5 | AB5: =AVERAGE(M5,R5,W5) -> 295.735 | AC5: =AVERAGE(N5,S5,X5) -> 1852.235 | AD5: =AVERAGE(O5,T5,Y5) -> 311300 | AE5: =AVERAGE(P5,U5,Z5) -> 370447 | AF5: =_xlfn.STDEV.P(P5,U5,Z5) -> 19016.93 | AG5: =AF5/AE5 -> 0.051335089
A6: 4 | G6: -200 stickers para pegar en las puertas de las viviendas sensibilizadas estilo “rombo” de 12x12. Papel adhesivo de publicidad. | H6: 200 | I6: unidad | L6: 2226 | M6: =+L6*19% -> 422.94 | N6: =+M6+L6 -> 2648.94 | O6: =H6*L6 -> 445200 | P6: =N6*H6 -> 529788 | Q6: 2200 | R6: =+Q6*0.19 -> 418 | S6: =+Q6+R6 -> 2618 | T6: =Q6*H6 -> 440000 | U6: =S6*H6 -> 523600 | V6: 2000 | W6: 380 | X6: 2380 | Y6: =V6*H6 -> 400000 | Z6: =X6*H6 -> 476000 | AA6: =AVERAGE(L6,Q6,V6) -> 2142 | AB6: =AVERAGE(M6,R6,W6) -> 406.98 | AC6: =AVERAGE(N6,S6,X6) -> 2548.98 | AD6: =AVERAGE(O6,T6,Y6) -> 428400 | AE6: =AVERAGE(P6,U6,Z6) -> 509796 | AF6: =_xlfn.STDEV.P(P6,U6,Z6) -> 24030.537 | AG6: =AF6/AE6 -> 0.047137555
A7: 5 | C7: A.3 Estrategia de acompañamiento “Cuidándome -Cuidándonos”. | D7: Contribuir a la re-significación de relaciones sanas y seguras desde la confianza, el apego seguro en las prácticas cotidianas de las familias, a través de escenarios individuales reflexivos y experienciales que favorezcan, el fortalecimiento de capacidades de las familias que permitan la creación de vínculos asertivos, seguros y positivos creando espacios protectores que permitan la prevalencia de derechos de las niñas y los niños. | E7: 12 sesiones por persona – 1 hora C/U15 | F7: 450 Personas | G7: 450 Diplomas con mensaje alusivo a familias que cuidan. Compuesto de mínimo 3 colores. 20 x 30 cm. Papel Opalina. Diseño a convenir por el comité de seguimiento. | H7: 450 | I7: Unidad | J7: 12 | K7: sesiones por persona – 1 hora C/U15 | L7: 556.5 | M7: =+L7*19% -> 105.735 | N7: =+M7+L7 -> 662.235 | O7: =H7*L7 -> 250425 | P7: =N7*H7 -> 298005.75 | Q7: 474 | R7: =+Q7*0.19 -> 90.06 | S7: =+Q7+R7 -> 564.06 | T7: =Q7*H7 -> 213300 | U7: =S7*H7 -> 253827 | V7: 500 | W7: 95 | X7: 595 | Y7: =V7*H7 -> 225000 | Z7: =X7*H7 -> 267750 | AA7: =AVERAGE(L7,Q7,V7) -> 510.16667 | AB7: =AVERAGE(M7,R7,W7) -> 96.931667 | AC7: =AVERAGE(N7,S7,X7) -> 607.09833 | AD7: =AVERAGE(O7,T7,Y7) -> 229575 | AE7: =AVERAGE(P7,U7,Z7) -> 273194.25 | AF7: =_xlfn.STDEV.P(P7,U7,Z7) -> 18442.169 | AG7: =AF7/AE7 -> 0.067505699
A8: 6 | C8: B2.2 Movilizaciones territoriales | D8: Promover la prevención de violencias a partir de la concientización de la misma en la localidad. | E8: Puestas en escena (actos) de 1 hora en espacio público | F8: Comunidad en general de la localidad de Suba. | G8: 15 Performances: Actos teatrales, musicales, artísticos puestos en escena que deberá garantizar el desarrollo de actos artístico-culturales (performances) donde se promueva de maneras disruptivas la no violencia y a partir de los cuales se generen reflexiones en la comunidad 2 artistas y 2 psicopedagosos | H8: 15 | I8: Unidad | J8: Puestas en escena (actos) de 1 hora en espacio público | L8: 3116400 | M8: =+L8*19% -> 592116 | N8: =+M8+L8 -> 3708516 | O8: =H8*L8 -> 46746000 | P8: =N8*H8 -> 55627740 | Q8: 2830489 | R8: =+Q8*0.19 -> 537792.91 | S8: =+Q8+R8 -> 3368281.9 | T8: =Q8*H8 -> 42457335 | U8: =S8*H8 -> 50524229 | V8: 2800000 | W8: 532000 | X8: 3332000 | Y8: =V8*H8 -> 42000000 | Z8: =X8*H8 -> 49980000 | AA8: =AVERAGE(L8,Q8,V8) -> 2915629.7 | AB8: =AVERAGE(M8,R8,W8) -> 553969.64 | AC8: =AVERAGE(N8,S8,X8) -> 3469599.3 | AD8: =AVERAGE(O8,T8,Y8) -> 43734445 | AE8: =AVERAGE(P8,U8,Z8) -> 52043990 | AF8: =_xlfn.STDEV.P(P8,U8,Z8) -> 2543815.6 | AG8: =AF8/AE8 -> 0.048878182 | AI8: =350*6 -> 2100 | AJ8: =350*3 -> 1050
A9: 7 | G9: 450 Folletos o volantes: Folletos plegables en papel estucado o couché, en Formato A4. Medidas: 210 × 297 mm. Impresos en tintas de 5 colores. Con información sobre la prevención de violencia sexual e intrafamiliar | H9: 450 | I9: Unidad | L9: 779.1 | M9: =+L9*19% -> 148.029 | N9: =+M9+L9 -> 927.129 | O9: =H9*L9 -> 350595 | P9: =N9*H9 -> 417208.05 | Q9: 750 | R9: =+Q9*0.19 -> 142.5 | S9: =+Q9+R9 -> 892.5 | T9: =Q9*H9 -> 337500 | U9: =S9*H9 -> 401625 | V9: 700 | W9: 133 | X9: 833 | Y9: =V9*H9 -> 315000 | Z9: =X9*H9 -> 374850 | AA9: =AVERAGE(L9,Q9,V9) -> 743.03333 | AB9: =AVERAGE(M9,R9,W9) -> 141.17633 | AC9: =AVERAGE(N9,S9,X9) -> 884.20967 | AD9: =AVERAGE(O9,T9,Y9) -> 334365 | AE9: =AVERAGE(P9,U9,Z9) -> 397894.35 | AF9: =_xlfn.STDEV.P(P9,U9,Z9) -> 17492.654 | AG9: =AF9/AE9 -> 0.043963062 | AH9: =450/15 -> 30
A10: 8 | C10: B3. Estrategia comunicativa “Di No a la vulneración de derechos”. | D10: • Implementar una estrategia comunicativa en prevención de vulneraciones y la divulgación de mensajes asertivos y claros de frecuente transmisión, con el fin de incidir positivamente en el cambio de patrones de conducta en niños, niñas y adolescentes y de todos los actores involucrados en su protección y defensa. • Formar y promover en el conocimiento y apropiación de los derechos de las niñas, niños y adolescentes, el marco normativo y legal de protección, y las ofertas y servicios orientados a su atención. | E10: Cuarenta (40) obras de teatro de 60 minutos c/u y Seis (6) sesiones de formación por grupo de 30 personas con una duración de 60 minutos c/u. | F10: 1200 Personas | G10: 1200 Kits (participantes): Se deberá incluir la entrega de un kit por cada uno de los participantes que comprenda: -Una agenda para notas tipo cuaderno pequeño de 15cm x 20cm (aprox) de 75 páginas con 5 páginas impresas a color con mensajes alusivos a la prevención de violencias. -Un esfero marcado con los logos de la entidad. -Una tula impermeable. 43 cm de altura x 35 cm de ancho aprox. Con mensaje alusivos a la prevención de las violencias en el contexto familiar y sexual y la erradicación del castigo físico. -Una cartilla con información y actividades en prevención de violencia intrafamiliar y/o sexual. Debe contener mínimo 50 páginas y su contenido debe ser aprobado por la supervisión del contrato y la oficina de prensa. | H10: 1200 | I10: Unidad | J10: Cuarenta (40) obras de teatro de 60 minutos c/u y Seis (6) sesiones de formación por grupo de 30 personas con una duración de 60 minutos c/u. | L10: 111300 | M10: =+L10*19% -> 21147 | N10: =+M10+L10 -> 132447 | O10: =H10*L10 -> 133560000 | P10: =N10*H10 -> 158936400 | Q10: 102349 | R10: =+Q10*0.19 -> 19446.31 | S10: =+Q10+R10 -> 121795.31 | T10: =Q10*H10 -> 122818800 | U10: =S10*H10 -> 146154372 | V10: 100000 | W10: 19000 | X10: 119000 | Y10: =V10*H10 -> 120000000 | Z10: =X10*H10 -> 142800000 | AA10: =AVERAGE(L10,Q10,V10) -> 104549.67 | AB10: =AVERAGE(M10,R10,W10) -> 19864.437 | AC10: =AVERAGE(N10,S10,X10) -> 124414.1 | AD10: =AVERAGE(O10,T10,Y10) -> 125459600 | AE10: =AVERAGE(P10,U10,Z10) -> 149296924 | AF10: =_xlfn.STDEV.P(P10,U10,Z10) -> 6952341.4 | AG10: =AF10/AE10 -> 0.046567211 | AI10: =450*12 -> 5400
A11: 9 | G11: 200 reconocimientos a los ganadores. Cada reconocimiento contará con: -Diploma compuesto de mínimo 3 colores. 20 x 30 cm. Papel Opalina. Diseño a convenir por el comité de seguimiento. -Una medalla de reconocimiento. | H11: 200 | I11: Unidad | L11: 5565 | M11: =+L11*19% -> 1057.35 | N11: =+M11+L11 -> 6622.35 | O11: =H11*L11 -> 1113000 | P11: =N11*H11 -> 1324470 | Q11: 5000 | R11: =+Q11*0.19 -> 950 | S11: =+Q11+R11 -> 5950 | T11: =Q11*H11 -> 1000000 | U11: =S11*H11 -> 1190000 | V11: 5000 | W11: 950 | X11: 5950 | Y11: =V11*H11 -> 1000000 | Z11: =X11*H11 -> 1190000 | AA11: =AVERAGE(L11,Q11,V11) -> 5188.3333 | AB11: =AVERAGE(M11,R11,W11) -> 985.78333 | AC11: =AVERAGE(N11,S11,X11) -> 6174.1167 | AD11: =AVERAGE(O11,T11,Y11) -> 1037666.7 | AE11: =AVERAGE(P11,U11,Z11) -> 1234823.3 | AF11: =_xlfn.STDEV.P(P11,U11,Z11) -> 63389.766 | AG11: =AF11/AE11 -> 0.051335089
A12: 10 | G12: Alquiler de dos (2) espacios cerrados con capacidad para 150 personas | H12: 2 | I12: Espacios | L12: 3339000 | M12: =+L12*19% -> 634410 | N12: =+M12+L12 -> 3973410 | O12: =H12*L12 -> 6678000 | P12: =N12*H12 -> 7946820 | Q12: 3500000 | R12: =+Q12*0.19 -> 665000 | S12: =+Q12+R12 -> 4165000 | T12: =Q12*H12 -> 7000000 | U12: =S12*H12 -> 8330000 | V12: 3000000 | W12: 570000 | X12: 3570000 | Y12: =V12*H12 -> 6000000 | Z12: =X12*H12 -> 7140000 | AA12: =AVERAGE(L12,Q12,V12) -> 3279666.7 | AB12: =AVERAGE(M12,R12,W12) -> 623136.67 | AC12: =AVERAGE(N12,S12,X12) -> 3902803.3 | AD12: =AVERAGE(O12,T12,Y12) -> 6559333.3 | AE12: =AVERAGE(P12,U12,Z12) -> 7805606.7 | AF12: =_xlfn.STDEV.P(P12,U12,Z12) -> 495971.04 | AG12: =AF12/AE12 -> 0.063540357
A13: 11 | B13: Componente: Orientación y asesoría familiar. | C13: Formación y orientación a familias | D13: Orientación y asesoría familiar para la prevención de violencias que permitan a las víctimas recibir una atención y orientación adecuada. | E13: Máximo 10 sesiones de 1h (c/u) | F13: 350 | G13: Alquiler de un espacio por seis meses que contenga las siguientes características: Ubicación de un sitio de atención en un punto estratégico de la localidad, destinado para la orientación y asesoría familiar, dos espacios adecuados para la atención de las y los participantes con el mobiliario necesario en lugares que cuenten con adecuada ventilación, iluminación y condiciones de higiene permanente, espacios cerrados, que permitan la privacidad. Igualmente debe contar con baños y elementos de higiene. Debe ubicarse en un punto de fácil accesibilidad y equidistante dentro de la localidad, teniendo en cuenta que muchos de las y los potenciales participantes no cuentan con medios económicos para su desplazamiento. Estado del Inmueble: Debe estar dotado con mobiliario y materiales necesarios para la ejecución del componente. La recepción y sala de espera, debe ser un lugar cómodo dotado con computador, teléfono, cuya ambientación visual y auditiva propicie un ambiente tranquilo y agradable a los participantes. El inmueble debe contar con mínimo un baño, dotado con los implementos de aseo necesarios (toalla para manos, jabón, papel higiénico, papelera). | H13: 6 | I13: Meses | J13: 350 | K13: Familias | L13: 5008500 | M13: =+L13*19% -> 951615 | N13: =+M13+L13 -> 5960115 | O13: =H13*L13 -> 30051000 | P13: =N13*H13 -> 35760690 | Q13: 4500000 | R13: =+Q13*0.19 -> 855000 | S13: =+Q13+R13 -> 5355000 | T13: =Q13*H13 -> 27000000 | U13: =S13*H13 -> 32130000 | V13: 4500000 | W13: 855000 | X13: 5355000 | Y13: =V13*H13 -> 27000000 | Z13: =X13*H13 -> 32130000 | AA13: =AVERAGE(L13,Q13,V13) -> 4669500 | AB13: =AVERAGE(M13,R13,W13) -> 887205 | AC13: =AVERAGE(N13,S13,X13) -> 5556705 | AD13: =AVERAGE(O13,T13,Y13) -> 28017000 | AE13: =AVERAGE(P13,U13,Z13) -> 33340230 | AF13: =_xlfn.STDEV.P(P13,U13,Z13) -> 1711523.7 | AG13: =AF13/AE13 -> 0.051335089
A14: 12 | B14: Componente: Posicionamiento y promoción del buen trato en jornadas locales. | C14: Conmemorar eventos que permiten visibilizar causas sociales entorno a la prevención de las violencias. | D14: Comunidad en general de la localidad | E14: Jornadas de 6 horas | F14: Comunidad en general de la localidad de Suba | G14: El contratista deberá garantizar, en el desarrollo de los 10 eventos conmemorativos y/o celebraciones de jornadas locales, el acompañamiento de: -Un (1) animador con mínimo Título de bachiller, 18 meses de experiencia laboral en recreación, animación, o afines. -Tres (3) Artistas prefiblemente locales. -6 Profesionales con 24 meses de experiencia en actividades de facilitador, tallerista o docente y al menos 12 meses de los 24 meses de experiencia profesional en trabajo en comunidad o jóvenes en temas de derechos sexuales y reproductivos y/o habilidades para la vida que realicen actividades principalmente lúdicas, recreativas y vivenciales. Sensibilización tendiente a la prevención de violencias y rutas de atención integral de acceso a la justicia. | H14: 10 | I14: Jornadas | J14: Jornadas de 6 horas | L14: 10017000 | M14: =+L14*19% -> 1903230 | N14: =+M14+L14 -> 11920230 | O14: =H14*L14 -> 100170000 | P14: =N14*H14 -> 119202300 | Q14: 9646509 | R14: =+Q14*0.19 -> 1832836.7 | S14: =+Q14+R14 -> 11479346 | T14: =Q14*H14 -> 96465090 | U14: =S14*H14 -> 1.1479346e+08 | V14: 9000000 | W14: 1710000 | X14: 10710000 | Y14: =V14*H14 -> 90000000 | Z14: =X14*H14 -> 107100000 | AA14: =AVERAGE(L14,Q14,V14) -> 9554503 | AB14: =AVERAGE(M14,R14,W14) -> 1815355.6 | AC14: =AVERAGE(N14,S14,X14) -> 11369859 | AD14: =AVERAGE(O14,T14,Y14) -> 95545030 | AE14: =AVERAGE(P14,U14,Z14) -> 1.1369859e+08 | AF14: =_xlfn.STDEV.P(P14,U14,Z14) -> 5001031.5 | AG14: =AF14/AE14 -> 0.043984993
P15: =SUM(P3:P14) -> 4.3063818e+08 | U15: =SUM(U3:U14) -> 4.0273411e+08 | Z15: =SUM(Z3:Z14) -> 386916600 | AE15: =SUM(AE3:AE14) -> 4.0676296e+08
P16: =P15+$J$89+$N$93+$N$100 -> 1.3540923e+09 | U16: =U15+$J$89+$N$93+$N$100 -> 1.3261882e+09 | Z16: =Z15+$J$89+$N$93+$N$100 -> 1.3103707e+09 | AE16: =AE15+$J$89+$N$93+$N$100 -> 1.3302171e+09 | AH16: 1305484000
AH17: =+AH16-AE16 -> -24733076
F18: PERSONAL (CARGO) | G18: PERFIL | H18: CANTIDAD | I18: MESES | J18: VALOR MENSUAL REFERENCIA TECHO RESOLUCIÓN 0001 DEL 04/01/2024 - SECRETARÍA DISTRITAL DE GOBIERNO | K18: VALOR TOTAL
C19: Todos los Componentes | D19: PERSONAL | E19: 1 | F19: Cordinador del Proyecto | G19: FORMACIÓN PROFESIONAL | H19: 1 | I19: 8 | J19: 8000000 | K19: =J19*I19*H19 -> 64000000
G20: Formación profesional en áreas del conocimiento de ciencias sociales y humanas o economía, administración, contaduría y afines y núcleos básicos del conocimiento en Ciencia Política, Derecho, Psicología, Sociología, Trabajo Social, Administración, Administración Pública o Economía con especialización en áreas cómo Ciencias Humanas, Economía o Administración.
G21: EXPERIENCIA PROFESIONAL
G22: Experiencia mínima de sesenta (60) meses debidamente certificada, contados a partir de la expedición de la tarjeta profesional, terminación de materias y/o fecha de grado, según aplique.
G23: EXPERIENCIA ESPECIFICA
G24: Experiencia mínima profesional de treinta y seis (36) y hasta setenta y dos (72) meses en coordinación y ejecución de proyectos sociales y/o cargos de nivel directivo o gerencial con población afectada por violencia en el contexto familiar y/o violencia sexual.
G25: Dedicación 100%.
C26: Todos los Componentes | E26: 2 | F26: Asistente Administrativo | G26: FORMACIÓN PROFESIONAL | H26: 1 | I26: 8 | J26: 3381000 | K26: =J26*I26*H26 -> 27048000
G27: Título de formación técnica o tecnológica o acreditación o aprobación del 50% o más de un plan de estudios de una carrera profesional que sea afín con el objeto a contratar.
G28: EXPERIENCIA PROFESIONAL
G29: Experiencia mínima de treinta y cinco (35) meses debidamente certificada, contados a partir de la expedición de la tarjeta profesional, terminación de materias y/o fecha de grado, según aplique.
G30: EXPERIENCIA ESPECIFICA
G31: Experiencia mínima de 18 meses en actividades administrativas de secretariado o archivo, manejo de bases de datos o asistenciales.
G32: Dedicación 100%.
C33: Componente 2 A2. LA FAMILIA ES PARA CUIDARLA | E33: 3 | F33: Psicólogo | G33: FORMACIÓN PROFESIONAL | H33: 2 | I33: 3 | J33: 5000000 | K33: =J33*I33*H33 -> 30000000
G34: Formación profesional en áreas del conocimiento de ciencias sociales y humanas y núcleos básicos del conocimiento en Psicología.
G35: EXPERIENCIA PROFESIONAL
G36: Experiencia de veintiún (21) meses de debidamente certificada, contados a partir de la expedición de la tarjeta profesional, terminación de materias y/o fecha de grado, según aplique.
G37: EXPERIENCIA ESPECIFICA
G38: Experiencia mínima de 18 meses en asesoría a familias en situación de violencia en el contexto familiar o poblaciones vulnerables.
E39: 4 | F39: Profesional en Trabajo Social | G39: FORMACIÓN PROFESIONAL | H39: 2 | I39: 3 | J39: 5000000 | K39: =J39*I39*H39 -> 30000000
G40: Formación profesional en áreas del conocimiento de ciencias sociales y humanas y núcleos básicos del conocimiento en Trabajo Social.
...

Sheet Códigos UNSPSC
C1: FORMATO SOLICITUD DE COTIZACIÓN
C2: ALCALDÍA LOCAL DE SUBA
C5: ADVERTENCIA | D5: La cotización recibida servirá de base para la elaboración de un estudio de mercado, y por tanto, no constituye en si misma una oferta y consecuentemente NO obliga a ninguna de las partes.
C6: OBJETO
C7: VALIDEZ DE LA CONTRATACIÓN | D7: Se solicita que la cotización tenga validez minimo 3 Meses a partir de su expedición.
C8: ESPECIFICACIONES TECNICAS | D8: Para visualizar las especificaciones tecnicas dirijase a la pestaña Cotización
C9: CONDICIONES DE CONTRATACIÓN | D9: PLAZO
C10: CODIGOS UNSPSC | D10: SEGMENTO | E10: FAMILIA | F10: CLASE | G10: NOMBRE
D11: 93000000 | E11: 93140000 | F11: 93141500 | G11: Servicios de Política Social
D12: 93000000 | E12: 93140000 | F12: 93141506 | G12: Servicios de Bienestar Social
D13: 93000000 | E13: 93140000 | F13: 93141700 | G13: Organizaciones de Eventos Culturales
D14: 85000000 | E14: 85110000 | F14: 85111500 | G14: Servicios de Prevención o control de enfermedades de transmisión sexual
D15: 80000000 | E15: 80120000 | F15: 80121800 | G15: Servicios de Derecho de Familia
D16: 94000000 | E16: 94130000 | F16: 94132000 | G16: Servicios de defensa de los Derechos de los Niños
C17: Solicita y elabora: | D17: Sergio Mejia Dussán
C19: Revisó: | D19: Jeimmy Sierra Godoy

Sheet Cotización 1
C2: FONDO DE DESARROLLO LOCAL DE SUBA
C4: OBJETO: Contratar los servicios integrales y especializados para la formación de personas en estrategias personales y comunitarias de prevención de la violencia intrafamiliar y/o violencia sexual en la localidad de Suba
G6: CORPORACIÓN ESTRATEGICA EN GESTIÓN E INTEGRACIÓN COLOMBIA- EGESCO
A7: Componente | B7: Actividad | C7: Alcance de la actividad | D7: Duración | E7: Población Objetivo | F7: Insumos mínimos requeridos Especificaciones técnicas | G7: Unidad de medida | H7: Cantidad | I7: VALOR UNITARIO REFERENCIA TECHO INCLUIDO IVA QUE NO PODRAN SUPERAR LOS PROPONENTES | J7: VALOR TOTA DE REFERENCIA TECHO INCLUIDO IVA QUE NO PODRAN SUPERAR LOS PROPONENTES | K7: VALOR UNITARIO | L7: IVA | M7: VALOR UNITARIO INCLUIDO IVA | N7: VALOR TOTAL
A9: Componente: Prevención de violencia en el contexto familiar, violencia sexual y promoción y garantía de derechos | B9: A.2 “La familia es para cuidarla” | C9: Implementar acciones de sensibilización para prevenir la violencia en el contexto familiar y promover dinámicas de cuidado y entornos protectores. | D9: 30 minutos de sensibilización por casa | E9: 500 personas | F9: Sensibilización de 30 minutos por casa (Papeleria) Tener en cuenta materiales referidos en la estrategia “La familia es para cuidarla”. Impresión de piezas comunicativas de prevención de violencias: Pieza gráfica del folleto de la campaña La familia es para cuidarla, dispuesta por la SDIS- Subdirección para la Familia. Impresión del Instrumento el cuidado familiar, aportado por la SDIS. | G9: Personas | H9: 500 | K9: 83475 | L9: =+K9*19% -> 15860.25 | M9: =+L9+K9 -> 99335.25 | N9: =+M9*H9 -> 49667625
F10: -Diseñar un (1) folleto digital o Flip book para compartir en línea y dejar como recurso instalado en las viviendas visitadas. El Flip book, debe contener (por lo menos 10 páginas con recursos escritos y visuales que contengan información convenida y aprobada por el comité de seguimiento y la oficina de prensa, en temas te prevención de violencia en el contexto familiar y violencia sexual. -500 Folletos plegables en papel estucado o couché, en Formato A4. Medidas: 210 × 297 mm. Impresos en tintas de 5 colores. Con información sobre la prevención de violencia sexual y en el contexto familiar. | G10: unidad | H10: 500 | K10: 890.4 | L10: =+K10*19% -> 169.176 | M10: =+L10+K10 -> 1059.576 | N10: =+M10*H10 -> 529788
F11: -500 Imanes con números/rutas de atención impreso en 5 colores, de 10cms x 6cms. Para pegar en la nevera. Diseño a definir por el comité de seguimiento. | G11: unidad | H11: 500 | K11: 1669.5 | L11: =+K11*19% -> 317.205 | M11: =+L11+K11 -> 1986.705 | N11: =+M11*H11 -> 993352.5
F12: -200 stickers para pegar en las puertas de las viviendas sensibilizadas estilo “rombo” de 12x12. Papel adhesivo de publicidad. | G12: unidad | H12: 200 | K12: 2226 | L12: =+K12*19% -> 422.94 | M12: =+L12+K12 -> 2648.94 | N12: =+M12*H12 -> 529788
B13: A.3 Estrategia de acompañamiento “Cuidándome -Cuidándonos”. | F13: 450 Diplomas con mensaje alusivo a familias que cuidan. Compuesto de mínimo 3 colores. 20 x 30 cm. Papel Opalina. Diseño a convenir por el comité de seguimiento. | G13: Unidad | H13: 450 | K13: 556.5 | L13: =+K13*19% -> 105.735 | M13: =+L13+K13 -> 662.235 | N13: =+M13*H13 -> 298005.75
B14: B2.2 Movilizaciones territoriales | C14: Promover la prevención de violencias a partir de la concientización de la misma en la localidad. | D14: Puestas en escena (actos) de 1 hora en espacio público | E14: Comunidad en general de la localidad de Suba. | F14: 15 Performances: Actos teatrales, musicales, artísticos puestos en escena que deberá garantizar el desarrollo de actos artístico-culturales (performances) donde se promueva de maneras disruptivas la no violencia y a partir de los cuales se generen reflexiones en la comunidad 2 artistas y 2 psicopedagosos | G14: Unidad | H14: 15 | K14: 3116400 | L14: =+K14*19% -> 592116 | M14: =+L14+K14 -> 3708516 | N14: =+M14*H14 -> 55627740
F15: 1500 Folletos o volantes: Folletos plegables en papel estucado o couché, en Formato A4. Medidas: 210 × 297 mm. Impresos en tintas de 5 colores. Con información sobre la prevención de violencia sexual e intrafamiliar | G15: Unidad | H15: 1500 | K15: 779.1 | L15: =+K15*19% -> 148.029 | M15: =+L15+K15 -> 927.129 | N15: =+M15*H15 -> 1390693.5
F16: 1200 Kits (participantes): Se deberá incluir la entrega de un kit por cada uno de los participantes que comprenda: -Una agenda para notas tipo cuaderno pequeño de 15cm x 20cm (aprox) de 75 páginas con 5 páginas impresas a color con mensajes alusivos a la prevención de violencias. -Un esfero marcado con los logos de la entidad. -Una tula impermeable. 43 cm de altura x 35 cm de ancho aprox. Con mensaje alusivos a la prevención de las violencias en el contexto familiar y sexual y la erradicación del castigo físico. -Una cartilla con información y actividades en prevención de violencia intrafamiliar y/o sexual. Debe contener mínimo 50 páginas y su contenido debe ser aprobado por la supervisión del contrato y la oficina de prensa. | G16: Unidad | H16: 1200 | K16: 111300 | L16: =+K16*19% -> 21147 | M16: =+L16+K16 -> 132447 | N16: =+M16*H16 -> 158936400
F17: 200 reconocimientos a los ganadores. Cada reconocimiento contará con: -Diploma compuesto de mínimo 3 colores. 20 x 30 cm. Papel Opalina. Diseño a convenir por el comité de seguimiento. -Una medalla de reconocimiento. | G17: Unidad | H17: 200 | K17: 5565 | L17: =+K17*19% -> 1057.35 | M17: =+L17+K17 -> 6622.35 | N17: =+M17*H17 -> 1324470
F18: Alquiler de dos (2) espacios cerrados con capacidad para 150 personas | G18: Unidad | H18: 2 | K18: 3339000 | L18: =+K18*19% -> 634410 | M18: =+L18+K18 -> 3973410 | N18: =+M18*H18 -> 7946820
A19: Componente: Orientación y asesoría familiar. | B19: Orientación y asesoría familiar para la prevención de violencias que permitan a las víctimas recibir una atención y orientación adecuada. | C19: Máximo 10 sesiones de 1h (c/u) | D19: 350 | E19: 350 | F19: Alquiler de un espacio por seis meses que contenga las siguientes características: Ubicación de un sitio de atención en un punto estratégico de la localidad, destinado para la orientación y asesoría familiar, dos espacios adecuados para la atención de las y los participantes con el mobiliario necesario en lugares que cuenten con adecuada ventilación, iluminación y condiciones de higiene permanente, espacios cerrados, que permitan la privacidad. Igualmente debe contar con baños y elementos de higiene. Debe ubicarse en un punto de fácil accesibilidad y equidistante dentro de la localidad, teniendo en cuenta que muchos de las y los potenciales participantes no cuentan con medios económicos para su desplazamiento. Estado del Inmueble: Debe estar dotado con mobiliario y materiales necesarios para la ejecución del componente. La recepción y sala de espera, debe ser un lugar cómodo dotado con computador, teléfono, cuya ambientación visual y auditiva propicie un ambiente tranquilo y agradable a los participantes. El inmueble debe contar con mínimo un baño, dotado con los implementos de aseo necesarios (toalla para manos, jabón, papel higiénico, papelera). | G19: Meses | H19: 6 | K19: 5008500 | L19: =+K19*19% -> 951615 | M19: =+L19+K19 -> 5960115 | N19: =+M19*H19 -> 35760690
A20: Componente: Posicionamiento y promoción del buen trato en jornadas locales. | B20: Conmemorar eventos que permiten visibilizar causas sociales entorno a la prevención de las violencias. | C20: Comunidad en general de la localidad | D20: Jornadas de 6 horas | E20: Comunidad en general de la localidad de Suba | F20: El contratista deberá garantizar, en el desarrollo de los 5 eventos conmemorativos y/o celebraciones de jornadas locales, el acompañamiento de: -Un (1) animador con mínimo Título de bachiller, 18 meses de experiencia laboral en recreación, animación, o afines. -Tres (3) Artistas locales. -6 Profesionales con 24 meses de experiencia en actividades de facilitador, tallerista o docente y al menos 12 meses de los 24 meses de experiencia profesional en trabajo en comunidad o jóvenes en temas de derechos sexuales y reproductivos y/o habilidades para la vida que realicen actividades principalmente lúdicas, recreativas y vivenciales. Sensibilización tendiente a la prevención de violencias y rutas de atención integral de acceso a la justicia. | G20: Jornadas | H20: 5 | K20: 10017000 | L20: =+K20*19% -> 1903230 | M20: =+L20+K20 -> 11920230 | N20: =+M20*H20 -> 59601150
F21: Sonido: Alquiler de sonido profesional de 7.000 watts line array. con sistema y microfonería completo para presentaciones. incluye 8 micrófonos dinámicos, 2 micrófonos condensadores, 4 cajas directas activas, 1 consola análoga 16 canales, 1 ecualizador gráfico, 1 reverberación digital, 1 snake de 8 canales y 10 metros, 1 cd player (mp3, wap, cd, dvd), 2 cabinas para público, 4 monitores para escenario, técnico de sonido y operario de montaje, cables y conexiones - tiempo de alquiler 1 día. instalación, transporte y desinstalación | G21: Unidad | H21: 5 | K21: 9121294.7 | L21: =+K21*19% -> 1733046 | M21: =+L21+K21 -> 10854341 | N21: =+M21*H21 -> 54271703
F22: Carpas: Alquiler de carpa tipo bodega para trabajo liviano, tipo túnel con laterales y ventanas en vinilo transparente. Para mover a distintos puntos de la localidad durante el proyecto. Medidas: 6mts x 3 mts. | G22: Unidad | H22: 25 | K22: 1446900 | L22: =+K22*19% -> 274911 | M22: =+L22+K22 -> 1721811 | N22: =+M22*H22 -> 43045275
F23: Tarima: Alquiler de tarima de 5x5 (altura modular entre 0.20 y 1.60) con faldon negro, escalera de embarque y desembarque, cinta anti deslizante y barandas. Incluye instalación, transporte y entrega en el lugar requerido, montaje y desmontaje de la misma (jornada 6 horas día). Debe contar con techo que cubra la superficie de la tarima en caso de lluvia. | G23: Unidad | H23: 5 | K23: 2352065.8 | L23: =+K23*19% -> 446892.5 | M23: =+L23+K23 -> 2798958.3 | N23: =+M23*H23 -> 13994792
F24: Sillas: alquiler silla plástica de 2.11kg. 46,5cm de ancho, 87,5cm de alto, 52,5cm de largo, con espaldar tejido. | G24: Unidad | H24: 150 | K24: 4279.485 | L24: =+K24*19% -> 813.10215 | M24: =+L24+K24 -> 5092.5871 | N24: =+M24*H24 -> 763888.07
F25: Mesas: Mesa cuadrada de 4 puestos, color blanca, desarmable, fácil de transportar. Alto: 72 cms, Material de la cubierta: Plástico, Material de la estructura: Plástico | G25: Unidad | H25: 50 | K25: 12876.854 | L25: =+K25*19% -> 2446.6022 | M25: =+L25+K25 -> 15323.456 | N25: =+M25*H25 -> 766172.78
F26: Alquiler Generador Electrico Potencia Standby: 40 kW / 50 kVA. Corriente Standby: 131 A. Para una autonomia aproximada de 8 horas. Generador Y164C con AVR para soportar picos de Corriente en Voltaje 127 - 220V. Fases 3 | G26: Unidad | H26: 1 | K26: 1780800 | L26: =+K26*19% -> 338352 | M26: =+L26+K26 -> 2119152 | N26: =+M26*H26 -> 2119152
F27: Pendones: Diseño a definir por el comité de seguimiento, previo aval de prensa. En 5 colores. Con soporte tipo araña. Material: Vinilo o lona. Tamaño: 60cmx180cm. Los pendones deben ser aprobados por la oficina de prensa de la Alcaldía Local de Suba | G27: Unidad | H27: 5 | K27: 181049.56 | L27: =+K27*19% -> 34399.416 | M27: =+L27+K27 -> 215448.98 | N27: =+M27*H27 -> 1077244.9
A28: Nombre representante legal :DIANA CAROLINA CUERVO TORRES Celular: 3138863356 Correo electrónico: direccion@egesco.org Firma:
A29: VALOR TOTAL OFERTADO | B29: VALOR TOTAL | K29: VALOR TOTAL OFERTADO | N29: =SUM(N9:N27) -> 4.8864475e+08
E31: PERSONAL (CARGO) | F31: PERFIL | G31: CANTIDAD | H31: MESES | I31: VALOR MENSUAL REFERENCIA TECHO RESOLUCIÓN 0001 DEL 04/01/2024 - SECRETARÍA DISTRITAL DE GOBIERNO | J31: VALOR TOTAL
B32: Coponenente 1 | C32: PERSONAL | D32: 1 | E32: Cordinador del Proyecto | F32: FORMACIÓN PROFESIONAL | G32: 1 | H32: 8 | I32: 8000000 | J32: =I32*H32*G32 -> 64000000
F33: Formación profesional en áreas del conocimiento de ciencias sociales y humanas o economía, administración, contaduría y afines y núcleos básicos del conocimiento en Ciencia Política, Derecho, Psicología, Sociología, Trabajo Social, Administración, Administración Pública o Economía con especialización en áreas cómo Ciencias Humanas, Economía o Administración.
F35: EXPERIENCIA PROFESIONAL
F36: Experiencia mínima de sesenta (60) meses debidamente certificada, contados a partir de la expedición de la tarjeta profesional, terminación de materias y/o fecha de grado, según aplique.
F38: EXPERIENCIA ESPECIFICA
F39: Experiencia mínima profesional de treinta y seis (36) y hasta setenta y dos (72) meses en coordinación y ejecución de proyectos sociales y/o cargos de nivel directivo o gerencial con población afectada por violencia en el contexto familiar y/o violencia sexual.
F41: Dedicación 100%.
B42: Componente 1 | D42: 2 | E42: Asistente Administrativo | F42: FORMACIÓN PROFESIONAL | G42: 1 | H42: 8 | I42: 3381000 | J42: =I42*H42*G42 -> 27048000
F43: Título de formación técnica o tecnológica o acreditación o aprobación del 50% o más de un plan de estudios de una carrera profesional que sea afín con el objeto a contratar.
F46: EXPERIENCIA PROFESIONAL
F47: Experiencia mínima de treinta y cinco (35) meses debidamente certificada, contados a partir de la expedición de la tarjeta profesional, terminación de materias y/o fecha de grado, según aplique.
F49: EXPERIENCIA ESPECIFICA
F50: Experiencia mínima de 18 meses en actividades administrativas de secretariado o archivo, manejo de bases de datos o asistenciales.
F52: Dedicación 100%.
...

Sheet Cotización 2
C2: FONDO DE DESARROLLO LOCAL DE SUBA
C4: OBJETO: Contratar los servicios integrales y especializados para la formación de personas en estrategias personales y comunitarias de prevención de la violencia intrafamiliar y/o violencia sexual en la localidad de Suba
G6: Fundación Internacional de Pedagogia Conceptual Alberto Merani FIPCAM
A7: Componente | B7: Actividad | C7: Alcance de la actividad | D7: Duración | E7: Población Objetivo | F7: Insumos mínimos requeridos Especificaciones técnicas | G7: Unidad de medida | H7: Cantidad | I7: VALOR UNITARIO REFERENCIA TECHO INCLUIDO IVA QUE NO PODRAN SUPERAR LOS PROPONENTES | J7: VALOR TOTA DE REFERENCIA TECHO INCLUIDO IVA QUE NO PODRAN SUPERAR LOS PROPONENTES | K7: VALOR UNITARIO | L7: IVA | M7: VALOR UNITARIO INCLUIDO IVA | N7: VALOR TOTAL
A9: Componente: Prevención de violencia en el contexto familiar, violencia sexual y promoción y garantía de derechos | B9: A.2 “La familia es para cuidarla” | C9: Implementar acciones de sensibilización para prevenir la violencia en el contexto familiar y promover dinámicas de cuidado y entornos protectores. | D9: 30 minutos de sensibilización por casa | E9: 500 personas | F9: Sensibilización de 30 minutos por casa (Papeleria) Tener en cuenta materiales referidos en la estrategia “La familia es para cuidarla”. Impresión de piezas comunicativas de prevención de violencias: Pieza gráfica del folleto de la campaña La familia es para cuidarla, dispuesta por la SDIS- Subdirección para la Familia. Impresión del Instrumento el cuidado familiar, aportado por la SDIS. | G9: Personas | H9: 500 | K9: 80000 | L9: =+K9*0.19 -> 15200 | M9: =+K9+L9 -> 95200 | N9: =+M9*H9 -> 47600000
F10: -Diseñar un (1) folleto digital o Flip book para compartir en línea y dejar como recurso instalado en las viviendas visitadas. El Flip book, debe contener (por lo menos 10 páginas con recursos escritos y visuales que contengan información convenida y aprobada por el comité de seguimiento y la oficina de prensa, en temas te prevención de violencia en el contexto familiar y violencia sexual. -500 Folletos plegables en papel estucado o couché, en Formato A4. Medidas: 210 × 297 mm. Impresos en tintas de 5 colores. Con información sobre la prevención de violencia sexual y en el contexto familiar. | G10: unidad | H10: 500 | K10: 800 | L10: =+K10*0.19 -> 152 | M10: =+K10+L10 -> 952 | N10: =+M10*H10 -> 476000
F11: -500 Imanes con números/rutas de atención impreso en 5 colores, de 10cms x 6cms. Para pegar en la nevera. Diseño a definir por el comité de seguimiento. | G11: unidad | H11: 500 | K11: 1500 | L11: =+K11*0.19 -> 285 | M11: =+K11+L11 -> 1785 | N11: =+M11*H11 -> 892500
F12: -200 stickers para pegar en las puertas de las viviendas sensibilizadas estilo “rombo” de 12x12. Papel adhesivo de publicidad. | G12: unidad | H12: 200 | K12: 2200 | L12: =+K12*0.19 -> 418 | M12: =+K12+L12 -> 2618 | N12: =+M12*H12 -> 523600
B13: A.3 Estrategia de acompañamiento “Cuidándome -Cuidándonos”. | F13: 450 Diplomas con mensaje alusivo a familias que cuidan. Compuesto de mínimo 3 colores. 20 x 30 cm. Papel Opalina. Diseño a convenir por el comité de seguimiento. | G13: Unidad | H13: 450 | K13: 474 | L13: =+K13*0.19 -> 90.06 | M13: =+K13+L13 -> 564.06 | N13: =+M13*H13 -> 253827
B14: B2.2 Movilizaciones territoriales | C14: Promover la prevención de violencias a partir de la concientización de la misma en la localidad. | D14: Puestas en escena (actos) de 1 hora en espacio público | E14: Comunidad en general de la localidad de Suba. | F14: 15 Performances: Actos teatrales, musicales, artísticos puestos en escena que deberá garantizar el desarrollo de actos artístico-culturales (performances) donde se promueva de maneras disruptivas la no violencia y a partir de los cuales se generen reflexiones en la comunidad 2 artistas y 2 psicopedagosos | G14: Unidad | H14: 15 | K14: 2830489 | L14: =+K14*0.19 -> 537792.91 | M14: =+K14+L14 -> 3368281.9 | N14: =+M14*H14 -> 50524229
F15: 1500 Folletos o volantes: Folletos plegables en papel estucado o couché, en Formato A4. Medidas: 210 × 297 mm. Impresos en tintas de 5 colores. Con información sobre la prevención de violencia sexual e intrafamiliar | G15: Unidad | H15: 1500 | K15: 750 | L15: =+K15*0.19 -> 142.5 | M15: =+K15+L15 -> 892.5 | N15: =+M15*H15 -> 1338750
F16: 1200 Kits (participantes): Se deberá incluir la entrega de un kit por cada uno de los participantes que comprenda: -Una agenda para notas tipo cuaderno pequeño de 15cm x 20cm (aprox) de 75 páginas con 5 páginas impresas a color con mensajes alusivos a la prevención de violencias. -Un esfero marcado con los logos de la entidad. -Una tula impermeable. 43 cm de altura x 35 cm de ancho aprox. Con mensaje alusivos a la prevención de las violencias en el contexto familiar y sexual y la erradicación del castigo físico. -Una cartilla con información y actividades en prevención de violencia intrafamiliar y/o sexual. Debe contener mínimo 50 páginas y su contenido debe ser aprobado por la supervisión del contrato y la oficina de prensa. | G16: Unidad | H16: 1200 | K16: 102349 | L16: =+K16*0.19 -> 19446.31 | M16: =+K16+L16 -> 121795.31 | N16: =+M16*H16 -> 146154372
F17: 200 reconocimientos a los ganadores. Cada reconocimiento contará con: -Diploma compuesto de mínimo 3 colores. 20 x 30 cm. Papel Opalina. Diseño a convenir por el comité de seguimiento. -Una medalla de reconocimiento. | G17: Unidad | H17: 200 | K17: 5000 | L17: =+K17*0.19 -> 950 | M17: =+K17+L17 -> 5950 | N17: =+M17*H17 -> 1190000
F18: Alquiler de dos (2) espacios cerrados con capacidad para 150 personas | G18: Unidad | H18: 2 | K18: 3500000 | L18: =+K18*0.19 -> 665000 | M18: =+K18+L18 -> 4165000 | N18: =+M18*H18 -> 8330000
A19: Componente: Orientación y asesoría familiar. | B19: Orientación y asesoría familiar para la prevención de violencias que permitan a las víctimas recibir una atención y orientación adecuada. | C19: Máximo 10 sesiones de 1h (c/u) | D19: 350 | E19: 350 | F19: Alquiler de un espacio por seis meses que contenga las siguientes características: Ubicación de un sitio de atención en un punto estratégico de la localidad, destinado para la orientación y asesoría familiar, dos espacios adecuados para la atención de las y los participantes con el mobiliario necesario en lugares que cuenten con adecuada ventilación, iluminación y condiciones de higiene permanente, espacios cerrados, que permitan la privacidad. Igualmente debe contar con baños y elementos de higiene. Debe ubicarse en un punto de fácil accesibilidad y equidistante dentro de la localidad, teniendo en cuenta que muchos de las y los potenciales participantes no cuentan con medios económicos para su desplazamiento. Estado del Inmueble: Debe estar dotado con mobiliario y materiales necesarios para la ejecución del componente. La recepción y sala de espera, debe ser un lugar cómodo dotado con computador, teléfono, cuya ambientación visual y auditiva propicie un ambiente tranquilo y agradable a los participantes. El inmueble debe contar con mínimo un baño, dotado con los implementos de aseo necesarios (toalla para manos, jabón, papel higiénico, papelera). | G19: Meses | H19: 6 | K19: 4500000 | L19: =+K19*0.19 -> 855000 | M19: =+K19+L19 -> 5355000 | N19: =+M19*H19 -> 32130000
A20: Componente: Posicionamiento y promoción del buen trato en jornadas locales. | B20: Conmemorar eventos que permiten visibilizar causas sociales entorno a la prevención de las violencias. | C20: Comunidad en general de la localidad | D20: Jornadas de 6 horas | E20: Comunidad en general de la localidad de Suba | F20: El contratista deberá garantizar, en el desarrollo de los 5 eventos conmemorativos y/o celebraciones de jornadas locales, el acompañamiento de: -Un (1) animador con mínimo Título de bachiller, 18 meses de experiencia laboral en recreación, animación, o afines. -Tres (3) Artistas locales. -6 Profesionales con 24 meses de experiencia en actividades de facilitador, tallerista o docente y al menos 12 meses de los 24 meses de experiencia profesional en trabajo en comunidad o jóvenes en temas de derechos sexuales y reproductivos y/o habilidades para la vida que realicen actividades principalmente lúdicas, recreativas y vivenciales. Sensibilización tendiente a la prevención de violencias y rutas de atención integral de acceso a la justicia. | G20: Jornadas | H20: 5 | K20: 9646509 | L20: =+K20*0.19 -> 1832836.7 | M20: =+K20+L20 -> 11479346 | N20: =+M20*H20 -> 57396729
F21: Sonido: Alquiler de sonido profesional de 7.000 watts line array. con sistema y microfonería completo para presentaciones. incluye 8 micrófonos dinámicos, 2 micrófonos condensadores, 4 cajas directas activas, 1 consola análoga 16 canales, 1 ecualizador gráfico, 1 reverberación digital, 1 snake de 8 canales y 10 metros, 1 cd player (mp3, wap, cd, dvd), 2 cabinas para público, 4 monitores para escenario, técnico de sonido y operario de montaje, cables y conexiones - tiempo de alquiler 1 día. instalación, transporte y desinstalación | G21: Unidad | H21: 5 | K21: 8250304 | L21: =+K21*0.19 -> 1567557.8 | M21: =+K21+L21 -> 9817861.8 | N21: =+M21*H21 -> 49089309
F22: Carpas: Alquiler de carpa tipo bodega para trabajo liviano, tipo túnel con laterales y ventanas en vinilo transparente. Para mover a distintos puntos de la localidad durante el proyecto. Medidas: 6mts x 3 mts. | G22: Unidad | H22: 25 | K22: 1307356 | L22: =+K22*0.19 -> 248397.64 | M22: =+K22+L22 -> 1555753.6 | N22: =+M22*H22 -> 38893841
F23: Tarima: Alquiler de tarima de 5x5 (altura modular entre 0.20 y 1.60) con faldon negro, escalera de embarque y desembarque, cinta anti deslizante y barandas. Incluye instalación, transporte y entrega en el lugar requerido, montaje y desmontaje de la misma (jornada 6 horas día). Debe contar con techo que cubra la superficie de la tarima en caso de lluvia. | G23: Unidad | H23: 5 | K23: 4442471 | L23: =+K23*0.19 -> 844069.49 | M23: =+K23+L23 -> 5286540.5 | N23: =+M23*H23 -> 26432702
F24: Sillas: alquiler silla plástica de 2.11kg. 46,5cm de ancho, 87,5cm de alto, 52,5cm de largo, con espaldar tejido. | G24: Unidad | H24: 150 | K24: 5711 | L24: =+K24*0.19 -> 1085.09 | M24: =+K24+L24 -> 6796.09 | N24: =+M24*H24 -> 1019413.5
F25: Mesas: Mesa cuadrada de 4 puestos, color blanca, desarmable, fácil de transportar. Alto: 72 cms, Material de la cubierta: Plástico, Material de la estructura: Plástico | G25: Unidad | H25: 50 | K25: 9139 | L25: =+K25*0.19 -> 1736.41 | M25: =+K25+L25 -> 10875.41 | N25: =+M25*H25 -> 543770.5
F26: Alquiler Generador Electrico Potencia Standby: 40 kW / 50 kVA. Corriente Standby: 131 A. Para una autonomia aproximada de 8 horas. Generador Y164C con AVR para soportar picos de Corriente en Voltaje 127 - 220V. Fases 3 | G26: Unidad | H26: 1 | K26: 2600000 | L26: =+K26*0.19 -> 494000 | M26: =+K26+L26 -> 3094000 | N26: =+M26*H26 -> 3094000
F27: Pendones: Diseño a definir por el comité de seguimiento, previo aval de prensa. En 5 colores. Con soporte tipo araña. Material: Vinilo o lona. Tamaño: 60cmx180cm. Los pendones deben ser aprobados por la oficina de prensa de la Alcaldía Local de Suba | G27: Unidad | H27: 5 | K27: 247509 | L27: =+K27*0.19 -> 47026.71 | M27: =+K27+L27 -> 294535.71 | N27: =+M27*H27 -> 1472678.6
A28: Nombre representante legal : Celular: Correo electrónico: Firma:
A29: VALOR TOTAL OFERTADO | B29: VALOR TOTAL | K29: VALOR TOTAL OFERTADO | N29: =SUM(N9:N27) -> 467355721
E31: PERSONAL (CARGO) | F31: PERFIL | G31: CANTIDAD | H31: MESES | I31: VALOR MENSUAL REFERENCIA TECHO RESOLUCIÓN 0001 DEL 04/01/2024 - SECRETARÍA DISTRITAL DE GOBIERNO | J31: VALOR TOTAL
B32: Coponenente 1 | C32: PERSONAL | D32: 1 | E32: Cordinador del Proyecto | F32: FORMACIÓN PROFESIONAL | G32: 1 | H32: 8 | I32: 8000000 | J32: =I32*H32*G32 -> 64000000
F33: Formación profesional en áreas del conocimiento de ciencias sociales y humanas o economía, administración, contaduría y afines y núcleos básicos del conocimiento en Ciencia Política, Derecho, Psicología, Sociología, Trabajo Social, Administración, Administración Pública o Economía con especialización en áreas cómo Ciencias Humanas, Economía o Administración.
F35: EXPERIENCIA PROFESIONAL
F36: Experiencia mínima de sesenta (60) meses debidamente certificada, contados a partir de la expedición de la tarjeta profesional, terminación de materias y/o fecha de grado, según aplique.
F38: EXPERIENCIA ESPECIFICA
F39: Experiencia mínima profesional de treinta y seis (36) y hasta setenta y dos (72) meses en coordinación y ejecución de proyectos sociales y/o cargos de nivel directivo o gerencial con población afectada por violencia en el contexto familiar y/o violencia sexual.
F41: Dedicación 100%.
B42: Componente 1 | D42: 2 | E42: Asistente Administrativo | F42: FORMACIÓN PROFESIONAL | G42: 1 | H42: 8 | I42: 3381000 | J42: =I42*H42*G42 -> 27048000
F43: Título de formación técnica o tecnológica o acreditación o aprobación del 50% o más de un plan de estudios de una carrera profesional que sea afín con el objeto a contratar.
F46: EXPERIENCIA PROFESIONAL
F47: Experiencia mínima de treinta y cinco (35) meses debidamente certificada, contados a partir de la expedición de la tarjeta profesional, terminación de materias y/o fecha de grado, según aplique.
F49: EXPERIENCIA ESPECIFICA
F50: Experiencia mínima de 18 meses en actividades administrativas de secretariado o archivo, manejo de bases de datos o asistenciales.
F52: Dedicación 100%.
...

Sheet Cotización 3
A1: FONDO DE DESARROLLO LOCAL DE SUBA
A2: OBJETO: Contratar los servicios integrales y especializados para la formación de personas en estrategias personales y comunitarias de prevención de la violencia intrafamiliar y/o violencia sexual en la localidad de Suba
G3: FUNDACION UN NUEVO AMANECER
A4: Componente | B4: Actividad | C4: Alcance de la actividad | D4: Duración | E4: Población Objetivo | F4: Insumos mínimos requeridos Especificaciones técnicas | G4: Unidad de medida | H4: Cantidad | I4: VALOR UNITARIO | J4: IVA | K4: VALOR UNITARIO INCLUIDO IVA | L4: VALOR TOTAL
A5: Componente: Prevención de violencia en el contexto familiar, violencia sexual y promoción y garantía de derechos | B5: A.2 “La familia es para cuidarla” | C5: Implementar acciones de sensibilización para prevenir la violencia en el contexto familiar y promover dinámicas de cuidado y entornos protectores. | D5: 30 minutos de sensibilización por casa | E5: 500 personas | F5: Sensibilización de 30 minutos por casa (Papeleria) Tener en cuenta materiales referidos en la estrategia “La familia es para cuidarla”. Impresión de piezas comunicativas de prevención de violencias: Pieza gráfica del folleto de la campaña La familia es para cuidarla, dispuesta por la SDIS- Subdirección para la Familia. | G5: Personas | H5: 500 | I5: 75000 | J5: 14250 | K5: 89250 | L5: 44625000
F6: -Diseñar un (1) folleto digital o Flip book para compartir en línea y dejar como recurso instalado en las viviendas visitadas. El Flip book, debe contener (por lo menos 10 páginas con recursos escritos y visuales que contengan información convenida y aprobada por el comité de seguimiento y la oficina de prensa, en temas te prevención de violencia en el contexto familiar y violencia sexual. | G6: unidad | H6: 500 | I6: 800 | J6: 152 | K6: 952 | L6: 476000
F7: -500 Imanes con números/rutas de atención impreso en 5 colores, de 10cms x 6cms. Para pegar en la nevera. Diseño a definir por el comité de seguimiento. | G7: unidad | H7: 500 | I7: 1500 | J7: 285 | K7: 1785 | L7: 892500
F8: -200 stickers para pegar en las puertas de las viviendas sensibilizadas estilo “rombo” de | G8: unidad | H8: 200 | I8: 2000 | J8: 380 | K8: 2380 | L8: 476000
B9: A.3 Estrategia de acompañamiento “Cuidándome -Cuidándonos”. | F9: 450 Diplomas con mensaje alusivo a familias que cuidan. Compuesto de mínimo 3 colores. 20 x 30 cm. Papel Opalina. Diseño a convenir por el comité de seguimiento. | G9: Unidad | H9: 450 | I9: 500 | J9: 95 | K9: 595 | L9: 267750
B10: B2.2 Movilizaciones territoriales | C10: Promover la prevención de violencias a partir de la concientización de la misma en la localidad. | D10: Puestas en escena (actos) de 1 hora en espacio público | E10: Comunidad en general de la localidad de Suba. | F10: 15 Performances: Actos teatrales, musicales, artísticos puestos en escena que deberá garantizar el desarrollo de actos artístico-culturales (performances) donde se promueva de maneras disruptivas la no violencia y a partir de los cuales se generen reflexiones en la | G10: Unidad | H10: 15 | I10: 2800000 | J10: 532000 | K10: 3332000 | L10: 49980000
F11: 1500 Folletos o volantes: Folletos plegables en papel estucado o couché, en Formato A4. Medidas: 210 × 297 mm. Impresos en tintas de 5 colores. Con información sobre la | G11: Unidad | H11: 1500 | I11: 700 | J11: 133 | K11: 833 | L11: 1249500
F12: 1200 Kits (participantes): Se deberá incluir la entrega de un kit por cada uno de los participantes que comprenda: -Una agenda para notas tipo cuaderno pequeño de 15cm x 20cm (aprox) de 75 páginas con 5 páginas impresas a color con mensajes alusivos a la prevención de violencias. -Un esfero marcado con los logos de la entidad. -Una tula impermeable. 43 cm de altura x 35 cm de ancho aprox. Con mensaje alusivos a la prevención de las violencias en el contexto familiar y sexual y la erradicación del castigo físico. | G12: Unidad | H12: 1200 | I12: 100000 | J12: 19000 | K12: 119000 | L12: 142800000
F13: 200 reconocimientos a los ganadores. Cada reconocimiento contará con: -Diploma compuesto de mínimo 3 colores. 20 x 30 cm. Papel Opalina. Diseño a convenir por el comité de seguimiento. -Una medalla de reconocimiento. | G13: Unidad | H13: 200 | I13: 5000 | J13: 950 | K13: 5950 | L13: 1190000
F14: Alquiler de dos (2) espacios cerrados con capacidad para 150 personas | G14: Unidad | H14: 2 | I14: 3000000 | J14: 570000 | K14: 3570000 | L14: 7140000
A15: Componente: Orientación y asesoría familiar. | B15: Orientación y asesoría familiar para la prevención de violencias que permitan a las víctimas recibir una atención y orientación adecuada. | C15: Máximo 10 sesiones de 1h (c/u) | D15: 350 | E15: 350 | F15: Alquiler de un espacio por seis meses que contenga las siguientes características: Ubicación de un sitio de atención en un punto estratégico de la localidad, destinado para la orientación y asesoría familiar, dos espacios adecuados para la atención de las y los participantes con el mobiliario necesario en lugares que cuenten con adecuada ventilación, iluminación y condiciones de higiene permanente, espacios cerrados, que permitan la privacidad. Igualmente debe contar con baños y elementos de higiene. Debe ubicarse en un punto de fácil accesibilidad y equidistante dentro de la localidad, teniendo en cuenta que muchos de las y los potenciales participantes no cuentan con medios económicos para su desplazamiento. Estado del Inmueble: Debe estar dotado con mobiliario y materiales necesarios para la ejecución del | G15: Meses | H15: 6 | I15: 4500000 | J15: 855000 | K15: 5355000 | L15: 32130000
A16: Componente: Posicionamiento y promoción del buen trato en jornadas locales. | B16: Conmemorar eventos que permiten visibilizar causas sociales entorno a la prevención de las violencias. | C16: Comunidad en general de la localidad | D16: Jornadas de 6 horas | E16: Comunidad en general de la localidad de Suba | F16: El contratista deberá garantizar, en el desarrollo de los 5 eventos conmemorativos y/o celebraciones de jornadas locales, el acompañamiento de: -Un (1) animador con mínimo Título de bachiller, 18 meses de experiencia laboral en recreación, animación, o afines. -Tres (3) Artistas locales. -6 Profesionales con 24 meses de experiencia en actividades de facilitador, tallerista o docente y al menos 12 meses de los 24 meses de experiencia profesional en trabajo en | G16: Jornadas | H16: 5 | I16: 9000000 | J16: 1710000 | K16: 10710000 | L16: 53550000
F17: Sonido: Alquiler de sonido profesional de 7.000 watts line array. con sistema y microfonería completo para presentaciones. incluye 8 micrófonos dinámicos, 2 micrófonos condensadores, 4 cajas directas activas, 1 consola análoga 16 canales, 1 ecualizador gráfico, 1 reverberación digital, 1 snake de 8 canales y 10 metros, 1 cd player | G17: Unidad | H17: 5 | I17: 8195233 | J17: 1557094 | K17: 9752328 | L17: 48761638
F18: Carpas: Alquiler de carpa tipo bodega para trabajo liviano, tipo túnel con laterales y ventanas en vinilo transparente. Para mover a distintos puntos de la localidad durante el proyecto. Medidas: 6mts x 3 mts. | G18: Unidad | H18: 25 | I18: 1300000 | J18: 247000 | K18: 1547000 | L18: 38675000
F19: Tarima: Alquiler de tarima de 5x5 (altura modular entre 0.20 y 1.60) con faldon negro, escalera de embarque y desembarque, cinta anti deslizante y barandas. Incluye instalación, transporte y entrega en el lugar requerido, montaje y desmontaje de la | G19: Unidad | H19: 5 | I19: 2113267 | J19: 401521 | K19: 2514787 | L19: 12573937
F20: Sillas: alquiler silla plástica de 2.11kg. 46,5cm de ancho, 87,5cm de alto, 52,5cm de largo, | G20: Unidad | H20: 150 | I20: 3845 | J20: 731 | K20: 4576 | L20: 686333
F21: Mesas: Mesa cuadrada de 4 puestos, color blanca, desarmable, fácil de transportar. Alto: 72 cms, Material de la cubierta: Plástico, Material de la estructura: Plástico | G21: Unidad | H21: 50 | I21: 11570 | J21: 2198 | K21: 13768 | L21: 688385
F22: Alquiler Generador Electrico Potencia Standby: 40 kW / 50 kVA. Corriente Standby: 131 A. Para una autonomia aproximada de 8 horas. Generador Y164C con AVR para soportar | G22: Unidad | H22: 1 | I22: 1600000 | J22: 304000 | K22: 1904000 | L22: 1904000
F23: Pendones: Diseño a definir por el comité de seguimiento, previo aval de prensa. En 5 colores. Con soporte tipo araña. Material: Vinilo o lona. Tamaño: 60cmx180cm. Los pendones deben ser aprobados por la oficina de prensa de la Alcaldía Local de Suba | G23: Unidad | H23: 5 | I23: 162668 | J23: 30907 | K23: 193575 | L23: 967875
A24: VALOR SUBTOTAL OFERTADO | L24: 439033918
E26: PERSONAL (CARGO) | F26: PERFIL | G26: CANTIDAD | H26: MESES | I26: REFERENCIA TECHO RESOLUCIÓN 0001 DEL 04/01/2024 - SECRETARÍA DISTRITAL DE | J26: VALOR TOTAL
B27: Todos los Componentes | D27: 1 | E27: Cordinador del Proyecto | F27: FORMACIÓN PROFESIONAL | G27: 1 | H27: 8 | I27: 8000000 | J27: 64000000
F28: Formación profesional en áreas del conocimiento de ciencias sociales y humanas o economía, administración, contaduría y afines y núcleos básicos del conocimiento en Ciencia Política, Derecho, Psicología, Sociología, Trabajo Social, Administración, Administración Pública o Economía con especialización en áreas cómo Ciencias Humanas, Economía o Administración.
F30: EXPERIENCIA PROFESIONAL
F31: Experiencia mínima de sesenta (60) meses debidamente certificada, contados a partir de la expedición de la tarjeta profesional, terminación de materias y/o fecha de grado, según aplique.
F33: EXPERIENCIA ESPECIFICA
F34: Experiencia mínima profesional de treinta y seis (36) y hasta setenta y dos (72) meses en coordinación y ejecución de proyectos sociales y/o cargos de nivel directivo o gerencial con población afectada por violencia en el contexto familiar y/o violencia sexual.
F36: Dedicación 100%.
B37: Todos los Componentes | D37: 2 | E37: Asistente Administrativo | F37: FORMACIÓN PROFESIONAL | G37: 1 | H37: 8 | I37: 3381000 | J37: 27048000
F38: Título de formación técnica o tecnológica o acreditación o aprobación del 50% o más de un plan de estudios de una carrera profesional que sea afín con el objeto a contratar.
F41: EXPERIENCIA PROFESIONAL
F42: Experiencia mínima de treinta y cinco (35) meses debidamente certificada, contados a partir de la expedición de la tarjeta profesional, terminación de materias y/o fecha de grado, según aplique.
F44: EXPERIENCIA ESPECIFICA
