Workbook

Sheet 1. Diag Empresarial 
A1: 1. INFORMACION GENERAL DE LA UNIDAD PRODUCTIVA | K1: 2. INFORMACIÓN DEL NEGOCIO | AK1: 3. INGRESOS Y FINANZAS | AP1: 4. PRODUCCIÓN Y OPERACIÓN | AS1: 5. COMERCIALIZACIÓN Y CLIENTES | AV1: 7. LEGALIDAD Y FORMALIZACIÓN | AZ1: 8. APOYO FINANCIERO
A2: N | B2: NOMBRE DEL MICROEMPRESARIO | C2: N° DOCUMENTO | D2: GENERO | F2: DIRECCION DE RESIDENCIA | G2: DIRECCION DEL NEGOCIO | H2: NOMBRE DEL NEGOCIO | I2: Descripción del Negocio | J2: TELEFONO | K2: ¿Hace cuánto tiempo se dedica a esta actividad comercial? | O2: ¿Este negocio es su única fuente de ingresos? | R2: Sector Económico | W2: Actividad Economica | AD2: No. De Empleos Generados | AF2: Dónde está ubicado su punto de venta | AK2: ¿Conoce con claridad cuánto gana y cuánto gasta en su negocio? | AM2: Valor Promedio Ventas Totales Mensuales | AN2: Valor Promedio Costos | AO2: Valor Promedio Utilidad Mensual | AP2: ¿Quiénes son sus Principales Proveedores? | AQ2: ¿Quién produce lo que vende? (¿Lo fabrica usted o lo compra para revender?) | AR2: Qué herramientas o materiales necesita para operar diariamente? | AS2: ¿Quiénes son sus Principales Clientes? | AT2: ¿ Que estrategias a utilizado para atraer nuevos clientes? | AU2: ¿Conoce o usa redes sociales, WhatsApp, o alguna aplicación para vender? | AV2: ¿Su Negocio Está Formalizado Ante Cámara de Comercio? | AX2: ¿Está interesado/a en formalizar su negocio? | AZ2: Microcrédito | BB2: ¿Alguna vez solicitó un crédito? | BD2: ENTIDAD | BE2: ¿Tiene algún ahorro o fondo para emergencias? | BG2: ¿Está usted interesado (a) en solicitar un microcrédito a través de la red de aliados financieros que tiene SIEMPRENDE? | BI2: Autorizo a SIEMPRENDE para que a través de su aliado financiero consulte mi estado crediticio ante las centrales de riesgo
D3: F | E3: M | K3: 0 a 6 meses | L3: 1 a 2 años | M3: 2 a 5 años | N3: mas de 5 años | O3: SI | P3: NO | Q3: OTRO CUAL | R3: Manucfacturas | S3: Servicio | T3: Productos Elaborados | U3: Economia Popular | V3: Economia Naraja | W3: Industria Alimentaria | X3: Comercio | Y3: Educacion | Z3: Comunicación | AA3: Tecnologia e Innovacion | AB3: Cultura y Arte | AC3: Deporte | AD3: Autoempleo | AE3: 2 o mas | AF3: FIJO | AG3: MOVIL | AH3: EN CASA | AI3: EN LA CALLE | AJ3: ESPACIO PUBLICO | AK3: SI | AL3: NO | AV3: SI | AW3: NO | AX3: SI | AY3: NO | AZ3: SI | BA3: NO | BB3: SI | BC3: NO | BE3: SI | BF3: NO | BG3: SI | BH3: NO | BI3: SI | BJ3: NO
A4: 1 | B4: YASIRA CASTILLO MARIMON | C4: 45360067 | D4: 1 | F4: BARRIO LA CEREZA CLL PRINCIPAL | G4: BARRIO LA CEREZA CLL PRINCIPAL | H4: NO TIENE | I4: VENTA DE FRITOS | J4: 3117128818 - 3001304974 | N4: 1 | P4: 1 | Q4: TRABAJA EN EL MERCADO | T4: 1 | W4: 1 | AE4: 1 | AF4: 1 | AI4: 1 | AL4: 1 | AM4: 15450000 | AN4: 10500000 | AO4: 4950000 | AP4: TIENDA MEDELLIN | AQ4: ELABORACION DEL PRODUCTO | AR4: MOLINO, GAS, ESTUFA, VITRINA. | AS4: TRANSEUNTES Y VECINOS ALEDAÑOS AL PUESTO DE VENTA. | AT4: EL BUEN SABOR DE LOS PRODUCTOS | AU4: NO | AW4: 1 | AX4: 1 | AZ4: 1 | BB4: 1 | BD4: CRESCAMOS | BF4: 1 | BH4: 1 | BJ4: 1
A5: 2 | B5: ANA MARCELA REBOLLEDO ARROYO | C5: 1048605617 | D5: 1 | F5: BARRIO LA CEREZA CLL PRINCIPAL | G5: BARRIO LA CEREZA CLL PRINCIPAL | H5: EL NIÑO SANTIAGO | I5: VENTA DE FRITOS | J5: 3003995651 | K5: 1 | O5: 1 | T5: 1 | W5: 1 | AD5: 1 | AF5: 1 | AJ5: 1 | AL5: 1 | AM5: 5379500 | AN5: 2400000 | AO5: 2979500 | AP5: TIENDA MEDELLIN | AQ5: ELABORACION DEL PRODUCTO | AR5: VITRINA, SILLAS, UTENCILIOS DE COCINA. | AS5: TRANSEUNTES Y COMUNIDAD DE SANTA ROSA. | AT5: PROMOCIONES Y DESCUENTOS | AU5: NO | AW5: 1 | AX5: 1 | BA5: 1 | BC5: 1 | BF5: 1 | BH5: 1 | BI5: 1
A6: 3 | B6: YAMIL ENRIQUE PINTO VALIENTE | C6: 9185707 | E6: 1 | F6: BARRIO EL TREBOL | G6: BARRIO LA CEREZA CLL PRINCIPAL | H6: SAN MIGUEL ARCANGEL | I6: VENTA Y PRODUCCION DE BUTIFARRAS | J6: 3224924374 | N6: 1 | O6: 1 | T6: 1 | W6: 1 | AD6: 1 | AF6: 1 | AJ6: 1 | AL6: 1 | AM6: 8550000 | AN6: 5400000 | AO6: 3150000 | AP6: MERCADO DE BAZURTO | AQ6: COMPRA Y PRODUCE PARA VENDER | AR6: VITRINA, MESA, CARRETILLA. | AS6: TRANSEUNTES HOMBRES Y MUJERES. | AT6: NINGUNA | AU6: NO | AW6: 1 | AX6: 1 | BA6: 1 | BC6: 1 | BE6: 1 | BG6: 1 | BI6: 1
A7: 4 | B7: ERIKA ORTIZ DE HORTA | C7: 45360290 | D7: 1 | F7: BARRIO LA CEREZA | G7: PLAZA PRINCIPAL | H7: EL PUNTO DEL PATACON | I7: VENTA DE FRITOS | J7: 3006791986 | N7: 1 | O7: 1 | T7: 1 | W7: 1 | AE7: 1 | AF7: 1 | AJ7: 1 | AL7: 1 | AM7: 8500000 | AN7: 4000000 | AO7: 4500000 | AP7: ABASTOS EL MERCADITO Y EL CHULETAZO | AQ7: ELABORACION DEL PRODUCTO | AR7: VITRINA, ANAFE, 2 MESA DE MADERA, NEVERA PORTATIL. | AS7: COMUNIDAD DE SANTA ROSA | AT7: NINGUNA | AU7: NO | AV7: 1 | BA7: 1 | BC7: 1 | BF7: 1 | BH7: 1 | BJ7: 1
A8: 5 | B8: LUIS FERNANDO PEREZ LLERENA | C8: 1044924031 | E8: 1 | F8: CAÑO VERDE (POR LA EMBOCADA) | G8: BARRIO EL REDENTOR | H8: MESELUX | I8: VENTA DE MESEDORAS Y MESAS | J8: 3128119534 | M8: 1 | O8: 1 | T8: 1 | X8: 1 | AE8: 1 | AF8: 1 | AH8: 1 | AK8: 1 | AM8: 3570000 | AN8: 1561500 | AO8: 2008500 | AP8: INVERSIONES JR | AQ8: FABRICA PARA VENDER | AR8: MAQUINA DE SOLDAR, PULIDORA E INSUMOS | AS8: COMUNIDAD DE SANTA ROSA Y SECTORES ALEDAÑOS. | AT8: PUBLICIDAD EN REDES SOCIALES | AU8: SI | AW8: 1 | AX8: 1 | BA8: 1 | BC8: 1 | BE8: 1 | BG8: 1 | BI8: 1
A9: 6 | B9: MARCIAL MERCADO RIOS | C9: 73533844 | E9: 1 | F9: BARRIO EL PARAISO | G9: BARRIO EL PARAISO | H9: VIVERES MIS NIETOS | I9: VENTA DE TUBERCULOS Y FRUTAS | J9: 3016527909 | M9: 1 | O9: 1 | U9: 1 | W9: 1 | AD9: 1 | AG9: 1 | AI9: 1 | AL9: 1 | AM9: 4,752.000 | AN9: 1200000 | AO9: 3552000 | AP9: MERCADO DE BAZURTO Y FINCAS DEL PUEBLO. | AQ9: COMPRA PARA VENDER | AR9: CARRETILLA Y PESO | AS9: VECINOS Y TRANSEUNTES. | AT9: ACOMODAR LOS PRECIOS AL CLIENTE AL COMERCIAR LOS PRODUCTOS. | AU9: NO | AW9: 1 | AY9: 1 | BA9: 1 | BC9: 1 | BF9: 1 | BG9: 1 | BI9: 1
A10: 7 | B10: HEIDER ENRIQUE PEREZ GUTIERREZ | C10: 128052563 | E10: 1 | F10: BARRIO LAS MALVINAS | G10: BARRIO LA CEREZA CLL PRINCIPAL | H10: AREPAS LOS HERMANOS PEREZ | I10: VENTA DE AREPAS RELLENAS | J10: 3233551943 | L10: 1 | O10: 1 | T10: 1 | W10: 1 | AE10: 1 | AF10: 1 | AJ10: 1 | AL10: 1 | AM10: 9792000 | AN10: 1800000 | AO10: 7992000 | AP10: SALSAMENTARIA SANTA ROSA Y MERCADO DE BAZURTO. | AQ10: COMPRA Y PRODUCE PARA VENDER | AR10: ASADOR, PLANCHA PARA ASAR, MESA PLASTICA, BANQUILLOS, SILLAS Y PARAGUAS. | AS10: COMUNIDAD DE SANTA ROSA Y TRANSEUNTES. | AT10: BUENA ATENCION Y EL BUEN SABOR DE LOS PRODUCTOS. | AU10: NO | AW10: 1 | AX10: 1 | BA10: 1 | BC10: 1 | BE10: 1 | BG10: 1 | BI10: 1
A11: 8 | B11: AIDA ROSA SEQUAREZ SALCEDO | C11: 45586475 | D11: 1 | F11: BARRIO LA CEREZA CLL PRINCIPAL | G11: BARRIO LA CEREZA CLL PRINCIPAL | H11: LOS FRITOS DE RUCHI | I11: VENTA DE FRITOS | J11: 3135003103 | N11: 1 | O11: 1 | T11: 1 | W11: 1 | AE11: 1 | AF11: 1 | AH11: 1 | AL11: 1 | AM11: 6900000 | AN11: 4500000 | AO11: 2400000 | AP11: TIENDA MEDELLIN | AQ11: ELABORA LOS PRODUCTOS | AR11: VITRINA, ESTUFA Y UTENCILIOS DE COCINA | AS11: TRANSEUNTES | AT11: INICIAR LA VENTA A TEMPRANAS HORAS. | AU11: NO | AW11: 1 | AX11: 1 | BA11: 1 | BC11: 1 | BF11: 1 | BH11: 1 | BJ11: 1
A12: 9 | B12: BERNARDO VIVANCO VIVANCO | C12: 73539432 | E12: 1 | F12: BARRIO LA CEREZA | G12: BARRIO LA CEREZA CLL PRINCIPAL | H12: FRUTERA EL BERNA | I12: VENTA DE FRUTAS | J12: 3135760886 | N12: 1 | O12: 1 | U12: 1 | W12: 1 | AE12: 1 | AG12: 1 | AJ12: 1 | AK12: 1 | AM12: 14784000 | AN12: 6000000 | AO12: 8784000 | AP12: MERCADO DE BAZURTO | AQ12: COMPRA PARA VENDER | AR12: CARRETILLA, PESO, CANASTILLA, PARAGUAS. | AS12: SANTA ROSA Y PUEBLOS ALEDAÑOS. | AT12: BUEN TRATO | AU12: NO | AW12: 1 | AX12: 1 | BA12: 1 | BC12: 1 | BE12: 1 | BG12: 1 | BI12: 1
A13: 10 | B13: SABINA LUNA MARTINEZ | C13: 23144823 | D13: 1 | F13: BARRIO CALLE NUEVA | G13: BARRIO LA CEREZA CLL PRINCIPAL | H13: FRITOS SABINA | I13: VENTA DE FRITOS | J13: 3161394195 | N13: 1 | O13: 1 | T13: 1 | W13: 1 | AE13: 1 | AF13: 1 | AJ13: 1 | AK13: 1 | AM13: 4400000 | AN13: 2000000 | AO13: 2400000 | AP13: ABASTOS MEDELLIN | AQ13: ELABORA LOS PRODUCTOS | AR13: ESTUFA, VITRINA, MESA DE MADERA, SILLAS PLASTICAS, CABA DE PLASTICO. | AS13: TRANSEUNTES | AT13: BUENA ATENCION Y LA VARIEDAD DE SALSAS. | AU13: NO | AV13: 1 | BA13: 1 | BC13: 1 | BE13: 1 | BG13: 1 | BI13: 1
A14: 11 | B14: VERONICA DE LAS AGUAS VIVANCO | C14: 45361260 | D14: 1 | F14: BARRIO EL SAGRADO | G14: BARRIO EL SAGRADO | H14: CONTRA ASEO | I14: FABRICACION Y VENTA DE TRAPEROS, ASEO Y MAS. | J14: 3046476449 | N14: 1 | P14: 1 | Q14: TRABAJA EN UNA VARIEDAD | T14: 1 | X14: 1 | AE14: 1 | AF14: 1 | AH14: 1 | AK14: 1 | AM14: 11288000 | AN14: 4000000 | AO14: 7288000 | AP14: MERCADO DE BAZURTO | AQ14: ELABORA LOS PRODUCTOS | AR14: BASE DE MADERA | AS14: FERRETERIA DE SANTA ROSA Y ABASTOS MEDELLIN | AT14: REALIZAR PREVENTAS EN TIENDAS | AU14: SI | AW14: 1 | AX14: 1 | BA14: 1 | BC14: 1 | BE14: 1 | BG14: 1 | BI14: 1
A15: 12 | B15: WILFRIDO GOMEZ GUERRERO | C15: 73099894 | E15: 1 | F15: BARRIO NUEVO PARAISO | G15: BARRIO LA CEREZA CLL PRINCIPAL | H15: CARNICERIA LA GRAN VIA | I15: VENTA DE CARNES | J15: 3127110808 | N15: 1 | O15: 1 | U15: 1 | W15: 1 | AE15: 1 | AF15: 1 | AJ15: 1 | AK15: 1 | AM15: 46500000 | AN15: 27000000 | AO15: 19500000 | AP15: MATADERO DE SANTA ROSA Y MERCADO DE BAZURTO. | AQ15: COMPRA PARA VENDER | AR15: PESO | AS15: VECINOS Y COMUNIDAD DE SANTA ROSA | AT15: ABRIR EL NEGOCIO A PRIMERAS HORAS | AU15: NO | AW15: 1 | AY15: 1 | AZ15: 1 | BB15: 1 | BD15: MUNDO MUJER | BE15: 1 | BG15: 1 | BI15: 1
A16: 13 | B16: YOBERLIS COROMOTO ESPINOSA AGUEY | C16: 5952006 (PERMISO DE PERMANENCIA) | D16: 1 | F16: BARRIO LOS CIRUELOS | G16: BARRIO LA CEREZA CLL PRINCIPAL | H16: SALSA SUBLIME CHUZOS DEFINIDOS | I16: VENTA DE CHUZOS | J16: 3233758859 | M16: 1 | O16: 1 | T16: 1 | W16: 1 | AD16: 1 | AF16: 1 | AJ16: 1 | AL16: 1 | AM16: 3472000 | AN16: 1000000 | AO16: 2472000 | AP16: SALSAMENTARIA SANTA ROSA Y ABASTOS ABC. | AQ16: COMPRA PARA VENDER | AR16: ASADOR, MESA DE MADERA, CASTAS, PARAGUAS, CABA DE ICOPOR | AS16: COMUNIDAD DE SANTA ROSA Y TRANSEUNTES. | AT16: BUEN TRATO | AU16: SI | AV16: 1 | BA16: 1 | BC16: 1 | BE16: 1 | BH16: 1 | BJ16: 1
A17: 14 | B17: YOLIMA SILVA SOLANO | C17: 45361016 | E17: 1 | F17: BARRIO EL PORVENIR | G17: BARRIO EL PROVENIR | H17: FRITOS YOLI | I17: VENTA DE FRITOS | J17: 3136981910 | M17: 1 | P17: 1 | Q17: VENTA DE ALMUERZOS | T17: 1 | W17: 1 | AE17: 1 | AG17: 1 | AI17: 1 | AK17: 1 | AM17: 2700000 | AN17: 1400000 | AO17: 1300000 | AP17: GRANERO DONDE FABIO | AQ17: PRODUCE PARA VENDER | AR17: UTENCILIOS DE COCINA Y OLLA PARA VENDER. | AS17: COMUNIDAD DE SANTA ROSA | AT17: BUEN TRATO | AU17: NO | AW17: 1 | AY17: 1 | BA17: 1 | BC17: 1 | BE17: 1 | BH17: 1 | BJ17: 1
A18: 15 | B18: MINELVA MARIA ARRIETA POMBO | C18: 45360896 | D18: 1 | F18: BARRIO LA UNION | G18: BARRIO LA UNION | H18: FRITOS MINE | I18: VENTA DE FRITOS | J18: 3145121552 | N18: 1 | O18: 1 | T18: 1 | W18: 1 | AE18: 1 | AF18: 1 | AI18: 1 | AK18: 1 | AM18: 12400000 | AN18: 2000000 | AO18: 10400000 | AP18: MERCADO DE BAZURTO Y SALSAMENTARIA DE SANTA ROSA. | AQ18: PRODUCE PARA VENDER | AR18: UTENCILIOS DE COCINA. | AS18: VECINOS E INSTITUCIONES EDUCATIVAS DEL MUNICIPIO. | AT18: BUEN SABOR | AU18: NO | AW18: 1 | AX18: 1 | BA18: 1 | BC18: 1 | BE18: 1 | BG18: 1 | BI18: 1
A19: 16 | B19: MARIA PAULINA GAMARRA MERCADO | C19: 45586757 | D19: 1 | F19: BARRIO 15 DE AGOSTO | G19: CALLES DE SANTA ROSA | H19: FRITOS DIOS PROVEERA | I19: VENTA DE PETO | J19: 3127461472 | M19: 1 | O19: 1 | T19: 1 | W19: 1 | AE19: 1 | AG19: 1 | AI19: 1 | AL19: 1 | AM19: 1920000 | AN19: 600000 | AO19: 1320000 | AP19: GRANERO DONDE FABIO | AQ19: FABRICA PARA VENDER | AR19: OLLA GRANDE Y UTENCILIOS DE COCINA | AS19: VECINOS Y COMUNIDAD DE SANTA ROSA | AT19: CALIDAD DEL PRODUCTO | AU19: NO | AW19: 1 | AY19: 1 | BA19: 1 | BC19: 1 | BF19: 1 | BH19: 1 | BJ19: 1
A20: 17 | B20: ALVARO BLANCO SIERRA | C20: 9186279 | E20: 1 | F20: BARRIO EL TREBOL | G20: CALLES DE SANTA ROSA | H20: VENTA EL YUQUERO | I20: VENTA DE TUBERCULOS Y FRUTAS | J20: 3122487673 | L20: 1 | O20: 1 | U20: 1 | X20: 1 | AD20: 1 | AG20: 1 | AI20: 1 | AK20: 1 | AM20: 14468000 | AN20: 7200000 | AO20: 7268000 | AP20: FINCAS DEL MUNICIPIO | AQ20: COMPRA PARA VENDER | AR20: CARRETILLA | AS20: COMUNIDAD DE SANTA ROSA | AT20: BUEN TRATO Y COMUNICACIÓN CON EL CLIENTE | AU20: NO | AW20: 1 | AY20: 1 | BA20: 1 | BC20: 1 | BF20: 1 | BH20: 1 | BJ20: 1
A21: 18 | B21: NORENA MARGARITA VILLA MUÑOZ | C21: 22570009 | D21: 1 | F21: BARRIO EL FONDO | G21: BARRIO LA CEREZA CLL PRINCIPAL | H21: BUÑUELOS MI DELEITE | I21: VENTA DE BUÑUELOS, AREPAS Y JUGOS. | J21: 3053243405 | K21: 1 | O21: 1 | T21: 1 | W21: 1 | AE21: 1 | AF21: 1 | AH21: 1 | AK21: 1 | AM21: 6798000 | AN21: 1980000 | AO21: 4817600 | AP21: SALSAMENTARIA SANTA ROSA Y TIENDAS ARA | AQ21: PRODUCE PARA VENDER | AR21: VITRINA E INSUMOS | AS21: COMUNIDAD DE SANTA ROSA | AT21: MUESTRAS DE PRUEBA | AU21: SOLAMENTE WHATSAPP | AW21: 1 | AY21: 1 | BA21: 1 | BC21: 1 | BF21: 1 | BG21: 1 | BI21: 1
A22: 19 | B22: NAYELIS MERCADO ORTIZ | C22: 1002257710 | D22: 1 | F22: BARRIO EL PARAISO | G22: BARRIO EL PARAISO | H22: COMIDAS RAPIDAS HERMANOS MARTINEZ | I22: VENTA DE COMIDAS RAPIDAS | K22: 1 | O22: 1 | T22: 1 | W22: 1 | AE22: 1 | AF22: 1 | AH22: 1 | AK22: 1 | AM22: 4117500 | AN22: 1800000 | AO22: 2317500 | AP22: SALSAMENTARIA SANTA ROSA | AQ22: PRODUCE PARA VENDER | AR22: CARRO DE PERRO E UTENCILIOS DE COCINA | AS22: COMUNIDAD DE SANTA ROSA | AT22: CALIDAD DEL PRODUCTO | AU22: SI | AW22: 1 | AX22: 1 | AZ22: 1 | BC22: 1 | BD22: MUNDO MUJER | BE22: 1 | BG22: 1 | BI22: 1
A23: 20 | B23: YOLIDIS MERCADO PINTO | C23: 45586326 | D23: 1 | F23: BARRIO 30 DE AGOSTO SEC EL SILENCIO | G23: BARRIO 30 DE AGOSTO SEC EL SILENCIO | H23: EL BUEN SABOR DE YOLI | I23: VENTA DE PASTELES | J23: 3216959571 | L23: 1 | O23: 1 | T23: 1 | W23: 1 | AE23: 1 | AF23: 1 | AI23: 1 | AL23: 1 | AM23: 2400000 | AN23: 1000000 | AO23: 1400000 | AP23: EL CHULETAZO | AQ23: PRODUCE LO QUE VENDE | AR23: UTENCILIOS DE COCINA | AS23: COMUNIDAD DE SANTA ROSA | AT23: EL BUEN SABOR DE LOS PRODUCTOS | AU23: NO | AW23: 1 | AY23: 1 | BA23: 1 | BC23: 1 | BF23: 1 | BH23: 1 | BJ23: 1
A24: 21 | B24: KAREN MARGARITA BELLO DE LAS AGUAS | C24: 45361072 | D24: 1 | F24: BARRIO LAS GAVIOTAS | G24: PLAZA PRINCIPAL Y COLEGIOS | H24: MANGOS LA FE EN CRISTO | I24: VENTA DE MANGOS VERDES | J24: 3152245343 | N24: 1 | O24: 1 | T24: 1 | W24: 1 | AE24: 1 | AG24: 1 | AI24: 1 | AK24: 1 | AM24: 2850000 | AN24: 1500000 | AO24: 1350000 | AP24: SALSAMENTARIA SANTA ROSA Y MERCADO DE BAZURTO. | AQ24: COMPRA PARA VENDER | AR24: CARRETA | AS24: COMUNIDAD DE SANTA ROSA | AT24: BUENA ATENCION | AU24: NO | AW24: 1 | AY24: 1 | BA24: 1 | BC24: 1 | BF24: 1 | BH24: 1 | BJ24: 1
A25: 22 | B25: EVARISTO BOLAÑO DE AVILA | C25: 73539334 | E25: 1 | F25: BARRIO EL FONDO | G25: CALLES DE SANTA ROSA | I25: VENTA DE LECHE, SUERO Y QUESO | J25: 3145538083 | N25: 1 | O25: 1 | T25: 1 | W25: 1 | AE25: 1 | AG25: 1 | AI25: 1 | AK25: 1 | AM25: 31980000 | AN25: 2480000 | AO25: 2950000 | AP25: CAMPESINOS DEL MUNICIPIO | AQ25: PRODUCE PARA VENDER | AR25: CARRETA Y CONTENEDORES | AS25: COMUNIDAD DE SANTA ROSA | AT25: BUEN SABOR | AU25: NO | AW25: 1 | AY25: 1 | BA25: 1 | BC25: 1 | BF25: 1 | BH25: 1 | BJ25: 1
A26: 23 | B26: ANGEL VIVANCO VIVANCO | C26: 73539324 | E26: 1 | F26: BARRIO LA CEREZA | G26: PLAZA PRINCIPAL | H26: LA NOCTURNA | I26: VENTA DE FRUTAS (MANGOS) | J26: 3245014942 | N26: 1 | O26: 1 | U26: 1 | W26: 1 | AD26: 1 | AG26: 1 | AJ26: 1 | AK26: 1 | AM26: 3000000 | AN26: 800000 | AO26: 2200000 | AP26: CAMPESINOS DEL MUNICIPIO Y MERCADO DE BAZURTO | AQ26: COMPRA Y VENDE | AR26: CARRETA, CUCHILLOS Y TASAS | AS26: VISITANTES DEL MUNICIPIO Y COMUNIDAD EN GENERAL | AT26: VALOR AGREGADO Y LA ÑAPA | AU26: NO | AW26: 1 | AX26: 1 | BA26: 1 | BC26: 1 | BF26: 1 | BG26: 1 | BI26: 1
A27: 24 | B27: ANTONIO ARIEL AREVALO MARRUGO | C27: 73539168 | E27: 1 | F27: BERRIO SAN JOSE | G27: AVENIDA PRINCIPAL | H27: LA BENDICION DE DIOS "DONDE EL PUPILA" | I27: VENTA DE VERDURAS Y HORTALIZAS | J27: 3217286024 | N27: 1 | O27: 1 | U27: 1 | W27: 1 | AD27: 1 | AF27: 1 | AJ27: 1 | AK27: 1 | AM27: 4500000 | AN27: 100000 | AO27: 4400000 | AP27: CAMPESINOS DEL MUNICIPIO Y MERCADO DE BAZURTO | AQ27: COMPRA PARA VENDER | AR27: PESO, CUCHILLO Y MESA | AS27: CONDUCTORES DE VEHICULOS | AT27: BUENA ATENCION | AU27: SI, WHATSAPP | AW27: 1 | AX27: 1 | BA27: 1 | BC27: 1 | BF27: 1 | BH27: 1 | BJ27: 1
A28: 25 | B28: MERIS DE ARCO GRANDETT | C28: 22789993 | D28: 1 | F28: BARRIO LA UNION | G28: BARRIO LA UNION | H28: VARIEDADES LA MONA | I28: VENTA DE PRODUCTOS Y ACCESORIOS | J28: 3008361591 | M28: 1 | O28: 1 | U28: 1 | X28: 1 | AD28: 1 | AF28: 1 | AJ28: 1 | AK28: 1 | AM28: 560000 | AN28: 135000 | AO28: 425000 | AP28: MERCADO DE BAZURTO | AQ28: COMPRA PARA VENDER | AR28: ROPERO PEQUEÑO | AS28: HABITANTES DEL SECTOR, MUJERES DE 15 AÑOS EN ADELANTE Y MOTOTAXI | AT28: PROMOCIONES Y DESCUENTOS | AU28: PROMOCIONES | AW28: 1 | AY28: 1 | BA28: 1 | BC28: 1 | BF28: 1 | BH28: 1 | BJ28: 1
A29: 26 | B29: FREDYS ALVAREZ FUENTES | C29: 3980057 | E29: 1 | F29: BARRIO LAS MALVINAS | G29: BARRIO EL LIMONAR | I29: GALLINAS PONEDORAS | K29: 1 | P29: 1 | U29: 1 | W29: 1 | AD29: 1 | AF29: 1 | AH29: 1 | AL29: 1 | AM29: 0 | AN29: 0 | AO29: 0 | AP29: POLLERAS DEL PAIS | AQ29: COMPRA Y VENTA | AR29: ALPON, COMEDEROS Y BEBEDEROS | AS29: NINGUNA | AT29: NINGUNA | AU29: NINGUNA | AW29: 1 | AY29: 1 | BA29: 1 | BC29: 1 | BE29: 1 | BH29: 1 | BJ29: 1
A30: 27 | B30: JOSE ALFONSO TUÑON JULIO | C30: 9239393 | E30: 1 | F30: BARRIO LA CEREZA | G30: AVENIDA PRINCIPAL | H30: CARNICERIA J.T | I30: VENTA DE CARNE | N30: 1 | O30: 1 | U30: 1 | W30: 1 | AE30: 1 | AF30: 1 | AH30: 1 | AK30: 1 | AM30: 54000000 | AN30: 6885000 | AO30: 47115000 | AP30: MATADERO DE SANTA ROSA | AQ30: COMPRA Y VENDE | AR30: MESA DE TRABAJO, PESO Y CUCHILLO. | AS30: AMAS DE CASA Y TIENDAS LOCALES. | AT30: NINGUNA | AU30: NINGUNA | AW30: 1 | AY30: 1 | BA30: 1 | BC30: 1 | BF30: 1 | BH30: 1 | BJ30: 1
A31: 28 | B31: ALBA ROSA GUERRERO CARRILLO | C31: 23144903 | D31: 1 | F31: BARRIO 15 DE AGOSTO | G31: BARRIO EL PARAISO | H31: DOÑA ALBA | I31: VENTA DE FRUTAS Y HORTALIZAS | J31: 3126058096 - 3014168110 | K31: 1 | O31: 1 | U31: 1 | W31: 1 | AE31: 1 | AF31: 1 | AJ31: 1 | AK31: 1 | AM31: 26000000 | AN31: 2080000 | AO31: 23920000 | AP31: MERCADO DE BAZURTO | AQ31: COMPRA PARA VENDER | AR31: CANASTILLAS | AS31: TIENDAS LOCALES Y VENDEDORES AMBULANTES | AT31: PROMOCIONES | AU31: SI, FACEBOOK | AW31: 1 | AY31: 1 | BA31: 1 | BC31: 1 | BE31: 1 | BG31: 1 | BI31: 1
A32: 29 | B32: SUSANA CAROLINA CARDENAS JIMENEZ | C32: 1048607246 | E32: 1 | F32: BARRIO LAS MALVINAS | G32: PLAZA PRINCIPAL | H32: LA PLACITA DE SUSANA | I32: VENTA DE ASADOS Y CHORIZOS | J32: 3117918102 | K32: 1 | O32: 1 | T32: 1 | W32: 1 | AE32: 1 | AF32: 1 | AJ32: 1 | AK32: 1 | AM32: 4000000 | AN32: 640000 | AO32: 3360000 | AP32: MERCADO DE BAZURTO | AQ32: ELABORA EL PRODUCTO | AR32: ASADOR, CARBON Y UTENCILIOS DE COCINA | AS32: VISITANTES DEL MUNICIPIO Y COMUNIDAD EN GENERAL | AT32: USO DE REDES SOCIALES Y EL VOZ A VOZ | AU32: SI, FACEBOOK Y WHATSAPP | AW32: 1 | AY32: 1 | BA32: 1 | BC32: 1 | BE32: 1 | BH32: 1 | BJ32: 1
A33: 30 | B33: RICARDO GONZALES ORTIZ | C33: 73534503 | E33: 1 | F33: BARRIO EL TAMARINDO | G33: PLAZA PRINCIPAL | H33: DONDE EL PAPA ABUELO | I33: VENTA DE FRITOS | J33: 3105123665 | N33: 1 | O33: 1 | T33: 1 | W33: 1 | AE33: 1 | AF33: 1 | AJ33: 1 | AK33: 1 | AM33: 8400000 | AN33: 1680000 | AO33: 6720000 | AP33: MERCADO DE BAZURTO | AQ33: ELABORA EL PRODUCTO | AR33: VITRINA Y ESTUFA INDUSTRIAL | AS33: VISITANTES DEL MUNICIPIO | AT33: BUENA ATENCION | AU33: NO | AW33: 1 | AX33: 1 | AZ33: 1 | BB33: 1 | BD33: BANCO AGRARIO | BE33: 1 | BG33: 1 | BI33: 1
A34: 31 | B34: MIRLEIDYS QUINTANA REBOLLEDO | C34: 1048608672 | D34: 1 | F34: BARRIO EL PARAISO | G34: BARRIO EL PARAISO | H34: QUE COSA BACANA | I34: VENTA DE FRITOS | J34: 3244769308 | M34: 1 | O34: 1 | T34: 1 | W34: 1 | AE34: 1 | AF34: 1 | AH34: 1 | AK34: 1 | AM34: 9600000 | AN34: 4500000 | AO34: 5100000 | AP34: SALSAMENTARIA Y ABASTOS SANTA ROSA | AQ34: ELABORA EL PRODUCTO | AR34: UTENCILIOS DE COCINA, LICUADORA Y ESTUFA | AS34: PERSONAS QUE TRANSITAN POR LA ZONA | AT34: DESCUENTOS Y REPECHAJE | AU34: NO | AW34: 1 | AX34: 1 | BA34: 1 | BB34: 1 | BD34: ACTUAR POR BOLIVAR Y BANCO AGRARIO. | BF34: 1 | BG34: 1 | BI34: 1
A35: 32 | B35: INES DE ARLEN VASQUEZ MENDOZA | C35: 23144834 | D35: 1 | F35: AVENIDA PRINCIPAL | G35: AVENIDA PRINCIPAL | H35: LOS VASQUEZ | I35: VENTA DE ALMUERZOS | J35: 3108645116 | N35: 1 | O35: 1 | T35: 1 | W35: 1 | AE35: 1 | AF35: 1 | AH35: 1 | AL35: 1 | AM35: 10400000 | AN35: 1350000 | AO35: 9050000 | AP35: TIENDAS LOCALES | AQ35: ELABORA EL PRODUCTO | AR35: ESTUFA Y UTENCILIOS DE COCINA | AS35: TRABAJADORES DE LA ZONA (CONDOMINIOS) | AT35: PUBLICIDAD Y BUENA ATENCION. | AU35: SI, FACEBOOK | AW35: 1 | AX35: 1 | AZ35: 1 | BB35: 1 | BD35: FUNDACION DE LA MUJER | BF35: 1 | BG35: 1 | BI35: 1
A36: 33 | B36: ANGELICA MEDRANO CABARCAS | C36: 64581940 | D36: 1 | F36: BARRIO LA CEREZA | G36: PLAZA PRINCIPAL | H36: EMPANADAS DONDE EL TIO | I36: VENTA DE FRITOS | M36: 1 | O36: 1 | T36: 1 | W36: 1 | AE36: 1 | AF36: 1 | AH36: 1 | AK36: 1 | AM36: 18000000 | AN36: 1750000 | AO36: 16250000 | AP36: TIENDAS LOCALES | AQ36: ELABORA EL PRODUCTO | AR36: ESTUFA Y UTENCILIOS DE COCINA | AS36: COMUNIDAD EN GENERAL | AT36: BUENA CALIDAD | AU36: NO | AW36: 1 | AX36: 1 | BA36: 1 | BC36: 1 | BF36: 1 | BH36: 1 | BI36: 1
A37: 34 | B37: BEATRIZ JUNCO URUCHURCO | C37: 45455963 | D37: 1 | F37: BARRIO EL PARAISO | G37: PLAZA PRINCIPAL | H37: LA BENDICION DE DIOS | I37: VENTA DE AREPAS RELLENAS | J37: 3158499453 | L37: 1 | O37: 1 | T37: 1 | W37: 1 | AD37: 1 | AF37: 1 | AJ37: 1 | AL37: 1 | AM37: 3000000 | AN37: 900000 | AO37: 2100000 | AP37: SALSAMENTARIA SANTA ROSA | AQ37: ELABORA EL PRODUCTO | AR37: UTENCILIOS DE COCINA Y ASADOR | AS37: JOVENES ENTRE 16 Y 25 AÑOS | AT37: NINGUNA | AU37: NO | AW37: 1 | AX37: 1 | BA37: 1 | BC37: 1 | BF37: 1 | BG37: 1 | BI37: 1
A38: 35 | B38: KENDRIS PAOLA BOLAÑO DE AVILA | C38: 1048600825 | D38: 1 | F38: AVENIDA PRINCIPAL | G38: AVENIDA PRINCIPAL | H38: CHULETAZO SALVAJE | I38: VENTA DE ASADOS Y CHORIZOS | J38: 3044319676 | L38: 1 | O38: 1 | T38: 1 | W38: 1 | AE38: 1 | AF38: 1 | AI38: 1 | AK38: 1 | AM38: 2000000 | AN38: 98000 | AO38: 1902000 | AP38: FREMAR Y LONCITY EN CARTAGENA | AQ38: ELABORA EL PRODUCTO | AR38: ASADOR, UTENCILIOS DE COCINA Y VITRINA. | AS38: CONDOMINIOS, VECIONOS DEL LIMONAR Y TRANSEUNTES. | AT38: PROMOCIONES | AU38: SI, FACEBOOK Y WHATSAPP | AW38: 1 | AX38: 1 | BA38: 1 | BC38: 1 | BE38: 1 | BG38: 1 | BI38: 1
A39: 36 | B39: LEONCIO ASMET CUSTODE GUARDO | C39: 73540060 | E39: 1 | F39: BARRIO EL TROMPO | H39: PRODUCCIONES ASMET CAMARA | I39: CREADOR DE CONTENIDO | J39: 3007210173 | N39: 1 | O39: 1 | V39: 1 | AA39: 1 | AD39: 1 | AF39: 1 | AH39: 1 | AK39: 1 | AM39: 3000000 | AN39: 800000 | AO39: 2200000 | AP39: VARIEDADES LOCALES | AR39: CAMARA FOTOGRAFICA, CAMARA DE VIDEO Y PARALES. | AS39: ALCALDIAS Y EMPRESARIOS TAURINOS. | AT39: CALIDAD UTILIZANDO EQUIPOS PROFESIONALES. | AU39: SI, FACEBOOK | AV39: 1 | BA39: 1 | BC39: 1 | BE39: 1 | BH39: 1 | BJ39: 1
A40: 37 | B40: OSCAR LUIS MARRUGO BONFANTE | C40: 73539087 | E40: 1 | F40: BARRIO CEIBA 1 | G40: BARRIO CEIBA 1 | H40: OSCAR MARRUGO LA REVISTA | I40: CREADOR DE CONTENIDO | J40: 3136119951 | N40: 1 | P40: 1 | V40: 1 | AA40: 1 | AD40: 1 | AF40: 1 | AH40: 1 | AL40: 1 | AM40: 0 | AN40: 0 | AO40: 0 | AP40: NO | AQ40: NINGUNA | AR40: COMPUTADOR Y CELULAR | AS40: COMUNIDAD EN GENERAL | AT40: NO DEJAR DE PUBLICAR | AU40: SI, FACEBOOK | AW40: 1 | AX40: 1 | BA40: 1 | BC40: 1 | BF40: 1 | BH40: 1 | BJ40: 1
...

Sheet Tabla Empresarial 
A1: CARACTERIZACIÓN O DIAGNOSTICO DE LA ACTIVIDAD EMPRESARIAL PARA EMPRENDEDORES
A3: CONCEPTO | B3: CRITERIO | C3: CANTIDAD | D3: PORCENTAJE
A4: GENERO | B4: FEMENINO | C4: =+'1. Diag Empresarial '!D114 -> 59 | D4: =+C4/C6 -> 0.56190476
B5: MASCULINO | C5: =+'1. Diag Empresarial '!E114 -> 46 | D5: =+C5/C6 -> 0.43809524
B6: SUB TOTAL | C6: =SUM(C4:C5) -> 105 | D6: =SUM(D4:D5) -> 1
A7: ¿Hace cuánto tiempo se dedica a esta actividad comercial? | B7: 0 a 6 meses | C7: =+'1. Diag Empresarial '!K114 -> 9 | D7: =+C7/C11 -> 0.08490566
B8: 1 a 2 años | C8: =+'1. Diag Empresarial '!L114 -> 12 | D8: =+C8/C11 -> 0.11320755
B9: 2 a 5 años | C9: =+'1. Diag Empresarial '!M114 -> 25 | D9: =+C9/C11 -> 0.23584906
B10: mas de 5 años | C10: =+'1. Diag Empresarial '!N114 -> 60 | D10: =+C10/C11 -> 0.56603774
B11: SUB TOTAL | C11: =SUM(C7:C10) -> 106 | D11: =SUM(D7:D10) -> 1
A12: ¿Este negocio es su única fuente de ingresos? | B12: =+'1. Diag Empresarial '!O3 -> SI | C12: =+'1. Diag Empresarial '!O114 -> 95 | D12: =+C12/C15 -> 0.9223301
B13: =+'1. Diag Empresarial '!P3 -> NO | C13: =+'1. Diag Empresarial '!P114 -> 8 | D13: =+C13/C15 -> 0.077669903
B14: =+'1. Diag Empresarial '!Q3 -> OTRO CUAL | C14: =+'1. Diag Empresarial '!Q114 -> 0 | D14: =+C14/C15 -> 0
B15: SUB TOTAL | C15: =SUM(C12:C14) -> 103 | D15: =SUM(D12:D14) -> 1
A16: SECTOR ECONOMICO | B16: =+'1. Diag Empresarial '!R3 -> Manucfacturas | C16: =+'1. Diag Empresarial '!R114 -> 1 | D16: =+C16/C21 -> 0.0095238095
B17: =+'1. Diag Empresarial '!S3 -> Servicio | C17: =+'1. Diag Empresarial '!S114 -> 11 | D17: =+C17/C21 -> 0.1047619
B18: =+'1. Diag Empresarial '!T3 -> Productos Elaborados | C18: =+'1. Diag Empresarial '!T114 -> 58 | D18: =+C18/C21 -> 0.55238095
B19: =+'1. Diag Empresarial '!U3 -> Economia Popular | C19: =+'1. Diag Empresarial '!U114 -> 30 | D19: =+C19/C21 -> 0.28571429
B20: =+'1. Diag Empresarial '!V3 -> Economia Naraja | C20: =+'1. Diag Empresarial '!V114 -> 5 | D20: =+C20/C21 -> 0.047619048
B21: SUB TOTAL | C21: =SUM(C16:C20) -> 105 | D21: =SUM(D16:D20) -> 1
A22: Actividad Economica | B22: =+'1. Diag Empresarial '!W3 -> Industria Alimentaria | C22: =+'1. Diag Empresarial '!W114 -> 67 | D22: =+C22/C29 -> 0.64423077
B23: =+'1. Diag Empresarial '!X3 -> Comercio | C23: =+'1. Diag Empresarial '!X114 -> 26 | D23: =+C23/C29 -> 0.25
B24: =+'1. Diag Empresarial '!Y3 -> Educacion | C24: =+'1. Diag Empresarial '!Y114 -> 4 | D24: =+C24/C29 -> 0.038461538
B25: =+'1. Diag Empresarial '!Z3 -> Comunicación | C25: =+'1. Diag Empresarial '!Z114 -> 0 | D25: =+C25/C29 -> 0
B26: =+'1. Diag Empresarial '!AA3 -> Tecnologia e Innovacion | C26: =+'1. Diag Empresarial '!AA114 -> 6 | D26: =+C26/C29 -> 0.057692308
B27: =+'1. Diag Empresarial '!AB3 -> Cultura y Arte | C27: =+'1. Diag Empresarial '!AB114 -> 1 | D27: =+C27/C29 -> 0.0096153846
B28: =+'1. Diag Empresarial '!AC3 -> Deporte | C28: =+'1. Diag Empresarial '!AC114 -> 1 | D28: =+C28/C29 -> 0.0096153846
B29: SUB TOTAL | C29: =SUM(C22:C27) -> 104 | D29: =SUM(D22:D27) -> 1
A30: NUMERO DE EMPLEOS GENERADOS | B30: AUTOEMPLEO | C30: =+'1. Diag Empresarial '!AD114 -> 38 | D30: =+C30/C32 -> 0.36190476
B31: 2 O MAS | C31: =+'1. Diag Empresarial '!AE114 -> 67 | D31: =+C31/C32 -> 0.63809524
B32: SUB TOTAL | C32: =SUM(C30:C31) -> 105 | D32: =SUM(D30:D31) -> 1
A33: Dónde está ubicado su punto de venta | B33: =+'1. Diag Empresarial '!AF3 -> FIJO | C33: =+'1. Diag Empresarial '!AF114 -> 78 | D33: =+C33/C35 -> 0.75728155
B34: =+'1. Diag Empresarial '!AG3 -> MOVIL | C34: =+'1. Diag Empresarial '!AG114 -> 25 | D34: =+C34/C35 -> 0.24271845
B35: SUB TOTAL | C35: =SUM(C33:C34) -> 103 | D35: =SUM(D33:D34) -> 1
B36: =+'1. Diag Empresarial '!AH3 -> EN CASA | C36: =+'1. Diag Empresarial '!AH114 -> 48 | D36: =+C36/C39 -> 0.46601942
B37: =+'1. Diag Empresarial '!AI3 -> EN LA CALLE | C37: =+'1. Diag Empresarial '!AI114 -> 27 | D37: =+C37/C39 -> 0.26213592
B38: =+'1. Diag Empresarial '!AJ3 -> ESPACIO PUBLICO | C38: =+'1. Diag Empresarial '!AJ114 -> 28 | D38: =+C38/C39 -> 0.27184466
B39: SUB TOTAL | C39: =SUM(C36:C38) -> 103 | D39: =SUM(D36:D38) -> 1
A40: ¿Conoce con claridad cuánto gana y cuánto gasta en su negocio? | B40: SI | C40: =+'1. Diag Empresarial '!AK114 -> 86 | D40: =+C40/C42 -> 0.81904762
B41: NO | C41: =+'1. Diag Empresarial '!AL114 -> 19 | D41: =+C41/C42 -> 0.18095238
...

Sheet 9. DIAGNOSTICO PSICOSOCIAL 
A1: N | B1: NOMBRE DEL MICROEMPRESARIO | C1: N° DOCUMENTO | D1: GENERO | F1: ¿Tú unidad productiva es viable a largo plazo teniendo potencial de crecimiento? | J1: ¿Sabes gestionar el equilibrio entre tu vida personal y profesional? | N1: ¿Te sientes motivado(a) por tu emprendimiento? | R1: ¿Has tenido fracasos como Emprendor – Micro – empresario con tu emprendimiento? | V1: ¿Llevas buenas relaciones con tus empleados y/o clientes? | Z1: ¿Sientes que tu trabajo te ha permitido crecer y desarrollarte como persona? | AD1: ¿Sientes que fue mala decisión emprender? | AH1: ¿Crees que tienes autoconfianza suficiente para tomar decisiones? | AL1: ¿Su emprendimiento o micro – empresa te limita hacer actividades en familia? | AP1: ¿Sabe usted como administrar los recursos económicos en su unidad productiva? | AT1: ¿Crees que como Emprendedor – Micro – empresario te hace falta reforzar habilidades empresariales de liderazgo? | AX1: ¿Te gusta el trabajo en equipo? | BB1: ¿Actualmente invade su tranquilidad algún problema, necesidad o enfermedad? | BF1: ¿Tienes buen manejo y control de las emociones? | BJ1: ¿Eres feliz?
D2: F | E2: M | F2: SI | G2: NO | H2: AVECES | I2: ALGUNAS VECES | J2: SI | K2: NO | L2: AVECES | M2: ALGUNAS VECES | N2: SI | O2: NO | P2: AVECES | Q2: ALGUNAS VECES | R2: SI | S2: NO | T2: AVECES | U2: ALGUNAS VECES | V2: SI | W2: NO | X2: AVECES | Y2: ALGUNAS VECES | Z2: SI | AA2: NO | AB2: AVECES | AC2: ALGUNAS VECES | AD2: SI | AE2: NO | AF2: AVECES | AG2: ALGUNAS VECES | AH2: SI | AI2: NO | AJ2: AVECES | AK2: ALGUNAS VECES | AL2: SI | AM2: NO | AN2: AVECES | AO2: ALGUNAS VECES | AP2: SI | AQ2: NO | AR2: AVECES | AS2: ALGUNAS VECES | AT2: SI | AU2: NO | AV2: AVECES | AW2: ALGUNAS VECES | AX2: SI | AY2: NO | AZ2: AVECES | BA2: ALGUNAS VECES | BB2: SI | BC2: NO | BD2: AVECES | BE2: ALGUNAS VECES | BF2: SI | BG2: NO | BH2: AVECES | BI2: ALGUNAS VECES | BJ2: SI | BK2: NO | BL2: AVECES | BM2: ALGUNAS VECES
A3: =+'1. Diag Empresarial '!A4 -> 1 | B3: =+'1. Diag Empresarial '!B4 -> YASIRA CASTILLO MARIMON | C3: =+'1. Diag Empresarial '!C4 -> 45360067 | D3: =+'1. Diag Empresarial '!D4 -> 1 | E3: 1 | F3: 1 | J3: 1 | N3: 1 | S3: 1 | V3: 1 | Z3: 1 | AE3: 1 | AH3: 1 | AO3: 1 | AP3: 1 | AT3: 1 | AX3: 1 | BC3: 1 | BF3: 1 | BJ3: 1
A4: =+'1. Diag Empresarial '!A5 -> 2 | B4: =+'1. Diag Empresarial '!B5 -> ANA MARCELA REBOLLEDO ARROYO | C4: =+'1. Diag Empresarial '!C5 -> 1048605617 | D4: 1 | E4: =+'1. Diag Empresarial '!E5 -> 0 | F4: 1 | K4: 1 | N4: 1 | R4: 1 | V4: 1 | Z4: 1 | AE4: 1 | AI4: 1 | AM4: 1 | AS4: 1 | AU4: 1 | AX4: 1 | BB4: 1 | BF4: 1 | BJ4: 1
A5: =+'1. Diag Empresarial '!A6 -> 3 | B5: =+'1. Diag Empresarial '!B6 -> YAMIL ENRIQUE PINTO VALIENTE | C5: =+'1. Diag Empresarial '!C6 -> 9185707 | E5: 1 | F5: 1 | K5: 1 | N5: 1 | S5: 1 | V5: 1 | Z5: 1 | AE5: 1 | AH5: 1 | AM5: 1 | AP5: 1 | AT5: 1 | AX5: 1 | BC5: 1 | BF5: 1 | BJ5: 1
A6: =+'1. Diag Empresarial '!A7 -> 4 | B6: =+'1. Diag Empresarial '!B7 -> ERIKA ORTIZ DE HORTA | C6: =+'1. Diag Empresarial '!C7 -> 45360290 | D6: 1 | F6: 1 | J6: 1 | N6: 1 | S6: 1 | V6: 1 | Z6: 1 | AE6: 1 | AH6: 1 | AL6: 1 | AP6: 1 | AT6: 1 | AX6: 1 | BC6: 1 | BF6: 1 | BJ6: 1
A7: =+'1. Diag Empresarial '!A8 -> 5 | B7: =+'1. Diag Empresarial '!B8 -> LUIS FERNANDO PEREZ LLERENA | C7: =+'1. Diag Empresarial '!C8 -> 1044924031 | D7: =+'1. Diag Empresarial '!D8 -> 0 | E7: 1 | F7: 1 | L7: 1 | N7: 1 | S7: 1 | V7: 1 | Z7: 1 | AE7: 1 | AH7: 1 | AM7: 1 | AP7: 1 | AT7: 1 | AX7: 1 | BC7: 1 | BF7: 1 | BJ7: 1
A8: =+'1. Diag Empresarial '!A9 -> 6 | B8: =+'1. Diag Empresarial '!B9 -> MARCIAL MERCADO RIOS | C8: =+'1. Diag Empresarial '!C9 -> 73533844 | D8: =+'1. Diag Empresarial '!D9 -> 0 | E8: 1 | F8: 1 | L8: 1 | N8: 1 | R8: 1 | V8: 1 | Z8: 1 | AE8: 1 | AH8: 1 | AM8: 1 | AQ8: 1 | AT8: 1 | AX8: 1 | BC8: 1 | BF8: 1 | BJ8: 1
A9: 7 | B9: EIDER ENRIQUE PREZ GUTIERREZ | C9: 128052563 | E9: 1 | F9: 1 | L9: 1 | N9: 1 | S9: 1 | V9: 1 | Z9: 1 | AE9: 1 | AH9: 1 | AM9: 1 | AP9: 1 | AT9: 1 | AX9: 1 | BC9: 1 | BF9: 1 | BJ9: 1
A10: 8 | B10: AIDA ROSA SEGUAREZ SALCEDO | C10: 45586475 | D10: 1 | F10: 1 | L10: 1 | N10: 1 | S10: 1 | V10: 1 | Z10: 1 | AE10: 1 | AJ10: 1 | AM10: 1 | AR10: 1 | AT10: 1 | AX10: 1 | BC10: 1 | BF10: 1 | BJ10: 1
A11: 9 | B11: BERNARDO VIVANCO VIVANCO | C11: 73539432 | E11: 1 | F11: 1 | L11: 1 | N11: 1 | S11: 1 | V11: 1 | Z11: 1 | AE11: 1 | AJ11: 1 | AN11: 1 | AP11: 1 | AT11: 1 | AX11: 1 | BC11: 1 | BF11: 1 | BJ11: 1
A12: 10 | B12: SABINA LUNA MARTINEZ | C12: 23144823 | D12: 1 | F12: 1 | J12: 1 | N12: 1 | S12: 1 | V12: 1 | Z12: 1 | AE12: 1 | AH12: 1 | AM12: 1 | AR12: 1 | AT12: 1 | AZ12: 1 | BC12: 1 | BH12: 1 | BJ12: 1
A13: 11 | B13: VERONICA DE LAS AGUAS VIVANCO | C13: 45361260 | D13: 1 | F13: 1 | L13: 1 | N13: 1 | S13: 1 | V13: 1 | Z13: 1 | AE13: 1 | AH13: 1 | AL13: 1 | AP13: 1 | AT13: 1 | AX13: 1 | BD13: 1 | BF13: 1 | BJ13: 1
A14: 12 | B14: WILFRIDO GOMEZ GUERRERO | C14: 73099894 | E14: 1 | F14: 1 | L14: 1 | N14: 1 | R14: 1 | V14: 1 | Z14: 1 | AE14: 1 | AH14: 1 | AN14: 1 | AP14: 1 | AU14: 1 | AZ14: 1 | BC14: 1 | BF14: 1 | BJ14: 1
A15: 13 | B15: YOBERLIS COROMOTO ESPINOSA AGUEY | C15: 5952006 | D15: 1 | F15: 1 | J15: 1 | N15: 1 | S15: 1 | V15: 1 | Z15: 1 | AE15: 1 | AH15: 1 | AM15: 1 | AP15: 1 | AT15: 1 | AX15: 1 | BB15: 1 | BF15: 1 | BJ15: 1
A16: 14 | B16: YOLIMA SILVA SOLANO | C16: 45361016 | D16: 1 | F16: 1 | J16: 1 | N16: 1 | R16: 1 | V16: 1 | AB16: 1 | AE16: 1 | AH16: 1 | AM16: 1 | AR16: 1 | AT16: 1 | AX16: 1 | BB16: 1 | BF16: 1 | BJ16: 1
A17: 15 | B17: MINELVA MARIA ARRIETA POMBO | C17: 45360896 | D17: 1 | F17: 1 | J17: 1 | N17: 1 | S17: 1 | V17: 1 | Z17: 1 | AE17: 1 | AH17: 1 | AM17: 1 | AP17: 1 | AT17: 1 | AX17: 1 | BC17: 1 | BF17: 1 | BJ17: 1
A18: 16 | B18: MARIA PAULINA GAMARRA MERCADO | C18: 45586757 | D18: 1 | F18: 1 | L18: 1 | N18: 1 | R18: 1 | V18: 1 | AB18: 1 | AE18: 1 | AJ18: 1 | AL18: 1 | AP18: 1 | AV18: 1 | AX18: 1 | BB18: 1 | BF18: 1 | BJ18: 1
A19: 17 | B19: ALVARO BLANCO SIERRA | C19: 9186279 | E19: 1 | F19: 1 | K19: 1 | N19: 1 | S19: 1 | V19: 1 | Z19: 1 | AE19: 1 | AH19: 1 | AM19: 1 | AP19: 1 | AT19: 1 | AX19: 1 | BC19: 1 | BF19: 1 | BJ19: 1
A20: 18 | B20: NORENA MARGARITA VILLA MUÑOZ | C20: 22570009 | D20: 1 | F20: 1 | J20: 1 | N20: 1 | S20: 1 | V20: 1 | Z20: 1 | AD20: 1 | AH20: 1 | AM20: 1 | AP20: 1 | AT20: 1 | AX20: 1 | BB20: 1 | BF20: 1 | BJ20: 1
A21: 19 | B21: NAYELIS MERCADO ORTIZ | C21: 1002257710 | D21: 1 | F21: 1 | J21: 1 | N21: 1 | S21: 1 | V21: 1 | Z21: 1 | AE21: 1 | AH21: 1 | AM21: 1 | AP21: 1 | AT21: 1 | AX21: 1 | BB21: 1 | BF21: 1 | BJ21: 1
A22: 20 | B22: YOLIDIS MERCADO PINTO | C22: 45586326 | D22: 1 | F22: 1 | K22: 1 | N22: 1 | S22: 1 | V22: 1 | AB22: 1 | AE22: 1 | AH22: 1 | AM22: 1 | AP22: 1 | AT22: 1 | AY22: 1 | BB22: 1 | BF22: 1 | BJ22: 1
A23: 21 | B23: KAREN MARGARITA BELLO DE LAS AGUAS | C23: 45361072 | D23: 1 | F23: 1 | K23: 1 | N23: 1 | S23: 1 | V23: 1 | Z23: 1 | AE23: 1 | AH23: 1 | AM23: 1 | AP23: 1 | AT23: 1 | AX23: 1 | BC23: 1 | BF23: 1 | BJ23: 1
A24: 22 | B24: EVARISTO BOLAÑO DE AVILA | C24: 73539334 | E24: 1 | F24: 1 | J24: 1 | N24: 1 | T24: 1 | V24: 1 | Z24: 1 | AF24: 1 | AH24: 1 | AN24: 1 | AP24: 1 | AT24: 1 | AX24: 1 | BB24: 1 | BF24: 1 | BJ24: 1
A25: 23 | B25: ANGEL VIVANCO VIVANCO | C25: 73539324 | E25: 1 | F25: 1 | J25: 1 | N25: 1 | R25: 1 | V25: 1 | AB25: 1 | AE25: 1 | AH25: 1 | AL25: 1 | AP25: 1 | AT25: 1 | AX25: 1 | BB25: 1 | BF25: 1 | BJ25: 1
A26: 24 | B26: ANTONIO ARIEL AREVALO MARRUGO | C26: 73539168 | E26: 1 | F26: 1 | L26: 1 | N26: 1 | R26: 1 | V26: 1 | Z26: 1 | AD26: 1 | AH26: 1 | AO26: 1 | AP26: 1 | AT26: 1 | AX26: 1 | BC26: 1 | BF26: 1 | BJ26: 1
A27: 25 | B27: MERIS DE ARCO GRANDETT | C27: 22789993 | D27: 1 | F27: 1 | J27: 1 | N27: 1 | R27: 1 | V27: 1 | Z27: 1 | AE27: 1 | AH27: 1 | AM27: 1 | AP27: 1 | AT27: 1 | AX27: 1 | BB27: 1 | BF27: 1 | BJ27: 1
A28: 26 | B28: FREDYS ALVAREZ FUENTES | C28: 3980057 | E28: 1 | F28: 1 | J28: 1 | N28: 1 | S28: 1 | V28: 1 | Z28: 1 | AE28: 1 | AH28: 1 | AL28: 1 | AP28: 1 | AT28: 1 | AX28: 1 | BC28: 1 | BF28: 1 | BJ28: 1
A29: 27 | B29: JOSE ALFONSO TUÑON JULIO | C29: 9239393 | E29: 1 | F29: 1 | J29: 1 | N29: 1 | R29: 1 | V29: 1 | Z29: 1 | AE29: 1 | AH29: 1 | AL29: 1 | AP29: 1 | AU29: 1 | AX29: 1 | BC29: 1 | BF29: 1 | BJ29: 1
A30: 28 | B30: ALBA ROSA GUERRERO CARRILLO | C30: 23144903 | D30: 1 | F30: 1 | J30: 1 | N30: 1 | R30: 1 | V30: 1 | Z30: 1 | AE30: 1 | AH30: 1 | AM30: 1 | AP30: 1 | AT30: 1 | AX30: 1 | BC30: 1 | BF30: 1 | BJ30: 1
A31: 29 | B31: SUSANA CAROLINA CARDENAS JIMENEZ | C31: 1048607246 | D31: 1 | F31: 1 | K31: 1 | N31: 1 | S31: 1 | V31: 1 | Z31: 1 | AE31: 1 | AH31: 1 | AM31: 1 | AP31: 1 | AT31: 1 | AX31: 1 | BC31: 1 | BF31: 1 | BJ31: 1
A32: 30 | B32: RICARDO GONZALES ORTIZ | C32: 73534503 | D32: 1 | F32: 1 | J32: 1 | N32: 1 | S32: 1 | V32: 1 | Z32: 1 | AE32: 1 | AH32: 1 | AM32: 1 | AP32: 1 | AT32: 1 | AX32: 1 | BC32: 1 | BF32: 1 | BJ32: 1
A33: 31 | B33: MILEIDYS QUINTANA REBOLLEDO | C33: 1048608672 | D33: 1 | F33: 1 | J33: 1 | N33: 1 | R33: 1 | V33: 1 | Z33: 1 | AE33: 1 | AH33: 1 | AM33: 1 | AP33: 1 | AT33: 1 | AX33: 1 | BB33: 1 | BF33: 1 | BJ33: 1
A34: 32 | B34: LINETH INES DE ARLEN VASQUEZ MENDOZA | C34: 23144834 | D34: 1 | F34: 1 | J34: 1 | N34: 1 | S34: 1 | V34: 1 | Z34: 1 | AD34: 1 | AH34: 1 | AM34: 1 | AP34: 1 | AT34: 1 | AX34: 1 | BC34: 1 | BF34: 1 | BJ34: 1
A35: 33 | B35: ANGELICA MEDRANO CABARCAS | C35: 64581940 | D35: 1 | F35: 1 | J35: 1 | N35: 1 | S35: 1 | V35: 1 | AA35: 1 | AE35: 1 | AH35: 1 | AM35: 1 | AP35: 1 | AT35: 1 | AX35: 1 | BC35: 1 | BF35: 1 | BJ35: 1
A36: 34 | B36: BEATRIZ JUNCO URUCHURCO | C36: 45455963 | D36: 1 | F36: 1 | J36: 1 | N36: 1 | R36: 1 | V36: 1 | Z36: 1 | AE36: 1 | AH36: 1 | AM36: 1 | AP36: 1 | AT36: 1 | AX36: 1 | BC36: 1 | BF36: 1 | BJ36: 1
A37: 35 | B37: KENDRIS PAOLA BOLAÑO DE AVILA | C37: 1048600825 | D37: 1 | F37: 1 | J37: 1 | N37: 1 | S37: 1 | V37: 1 | Z37: 1 | AE37: 1 | AH37: 1 | AM37: 1 | AP37: 1 | AT37: 1 | AX37: 1 | BC37: 1 | BF37: 1 | BJ37: 1
A38: 36 | B38: LEONCIO ASMET CUSTODE GUARDO | C38: 73540060 | E38: 1 | F38: 1 | J38: 1 | N38: 1 | R38: 1 | V38: 1 | Z38: 1 | AE38: 1 | AH38: 1 | AM38: 1 | AP38: 1 | AT38: 1 | AX38: 1 | BC38: 1 | BF38: 1 | BJ38: 1
A39: 37 | B39: OSCAR LUIS MARRUGO BONFANTE | C39: 73539087 | E39: 1 | F39: 1 | J39: 1 | N39: 1 | S39: 1 | V39: 1 | Z39: 1 | AE39: 1 | AH39: 1 | AM39: 1 | AP39: 1 | AT39: 1 | AX39: 1 | BC39: 1 | BF39: 1 | BJ39: 1
A40: 38 | B40: LEWIS TORRES GARCIA | C40: 1048605633 | E40: 1 | F40: 1 | J40: 1 | N40: 1 | R40: 1 | V40: 1 | Z40: 1 | AE40: 1 | AH40: 1 | AM40: 1 | AP40: 1 | AT40: 1 | AX40: 1 | BC40: 1 | BF40: 1 | BJ40: 1
...

Sheet Tabla Psicosocial 
A1: CARACTERIZACIÓN O DIAGNOSTICO DE LA ACTIVIDAD EMPRESARIAL PARA EMPRENDEDORES
A3: CONCEPTO | B3: CRITERIO | C3: CANTIDAD | D3: PORCENTAJE
A4: GENERO | B4: FEMENINO | C4: =+'1. Diag Empresarial '!D114 -> 59 | D4: =+C4/C6 -> 0.56190476
B5: MASCULINO | C5: =+'1. Diag Empresarial '!E114 -> 46 | D5: =+C5/C6 -> 0.43809524
B6: SUB TOTAL | C6: =SUM(C4:C5) -> 105 | D6: =SUM(D4:D5) -> 1
A7: ¿Tú unidad productiva es viable a largo plazo teniendo potencial de crecimiento? | B7: SI | C7: =+'9. DIAGNOSTICO PSICOSOCIAL '!F90 -> 86 | D7: =+C7/C11 -> 1
B8: NO | C8: =+'9. DIAGNOSTICO PSICOSOCIAL '!G90 -> 0 | D8: =+C8/C11 -> 0
B9: AVECES | C9: =+'9. DIAGNOSTICO PSICOSOCIAL '!H90 -> 0 | D9: =+C9/C11 -> 0
B10: ALGUNAS VECES | C10: =+'9. DIAGNOSTICO PSICOSOCIAL '!I90 -> 0 | D10: =+C10/C11 -> 0
B11: SUB TOTAL | C11: =SUM(C7:C10) -> 86 | D11: =SUM(D7:D10) -> 1
A12: ¿Sabes gestionar el equilibrio entre tu vida personal y profesional? | B12: SI | C12: =+'9. DIAGNOSTICO PSICOSOCIAL '!J90 -> 67 | D12: =+C12/C16 -> 0.77906977
B13: NO | C13: =+'9. DIAGNOSTICO PSICOSOCIAL '!K90 -> 9 | D13: =+C13/C16 -> 0.10465116
B14: AVECES | C14: =+'9. DIAGNOSTICO PSICOSOCIAL '!L90 -> 10 | D14: =+C14/C16 -> 0.11627907
B15: ALGUNAS VECES | C15: =+'9. DIAGNOSTICO PSICOSOCIAL '!M90 -> 0 | D15: =+C15/C16 -> 0
B16: SUB TOTAL | C16: =SUM(C12:C15) -> 86 | D16: =SUM(D12:D15) -> 1
A17: ¿Te sientes motivado(a) por tu emprendimiento? | B17: SI | C17: =+'9. DIAGNOSTICO PSICOSOCIAL '!N90 -> 85 | D17: =+C17/C21 -> 0.98837209
B18: NO | C18: =+'9. DIAGNOSTICO PSICOSOCIAL '!O90 -> 0 | D18: =+C18/C21 -> 0
B19: AVECES | C19: =+'9. DIAGNOSTICO PSICOSOCIAL '!P90 -> 1 | D19: =+C19/C21 -> 0.011627907
B20: ALGUNAS VECES | C20: =+'9. DIAGNOSTICO PSICOSOCIAL '!Q90 -> 0 | D20: =+C20/C21 -> 0
B21: SUB TOTAL | C21: =SUM(C17:C20) -> 86 | D21: =SUM(D17:D20) -> 1
A22: ¿Has tenido fracasos como Emprendor – Micro – empresario con tu emprendimiento? | B22: SI | C22: =+'9. DIAGNOSTICO PSICOSOCIAL '!R90 -> 33 | D22: =+C22/C26 -> 0.38372093
B23: NO | C23: =+'9. DIAGNOSTICO PSICOSOCIAL '!S90 -> 51 | D23: =+C23/C26 -> 0.59302326
B24: AVECES | C24: =+'9. DIAGNOSTICO PSICOSOCIAL '!T90 -> 1 | D24: =+C24/C26 -> 0.011627907
B25: ALGUNAS VECES | C25: =+'9. DIAGNOSTICO PSICOSOCIAL '!U90 -> 1 | D25: =+C25/C26 -> 0.011627907
B26: SUB TOTAL | C26: =SUM(C22:C25) -> 86 | D26: =SUM(D22:D25) -> 1
A27: ¿Llevas buenas relaciones con tus empleados y/o clientes? | B27: SI | C27: =+'9. DIAGNOSTICO PSICOSOCIAL '!V90 -> 86 | D27: =+C27/C31 -> 1
B28: NO | C28: =+'9. DIAGNOSTICO PSICOSOCIAL '!W90 -> 0 | D28: =+C28/C31 -> 0
B29: AVECES | C29: =+'9. DIAGNOSTICO PSICOSOCIAL '!Y90 -> 0 | D29: =+C29/C31 -> 0
B30: ALGUNAS VECES | C30: =+'9. DIAGNOSTICO PSICOSOCIAL '!Y90 -> 0 | D30: =+C30/C31 -> 0
B31: SUB TOTAL | C31: =SUM(C27:C30) -> 86 | D31: =SUM(D27:D30) -> 1
A32: ¿Sientes que tu trabajo te ha permitido crecer y desarrollarte como persona? | B32: SI | C32: =+'9. DIAGNOSTICO PSICOSOCIAL '!V90 -> 86 | D32: =+C32/C36 -> 1
B33: NO | C33: =+'9. DIAGNOSTICO PSICOSOCIAL '!W90 -> 0 | D33: =+C33/C36 -> 0
B34: AVECES | C34: =+'9. DIAGNOSTICO PSICOSOCIAL '!X90 -> 0 | D34: =+C34/C36 -> 0
B35: ALGUNAS VECES | C35: =+'9. DIAGNOSTICO PSICOSOCIAL '!Y90 -> 0 | D35: =+C35/C36 -> 0
B36: SUB TOTAL | C36: =SUM(C32:C35) -> 86 | D36: =SUM(D32:D35) -> 1
A37: ¿Sientes que tu trabajo te ha permitido crecer y desarrollarte como persona? | B37: SI | C37: =+'9. DIAGNOSTICO PSICOSOCIAL '!Z90 -> 81 | D37: =+C37/C41 -> 0.94186047
B38: NO | C38: =+'9. DIAGNOSTICO PSICOSOCIAL '!AA90 -> 1 | D38: =+C38/C41 -> 0.011627907
B39: AVECES | C39: =+'9. DIAGNOSTICO PSICOSOCIAL '!AB90 -> 4 | D39: =+C39/C41 -> 0.046511628
B40: ALGUNAS VECES | C40: =+'9. DIAGNOSTICO PSICOSOCIAL '!AC90 -> 0 | D40: =+C40/C41 -> 0
B41: SUB TOTAL | C41: =SUM(C37:C40) -> 86 | D41: =SUM(D37:D40) -> 1
...

Sheet EMP. POR GRUPO DE CAPACITACION
A2: GRUPO 1
A3: N° | B3: NOMBRE Y APELLIDOS | C3: N° DE IDENTIFICACION | D3: TELEFONO | E3: DIRECCION | F3: DESCRIPCION DEL NEGOCIO
A4: 1 | B4: EDGAR ORTIZ BELLIDO | C4: 73539917 | D4: 3137296586 | E4: 3 ° CALLE DEL POLVILLO | F4: VENTA DE SUERO
A5: 2 | B5: PAOLA MARIA MERCADO CERA | C5: 45,360,204 | D5: 3106827156 | E5: VILLA OLI | F5: EDUCACION INFORMAL
A6: 3 | B6: ANTONIO ARIEL AREVALO MARRUGO | C6: 73,539,168 | D6: 3217286024 | E6: AVENIDA PRINCIPAL | F6: VENTA DE VERDURAS Y HORTALISAS
A7: 4 | B7: MARCIAL MERCADO RIOS | C7: 73,533,844 | D7: 3016527909 | E7: PARAISO | F7: VENTA DE FRUTAS
A8: 5 | B8: ALVARO BLANCO SIERRA | C8: 9,186,279 | D8: 3122487673 | E8: TREBOL | F8: VENTA DE FRUTAS Y TUBERCULOS
A9: 6 | B9: BERNARDO VIVANCO VIVANCO | C9: 73,539,432 | D9: 3135760886 | E9: AVENIDA PRINCIPAL | F9: VENTA DE FRUTAS
A10: 7 | B10: KAREN MARGARITA BELLO DE LAS AGUAS | C10: 45,361,072 | D10: 3152245334 | E10: PLAZA PRINCIPAL | F10: VENTA DE MANGOS
A11: 8 | B11: LUIS DAVID MAZA MORALES | C11: 9,186,121 | D11: 3008362535 | E11: VILLA ANA | F11: VENTA DE FRUTAS
A12: 9 | B12: JAINER FRANCO MANJANRREZ | C12: 1,048,603,095 | D12: 3145498525 | E12: SAN JOSE | F12: VENTA DE FRUTAS Y VERDURAS
A13: 10 | B13: MARIA DEL ROSARIO CASTELLANO OROZCO | C13: 23,145,255 | D13: 3112701344 | E13: SAN JOSE | F13: VENTA DE FRITOS Y PETO
A14: 11 | B14: SIXTO DE LAS AGUAS DE HORTA | C14: 9,186,685 | D14: 3218284516 | E14: AVENIDA PRINCIPAL | F14: VENTA DE FRUTAS Y VERDURAS
A15: 12 | B15: ANGEL VIVANCO VIVANCO | C15: 73,539,324 | D15: 3245014942 | E15: PLAZA PRINCIPAL | F15: VENTA DE MANGOS
A16: 13 | B16: LUIS ALFONSO MERCADO PINTO | C16: 9,239,595 | D16: 3215660061 | E16: LAS GAVIOTAS | F16: VENTA DE BEBIDAS CALIENTES
... A21: 18 | B21: EVARISTO BOLAÑO DE AVILA | C21: 73,539,334 | D21: 3145538083 | E21: FONDO | F21: VENTA DE SUERO
A22: 19 | B22: OSVALDO MERCADO BENAVIDES | C22: 9046553 | D22: 3207919073 | E22: CALLE 3 DE LA CEIBA | F22: TINTOS EL ANDARIEGO COMPAESITO
A23: 20 | B23: RUBI CANTILLO DE LAS AGUAS | C23: 23145903 | D23: 3234681864 | E23: BARRIO PARAISO | F23: VENTA DE SUERO Y QUESO
A26: GRUPO 2
A27: N° | B27: NOMBRE Y APELLIDOS | C27: N° DE IDENTIFICACION | D27: TELEFONO | E27: DIRECCION | F27: DESCRIPCION DEL NEGOCIO
A28: 1 | B28: FRANCISCO JOSE BELLIDO VIVANCO | C28: 71590165 | D28: 3225894688 | E28: CALLES DEL MUNICIPIO | F28: VENTA DE BUTIFARRA Y HUEVO COCIDO | G28: AM
A29: 2 | B29: ANA MARCELA REBOLLEDO ARROYO | C29: 1048605617 | D29: 3003995651 | E29: B. LA CEREZA CLL P/PAL | F29: VENTA DE FRITOS | G29: AM
A30: 3 | B30: YOLIDIS MERCADO PINTO | C30: 45586326 | D30: 3216959571 | E30: B. 30 DE AGOSTO | F30: VENTA DE PASTELES | G30: AM
A31: 4 | B31: SUSANA CAROLINA CARDENAS JIMENEZ | C31: 1048607246 | D31: 3117918102 | E31: PLAZA PRINCIPAL | F31: VENTA DE ASADOS Y CHORIZOS | G31: AM
A32: 5 | B32: YAMIL ENRIQUE PINTO VALIENTE | C32: 9185707 | D32: 3224924374 | E32: B. LA CEREZA CLL P/PAL | F32: VENTA Y PRODUCCION DE BUTIFARRAS | G32: AM
A33: 6 | B33: HEIDER ENRIQUE PEREZ GUTIERREZ | C33: 128052563 | D33: 3233551943 | E33: B. LA CEREZA CLL P/PAL | F33: VENTA DE AREPAS RELLENAS | G33: AM
A34: 7 | B34: YOBERLIS COROMOTO ESPINOSA AGUEY | C34: 5952006 (P DE P) | D34: 3233758859 | E34: B. LA CEREZA CLL P/PAL | F34: VENTA DE CHUZOS | G34: AM
A35: 8 | B35: YOLIMA SILVA SOLANO | C35: 45361016 | D35: 3136981910 | E35: BARRIO EL PROVENIR | F35: VENTA DE FRITOS | G35: AM
A36: 9 | B36: BEATRIZ JUNCO URUCHURCO | C36: 45455963 | D36: 3158499453 | E36: PLAZA PRINCIPAL | F36: VENTA DE AREPAS RELLENAS | G36: AM
A37: 10 | B37: KENDRIS PAOLA BOLAÑO DE AVILA | C37: 1048600825 | D37: 3044319676 | E37: AVENIDA PRINCIPAL | F37: VENTA DE ASADOS Y CHORIZOS | G37: AM
A38: 11 | B38: MONICA CANTILLO DE LAS AGUAS | C38: 23145902 | D38: 3234469617 | E38: PARAISO AV PRINCIPAL | F38: VENTA DE CHUZOZ, PINCHUS Y JUGOS | G38: AM
A39: 12 | B39: OSWALDO ORTIZ REBOLLEDO | C39: 73540046 | E39: PLAZA PRINCIPAL | F39: VENTA DE CHICHARRON Y VICERAS | G39: AM
A40: 13 | B40: SANDY REBOLLEDO FAJARDO | C40: 1048609757 | D40: 3205256611 | E40: PLAZA PRINCIPAL | F40: VENTA DE PASTELES DE POLLO, CERDO | G40: AM
A41: 14 | B41: JORGE LUIS ANDRADES SOLER | C41: 25794613 | D41: 3054329333 | E41: BARRIO EL PARAISO | F41: VENTA DE CHUZOS DE CHORIZOS, BOLLOS | G41: AM
A42: 15 | B42: SHAROL GOMEZ GOMEZ | C42: 1122812117 | D42: 3206855895 | E42: MALVINAS AV PRINCIPAL | F42: ELABORACION DE AREPAS Y BURITOS | G42: AM
A43: 16 | B43: BERNUIL SUAREZ VANEGAS | C43: 1048604384 | D43: 3042712500 | E43: PLAZA PRINCIPAL | F43: AREPA, CHORIZO Y ASADOS | G43: AM
A44: 17 | B44: MARINA CANOLES DE LAS AGUAS | C44: 23125640 | D44: 3016527909 | E44: PARAISO AV PRINCIPAL | F44: VENTA DE FRITOS
A48: GRUPO 3
A49: N° | B49: NOMBRE Y APELLIDOS | C49: N° DE IDENTIFICACION | D49: TELEFONO | E49: DIRECCION | F49: DESCRIPCION DEL NEGOCIO
A50: 1 | B50: AIDA ROSA SEQUAREZ SALCEDO | C50: 45586475 | D50: 3135003103 | E50: B. LA CEREZA CLL P/PAL | F50: VENTA DE FRITOS
...
