Workbook

Sheet Plan Operativo Empleate
A1: PLAN OPERATIVO
A2: PROYECTO: EMPLEATE PARA EL CAMBIO 2024
A4: No. Contrato/Convenio: | B4: 861-FIP-2024
A5: Contratista: | B5: Institutio De Gestion Organizacional
A6: Nombre Supervisor: | B6: Ana Lucia Gil Soto
A7: Fecha de inicio: | B7: 45603 | C7: Fecha de terminación: | D7: 45656
A8: Otro Sí: | B8: X
K9: 2024
A10: COMPONENTE | B10: FASE | C10: ETAPA | D10: ACTIVIDADES | E10: PRODUCTO | F10: META DE PRODUCTO | G10: MEDIO DE VERIFICACIÓN | H10: AVANCE DE EJECUCIÓN | J10: % EJECUCIÓN | K10: SEPTIEMBRE | O10: NOVIEMBRE | S10: DICIEMBRE | AA10: ENERO | AE10: FEBRERO | AI10: MARZO | AM10: ABRIL
K11: SEMANA | O11: SEMANA | S11: SEMANA | AA11: SEMANA | AE11: SEMANA | AI11: SEMANA | AM11: SEMANA
J12: =SUM(J13:J46)/COUNT(F13:F46) -> 0.11764706 | K12: 1 | L12: 2 | M12: 3 | N12: 4 | O12: 1 | P12: 2 | Q12: 3 | R12: 4 | S12: 1 | T12: 2 | U12: 3 | V12: 4 | W12: 1 | X12: 2 | Y12: 3 | Z12: 4 | AA12: 1 | AB12: 2 | AC12: 3 | AD12: 4 | AE12: 1 | AF12: 2 | AG12: 3 | AH12: 4 | AI12: 1 | AJ12: 2 | AK12: 3 | AL12: 4 | AM12: 1 | AN12: 2 | AO12: 3 | AP12: 4
A13: ATENCIÓN Y CIERRE DE BRECHAS | B13: Gestión de Vinculación al Programa | C13: Alistamiento | D13: Participar en las sesiones de Transferencia Metodológica | E13: Acta con Listado de Asistencia y grabación del espacio. | F13: 2 | G13: Correo-E con Adjunto del Acta, Listado de Asistencia y Link de grabación | H13: Programado | I13: =SUM(K13:AP13) -> 2 | J13: =IFERROR((I14/I13),0) -> 1 | O13: 2
H14: Ejecutado | I14: =SUM(K14:AP14) -> 2 | O14: 2
D15: Presentar de los documentos, metodologías, herramientas y equipo de trabajo del Operador. | E15: Documento: (1) Equipo de trabajo; (2) Plan operativo de trabajo; (3) Estrategia de divulgación y socialización; (4) Metodología de identificación de barreras y servicios asociados; (5) Diagnóstico de la Gestión Empresarial | F15: 1 | G15: Correo-E con documento adjunto | H15: Programado | I15: =SUM(K15:AP15) -> 1 | J15: =IFERROR((I16/I15),0) -> 1 | P15: 1
H16: Ejecutado | I16: =SUM(K16:AP16) -> 1 | P16: 1
C17: Convocatoria, Socialización y Preinscripción | D17: Desarrollar Actividades de Convocatoria y Socialización | E17: Informe de los Registros de convocatorias y socializaciones realizadas. (Registros fotograficos, listados de asistencia, etc.) | F17: 4 | G17: Documento con evidencias de la Convocatoria y Socialización. | H17: Programado | I17: =SUM(K17:AP17) -> 4 | J17: =IFERROR((I18/I17),0) -> 0 | Q17: 2 | R17: 2
H18: Ejecutado | I18: =SUM(K18:AP18) -> 0
D19: Preinscribir personas interesadas en el sistema de información - SIPE | E19: Personas Preinscritas | F19: 600 | G19: Sistema de información SIPE | H19: Programado | I19: =SUM(K19:AP19) -> 600 | J19: =IFERROR((I20/I19),0) -> 0 | P19: 50 | Q19: 300 | R19: 250
H20: Ejecutado | I20: =SUM(K20:AP20) -> 0
E21: Personas Elegibles | F21: 200 | G21: Sistema de información SIPE | H21: Programado | I21: =SUM(K21:AP21) -> 200 | J21: =IFERROR((I22/I21),0) -> 0 | R21: 200
H22: Ejecutado | I22: =SUM(K22:AP22) -> 0
C23: Inscripción (SIPE y SPE) | D23: Inscribir elegibles en el programa mediante acta de compromiso | E23: Personas inscritos mediante Documento de Identidad, Acta de compromiso, Registro de hoja de vida en el SISE y la Caracterización en el SIPE. | F23: 200 | G23: Sistema de información SIPE | H23: Programado | I23: =SUM(K23:AP23) -> 200 | J23: =IFERROR((I24/I23),0) -> 0 | R23: 200
H24: Ejecutado | I24: =SUM(K24:AP24) -> 0
B25: Cierre de Brechas | C25: Cierre de Brechas Personales | D25: Presentar para aprobación matriz propuesta con información de los servicios personales a proveer. | E25: Matriz de servicios personales a proveer | F25: 1 | G25: Matriz consolidada de servicios personales presentado y aprobado por el supervisor en pdf | H25: Programado | I25: =SUM(K25:AP25) -> 1 | J25: =IFERROR((I26/I25),0) -> 0 | R25: 1
H26: Ejecutado | I26: =SUM(K26:AP26) -> 0
D27: Prestar servicios personales de cierre de brechas, atendiendo matriz aprobada | E27: Personas con servicios recibidos - Formato No. 3. Beneficios Entregados | F27: 200 | G27: Sistema de información SIPE | H27: Programado | I27: =SUM(K27:AP27) -> 200 | J27: =IFERROR((I28/I27),0) -> 0 | S27: 200
H28: Ejecutado | I28: =SUM(K28:AP28) -> 0
C29: Cierre de Brechas Organizacionales | D29: Presentar para aprobación matriz propuesta con información de los servicios organizacionales a proveer | E29: Matriz de servicios organizacionales a proveer | F29: 1 | G29: Matriz consolidada de servicios organizacionales presentado y aprobado por el supervisor en pdf | H29: Programado | I29: =SUM(K29:AP29) -> 1 | J29: =IFERROR((I30/I29),0) -> 0 | R29: 1
H30: Ejecutado | I30: =SUM(K30:AP30) -> 0
D31: Prestar servicios Organizacionales de cierre de brechas | E31: Empleadores con servicios recibidos - Formato No. 3. Beneficios Entregados | F31: 8 | G31: Sistema de información SIPE | H31: Programado | I31: =SUM(K31:AP31) -> 8 | J31: =IFERROR((I32/I31),0) -> 0 | S31: 8
H32: Ejecutado | I32: =SUM(K32:AP32) -> 0
A33: COLOCACIÓN LABORAL (Mínimo 3 meses) | B33: Colocación | C33: Preselección de candidatos | D33: Identificar las personas (candidatos) que cumplan con los perfiles de las vacantes | E33: Personas que cumplen con los perfiles de las vacantes a proveer | F33: 80 | G33: Listado de candidatos preseleccionados por vacante. | H33: Programado | I33: =SUM(K33:AP33) -> 80 | J33: =IFERROR((I34/I33),0) -> 0 | T33: 80
H34: Ejecutado | I34: =SUM(K34:AP34) -> 0
C35: Remisión de candidatos | D35: Remitir al potencial empleador las personas (candidatos) que cumplan con los perfiles de las vacantes | E35: Personas remitidas a Empresas | F35: 80 | G35: Personas remitidas- Formato No. 3. Beneficios Entregados | H35: Programado | I35: =SUM(K35:AP35) -> 80 | J35: =IFERROR((I36/I35),0) -> 0 | T35: 80
H36: Ejecutado | I36: =SUM(K36:AP36) -> 0
C37: Colocación laboral. | D37: Realizar carge de contratos o certificaciones laborales al sistema de información - SIPE | E37: Contrato laboral o certificaciones laborales | F37: 52 | G37: Certificación Laboral Planilla PILA | H37: Programado | I37: =SUM(K37:AP37) -> 52 | J37: =IFERROR((I38/I37),0) -> 0 | U37: 52
H38: Ejecutado | I38: =SUM(K38:AP38) -> 0
A39: TRANSVERSAL | B39: Transversal | C39: Seguimiento y Monitoreo | D39: Realizar seguimiento al avance del proyecto | E39: Informe ejecutivo mensual de avance de acuerdo con el POA | F39: 3 | G39: Informe presentado | H39: Programado | I39: =SUM(K39:AP39) -> 2 | J39: =IFERROR((I40/I39),0) -> 0 | R39: 1 | V39: 1
H40: Ejecutado | I40: =SUM(K40:AP40) -> 0
C41: Lecciones Aprendidas | D41: Participar en los espacios de lecciones aprendidas concertados con Prosperidad Social | E41: Acta con Listado de Asistencia y grabación del espacio. | F41: 3 | G41: Acta con Listado de Asistencia | H41: Programado | I41: =SUM(K41:AP41) -> 1 | J41: =IFERROR((I42/I41),0) -> 0 | V41: 1
...

Sheet Indicadores Empleate
A1: INDICADORES - PLAN OPERATIVO
A2: PROYECTO: EMPLEATE PARA EL CAMBIO 2024
A4: No. Contrato/Convenio | B4: ='Plan Operativo Empleate'!B4 -> 861-FIP-2024 | E4: Sólo diligenciar: i) Renuncias, ii) Despidos (señalado en amarillo, cada mes)
A5: Contratista: | B5: ='Plan Operativo Empleate'!B5 -> Institutio De Gestion Organizacional
A6: Nombre Supervisor: | B6: ='Plan Operativo Empleate'!B6 -> Ana Lucia Gil Soto
A8: SEGUIMIENTO Y MONITOREO | E8: Noviembre | G8: Diciembre | I8: Enero
E9: Mes 1 | G9: Mes 2 | I9: Mes 3
A10: Indicador | B10: Descripción | D10: % avance | E10: 1-Q1 | F10: 1-Q2 | G10: 2-Q1 | H10: 2-Q2 | I10: 3-Q1 | J10: 3-Q2
A12: Gestión de Vacantes | B12: 𝑁𝑜. 𝑑𝑒 vacantes gestionadas | C12: ='Plan Operativo Empleate'!I38 -> 0 | D12: =C12/C13 -> 0 | E12: =('Plan Operativo Empleate'!O38+'Plan Operativo Empleate'!P38)/$C13 -> 0 | F12: =('Plan Operativo Empleate'!Q38+'Plan Operativo Empleate'!R38)/$C13 -> 0 | G12: =('Plan Operativo Empleate'!S38+'Plan Operativo Empleate'!T38)/$C13 -> 0 | H12: =('Plan Operativo Empleate'!U38+'Plan Operativo Empleate'!V38)/$C13 -> 0 | I12: =('Plan Operativo Empleate'!W38+'Plan Operativo Empleate'!X38)/$C13 -> 0 | J12: =('Plan Operativo Empleate'!Y38+'Plan Operativo Empleate'!Z38)/$C13 -> 0
B13: 𝑁𝑜. 𝑑𝑒 vinculaciones propuestas | C13: ='Plan Operativo Empleate'!I37 -> 52
A15: Eficiencia de la convocatoria | B15: 𝑁𝑜. 𝑑𝑒 personas elegibles | C15: ='Plan Operativo Empleate'!I22 -> 0 | D15: =C15/C16 -> #DIV/0! | E15: =('Plan Operativo Empleate'!O22+'Plan Operativo Empleate'!P22)/$C16 -> #DIV/0! | F15: =('Plan Operativo Empleate'!Q22+'Plan Operativo Empleate'!R22)/$C16 -> #DIV/0! | G15: =('Plan Operativo Empleate'!S22+'Plan Operativo Empleate'!T22)/$C16 -> #DIV/0! | H15: =('Plan Operativo Empleate'!U22+'Plan Operativo Empleate'!V22)/$C16 -> #DIV/0! | I15: =('Plan Operativo Empleate'!W22+'Plan Operativo Empleate'!X22)/$C16 -> #DIV/0! | J15: =('Plan Operativo Empleate'!Y22+'Plan Operativo Empleate'!Z22)/$C16 -> #DIV/0!
B16: 𝑁𝑜. 𝑑𝑒 preinscripciones | C16: ='Plan Operativo Empleate'!I20 -> 0
A18: Cumplimiento del Perfil | B18: 𝑁𝑜. 𝑑𝑒 personas inscritos | C18: ='Plan Operativo Empleate'!I24 -> 0 | D18: =C18/C19 -> #DIV/0! | E18: =('Plan Operativo Empleate'!O24+'Plan Operativo Empleate'!P24)/$C19 -> #DIV/0! | F18: =('Plan Operativo Empleate'!Q24+'Plan Operativo Empleate'!R24)/$C19 -> #DIV/0! | G18: =('Plan Operativo Empleate'!S24+'Plan Operativo Empleate'!T24)/$C19 -> #DIV/0! | H18: =('Plan Operativo Empleate'!U24+'Plan Operativo Empleate'!V24)/$C19 -> #DIV/0! | I18: =('Plan Operativo Empleate'!W24+'Plan Operativo Empleate'!X24)/$C19 -> #DIV/0! | J18: =('Plan Operativo Empleate'!Y24+'Plan Operativo Empleate'!Z24)/$C19 -> #DIV/0!
B19: 𝑁𝑜. 𝑑𝑒 elegibles | C19: ='Plan Operativo Empleate'!I22 -> 0
A21: Razón de atención | B21: 𝑁𝑜. 𝑑𝑒 personas atendidas | C21: ='Plan Operativo Empleate'!I28 -> 0 | D21: =C21/C22 -> #DIV/0! | E21: =('Plan Operativo Empleate'!O28+'Plan Operativo Empleate'!P28)/$C22 -> #DIV/0! | F21: =('Plan Operativo Empleate'!Q28+'Plan Operativo Empleate'!R28)/$C22 -> #DIV/0! | G21: =('Plan Operativo Empleate'!S28+'Plan Operativo Empleate'!T28)/$C22 -> #DIV/0! | H21: =('Plan Operativo Empleate'!U28+'Plan Operativo Empleate'!V28)/$C22 -> #DIV/0! | I21: =('Plan Operativo Empleate'!W28+'Plan Operativo Empleate'!X28)/$C22 -> #DIV/0! | J21: =('Plan Operativo Empleate'!Y28+'Plan Operativo Empleate'!Z28)/$C22 -> #DIV/0!
B22: 𝑁𝑜. 𝑑𝑒 inscritos | C22: ='Plan Operativo Empleate'!I24 -> 0
A24: Razón de servicios personales integrales prestados | B24: 𝑁𝑜. 𝑑𝑒 personas atendidas con dos servicios | C24: ='Plan Operativo Empleate'!I28 -> 0 | D24: =C24/C25 -> #DIV/0! | E24: =('Plan Operativo Empleate'!O28+'Plan Operativo Empleate'!P28)/$C25 -> #DIV/0! | F24: =('Plan Operativo Empleate'!Q28+'Plan Operativo Empleate'!R28)/$C25 -> #DIV/0! | G24: =('Plan Operativo Empleate'!S28+'Plan Operativo Empleate'!T28)/$C25 -> #DIV/0! | H24: =('Plan Operativo Empleate'!U28+'Plan Operativo Empleate'!V28)/$C25 -> #DIV/0! | I24: =('Plan Operativo Empleate'!W28+'Plan Operativo Empleate'!X28)/$C25 -> #DIV/0! | J24: =('Plan Operativo Empleate'!Y28+'Plan Operativo Empleate'!Z28)/$C25 -> #DIV/0!
B25: 𝑁𝑜. 𝑑𝑒 personas inscritas | C25: ='Plan Operativo Empleate'!I24 -> 0
A27: Razón de servicios organizacionales integrales prestados | B27: 𝑁𝑜. 𝑑𝑒 empleadores con un (1) servicio | C27: ='Plan Operativo Empleate'!I32 -> 0 | D27: =C27/C28 -> 0 | E27: =('Plan Operativo Empleate'!O32+'Plan Operativo Empleate'!P32)/$C28 -> 0 | F27: =('Plan Operativo Empleate'!Q32+'Plan Operativo Empleate'!R32)/$C28 -> 0 | G27: =('Plan Operativo Empleate'!S32+'Plan Operativo Empleate'!T32)/$C28 -> 0 | H27: =('Plan Operativo Empleate'!U32+'Plan Operativo Empleate'!V32)/$C28 -> 0 | I27: =('Plan Operativo Empleate'!W32+'Plan Operativo Empleate'!X32)/$C28 -> 0 | J27: =('Plan Operativo Empleate'!Y32+'Plan Operativo Empleate'!Z32)/$C28 -> 0
B28: 𝑁𝑜. 𝑑𝑒 potenciales empleadores | C28: ='Plan Operativo Empleate'!I31 -> 8
A30: Eficiencia de colocación | B30: 𝑁𝑜. 𝑑𝑒 personas colocados | C30: ='Plan Operativo Empleate'!I38 -> 0 | D30: =C30/C31 -> #DIV/0! | E30: =('Plan Operativo Empleate'!O38+'Plan Operativo Empleate'!P38)/$C31 -> #DIV/0! | F30: =('Plan Operativo Empleate'!Q38+'Plan Operativo Empleate'!R38)/$C31 -> #DIV/0! | G30: =('Plan Operativo Empleate'!S38+'Plan Operativo Empleate'!T38)/$C31 -> #DIV/0! | H30: =('Plan Operativo Empleate'!U38+'Plan Operativo Empleate'!V38)/$C31 -> #DIV/0! | I30: =('Plan Operativo Empleate'!W38+'Plan Operativo Empleate'!X38)/$C31 -> #DIV/0! | J30: =('Plan Operativo Empleate'!Y38+'Plan Operativo Empleate'!Z38)/$C31 -> #DIV/0!
B31: 𝑁𝑜. 𝑑𝑒 atendidos | C31: ='Plan Operativo Empleate'!I28 -> 0
A33: Avance Colocaciones | B33: No. de contrataciones laborales | C33: ='Plan Operativo Empleate'!I38 -> 0 | D33: =C33/C34 -> 0 | E33: =('Plan Operativo Empleate'!O38+'Plan Operativo Empleate'!P38)/$C34 -> 0 | F33: =('Plan Operativo Empleate'!Q38+'Plan Operativo Empleate'!R38)/$C34 -> 0 | G33: =('Plan Operativo Empleate'!S38+'Plan Operativo Empleate'!T38)/$C34 -> 0 | H33: =('Plan Operativo Empleate'!U38+'Plan Operativo Empleate'!V38)/$C34 -> 0 | I33: =('Plan Operativo Empleate'!W38+'Plan Operativo Empleate'!X38)/$C34 -> 0 | J33: =('Plan Operativo Empleate'!Y38+'Plan Operativo Empleate'!Z38)/$C34 -> 0
B34: No. de contraraciones laborales esperadas | C34: ='Plan Operativo Empleate'!I37 -> 52
A36: Razón de deserción | B36: No. de renuncias | C36: =SUM(E36:J36) -> 0 | D36: =C36/C37 -> #DIV/0! | E36: 0 | F36: 0 | G36: 0 | H36: 0 | I36: 0 | J36: 0
B37: No. de contrataciones laborales | C37: ='Plan Operativo Empleate'!I38 -> 0 | E37: ='Plan Operativo Empleate'!O38+'Plan Operativo Empleate'!P38 -> 0 | F37: ='Plan Operativo Empleate'!Q38+'Plan Operativo Empleate'!R38 -> 0 | G37: ='Plan Operativo Empleate'!S38+'Plan Operativo Empleate'!T38 -> 0 | H37: ='Plan Operativo Empleate'!U38+'Plan Operativo Empleate'!V38 -> 0 | I37: ='Plan Operativo Empleate'!W38+'Plan Operativo Empleate'!X38 -> 0 | J37: ='Plan Operativo Empleate'!Y38+'Plan Operativo Empleate'!Z38 -> 0
A39: Razón de despidos | B39: No. de despidos | C39: =SUM(E39:J39) -> 0 | D39: =C39/C40 -> #DIV/0! | E39: 0 | F39: 0 | G39: 0 | H39: 0 | I39: 0 | J39: 0
B40: No. de contrataciones laborales | C40: ='Plan Operativo Empleate'!I38 -> 0 | E40: ='Plan Operativo Empleate'!O38+'Plan Operativo Empleate'!P38 -> 0 | F40: ='Plan Operativo Empleate'!Q38+'Plan Operativo Empleate'!R38 -> 0 | G40: ='Plan Operativo Empleate'!S38+'Plan Operativo Empleate'!T38 -> 0 | H40: ='Plan Operativo Empleate'!U38+'Plan Operativo Empleate'!V38 -> 0 | I40: ='Plan Operativo Empleate'!W38+'Plan Operativo Empleate'!X38 -> 0 | J40: ='Plan Operativo Empleate'!Y38+'Plan Operativo Empleate'!Z38 -> 0

Sheet Hoja1
B2: PREALISTAMIENTO CANDIDATOS
B3: PRODUCTO | C3: AVANCE DE EJECUCIÓN | E3: % EJECUCIÓN
B4: Publicación Vacante | C4: 1.8275 | E4: 1.8275
B6: Selección candidatos | C6: 3.655 | E6: 3.655
B8: Validación | C8: 3.655 | E8: 3.655
B13: SERVICIOS BÁSICOS SERVICIO PÚBLICO DE EMPLEO Y CONTRAPARTIDA
B14: PRODUCTO | C14: AVANCE DE EJECUCIÓN | E14: % EJECUCIÓN
B15: Registro en sistema SISE | C15: Programado | D15: 400 | E15: =D16/D15 -> 3.6125
C16: Ejecutado | D16: 1445
B17: Taller habiliddes empleo y acompañamiento Psicosocial | C17: Programado | D17: 200 | E17: =D18/D17 -> 0.165
C18: Ejecutado | D18: 33
B19: Inscribir en el programa | C19: Programado | D19: 75 | E19: =D20/D19 -> 0.24
C20: Ejecutado | D20: 18
B23: PRODUCTO | C23: AVANCE DE EJECUCIÓN | E23: % EJECUCIÓN
B24: Colocaciones laborales | C24: Programado | D24: 75 | E24: 0.24
C25: Ejecutado | D25: 18
B26: Formación para el trabajo | C26: Programado | D26: 75 | E26: 0
C27: Ejecutado | D27: 0
B28: Examen ocupacional trabajo en alturas | C28: Programado | D28: 4 | E28: 0
C29: Ejecutado | D29: 0
B30: Gastos de viaje formación y exámenes ocupacionales | C30: Programado | D30: 3 | E30: 0
C31: Ejecutado | D31: 0
B32: Transporte | C32: Programado | D32: 2 | E32: 0
C33: Ejecutado | D33: 0
F37: FEBRERO | G37: MARZO | H37: ABRIL | I37: MAYO | J37: JUNIO
F38: 3 | G38: 15 | H38: 12 | I38: 25 | J38: 25

Sheet Formato ReSA
A1: PLAN OPERATIVO DE ACTIVIDADES CONVENIO XXX PLANIFICACION Y ALISTAMIENTO
B3: Modalidad convenio:
B4: No. convenio:
B5: Operador conviniente:
B6: Objeto:
B7: Valor del convenio
B8: Cofinanciador
B9: Aportes Cofinanciación | H9: OBLIGACIONES FINANCIERAS | K9: DETALLE DESEMBOLSOS
B10: Aportes Operador ByS | K10: PRIMERO | M10: SEGUNDO | O10: TERCERO
B11: Supervisor: | H11: APORTANTE | I11: TOTAL EFECTIVO | J11: VALOR BIENES Y SERVICIOS | K11: FECHA | L11: VALOR $ | M11: FECHA | N11: VALOR $ | O11: FECHA | P11: VALOR $
B12: Cobertura Geográfica: | H12: Prosperidad Social
B13: Fecha de inicio: | E13: Fecha de terminación: | H13: Cofinanciador: Efectivo
H14: En especie: Bienes y Servicios
X15: CRONOGRAMA DE ACTIVIDADES
A16: Etapas/componente | C16: Objetivo | D16: Presupuesto Asignado frente a Plan de Inversión Aprobado | E16: Actividad | I16: Despcripción de la Actividad | J16: Subactividad | K16: Responsable | L16: Productos Intermedios | M16: Fecha Estimada de Inicio | N16: Fecha Estimada de Finalización | O16: Fuente de Entrega | P16: Fuente de Verificación | Q16: Resultado | R16: Indicador | S16: Productos de Calidad | U16: Meta | V16: Avance | W16: Cumplimiento (%) | X16: JULIO | AB16: DICIEMBRE
S17: Encuesta de Satisfacción | T17: Producto y Servicio No Conforme | X17: 1 | Y17: 2 | Z17: 3 | AA17: 4 | AB17: 1 | AC17: 2 | AD17: 3 | AE17: 4
E18: Actividad | F18: Número de encuentros | G18: Número de personas | H18: Número de visitas
A19: MOTIVACIÓN
A20: VISITAS DE ASISTENCIA TÉCNICA
A21: INSUMOS AGRICOLAS
A22: INSUMOS EDUCACIÓN ALIMENTARIA Y NUTRICIONAL
A23: DIFUSIÓN
A24: RECURSO HUMANO MINIMO
A25: GASTOS ADMINISTRATIVOS | F25: N/A | G25: N/A
A27: Sistema Integrado de Gestión | F27: Registro de Hogares en Aplicativos DIP
A28: Herramienta | B28: Etapa/ componete a evaluar | C28: Fecha estimada de aplicación | D28: Observación | F28: Herramienta | G28: Programadas | H28: Registradas | I28: % Cumplimiento
A29: Producto y servicio conforme | F29: Sistema de Seguimiento y Monitoreo | G29: 0 | H29: 0 | I29: =+H29/G29 -> #DIV/0!
A30: Encuesta de satisfacción | F30: Sistema Linea Base (sí aplica) | G30: 0 | H30: 0 | I30: =+H30/G30 -> #DIV/0!
