Workbook

Sheet Hoja6
A2: SELECCIÓN ABREVIADA DE MENOR CUANTÍA N° 9015XXX DE 2025
A3: OBJETO: Adecuación y mantenimiento integral de la infraestructura física, eléctrica, electromecánica y de red de datos en la sede de Migración Colombia en el Distrito Especial de Medellín.

Sheet EXPERIENCIA
A2: =[1]Hoja1!A1 -> SECRETARÍA DE SEGURIDAD Y CONVIVENCIA
A3: =+Hoja6!A2 -> SELECCIÓN ABREVIADA DE MENOR CUANTÍA N° 9015XXX DE 2025
A5: =+Hoja6!A3 -> OBJETO: Adecuación y mantenimiento integral de la infraestructura física, eléctrica, electromecánica y de red de datos en la sede de Migración Colombia en el Distrito Especial de Medellín.
A7: FORMATO A
A8: ='[1]DATOS PROCESO'!A8 -> CONTRATOS EN EJECUCIÓN PARA LA EXPERIENCIA
J10: ='[1]DATOS PROCESO'!I10 -> SUSPENSIONES (5)
A11: Columna1 | B11: Columna2 | C11: Columna3 | D11: Columna4 | E11: Columna5 | F11: Columna6 | G11: Columna7 | H11: Columna8 | I11: Columna9 | J11: Columna10 | K11: Columna11 | L11: Columna12
A12: ='[1]DATOS PROCESO'!A10 -> CONTRATO NO. (1) | B12: ='[1]DATOS PROCESO'!B10 -> OBJETO DEL CONTRATO | C12: ='[1]DATOS PROCESO'!C10 -> CONTRATANTE | D12: ='[1]DATOS PROCESO'!D10 -> FORMA DE EJECUCIÓN (2) | E12: ='[1]DATOS PROCESO'!E10 -> % DE PARTICIPACION | F12: ='[1]DATOS PROCESO'!F10 -> VALOR COP (3) | G12: VALOR PONDERADO (Según el % de participación) | H12: ='[1]DATOS PROCESO'!G10 -> PLAZO (MESES) (4) | I12: ='[1]DATOS PROCESO'!H10 -> FECHA INICIO (dd/mm/aaaa) | J12: ='[1]DATOS PROCESO'!I11 -> SUSPENSIONES (5) SELECCIONAR SI o NO | K12: ='[1]DATOS PROCESO'!J11 -> SUSPENSIONES (5) FECHA INICIO (dd/mm/aaaa) | L12: ='[1]DATOS PROCESO'!K11 -> SUSPENSIONES (5) FECHA TERMINACIÓN (dd/mm/aaaa)
G13: =F13*E13 -> 0
G14: =F14*E14 -> 0
G15: =F15*E15 -> 0
G16: =F16*E16 -> 0
G17: =F17*E17 -> 0
G18: =F18*E18 -> 0
G19: =F19*E19 -> 0
G20: =F20*E20 -> 0
G21: =F21*E21 -> 0
G22: =F22*E22 -> 0
G23: =F23*E23 -> 0
G24: =F24*E24 -> 0
... G27: =F27*E27 -> 0
D28: TOTALES | F28: =SUM(F13:F27) -> 0 | G28: =SUM(G13:G27) -> 0
A29: Nota 1:
A30: (1) Contratos de obras civiles en ejecución, incluyendo los suspendidos y aquellos que no tengan acta de inicio.
A31: (2) Indicar si el contrato se ejecuta en forma Individual (I), en Consorcio (C) o Unión Temporal (UT). | H31: Nota 2:
A32: (3) Valor total del contrato expresado en moneda legal colombiana. | H32: SI EL PROPONENTE NO TIENE CONTRATOS EN EJECUCIÓN, EN ESTE FORMULARIO DEBE DEJAR CONSTANCIA EXPRESA DE ESA CIRCUNSTANCIA
A33: (4) Plazo total de contrato incluyendo las ampliaciones.
A34: (5) Si el contrato presenta mas de una suspensión deberán informarlas todas, Si a la fecha de cierre del presente proceso en contrato se encuentra suspendido no diligenciar la "Fecha de Terminación".
A37: El formulario debe ser diligenciado en su totalidad. En todo caso la evaluación se efectuara conforme lo dispuesto en el pliego.
A38: Para el caso de proponentes plurales se debe entregar formulario por cada uno de los integrantes
A41: Nombre del Proponente Individual o Integrante del Consorcio:
A45: Firma representante legal del Oferente | E45: Firma del auditor o revisor fiscal
A46: Nombre: | E46: Nombre:
A47: Cargo: | E47: Cargo:
A48: Documento de Identidad: | E48: Documento de Identidad:

Sheet CAPACIDAD RESIDUAL
A2: =[1]Hoja1!$A$1 -> SECRETARÍA DE SEGURIDAD Y CONVIVENCIA
A3: =+Hoja6!A2 -> SELECCIÓN ABREVIADA DE MENOR CUANTÍA N° 9015XXX DE 2025
A5: =+Hoja6!A3 -> OBJETO: Adecuación y mantenimiento integral de la infraestructura física, eléctrica, electromecánica y de red de datos en la sede de Migración Colombia en el Distrito Especial de Medellín.
A7: Formato c
A8: FORMATO EXPERIENCIA DEL PROPONENTE – CALCULO CAPACIDAD RESIDUAL
A9: (Para proponente o integrante nacional, o extranjero CON SUCURSAL en Colombia)
A11: Nombre Proponente o Integrante:
A13: Contrato No. | B13: Valor del Contrato Relacionado (EN SMMLV) | C13: Participación Porcentual (%) del Proponente o Integrante del Oferente Plural en el contrato | D13: Valor del SMMLV Vigente 2025 | E13: Valor del Contrato (Valor Ponderado por la Participación)
B14: (A) | C14: (B) | D14: (C) | E14: (A*B*C)
A15: 1 | D15: 1423500 | E15: =+B15*C15*D15 -> 0
A16: 2 | D16: 1423500 | E16: =+B16*C16*D16 -> 0
A17: 3 | D17: 1423500 | E17: =+B17*C17*D17 -> 0
A18: 4 | D18: 1423500 | E18: =+B18*C18*D18 -> 0
A19: 5 | D19: 1423500 | E19: =+B19*C19*D19 -> 0
A20: 6 | D20: 1423500 | E20: =+B20*C20*D20 -> 0
A21: 7 | D21: 1423500 | E21: =+B21*C21*D21 -> 0
A22: 8 | D22: 1423500 | E22: =+B22*C22*D22 -> 0
A23: 9 | D23: 1423500 | E23: =+B23*C23*D23 -> 0
A24: 10 | D24: 1423500 | E24: =+B24*C24*D24 -> 0
A25: … | D25: 1423500 | E25: =+B25*C25*D25 -> 0
A26: n | D26: 1423500 | E26: =+B26*C26*D26 -> 0
A27: TOTAL | E27: =SUM(E15:E26) -> 0
A28: (Diligenciar únicamente las columnas sombreadas)
A30: Nota 1. Los Representantes Legales de los integrantes del Oferente Plural deben suscribir cada uno el presente documento.
A32: En constancia de lo anterior firmo este documento a los xxxxxxxxxx [xx] días del mes de xxxxxxxxxx de xxxxxxxxxxx 202
A36: Firma Representante Legal del Oferente: | D36: Firma Contador Pub. y/o Revisor Fiscal:
A37: Nombre: | D37: Nombre:
A38: Cargo: | D38: Cargo:
A39: Documento de Identidad: | D39: Documento de Identidad:

Sheet CAPACIDAD TECNICA
A2: =[1]Hoja1!$A$1 -> SECRETARÍA DE SEGURIDAD Y CONVIVENCIA
A3: =+Hoja6!A2 -> SELECCIÓN ABREVIADA DE MENOR CUANTÍA N° 9015XXX DE 2025
A5: =+Hoja6!A3 -> OBJETO: Adecuación y mantenimiento integral de la infraestructura física, eléctrica, electromecánica y de red de datos en la sede de Migración Colombia en el Distrito Especial de Medellín.
A7: Formulario D
A8: CAPACIDAD TÉCNICA - Cr
A10: No. | B10: Nombre del socio y/o profesional de la arquitectura, ingeniería o geologia | C10: Marcar con una X | E10: Profesión | F10: No. Matricula profesional | G10: Numero y año del contrato laboral o de prestación de servicios profesionales | H10: Vigencia del Contrato
C11: Socio | D11: Empleado
A34: Firma representante legal del Oferente | E34: Firma del auditor o revisor fiscal
A35: Nombre: | E35: Nombre:
A36: Cargo: | E36: Cargo:
A37: Documento de Identidad: | E37: Documento de Identidad:
