Workbook
Name _IPC2018: '[1]Tarifas IDRD 2022'!#REF!
Name _IPC2018: '[1]Tarifas IDRD 2022'!#REF!
Name _IPC2018: 'Tarifas 2025'!#REF!
Name _IPC2022: '[1]Tarifas IDRD 2022'!#REF!
Name AMPAROS_DIS: Tabla2[#All]
Name AMPAROS_DIS: #REF!
Name AMPAROS_DIS: #REF!
Name AMPAROS_DIS: Tabla2[#All]
Name AMPAROS_OBR: #REF!
Name AMPAROS_OBR: [1]!Tabla5[#All]
Name AMPAROS_OBR: [1]!Tabla5[#All]
Name AMPAROS_OBR: #REF!
Name AMPAROS_OBRAS: [1]!Tabla5[#All]
Name AMPAROS_OS: #REF!
Name CIO: '[1]BASE CIO 2022'!$A:$F
Name CIO: '[1]BASE CIO 2022'!$A:$F
Name CIO: 'INSUMOS 2025'!$A:$F
Name ESPE2: 'Tarifas 2025'!$L$2:$L$19
Name PERS_OBRA: Tabla1[#All]
Name PERS_OBRA: [1]!Tabla1[#All]
Name PERS_OBRA: [1]!Tabla1[#All]
Name PERS_OBRA: Tabla1[#All]
Name PERSONAL_OBRA: [1]!Tabla1[#All]
Name PROF3: 'Tarifas 2025'!$M$2:$M$29
Name PROF4: 'Tarifas 2025'!$N$2:$N$38
Name PROF5: 'Tarifas 2025'!$O$2:$O$39
Name PROF6: 'Tarifas 2025'!$P$2:$P$22
Name PROF7: 'Tarifas 2025'!$R$2:$R$14
Name PROF8: 'Tarifas 2025'!$S$2:$S$2
Name PROFAUX: 'Tarifas 2025'!$T$2:$T$4
Name TARIFA_IDRD: '[1]Tarifas IDRD 2022'!$A$2:$G$38
Name TARIFA_IDRD: '[1]Tarifas IDRD 2022'!$A$2:$G$38
Name TARIFA_IDRD: 'Tarifas 2025'!$A$2:$J$37
Name Tipo_Ensayo: '[2]EnsayosLab y Campamento'!$B$3:$B$390

Sheet Portada
A9: UNIDAD ADMINISTRATIVA ESPECIAL DE ORGANIZACIONES SOLIDARIAS
A10: OBRA PÚBLICA - ADECUACIÓN Y REMODELACIÓN SEXTO PISO
A11: INSTALACIONES DE LA ENTIDAD
A16: CÁLCULOS DE AIU DE OBRA V-3
A17: PROYECTO ADECUACIÓN Y REMODELACIÓN SEXTO PISO EDIFICIO SEDE CENTRAL EN BOGOTÁ D.C.
A18: COMPONENTE PRESUPUESTAL
A22: LLEVAR A CABO LA ADECUACIÓN Y REMODELACIÓN DEL SEXTO PISO DE LA SEDE CENTRAL DE LA UNIDAD ADMINISTRATIVA ESPECIAL DE ORGANIZACIONES SOLIDARIAS UBICADA EN LA CRA. 10 NO. 15-22 BOGOTÁ D.C. POR EL SISTEMA DE PRECIOS FIJOS Y VALORES UNITARIOS SIN FÓRMULA DE REAJUSTE.
A30: 45870
A31: ,

Sheet Presupuesto Of.
A1: =+Portada!A9 -> UNIDAD ADMINISTRATIVA ESPECIAL DE ORGANIZACIONES SOLIDARIAS
A2: PRESUPUESTO OFICIAL
A4: OBJETO:
A5: =+Portada!A22 -> LLEVAR A CABO LA ADECUACIÓN Y REMODELACIÓN DEL SEXTO PISO DE LA SEDE CENTRAL DE LA UNIDAD ADMINISTRATIVA ESPECIAL DE ORGANIZACIONES SOLIDARIAS UBICADA EN LA CRA. 10 NO. 15-22 BOGOTÁ D.C. POR EL SISTEMA DE PRECIOS FIJOS Y VALORES UNITARIOS SIN FÓRMULA DE REAJUSTE.
A6: =+Portada!A16 -> CÁLCULOS DE AIU DE OBRA V-3
A7: =[1]Portada!A24 -> 0
A8: Tiempo de desarrollo total | C8: =+Portada!A17 -> PROYECTO ADECUACIÓN Y REMODELACIÓN SEXTO PISO EDIFICIO SEDE CENTRAL EN BOGOTÁ D.C. | F8: de | G8: =+Personal!AJ6 -> 3 | H8: meses distribuidos así:
A10: Periodo de | B10: ETAPA INGENIERÍA DETALLE | C10: 0.5 | D10: MES
A11: Periodo de | B11: ETAPA DE OBRA | C11: 3 | D11: MESES
A15: Este presupuesto fue calculado por | D15: =+A36 -> ARQ. OSCAR ENRIQUE MAYORGA TORRADO | F15: del Grupo de Gestión Administrativa
A20: =+Resumen!A6 -> I. PERSONAL | E20: =+Resumen!C12 -> 97149978
A21: =+Resumen!A14 -> II. + III. COSTOS DIRECTOS OPERACIONALES: ALQUILER DE EQUIPOS, ENSAYOS DE LABORATORIO, SUMINISTROS Y OTROS ELEMENTOS | E21: =+Resumen!C17 -> 5646139
A22: =+Resumen!A19 -> IV. OTROS COSTOS DIRECTOS OPERACIONALES: CAMPAMENTO, CERRAMIENTOS, VIGILANCIA, ETC. | E22: =+Resumen!C21 -> 3446991
A23: =+Resumen!A22 -> IV. SUBTOTAL DE PERSONAL Y COSTOS DIRECTOS OPERACIONALES | E23: =+Resumen!C22 -> 106243108
A24: TOTAL | E24: =SUM(E20:E23) -> 212486216
A25: =[3]Resumen!A31 -> ADMINISTRACIÓN | D25: =+Resumen!B30 -> 0.2894 | E25: =+Resumen!C30 -> 188262574
A26: =[3]Resumen!A32 -> IMPREVISTOS | D26: =+Resumen!B31 -> 0.01 | E26: =+Resumen!C31 -> 8829252
A27: =[3]Resumen!A33 -> UTILIDAD | D27: =+Resumen!B32 -> 0.04 | E27: =+Resumen!C32 -> 35317010
A28: =[3]Resumen!A35 -> VALOR TOTAL DEL AIU | D28: =+Resumen!B34 -> 0.3394 | E28: =+Resumen!C34 -> 232408836
A30: VALOR PRESUPUESTO TOTAL DE OBRA | E30: =+'[5]UAEOS 6o. Piso Presp V3'!$N$7 -> 744063375
A32: Elaboró:
A36: ARQ. OSCAR ENRIQUE MAYORGA TORRADO
A38: Cargo | B38: Contratista HUSJDMI
A43: Revisó:
A44: ÁNGELA MARIA GUTIÉRREZ RESTREPO

Sheet Tarifas 2025
A1: ESCALAS SALARIALES PERSONAL 2024 - 2025 - 2026 | K1: ESPECIALISTA (I) CATEGORÍA 1 (E.G.12;E.E.10) | L1: ESPECIALISTA (II) CATEGORÍA 2 (E.G.10;E.E.7) | M1: PROFESIONAL CATEGORÍA 3 (E.G.8;E.E.5) | N1: PROFESIONAL CATEGORÍA 4 (E.G.6;E.E.4) | O1: PROFESIONAL CATEGORÍA 5 (E.G.4;E.E.3) | P1: PROFESIONAL CATEGORÍA 6 (E.G.3;E.E.1) | Q1: PROFESIONAL CATEGORÍA 6A (E.G.3;E.E.1) | R1: PROFESIONAL CATEGORÍA 7 (E.G.2) | S1: PROFESIONAL CATEGORÍA 8 (E.G.2) | T1: PROFESIONAL AUXILIAR | W1: Seriedad De La Oferta
A2: DESCRIPCIÓN FUNCIONAL | B2: CATEGORÍA | C2: NIVEL | D2: EQUIV | E2: TARIFAS 2022 5,62% | F2: tarifa 2023 incre. IPC 13,12% | G2: Tarifa 2024 Increm.. IPC 9,28% | H2: Tarifa 2025 Proy. IPC 5,20% | I2: Tarifa 2026 Proy. IPC 3,90% | J2: tarifa 2024 Proy. IPC 7,86% | L2: Asesor Director | M2: Director Construcciones | N2: Ing. Ambiental y/o Sanitario (Coordinador Componente) | O2: Residente de Interventoría | P2: Abogado | R2: Residente 2 | S2: Ing. Calidad | T2: Ingeniero Auxiliar | W2: Cumplimiento
F3: 0.1312 | G3: 0.0928 | H3: 0.052 | I3: 0.039 | J3: 0.0786 | L3: Director de Obra | M3: Director Interventoría | N3: Especialista Arq. Diseñador Junior | O3: Calidad | P3: Ingeniero Hidrosanitario y Gas | R3: Ing. Eléctrico | T3: Auxiliar Administrativo | W3: Buen Manejo Del Anticipo
A4: ASESOR | C4: PERSONAL PROFESIONAL | D4: =IF(A4=$K$1,"ESPE1",IF(A4=$L$1,"ESPE2",IF(A4=$M$1,"PROF3",IF(A4=$N$1,"PROF4",IF(A4=$O$1,"PROF5",IF(A4=$P$1,"PROF6",IF(A4=$Q$1,"PROF6A",IF(A4=$R$1,"PROF7",IF(A4=$S$1,"PROF8",IF(A4=$T$1,"PROFAUX",A4)))))))))) -> ASESOR | E4: 12702869 | F4: =ROUND(E4+(E4*$F$3),0) -> 14369485 | G4: =+F4+(F4*$G$3) -> 15702973 | H4: =+G4+(F4*$H$3) -> 16450186 | I4: =+H4+(H4*$I$3) -> 17091744 | J4: =ROUND(F4+(F4*$J$3),0) -> 15498927 | K4: Director del Equipo Validador | L4: Director de Interventoría | M4: Director de Obra | N4: Especialista Arq. Paisajista | O4: Director del proyecto | P4: Profesional Presupuestos y Porgramación | R4: Ing. Calidad | T4: Arquitecto Auxiliar | W4: Pago De Salarios, Prestaciones
A5: ESPECIALISTA (I) CATEGORÍA 1 (E.G.12;E.E.10) | B5: 1 | C5: PERSONAL PROFESIONAL | D5: =IF(A5=$K$1,"ESPE1",IF(A5=$L$1,"ESPE2",IF(A5=$M$1,"PROF3",IF(A5=$N$1,"PROF4",IF(A5=$O$1,"PROF5",IF(A5=$P$1,"PROF6",IF(A5=$Q$1,"PROF6A",IF(A5=$R$1,"PROF7",IF(A5=$S$1,"PROF8",IF(A5=$T$1,"PROFAUX",A5)))))))))) -> ESPE1 | E5: 11935649 | F5: =ROUND(E5+(E5*$F$3),0) -> 13501606 | G5: =+F5+(F5*$G$3) -> 14754555 | H5: =+G5+(F5*$H$3) -> 15456639 | I5: =+H5+(H5*$I$3) -> 16059447 | J5: =ROUND(F5+(F5*$J$3),0) -> 14562832 | L5: Director de Obra Eléctrico | M5: Especialista Geotecnista | N5: Arq. o Ing. Bioclimático | O5: Profesional SG-SST | P5: Profesional Calidad | R5: Ing. Transito | W5: Estabilidad De La Obra
A6: ESPECIALISTA (II) CATEGORÍA 2 (E.G.10;E.E.7) | B6: 2 | C6: PERSONAL PROFESIONAL | D6: =IF(A6=$K$1,"ESPE1",IF(A6=$L$1,"ESPE2",IF(A6=$M$1,"PROF3",IF(A6=$N$1,"PROF4",IF(A6=$O$1,"PROF5",IF(A6=$P$1,"PROF6",IF(A6=$Q$1,"PROF6A",IF(A6=$R$1,"PROF7",IF(A6=$S$1,"PROF8",IF(A6=$T$1,"PROFAUX",A6)))))))))) -> ESPE2 | E6: 7919042 | F6: =ROUND(E6+(E6*$F$3),0) -> 8958020 | G6: =+F6+(F6*$G$3) -> 9789324.3 | H6: =+G6+(F6*$H$3) -> 10255141 | I6: =+H6+(H6*$I$3) -> 10655092 | J6: =ROUND(F6+(F6*$J$3),0) -> 9662120 | L6: Gerente de Proyecto | M6: Diseñador Estructural | N6: Director de Estudios y Diseños y Obra | O6: Especialista Estructural | P6: Profesional Seguridad y Salud en el Trabajo SST | R6: Ing. Forestal de apoyo | W6: Calidad Del Bien O Servicio
A7: PROFESIONAL CATEGORÍA 3 (E.G.8;E.E.5) | B7: 3 | C7: PERSONAL PROFESIONAL | D7: =IF(A7=$K$1,"ESPE1",IF(A7=$L$1,"ESPE2",IF(A7=$M$1,"PROF3",IF(A7=$N$1,"PROF4",IF(A7=$O$1,"PROF5",IF(A7=$P$1,"PROF6",IF(A7=$Q$1,"PROF6A",IF(A7=$R$1,"PROF7",IF(A7=$S$1,"PROF8",IF(A7=$T$1,"PROFAUX",A7)))))))))) -> PROF3 | E7: 7615465 | F7: =ROUND(E7+(E7*$F$3),0) -> 8614614 | G7: =+F7+(F7*$G$3) -> 9414050.2 | H7: =+G7+(F7*$H$3) -> 9862010.1 | I7: =+H7+(H7*$I$3) -> 10246629 | J7: =ROUND(F7+(F7*$J$3),0) -> 9291723 | L7: Abogado espe. En contratación pública | M7: Ingeniero Residente | N7: Director de Interventoría | O7: Abogado Contratación | P7: Ingeniero o Arquitecto Residente de Obra | R7: Ing. Programación | W7: Correcto Funcionamiento
A8: PROFESIONAL CATEGORÍA 4 (E.G.6;E.E.4) | B8: 4 | C8: PERSONAL PROFESIONAL | D8: =IF(A8=$K$1,"ESPE1",IF(A8=$L$1,"ESPE2",IF(A8=$M$1,"PROF3",IF(A8=$N$1,"PROF4",IF(A8=$O$1,"PROF5",IF(A8=$P$1,"PROF6",IF(A8=$Q$1,"PROF6A",IF(A8=$R$1,"PROF7",IF(A8=$S$1,"PROF8",IF(A8=$T$1,"PROFAUX",A8)))))))))) -> PROF4 | E8: 6405660 | F8: =ROUND(E8+(E8*$F$3),0) -> 7246083 | G8: =+F8+(F8*$G$3) -> 7918519.5 | H8: =+G8+(F8*$H$3) -> 8295315.8 | I8: =+H8+(H8*$I$3) -> 8618833.1 | J8: =ROUND(F8+(F8*$J$3),0) -> 7815625 | L8: Biólogo | M8: Especialista Hidráulico | N8: Especialista Eléctrico | O8: Especialista Geotecnia | P8: SISO | R8: Ing. Ambiental | W8: Provision Repuestos Y Accesorios
A9: PROFESIONAL CATEGORÍA 5 (E.G.4;E.E.3) | B9: 5 | C9: PERSONAL PROFESIONAL | D9: =IF(A9=$K$1,"ESPE1",IF(A9=$L$1,"ESPE2",IF(A9=$M$1,"PROF3",IF(A9=$N$1,"PROF4",IF(A9=$O$1,"PROF5",IF(A9=$P$1,"PROF6",IF(A9=$Q$1,"PROF6A",IF(A9=$R$1,"PROF7",IF(A9=$S$1,"PROF8",IF(A9=$T$1,"PROFAUX",A9)))))))))) -> PROF5 | E9: 5056860 | F9: =ROUND(E9+(E9*$F$3),0) -> 5720320 | G9: =+F9+(F9*$G$3) -> 6251165.7 | H9: =+G9+(F9*$H$3) -> 6548622.3 | I9: =+H9+(H9*$I$3) -> 6804018.6 | J9: =ROUND(F9+(F9*$J$3),0) -> 6169937 | L9: Arquitecto Asesor - Maestria | M9: Ing. Ambiental | N9: Especialista Estructural | O9: Ing. En Informática o Telecomunic. O Electrico o Electrónico o Experto en seguridad | P9: Ing. Geotecnista | R9: Arqueólogo | W9: Responsabilidad Civil Extracontractual
A10: PROFESIONAL CATEGORÍA 6 (E.G.3;E.E.1) | B10: 6 | C10: PERSONAL PROFESIONAL | D10: =IF(A10=$K$1,"ESPE1",IF(A10=$L$1,"ESPE2",IF(A10=$M$1,"PROF3",IF(A10=$N$1,"PROF4",IF(A10=$O$1,"PROF5",IF(A10=$P$1,"PROF6",IF(A10=$Q$1,"PROF6A",IF(A10=$R$1,"PROF7",IF(A10=$S$1,"PROF8",IF(A10=$T$1,"PROFAUX",A10)))))))))) -> PROF6 | E10: 4963432 | F10: =ROUND(E10+(E10*$F$3),0) -> 5614634 | G10: =+F10+(F10*$G$3) -> 6135672 | H10: =+G10+(F10*$H$3) -> 6427633 | I10: =+H10+(H10*$I$3) -> 6678310.7 | J10: =ROUND(F10+(F10*$J$3),0) -> 6055944 | L10: Arquitecto Diseñador Senior - Maestria | M10: Arquitecto Urbanista | N10: Especialista Hidráulico | O10: Ingeniero Eléctrico Esp. Redes Secas | P10: Ingeniero Eléctrico | R10: SISO | W10: Disposiciones Legales
A11: PROFESIONAL CATEGORÍA 6A (E.G.3;E.E.1) | B11: 9 | C11: PERSONAL PROFESIONAL | D11: =IF(A11=$K$1,"ESPE1",IF(A11=$L$1,"ESPE2",IF(A11=$M$1,"PROF3",IF(A11=$N$1,"PROF4",IF(A11=$O$1,"PROF5",IF(A11=$P$1,"PROF6",IF(A11=$Q$1,"PROF6A",IF(A11=$R$1,"PROF7",IF(A11=$S$1,"PROF8",IF(A11=$T$1,"PROFAUX",A11)))))))))) -> PROF6A | E11: 5159596 | F11: =ROUND(E11+(E11*$F$3),0) -> 5836535 | G11: =+F11+(F11*$G$3) -> 6378165.4 | H11: =+G11+(F11*$H$3) -> 6681665.3 | I11: =+H11+(H11*$I$3) -> 6942250.2 | J11: =ROUND(F11+(F11*$J$3),0) -> 6295287 | L11: Arquitecto Diseñador Junior - Especialización | M11: Arquitecto Paisajista | N11: Trabajador Social | O11: Ingeniero Eléctrico Diseñador | P11: Arquitecto | R11: Trabajador Social
A12: CONTADOR | B12: 7 | C12: PERSONAL PROFESIONAL | D12: =IF(A12=$K$1,"ESPE1",IF(A12=$L$1,"ESPE2",IF(A12=$M$1,"PROF3",IF(A12=$N$1,"PROF4",IF(A12=$O$1,"PROF5",IF(A12=$P$1,"PROF6",IF(A12=$Q$1,"PROF6A",IF(A12=$R$1,"PROF7",IF(A12=$S$1,"PROF8",IF(A12=$T$1,"PROFAUX",A12)))))))))) -> CONTADOR | E12: 4922862 | F12: =ROUND(E12+(E12*$F$3),0) -> 5568741 | G12: =+F12+(F12*$G$3) -> 6085520.2 | H12: =+G12+(F12*$H$3) -> 6375094.7 | I12: =+H12+(H12*$I$3) -> 6623723.4 | J12: =ROUND(F12+(F12*$J$3),0) -> 6006444 | L12: Arquitecto Urbanista | M12: Especialista Eléctrico | N12: Ingeniero Esp. Geotecnia y Pavimentos | O12: Ingeniero Hidráulico Esp. Redes Húmedas y Gas | P12: Ingeniero Agrónomo Residente | R12: Ing. Hidráulico
A13: TRABAJADOR SOCIAL | B13: 8 | C13: PERSONAL PROFESIONAL | D13: =IF(A13=$K$1,"ESPE1",IF(A13=$L$1,"ESPE2",IF(A13=$M$1,"PROF3",IF(A13=$N$1,"PROF4",IF(A13=$O$1,"PROF5",IF(A13=$P$1,"PROF6",IF(A13=$Q$1,"PROF6A",IF(A13=$R$1,"PROF7",IF(A13=$S$1,"PROF8",IF(A13=$T$1,"PROFAUX",A13)))))))))) -> TRABAJADOR SOCIAL | E13: 4661023 | F13: =ROUND(E13+(E13*$F$3),0) -> 5272549 | G13: =+F13+(F13*$G$3) -> 5761841.5 | H13: =+G13+(F13*$H$3) -> 6036014.1 | I13: =+H13+(H13*$I$3) -> 6271418.6 | J13: =ROUND(F13+(F13*$J$3),0) -> 5686971 | L13: Especialista Geotecnista | M13: Especialista Bioclimático | N13: Ing. Especialista en Pavimentos | O13: Ingeniero Mecánico | P13: Ingeniero Forestal | R13: Presupuesto y cantificacion de obra
A14: PROFESIONAL CATEGORÍA 7 (E.G.2) | B14: 10 | C14: PERSONAL PROFESIONAL | D14: =IF(A14=$K$1,"ESPE1",IF(A14=$L$1,"ESPE2",IF(A14=$M$1,"PROF3",IF(A14=$N$1,"PROF4",IF(A14=$O$1,"PROF5",IF(A14=$P$1,"PROF6",IF(A14=$Q$1,"PROF6A",IF(A14=$R$1,"PROF7",IF(A14=$S$1,"PROF8",IF(A14=$T$1,"PROFAUX",A14)))))))))) -> PROF7 | E14: 4008252 | F14: =ROUND(E14+(E14*$F$3),0) -> 4534135 | G14: =+F14+(F14*$G$3) -> 4954902.7 | H14: =+G14+(F14*$H$3) -> 5190677.7 | I14: =+H14+(H14*$I$3) -> 5393114.2 | J14: =ROUND(F14+(F14*$J$3),0) -> 4890518 | L14: Diseñador Estructural | M14: Esp. Electrónico (sonido, video) | N14: Residente de Obra | O14: Ingeniero Seguridad y Control | P14: Diseñador Gráfico. (Señalitica y señalizacion) | R14: Arq. o Ing. Auxiliar
A15: PROFESIONAL CATEGORÍA 8 (E.G.2) | B15: 11 | C15: PERSONAL PROFESIONAL | D15: =IF(A15=$K$1,"ESPE1",IF(A15=$L$1,"ESPE2",IF(A15=$M$1,"PROF3",IF(A15=$N$1,"PROF4",IF(A15=$O$1,"PROF5",IF(A15=$P$1,"PROF6",IF(A15=$Q$1,"PROF6A",IF(A15=$R$1,"PROF7",IF(A15=$S$1,"PROF8",IF(A15=$T$1,"PROFAUX",A15)))))))))) -> PROF8 | E15: 3648964 | F15: =ROUND(E15+(E15*$F$3),0) -> 4127708 | G15: =+F15+(F15*$G$3) -> 4510759.3 | H15: =+G15+(F15*$H$3) -> 4725400.1 | I15: =+H15+(H15*$I$3) -> 4909690.7 | J15: =ROUND(F15+(F15*$J$3),0) -> 4452146 | L15: Consultor Financiero | M15: Esp. Seguridad y control CCTV | N15: Residente de Obra Esp. Restauración Patrimonial | O15: Arq. Presupuesto, Programación y Control | P15: Ingeniero Tránsito
A16: PROFESIONAL AUXILIAR | B16: 12 | C16: PERSONAL PROFESIONAL | D16: =IF(A16=$K$1,"ESPE1",IF(A16=$L$1,"ESPE2",IF(A16=$M$1,"PROF3",IF(A16=$N$1,"PROF4",IF(A16=$O$1,"PROF5",IF(A16=$P$1,"PROF6",IF(A16=$Q$1,"PROF6A",IF(A16=$R$1,"PROF7",IF(A16=$S$1,"PROF8",IF(A16=$T$1,"PROFAUX",A16)))))))))) -> PROFAUX | E16: 2168806 | F16: =ROUND(E16+(E16*$F$3),0) -> 2453353 | G16: =+F16+(F16*$G$3) -> 2681024.2 | H16: =+G16+(F16*$H$3) -> 2808598.5 | I16: =+H16+(H16*$I$3) -> 2918133.9 | J16: =ROUND(F16+(F16*$J$3),0) -> 2646187 | L16: Consultor Jurídico | M16: Ingeniero Mecánico | N16: Ingeniero Residente de Interventoría | O16: Residente BIM Presupuestos y Programación | P16: Coordinador de Estudios y Diseños
A17: Topógrafo 1 | B17: 13 | C17: PERSONAL TÉCNICO O TECNÓLOGO | D17: =IF(A17=$K$1,"ESPE1",IF(A17=$L$1,"ESPE2",IF(A17=$M$1,"PROF3",IF(A17=$N$1,"PROF4",IF(A17=$O$1,"PROF5",IF(A17=$P$1,"PROF6",IF(A17=$Q$1,"PROF6A",IF(A17=$R$1,"PROF7",IF(A17=$S$1,"PROF8",IF(A17=$T$1,"PROFAUX",A17)))))))))) -> Topógrafo 1 | E17: 2798615 | F17: =ROUND(E17+(E17*$F$3),0) -> 3165793 | G17: =+F17+(F17*$G$3) -> 3459578.6 | H17: =+G17+(F17*$H$3) -> 3624199.8 | I17: =+H17+(H17*$I$3) -> 3765543.6 | J17: =ROUND(F17+(F17*$J$3),0) -> 3414624 | L17: Consultor técnico | M17: Asesor | N17: Ingeniero Residente Eléctrico | O17: Modelador BIM | P17: Biologo
A18: Topógrafo Auxiliar | B18: 14 | C18: PERSONAL TÉCNICO O TECNÓLOGO | D18: =IF(A18=$K$1,"ESPE1",IF(A18=$L$1,"ESPE2",IF(A18=$M$1,"PROF3",IF(A18=$N$1,"PROF4",IF(A18=$O$1,"PROF5",IF(A18=$P$1,"PROF6",IF(A18=$Q$1,"PROF6A",IF(A18=$R$1,"PROF7",IF(A18=$S$1,"PROF8",IF(A18=$T$1,"PROFAUX",A18)))))))))) -> Topógrafo Auxiliar | E18: 2228043 | F18: =ROUND(E18+(E18*$F$3),0) -> 2520362 | G18: =+F18+(F18*$G$3) -> 2754251.6 | H18: =+G18+(F18*$H$3) -> 2885310.4 | I18: =+H18+(H18*$I$3) -> 2997837.5 | J18: =ROUND(F18+(F18*$J$3),0) -> 2718462 | L18: Especialista en Acústica | M18: Prof. En Calidad de Obra Ing o Arq | N18: Ineniero Residente Especializado en Estructuras | O18: Arquitecto Esp. Imágenes, Videos 3D | P18: Contador Publico
A19: Tecnólogo En Ingeniería | B19: 15 | C19: PERSONAL TÉCNICO O TECNÓLOGO | D19: =IF(A19=$K$1,"ESPE1",IF(A19=$L$1,"ESPE2",IF(A19=$M$1,"PROF3",IF(A19=$N$1,"PROF4",IF(A19=$O$1,"PROF5",IF(A19=$P$1,"PROF6",IF(A19=$Q$1,"PROF6A",IF(A19=$R$1,"PROF7",IF(A19=$S$1,"PROF8",IF(A19=$T$1,"PROFAUX",A19)))))))))) -> Tecnólogo En Ingeniería | E19: 2474046 | F19: =ROUND(E19+(E19*$F$3),0) -> 2798641 | G19: =+F19+(F19*$G$3) -> 3058354.9 | H19: =+G19+(F19*$H$3) -> 3203884.2 | I19: =+H19+(H19*$I$3) -> 3328835.7 | J19: =ROUND(F19+(F19*$J$3),0) -> 3018614 | L19: Especialista PMI | M19: Coordinador Estudios Diseños | N19: Arquitecto Residente de Interventoría | O19: Trabajador Social | P19: Trabajador Social
A20: Maestro de Obra 1 | B20: 16 | C20: PERSONAL OPERARIO Y DE APOYO A LA GESTIÓN | D20: =IF(A20=$K$1,"ESPE1",IF(A20=$L$1,"ESPE2",IF(A20=$M$1,"PROF3",IF(A20=$N$1,"PROF4",IF(A20=$O$1,"PROF5",IF(A20=$P$1,"PROF6",IF(A20=$Q$1,"PROF6A",IF(A20=$R$1,"PROF7",IF(A20=$S$1,"PROF8",IF(A20=$T$1,"PROFAUX",A20)))))))))) -> Maestro de Obra 1 | E20: 2078361 | F20: =ROUND(E20+(E20*$F$3),0) -> 2351042 | G20: =+F20+(F20*$G$3) -> 2569218.7 | H20: =+G20+(F20*$H$3) -> 2691472.9 | I20: =+H20+(H20*$I$3) -> 2796440.3 | J20: =ROUND(F20+(F20*$J$3),0) -> 2535834 | M20: Diseñador Grafico (señalética y señalización) | N20: Programación, control y presupuesto | O20: Coordinador | P20: Ingeniero Seguridad y Control
A21: Laboratorista Inspector | B21: 17 | C21: PERSONAL OPERARIO Y DE APOYO A LA GESTIÓN | D21: =IF(A21=$K$1,"ESPE1",IF(A21=$L$1,"ESPE2",IF(A21=$M$1,"PROF3",IF(A21=$N$1,"PROF4",IF(A21=$O$1,"PROF5",IF(A21=$P$1,"PROF6",IF(A21=$Q$1,"PROF6A",IF(A21=$R$1,"PROF7",IF(A21=$S$1,"PROF8",IF(A21=$T$1,"PROFAUX",A21)))))))))) -> Laboratorista Inspector | E21: 2455942 | F21: =ROUND(E21+(E21*$F$3),0) -> 2778162 | G21: =+F21+(F21*$G$3) -> 3035975.4 | H21: =+G21+(F21*$H$3) -> 3180439.9 | I21: =+H21+(H21*$I$3) -> 3304477 | J21: =ROUND(F21+(F21*$J$3),0) -> 2996526 | M21: Presupuesto y Programación | N21: Esp. Seguridad y control CCTV | O21: Arq. Diseñador | P21: Especialista Gestión del Riesgo
A22: Operador De Equipo | B22: 18 | C22: PERSONAL OPERARIO Y DE APOYO A LA GESTIÓN | D22: =IF(A22=$K$1,"ESPE1",IF(A22=$L$1,"ESPE2",IF(A22=$M$1,"PROF3",IF(A22=$N$1,"PROF4",IF(A22=$O$1,"PROF5",IF(A22=$P$1,"PROF6",IF(A22=$Q$1,"PROF6A",IF(A22=$R$1,"PROF7",IF(A22=$S$1,"PROF8",IF(A22=$T$1,"PROFAUX",A22)))))))))) -> Operador De Equipo | E22: 2055965 | F22: =ROUND(E22+(E22*$F$3),0) -> 2325708 | G22: =+F22+(F22*$G$3) -> 2541533.7 | H22: =+G22+(F22*$H$3) -> 2662470.5 | I22: =+H22+(H22*$I$3) -> 2766306.9 | J22: =ROUND(F22+(F22*$J$3),0) -> 2508509 | M22: Experto en análisis y valoración de riesgos | N22: Ing. SST Seguridad Salud en el Trabajo | O22: Arq. Paisajista | P22: Especialista Ambiental
A23: Operador Auxiliar De Equipo | B23: 19 | C23: PERSONAL OPERARIO Y DE APOYO A LA GESTIÓN | D23: =IF(A23=$K$1,"ESPE1",IF(A23=$L$1,"ESPE2",IF(A23=$M$1,"PROF3",IF(A23=$N$1,"PROF4",IF(A23=$O$1,"PROF5",IF(A23=$P$1,"PROF6",IF(A23=$Q$1,"PROF6A",IF(A23=$R$1,"PROF7",IF(A23=$S$1,"PROF8",IF(A23=$T$1,"PROFAUX",A23)))))))))) -> Operador Auxiliar De Equipo | E23: 1519496 | F23: =ROUND(E23+(E23*$F$3),0) -> 1718854 | G23: =+F23+(F23*$G$3) -> 1878363.7 | H23: =+G23+(F23*$H$3) -> 1967744.1 | I23: =+H23+(H23*$I$3) -> 2044486.1 | J23: =ROUND(F23+(F23*$J$3),0) -> 1853956 | M23: Consultor técnico | N23: Ingeniero Mecánico | O23: Esp. Geotecnista
A24: Oficial de Albañilería 2 | B24: 20 | C24: PERSONAL OPERARIO Y DE APOYO A LA GESTIÓN | D24: =IF(A24=$K$1,"ESPE1",IF(A24=$L$1,"ESPE2",IF(A24=$M$1,"PROF3",IF(A24=$N$1,"PROF4",IF(A24=$O$1,"PROF5",IF(A24=$P$1,"PROF6",IF(A24=$Q$1,"PROF6A",IF(A24=$R$1,"PROF7",IF(A24=$S$1,"PROF8",IF(A24=$T$1,"PROFAUX",A24)))))))))) -> Oficial de Albañilería 2 | E24: 1769425 | F24: =ROUND(E24+(E24*$F$3),0) -> 2001574 | G24: =+F24+(F24*$G$3) -> 2187320.1 | H24: =+G24+(F24*$H$3) -> 2291401.9 | I24: =+H24+(H24*$I$3) -> 2380766.6 | J24: =ROUND(F24+(F24*$J$3),0) -> 2158898 | M24: Especialista Estructural | N24: Ing. En Informatica o telecomunicaciones o Eléctrico | O24: Contador
A25: Laboratorista Auxiliar | B25: 21 | C25: PERSONAL OPERARIO Y DE APOYO A LA GESTIÓN | D25: =IF(A25=$K$1,"ESPE1",IF(A25=$L$1,"ESPE2",IF(A25=$M$1,"PROF3",IF(A25=$N$1,"PROF4",IF(A25=$O$1,"PROF5",IF(A25=$P$1,"PROF6",IF(A25=$Q$1,"PROF6A",IF(A25=$R$1,"PROF7",IF(A25=$S$1,"PROF8",IF(A25=$T$1,"PROFAUX",A25)))))))))) -> Laboratorista Auxiliar | E25: 1754430 | F25: =ROUND(E25+(E25*$F$3),0) -> 1984611 | G25: =+F25+(F25*$G$3) -> 2168782.9 | H25: =+G25+(F25*$H$3) -> 2271982.7 | I25: =+H25+(H25*$I$3) -> 2360590 | J25: =ROUND(F25+(F25*$J$3),0) -> 2140601 | M25: Especialista en Urbanismo | N25: Profesional en Pedagogía Infantil | O25: Prof. Financiero Contable
A26: Cadenero 1 | B26: 22 | C26: PERSONAL OPERARIO Y DE APOYO A LA GESTIÓN | D26: =IF(A26=$K$1,"ESPE1",IF(A26=$L$1,"ESPE2",IF(A26=$M$1,"PROF3",IF(A26=$N$1,"PROF4",IF(A26=$O$1,"PROF5",IF(A26=$P$1,"PROF6",IF(A26=$Q$1,"PROF6A",IF(A26=$R$1,"PROF7",IF(A26=$S$1,"PROF8",IF(A26=$T$1,"PROFAUX",A26)))))))))) -> Cadenero 1 | E26: 1709131 | F26: =ROUND(E26+(E26*$F$3),0) -> 1933369 | G26: =+F26+(F26*$G$3) -> 2112785.6 | H26: =+G26+(F26*$H$3) -> 2213320.8 | I26: =+H26+(H26*$I$3) -> 2299640.3 | J26: =ROUND(F26+(F26*$J$3),0) -> 2085332 | M26: Especialista en paisajismo / espacio público | N26: Coordinador Estudios | O26: Ingeniero Forestal
A27: Conductor O Motorista | B27: 23 | C27: PERSONAL OPERARIO Y DE APOYO A LA GESTIÓN | D27: =IF(A27=$K$1,"ESPE1",IF(A27=$L$1,"ESPE2",IF(A27=$M$1,"PROF3",IF(A27=$N$1,"PROF4",IF(A27=$O$1,"PROF5",IF(A27=$P$1,"PROF6",IF(A27=$Q$1,"PROF6A",IF(A27=$R$1,"PROF7",IF(A27=$S$1,"PROF8",IF(A27=$T$1,"PROFAUX",A27)))))))))) -> Conductor O Motorista | E27: 1141907 | F27: =ROUND(E27+(E27*$F$3),0) -> 1291725 | G27: =+F27+(F27*$G$3) -> 1411597.1 | H27: =+G27+(F27*$H$3) -> 1478766.8 | I27: =+H27+(H27*$I$3) -> 1536438.7 | J27: =ROUND(F27+(F27*$J$3),0) -> 1393255 | M27: Especialista Ambiental | N27: Coordinador BIM | O27: Ingeniero Ambiental o Sanitario
A28: Secretaria 1 | B28: 24 | C28: PERSONAL OPERARIO Y DE APOYO A LA GESTIÓN | D28: =IF(A28=$K$1,"ESPE1",IF(A28=$L$1,"ESPE2",IF(A28=$M$1,"PROF3",IF(A28=$N$1,"PROF4",IF(A28=$O$1,"PROF5",IF(A28=$P$1,"PROF6",IF(A28=$Q$1,"PROF6A",IF(A28=$R$1,"PROF7",IF(A28=$S$1,"PROF8",IF(A28=$T$1,"PROFAUX",A28)))))))))) -> Secretaria 1 | E28: 1436940 | F28: =ROUND(E28+(E28*$F$3),0) -> 1625467 | G28: =+F28+(F28*$G$3) -> 1776310.3 | H28: =+G28+(F28*$H$3) -> 1860834.6 | I28: =+H28+(H28*$I$3) -> 1933407.2 | J28: =ROUND(F28+(F28*$J$3),0) -> 1753229 | M28: Especialista en Movilidad | N28: Diseñador Grafico (señalética y señalización) | O28: Biólogo o Ecólogo
A29: Secretaria 2 | B29: 25 | C29: PERSONAL OPERARIO Y DE APOYO A LA GESTIÓN | D29: =IF(A29=$K$1,"ESPE1",IF(A29=$L$1,"ESPE2",IF(A29=$M$1,"PROF3",IF(A29=$N$1,"PROF4",IF(A29=$O$1,"PROF5",IF(A29=$P$1,"PROF6",IF(A29=$Q$1,"PROF6A",IF(A29=$R$1,"PROF7",IF(A29=$S$1,"PROF8",IF(A29=$T$1,"PROFAUX",A29)))))))))) -> Secretaria 2 | E29: 1148160 | F29: =ROUND(E29+(E29*$F$3),0) -> 1298799 | G29: =+F29+(F29*$G$3) -> 1419327.5 | H29: =+G29+(F29*$H$3) -> 1486865.1 | I29: =+H29+(H29*$I$3) -> 1544852.8 | J29: =ROUND(F29+(F29*$J$3),0) -> 1400885 | M29: Arq. Escenografo | N29: Contador Publico | O29: Abogado
A30: Cadenero 2 | B30: 26 | C30: PERSONAL OPERARIO Y DE APOYO A LA GESTIÓN | D30: =IF(A30=$K$1,"ESPE1",IF(A30=$L$1,"ESPE2",IF(A30=$M$1,"PROF3",IF(A30=$N$1,"PROF4",IF(A30=$O$1,"PROF5",IF(A30=$P$1,"PROF6",IF(A30=$Q$1,"PROF6A",IF(A30=$R$1,"PROF7",IF(A30=$S$1,"PROF8",IF(A30=$T$1,"PROFAUX",A30)))))))))) -> Cadenero 2 | E30: 1444369 | F30: =ROUND(E30+(E30*$F$3),0) -> 1633870 | G30: =+F30+(F30*$G$3) -> 1785493.1 | H30: =+G30+(F30*$H$3) -> 1870454.4 | I30: =+H30+(H30*$I$3) -> 1943402.1 | J30: =ROUND(F30+(F30*$J$3),0) -> 1762292 | N30: Especialista en Finanzas | O30: Ing. o Arq. Residente
A31: Celador | B31: 27 | C31: PERSONAL OPERARIO Y DE APOYO A LA GESTIÓN | D31: =IF(A31=$K$1,"ESPE1",IF(A31=$L$1,"ESPE2",IF(A31=$M$1,"PROF3",IF(A31=$N$1,"PROF4",IF(A31=$O$1,"PROF5",IF(A31=$P$1,"PROF6",IF(A31=$Q$1,"PROF6A",IF(A31=$R$1,"PROF7",IF(A31=$S$1,"PROF8",IF(A31=$T$1,"PROFAUX",A31)))))))))) -> Celador | E31: 1000000 | F31: 1160000 | G31: 1300000 | H31: =+G31+(F31*$H$3) -> 1360320 | I31: =+H31+(H31*$I$3) -> 1413372.5 | J31: =ROUND(F31+(F31*$J$3),0) -> 1251176 | N31: Experto en Project Finance | O31: Ing. Residente Especializado en Estrcuturas
A32: Digitador 1 | B32: 28 | C32: PERSONAL OPERARIO Y DE APOYO A LA GESTIÓN | D32: =IF(A32=$K$1,"ESPE1",IF(A32=$L$1,"ESPE2",IF(A32=$M$1,"PROF3",IF(A32=$N$1,"PROF4",IF(A32=$O$1,"PROF5",IF(A32=$P$1,"PROF6",IF(A32=$Q$1,"PROF6A",IF(A32=$R$1,"PROF7",IF(A32=$S$1,"PROF8",IF(A32=$T$1,"PROFAUX",A32)))))))))) -> Digitador 1 | E32: 2267109 | F32: =ROUND(E32+(E32*$F$3),0) -> 2564554 | G32: =+F32+(F32*$G$3) -> 2802544.6 | H32: =+G32+(F32*$H$3) -> 2935901.4 | I32: =+H32+(H32*$I$3) -> 3050401.6 | J32: =ROUND(F32+(F32*$J$3),0) -> 2766128 | N32: Consultor contable y tributario | O32: Arq. Residente
A33: Digitador 2 | B33: 29 | C33: PERSONAL OPERARIO Y DE APOYO A LA GESTIÓN | D33: =IF(A33=$K$1,"ESPE1",IF(A33=$L$1,"ESPE2",IF(A33=$M$1,"PROF3",IF(A33=$N$1,"PROF4",IF(A33=$O$1,"PROF5",IF(A33=$P$1,"PROF6",IF(A33=$Q$1,"PROF6A",IF(A33=$R$1,"PROF7",IF(A33=$S$1,"PROF8",IF(A33=$T$1,"PROFAUX",A33)))))))))) -> Digitador 2 | E33: 1832633 | F33: =ROUND(E33+(E33*$F$3),0) -> 2073074 | G33: =+F33+(F33*$G$3) -> 2265455.3 | H33: =+G33+(F33*$H$3) -> 2373255.1 | I33: =+H33+(H33*$I$3) -> 2465812.1 | J33: =ROUND(F33+(F33*$J$3),0) -> 2236018 | N33: Especialista Social | O33: Ing. O Arq. Experto en Piscinas
A34: Administrador | B34: 30 | C34: PERSONAL OPERARIO Y DE APOYO A LA GESTIÓN | D34: =IF(A34=$K$1,"ESPE1",IF(A34=$L$1,"ESPE2",IF(A34=$M$1,"PROF3",IF(A34=$N$1,"PROF4",IF(A34=$O$1,"PROF5",IF(A34=$P$1,"PROF6",IF(A34=$Q$1,"PROF6A",IF(A34=$R$1,"PROF7",IF(A34=$S$1,"PROF8",IF(A34=$T$1,"PROFAUX",A34)))))))))) -> Administrador | E34: 2455942 | F34: =ROUND(E34+(E34*$F$3),0) -> 2778162 | G34: =+F34+(F34*$G$3) -> 3035975.4 | H34: =+G34+(F34*$H$3) -> 3180439.9 | I34: =+H34+(H34*$I$3) -> 3304477 | J34: =ROUND(F34+(F34*$J$3),0) -> 2996526 | N34: Arqueólogo de obra | O34: Diseñador Grafico (señalética y señalización)
A35: Almacenista | B35: 31 | C35: PERSONAL OPERARIO Y DE APOYO A LA GESTIÓN | D35: =IF(A35=$K$1,"ESPE1",IF(A35=$L$1,"ESPE2",IF(A35=$M$1,"PROF3",IF(A35=$N$1,"PROF4",IF(A35=$O$1,"PROF5",IF(A35=$P$1,"PROF6",IF(A35=$Q$1,"PROF6A",IF(A35=$R$1,"PROF7",IF(A35=$S$1,"PROF8",IF(A35=$T$1,"PROFAUX",A35)))))))))) -> Almacenista | E35: 1182962 | F35: =ROUND(E35+(E35*$F$3),0) -> 1338167 | G35: =+F35+(F35*$G$3) -> 1462348.9 | H35: =+G35+(F35*$H$3) -> 1531933.6 | I35: =+H35+(H35*$I$3) -> 1591679 | J35: =ROUND(F35+(F35*$J$3),0) -> 1443347 | N35: Especialista en seguros | O35: Ing. o Arq. Auxiliares (Arqueologo)
A36: Vigilante Armado 24 Horas (VigilanciaObras | B36: 32 | C36: PERSONAL OPERARIO Y DE APOYO A LA GESTIÓN | D36: =IF(A36=$K$1,"ESPE1",IF(A36=$L$1,"ESPE2",IF(A36=$M$1,"PROF3",IF(A36=$N$1,"PROF4",IF(A36=$O$1,"PROF5",IF(A36=$P$1,"PROF6",IF(A36=$Q$1,"PROF6A",IF(A36=$R$1,"PROF7",IF(A36=$S$1,"PROF8",IF(A36=$T$1,"PROFAUX",A36)))))))))) -> Vigilante Armado 24 Horas (VigilanciaObras | F36: 11442147 | G36: =+F36+(F36*$G$3) -> 12503978 | H36: =+G36+(F36*$H$3) -> 13098970 | I36: =+H36+(H36*$I$3) -> 13609830 | N36: Especialista en vías | O36: Asesor obra Proyecto Leed y Sostenibilidad
A37: Mensajero | B37: 33 | C37: PERSONAL OPERARIO Y DE APOYO A LA GESTIÓN | D37: Mensajero | E37: 1000000 | F37: 1160000 | G37: 1300000 | H37: =+G37+(F37*$H$3) -> 1360320 | I37: =+H37+(H37*$I$3) -> 1413372.5 | J37: =+F37+(F37*$J$3) -> 1251176 | K37: salario SLMLV | N37: Especialista electromecánico | O37: Consultor jurídico junior
N38: Abogado. Con postgrado en contratación estatal o derecho administrativo. Experiencia especifica en auditoría de contratos estatales | O38: Ing. Geometría y Señalización Vial
O39: Ing. Especialista Transito y Transporte

Sheet INSUMOS 2025
A1: Código | B1: Descripcion | C1: Unidad | D1: Fecha | E1: Año | F1: Precio Unitario | G1: Referencia | H1: Grupo | I1: Proveedor
A2: 2 | B2: ABRAZADERA 1" DELGADA DE CREMALLERA(A=9-10MM) | C2: UN | E2: 1900 | F2: 0 | H2: MOBILIARIO PARQUES | I2: 5898454121 - BALERCO S.A.S.
A3: 3 | B3: ABRAZADERA 1/2" DELGADA DE CREMALLERA | C3: UN | E3: 1900 | F3: 0 | H3: MOBILIARIO URBANO Y SEÑALIZAC. | I3: 5898454121 - BALERCO S.A.S.
A4: 4 | B4: ALAMBRE DE PUA Cal. 12½ | C4: ML | D4: 45013 | E4: 2023 | F4: 774 | H4: MOBILIARIO URBANO Y SEÑALIZAC. | I4: 5898454121 - BALERCO S.A.S.
A5: 5 | B5: ALAMBRE GALVANIZADO Cal. 10 | C5: KG | E5: 1900 | F5: 0 | H5: MOBILIARIO PARQUES | I5: 5898454121 - BALERCO S.A.S.
A6: 6 | B6: ALAMBRE GALVANIZADO Cal. 16 | C6: KG | D6: 44589 | E6: 2022 | F6: 7517 | H6: MOBILIARIO PARQUES | I6: 5898454121 - BALERCO S.A.S.
A7: 7 | B7: ALAMBRE GALVANIZADO Cal. 14 | C7: KG | D7: 43537 | E7: 2019 | F7: 4549 | H7: MOBILIARIO URBANO Y SEÑALIZAC. | I7: 5898454121 - BALERCO S.A.S.
A8: 9 | B8: ALAMBRE NEGRO Cal. 18 | C8: KG | D8: 45001 | E8: 2023 | F8: 6521 | H8: MOBILIARIO PARQUES | I8: 5898454121 - BALERCO S.A.S.
A9: 10 | B9: ANGULO ¼" x 2" | C9: ML | D9: 45016 | E9: 2023 | F9: 28516.01 | H9: MOBILIARIO PARQUES | I9: 5898454121 - BALERCO S.A.S.
A10: 11 | B10: ANGULO 1/8" x 3/4" | C10: ML | D10: 45016 | E10: 2023 | F10: 10210 | H10: MOBILIARIO PARQUES | I10: 5898454121 - BALERCO S.A.S.
A11: 12 | B11: CABLE ALMA ACERO 3/8" | C11: ML | E11: 1900 | F11: 0 | H11: MOBILIARIO PARQUES | I11: 5898454121 - BALERCO S.A.S.
A12: 13 | B12: CABLE ALMA FIBRA 3/8" | C12: ML | E12: 1900 | F12: 0 | H12: MOBILIARIO PARQUES | I12: 5898454121 - BALERCO S.A.S.
A13: 14 | B13: CANAL "U" DE 4" LIVIANO | C13: UN | E13: 1900 | F13: 0 | H13: MOBILIARIO PARQUES | I13: 5898454121 - BALERCO S.A.S.
A14: 15 | B14: SIKALISTO RESANE 25kg | C14: KG | E14: 1900 | F14: 0 | H14: MOBILIARIO PARQUES | I14: 5898454121 - BALERCO S.A.S.
A15: 17 | B15: ACOPLE PARA LAVAMANOS Y SANITARIO PLASTICO | C15: UN | E15: 1900 | F15: 0 | H15: MOBILIARIO PARQUES | I15: 5898454121 - BALERCO S.A.S.
A16: 18 | B16: Piso NEGRO EMEFLEX (Sum+transp) | C16: M2 | E16: 1900 | F16: 0 | H16: MOBILIARIO PARQUES | I16: 5898454121 - BALERCO S.A.S.
A17: 19 | B17: HIERRO PR-60 Corru/Fig 1" Kg | C17: KG | D17: 43532 | E17: 2019 | F17: 2760 | H17: VARIOS | I17: 8956232 - IDRD - MEDIA ARMONICA COTIZACIONES
A18: 20 | B18: HIERRO A-40 Liso/Rect ½" | C18: KG | D18: 44987 | E18: 2023 | F18: 4701 | H18: CABLES | I18: 66665555555 - IDRD - MEDIA ARITMETICA DE COTIZACIONES
A19: 21 | B19: HIERRO PR-60 Corru/Rec ½" | C19: ML | D19: 44987 | E19: 2023 | F19: 4701 | H19: MOBILIARIO URBANO Y SEÑALIZAC. | I19: 66665555555 - IDRD - MEDIA ARITMETICA DE COTIZACIONES
A20: 22 | B20: CASETEX Aligerante textil estr | C20: M2 | E20: 1900 | F20: 0 | H20: MOBILIARIO URBANO Y SEÑALIZAC. | I20: 555555555555 - IDRD - MEDIANA DE COTIZACIONES
A21: 23 | B21: HIERRO A-36 Liso/Rect 3/4" | C21: ML | D21: 44657 | E21: 2022 | F21: 2224 | H21: MISCELANEA | I21: 555555555555 - IDRD - MEDIANA DE COTIZACIONES
A22: 24 | B22: HIERRO PR-60 Corru/Rec 3/4" | C22: ML | D22: 44987 | E22: 2023 | F22: 10575.99 | H22: MISCELANEA | I22: 8956232 - IDRD - MEDIA ARMONICA COTIZACIONES
A23: 25 | B23: HIERRO A-40 Liso/Rect 3/8" | C23: KG | D23: 44987 | E23: 2023 | F23: 4701 | G23: DK-0B +DKT2B | H23: APARATOS ELECTRICOS | I23: 555555555555 - IDRD - MEDIANA DE COTIZACIONES
A24: 27 | B24: HIERRO CUADRADO 10mm | C24: ML | D24: 45009 | E24: 2023 | F24: 3984 | G24: DK-0B +DKT2B | H24: APARATOS ELECTRICOS | I24: 555555555555 - IDRD - MEDIANA DE COTIZACIONES
A25: 29 | B25: LAMINA COLD ROLLED Cal.16 4x8M | C25: UN | E25: 1900 | F25: 0 | G25: DK-0B +DKT2B | H25: APARATOS ELECTRICOS | I25: 6555555555 - IDRD - MENOR VALOR DE COTIZACIONES
A26: 30 | B26: LAMINA COLD ROLLED Cal.- 18 1x2 M | C26: UN | D26: 45013 | E26: 2023 | F26: 178243 | G26: DK-0B +DKT2B | H26: APARATOS ELECTRICOS | I26: 6555555555 - IDRD - MENOR VALOR DE COTIZACIONES
A27: 31 | B27: LAMINA COLD ROLLED Cal.20 1x2M | C27: UN | E27: 1900 | F27: 0 | H27: PISCINAS | I27: 6555555555 - IDRD - MENOR VALOR DE COTIZACIONES
A28: 32 | B28: LAMINA COLD ROLLED Cal.22 1x2M | C28: UN | E28: 1900 | F28: 0 | H28: PISCINAS | I28: 6555555555 - IDRD - MENOR VALOR DE COTIZACIONES
A29: 33 | B29: LAMINA COLD ROLLED Cal.24 1x2M | C29: UN | E29: 1900 | F29: 0 | H29: PISCINAS | I29: 6555555555 - IDRD - MENOR VALOR DE COTIZACIONES
A30: 35 | B30: MALLA CERRAMIENTO Eslabonada.Cal.10(Hueco 2"X2") | C30: M2 | D30: 45016 | E30: 2023 | F30: 28727 | H30: PISCINAS | I30: 6555555555 - IDRD - MENOR VALOR DE COTIZACIONES
A31: 36 | B31: ALAMBRE DE PUAS C-12.5X330 MTS | C31: RLL | E31: 1900 | F31: 0 | H31: PISCINAS | I31: 555555555555 - IDRD - MEDIANA DE COTIZACIONES
A32: 38 | B32: MALLA M-131 - 15 x 15 x 5mm | C32: UN | D32: 44657 | E32: 2022 | F32: 160388 | H32: PISCINAS | I32: 555555555555 - IDRD - MEDIANA DE COTIZACIONES
A33: 39 | B33: MALLA L-098 (HELIACERO) 20 x 20 x 5mm | C33: UN | E33: 1900 | F33: 0 | H33: PISCINAS | I33: 562221312 - IDRD - VALOR CIO AJUSTADO
A34: 40 | B34: MALLA M-188 - 15 x 15 x 6mm | C34: UN | D34: 44987 | E34: 2023 | F34: 222465 | H34: PISCINAS | I34: 562221312 - IDRD - VALOR CIO AJUSTADO
A35: 41 | B35: MALLA Q-8 CONCREMALLA-8.5MM(6x2.35M)Hueco:15X15CM | C35: UN | E35: 1900 | F35: 0 | H35: PISCINAS | I35: 562221312 - IDRD - VALOR CIO AJUSTADO
A36: 42 | B36: MALLA Q- 2 CONCREMALLA-4MM(6x2.35M)Hueco:15X15CM | C36: UN | E36: 1900 | F36: 0 | H36: PISCINAS | I36: 562221312 - IDRD - VALOR CIO AJUSTADO
A37: 43 | B37: MALLA Q- 5 -CONCREMALLA- 6MM(6x2.35)hUECO:15X15CM | C37: UN | E37: 1900 | F37: 0 | H37: PISCINAS | I37: 562221312 - IDRD - VALOR CIO AJUSTADO
A38: 44 | B38: MALLA Q- 0 CONCREMALLA-3MM(6x2.35M)Hueco:15X15CM | C38: UN | E38: 1900 | F38: 0 | H38: PISCINAS | I38: 562221312 - IDRD - VALOR CIO AJUSTADO
A39: 45 | B39: MALLA R- 21 CONCREMALLA-4mm(15x25 M ) | C39: UN | E39: 1900 | F39: 0 | H39: CABLES | I39: 562221312 - IDRD - VALOR CIO AJUSTADO
A40: 47 | B40: MALLA Q-3 CONCREMALLA-5MM(6x2.35M)Hueco:15X15CM | C40: UN | E40: 1900 | F40: 0 | H40: TUBERIA | I40: 562221312 - IDRD - VALOR CIO AJUSTADO
...

Sheet Resumen
A1: =+Portada!$A$9 -> UNIDAD ADMINISTRATIVA ESPECIAL DE ORGANIZACIONES SOLIDARIAS
A2: CÁLCULO PRESUPUESTAL
A4: PROYECTO: ADECUACIÓN Y REMODELACIÓN EDIFICIO SEDE - SEXTO PISO - A.I.U. V-1 20/05/2025
A5: CÁLCULO A.I.U. CONSTRUCCIÓN COMPONENTE URBANO
A6: I. PERSONAL
A7: A – PERSONAL PROFESIONAL | C7: =SUMIF(Tabla1[[#All],[Columna3]],"PERSONAL PROFESIONAL",Tabla1[[#All],[Columna42]]) -> 55477801
A8: B – PERSONAL TÉCNICO – TECNÓLOGO | C8: =SUMIF(Tabla1[[#All],[Columna3]],"PERSONAL TÉCNICO O TECNÓLOGO",Tabla1[[#All],[Columna42]]) -> 0
A9: C – OPERARIO Y DE APOYO A LA GESTIÓN | C9: =SUMIF(Tabla1[[#All],[Columna3]],"PERSONAL OPERARIO Y DE APOYO A LA GESTIÓN",Tabla1[[#All],[Columna42]]) -> 8520479
A10: SUBTOTAL PERSONAL SIN PRESTACIONES | C10: =SUM(C7:C9) -> 63998280 | DC10: 43120566 | DD10: =+C10-DC10 -> 20877714
A11: PERSONAL CON PRESTACIONES
A12: I. TOTAL PERSONAL CON PRESTACIONES | C12: =+Personal!BA22 -> 97149978
A14: II. + III. COSTOS DIRECTOS OPERACIONALES: ALQUILER DE EQUIPOS, ENSAYOS DE LABORATORIO, SUMINISTROS Y OTROS ELEMENTOS
A15: D. ALQUILER DE EQUIPOS | C15: =+'EQUIPOS Y OTROS'!H20 -> 5646139 | DC15: 2718326 | DD15: =+C15-DC15 -> 2927813
A16: E. ENSAYOS DE LABORATORIO | C16: =+'EQUIPOS Y OTROS'!H55 -> 0
A17: II. + III. SUBTOTAL EQUIPOS Y ENSAYOS DE LABORATORIO | C17: =SUM(C15:C16) -> 5646139
A19: IV. OTROS COSTOS DIRECTOS OPERACIONALES: CAMPAMENTO, CERRAMIENTOS, VIGILANCIA, ETC.
A20: F. OTROS COSTOS DIRECTOS OPERACIONALES: CAMPAMENTO, CERRAMIENTOS, VIGILANCIA, ETC. Y OTROS GASTOS | C20: ='EQUIPOS Y OTROS'!J71 -> 3446991
A21: IV. SUBTOTAL OTROS COSTOS DIRECTOS OPERACIONALES: CAMPAMENTO, CERRAMIENTOS, VIGILANCIA, ETC. | C21: =SUM(C19:C20) -> 3446991
A22: IV. SUBTOTAL DE PERSONAL Y COSTOS DIRECTOS OPERACIONALES | C22: =C21+C17+C12 -> 106243108 | DC22: =1264309+485166 -> 1749475 | DD22: =+C22-DC22 -> 104493633
A23: V. PERFECCIONAMIENTO (IMPUESTOS Y PÓLIZAS)
A24: F. POLIZAS | C24: =+Administración!K32 -> 3397541.6
A25: G. IMPUESTOS | C25: =+Administración!E63 -> 76249424
A26: SUBTOTAL PERFECCIONAMIENTO (IMPUESTOS Y PÓLIZAS) | C26: =SUM(C24:C25) -> 79646966
A28: COMPOSICION AIU
A30: ADMINISTRACIÓN | B30: =+Administración!D70 -> 0.2894 | C30: =+Administración!E70 -> 188262574
A31: IMPREVISTOS | B31: =+Administración!D71 -> 0.01 | C31: =+Administración!E71 -> 8829252
A32: UTILIDAD | B32: =+Administración!D72 -> 0.04 | C32: =+Administración!E72 -> 35317010
A34: VALOR TOTAL DEL AIU | B34: =SUM(B30:B33) -> 0.3394 | C34: =SUM(C30:C33) -> 232408836
A36: VALOR ESPERADO | C36: 8.8292525e+08
B38: INTERVENTORÍA | C38: =+C36*0.12 -> 1.0595103e+08
A120: COSTO CONSULTORIA UDS 2021 STC | C120: 673368283
A121: DIFERENCIA ACEE - STC | C121: =+C120-#REF! -> #REF!
C122: =+C120-C121 -> #REF!
C123: =-C37/#REF! -> #REF!

Sheet Administración
A1: =+Resumen!A1 -> UNIDAD ADMINISTRATIVA ESPECIAL DE ORGANIZACIONES SOLIDARIAS
A2: =+Resumen!A2 -> CÁLCULO PRESUPUESTAL
A3: POLIZAS REQUERIDAS
A4: =+A39 -> CALCULO AIU - 2025
C6: AMPAROS | D6: OBRA | G6: PARA CALCULO RCE | J6: CÁLCULO FIDUCIA PARA ANTICIPO
D7: Tiempo (meses) | E7: Porcentaje | J7: MESES | K7: VLR POR 12 MESES | L7: CANTIDAD DE MESES | M7: VLR./UN MES
C8: Cumplimiento | D8: 6 | E8: 0.2 | G8: SALARIO MINIMO 2025 | H8: 1423500 | J8: 5 | K8: =+H8*J8 -> 7117500 | L8: 12 | M8: =+K8/L8 -> 593125
C9: Buen Manejo Del Anticipo | E9: 0.3 | K9: VLR TOTAL COSTO FIDUCIA | M9: =+M8*4 -> 2372500
C10: Seriedad De La Oferta | D10: 1 | E10: 0.1
C11: Calidad Del Bien O Servicio | E11: 0.2
C12: Pago De Salarios, Prestaciones | D12: =3*12 -> 36 | E12: 0.05 | G12: VLR. CONTRATO SMMLV | H12: =+D16/H8 -> 620.24956
C13: Estabilidad De La Obra | D13: 24 | E13: 0.1 | G13: SMMLV Contrato | H13: 200
C14: Responsabilidad Civil Extracontractual | H14: 300
H15: 400
C16: VALOR DEL CONTRATO | D16: =+Resumen!$C$36 -> 8.8292525e+08 | H16: 500
C17: INICIO | D17: 45889
C18: EJECUCION Y VIGENCIA (DÍAS) | D18: =3*30 -> 90
C19: FIN | D19: =IF(OR(D17="",D18=""),"",D17+D18) -> 45979
C21: AMPAROS | D21: DESDE | E21: HASTA | F21: PORCENTAJE | G21: SUMA ASEGURADA | H21: DIAS | I21: TASA | J21: VALOR PRIMA | L21: PORCENTAJE AFECTACIÓN
C22: SERIEDAD DE LA OFERTA | D22: =IF(H22>0,$D$17,"")-30 -> 45859 | E22: =IF(H22>0,$D$17+H22,"")-30 -> 45979 | F22: =IFERROR(IF(VLOOKUP($C22,AMPAROS_DIS,3,0)>0,VLOOKUP($C22,AMPAROS_DIS,3,0),""),"") -> 0.1 | G22: =IF(H22>0,$D$16*F22,"") -> 88292525 | H22: =IFERROR(SUM(VLOOKUP($C22,AMPAROS_DIS,2,0)*30,$D$18),0) -> 120 | I22: 0.0015 | J22: =IF(H22>0,((G22*I22)/365)*H22,0) -> 43541.519 | K22: =IF(J22>0,(J22*1.19)+1000,0) -> 52814.408 | L22: =IF(K22>0,K22/$D$16,0) -> 5.981753e-05
C23: CUMPLIMIENTO | D23: =IF(H23>0,$D$17,"") -> 45889 | E23: =IF(H23>0,$D$17+H23,"") -> 46159 | F23: =IFERROR(VLOOKUP($C23,AMPAROS_DIS,3,0),"") -> 0.2 | G23: =IF(H23>0,$D$16*F23,"") -> 1.7658505e+08 | H23: =IFERROR(SUM(VLOOKUP($C23,AMPAROS_DIS,2,0)*30,$D$18),0) -> 270 | I23: 0.0045 | J23: =IF(H23>0,((G23*I23)/365)*H23,0) -> 587810.51 | K23: =IF(J23>0,IF((J23*1.19)+1000<5000,5000,(J23*1.19)+1000),0) -> 700494.5 | L23: =IF(K23>0,K23/$D$16,0) -> 0.00079337917
C24: BUEN MANEJO DEL ANTICIPO | D24: =IF(H24>0,$D$17,"") -> 45889 | E24: =IF(H24>0,$D$17+H24,"") -> 45979 | F24: =IFERROR(VLOOKUP($C24,AMPAROS_DIS,3,0),"") -> 0.3 | G24: =IF(H24>0,$D$16*F24,"") -> 2.6487757e+08 | H24: =IFERROR(SUM(VLOOKUP($C24,AMPAROS_DIS,2,0)*30,$D$18),0) -> 90 | I24: 0.0045 | J24: =IF(H24>0,((G24*I24)/365)*H24,0) -> 293905.25 | K24: =IF(J24>0,(J24*1.19)+1000,0) -> 350747.25 | L24: =IF(K24>0,K24/$D$16,0) -> 0.00039725589
C25: PAGO DE SALARIOS, PRESTACIONES | D25: =IF(H25>0,$D$17,"") -> 45889 | E25: =IF(H25>0,$D$17+H25,"") -> 47059 | F25: =IFERROR(VLOOKUP($C25,AMPAROS_DIS,3,0),"") -> 0.05 | G25: =IF(H25>0,$D$16*F25,"") -> 44146262 | H25: =IFERROR(SUM(VLOOKUP($C25,AMPAROS_DIS,2,0)*30,$D$18),0) -> 1170 | I25: 0.0035 | J25: =IF(H25>0,((G25*I25)/365)*H25,0) -> 495284.78 | K25: =IF(J25>0,(J25*1.19)+1000,0) -> 590388.89 | L25: =IF(K25>0,K25/$D$16,0) -> 0.00066867369
C26: ESTABILIDAD DE LA OBRA | D26: =IF(H26>0,$D$17,"") -> 45889 | E26: =IF(H26>0,$D$17+H26,"") -> 46699 | F26: =IFERROR(VLOOKUP($C26,AMPAROS_DIS,3,0),"") -> 0.1 | G26: =IF(H26>0,$D$16*F26,"") -> 88292525 | H26: =IFERROR(SUM(VLOOKUP($C26,AMPAROS_DIS,2,0)*30,$D$18),0) -> 810 | I26: 0.0045 | J26: =IF(H26>0,((G26*I26)/365)*H26,0) -> 881715.76 | K26: =IF(J26>0,(J26*1.19)+1000,0) -> 1050241.8 | L26: =IF(K26>0,K26/$D$16,0) -> 0.0011895025
C27: CALIDAD DEL BIEN O SERVICIO | D27: =IF(H27>0,$D$17,"") -> 45889 | E27: =IF(H27>0,$D$17+H27,"") -> 45979 | F27: =IFERROR(VLOOKUP($C27,AMPAROS_DIS,3,0),"") -> 0.2 | G27: =IF(H27>0,$D$16*F27,"") -> 1.7658505e+08 | H27: =IFERROR(SUM(VLOOKUP($C27,AMPAROS_DIS,2,0)*30,$D$18),0) -> 90 | I27: 0.0045 | J27: =IF(H27>0,((G27*I27)/365)*H27,0) -> 195936.84 | K27: =IF(J27>0,(J27*1.19)+1000,0) -> 234164.83 | L27: =IF(K27>0,K27/$D$16,0) -> 0.00026521479
C28: CORRECTO FUNCIONAMIENTO | D28: =IF(H28>0,$D$17,"") | E28: =IF(H28>0,$D$17+H28,"") | F28: =IFERROR(VLOOKUP($C28,AMPAROS_DIS,3,0),"") | G28: =IF(H28>0,$D$16*F28,"") | H28: =IFERROR(SUM(VLOOKUP($C28,AMPAROS_DIS,2,0)*30,$D$18),0) -> 0 | I28: 0.0045 | J28: =IF(H28>0,((G28*I28)/365)*H28,0) -> 0 | K28: =IF(J28>0,(J28*1.19)+1000,0) -> 0 | L28: =IF(K28>0,K28/$D$16,0) -> 0
C29: PROVISION REPUESTOS Y ACCESORIOS | D29: =IF(H29>0,$D$17,"") | E29: =IF(H29>0,$D$17+H29,"") | F29: =IFERROR(VLOOKUP($C29,AMPAROS_DIS,3,0),"") | G29: =IF(H29>0,$D$16*F29,"") | H29: =IFERROR(SUM(VLOOKUP($C29,AMPAROS_DIS,2,0)*30,$D$18),0) -> 0 | I29: 0.005 | J29: =IF(H29>0,((G29*I29)/365)*H29,0) -> 0 | K29: =IF(J29>0,(J29*1.19)+1000,0) -> 0 | L29: =IF(K29>0,K29/$D$16,0) -> 0
C30: RESPONSABILIDAD CIVIL EXTRACONTRACTUAL | D30: =IF(H30>0,$D$17,"") -> 45889 | E30: =IF(H30>0,$D$17+H30,"") -> 45979 | F30: =+IF(D16=0,0,IF(H12<1500,H13*H8/D16,IF(H12<2500,H14*H8/D16,IF(H12<5000,H15*H8/D16,IF(H12<10000,H16*H8/D16,20%))))) -> 0.32245085 | G30: =IF(H30>0,$D$16*F30,"") -> 284700000 | H30: =IFERROR(SUM(VLOOKUP($C30,AMPAROS_DIS,2,0)*30,$D$18),0) -> 90 | I30: 0.005 | J30: =IF(H30>0,((G30*I30)/365)*H30,0) -> 351000 | K30: =IF(J30>0,(J30*1.19)+1000,0) -> 418690 | L30: =IF(K30>0,K30/$D$16,0) -> 0.00047420776
C31: DISPOSICIONES LEGALES | D31: =IF(H31>0,$D$17,"") | E31: =IF(H31>0,$D$17+H31,"") | F31: =IFERROR(VLOOKUP($C31,AMPAROS_DIS,3,0),"") | G31: =IF(H31>0,$D$16*F31,"") | H31: =IFERROR(SUM(VLOOKUP($C31,AMPAROS_DIS,2,0)*30,$D$18),0) -> 0 | I31: 0.012 | J31: =IF(H31>0,((G31*I31)/365)*H31,0) -> 0 | K31: =IF(J31>0,(J31*1.19)+1000,0) -> 0 | L31: =IF(K31>0,K31/$D$16,0) -> 0
C32: VALOR TOTAL DE POLIZAS | G32: =SUM(G22:G31) -> 1.123479e+09 | J32: =SUM(J22:J31) -> 2849194.7 | K32: =SUM(K22:K31) -> 3397541.6 | L32: =SUM(L22:L31) -> 0.0038480513
A36: =+A1 -> UNIDAD ADMINISTRATIVA ESPECIAL DE ORGANIZACIONES SOLIDARIAS
A37: =+A2 -> CÁLCULO PRESUPUESTAL
A38: =+Resumen!A4 -> PROYECTO: ADECUACIÓN Y REMODELACIÓN EDIFICIO SEDE - SEXTO PISO - A.I.U. V-1 20/05/2025
A39: CALCULO AIU - 2025
A41: B | B41: COSTOS DE PREFECCIONAMIENTO (IMPUESTOS Y PÓLIZAS) | E41: 1
B42: a. | C42: Seriedad De La Oferta | D42: =L22*$E$41 -> 5.981753e-05 | E42: =+K22 -> 52814.408
B43: b. | C43: Cumplimiento | D43: =L23*$E$41 -> 0.00079337917 | E43: =+K23 -> 700494.5
B44: c. | C44: Buen Manejo Del Anticipo | D44: =L24*$E$41 -> 0.00039725589 | E44: =+K24 -> 350747.25
B45: d. | C45: Pago De Salarios, Prestaciones | D45: =L25*$E$41 -> 0.00066867369 | E45: =+K25 -> 590388.89
B46: e. | C46: Estabilidad De La Obra | D46: =L26*$E$41 -> 0.0011895025 | E46: =+K26 -> 1050241.8
...

Sheet Personal
A1: ="CRONOGRAMA "&Resumen!$A$4 -> CRONOGRAMA PROYECTO: ADECUACIÓN Y REMODELACIÓN EDIFICIO SEDE - SEXTO PISO - A.I.U. V-1 20/05/2025 | F1: DEDICACIÓN PERSONAL CONSTRUCCIÓN COMPONENTE PROFESIONAL
A2: =+Resumen!A5 -> CÁLCULO A.I.U. CONSTRUCCIÓN COMPONENTE URBANO | F2: AÑO
A3: DEDICACIÓN PERSONAL | G3: PERIODOS 2024 | J3: PERIODOS 2025 | W3: PERIODOS 2026
A4: CODIGO INTERNO | B4: A. PERSONAL REQUERIDO | F4: CANTIDAD DE PERSONAS POR ACTIVIDAD | G4: 11 | H4: 12 | I4: TOTAL DEDICACIÓN PROM / MES | J4: 1 | K4: 2 | L4: 3 | M4: 4 | N4: 5 | O4: 6 | P4: 7 | Q4: 8 | R4: 9 | S4: 10 | T4: 11 | U4: 12 | V4: TOTAL DEDICACIÓN PROM / MES | W4: 1 | X4: 2 | Y4: 3 | Z4: 4 | AA4: 5 | AB4: 6 | AC4: 7 | AD4: 8 | AE4: 9 | AF4: 10 | AG4: 11 | AH4: 12 | AI4: TOTAL DEDICACIÓN PROM / MES | AJ4: TOTAL PROY / MES | AK4: VALOR HOMBRE/MES SEGÚN CATEGORÍA | AN4: PLAZO | AQ4: DEDICACIÓN PROMEDIO MES % | AV4: DEDICACIÓN TOTAL HOMBRES EN EL PROYECTO | AY4: COSTO ($) TOTAL HOMBRES EN EL PROYECTO | AZ4: FACTOR PRESTACIONAL | BA4: VALOR TOTAL PERSONAL | BB4: VALOR HOMBRE/MES SEGÚN CATEGORÍA INCL. PREST.
B5: DESCRIPCIÓN FUNCIONAL | C5: EQUIV | E5: CARGO | G5: 0 | H5: 0 | I5: =(SUM(H5)/30)&" Meses" -> 0 Meses | O5: 0 | P5: 0 | Q5: 15 | R5: 30 | S5: 30 | T5: 15 | V5: =(SUM(J5:U5)/30)&" Meses" -> 3 Meses | AI5: =(SUM(W5:AH5)/30)&" Meses" -> 0 Meses | AJ5: =(SUM(W5:AH5)/30+SUM(J5:U5)/30)+SUM(G5:H5)/30&" Meses" -> 3 Meses | AK5: 2024 | AL5: 2025 | AM5: 2026 | AN5: MESES 2024 | AO5: MESES 2025 | AP5: MESES 2026 | AQ5: 2024 | AR5: 2025 | AS5: 2026 | AT5: DÍAS EFECTIVOS | AU5: TOTAL | AV5: 2024 | AW5: 2025 | AX5: 2026
G6: =IF(G5=0,0,IF(G5=15,0.5,IF(G5=30,1,IF(G5=45,1.5,0)))) -> 0 | H6: =IF(H5=0,0,IF(H5=15,0.5,IF(H5=30,1,IF(H5=45,1.5,0)))) -> 0 | I6: =(SUM(G5:H5)/30) -> 0 | J6: =IF(J5=0,0,IF(J5=15,0.5,1)) -> 0 | K6: =IF(K5=0,0,IF(K5=15,0.5,1)) -> 0 | L6: =IF(L5=0,0,IF(L5=15,0.5,IF(L5=30,1,IF(L5=45,1.5,0)))) -> 0 | M6: =IF(M5=0,0,IF(M5=15,0.5,IF(M5=30,1,IF(M5=45,1.5,0)))) -> 0 | N6: =IF(N5=0,0,IF(N5=15,0.5,IF(N5=30,1,IF(N5=45,1.5,0)))) -> 0 | O6: =IF(O5=0,0,IF(O5=15,0.5,IF(O5=30,1,IF(O5=45,1.5,0)))) -> 0 | P6: =IF(P5=0,0,IF(P5=15,0.5,IF(P5=30,1,IF(P5=45,1.5,0)))) -> 0 | Q6: =IF(Q5=0,0,IF(Q5=15,0.5,IF(Q5=30,1,IF(Q5=45,1.5,0)))) -> 0.5 | R6: =IF(R5=0,0,IF(R5=15,0.5,IF(R5=30,1,IF(R5=45,1.5,0)))) -> 1 | S6: =IF(S5=0,0,IF(S5=15,0.5,IF(S5=30,1,IF(S5=45,1.5,0)))) -> 1 | ... U6: =IF(U5=0,0,IF(U5=15,0.5,IF(U5=30,1,IF(U5=45,1.5,0)))) -> 0 | V6: =(SUM(J5:U5)/30) -> 3 | W6: =IF(W5=0,0,IF(W5=15,0.5,IF(W5=30,1,IF(W5=45,1.5,0)))) -> 0 | X6: =IF(X5=0,0,IF(X5=15,0.5,IF(X5=30,1,IF(X5=45,1.5,0)))) -> 0 | Y6: =IF(Y5=0,0,IF(Y5=15,0.5,IF(Y5=30,1,IF(Y5=45,1.5,0)))) -> 0 | Z6: =IF(Z5=0,0,IF(Z5=15,0.5,IF(Z5=30,1,IF(Z5=45,1.5,0)))) -> 0 | AA6: =IF(AA5=0,0,IF(AA5=15,0.5,IF(AA5=30,1,IF(AA5=45,1.5,0)))) -> 0 | AB6: =IF(AB5=0,0,IF(AB5=15,0.5,IF(AB5=30,1,IF(AB5=45,1.5,0)))) -> 0 | AC6: =IF(AC5=0,0,IF(AC5=15,0.5,IF(AC5=30,1,IF(AC5=45,1.5,0)))) -> 0 | AD6: =IF(AD5=0,0,IF(AD5=15,0.5,IF(AD5=30,1,IF(AD5=45,1.5,0)))) -> 0 | ... AH6: =IF(AH5=0,0,IF(AH5=15,0.5,IF(AH5=30,1,IF(AH5=45,1.5,0)))) -> 0 | AI6: =SUM(W5:AH5)/30 -> 0 | AJ6: =SUM(W5:AH5)/30+SUM(J5:U5)/30+SUM(G5:H5)/30 -> 3
B7: DIRECCIÓN Y COORDINACIÓN ESTUDIOS Y DISEÑOS Y CONSTRUCCIÓN
A8: =IFERROR(VLOOKUP($B8,TARIFA_IDRD,2,0),"") -> 4 | B8: PROFESIONAL CATEGORÍA 4 (E.G.6;E.E.4) | C8: =IFERROR(VLOOKUP($B8,TARIFA_IDRD,3,0),"") -> PERSONAL PROFESIONAL | D8: =IFERROR(VLOOKUP($B8,TARIFA_IDRD,4,0),"") -> PROF4 | E8: Director del proyecto | F8: 1 | I8: =IF(SUM($G$5:$H$5)=0,0,((Tabla1[[#This Row],[Columna51]]*$G$6)/$I$6)+((Tabla1[[#This Row],[Columna50]]*$H$6)/$I$6)) -> 0 | Q8: 0.5 | R8: 0.25 | S8: 0.25 | T8: 0.25 | V8: =IF(SUM($J$5:$U$5)=0,0,((Tabla1[[#This Row],[Columna5]]*$J$6)/$V$6)+((Tabla1[[#This Row],[Columna6]]*$K$6)/$V$6)+((Tabla1[[#This Row],[Columna7]]*$L$6)/$V$6)+((Tabla1[[#This Row],[Columna8]]*$M$6)/$V$6)+((Tabla1[[#This Row],[Columna9]]*$N$6)/$V$6)+((Tabla1[[#This Row],[Columna10]]*$O$6)/$V$6)+((Tabla1[[#This Row],[Columna11]]*$P$6)/$V$6)+((Tabla1[[#This Row],[Columna12]]*$Q$6)/$V$6)+((Tabla1[[#This Row],[Columna13]]*$R$6)/$V$6)+((Tabla1[[#This Row],[Columna14]]*$S$6)/$V$6)+((Tabla1[[#This Row],[Columna15]]*$T$6)/$V$6)+((Tabla1[[#This Row],[Columna16]]*$U$6)/$V$6)) -> 0.29166667 | AI8: =IF(SUM($W$5:$AH$5)=0,0,((Tabla1[[#This Row],[Columna18]]*$W$6)/$AI$6)+((Tabla1[[#This Row],[Columna19]]*$X$6)/$AI$6)+((Tabla1[[#This Row],[Columna20]]*$Y$6)/$AI$6)+((Tabla1[[#This Row],[Columna21]]*$Z$6)/$AI$6)+((Tabla1[[#This Row],[Columna22]]*$AA$6)/$AI$6)+((Tabla1[[#This Row],[Columna23]]*$AB$6)/$AI$6)+((Tabla1[[#This Row],[Columna24]]*$AC$6)/$AI$6)+((Tabla1[[#This Row],[Columna25]]*$AD$6)/$AI$6)+((Tabla1[[#This Row],[Columna26]]*$AE$6)/$AI$6)+((Tabla1[[#This Row],[Columna27]]*$AF$6)/$AI$6)+((Tabla1[[#This Row],[Columna28]]*$AG$6)/$AI$6)+((Tabla1[[#This Row],[Columna29]]*$AH$6)/$AI$6)) -> 0 | AJ8: =Tabla1[[#This Row],[Columna48]]+Tabla1[[#This Row],[Columna30]]+Tabla1[[#This Row],[Columna17]] -> 0.29166667 | AK8: =IFERROR(VLOOKUP($B8,TARIFA_IDRD,7,0),0) -> 7918519.5 | AL8: =IFERROR(VLOOKUP($B8,TARIFA_IDRD,8,0),0) -> 8295315.8 | AM8: =IFERROR(VLOOKUP($B8,TARIFA_IDRD,9,0),0) -> 8618833.1 | AN8: =+$I$6 -> 0 | AO8: =$V$6 -> 3 | AP8: =$AI$6 -> 0 | AQ8: =$I8 -> 0 | AR8: =$V8 -> 0.29166667 | AS8: =$AI8 -> 0 | AT8: =(((Tabla1[[#This Row],[Columna17]]*30)*$V$6)+(Tabla1[[#This Row],[Columna30]]*30)*$AI$6+(Tabla1[[#This Row],[Columna48]]*30)*$I$6)*Tabla1[[#This Row],[Columna32]] -> 26.25 | AU8: =$AJ8 -> 0.29166667 | AV8: =AN8*AQ8 -> 0 | AW8: =AO8*AR8 -> 0.875 | AX8: =AP8*AS8 -> 0 | AY8: =ROUND(((Tabla1[[#This Row],[Columna33]]*Tabla1[[#This Row],[Columna32]]*Tabla1[[#This Row],[Columna40]])+(Tabla1[[#This Row],[Columna34]]*Tabla1[[#This Row],[Columna32]]*Tabla1[[#This Row],[Columna41]])+Tabla1[[#This Row],[Columna47]]*Tabla1[[#This Row],[Columna32]]*Tabla1[[#This Row],[Columna49]]),0) -> 7258401 | AZ8: =+'[4]FACTOR PRESTACIONAL STC'!$C$28 -> 0.5195 | BA8: =ROUND(Tabla1[[#This Row],[Columna42]]*AZ8+Tabla1[[#This Row],[Columna42]],0) -> 11029140 | BB8: =+ROUND(Tabla1[[#This Row],[Columna34]]*AZ8+Tabla1[[#This Row],[Columna34]],0) -> 12604732
A9: =IFERROR(VLOOKUP($B9,TARIFA_IDRD,2,0),"") -> 5 | B9: PROFESIONAL CATEGORÍA 5 (E.G.4;E.E.3) | C9: =IFERROR(VLOOKUP($B9,TARIFA_IDRD,3,0),"") -> PERSONAL PROFESIONAL | D9: =IFERROR(VLOOKUP($B9,TARIFA_IDRD,4,0),"") -> PROF5 | E9: Ing. o Arq. Residente | F9: 1 | I9: =IF(SUM($G$5:$H$5)=0,0,((Tabla1[[#This Row],[Columna51]]*$G$6)/$I$6)+((Tabla1[[#This Row],[Columna50]]*$H$6)/$I$6)) -> 0 | Q9: 0.5 | R9: 1 | S9: 1 | T9: 1 | V9: =IF(SUM($J$5:$U$5)=0,0,((Tabla1[[#This Row],[Columna5]]*$J$6)/$V$6)+((Tabla1[[#This Row],[Columna6]]*$K$6)/$V$6)+((Tabla1[[#This Row],[Columna7]]*$L$6)/$V$6)+((Tabla1[[#This Row],[Columna8]]*$M$6)/$V$6)+((Tabla1[[#This Row],[Columna9]]*$N$6)/$V$6)+((Tabla1[[#This Row],[Columna10]]*$O$6)/$V$6)+((Tabla1[[#This Row],[Columna11]]*$P$6)/$V$6)+((Tabla1[[#This Row],[Columna12]]*$Q$6)/$V$6)+((Tabla1[[#This Row],[Columna13]]*$R$6)/$V$6)+((Tabla1[[#This Row],[Columna14]]*$S$6)/$V$6)+((Tabla1[[#This Row],[Columna15]]*$T$6)/$V$6)+((Tabla1[[#This Row],[Columna16]]*$U$6)/$V$6)) -> 0.91666667 | AI9: =IF(SUM($W$5:$AH$5)=0,0,((Tabla1[[#This Row],[Columna18]]*$W$6)/$AI$6)+((Tabla1[[#This Row],[Columna19]]*$X$6)/$AI$6)+((Tabla1[[#This Row],[Columna20]]*$Y$6)/$AI$6)+((Tabla1[[#This Row],[Columna21]]*$Z$6)/$AI$6)+((Tabla1[[#This Row],[Columna22]]*$AA$6)/$AI$6)+((Tabla1[[#This Row],[Columna23]]*$AB$6)/$AI$6)+((Tabla1[[#This Row],[Columna24]]*$AC$6)/$AI$6)+((Tabla1[[#This Row],[Columna25]]*$AD$6)/$AI$6)+((Tabla1[[#This Row],[Columna26]]*$AE$6)/$AI$6)+((Tabla1[[#This Row],[Columna27]]*$AF$6)/$AI$6)+((Tabla1[[#This Row],[Columna28]]*$AG$6)/$AI$6)+((Tabla1[[#This Row],[Columna29]]*$AH$6)/$AI$6)) -> 0 | AJ9: =Tabla1[[#This Row],[Columna48]]+Tabla1[[#This Row],[Columna30]]+Tabla1[[#This Row],[Columna17]] -> 0.91666667 | AK9: =IFERROR(VLOOKUP($B9,TARIFA_IDRD,7,0),0) -> 6251165.7 | AL9: =IFERROR(VLOOKUP($B9,TARIFA_IDRD,8,0),0) -> 6548622.3 | AM9: =IFERROR(VLOOKUP($B9,TARIFA_IDRD,9,0),0) -> 6804018.6 | AN9: =+$I$6 -> 0 | AO9: =$V$6 -> 3 | AP9: =$AI$6 -> 0 | AQ9: =$I9 -> 0 | AR9: =$V9 -> 0.91666667 | AS9: =$AI9 -> 0 | AT9: =(((Tabla1[[#This Row],[Columna17]]*30)*$V$6)+(Tabla1[[#This Row],[Columna30]]*30)*$AI$6+(Tabla1[[#This Row],[Columna48]]*30)*$I$6)*Tabla1[[#This Row],[Columna32]] -> 82.5 | AU9: =$AJ9 -> 0.91666667 | AV9: =AN9*AQ9 -> 0 | AW9: =AO9*AR9 -> 2.75 | AX9: =AP9*AS9 -> 0 | AY9: =ROUND(((Tabla1[[#This Row],[Columna33]]*Tabla1[[#This Row],[Columna32]]*Tabla1[[#This Row],[Columna40]])+(Tabla1[[#This Row],[Columna34]]*Tabla1[[#This Row],[Columna32]]*Tabla1[[#This Row],[Columna41]])+Tabla1[[#This Row],[Columna47]]*Tabla1[[#This Row],[Columna32]]*Tabla1[[#This Row],[Columna49]]),0) -> 18008711 | AZ9: =+'[4]FACTOR PRESTACIONAL STC'!$C$28 -> 0.5195 | BA9: =ROUND(Tabla1[[#This Row],[Columna42]]*AZ9+Tabla1[[#This Row],[Columna42]],0) -> 27364236 | BB9: =+ROUND(Tabla1[[#This Row],[Columna34]]*AZ9+Tabla1[[#This Row],[Columna34]],0) -> 9950632
B10: ESPECIALIDADES | BB10: =+ROUND(Tabla1[[#This Row],[Columna34]]*AZ10+Tabla1[[#This Row],[Columna34]],0) -> 0
A11: =IFERROR(VLOOKUP($B11,TARIFA_IDRD,2,0),"") -> 6 | B11: PROFESIONAL CATEGORÍA 6 (E.G.3;E.E.1) | C11: =IFERROR(VLOOKUP($B11,TARIFA_IDRD,3,0),"") -> PERSONAL PROFESIONAL | D11: =IFERROR(VLOOKUP($B11,TARIFA_IDRD,4,0),"") -> PROF6 | E11: Ingeniero Hidrosanitario y Gas | F11: 1 | I11: =IF(SUM($G$5:$H$5)=0,0,((Tabla1[[#This Row],[Columna51]]*$G$6)/$I$6)+((Tabla1[[#This Row],[Columna50]]*$H$6)/$I$6)) -> 0 | Q11: 0.5 | R11: 0.25 | S11: 0.25 | T11: 0 | V11: =IF(SUM($J$5:$U$5)=0,0,((Tabla1[[#This Row],[Columna5]]*$J$6)/$V$6)+((Tabla1[[#This Row],[Columna6]]*$K$6)/$V$6)+((Tabla1[[#This Row],[Columna7]]*$L$6)/$V$6)+((Tabla1[[#This Row],[Columna8]]*$M$6)/$V$6)+((Tabla1[[#This Row],[Columna9]]*$N$6)/$V$6)+((Tabla1[[#This Row],[Columna10]]*$O$6)/$V$6)+((Tabla1[[#This Row],[Columna11]]*$P$6)/$V$6)+((Tabla1[[#This Row],[Columna12]]*$Q$6)/$V$6)+((Tabla1[[#This Row],[Columna13]]*$R$6)/$V$6)+((Tabla1[[#This Row],[Columna14]]*$S$6)/$V$6)+((Tabla1[[#This Row],[Columna15]]*$T$6)/$V$6)+((Tabla1[[#This Row],[Columna16]]*$U$6)/$V$6)) -> 0.25 | AI11: =IF(SUM($W$5:$AH$5)=0,0,((Tabla1[[#This Row],[Columna18]]*$W$6)/$AI$6)+((Tabla1[[#This Row],[Columna19]]*$X$6)/$AI$6)+((Tabla1[[#This Row],[Columna20]]*$Y$6)/$AI$6)+((Tabla1[[#This Row],[Columna21]]*$Z$6)/$AI$6)+((Tabla1[[#This Row],[Columna22]]*$AA$6)/$AI$6)+((Tabla1[[#This Row],[Columna23]]*$AB$6)/$AI$6)+((Tabla1[[#This Row],[Columna24]]*$AC$6)/$AI$6)+((Tabla1[[#This Row],[Columna25]]*$AD$6)/$AI$6)+((Tabla1[[#This Row],[Columna26]]*$AE$6)/$AI$6)+((Tabla1[[#This Row],[Columna27]]*$AF$6)/$AI$6)+((Tabla1[[#This Row],[Columna28]]*$AG$6)/$AI$6)+((Tabla1[[#This Row],[Columna29]]*$AH$6)/$AI$6)) -> 0 | AJ11: =Tabla1[[#This Row],[Columna48]]+Tabla1[[#This Row],[Columna30]]+Tabla1[[#This Row],[Columna17]] -> 0.25 | AK11: =IFERROR(VLOOKUP($B11,TARIFA_IDRD,7,0),0) -> 6135672 | AL11: =IFERROR(VLOOKUP($B11,TARIFA_IDRD,8,0),0) -> 6427633 | AM11: =IFERROR(VLOOKUP($B11,TARIFA_IDRD,9,0),0) -> 6678310.7 | AN11: =+$I$6 -> 0 | AO11: =$V$6 -> 3 | AP11: =$AI$6 -> 0 | AQ11: =$I11 -> 0 | AR11: =$V11 -> 0.25 | AS11: =$AI11 -> 0 | AT11: =(((Tabla1[[#This Row],[Columna17]]*30)*$V$6)+(Tabla1[[#This Row],[Columna30]]*30)*$AI$6+(Tabla1[[#This Row],[Columna48]]*30)*$I$6)*Tabla1[[#This Row],[Columna32]] -> 22.5 | AU11: =$AJ11 -> 0.25 | AV11: =AN11*AQ11 -> 0 | AW11: =AO11*AR11 -> 0.75 | AX11: =AP11*AS11 -> 0 | AY11: =ROUND(((Tabla1[[#This Row],[Columna33]]*Tabla1[[#This Row],[Columna32]]*Tabla1[[#This Row],[Columna40]])+(Tabla1[[#This Row],[Columna34]]*Tabla1[[#This Row],[Columna32]]*Tabla1[[#This Row],[Columna41]])+Tabla1[[#This Row],[Columna47]]*Tabla1[[#This Row],[Columna32]]*Tabla1[[#This Row],[Columna49]]),0) -> 4820725 | AZ11: 0.5195 | BA11: =ROUND(Tabla1[[#This Row],[Columna42]]*AZ11+Tabla1[[#This Row],[Columna42]],0) -> 7325092 | BB11: =+ROUND(Tabla1[[#This Row],[Columna34]]*AZ11+Tabla1[[#This Row],[Columna34]],0) -> 9766788
A12: =IFERROR(VLOOKUP($B12,TARIFA_IDRD,2,0),"") -> 5 | B12: PROFESIONAL CATEGORÍA 5 (E.G.4;E.E.3) | C12: =IFERROR(VLOOKUP($B12,TARIFA_IDRD,3,0),"") -> PERSONAL PROFESIONAL | D12: =IFERROR(VLOOKUP($B12,TARIFA_IDRD,4,0),"") -> PROF5 | E12: Ingeniero Eléctrico Esp. Redes Secas | F12: 1 | I12: =IF(SUM($G$5:$H$5)=0,0,((Tabla1[[#This Row],[Columna51]]*$G$6)/$I$6)+((Tabla1[[#This Row],[Columna50]]*$H$6)/$I$6)) -> 0 | Q12: 0.5 | R12: 0.4 | S12: 0.4 | T12: 0.4 | V12: =IF(SUM($J$5:$U$5)=0,0,((Tabla1[[#This Row],[Columna5]]*$J$6)/$V$6)+((Tabla1[[#This Row],[Columna6]]*$K$6)/$V$6)+((Tabla1[[#This Row],[Columna7]]*$L$6)/$V$6)+((Tabla1[[#This Row],[Columna8]]*$M$6)/$V$6)+((Tabla1[[#This Row],[Columna9]]*$N$6)/$V$6)+((Tabla1[[#This Row],[Columna10]]*$O$6)/$V$6)+((Tabla1[[#This Row],[Columna11]]*$P$6)/$V$6)+((Tabla1[[#This Row],[Columna12]]*$Q$6)/$V$6)+((Tabla1[[#This Row],[Columna13]]*$R$6)/$V$6)+((Tabla1[[#This Row],[Columna14]]*$S$6)/$V$6)+((Tabla1[[#This Row],[Columna15]]*$T$6)/$V$6)+((Tabla1[[#This Row],[Columna16]]*$U$6)/$V$6)) -> 0.41666667 | AI12: =IF(SUM($W$5:$AH$5)=0,0,((Tabla1[[#This Row],[Columna18]]*$W$6)/$AI$6)+((Tabla1[[#This Row],[Columna19]]*$X$6)/$AI$6)+((Tabla1[[#This Row],[Columna20]]*$Y$6)/$AI$6)+((Tabla1[[#This Row],[Columna21]]*$Z$6)/$AI$6)+((Tabla1[[#This Row],[Columna22]]*$AA$6)/$AI$6)+((Tabla1[[#This Row],[Columna23]]*$AB$6)/$AI$6)+((Tabla1[[#This Row],[Columna24]]*$AC$6)/$AI$6)+((Tabla1[[#This Row],[Columna25]]*$AD$6)/$AI$6)+((Tabla1[[#This Row],[Columna26]]*$AE$6)/$AI$6)+((Tabla1[[#This Row],[Columna27]]*$AF$6)/$AI$6)+((Tabla1[[#This Row],[Columna28]]*$AG$6)/$AI$6)+((Tabla1[[#This Row],[Columna29]]*$AH$6)/$AI$6)) -> 0 | AJ12: =Tabla1[[#This Row],[Columna48]]+Tabla1[[#This Row],[Columna30]]+Tabla1[[#This Row],[Columna17]] -> 0.41666667 | AK12: =IFERROR(VLOOKUP($B12,TARIFA_IDRD,7,0),0) -> 6251165.7 | AL12: =IFERROR(VLOOKUP($B12,TARIFA_IDRD,8,0),0) -> 6548622.3 | AM12: =IFERROR(VLOOKUP($B12,TARIFA_IDRD,9,0),0) -> 6804018.6 | AN12: =+$I$6 -> 0 | AO12: =$V$6 -> 3 | AP12: =$AI$6 -> 0 | AQ12: =$I12 -> 0 | AR12: =$V12 -> 0.41666667 | AS12: =$AI12 -> 0 | AT12: =(((Tabla1[[#This Row],[Columna17]]*30)*$V$6)+(Tabla1[[#This Row],[Columna30]]*30)*$AI$6+(Tabla1[[#This Row],[Columna48]]*30)*$I$6)*Tabla1[[#This Row],[Columna32]] -> 37.5 | AU12: =$AJ12 -> 0.41666667 | AV12: =AN12*AQ12 -> 0 | AW12: =AO12*AR12 -> 1.25 | AX12: =AP12*AS12 -> 0 | AY12: =ROUND(((Tabla1[[#This Row],[Columna33]]*Tabla1[[#This Row],[Columna32]]*Tabla1[[#This Row],[Columna40]])+(Tabla1[[#This Row],[Columna34]]*Tabla1[[#This Row],[Columna32]]*Tabla1[[#This Row],[Columna41]])+Tabla1[[#This Row],[Columna47]]*Tabla1[[#This Row],[Columna32]]*Tabla1[[#This Row],[Columna49]]),0) -> 8185778 | AZ12: 0.5195 | BA12: =ROUND(Tabla1[[#This Row],[Columna42]]*AZ12+Tabla1[[#This Row],[Columna42]],0) -> 12438290 | BB12: =+ROUND(Tabla1[[#This Row],[Columna34]]*AZ12+Tabla1[[#This Row],[Columna34]],0) -> 9950632
