Workbook

Sheet PRESUPUESTO OFICIAL
F4: PRESUPUESTO OFICIAL
F5: MANTENIMIENTO DE INFRAESTRUCTURA DEL AULA STEAM DE LA SEDE PRINCIPAL DE LA INSTITUCIÓN EDUCATIVA TÉCNICA JUAN XXIII DEL MUNICIPIO DE COYAIMA - TOLIMA
F6: ITEM | G6: DESCRIPCIÓN | H6: UND | I6: CANTIDADES | J6: VALOR UNITARIO | K6: VALOR TOTAL PARCIAL
F7: 1 | G7: PRELIMINAR | K7: =SUM(K8:K8) -> 646750
F8: 1.01 | G8: DESMONTE DE CIELO RAZO EXISTENTE EN LAMINA DE ICOPOR | H8: M2 | I8: =+MEMORIAS!N5 -> 99.5 | J8: =+APUS!L33 -> 6500 | K8: =J8*I8 -> 646750
F9: 2 | G9: CIELO RAZO | K9: =SUM(K10:K10) -> 26725700
F10: 2.01 | G10: SUMINISTRO E INSTALACION DE REJA DE SEGURIDAD EN VARILLA CUADRADA Y/O MALLA ELECTROSOLDADA INCLUYE ANGULO Y REFUERZOS NECESARIOS | H10: M2 | I10: =+MEMORIAS!N8 -> 99.5 | J10: =+APUS!L64 -> 268600 | K10: =+J10*I10 -> 26725700
F11: 3 | G11: PINTURA INTERIOR Y EXTERIOR | K11: =SUM(K12:K13) -> 3700000
F12: 3.01 | G12: APLICACION DE PINTURA TIPO 1 VINILO INCLUYE BROCHAS, RODILLOS Y CINTA DE ENMASCARAR | H12: M2 | I12: =+MEMORIAS!N11 -> 250 | J12: =+APUS!L92 -> 11500 | K12: =+J12*I12 -> 2875000
F13: 3.02 | G13: MANTENIMIENTO DE PUERTAS Y REJAS EXTERIORES INCLUYE SOLDADURA DONDE REQUIERA Y PINTURA EN ANTICORROSIVO Y ESMALTE | H13: UND | I13: =+MEMORIAS!N13 -> 5 | J13: =+APUS!L123 -> 165000 | K13: =+J13*I13 -> 825000
F14: 4 | G14: RED ELECTRICA INTERNA Y EXTERNA | K14: =SUM(K15:K16) -> 395000
F15: 4.01 | G15: SUMINISTRO E INSTALACION DE CAJA DE 4 CCTOS | H15: UND | I15: =+MEMORIAS!N16 -> 1 | J15: =+APUS!L155 -> 210000 | K15: =+J15*I15 -> 210000
F16: 4.02 | G16: SUMINSITRO E INSTALACION DE BREAKER DE 30 AMP | H16: UND | I16: =+MEMORIAS!N18 -> 2 | J16: =+APUS!L182 -> 92500 | K16: =+J16*I16 -> 185000
F17: COSTO TOTAL OBRA SEDE | K17: =+K7+K9+K11+K14 -> 31467450
F18: ADMINISTRACION | J18: =+'ANALISIS DEL AIU'!H19 -> 0.20085018 | K18: =K17*J18 -> 6320243.2
F19: IMPREVISTO | J19: =+'ANALISIS DEL AIU'!H20 -> 0.01 | K19: =K17*0.01 -> 314674.5
F20: UTILIDAD | J20: =+'ANALISIS DEL AIU'!H21 -> 0.05 | K20: =K17*0.05 -> 1573372.5
F21: COSTO TOTAL DE LA OBRA | K21: =K17+K18+K19+K20 -> 39675740
G26: JUAN CAMILO URREA GUTIERREZ
G27: INGENIERO CIVIL

Sheet APUS
F5: ANÁLISIS DE PRECIOS UNITARIOS
F8: =+'PRESUPUESTO OFICIAL'!G8 -> DESMONTE DE CIELO RAZO EXISTENTE EN LAMINA DE ICOPOR | K8: ITEM: | L8: =+'PRESUPUESTO OFICIAL'!F8 -> 1.01
K9: UNIDAD: | L9: =+'PRESUPUESTO OFICIAL'!H8 -> M2
F10: I. EQUIPO
F11: Descripción | H11: Tipo | I11: Tarifa/Hora | J11: Rendimiento | K11: Valor-Unit.
F12: HERRAMIENTA MENOR (10%) | H12: =VLOOKUP(F12,'[1]INSUMOS 2024'!$C$2:$E$4839,2,FALSE) -> % | K12: =(L31+L21)*0.1 -> 450.90909
F13: SECCION DE ANDAMIOS | H13: =VLOOKUP(F13,'[1]INSUMOS 2024'!$C$2:$E$4839,2,FALSE) -> HORA | I13: =VLOOKUP(F13,'[1]INSUMOS 2024'!$C$2:$E$4839,3,FALSE) -> 2800 | J13: 0.55 | K13: =I13*J13 -> 1540
K15: Sub-Total | L15: =SUM(K12:K14) -> 1990.9091
F16: II. MATERIALES EN OBRA
F17: Descripción | H17: Unidad | I17: Precio-Unit. | J17: Cantidad | K17: Valor-Unit.
K21: Sub-Total | L21: =SUM(K18:K20) -> 0
F22: III. TRANSPORTES
F23: Material | H23: Distancia (KM) | I23: Cantidad (M3) | J23: Tarifa/M3-Km | K23: Valor-Unit.
K26: Sub-Total | L26: =SUM(K24:K25) -> 0
F27: IV. MANO DE OBRA
F28: Trabajador | G28: Hora | I28: Rendimiento | K28: Valor-Unit.
F29: M. O. ALBAÑILERÍA (2 AYUDANTE) | G29: =VLOOKUP(F29,[1]A.CUADRILLAS!$A$44:$C$68,2,FALSE) -> 23988.303 | I29: 0.1879704 | K29: =I29*G29 -> 4509.0909
K31: Sub-Total | L31: =SUM(K29:K30) -> 4509.0909
I33: Total Costo Directo | L33: =L15+L21+L26+L31 -> 6500
F37: ANÁLISIS DE PRECIOS UNITARIOS
F39: =+'PRESUPUESTO OFICIAL'!G10 -> SUMINISTRO E INSTALACION DE REJA DE SEGURIDAD EN VARILLA CUADRADA Y/O MALLA ELECTROSOLDADA INCLUYE ANGULO Y REFUERZOS NECESARIOS | K39: ITEM: | L39: =+'PRESUPUESTO OFICIAL'!F10 -> 2.01
K40: UNIDAD: | L40: =+'PRESUPUESTO OFICIAL'!H10 -> M2
F41: I. EQUIPO
F42: Descripción | H42: Tipo | I42: Tarifa/Hora | J42: Rendimiento | K42: Valor-Unit.
F43: HERRAMIENTA MENOR (10%) | H43: =VLOOKUP(F43,'[1]INSUMOS 2024'!$C$2:$E$4839,2,FALSE) -> % | K43: =(L62+L56)*0.1 -> 4341.8182
F44: SECCION DE ANDAMIOS | H44: =VLOOKUP(F44,'[1]INSUMOS 2024'!$C$2:$E$4839,2,FALSE) -> HORA | I44: =VLOOKUP(F44,'[1]INSUMOS 2024'!$C$2:$E$4839,3,FALSE) -> 2800 | J44: 0.3 | K44: =I44*J44 -> 840
K45: Sub-Total | L45: =SUM(K43:K44) -> 5181.8182
F46: II. MATERIALES EN OBRA
F48: Descripción | H48: Unidad | I48: Precio-Unit. | J48: Cantidad | K48: Valor-Unit.
F49: Suministro e instalacion de reja de seguridad en varilla cuadrada y/o malla electrosoldada, incluye angulo y refuerzos necesarios - subcontrato | H49: M2 | I49: 220000 | J49: 1 | K49: =I49*J49 -> 220000
K51: Sub-Total | L51: =SUM(K49:K50) -> 220000
F52: III. TRANSPORTES
F53: Material | H53: Distancia (KM) | I53: Cantidad (M3) | J53: Tarifa/M3-Km | K53: Valor-Unit.
K56: Sub-Total | L56: =SUM(K54:K55) -> 0
F57: IV. MANO DE OBRA
F58: Trabajador | G58: Hora | I58: Rendimiento | K58: Valor-Unit.
F59: M. O. CARP.TALLER (1 OFICIAL + 2 AYUDANTE) | G59: =VLOOKUP(F59,[1]A.CUADRILLAS!$A$44:$C$68,2,FALSE) -> 48486.123 | I59: 0.89547647 | K59: =I59*G59 -> 43418.182
K62: Sub-Total | L62: =SUM(K59:K61) -> 43418.182
I64: Total Costo Directo | L64: =L45+L51+L56+L62 -> 268600
F68: ANÁLISIS DE PRECIOS UNITARIOS
...

Sheet MEMORIAS
B2: MEMORIAS DE CALCULO
B3: ITEM | C3: ACTIVIDAD | D3: UNIDADES | N3: TOTALES
B4: =+'PRESUPUESTO OFICIAL'!F7 -> 1 | C4: =+'PRESUPUESTO OFICIAL'!G7 -> PRELIMINAR
B5: =+'PRESUPUESTO OFICIAL'!F8 -> 1.01 | C5: =+'PRESUPUESTO OFICIAL'!G8 -> DESMONTE DE CIELO RAZO EXISTENTE EN LAMINA DE ICOPOR | D5: =+'PRESUPUESTO OFICIAL'!H8 -> M2 | E5: No. Ele | F5: Cant. | G5: Long | H5: Ancho | I5: Altura | J5: Desc | M5: Cantidad | N5: =+M6 -> 99.5
C6: Salon a intervenir | G6: 9.95 | H6: 10 | M6: =+H6*G6 -> 99.5
B7: =+'PRESUPUESTO OFICIAL'!F9 -> 2 | C7: =+'PRESUPUESTO OFICIAL'!G9 -> CIELO RAZO
B8: =+'PRESUPUESTO OFICIAL'!F10 -> 2.01 | C8: =+'PRESUPUESTO OFICIAL'!G10 -> SUMINISTRO E INSTALACION DE REJA DE SEGURIDAD EN VARILLA CUADRADA Y/O MALLA ELECTROSOLDADA INCLUYE ANGULO Y REFUERZOS NECESARIOS | D8: M2 | E8: No. Ele | F8: Cant. | G8: Long | H8: Ancho | I8: Altura | J8: Desc | M8: Cantidad | N8: =+M9 -> 99.5
C9: Salon a intervenir | G9: 9.95 | H9: 10 | M9: =+H9*G9 -> 99.5
B10: =+'PRESUPUESTO OFICIAL'!F11 -> 3 | C10: =+'PRESUPUESTO OFICIAL'!G11 -> PINTURA INTERIOR Y EXTERIOR
B11: =+'PRESUPUESTO OFICIAL'!F12 -> 3.01 | C11: =+'PRESUPUESTO OFICIAL'!G12 -> APLICACION DE PINTURA TIPO 1 VINILO INCLUYE BROCHAS, RODILLOS Y CINTA DE ENMASCARAR | D11: M2 | E11: No. Ele | F11: Cant. | G11: Long | H11: Ancho | I11: Altura | J11: Desc | M11: Cantidad | N11: =+M12 -> 250
C12: Salon a intervenir | G12: 80 | H12: 3.125 | M12: =+H12*G12 -> 250
B13: =+'PRESUPUESTO OFICIAL'!F13 -> 3.02 | C13: =+'PRESUPUESTO OFICIAL'!G13 -> MANTENIMIENTO DE PUERTAS Y REJAS EXTERIORES INCLUYE SOLDADURA DONDE REQUIERA Y PINTURA EN ANTICORROSIVO Y ESMALTE | D13: UND | E13: No. Ele | F13: Cant. | G13: Long | H13: Ancho | I13: Altura | J13: Desc | M13: Cantidad | N13: =ROUND(SUM(M14:M14),2) -> 5
C14: Puertas internas y externas | F14: 5 | M14: 5
B15: =+'PRESUPUESTO OFICIAL'!F14 -> 4 | C15: =+'PRESUPUESTO OFICIAL'!G14 -> RED ELECTRICA INTERNA Y EXTERNA
B16: =+'PRESUPUESTO OFICIAL'!F15 -> 4.01 | C16: =+'PRESUPUESTO OFICIAL'!G15 -> SUMINISTRO E INSTALACION DE CAJA DE 4 CCTOS | D16: UND | E16: No. Ele | F16: Cant. | G16: Long | H16: Ancho | I16: Altura | J16: Desc | M16: Cantidad | N16: =ROUND(SUM(M17:M17),2) -> 1
C17: Salon a intervenir | F17: 1 | M17: 1
B18: =+'PRESUPUESTO OFICIAL'!F16 -> 4.02 | C18: =+'PRESUPUESTO OFICIAL'!G16 -> SUMINSITRO E INSTALACION DE BREAKER DE 30 AMP | D18: UND | E18: No. Ele | F18: Cant. | G18: Long | H18: Ancho | I18: Altura | J18: Desc | M18: Cantidad | N18: =+M19 -> 2
C19: Salon a intervenir | F19: 2 | M19: =+F19 -> 2
C27: JUAN CAMILO URREA GUTIERREZ
C28: INGENIERO CIVIL

Sheet ANALISIS DEL AIU
B2: CONCEPTO | D2: V.M./CON PRESTACIONES | E2: Dedicación | F2: Duración de la obra (Meses) | G2: V.PARCIAL | H2: %
B3: COSTO DIRECTO | H3: =+'PRESUPUESTO OFICIAL'!K17 -> 31467450
B4: ADMINISTRACION
B5: SALARIOS PERSONAL DE OBRA | G5: =+G6 -> 3000000 | H5: =+G5/H3 -> 0.09533661
B6: 1 | C6: INGENIERO RESIDENTE - INGENIERO CIVIL | D6: 3000000 | E6: 1 | F6: 1 | G6: =+D6*E6*F6*B6 -> 3000000
B8: GASTOS DE LEGALIZACION E IMPUESTOS | G8: =SUM(G9:G15) -> 3320243.2 | H8: =+G8/H3 -> 0.10551358
B9: Estampilla PRO Tolima 150 años | D9: 34766944 | F9: 0.02 | G9: =+D9*F9 -> 695338.88
B10: Estampilla PRO Cultura | D10: 34766944 | F10: 0.01 | G10: =+D10*F10 -> 347669.44
B11: Estampilla PRO Desarrollo Departamental | D11: 34766944 | F11: 0.02 | G11: =+D11*F11 -> 695338.88
B12: Poliza Cumplimiento | D12: 34766944 | F12: 0.0055 | G12: =+D12*F12 -> 191218.19
B13: Retefuente | D13: 34766944 | F13: 0.02 | G13: =+D13*F13 -> 695338.88
B14: Rete ICA | D14: 34766944 | F14: 0.01 | G14: =+D14*F14 -> 347669.44
B15: Tasa FIC - SENA | D15: 34766944 | F15: 0.01 | G15: =+D15*F15 -> 347669.44
B18: COSTOS FINANCIEROS
B19: A | C19: ADMINISTRACION | H19: =+H5+H8 -> 0.20085018
B20: I | C20: IMPREVISTOS | H20: 0.01
B21: U | C21: UTILIDAD | H21: 0.05
B22: A.I.U. | H22: =SUM(H19:H21) -> 0.26085018
C29: JUAN CAMILO URREA GUTIERREZ
C30: INGENIERO CIVIL

Sheet CRONOGRAMA
F4: CRONOGRAMA DE OBRA
F5: ITEM | G5: DESCRIPCIÓN | H5: UND | I5: CANTIDADES | J5: SEMANA 1 | K5: SEMANA 2 | L5: SEMANA 3 | M5: SEMANA 4
F6: 1 | G6: PRELIMINAR
F7: 1.01 | G7: DESMONTE DE CIELO RAZO EXISTENTE EN LAMINA DE ICOPOR | H7: M2 | I7: =9.6*11.7 -> 112.32
F8: 2 | G8: CIELO RAZO
F9: 2.01 | G9: SUMINISTRO E INSTALACION DE REJA DE SEGURIDAD EN VARILLA CUADRADA Y/O MALLA ELECTROSOLDADA INCLUYE ANGULO Y REFUERZOS NECESARIOS | H9: M2 | I9: =9.6*11.7 -> 112.32
F10: 3 | G10: PINTURA INTERIOR Y EXTERIOR
F11: 3.01 | G11: APLICACION DE PINTURA TIPO 1 VINILO INCLUYE BROCHAS, RODILLOS Y CINTA DE ENMASCARAR | H11: M2 | I11: 250
F12: 3.02 | G12: MANTENIMIENTO DE PUERTAS Y REJAS EXTERIORES INCLUYE SOLDADURA DONDE REQUIERA Y PINTURA EN ANTICORROSIVO Y ESMALTE | H12: UND | I12: 5
F13: 4 | G13: RED ELECTRICA INTERNA Y EXTERNA
F14: 4.01 | G14: SUMINISTRO E INSTALACION DE CAJA DE 4 CCTOS | H14: UND | I14: 1
F15: 4.02 | G15: SUMINSITRO E INSTALACION DE BREAKER DE 30 AMP | H15: UND | I15: 2
G22: JUAN CAMILO URREA GUTIERREZ
G23: INGENIERO CIVIL

Sheet ANEXO 5 OFERTA ECONÓMICA
F4: ANEXO 5 - OFERTA ECONÓMICA
F5: MANTENIMIENTO DE INFRAESTRUCTURA DEL AULA STEAM DE LA SEDE PRINCIPAL DE LA INSTITUCIÓN EDUCATIVA TÉCNICA JUAN XXIII DEL MUNICIPIO DE COYAIMA - TOLIMA
F6: ITEM | G6: DESCRIPCIÓN | H6: UND | I6: CANTIDADES | J6: VALOR UNITARIO | K6: VALOR TOTAL PARCIAL
F7: 1 | G7: PRELIMINAR
F8: 1.01 | G8: DESMONTE DE CIELO RAZO EXISTENTE EN LAMINA DE ICOPOR | H8: M2 | I8: =+MEMORIAS!N5 -> 99.5
F9: 2 | G9: CIELO RAZO
F10: 2.01 | G10: SUMINISTRO E INSTALACION DE REJA DE SEGURIDAD EN VARILLA CUADRADA Y/O MALLA ELECTROSOLDADA INCLUYE ANGULO Y REFUERZOS NECESARIOS | H10: M2 | I10: =+MEMORIAS!N8 -> 99.5
F11: 3 | G11: PINTURA INTERIOR Y EXTERIOR
F12: 3.01 | G12: APLICACION DE PINTURA TIPO 1 VINILO INCLUYE BROCHAS, RODILLOS Y CINTA DE ENMASCARAR | H12: M2 | I12: =+MEMORIAS!N11 -> 250
F13: 3.02 | G13: MANTENIMIENTO DE PUERTAS Y REJAS EXTERIORES INCLUYE SOLDADURA DONDE REQUIERA Y PINTURA EN ANTICORROSIVO Y ESMALTE | H13: UND | I13: =+MEMORIAS!N13 -> 5
F14: 4 | G14: RED ELECTRICA INTERNA Y EXTERNA
F15: 4.01 | G15: SUMINISTRO E INSTALACION DE CAJA DE 4 CCTOS | H15: UND | I15: =+MEMORIAS!N16 -> 1
F16: 4.02 | G16: SUMINSITRO E INSTALACION DE BREAKER DE 30 AMP | H16: UND | I16: =+MEMORIAS!N18 -> 2
F17: COSTO TOTAL OBRA SEDE
F18: ADMINISTRACION | J18: =+'ANALISIS DEL AIU'!H19 -> 0.20085018
F19: IMPREVISTO | J19: =+'ANALISIS DEL AIU'!H20 -> 0.01
F20: UTILIDAD | J20: =+'ANALISIS DEL AIU'!H21 -> 0.05
F21: COSTO TOTAL DE LA OBRA
