Workbook

Sheet EXP DEL PROPONENTE
C1: INSTITUTO DE PLANIFICACIÓN Y PROMOCIÓN DE SOLUCIONES ENERGÉTICAS PARA LAS ZONAS NO INTERCONECTADAS | R1: SI | S1: CUMPLE
C2: CONCURSO DE MÉRITOS ABIERTO | R2: NO | S2: NO CUMPLE
R3: N.A.
C4: VERIFICACIÓN TÉCNICA
C5: EXPERIENCIA DEL PROPONENTE
B8: PROPONENTE: | C8: PRAN CONSTRUCCIONES SAS
B9: ENTIDAD (O INEGRANTE DEL PROPONENTE) | C9: N.A.
B10: NIT
B12: Código de verificación RUP | C12: 80101601 | D12: 81101516 | E12: 81101701
B13: Fecha de inscripción RUP
B14: Fecha de Expedición RUP
B16: PLIEGO | C16: - Mínimo 2 máximo 4 contratos o certificaciones en los siguientes códigos. - La sumatoria de los contratos debe ser mínimo el 50% del valor del presupuesto. - Los contratos deben haber sido iniciados, ejecutados y terminados a partir del 1 de enero de 2010 hasta la fecha de cierre del proceso. - El objeto o alcance de estos contratos deberá versar sobre consultoría (estructuración o diseño o interventorías) de proyectos de infraestructura energética. - Al menos una de las certificaciones deberá ser en interventoría a proyectos de infraestructura energética | H16: CÓDIGOS | K16: PRESUPUESTO
H18: 80101601 | I18: 81101516 | J18: 81101701 | K18: 560508425
C20: OBJETOS DEL CONTRATO
C21: 1. Consultoría en proyectos de infraestructura de energía eléctrica
B27: FAVOR LISTARLOS EN ORDEN CRONOLÓGICO DE EJECUCIÓN
A29: carpeta y ubicación del contratos y sus soportes | B29: ID (No de contrato, si aplica) | C29: CONTRATISTA | D29: CONTRATANTE | E29: OBJETO DEL CONTRATO | G29: Corresponde a interventoría a proyectos de infraestructura eléctrica | H29: INSCRITOS EN EL RUP | J29: No. DE SMMLV RUP | K29: PORCENTAJE DE PARTICIPACIÓN | L29: No. DE SMMLV | M29: OBSERVACIONES
H31: No consecutivo en RUP | I31: Código RUP de acuerdo al pliego (pueden incluirse los tres) | J31: Indicar de acuerdo a lo consignado en RUP
A32: Experiencia del proponente | B32: 01-2016 | C32: PRAN CONSTRUCCIONES SAS | D32: INCIPAL SAS | E32: INTERVENTORÍA TÉCNICA, ADMINISTRATIVA, FINANCIERA, AMBIENTAL, LEGAL AL PROYECTO DENOMINADO “GENERACIÓN Y DISTRIBUCIÓN DE ENERGÍA ELÉCTRICA MEDIANTE SISTEMAS FOTOVOLTAICOS EN DIFERENTES ZONAS DEL TERRITORIO NACIONAL ESPECIALMENTE EN LOS DEPARTAMENTOS DE CUNDINAMARCA Y ANTIOQUIA PARA DIFERENTES CONDOMINIOS HABITACIONALES SOSTENIBLES INCLUYENDO DOMÓTICA DE ÚLTIMA GENERACIÓN | G32: SI | H32: 16 | I32: 801016 811015 811017 | J32: 1260.646 | K32: 1 | L32: =+J32 -> 1260.646 | M32: -
A33: Experiencia del proponente | B33: N/A | C33: PRAN CONSTRUCCIONES SAS | D33: AN CONSTRUDISEÑOS SAS | E33: CONTRATO DE INTERVENTORÍA TÉCNICA, ADMINISTRATIVA, FINANCIERA, LEGAL, CONTABLE, SOCIAL Y AMBIENTAL AL CONTRATO DE OBRA CUYO OBJETO ES EL SUMINISTRO, INSTALACIÓN E IMPLEMENTACIÓN DE SISTEMAS ELÉCTRICOS SOLARES CON SISTEMAS FOTOVOLTAICOS DEL CONDOMINIO RESIDENCIAL, ZONA RURAL DEL MUNICIPIO DE BUENAVENTURA, VALLE DEL CAUCA | G33: SI | H33: 24 | I33: 801016 811015 811017 | J33: 865.13995 | K33: 1 | L33: =+J33 -> 865.13995
A34: Experiencia del proponente | B34: 29-2016 | C34: PRAN CONSTRUCCIONES SAS | D34: INCIPAL SAS | E34: INTERVENTORÍA, LEGAL, ADMINISTRATIVA, TÉCNICA, AMBIENTAL, FINANCIERA Y CONTABLE AL SUMINISTRO E INSTALACIÓN DE UNA SOLUCION HIBRIDA (SOLAR – DISEL ) ACOPLADA EN DC, PARA EL CORREGIMIENTO DE PUNTA SOLDADO, MUNICIPIO DE BUENAVENTURA , DEPARTAMENTO DEL VALLE DEL CAUCA Y DE CONFORMIDAD CON LOS DISEÑOS Y LAS ESPECIFICACIONES TECNICAS QUE SE PROVEAN | G34: SI | I34: 801016 811015 811017 | J34: 422.24864 | K34: 1 | L34: =+J34 -> 422.24864
B41: REQUISITOS DE LAS CERTIFICACIONES | D41: CHECK LIST
D42: 1 | E42: 2 | F42: 3 | G42: 4
B43: CONTRATANTE | D43: INCIPAL SAS | E43: AN CONSTRUDISEÑOS | F43: INCIPAL SAS
B44: Nombre del Contratante. | D44: SI | E44: SI | F44: SI
B45: Nombre del Contratista (Oferente o miembro del oferente) | D45: SI | E45: SI | F45: SI
B46: ¿El contratista es un proponente plural? | D46: N.A. | E46: N.A. | F46: N.A.
B47: ¿Porcentaje de participación => 30% | D47: N.A. | E47: N.A. | F47: N.A.
B48: No de contrato (si Aplica) | D48: SI | E48: N.A. | F48: SI
B49: Plazo | D49: N.A. | E49: N.A. | F49: N.A.
B50: Fecha de inicio | D50: SI | E50: SI | F50: SI
B51: Fecha terminación | D51: SI | E51: SI | F51: SI
B52: Objeto del contrato | D52: SI | E52: SI | F52: SI
B53: Valor total del contrato- Incluido adiciones | D53: SI | E53: SI | F53: SI
B54: Represenatnte legal o funcionario para verificación | D54: SI | E54: SI | F54: SI
... B58: Documento soporte: (indicar si es contrato, acta de liquidación, otros) | D58: CERTIFICACIÓN | E58: CERTIFICACIÓN | F58: CERTIFICACIÓN
B59: CONTACTO TELEFÓNICO
B60: CONTACTO CORREO (OPCIONAL)
B62: NOMBRE DE LA CARPETA EN LA QUE SE UBICA EL DOCUMENTO | D62: Experiencia del proponente | E62: Experiencia del proponente | F62: Experiencia del proponente
B63: NOMBRE DEL DOCUMENTO | D63: 16.Incipal - Pran | E63: 24.AN - Pran | F63: 18. Incipal

Sheet DIRECTOR 
B1: =+'[1]EXP DEL PROPONENTE'!C1 -> INSTITUTO DE PLANIFICACIÓN Y PROMOCIÓN DE SOLUCIONES ENERGÉTICAS PARA LAS ZONAS NO INTERCONECTADAS
B4: =+'[1]EXP DEL PROPONENTE'!C4 -> VERIFICACIÓN TÉCNICA
B5: EQUIPO MÍNIMO HABILITANTE
B8: DIRECTOR DEL PROYECTO
B9: PROPONENTE | C9: PRAN CONSTRUCCIONES SAS | G9: NIT | H9: 900,535,486-7
B10: NOMBRE DEL PROFESIONAL | C10: RICARDO ALFREDO OSPINA LÓPEZ | G10: NÚMERO DE IDENTIFICACIÓN | H10: 75091899
B12: PREGRADO | E12: T.P. (FECHA) | F12: POSTGRADO
B13: Ingeniero electricista o eléctrico o electromecánico o en energías o en distribución y redes, de conformidad con lo establecido en el RETIE, o ingeniero electrónico, o civil, o mecánico para lo cual deberá adjuntar: i) copia de su matrícula profesional, la cual deberá tener expedición superior a 10 años, y; ii) Certificado de vigencia de la matrícula profesional, expedida por el órgano competente | F13: - Administración de empresas o - Gerencia o -Gerencia de proyectos o - Dirección de proyectos o - en Fuentes No Convencionales de Energía o - en energías alternativas o - ingeniería o - ingeniería eléctrica o - en sistemas de potencia o en - Gerencia de construcciones.
B14: TÍTULO (FECHA) | C14: UNIVERSIDAD | D14: CONVALIDACIÓN | F14: TÍTULO | G14: UNIVERSIDAD | H14: CONVALIDACIÓN
B15: INGENIERO ELECTRICISTA | C15: UNIVERSIDAD NACIONAL DE COLOMBIA | D15: NA | E15: 39570 | F15: ESPECIALISTA EN GERENCIA DE PROYECTOS | G15: UNIVERSIDAD PILOTO DE COLOMBIA | H15: NA
B18: EXPERIENCIA PROFESIONAL RELACIONADA (AÑOS) | D18: FECHA DE EXPEDICIÓN MATRICULA SUPERIOR A 8 AÑOS | E18: CERTIFICADO VIGENCIA MATRÍCULA | F18: CARTA DE COMPROMISO (DEDICACIÓN 100%)
B19: 8
B20: 8.76
B21: Para cada certificación, se verificará el contenido exigido en el Pliego de Condiciones Definitivo y sus Adendas.
B26: FAVOR LISTARLOS EN ORDEN CRONOLÓGICO DE EJECUCIÓN
A28: EXPERIENCIA PROFESIONAL RELACIONADA CERTIFICADA
A29: ID | B29: ENTIDAD | C29: CONTRATO NUMERO | D29: FECHA DE INICIO (dd/mm/aa) | E29: FECHA DE TERMINACIÓN (dd/mm/aa) | F29: Duración | G29: OBJETO DEL CONTRATO O PROYECTO O CARGO DESEMPEÑADO | H29: CARGO / DESCRIPCIÓN DE LAS ACTIVIDADES O TAREAS DESARROLLADAS SEGÚN LA CERTIFICACIÓN | J29: EXPERIENCIA PROFESIONAL RELACIONADA superior a 4 años en dirección o gerencia de proyectos de consultoría, así: i) Estructuración o ii) Diseños o iii) Dirección de interventoría de proyectos de infraestructura de energía eléctrica en todos los casos.
A30: 1 | B30: COAGRO SAS | C30: NA | D30: 42114 | E30: 42454 | F30: 11.333333 | G30: CONSULTOR×IA PARA EL DISEÑO ELECTRICO E INTERVENTORPIA PARA LA CONSTRUCCI×ON , REDES DE POTENCIA E ILUMINACI×ON TIPO LED PARA LA NUEVA SEDE COAGRO EN LA CIUDAD DE IBAGU×E = TOLIMA | H30: CONTRATANTE CONSULTORIA ELECTRICA | J30: SI | O30: =+F30*12 -> 136
A31: 2 | B31: AN CONSTRUDISEÑOS | C31: NA | D31: 39406 | E31: 40169 | F31: 25.433333 | G31: INTERVENTORIA INTEGRAL DEL PROYECTO DE DISEÑO Y CONSTRUCCIÓN DE GRANJA SOLAR EN ZON A RURAL DEL CORREGIMIENTO SAN JACINTO (BOLIVAR) COMO SOLUCIÓN DEL SISTEMA DE RIEGO IMPLEMENTADO | H31: DIRECTOR DE INTERVENTORÍA | J31: SI | O31: =+F31*12 -> 305.2
A32: 3 | B32: AN CONSTRUDISEÑOS | C32: NA | D32: 39406 | E32: 40169 | F32: 25.433333 | G32: INTERVENTORIA TÉCNICA, ADMINISTRATIVA Y FINANCIERA PARA REALIZAR LA CONSTRUCCION DEL SISTEMA FOTOVOLTAICO COMO RECURSO ELÉCTRICO SUSTENTABLE DEL CONDOMINIO LAS DELICIAS EN EL MUNICIPIO DE LORÍCA (MONTERÍA) | H32: DIRECTOR DE INTERVENTORÍA | J32: SI | O32: =+F32*12 -> 305.2
A33: 4 | B33: AN CONSTRUDISEÑOS | C33: NA | D33: 39406 | E33: 40169 | F33: 25.433333 | G33: INTERVENTORÍA AL DISEÑO Y CONSTRUCCIÓN Y MODERNIZACIÓN DE INFREAESTRUCTURA ELÉCTRICA DEL COMPLEJO RESIDENCIAL (INCLUYE REDES ELÉCTRICAS, SISTEMA DE APANTALLAMIENTO, PUESTA A TIERRA, APARATOS ELÉCTRICOS, RED DE TELECOMUNICACIONES, SOLUCIÓN FOTOVOLTAICA) | H33: DIRECTOR DE INTERVENTORÍA | J33: SI | O33: =+F33*12 -> 305.2
A34: 5 | B34: P&H INGENIERIA VERTICAL SAS | C34: NA | D34: 42664 | E34: 42871 | F34: 6.9 | G34: INTERVENTORIA TÉCNICA, ADMINISTRATIVA Y FINANCIERA AL CONTRATO DE "MODERNIZACIÓN INFRAESTRUCTURA ELÉCTRICA DEL EDIFICIO CIUDAD JARDÍN II" | H34: DIRECTOR DE INTERVENTORÍA | J34: SI | O34: =+F34*12 -> 82.8
A35: 6 | B35: P&H INGENIERIA VERTICAL SAS | C35: NA | D35: 42874 | E35: 43400 | F35: 17.533333 | G35: INTERVENTORÍA INTEGRAL A LA CONSTRUCCIÓN Y MODERNIZACIÓN DEL SISTEMA ELÉCTRICO, AIRE ACONDICIONADO Y CENTRO DE COMPUTO DEL EDIFICIO EMPRESARIAL MI SAN MARTIN (LA FLORA - CALI) | H35: DIRECTOR DE INTERVENTORÍA | J35: SI | O35: =+F35*12 -> 210.4
O36: =+F36*12 -> 0
O37: =+F37*12 -> 0
O38: =+F38*12 -> 0
O39: =+F39*12 -> 0
O40: =+F40*12 -> 0
O41: =+F41*12 -> 0
O42: =+F42*12 -> 0
B43: TOTAL | L43: =SUM(M30:M40) -> 0 | O43: =SUM(O30:O42) -> 1344.8
L44: =L43/12 -> 0
A49: REQUISITOS DE LAS CERTIFICACIONES | C49: CHECK LIST
C50: 1 | D50: 2 | E50: 3 | F50: 4 | G50: 5 | H50: 6 | I50: 7 | J50: 8 | K50: 9 | L50: 10 | M50: 11
A51: CONTRATANTE
A52: Nombre del Contratante.
A53: Nombre del Contratista
A54: Nùmero del contrato (Si aplica)
A55: Plazo
A56: Fecha de inicio
...

Sheet ING ELECTRICISTA  1
B1: =+'EXP DEL PROPONENTE'!C1 -> INSTITUTO DE PLANIFICACIÓN Y PROMOCIÓN DE SOLUCIONES ENERGÉTICAS PARA LAS ZONAS NO INTERCONECTADAS
B2: =+'EXP DEL PROPONENTE'!C2 -> CONCURSO DE MÉRITOS ABIERTO | N2: AMAZONAS | O2: 363.3
N3: CAQUETÁ | O3: 38
B4: =+'EXP DEL PROPONENTE'!C4 -> VERIFICACIÓN TÉCNICA | N4: MIRAFLORES | O4: 769,6 KW
B5: EQUIPO MÍNIMO HABILITANTE | N5: 200 DE 2015 | O5: 153 KW
B8: INGENIERO ELECTRICISTA RESIDENTE
B9: PROPONENTE | C9: PRAN CONSTRUCCIONES SAS | G9: NIT | H9: 900,535,486-7
B10: PROFESIONAL | C10: VLADIMIR PÉREZ BETANCOURT | G10: NÚMERO DE IDENTIFICACIÓN | H10: 80804051
B12: PREGRADO | E12: T.P. (FECHA) | F12: ESTUDIOS EN RETIE (120 HORAS) O CERTIFICADO COMO INSPECTOR RETIE(UN AÑO
B13: Ingenieros electricistas o eléctricos o electromecánicos o en energías o en distribución y redes, para ser residentes de interventoría, en cada una de las regiones objeto de la interventoría, de conformidad con lo establecido en el RETIE, para lo cual, cada uno, deberá adjuntar: i) copia de su matrícula profesional, la cual deberá tener expedición superior a 6 años, y; ii) Certificado de vigencia de la matrícula profesional, expedida por el órgano competente.
B14: TÍTULO (FECHA) | C14: UNIVERSIDAD | D14: CONVALIDACIÓN
B15: INGENIERO ELECTRICISTA | C15: UNIVERSIDAD NACIONAL DE COLOMBIA | D15: NA | E15: 40263 | F15: NA | G15: NA
B18: EXPERIENCIA PROFESIONAL RELACIONADA (AÑOS) | D18: FECHA DE EXPEDICIÓN MATRICULA SUPERIOR A 6 AÑOS | E18: CERTIFICADO VIGENCIA MATRÍCULA | F18: CARTA DE COMPROMISO (DEDICACIÓN 100%)
B19: 3
B20: 3.14 | D20: SI | E20: SI | F20: SI
B21: Para cada certificación, se verificará el contenido exigido en el Pliego de Condiciones Definitivo y sus Adendas.
B26: FAVOR LISTARLOS EN ORDEN CRONOLÓGICO DE EJECUCIÓN
A29: EXPERIENCIA PROFESIONAL RELACIONADA CERTIFICADA
A30: ID | B30: ENTIDAD | C30: CONTRATO NUMERO | D30: FECHA DE INICIO (dd/mm/aa) | E30: FECHA DE TERMINACIÓN (dd/mm/aa) | F30: Duración | G30: OBJETO DEL CONTRATO O PROYECTO O CARGO DESEMPEÑADO | H30: CARGO / DESCRIPCIÓN DE LAS ACTIVIDADES O TAREAS DESARROLLADAS | J30: HABILITANTE: EXPERIENCIA PROFESIONAL RELACIONADA Deberá acreditar al menos tres (3) años de experiencia profesional relacionada en consultoría de proyectos de infraestructura de energía, así: i) Estructuración o diseños o interventoría de proyectos de infraestructura de energía eléctrica; ii) Adicionalmente, deberá acreditar su participación en la estructuración o diseños o interventoría de proyectos de generación de energía con FNCER. conectados a red o centralizados aislados, con una potencia en dicho componente igual o superior a 20 KW. | L30: Corresponde a estructuración o diseños o interventoría de proyectos de generación de energía con FNCER. conectados a red o centralizados aislados, con una potencia en dicho componente igual o superior a 20 KW. (SI /NO) | M30: En caso de que la columna anterior se haya respondido SI, indicar la potencia en el componente FNCER
A31: 1 | B31: UNION TEMPORAL G.P.I - LIGHGEN | C31: NA | D31: 40936 | E31: 41302 | F31: 12.2 | G31: CONSULTORIA 162 DE 2011: INTERVENTORÍA TÉCNICA, LEGAL, ADMINISTRATIVA, Y FINANCIERA, DE OBRAS ELÉCTRICAS CONTRATADAS Y POR CONTRATAR POR PARTE DEL INSTITUTO DE DESARROLLO DEL META, SEGÚN PROYECTOS RELACIONADOS | H31: INGENIERO RESIDENTE DE INTERVENTORÍA | J31: SI
A32: 2 | B32: SEPI SAS | C32: NA | D32: 41306 | E32: 41677 | F32: 12.366667 | G32: COORDINADOR DE PROYECTOS Y SUPERVISIÓN PARA LA INSTALACIÓN DE BLINDOBARRAS, PLANTA DE EMERGENCIA Y TRANSFERENCIA, TABLERO GENERAL DE DISTRIBUCIÓN Y TABLERO DEL TRANSFORMADOR, BANDEJA PORTACABLE, MANTENIMIENTO DE TRANSFORMADORES, DISEÑO DE INSTALACIONES ELÉCTRICAS Y MALLAS DE PUESTA A TIERRA | H32: INGENIERO ELECTRICISTA - COORDINADOR DE PROYECTOS | J32: SI
A33: 3 | B33: CONSORCIO JASAN 1 | C33: NA | D33: 42282 | E33: 42369 | F33: 2.9 | G33: CONTRATAR LA INTERVENTORÍA PARA LA CONSTRUCCIÓN DE INTERCONEXIÓN A 13,2 KV Y REDES DE DISTRIBUCIÓN EN LA VEREDA SAN VALENTIN Y EN EL CORREGIMIENTO DE BUBUEY EN EL DEPARTAMENTO DEL CAUCA | H33: RESIDENTE DE INTERVENTORÍA | J33: SI
A34: 4 | B34: P&H INGENIERIA VERTICAL | C34: NA | D34: 42577 | E34: 42885 | F34: 10.266667 | G34: INTERVENTORÍA TÉCNICA, ADMINISTRATIVA Y FINANCIERA A LAS OBRAS DE MODERNIZACIÓN, SUMINISTRO E INSTALACIÓN DE REDES ELÉCTRICAS DE MT Y BT, SUBESTACIÓN DEL COMPLEJO EMPRESARIAL LAS PALMAS | H34: RESIDENTE DE INTERVENTORÍA | J34: SI
F35: =SUM(F31:F34) -> 37.733333
A38: REQUISITOS DE LAS CERTIFICACIONES | C38: CHECK LIST
C39: 1 | D39: 2 | E39: 3 | F39: 4 | G39: 5 | H39: 6
A40: CONTRATANTE
A41: Nombre del Contratante. | C41: SI | D41: SI | E41: SI | F41: SI
A42: Nombre del Contratista | C42: SI | D42: SI | E42: SI | F42: SI
A43: Nùmero del contrato (Si aplica) | C43: NA | D43: NA | E43: NA | F43: NA
A44: Plazo | C44: NA | D44: NA | E44: NA | F44: NA
A45: Fecha de inicio | C45: SI | D45: SI | E45: SI | F45: SI
A46: Fecha terminación | C46: SI | D46: SI | E46: SI | F46: SI
A47: Actividad o funciones (o adjuntar soporte para identificación) | C47: SI | D47: SI | E47: SI | F47: SI
A48: Persona de contacto para verificación | C48: SI | D48: SI | E48: SI | F48: SI
A49: Teléfono de contacto | C49: SI | D49: SI | E49: SI | F49: SI
A50: e-mail o página web (opcional) | C50: NA | D50: NA | E50: NA | F50: NA
A51: Firma de quien certifica | C51: SI | D51: SI | E51: SI | F51: SI
A52: Documento soporte: (indicar si es contrato, acta de liquidación, otros) | C52: CERTIFICACIÓN | D52: CERTIFICACIÓN | E52: CERTIFICACIÓN | F52: CERTIFICACIÓN
... A55: PAGINA EN LA QUE SE UBICA (SI APLICA) | C55: NA | D55: NA | E55: NA | F55: NA
...

Sheet ING ELECTRICISTA  2
B1: =+'EXP DEL PROPONENTE'!C1 -> INSTITUTO DE PLANIFICACIÓN Y PROMOCIÓN DE SOLUCIONES ENERGÉTICAS PARA LAS ZONAS NO INTERCONECTADAS
B2: =+'EXP DEL PROPONENTE'!C2 -> CONCURSO DE MÉRITOS ABIERTO | N2: AMAZONAS | O2: 363.3
N3: CAQUETÁ | O3: 38
B4: =+'EXP DEL PROPONENTE'!C4 -> VERIFICACIÓN TÉCNICA | N4: MIRAFLORES | O4: 769,6 KW
B5: EQUIPO MÍNIMO HABILITANTE | N5: 200 DE 2015 | O5: 153 KW
B8: INGENIERO ELECTRICISTA RESIDENTE
B9: PROPONENTE | C9: PRAN CONSTRUCCIONES SAS | G9: NIT | H9: 900,535,486-7
B10: PROFESIONAL | C10: JAVIER OCTAVIO FIGUEROA MOLANO | G10: NÚMERO DE IDENTIFICACIÓN | H10: 79952060
B12: PREGRADO | E12: T.P. (FECHA) | F12: ESTUDIOS EN RETIE (120 HORAS) O CERTIFICADO COMO INSPECTOR RETIE(UN AÑO
B13: Ingenieros electricistas o eléctricos o electromecánicos o en energías o en distribución y redes, para ser residentes de interventoría, en cada una de las regiones objeto de la interventoría, de conformidad con lo establecido en el RETIE, para lo cual, cada uno, deberá adjuntar: i) copia de su matrícula profesional, la cual deberá tener expedición superior a 6 años, y; ii) Certificado de vigencia de la matrícula profesional, expedida por el órgano competente.
B14: TÍTULO (FECHA) | C14: UNIVERSIDAD | D14: CONVALIDACIÓN
B15: INGENIERO ELECTRICISTA | C15: UNIVERSIDAD NACIONAL DE COLOMBIA | D15: NA | E15: 39724 | F15: NO
B18: EXPERIENCIA PROFESIONAL RELACIONADA (AÑOS) | D18: FECHA DE EXPEDICIÓN MATRICULA SUPERIOR A 6 AÑOS | E18: CERTIFICADO VIGENCIA MATRÍCULA | F18: CARTA DE COMPROMISO (DEDICACIÓN 100%)
B19: 3
D20: SI | E20: SI | F20: SI
B21: Para cada certificación, se verificará el contenido exigido en el Pliego de Condiciones Definitivo y sus Adendas.
B26: FAVOR LISTARLOS EN ORDEN CRONOLÓGICO DE EJECUCIÓN
A29: EXPERIENCIA PROFESIONAL RELACIONADA CERTIFICADA
A30: ID | B30: ENTIDAD | C30: CONTRATO NUMERO | D30: FECHA DE INICIO (dd/mm/aa) | E30: FECHA DE TERMINACIÓN (dd/mm/aa) | F30: Duración | G30: OBJETO DEL CONTRATO O PROYECTO O CARGO DESEMPEÑADO | H30: CARGO / DESCRIPCIÓN DE LAS ACTIVIDADES O TAREAS DESARROLLADAS | J30: HABILITANTE: EXPERIENCIA PROFESIONAL RELACIONADA Deberá acreditar al menos tres (3) años de experiencia profesional relacionada en consultoría de proyectos de infraestructura de energía, así: i) Estructuración o diseños o interventoría de proyectos de infraestructura de energía eléctrica; ii) Adicionalmente, deberá acreditar su participación en la estructuración o diseños o interventoría de proyectos de generación de energía con FNCER. conectados a red o centralizados aislados, con una potencia en dicho componente igual o superior a 20 KW. | L30: Corresponde a estructuración o diseños o interventoría de proyectos de generación de energía con FNCER. conectados a red o centralizados aislados, con una potencia en dicho componente igual o superior a 20 KW. (SI /NO) | M30: En caso de que la columna anterior se haya respondido SI, indicar la potencia en el componente FNCER
A31: 1 | B31: PRAGO INGENIERIA | C31: NA | D31: 41964 | E31: 42048 | F31: 2.8 | G31: DESARROLLO DE INGENIERIA DE DETALLE, COMPRAS, CONSTRUCCIÓN, MONTAJE Y PUESTA EN SERVICIO DEL CENTRO DE MANIOBRAS ELÉCTRICAS A 34,5 KV, EN EL ÁREA DE LA ANTIGUA REFINERÍA DEL CAMPO TIBÚ DE LA GERENCIA CATATUMBO ORIONOQUIA DE ECOPETROL SA | H31: RESIDENTE ELECTRICISTA | J31: SI
A32: 2 | B32: PRAGO INGENIERIA | C32: NA | D32: 42048 | E32: 42200 | F32: 5.0666667 | G32: DESARROLLO DE INGENIERIA DE DETALLE, COMPRAS, CONSTRUCCIÓN, MONTAJE Y PUESTA EN SERVICIO DEL CENTRO DE MANIOBRAS ELÉCTRICAS A 34,5 KV, EN EL ÁREA DE LA ANTIGUA REFINERÍA DEL CAMPO TIBÚ DE LA GERENCIA CATATUMBO ORIONOQUIA DE ECOPETROL SA | H32: RESIDENTE ELECTRICISTA | J32: SI
F35: =SUM(F31:F34) -> 7.8666667
A38: REQUISITOS DE LAS CERTIFICACIONES | C38: CHECK LIST
C39: 1 | D39: 2 | E39: 3 | F39: 4 | G39: 5 | H39: 6
A40: CONTRATANTE
A41: Nombre del Contratante. | C41: SI | D41: SI
A42: Nombre del Contratista | C42: SI | D42: SI
A43: Nùmero del contrato (Si aplica) | C43: NA | D43: NA
A44: Plazo | C44: NA | D44: NA
A45: Fecha de inicio | C45: SI | D45: SI
A46: Fecha terminación | C46: SI | D46: SI
A47: Actividad o funciones (o adjuntar soporte para identificación) | C47: SI | D47: SI
A48: Persona de contacto para verificación | C48: SI | D48: SI
A49: Teléfono de contacto | C49: SI | D49: SI
A50: e-mail o página web (opcional) | C50: NA | D50: NA
A51: Firma de quien certifica | C51: SI | D51: SI
A52: Documento soporte: (indicar si es contrato, acta de liquidación, otros) | C52: CERTIFICACIÓN | D52: CERTIFICACIÓN
... A55: PAGINA EN LA QUE SE UBICA (SI APLICA) | C55: NA | D55: NA
A58: EXPERIENCIA PROFESIONAL RELACIONADA CERTIFICADA ADICIONAL A LA HABILITANTE (PARA CALIFICACIÓN)
A59: ID | B59: ENTIDAD | C59: CONTRATO NUMERO | D59: FECHA DE INICIO (dd/mm/aa) | E59: FECHA DE TERMINACIÓN (dd/mm/aa) | F59: Duración | G59: OBJETO DEL CONTRATO O PROYECTO O CARGO DESEMPEÑADO | H59: CARGO / DESCRIPCIÓN DE LAS ACTIVIDADES O TAREAS DESARROLLADAS | J59: CALIFICABLE: EXPERIENCIA PROFESIONAL RELACIONADA Experiencia profesional relacionada adicional a la habilitante en proyectos de estructuración o diseño o interventoría de proyectos de infraestructura de energía eléctrica, que incluyan sistemas de generación mediante Fuentes No Convencionales de Energía en zonas rurales o ZNI, mayor a tres (3) años | L59: Experiencia profesional relacionada en proyectos de estructuración o diseño o interventoría de proyectos de infraestructura de energía eléctrica que incluyan sistemas de generación de energía con FNCER centralizados aislados, o conectados a red con una potencia en dicho componente mayor a 50 kW en un solo proyecto (SI /NO | M59: En caso de que la columna anterior se haya respondido SI, indicar la potencia en el componente FNCER
...

Sheet ING ELECTRICISTA  3
B1: =+'EXP DEL PROPONENTE'!C1 -> INSTITUTO DE PLANIFICACIÓN Y PROMOCIÓN DE SOLUCIONES ENERGÉTICAS PARA LAS ZONAS NO INTERCONECTADAS
B2: =+'EXP DEL PROPONENTE'!C2 -> CONCURSO DE MÉRITOS ABIERTO | N2: AMAZONAS | O2: 363.3
N3: CAQUETÁ | O3: 38
B4: =+'EXP DEL PROPONENTE'!C4 -> VERIFICACIÓN TÉCNICA | N4: MIRAFLORES | O4: 769,6 KW
B5: EQUIPO MÍNIMO HABILITANTE | N5: 200 DE 2015 | O5: 153 KW
B8: INGENIERO ELECTRICISTA RESIDENTE
B9: PROPONENTE | C9: PRAN CONSTRUCCIONES SAS | G9: NIT | H9: 900,535,486-7
B10: PROFESIONAL | C10: VICTOR MANUEL BOCANEGRA GARCIA | G10: NÚMERO DE IDENTIFICACIÓN | H10: 7593364
B12: PREGRADO | E12: T.P. (FECHA) | F12: ESTUDIOS EN RETIE (120 HORAS) O CERTIFICADO COMO INSPECTOR RETIE(UN AÑO
B13: Ingenieros electricistas o eléctricos o electromecánicos o en energías o en distribución y redes, para ser residentes de interventoría, en cada una de las regiones objeto de la interventoría, de conformidad con lo establecido en el RETIE, para lo cual, cada uno, deberá adjuntar: i) copia de su matrícula profesional, la cual deberá tener expedición superior a 6 años, y; ii) Certificado de vigencia de la matrícula profesional, expedida por el órgano competente.
B14: TÍTULO (FECHA) | C14: UNIVERSIDAD | D14: CONVALIDACIÓN
B15: INGENIERO ELECTRICISTA | C15: CORPORACIÓN UNIVERSITARIA TECNOLOGICA DE BOLIVAR | D15: NA | E15: 38904 | F15: NA
B18: EXPERIENCIA PROFESIONAL RELACIONADA (AÑOS) | D18: FECHA DE EXPEDICIÓN MATRICULA SUPERIOR A 6 AÑOS | E18: CERTIFICADO VIGENCIA MATRÍCULA | F18: CARTA DE COMPROMISO (DEDICACIÓN 100%)
B19: 3
D20: SI | E20: SI | F20: SI
B21: Para cada certificación, se verificará el contenido exigido en el Pliego de Condiciones Definitivo y sus Adendas.
B26: FAVOR LISTARLOS EN ORDEN CRONOLÓGICO DE EJECUCIÓN
A29: EXPERIENCIA PROFESIONAL RELACIONADA CERTIFICADA
A30: ID | B30: ENTIDAD | C30: CONTRATO NUMERO | D30: FECHA DE INICIO (dd/mm/aa) | E30: FECHA DE TERMINACIÓN (dd/mm/aa) | F30: Duración | G30: OBJETO DEL CONTRATO O PROYECTO O CARGO DESEMPEÑADO | H30: CARGO / DESCRIPCIÓN DE LAS ACTIVIDADES O TAREAS DESARROLLADAS | J30: HABILITANTE: EXPERIENCIA PROFESIONAL RELACIONADA Deberá acreditar al menos tres (3) años de experiencia profesional relacionada en consultoría de proyectos de infraestructura de energía, así: i) Estructuración o diseños o interventoría de proyectos de infraestructura de energía eléctrica; ii) Adicionalmente, deberá acreditar su participación en la estructuración o diseños o interventoría de proyectos de generación de energía con FNCER. conectados a red o centralizados aislados, con una potencia en dicho componente igual o superior a 20 KW. | L30: Corresponde a estructuración o diseños o interventoría de proyectos de generación de energía con FNCER. conectados a red o centralizados aislados, con una potencia en dicho componente igual o superior a 20 KW. (SI /NO) | M30: En caso de que la columna anterior se haya respondido SI, indicar la potencia en el componente FNCER
F35: =SUM(F31:F34) -> 0
A38: REQUISITOS DE LAS CERTIFICACIONES | C38: CHECK LIST
C39: 1 | D39: 2 | E39: 3 | F39: 4 | G39: 5 | H39: 6
A40: CONTRATANTE
A41: Nombre del Contratante.
A42: Nombre del Contratista
A43: Nùmero del contrato (Si aplica)
A44: Plazo
A45: Fecha de inicio
A46: Fecha terminación
A47: Actividad o funciones (o adjuntar soporte para identificación)
A48: Persona de contacto para verificación
A49: Teléfono de contacto
A50: e-mail o página web (opcional)
A51: Firma de quien certifica
... A58: EXPERIENCIA PROFESIONAL RELACIONADA CERTIFICADA ADICIONAL A LA HABILITANTE (PARA CALIFICACIÓN)
A59: ID | B59: ENTIDAD | C59: CONTRATO NUMERO | D59: FECHA DE INICIO (dd/mm/aa) | E59: FECHA DE TERMINACIÓN (dd/mm/aa) | F59: Duración | G59: OBJETO DEL CONTRATO O PROYECTO O CARGO DESEMPEÑADO | H59: CARGO / DESCRIPCIÓN DE LAS ACTIVIDADES O TAREAS DESARROLLADAS | J59: CALIFICABLE: EXPERIENCIA PROFESIONAL RELACIONADA Experiencia profesional relacionada adicional a la habilitante en proyectos de estructuración o diseño o interventoría de proyectos de infraestructura de energía eléctrica, que incluyan sistemas de generación mediante Fuentes No Convencionales de Energía en zonas rurales o ZNI, mayor a tres (3) años | L59: Experiencia profesional relacionada en proyectos de estructuración o diseño o interventoría de proyectos de infraestructura de energía eléctrica que incluyan sistemas de generación de energía con FNCER centralizados aislados, o conectados a red con una potencia en dicho componente mayor a 50 kW en un solo proyecto (SI /NO | M59: En caso de que la columna anterior se haya respondido SI, indicar la potencia en el componente FNCER
A60: 1 | B60: AN-HIDROELECTRIC | C60: NA | D60: 41001 | E60: 41232 | F60: 7.7 | G60: DISEÑO Y CONSTRUCCIÓN DE 2 GRANJAS SOLARES DE POTENCIA MÁXIMA DE 100 KWP PARA SU INSTALACIÓN EN EL CONJUNTO CAMPESTRE BARANOA (EN ZONA RURAL DEL MUNICIPIO DE LURUACO - ATLÁNTICO) | H60: RESIDENTE ELECTRICISTA | J60: SI | L60: SI | M60: 100 KWP
A61: 2 | B61: AN-HIDROELECTRIC | C61: NA | D61: 41324 | E61: 41456 | F61: 4.4 | G61: DISEÑO, SUMINISTRO E INSTALACIÓN DE UN SISTEMA SOLAR FOTOVOLTAICO CON POTENCIA DE 270 KWP EN ZONA RURAL DEL MUNICIPIO EL CAIRO - BUENAVENTURA | H61: RESIDENTE ELECTRICISTA | J61: SI | L61: SI | M61: 270 KWP
A62: 3 | B62: AN-HIDROELECTRIC | C62: NA | D62: 41562 | E62: 41757 | F62: 6.5 | G62: INTERVENTORÍA AL DISEÑO E IMPLEMENTACIÓN DE 20 CELDAS FOTOVOLTAICAS AISLADAS (68 KWP) EN EL CONJUNTO DE USO RESIDENCIAL SAN CRISTOBAL UBICADO EN ZONA RURAL DEL MUNICIPIO DE CASTILLA LA NUEVA - DEPARTAMENTO DEL META | H62: RESIDENTE ELECTRICISTA | J62: SI | L62: SI | M62: 65 KWP
A63: 4 | B63: AN CONSTRUDISEÑOS | C63: NA | D63: 42144 | E63: 43404 | F63: 42 | G63: ESTRUCRURACIÓN, DISEÑO Y/O CONSTRUCCIÓN DE REDES DE ELECTRIFICACIONES DE REDES ELÉCTRICAS MT Y BT (USUARIO 11600 APROXIMADAMENTE) EN ZONAS RURALES Y/O DISEÑOS DE SISTEMAS ELÉCTRICOS CON APROVECHAMIENTO DE RADIACIÓN ELECTROMAGNÉTICA PROCEDENTE DEL SOL (FOTOVOLTAICAS) | H63: GERENTE DE PROYECTOS | J63: SI
...

Sheet ING ELECTRICISTA  4
B1: =+'EXP DEL PROPONENTE'!C1 -> INSTITUTO DE PLANIFICACIÓN Y PROMOCIÓN DE SOLUCIONES ENERGÉTICAS PARA LAS ZONAS NO INTERCONECTADAS
B2: =+'EXP DEL PROPONENTE'!C2 -> CONCURSO DE MÉRITOS ABIERTO | N2: AMAZONAS | O2: 363.3
N3: CAQUETÁ | O3: 38
B4: =+'EXP DEL PROPONENTE'!C4 -> VERIFICACIÓN TÉCNICA | N4: MIRAFLORES | O4: 769,6 KW
B5: EQUIPO MÍNIMO HABILITANTE | N5: 200 DE 2015 | O5: 153 KW
B8: INGENIERO ELECTRICISTA RESIDENTE
B9: PROPONENTE | C9: PRAN CONSTRUCCIONES SAS | G9: NIT | H9: 900,535,486-7
B10: PROFESIONAL | C10: FERNANDO AUGUSTO GUERRERO DURAN | G10: NÚMERO DE IDENTIFICACIÓN | H10: 71644862
B12: PREGRADO | E12: T.P. (FECHA) | F12: ESTUDIOS EN RETIE (120 HORAS) O CERTIFICADO COMO INSPECTOR RETIE(UN AÑO
B13: Ingenieros electricistas o eléctricos o electromecánicos o en energías o en distribución y redes, para ser residentes de interventoría, en cada una de las regiones objeto de la interventoría, de conformidad con lo establecido en el RETIE, para lo cual, cada uno, deberá adjuntar: i) copia de su matrícula profesional, la cual deberá tener expedición superior a 6 años, y; ii) Certificado de vigencia de la matrícula profesional, expedida por el órgano competente.
B14: TÍTULO (FECHA) | C14: UNIVERSIDAD | D14: CONVALIDACIÓN
B15: INGENIERO ELECTRICISTA | C15: UNIVERSIDAD PONTIFICIA BOLIVARIANA | D15: NA | E15: 32750 | F15: NA
B18: EXPERIENCIA PROFESIONAL RELACIONADA (AÑOS) | D18: FECHA DE EXPEDICIÓN MATRICULA SUPERIOR A 6 AÑOS | E18: CERTIFICADO VIGENCIA MATRÍCULA | F18: CARTA DE COMPROMISO (DEDICACIÓN 100%)
B19: 3
D20: SI | E20: SI | F20: SI
B21: Para cada certificación, se verificará el contenido exigido en el Pliego de Condiciones Definitivo y sus Adendas.
B26: FAVOR LISTARLOS EN ORDEN CRONOLÓGICO DE EJECUCIÓN
A29: EXPERIENCIA PROFESIONAL RELACIONADA CERTIFICADA
A30: ID | B30: ENTIDAD | C30: CONTRATO NUMERO | D30: FECHA DE INICIO (dd/mm/aa) | E30: FECHA DE TERMINACIÓN (dd/mm/aa) | F30: Duración | G30: OBJETO DEL CONTRATO O PROYECTO O CARGO DESEMPEÑADO | H30: CARGO / DESCRIPCIÓN DE LAS ACTIVIDADES O TAREAS DESARROLLADAS | J30: HABILITANTE: EXPERIENCIA PROFESIONAL RELACIONADA Deberá acreditar al menos tres (3) años de experiencia profesional relacionada en consultoría de proyectos de infraestructura de energía, así: i) Estructuración o diseños o interventoría de proyectos de infraestructura de energía eléctrica; ii) Adicionalmente, deberá acreditar su participación en la estructuración o diseños o interventoría de proyectos de generación de energía con FNCER. conectados a red o centralizados aislados, con una potencia en dicho componente igual o superior a 20 KW. | L30: Corresponde a estructuración o diseños o interventoría de proyectos de generación de energía con FNCER. conectados a red o centralizados aislados, con una potencia en dicho componente igual o superior a 20 KW. (SI /NO) | M30: En caso de que la columna anterior se haya respondido SI, indicar la potencia en el componente FNCER
F35: =SUM(F31:F34) -> 0
A38: REQUISITOS DE LAS CERTIFICACIONES | C38: CHECK LIST
C39: 1 | D39: 2 | E39: 3 | F39: 4 | G39: 5 | H39: 6
A40: CONTRATANTE
A41: Nombre del Contratante.
A42: Nombre del Contratista
A43: Nùmero del contrato (Si aplica)
A44: Plazo
A45: Fecha de inicio
A46: Fecha terminación
A47: Actividad o funciones (o adjuntar soporte para identificación)
A48: Persona de contacto para verificación
A49: Teléfono de contacto
A50: e-mail o página web (opcional)
A51: Firma de quien certifica
... A58: EXPERIENCIA PROFESIONAL RELACIONADA CERTIFICADA ADICIONAL A LA HABILITANTE (PARA CALIFICACIÓN)
A59: ID | B59: ENTIDAD | C59: CONTRATO NUMERO | D59: FECHA DE INICIO (dd/mm/aa) | E59: FECHA DE TERMINACIÓN (dd/mm/aa) | F59: Duración | G59: OBJETO DEL CONTRATO O PROYECTO O CARGO DESEMPEÑADO | H59: CARGO / DESCRIPCIÓN DE LAS ACTIVIDADES O TAREAS DESARROLLADAS | J59: CALIFICABLE: EXPERIENCIA PROFESIONAL RELACIONADA Experiencia profesional relacionada adicional a la habilitante en proyectos de estructuración o diseño o interventoría de proyectos de infraestructura de energía eléctrica, que incluyan sistemas de generación mediante Fuentes No Convencionales de Energía en zonas rurales o ZNI, mayor a tres (3) años | L59: Experiencia profesional relacionada en proyectos de estructuración o diseño o interventoría de proyectos de infraestructura de energía eléctrica que incluyan sistemas de generación de energía con FNCER centralizados aislados, o conectados a red con una potencia en dicho componente mayor a 50 kW en un solo proyecto (SI /NO | M59: En caso de que la columna anterior se haya respondido SI, indicar la potencia en el componente FNCER
A60: 1 | B60: NELSY LIDIA CRUZ SUAREZ | C60: NA | D60: 41343 | E60: 41846 | F60: 16.766667 | G60: INTERVENTORÍA INTEGRAL AL PROYECTO QUE TIENE COMO OBJETO SUMINISTRO E INSTALACIÓN DE SOLUCIÓN FOTOVOLTAICA CONECTADA A LA RED PARA EL CENTRO EMPRESARIAL E INSDUSTRIAL UBICADO EN LA ZONA RURAL DE SIBERIA CUNDINAMRCA CON CAPACIDAD INSTALADA DE 115 KWP | H60: DIRECTOR DE INTERVENTORÍA | J60: SI | L60: SI | M60: 115 KWP
A61: 2 | B61: NELSY LIDIA CRUZ SUAREZ | C61: NA | D61: 41854 | E61: 42292 | F61: 14.6 | G61: INTERVENTORÍA INTEGRAL AL SUMINISTRO E INSTALACIÓN DE UN SISTEMA FOTOVOLTAICO CENTRALIZADO (CON CAPACIDAD DE 112 KWP) PARA EL CONJUNTO RESIDENCIAL DE SAN GREGORIO UBICADO EN LA ZONA RURAL DEL MUNICIPIO DE CUBARRAL | H61: DIRECTOR DE INTERVENTORÍA | J61: SI | L61: SI | M61: 112 KWP
A62: 3 | B62: NELSY LIDIA CRUZ SUAREZ | C62: NA | D62: 42294 | E62: 42682 | F62: 12.933333 | G62: INTERVENTORÍA TÉCNICA, ADMINISTRATIVA Y FINANCIERA AL DISEÑO, SUMINISTRO E INSTALACIÓN DE UN SISTEMA SOLAR FOTOVOLTAICO AISLADO CON POTENCIA DE 110 KW EN LA ZONA RURAL DEL MUNICIPIO DE INZA - CAUCA | H62: DIRECTOR DE INTERVENTORÍA | J62: SI | L62: SI | M62: 110 KW
F66: =SUM(F60:F65) -> 44.3
...

Sheet ING CIVIL
B1: =+'[1]EXP DEL PROPONENTE'!C1 -> INSTITUTO DE PLANIFICACIÓN Y PROMOCIÓN DE SOLUCIONES ENERGÉTICAS PARA LAS ZONAS NO INTERCONECTADAS
B4: =+'[1]EXP DEL PROPONENTE'!C4 -> VERIFICACIÓN TÉCNICA
B5: EQUIPO MÍNIMO HABILITANTE
B8: INGENIERO CIVIL
B9: PROPONENTE | C9: PRAN CONSTRUCCIONES SAS | G9: NIT | H9: 900,535,486-7
B10: PROFESIONAL | C10: JOSE ALFREDO ROZO ORJUELA | G10: NÚMERO DE IDENTIFICACIÓN | H10: 19260708
B12: PREGRADO | E12: T.P. (FECHA)
B13: Ingeniero Civil
B14: TÍTULO (FECHA) | C14: UNIVERSIDAD | D14: CONVALIDACIÓN
B15: INGENIERO CIVIL | C15: UNIVERSIDAD LA GRAN COLOMBIA | D15: NA | E15: 31554
B18: EXPERIENCIA PROFESIONAL RELACIONADA (AÑOS) | D18: FECHA DE EXPEDICIÓN MATRICULA SUPERIOR A 6 AÑOS | E18: CERTIFICADO VIGENCIA MATRÍCULA | F18: CARTA DE COMPROMISO (DEDICACIÓN 100%)
B19: 3
B20: 3.14
B21: Para cada certificación, se verificará el contenido exigido en el Pliego de Condiciones Definitivo y sus Adendas.
B25: FAVOR LISTARLOS EN ORDEN CRONOLÓGICO DE EJECUCIÓN
A28: EXPERIENCIA PROFESIONAL RELACIONADA CERTIFICADA
A29: ID | B29: ENTIDAD | C29: CONTRATO NUMERO | D29: FECHA DE INICIO (dd/mm/aa) | E29: FECHA DE TERMINACIÓN (dd/mm/aa) | F29: Duración | G29: OBJETO DEL CONTRATO O PROYECTO O CARGO DESEMPEÑADO | H29: CARGO / DESCRIPCIÓN DE LAS ACTIVIDADES O TAREAS DESARROLLADAS | J29: EXPERIENCIA PROFESIONAL RELACIONADA Deberá acreditar al menos tres (3) años de experiencia relacionada en consultoría de proyectos (diseño o interventorías) de: i) Cimentaciones o, ii) Estudios de suelos, o, iii) Obras civiles, o, iv) Levantamientos topográficos, o, v) infraestructura hidroeléctrica o de Pequeñas centrales hidroeléctricas
A30: 1 | B30: FONDO ROTATORIO DE LA POLICIA | C30: 239/1994 | D30: 34640 | E30: 34724 | F30: 2.8 | G30: INTERVENTORÍA PARA LA CONSTRUCCIÓN DEL 4° PISO DE LA FACULTAD DE MEDICINA DE LA UNIVERSIDAD MILITAR | H30: INTERVENTOR | J30: SI
A31: 2 | B31: FONDO ROTATORIO DE LA POLICIA | C31: 058/1195 | D31: 34732 | E31: 34778 | F31: 1.5333333 | G31: INTERVENTORIA PARA LA CONSTRUCCIÓN DEL TUNEL Y PUENTE PEATONAL EN EL EDIFICIO DEL MAGNETON EN EL HOSPITAL MILITAR CENTRAL | H31: INTERVENTOR | J31: SI
A32: 3 | B32: FONDO ROTATORIO DE LA POLICIA | C32: 0473/1995 | D32: 35018 | E32: 35087 | F32: 2.3 | G32: INTERVENTORÍA PARA LA CONSTRUCCIÓN DEL EDIFICIO MAGNETON EN EL HOSPITAL MILITAR CENTRAL | H32: INTERVENTOR | J32: SI
A33: 4 | B33: ALFM | C33: 005/2006 | D33: 38845 | E33: 39431 | F33: 19.533333 | G33: LA CONSTRUCCIÓN DE ALOJAMIENTO PARA SUBOFICIALES EN EL CANTON NORTE DEL EJERCITO EN VOGOTÁ HOY: SEDE HABITACIONAL BICENTENARIO DE LA INDEPENDENCIA UBICADO EN EL CANTON NORTE DE BOGOTÁ | H33: SUPERVISOR DE OBRA | J33: SI
A34: 5 | B34: ALFM | C34: 036/2010 | D34: 40289 | E34: 40512 | F34: 7.4333333 | G34: LA CONSTRUCCIÓN DEL EDIFICIO PARA EL INSITUTO DE CASAS FISCALES DEL EJÉRCITO Y EL EDIFICIO ADMINISTRATIVO PARA EL EJÉRCITO, UBICADO EN EL CANTON NORTE DE BOGOTA HOY: TORRE A: ESCUELA DE ARMAS Y SERVICIOS TORRE B: JEFATURA DE EDUCACIÓN Y DOCTRINA | H34: SUPERVISOR DE OBRA | J34: SI
A35: 6 | B35: ALFM | C35: 036/2010 | D35: 40512 | E35: 40633 | F35: 4.0333333 | G35: LA CONSTRUCCIÓN DEL EDIFICIO PARA EL INSITUTO DE CASAS FISCALES DEL EJÉRCITO Y EL EDIFICIO ADMINISTRATIVO PARA EL EJÉRCITO, UBICADO EN EL CANTON NORTE DE BOGOTA HOY: TORRE A: ESCUELA DE ARMAS Y SERVICIOS TORRE B: JEFATURA DE EDUCACIÓN Y DOCTRINA | H35: INTERVENTOR DE OBRA | J35: SI
A40: REQUISITOS DE LAS CERTIFICACIONES | C40: CHECK LIST
C41: 1 | D41: 2 | E41: 3 | F41: 4 | G41: 5 | H41: 6
A42: CONTRATANTE
A43: Nombre del Contratante. | C43: SI | D43: SI | E43: SI | F43: SI | G43: SI | H43: SI
A44: Nombre del Contratista | C44: NA | D44: NA | E44: NA | F44: NA | G44: NA | H44: NA
A45: Nùmero del contrato (Si aplica) | C45: NA | D45: NA | E45: NA | F45: NA | G45: NA | H45: NA
A46: Plazo | C46: SI | D46: SI | E46: SI | F46: SI | G46: SI | H46: SI
A47: Fecha de inicio | C47: SI | D47: SI | E47: SI | F47: SI | G47: SI | H47: SI
A48: Fecha terminación | C48: SI | D48: SI | E48: SI | F48: SI | G48: SI | H48: SI
A49: Actividad o funciones (o adjuntar soporte para identificación) | C49: SI | D49: SI | E49: SI | F49: SI | G49: SI | H49: SI
A50: Persona de contacto para verificación | C50: SI | D50: SI | E50: SI | F50: SI | G50: SI | H50: SI
A51: Teléfono de contacto | C51: NA | D51: NA | E51: NA | F51: NA | G51: NA | H51: NA
A52: e-mail o página web (opcional) | C52: SI | D52: SI | E52: SI | F52: SI | G52: SI | H52: SI
A53: Firma de quien certifica | C53: CERTIFICACIÓN | D53: CERTIFICACIÓN | E53: CERTIFICACIÓN | F53: CERTIFICACIÓN | G53: CERTIFICACIÓN | H53: CERTIFICACIÓN
A54: Documento soporte: (indicar si es contrato, acta de liquidación, otros) | C54: NA | D54: NA | E54: NA | F54: NA | G54: NA | H54: NA
... A56: NOMBRE DEL DOCUMENTO | C56: NA | D56: NA | E56: NA | F56: NA | G56: NA | H56: NA
A57: PAGINA EN LA QUE SE UBICA (SI APLICA)
...
