Workbook

Sheet SMMLV
A1: Año | B1: Salario Mínimo
B2: (Pesos Colombianos)
A3: 2025 | B3: 1423500
A4: 2024 | B4: 1300000
A5: 2023 | B5: 1160000
A6: 2022 | B6: 1000000
A7: 2021 | B7: 908526
A8: 2020 | B8: 877803
A9: 2019 | B9: 828116
A10: 2018 | B10: 781242
A11: 2017 | B11: 737717
A12: 2016 | B12: 689455
A13: 2015 | B13: 644350
A14: 2014 | B14: 616000
... A44: 1984 | B44: 11298

Sheet PLANTILLA
A2: Rama Judicial del Poder Público
A3: Consejo Superior de la Judicatura
A4: Dirección Ejecutiva de Administración Judicial
A7: VERIFICACION DE EXPERIENCIA DEL PROPONENTE
A8: NUMERO DE PROCESO:
A9: SI-15-2025
A10: OBJETO DEL PROCESO:
A11: Adquirir créditos y soporte Enterprise en la infraestructura de nube pública AWS
A12: NOMBRE DEL PROPONENTE:
A14: Integrantes:
A15: N/A
A16: N/A
F18: EXPERIENCIA ESPECIFICA | S18: OBSERVACIONES
A19: ID | B19: No. Contrato en el RUP | C19: Nombre del contratista que registra el RUP | D19: Nombre de la Entidad Contratante | E19: EN CASO DE PROPONENTE PLURAL | F19: UNSPSC | K19: Valor reportado en el contrato en SMMLV que aparece en el RUP | L19: Porcentaje de Participación en el Contrato que registra el RUP | M19: Valor ponderado de acuerdo con la participación en el contrato en SMMLV que aparece en el RUP | N19: Máximo cinco (5) certificaciones de contratos ejecutados, terminados y relacionados en el RUP y clasificados en al menos uno de los códigos UNSPSC descritos en la siguiente tabla y cuyo objeto, alcance o actividades sea el suministro de infraestructura en AWS, así como en la prestación de servicios especializados y/o de soporte en esta plataforma (AWS Enterprise Support).
E20: Nombre del integrante de la figura asociativa que presenta el RUP | F20: 81111800 | G20: 81112000 | H20: 81112100 | I20: 81112400 | J20: 81112500 | N20: Objeto del Contrato | O20: Valor del contrato o actividades (En pesos) | P20: Año de Terminación del Contrato | Q20: Valor en SMMLV (La conversión se realiza con el SMMLV del año de terminación del contrato) | R20: Valor ponderado de acuerdo con la participación en el contrato en SMMLV
A21: 1 | M21: =ROUND(K21*L21,2) -> 0 | Q21: =ROUND(O21/(VLOOKUP(P21,SMMLV!$A$3:$B$44,2,FALSE)),2) -> #N/A | R21: =ROUND(Q21*L21,2) -> #N/A
A22: 2 | M22: =ROUND(K22*L22,2) -> 0 | Q22: =ROUND(O22/(VLOOKUP(P22,SMMLV!$A$3:$B$44,2,FALSE)),2) -> #N/A | R22: =ROUND(Q22*L22,2) -> #N/A
A23: 3 | M23: =ROUND(K23*L23,2) -> 0 | Q23: =ROUND(O23/(VLOOKUP(P23,SMMLV!$A$3:$B$44,2,FALSE)),2) -> #N/A | R23: =ROUND(Q23*L23,2) -> #N/A
A24: 4 | M24: =ROUND(K24*L24,2) -> 0 | Q24: =ROUND(O24/(VLOOKUP(P24,SMMLV!$A$3:$B$44,2,FALSE)),2) -> #N/A | R24: =ROUND(Q24*L24,2) -> #N/A
A25: 5 | M25: =ROUND(K25*L25,2) -> 0 | Q25: =ROUND(O25/(VLOOKUP(P25,SMMLV!$A$3:$B$44,2,FALSE)),2) -> #N/A | R25: =ROUND(Q25*L25,2) -> #N/A
A26: 6 | M26: =ROUND(K26*L26,2) -> 0 | Q26: =ROUND(O26/(VLOOKUP(P26,SMMLV!$A$3:$B$44,2,FALSE)),2) -> #N/A | R26: =ROUND(Q26*L26,2) -> #N/A
A27: 7 | M27: =ROUND(K27*L27,2) -> 0 | Q27: =ROUND(O27/(VLOOKUP(P27,SMMLV!$A$3:$B$44,2,FALSE)),2) -> #N/A | R27: =ROUND(Q27*L27,2) -> #N/A
F28: TOTAL (SMMLV) | M28: =SUM(M21:M27) -> 0 | Q28: TOTAL (SMMLV) | R28: =_xlfn.AGGREGATE(9,6,R21:R27) -> 0
F29: SMMLV Min | M29: 6505.83 | Q29: SMMLV Min | R29: 6505.83
M30: =IF(M28>=M29,"Cumple","No Cumple") -> No Cumple | R30: =IF(R28>=R29,"Cumple","No Cumple") -> No Cumple
