Workbook

Sheet EVALUACION 
A1: AGENCIA NACIONAL DE MINERIA
A4: SELECCIÓN ABREVIADA POR SUBASTA INVERSA No. SA - SI-022-20
A5: Objeto: "Adquisición de tablets para apoyar a la ANM en el cumplimiento de las funciones misionales y en las actividades de fiscalización de los títulos mineros”
A7: PROPONENTE No. | B7: NOMBRE DEL PROPONENTE | C7: NIT | D7: RESULTADO VERIFICACIÓN EXPERIENCIA | E7: RESULTADO DE LA VERIFICACIÓN ESPECIFICACIONES TÉCNICAS | F7: RESULTADO VERIFICACIÓN DOCUMENTOS TÉCNICOS
A8: 1 | B8: =+'LISTA DE PROPONENTES'!B2 -> MENDOZA EQUIPOS | C8: =+'LISTA DE PROPONENTES'!D2 -> 900.374225-1 | D8: =+EXPERIENCIA!F37 -> NO CUMPLE | E8: NO CUMPLE | F8: =+CERTIFICACIONES!C3 -> NO CUMPLE
A9: 2 | B9: =+'LISTA DE PROPONENTES'!B3 -> SERLECOM | C9: =+'LISTA DE PROPONENTES'!D3 -> 800089897-4 | D9: =+EXPERIENCIA!F45 -> CUMPLE | E9: NO CUMPLE | F9: =+CERTIFICACIONES!E3 -> NO CUMPLE
A10: 3 | B10: =+'LISTA DE PROPONENTES'!B4 -> UNIPLES | C10: =+'LISTA DE PROPONENTES'!D4 -> 811021363-0 | D10: =+EXPERIENCIA!F51 -> CUMPLE | E10: CUMPLE | F10: =+CERTIFICACIONES!G3 -> NO CUMPLE
A11: 4 | B11: =+'LISTA DE PROPONENTES'!B5 -> UT ELEMOVIL | C11: =+'LISTA DE PROPONENTES'!D5 -> 800.229.279-4 Y 900.900.175-7 | D11: CUMPLE | E11: CUMPLE | F11: =+CERTIFICACIONES!I3 -> NO CUMPLE
A12: 5 | B12: =+'LISTA DE PROPONENTES'!B6 -> WM WIRELESS | C12: =+'LISTA DE PROPONENTES'!D6 -> 800083486-3 | D12: =+EXPERIENCIA!F21 -> NO CUMPLE | E12: NO CUMPLE | F12: =+CERTIFICACIONES!K3 -> NO CUMPLE
A13: 6 | B13: XOREX DE COLOMBIA S A S | C13: =+'LISTA DE PROPONENTES'!D7 -> 830026811-0 | D13: =+EXPERIENCIA!F61 -> CUMPLE | E13: CUMPLE | F13: =+CERTIFICACIONES!M3 -> CUMPLE
A14: 7 | B14: =+'LISTA DE PROPONENTES'!B8 -> YINA PAOLA LOMBANA | C14: =+'LISTA DE PROPONENTES'!D8 -> 23216872-8 | D14: =+EXPERIENCIA!F29 -> NO CUMPLE | E14: CUMPLE | F14: =+CERTIFICACIONES!O3 -> NO CUMPLE
A15: 8 | B15: =+'LISTA DE PROPONENTES'!B9 -> ISEC | C15: =+'LISTA DE PROPONENTES'!D9 -> 860500630-6 | D15: =+EXPERIENCIA!F69 -> NO CUMPLE | E15: NO CUMPLE | F15: =+CERTIFICACIONES!Q3 -> NO CUMPLE
A17: NOTA # 1: PROPONENTE # 4: UT ELEMOVIL integrada por ELECTRICOS Y COMUNICACIONES ELECTROCOM SAS ( 90 %) y MOVILTRONIX S.A.S (10 %).
A18: NOTA # 2: En el presente archivo de Excel, se detallan , los requisitos mínimos exigidos en el pliego de condiciones definitivo, anexos, formatos, y adendas, con el fin de dar a conocer el resultado de la evaluación y la justificación emitida para el caso en que “no se cumpla” con alguno de los requisitos valorado por el comité evaluador del presente proceso. Conviene mencionar que, para el caso de la evaluación técnica, se tuvieron en cuenta no solo los documentos aportados en la propuesta sino también aquellos que la Entidad para su verificación podía consultar en la página WEB de cada uno de los fabricantes de los equipos ofertados, con el fin de corroborar con exactitud la información allí consignada, lo que dio como resultado en algunos casos la evidencia de cumplimiento técnico. De igual manera, se optó, por realizar un análisis integral del equipo ofertado, con el fin de corroborar y verificar de manera clara el cumplimiento de aquellas especificaciones técnicas que a la luz de la tecnología podrían resultar obvias, pero que no se detallan en los manuales o catálogos de los equipos ofertados. Como resultado de este análisis, en la verificación de requisitos habilitantes, se detallan aquellas especificaciones técnicas, que cada uno de los proponentes no cumple, con el fin de que en la oportunidad legal, puedan aclarar y/o subsanar puntualmente los aspectos técnicos evaluados y calificados como No Cumple.
A21: Se firma en la Ciudad de Bogotá a, los 5 días del mes de Octubre de 2020, por los integrantes del Comité Estructurador y Evaluador
B25: ___________________________________________ | D25: ___________________________________________
B26: DEMYS ALBERTO DIAZ APARICIO | D26: EIVER GONZALES
B27: Gestor T1 Grado 7 OTI | D27: Contratista- VSCSM
B30: ___________________________________________ | D30: ___________________________________________
B31: JHOSET GUETTA | D31: ASTRID PAOLA DUARTE OJEDA
B32: Contratista VCT | D32: Abogada Contratista VSCSM
B35: ___________________________________________ | D35: ___________________________________________
B36: KAROL MELISSA CABRA LOSASA | D36: ARMANDO JAVIER FUENTES CONTRERAS
B37: CONTRATISTA VCTM | D37: Ingeniero VPF
B40: ___________________________________________ | D40: ___________________________________________
B41: JORGE ASTUDILLO REYES | D41: IVETH PAMELA CAMARGO
B42: Ingeniero TI Contratista VSCSM | D42: CONTRATISTA VPF

Sheet EXPERIENCIA
A1: AGENCIA NACIONAL DE MINERIA
A2: 4.1.3.3. Experiencia del proponente
G3: EXPERIENCIA MÍNIMA REQUERIDA
A4: La experiencia verificada por la ANM será única y exclusivamente aquella registrada por el Proponente en el Registro Único de Proponentes – RUP, en cualquiera de los siguientes códigos UNSPSC al nivel de CLASE: | D4: Código del Clasificador de Bienes y Servicios | G4: Cuantía Mínima Individual de cada contrato certificado (SMMLV) | H4: Sumatoria mínima de las certificaciones en SMMLV | K4: Año | L4: Salario mínimo mensual
D5: 43211700; 43191500 ; 43211500 | G5: 308 | H5: 925 | K5: 1984 | L5: 11298
A6: El proponente que oferte para la presente contratación deberá acreditar este requisito habilitante, atendiendo los siguientes criterios: Tener inscritos en el RUP todos los contratos de las certificaciones que pretenda acreditar, en alguno de los códigos de Clasificación UNSPSC señalados anteriormente, y su cuantía debe estar expresada en salarios mínimos mensuales legales vigentes (SMMLV). La cuantía a acreditar debe ser igual o superior al presupuesto oficial de la contratación, esto es, 966 SMMLV. El objeto de la experiencia a acreditar debe estar orientado a la adquisición, compraventa o suministro de equipos y/o elementos con características iguales o similares a los que la entidad pretende adquirir a través del presente proceso de contratación. La cuantía individual de cada certificación o contrato a través del cual se pretenda acreditar experiencia no debe ser inferior a 322 SMMLV y su sumatoria debe ser igual o superior al valor del presupuesto oficial establecido para la presente contratación, esto es, 966 SMMLV. Los SMMLV que se tendrán en cuenta serán los que se encuentren señalados en el RUP, para cada una de las experiencias que acredite el oferente. En el caso de los proponentes, no obligados a estar registrados en el RUP, el valor del Salario Mínimo Mensual Legal Vigente (SMMLV), que se tendrá en cuenta para determinar el cumplimiento de las condiciones referentes a la cuantía a acreditar, será el que regía en Colombia a la fecha de suscripción del contrato con el que se pretende acreditar la experiencia. Si el oferente es un consorcio, unión temporal o promesa de sociedad futura u otro tipo de proponente plural que surja de la celebración de contratos de colaboración, la Agencia tendrá en cuenta para efectos de verificar la experiencia habilitante, la suma de los contratos acreditados por cada uno de los integrantes. | K6: 1988 | L6: 25637
A7: ='EVALUACION '!B11 -> UT ELEMOVIL | I7: 1 | K7: 1990 | L7: 41025
A8: CONTRATO | B8: N. CTO EN RUP | C8: EMPRESA CONTRATANTE | D8: VALOR ($) | E8: VALOR EN SMMLV | F8: % DE PARTICIPACIÓN | G8: CÓDIGOS DE BIENES Y SERVICIOS (RUP) | H8: OBSERVACIONES | K8: 1991 | L8: 51716
A9: SGR 419 de 2019 | B9: 29 | C9: ANM | D9: 6.965343e+08 | E9: 841.1 | F9: 0.5 | G9: 43211700 | H9: Aporta certificacion de contrato cuyo objeto es "Adquisición de Tablets para apoyar a la Vicepresidencia de Seguimiento, Control y Seguridad Minera en las actividades de seguimiento, control y fiscalización de títulos mineros. | K9: 1992 | L9: 65190
A10: 4600002431 | B10: 8 | C10: Terpel | E10: 472.29 | F10: 1 | G10: 43211700 | H10: Aporta certificacion de contrato cuyo objeto es "SUMINISTRO DE EQUIPOS DE RECOLECCION DE DATOS EDS (TERMINAL TOUCH LEVI 8707). | K10: 1993 | L10: 81510
A11: CN-2017-0376 | B11: 11 | C11: EMPRESA DE TRANSPORTE MASIVO DEL VALLE DE ABURRA LTDA | D11: 510464780 | E11: 691.95 | F11: 1 | G11: 43211700;43211500 | H11: Objeto: Prestación del servicio para la actualización técnologica de la planta telefonica y sus componentes; es necesario que la copia del contrato o documento equivalente en el cual se pueda identificar el valor correspondiente al suministro de los equipos de tecnología, de conformidad con lo dispuesto en los literales c) y h) del numeral 4.1.3.3. así: "El objeto de la experiencia a acreditar debe estar orientado a la adquisición, compraventa o suministro de equipos y/o elementos con características iguales o similares a los que la entidad pretende adquirir a través del presente proceso de contratación." y "En el evento que las certificaciones aportadas incluyan dentro del objeto varias actividades, deberá discriminarse el valor de ejecución de la actividad solicitada como requisito de experiencia para el presente proceso de selección y éstas deberán cumplir con los requisitos solicitados en el presente documento.", respectivamente. | K11: 1995 | L11: 118934
A12: SUMATORIA | E12: =E9+E10 -> 1313.39 | K12: 1997 | L12: 172005
A13: VALOR TOTAL MÍNIMO EXIGIDO PARA LA SUMATORIA DE LOS CONTRATOS CERTIFICADOS | E13: 925 | F13: CUMPLE | K13: 1998 | L13: 203826
K14: 1999 | L14: 236460
A15: ='EVALUACION '!B12 -> WM WIRELESS | I15: =I7+1 -> 2 | K15: 2003 | L15: 332000
A16: CONTRATO | B16: N. CTO EN RUP | C16: EMPRESA CONTRATANTE | D16: VALOR ($) | E16: VALOR EN SMMLV | F16: % DE PARTICIPACIÓN | G16: CÓDIGOS DE BIENES Y SERVICIOS (RUP) | H16: OBSERVACIONES | K16: 2004 | L16: 358000
A17: O.C.2015 | B17: 62 | C17: GASEOSAS POSADA TOBON S.A | D17: 4,034.929.057 | E17: 4412.04 | F17: 1 | G17: 43211700;43211500 | H17: Aporta certificacion de contrato cuyo objeto es "Suministro de equipo Móviles robustos e impresoras. ( dispositivos moviles de captura), Sin embargo no aporta acta de liquidación, copia del contrato o documento equivalente en el cual se pueda identificar el valor y especificaciones correspondientes al suministro de los equipos de tecnología,es importante indicar que de conformidad con lo dispuesto en los literales c) y h) del numeral 4.1.3.3. así: "El objeto de la experiencia a acreditar debe estar orientado a la adquisición, compraventa o suministro de equipos y/o elementos con características iguales o similares a los que la entidad pretende adquirir a través del presente proceso de contratación, esto debido a que los elementos suministrado no cuentan con las caracteristicas similares a las de una Tablets | K17: 2005 | L17: 381500
A18: O.C.2016 | B18: 63 | C18: GASEOSAS POSADA TOBON S.A | D18: 5,061.564.269 | E18: 5788.32 | F18: 1 | G18: 43211700;43211501 | H18: Aporta certificacion de contrato cuyo objeto es "Suministro de equipo Móviles robustos e impresoras. ( dispositivos moviles de captura), Sin embargo no aporta acta de liquidación, copia del contrato o documento equivalente en el cual se pueda identificar el valor y especificaciones correspondientes al suministro de los equipos de tecnología,es importante indicar que de conformidad con lo dispuesto en los literales c) y h) del numeral 4.1.3.3. así: "El objeto de la experiencia a acreditar debe estar orientado a la adquisición, compraventa o suministro de equipos y/o elementos con características iguales o similares a los que la entidad pretende adquirir a través del presente proceso de contratación, esto debido a que los elementos suministrado no cuentan con las caracteristicas similares a las de una Tablets | K18: 2006 | L18: 408000
A19: O.C.2017 | B19: 64 | C19: GASEOSAS POSADA TOBON S.A | D19: 1,529.465.826 | E19: 1871.26 | F19: 1 | G19: 43211700 | H19: Aporta certificacion de contrato cuyo objeto es "Suministro de equipo Móviles robustos e impresoras. ( dispositivos moviles de captura), Sin embargo no aporta acta de liquidación, copia del contrato o documento equivalente en el cual se pueda identificar el valor y especificaciones correspondientes al suministro de los equipos de tecnología,es importante indicar que de conformidad con lo dispuesto en los literales c) y h) del numeral 4.1.3.3. así: "El objeto de la experiencia a acreditar debe estar orientado a la adquisición, compraventa o suministro de equipos y/o elementos con características iguales o similares a los que la entidad pretende adquirir a través del presente proceso de contratación, esto debido a que los elementos suministrado no cuentan con las caracteristicas similares a las de una Tablets
A20: SUMATORIA | E20: =SUM(E17:E19) -> 12071.62 | K20: 2010 | L20: 515000
A21: VALOR TOTAL MÍNIMO EXIGIDO PARA LA SUMATORIA DE LOS CONTRATOS CERTIFICADOS | E21: 925 | F21: NO CUMPLE
K22: 2013 | L22: 589500
A23: LOMBANA TOUS YINA PAOLA
A24: CONTRATO | B24: N. CTO EN RUP | C24: EMPRESA CONTRATANTE | D24: VALOR ($) | E24: VALOR EN SMMLV | F24: % DE PARTICIPACIÓN | G24: CÓDIGOS DE BIENES Y SERVICIOS (RUP) | H24: OBSERVACIONES
B25: 40 | C25: FUNDACION ALINAHO | D25: 237000000 | E25: 367.81 | F25: 1 | G25: 43211500 43211700 | H25: Aporta certificación cuyo objeto es Suministro de equipos de computo y oficina. Sin embargo no aporta acta de liquidación, copia del contrato o documento equivalente en el cual se pueda identificar el valor correspondiente al suministro de los equipos de tecnología, de conformidad con lo dispuesto en los literales c) y h) del numeral 4.1.3.3. así: "El objeto de la experiencia a acreditar debe estar orientado a la adquisición, compraventa o suministro de equipos y/o elementos con características iguales o similares a los que la entidad pretende adquirir a través del presente proceso de contratación." y "En el evento que las certificaciones aportadas incluyan dentro del objeto varias actividades, deberá discriminarse el valor de ejecución de la actividad solicitada como requisito de experiencia para el presente proceso de selección y éstas deberán cumplir con los requisitos solicitados en el presente documento.", respectivamente.
B26: 90 | C26: FUNDES | D26: 1340608836 | E26: 2080.56 | F26: 1 | G26: 43191500 43211500 43211700 | H26: Aporta certificación cuyo objeto es Suministro Mobiliario escolar, equipos y elementos tecnológicos para los CDI del Bienestar Familiar, sin embargo no aporta acta de liquidación, copia del contrato o documento equivalente en el cual se pueda identificar el valor correspondiente al suministro de los equipos de tecnología a los que refiere la certificación , tampoco es factible identificar si los mismos están relacionados con equipos tablets es decir con el objeto del presente proceso, de conformidad con lo dispuesto en los literales c) y h) del numeral 4.1.3.3. así: "El objeto de la experiencia a acreditar debe estar orientado a la adquisición, compraventa o suministro de equipos y/o elementos con características iguales o similares a los que la entidad pretende adquirir a través del presente proceso de contratación." y "En el evento que las certificaciones aportadas incluyan dentro del objeto varias actividades, deberá discriminarse el valor de ejecución de la actividad solicitada como requisito de experiencia para el presente proceso de selección y éstas deberán cumplir con los requisitos solicitados en el presente documento.", respectivamente.
B27: 104 | C27: FUNDES | D27: 450000000 | E27: 576.01 | F27: 1 | G27: 43191500 43211500 43211700 | H27: Aporta certificación cuyo objeto es Suministro de equipos de cómputo oficina y elementos de seguridad. Sin embargo no aporta acta de liquidación, copia del contrato o documento equivalente en el cual se pueda identificar el valor correspondiente al suministro de los equipos de tecnología, de conformidad con lo dispuesto en los literales c) y h) del numeral 4.1.3.3. así: "El objeto de la experiencia a acreditar debe estar orientado a la adquisición, compraventa o suministro de equipos y/o elementos con características iguales o similares a los que la entidad pretende adquirir a través del presente proceso de contratación." y "En el evento que las certificaciones aportadas incluyan dentro del objeto varias actividades, deberá discriminarse el valor de ejecución de la actividad solicitada como requisito de experiencia para el presente proceso de selección y éstas deberán cumplir con los requisitos solicitados en el presente documento.", respectivamente.
A28: SUMATORIA | E28: =SUM(E25:E27) -> 3024.38
A29: VALOR TOTAL MÍNIMO EXIGIDO PARA LA SUMATORIA DE LOS CONTRATOS CERTIFICADOS | E29: 925 | F29: NO CUMPLE
A31: JMENDOZA Y EQUIPOS SAS
A32: CONTRATO | B32: N. CTO EN RUP | C32: EMPRESA CONTRATANTE | D32: VALOR ($) | E32: VALOR EN SMMLV | F32: % DE PARTICIPACIÓN | G32: CÓDIGOS DE BIENES Y SERVICIOS (RUP) | H32: OBSERVACIONES
A33: 1 | B33: 186 | C33: UNIDAD DE BUSQUEDA DE PERSONAS DADAS POR DESAPARECIDAS EN EL CONTECTO Y EN RAZON DEL CONFLICTO ARMADO | E33: 1042.85 | F33: 1 | G33: 43211500 | H33: No se adjunta la certificacion, solo cuadro en excel con la informacion
A34: 2 | B34: 72 | C34: UNIVERSIDAD INDUSTRIAL DE SANTANDER | E34: 438.36 | F34: 1 | G34: 43211500, 43211700 | H34: No se adjunta la certificacion, solo cuadro en excel con la informacion
A35: 4 | B35: 89 | C35: SERVICIO NACIONAL DE APRENDIZAJE SENA REGIONAL QUINDIO | E35: 540.04 | F35: 1 | G35: 43211700, 43211500 | H35: No se adjunta la certificacion, solo cuadro en excel con la informacion
A36: SUMATORIA | E36: =SUM(E33:E35) -> 2021.25
A37: VALOR TOTAL MÍNIMO EXIGIDO PARA LA SUMATORIA DE LOS CONTRATOS CERTIFICADOS | E37: 925 | F37: NO CUMPLE
A39: COMERCIALIZADORA SERLE.COM SAS
A40: CONTRATO | B40: N. CTO EN RUP | C40: EMPRESA CONTRATANTE | D40: VALOR ($) | E40: VALOR EN SMMLV | F40: % DE PARTICIPACIÓN | G40: CÓDIGOS DE BIENES Y SERVICIOS (RUP) | H40: OBSERVACIONES
A41: 1 | B41: 287 | C41: COMPUTADORES PARA EDUCAR | D41: 4.8706381e+08 | E41: 756 | F41: 0.01 | G41: 43211700 | H41: Aporta certificación en la que se indica que la UT SAAVERA TALENTO CPE 2015 integrada por Talento Comercializadora S.A (40 %), Saavera S.A.S (59 %) y Comercializadora Serlecom S.A (1%) ejecutó el contrato No. 48706380872, La certificación indica que el objeto corresponde a "suministrar 62.945 tabletas (...)"
A42: 2 | B42: 108 | C42: UNIVERSIDAD PEDAGOGICA Y TECNOLOGICA DE COLOMBIA | D42: 486349708 | E42: 789.53 | F42: 1 | G42: 43211700 y 43191500 | H42: Aporta certificación en la que se indica que el objeto corresponde a a" Contratar la adquisición de computadores, tabletas y otros (…)"
...

Sheet FICHA TECNICA EQUIPO
A1: AGENCIA NACIONAL DE MINERÍA | D1: PROPONENTE 1 | F1: =+'LISTA DE PROPONENTES'!B2 -> MENDOZA EQUIPOS | G1: PROPONENTE 2: | I1: =+'LISTA DE PROPONENTES'!B3 -> SERLECOM | J1: PROPONENTE 3: | L1: =+'LISTA DE PROPONENTES'!B4 -> UNIPLES | M1: PROPONENTE 4: | O1: =+'LISTA DE PROPONENTES'!C5 -> UT ELEMOVIL | P1: PROPONENTE 5: | R1: =+'LISTA DE PROPONENTES'!C6 -> WM WIRELESS | S1: PROPONENTE 6: | U1: XDC | V1: PROPONENTE 7: | X1: =+'LISTA DE PROPONENTES'!B8 -> YINA PAOLA LOMBANA | Y1: PROPONENTE 8: | AA1: =+'LISTA DE PROPONENTES'!B9 -> ISEC
A2: EVALUACION TABLETS TIPO RUGGED IP 67. | D2: EMPRESA(S) | F2: =+'LISTA DE PROPONENTES'!C2 -> MENDOZA EQUIPOS | G2: EMPRESA(S) | I2: =+'LISTA DE PROPONENTES'!C3 -> SERLECOM | J2: EMPRESA(S) | L2: =+'LISTA DE PROPONENTES'!C4 -> UNIPLES | M2: EMPRESA(S) | O2: ELCTROCOM Y MOVILTRONIX | P2: EMPRESA(S) | R2: =+'LISTA DE PROPONENTES'!C6 -> WM WIRELESS | S2: EMPRESA(S) | U2: XOREX DE COLOMBIA | V2: EMPRESA(S) | X2: =+'LISTA DE PROPONENTES'!C8 -> YINA PAOLA LOMBANA | Y2: EMPRESA(S) | AA2: =+'LISTA DE PROPONENTES'!C9 -> ISEC
A3: Anexo Especificaciones y Requerimientos Técnicas Mínimos Requeridos | D3: ANEXA FICHA TECNICA: | F3: SI ANEXA. S70 STONEX | G3: ANEXA FICHA TECNICA: | I3: SI T71 HUGE ROCK - SOTEN | J3: ANEXA FICHA TECNICA: | L3: SI SAMSUNG SM-T545 | M3: ANEXA FICHA TECNICA: | O3: SI RG 910 - RUGGEAR. | P3: ANEXA FICHA TECNICA: | R3: SI BPR - 70IIP - SEWOO | S3: ANEXA FICHA TECNICA: | U3: SI SAMSUNG SM-T545 | V3: ANEXA FICHA TECNICA: | X3: SI SAMSUNG SM-T545 | Y3: ANEXA FICHA TECNICA: | AA3: SI BPRIIP - SEWOO
A4: Anexo Especificaciones y Requerimientos Técnicas Mínimos Requeridos | D4: CALIFICACION ESPECIFICACIONES TECNICAS | F4: NO CUMPLE | G4: CALIFICACION ESPECIFICACIONES TECNICAS | I4: NO CUMPLE | J4: CALIFICACION ESPECIFICACIONES TECNICAS | L4: CUMPLE | M4: CALIFICACION ESPECIFICACIONES TECNICAS | O4: CUMPLE | P4: CALIFICACION ESPECIFICACIONES TECNICAS | R4: NO CUMPLE | S4: CALIFICACION ESPECIFICACIONES TECNICAS | U4: CUMPLE | V4: CALIFICACION ESPECIFICACIONES TECNICAS | X4: CUMPLE | Y4: CALIFICACION ESPECIFICACIONES TECNICAS | AA4: NO CUMPLE
A5: CATEGORÍA | B5: PARÁMETRO | C5: ESPECIFICACIONES MÍNIMAS SOLICITADAS. | D5: CARACTERÍSTICAS DEL EQUIPO OFERTADO | E5: CUMPLE / NO CUMPLE | F5: OBSERVACION | G5: CARACTERÍSTICAS DEL EQUIPO OFERTADO | H5: CUMPLE / NO CUMPLE | I5: OBSERVACION | J5: CARACTERÍSTICAS DEL EQUIPO OFERTADO | K5: CUMPLE / NO CUMPLE | L5: OBSERVACION | M5: CARACTERÍSTICAS DEL EQUIPO OFERTADO | N5: CUMPLE / NO CUMPLE | O5: OBSERVACION | P5: CARACTERÍSTICAS DEL EQUIPO OFERTADO | Q5: CUMPLE / NO CUMPLE | R5: OBSERVACION | S5: CARACTERÍSTICAS DEL EQUIPO OFERTADO | T5: CUMPLE / NO CUMPLE | U5: OBSERVACION | V5: CARACTERÍSTICAS DEL EQUIPO OFERTADO | W5: CUMPLE / NO CUMPLE | X5: OBSERVACION | Y5: CARACTERÍSTICAS DEL EQUIPO OFERTADO | Z5: CUMPLE / NO CUMPLE | AA5: OBSERVACION
A6: Modelo | B6: Especificar | C6: N/A | D6: S70 | E6: CUMPLE | G6: T71 | H6: CUMPLE | I6: Se realiza la validacion con la pagina http://soten.com.cn/index/product/detail/id/1/mid/6.html evidenciando que ninguna de las referencias existentes del fabrciante, corresponden a las ofertadas por el proponente T71, adicionalmente en el anexo tencico ofrece una velocidad de 2.3 Ghz, 6 gHZ PARA RAM, Android 8.0. y otras especificciones tecnicas, que no corresponden a un equipo producido por soten. Accedimos a la pagina del fabricante SOTEN en razon a la informacion que se encuentra contenida en el catalogo de fichas tecnicas hoja numero dos pie de pagina que aparece la informacion del fabricante SOTEN y niniguna referencias T71V3, T71V3H, T71V3PRO y T71V3HPRO cuenta con la velocidad, RAM, Sistema Operativo, ofertada. Por tal motivo y como lo establece el pliego en el numeral 4.1.3.4.2 Ficha técnica. "Adicionalmente y de ser necesario, la Entidad podrá verificar o comprobar el cumplimiento de cada una de las especificaciones técnicas, en la web Site del fabricante para los equipos ofertados. Es preciso mencionar que los equipos ofertados deben ser equipos existentes en el mercado y por ningún motivo diseños o equipos fabricados a la medida para el presente proceso, por tal motivo no se tendrán en cuenta estos equipos." no se permite la presentacion de equipos diseñados a la medida. Siendo asi la Calificacion es No CUMPLE: | J6: SM-T545 | K6: CUMPLE | M6: RG 910 | N6: CUMPLE | P6: BPR - 70IIP | Q6: CUMPLE | T6: CUMPLE | W6: CUMPLE | Y6: BPR - 70IIP | Z6: CUMPLE
A7: Marca | B7: Especificar | C7: N/A | D7: STONEX | E7: CUMPLE | G7: HUGE ROCK - SOTEN | H7: CUMPLE | J7: Samsung | K7: CUMPLE | M7: RUGEAR | N7: CUMPLE | P7: SEWOO | Q7: CUMPLE | T7: CUMPLE | W7: CUMPLE | Y7: SEWOO | Z7: CUMPLE
A8: Procesamiento | B8: Núcleos | C8: 4 | E8: CUMPLE | F8: Anexa Hoja de especificaciones Técnicas donde se evidencia la Información de cada una de las características que ofrece en el Anexo técnico cumpliendo con cada una de las condiciones técnicas, sin embargo, se procede a consultar en la pagina de stonex.com y stonex.it sin evidenciar información acerca del equipos S 70 ofertado, tal y como se establece con el numeral 4.1.3.4.2 Ficha técnica. "Adicionalmente y de ser necesario, la Entidad podrá verificar o comprobar el cumplimiento de cada una de las especificaciones técnicas, en la web Site del fabricante para los equipos ofertados. Es preciso mencionar que los equipos ofertados deben ser equipos existentes en el mercado y por ningún motivo diseños o equipos fabricados a la medida para el presente proceso, por tal motivo no se tendrán en cuenta estos equipos." De otro lado en al manual del producto S70 describe que el producto es un controlador, y especifica que el Receptor S70 GNSS es un receptor de múltiples frecuencias, por lo que indica que este equipo aunque es un tableta esta diseñado para funcionar como un controlador de tipo Rugged. Por tal motivo se solicita al proponente aclarar la finalidad de este dispositivo. | G8: 10 | H8: CUMPLE | K8: CUMPLE | N8: CUMPLE | P8: 10 | Q8: CUMPLE | R8: Al revisar la pagina del fabricante no se evidencia la referencia ofertada. Adicionalmente la que el fabrciante publica en la pagina no corresponde con las caracteristicas ofertas en especial la version de android. De acuerdo al numeral 4.1.3.4.2 Ficha técnica. "Adicionalmente y de ser necesario, la Entidad podrá verificar o comprobar el cumplimiento de cada una de las especificaciones técnicas, en la web Site del fabricante para los equipos ofertados. Es preciso mencionar que los equipos ofertados deben ser equipos existentes en el mercado y por ningún motivo diseños o equipos fabricados a la medida para el presente proceso, por tal motivo no se tendrán en cuenta estos equipos." no se permite la presentacion de equipos diseñados a la medida. Siendo asi la Calificacion es No CUMPLE: | T8: CUMPLE | W8: CUMPLE | Y8: 10 | Z8: CUMPLE | AA8: Al revisar la pagina del fabricante no se evidencia la referencia ofertada. Adicionalmente la que el fabrciante publica en la pagina no corresponde con las caracteristicas ofertas. en especial la version de android. De acuerdo al numeral 4.1.3.4.2 Ficha técnica. "Adicionalmente y de ser necesario, la Entidad podrá verificar o comprobar el cumplimiento de cada una de las especificaciones técnicas, en la web Site del fabricante para los equipos ofertados. Es preciso mencionar que los equipos ofertados deben ser equipos existentes en el mercado y por ningún motivo diseños o equipos fabricados a la medida para el presente proceso, por tal motivo no se tendrán en cuenta estos equipos." no se permite la presentacion de equipos diseñados a la medida. Siendo asi la Calificacion es No CUMPLE:
B9: Velocidad de núcleos | C9: Mínimo 1,4 GHz | E9: CUMPLE | G9: 2.3Ghz | H9: CUMPLE | K9: CUMPLE | N9: CUMPLE | P9: 2,4 Ghz. | Q9: CUMPLE | T9: CUMPLE | W9: CUMPLE | Y9: 2,4 Ghz. | Z9: CUMPLE
A10: Memoria RAM | B10: Capacidad | C10: 3 GB | D10: STONEX | E10: CUMPLE | G10: 6 GB | H10: CUMPLE | K10: CUMPLE | N10: CUMPLE | P10: 4GB | Q10: CUMPLE | T10: CUMPLE | W10: CUMPLE | Y10: 4GB | Z10: CUMPLE
A11: Sistema Operativo | B11: Versión mínima de Android: | C11: 8.0 | E11: CUMPLE | G11: 8.1 | H11: CUMPLE | K11: CUMPLE | N11: CUMPLE | P11: 8.1 | Q11: NO CUMPLE | T11: CUMPLE | W11: CUMPLE | Y11: 8.1 | Z11: NO CUMPLE
A12: Memoria Interna | B12: Capacidad | C12: 32 GB | E12: CUMPLE | G12: 128 GB | H12: CUMPLE | K12: CUMPLE | N12: CUMPLE | P12: 64GB | Q12: CUMPLE | T12: CUMPLE | W12: CUMPLE | Y12: 64GB | Z12: CUMPLE
A13: Pantalla | B13: Resolución | C13: 1280x800 pixeles | E13: CUMPLE | G13: 1280x800 Pixeles | H13: CUMPLE | K13: CUMPLE | N13: CUMPLE | P13: 1200x1920 | Q13: NO CUMPLE | R13: En la ficha tecnica del Equipos, en especifico las especificaciones ofertada se evidencia que el dispositivos solo cuenta con (720x1280 )Pixeles y el requisito minimo es 1280x800 | T13: CUMPLE | W13: CUMPLE | Y13: 1200x1920 | Z13: NO CUMPLE | AA13: En la ficha tecnica del Equipos, en especifico las especificaciones ofertada se evidencia que el equipo solo cuenta con (720x1280 )Pixeles y el requisito minimo es 1280x800
B14: Tamaño | C14: Desde 7 pulgadas hasta 10.1 pulgadas | E14: CUMPLE | G14: 7¨" | H14: CUMPLE | K14: CUMPLE | N14: CUMPLE | P14: 7 Pulgadas | Q14: CUMPLE | T14: CUMPLE | W14: CUMPLE | Y14: 7 Pulgadas | Z14: CUMPLE
B15: Tipo | C15: TFT (Thin Film Transistor) | E15: CUMPLE | G15: TFT | H15: CUMPLE | K15: CUMPLE | N15: CUMPLE | P15: IPS/AFFS | Q15: CUMPLE | T15: CUMPLE | W15: CUMPLE | Y15: IPS/AFFS | Z15: CUMPLE
A16: Grado de Protección | B16: Grado de protección | C16: IP 67 | E16: CUMPLE | G16: IP67 | H16: CUMPLE | K16: CUMPLE | N16: CUMPLE | P16: IP67 | Q16: CUMPLE | T16: CUMPLE | W16: CUMPLE | Y16: IP67 | Z16: CUMPLE
B17: Protección a caídas: | C17: MIL-STD-810G | E17: CUMPLE | G17: =+C17 -> MIL-STD-810G | H17: CUMPLE | K17: CUMPLE | N17: CUMPLE | P17: MIL-STD-810G | Q17: CUMPLE | T17: CUMPLE | W17: CUMPLE | Y17: MIL-STD-810G | Z17: CUMPLE
A18: Memoria Externa. | B18: Tipo | C18: SD o Micro SD. | E18: CUMPLE | G18: Micro SD | H18: CUMPLE | K18: CUMPLE | N18: CUMPLE | P18: Micro SD | Q18: CUMPLE | T18: CUMPLE | W18: CUMPLE | Y18: Micro SD | Z18: CUMPLE
B19: Capacidad | C19: 32 GB | E19: CUMPLE | G19: 32 GB | H19: CUMPLE | K19: CUMPLE | N19: CUMPLE | P19: 32GB | Q19: CUMPLE | T19: CUMPLE | W19: CUMPLE | Y19: 32GB | Z19: CUMPLE
B20: Posibilidad de expansión | C20: 32 GB | E20: CUMPLE | G20: 128 GB | H20: CUMPLE | K20: CUMPLE | N20: CUMPLE | P20: 128GB | Q20: CUMPLE | T20: CUMPLE | W20: CUMPLE | Y20: 128GB | Z20: CUMPLE
A21: Conectividad | B21: Versión Bluetoooth | C21: 4.0 | E21: CUMPLE | G21: 4.0 | H21: CUMPLE | K21: CUMPLE | N21: CUMPLE | P21: 4.0 | Q21: CUMPLE | T21: CUMPLE | W21: CUMPLE | Y21: 4.0 | Z21: CUMPLE
B22: Versión WIFI | C22: 802.11 b/g/n y que opere en las Bandas 2.4 y/o 5GHz | E22: CUMPLE | G22: =+C22 -> 802.11 b/g/n y que opere en las Bandas 2.4 y/o 5GHz | H22: CUMPLE | K22: CUMPLE | N22: CUMPLE | P22: 802.11 b/g/n y que opere en las Bandas 2.4 y/o 5GHz | Q22: CUMPLE | T22: CUMPLE | W22: CUMPLE | Y22: 802.11 b/g/n y que opere en las Bandas 2.4 y/o 5GHz | Z22: CUMPLE
A23: Cámara | B23: Funcionalidad | C23: Fotografía y video | E23: CUMPLE | G23: =+C23 -> Fotografía y video | H23: CUMPLE | K23: CUMPLE | N23: CUMPLE | Q23: NO CUMPLE | R23: No Diligencia el formato. | T23: CUMPLE | W23: CUMPLE | Z23: CUMPLE
B24: Resolución de Cámara trasera | C24: 8 MP | E24: CUMPLE | G24: 13 M | H24: CUMPLE | K24: CUMPLE | N24: CUMPLE | P24: 13MP | Q24: CUMPLE | T24: CUMPLE | W24: CUMPLE | Y24: 13MP | Z24: CUMPLE
B25: Tipo de flash | C25: LED | E25: CUMPLE | G25: LED | H25: CUMPLE | K25: CUMPLE | N25: CUMPLE | P25: LED | Q25: CUMPLE | T25: CUMPLE | W25: CUMPLE | Y25: LED | Z25: CUMPLE
B26: Resolución de video | C26: FHD (1920x1080) @30fps | E26: CUMPLE | G26: =+C26 -> FHD (1920x1080) @30fps | H26: CUMPLE | K26: CUMPLE | N26: CUMPLE | P26: FHD | Q26: CUMPLE | T26: CUMPLE | W26: CUMPLE | Y26: FHD | Z26: CUMPLE
A27: Sonido | B27: Conector Jack de audio Estándar 3,5 mm (Minimo) | C27: 1 | E27: CUMPLE | G27: =+C27 -> 1 | H27: CUMPLE | K27: CUMPLE | N27: CUMPLE | P27: 1 | Q27: CUMPLE | T27: CUMPLE | W27: CUMPLE | Y27: 1 | Z27: CUMPLE
B28: Micrófono integrado | C28: 1 | E28: CUMPLE | G28: =+C28 -> 1 | H28: CUMPLE | K28: CUMPLE | N28: CUMPLE | P28: 1 | Q28: CUMPLE | T28: CUMPLE | W28: CUMPLE | Y28: 1 | Z28: CUMPLE
B29: Parlante (Altavoz) integrado | C29: 1 | E29: CUMPLE | G29: =+C29 -> 1 | H29: CUMPLE | K29: CUMPLE | N29: CUMPLE | P29: 1 | Q29: CUMPLE | T29: CUMPLE | W29: CUMPLE | Y29: 1 | Z29: CUMPLE
A30: Tecnología de localización | B30: Sistemas de navegación satelitales soportables | C30: GPS y GLONASS | E30: CUMPLE | G30: =+C30 -> GPS y GLONASS | H30: CUMPLE | K30: CUMPLE | N30: CUMPLE | P30: GPS y GLONASS | Q30: CUMPLE | T30: CUMPLE | W30: CUMPLE | Y30: GPS y GLONASS | Z30: CUMPLE
A31: Lápiz óptico | B31: Lápiz óptico resistente al agua, polvo y compatible con las Tablet ofertadas | C31: 1 por cada equipo | E31: CUMPLE | G31: =+C31 -> 1 por cada equipo | H31: CUMPLE | K31: CUMPLE | N31: CUMPLE | P31: 1 | Q31: CUMPLE | T31: CUMPLE | W31: CUMPLE | Y31: 1 | Z31: CUMPLE
A32: Sensores | C32: Acelerómetro | E32: CUMPLE | G32: =+C32 -> Acelerómetro | H32: CUMPLE | K32: CUMPLE | N32: CUMPLE | P32: =+C32 -> Acelerómetro | Q32: CUMPLE | T32: CUMPLE | W32: CUMPLE | Y32: =+L32 -> 0 | Z32: CUMPLE
C33: Giroscopio | E33: CUMPLE | G33: =+C33 -> Giroscopio | H33: CUMPLE | K33: CUMPLE | N33: CUMPLE | P33: =+C33 -> Giroscopio | Q33: CUMPLE | T33: CUMPLE | W33: CUMPLE | Y33: =+L33 -> 0 | Z33: CUMPLE
C34: Geomagnético | E34: CUMPLE | G34: =+C34 -> Geomagnético | H34: CUMPLE | K34: CUMPLE | N34: CUMPLE | P34: =+C34 -> Geomagnético | Q34: CUMPLE | T34: CUMPLE | W34: CUMPLE | Y34: =+L34 -> 0 | Z34: CUMPLE
A35: Batería | B35: Capacidad | C35: 6000 mAh. | E35: CUMPLE | G35: 10000 mAh. | H35: CUMPLE | K35: CUMPLE | N35: CUMPLE | P35: 10000 mAh. | Q35: CUMPLE | T35: CUMPLE | W35: CUMPLE | Y35: 10000 mAh. | Z35: CUMPLE
B36: Condiciones | C36: Batería con carga plena de tipo carga rapida o en máximo 4 horas y duración a plena operación de la Tablet por mínimo 10 horas | E36: CUMPLE | G36: =+C36 -> Batería con carga plena de tipo carga rapida o en máximo 4 horas y duración a plena operación de la Tablet por mínimo 10 horas | H36: CUMPLE | K36: CUMPLE | N36: CUMPLE | P36: 10 Horas | Q36: NO CUMPLE | R36: No oferta ni Especifica el tiempo maximo de carga. | T36: CUMPLE | W36: CUMPLE | Y36: 10 Horas | Z36: NO CUMPLE | AA36: No oferta Especifica el tiempo maximo de carga.
A37: NOTA 3: Si los documentos exigidos para la verificación de las condiciones técnicas habilitantes establecidas en el presente documento se encuentren en idioma diferente al castellano, el proponente deberá aportar los mismos con la traducción simple al castellano, de conformidad con la circular No. 17 del 11 de febrero de 2015, proferida por la Agencia Nacional de Contratación Pública - Colombia Compra Eficiente, No obstante, en caso de resultar adjudicatario del proceso, deberá presentar, antes de la suscripción del contrato, la traducción oficial al castellano de los documentos presentados en idioma extranjero. La traducción oficial debe ser el mismo texto presentado. | E37: CUMPLE | H37: CUMPLE | K37: CUMPLE | M37: CUMPLE | N37: CUMPLE | Q37: CUMPLE | T37: CUMPLE | W37: CUMPLE | Z37: CUMPLE

Sheet CERTIFICACIONES
A1: AGENCIA NACIONAL DE MINERÍA | B1: PROPONENTE 1: | C1: =+'FICHA TECNICA EQUIPO'!F1 -> MENDOZA EQUIPOS | D1: PROPONENTE 2: | E1: =+'FICHA TECNICA EQUIPO'!I1 -> SERLECOM | F1: PROPONENTE 3: | G1: =+'FICHA TECNICA EQUIPO'!L1 -> UNIPLES | H1: PROPONENTE 4: | I1: =+'FICHA TECNICA EQUIPO'!O1 -> UT ELEMOVIL | J1: PROPONENTE 5: | K1: =+'FICHA TECNICA EQUIPO'!R1 -> WM WIRELESS | L1: PROPONENTE 6: | M1: =+'FICHA TECNICA EQUIPO'!U1 -> XDC | N1: PROPONENTE 7: | O1: =+'FICHA TECNICA EQUIPO'!X1 -> YINA PAOLA LOMBANA | P1: PROPONENTE 8: | Q1: ='FICHA TECNICA EQUIPO'!AA1 -> ISEC
A2: EVALUACION TABLETS TIPO RUGGED IP 67. | B2: EMPRESA (S): | C2: =+'FICHA TECNICA EQUIPO'!F2 -> MENDOZA EQUIPOS | D2: EMPRESA (S): | E2: =+'FICHA TECNICA EQUIPO'!I2 -> SERLECOM | F2: EMPRESA (S): | G2: =+'FICHA TECNICA EQUIPO'!L2 -> UNIPLES | H2: EMPRESA (S): | I2: =+'FICHA TECNICA EQUIPO'!O2 -> ELCTROCOM Y MOVILTRONIX | J2: EMPRESA (S): | K2: =+'FICHA TECNICA EQUIPO'!R2 -> WM WIRELESS | L2: EMPRESA (S): | M2: =+'FICHA TECNICA EQUIPO'!U2 -> XOREX DE COLOMBIA | N2: EMPRESA (S): | O2: =+'FICHA TECNICA EQUIPO'!X2 -> YINA PAOLA LOMBANA | P2: EMPRESA (S): | Q2: ='FICHA TECNICA EQUIPO'!AA2 -> ISEC
A3: CONSOLIDADO DE VERIFICACIÓN REQUISITOS HABILITANTES- DOCUMENTOS TÉCNICOS | B3: RESULTADO | C3: =+IF(AND(B6="CUMPLE",B7="CUMPLE",B9="CUMPLE",B10="CUMPLE",B11="CUMPLE"),"CUMPLE","NO CUMPLE") -> NO CUMPLE | D3: RESULTADO | E3: =+IF(AND(D6="CUMPLE",D7="CUMPLE",D9="CUMPLE",D10="CUMPLE",D11="CUMPLE"),"CUMPLE","NO CUMPLE") -> NO CUMPLE | F3: RESULTADO | G3: =+IF(AND(F6="CUMPLE",F7="CUMPLE",F9="CUMPLE",F10="CUMPLE",F11="CUMPLE"),"CUMPLE","NO CUMPLE") -> NO CUMPLE | H3: RESULTADO | I3: =+IF(AND(H6="CUMPLE",H7="CUMPLE",H9="CUMPLE",H10="CUMPLE",H11="CUMPLE"),"CUMPLE","NO CUMPLE") -> NO CUMPLE | J3: RESULTADO | K3: =+IF(AND(J6="CUMPLE",J7="CUMPLE",J9="CUMPLE",J10="CUMPLE",J11="CUMPLE"),"CUMPLE","NO CUMPLE") -> NO CUMPLE | L3: RESULTADO | M3: =+IF(AND(L6="CUMPLE",L7="CUMPLE",L9="CUMPLE",L10="CUMPLE",L11="CUMPLE"),"CUMPLE","NO CUMPLE") -> CUMPLE | N3: RESULTADO | O3: =+IF(AND(N6="CUMPLE",N7="CUMPLE",N9="CUMPLE",N10="CUMPLE",N11="CUMPLE"),"CUMPLE","NO CUMPLE") -> NO CUMPLE | P3: RESULTADO | Q3: =+IF(AND(P6="CUMPLE",P7="CUMPLE",P9="CUMPLE",P10="CUMPLE",P11="CUMPLE",P12="CUMPLE",),"CUMPLE","NO CUMPLE") -> NO CUMPLE
A4: 4.1.3.4.1. ANEXO TÉCNICO Y 4.1.3.4.2 FICHA TECNICA | B4: CUMPLE / NO CUMPLE | C4: OBSERVACION | D4: CUMPLE / NO CUMPLE | E4: OBSERVACION | F4: CUMPLE / NO CUMPLE | G4: OBSERVACION | H4: CUMPLE / NO CUMPLE | I4: OBSERVACION | J4: CUMPLE / NO CUMPLE | K4: OBSERVACION | L4: CUMPLE / NO CUMPLE | M4: OBSERVACION | N4: CUMPLE / NO CUMPLE | O4: OBSERVACION | P4: CUMPLE / NO CUMPLE | Q4: OBSERVACION
A5: Numeral 4.1.3.4.1. Anexo Especificaciones y Requerimientos Técnicas Mínimos Requeridos. Serán habilitados los proponentes que cumplan con todas las especificaciones y requisitos establecidos en el ANEXO ESPECIFICACIONES Y REQUERIMIENTOS TÉCNICOS MÍNIMOS, para lo cual el proponente deberá adjuntar dicho documento debidamente diligenciado indicando el equipo y referencia ofertada, en el que declare su conocimiento y aceptación de las condiciones y requerimientos técnicos aplicables al mismo, so pena de que se tome como NO presentada la oferta técnica y se proceda al rechazo de la propuesta. | B5: NO CUMPLE | C5: Aunque aportó anexo de Especificaciones y Requerimientos Técnicas Mínimos Requeridos, no cumple con las especificaciones. | D5: NO CUMPLE | E5: Aunque aportó anexo de Especificaciones y Requerimientos Técnicas Mínimos Requeridos, no cumple con las especificaciones. | F5: CUMPLE | G5: Aportó anexo de Especificaciones y Requerimientos Técnicas Mínimos Requeridos | H5: CUMPLE | I5: Aportó anexo de Especificaciones y Requerimientos Técnicas Mínimos Requeridos | J5: NO CUMPLE | K5: Aunque aportó anexo de Especificaciones y Requerimientos Técnicas Mínimos Requeridos, no cumple con las especificaciones. | L5: CUMPLE | M5: Aportó anexo de Especificaciones y Requerimientos Técnicas Mínimos Requeridos | N5: CUMPLE | O5: Aportó anexo de Especificaciones y Requerimientos Técnicas Mínimos Requeridos | P5: NO CUMPLE | Q5: Aunque aportó anexo de Especificaciones y Requerimientos Técnicas Mínimos Requeridos, no cumple con las especificaciones.
A6: 1. El proponente debe anexar con su oferta, la ficha técnica, de cada uno de los equipos ofertados en la que conste que los equipos cumplen con cada una de las especificaciones técnicas establecidas en el ANEXO ESPECIFICACIONES Y REQUERIMIENTOS TÉCNICOS MÍNIMOS.. Adicionalmente y de ser necesario, la Entidad podrá verificar o comprobar el cumplimiento de cada una de las especificaciones técnicas, en la web Site del fabricante para los equipos ofertados. Es preciso mencionar que los equipos ofertados deben ser equipos existentes en el mercado y por ningún motivo diseños o equipos fabricados a la medida para el presente proceso, por tal motivo no se tendrán en cuenta estos equipos. | B6: NO CUMPLE | C6: Anexa Hoja de especificaciones Tecnicas donde se evidencia la Informacion de cada una de las caracteristicas que ofrece en el Anexo tecnico cumpliendo con cada una de las condiciones tecnicas, sin embargo, se procede a consultar en la pagina de stonex.com y .it sin evidenciar informacion acerca del equipos S 70 ofertado, tal y como se establece con el el numeral 4.1.3.4.2 Ficha tecnica. - De otro lado en al manual del producto S70 describe que el producto es un controlador, y especifica que el Receptr S70 GNSS es un receptor de multipes frecuencias, por lo que indica que este equipo aunque es un tableta esta diseñado para funcionar como un controlador de tipo Rugged. Por tal motivo se solicita al proponente aclarar la finalidad de este dispositivo. | D6: NO CUMPLE | E6: En la WEB del fabrciante http://soten.com.cn/index/product/detail/id/1/mid/6.html no se evidencia las especificaciones de los equipos ofertados, ni la referencia ofertada. | F6: CUMPLE | H6: CUMPLE | J6: NO CUMPLE | K6: En la página del fabrciante no se encuentra la ficha técnica ofertada. Las especificaciones del fabricante sewoo no correpsonden con las presentadas. | L6: CUMPLE | N6: CUMPLE | P6: NO CUMPLE | Q6: En la pagina del fabrciante no se encuentra la ficha tecnica ofertada. Las especificaciones del fabrciante sewoo no correpsonden con las presentadas. Adicionalmente y como lo establece el pliego definitivo de condiciones, los equipos ofertados deben ser equipos existentes en el mercado y por ningún motivo diseños o equipos fabricados a la medida para el presente proceso, por tal motivo no se tendrán en cuenta estos equipos.
A7: 2. Debido a que la aplicación a ser instalada por parte de la Entidad, es un desarrollo puntualmente para Android totalmente compatible con la plataforma Google play, la Entidad realizara la verificación de los equipos ofertados los cuales deben están en el listado de Dispositivos Admitidos por Google. | B7: NO CUMPLE | C7: Se procede a realizar la verificacion, en la lista de dispositivos adminitidos por Google sin encontrar el equipo ofertado. - El proponente anexa una certificacion donde menciona que este equipo hace referencia al Retail Branding ZOOMSMART bajo el NAME de LT800, sin embargo no corresponde a la referencia ofertada, y es google quien deberia emitir dicha certiicacion y no el fabricante, pues google es quien emite la lista de dispositivos admitidos y no el fabricante. por tal motivo solicitamos aclaracion al respecto. | D7: NO CUMPLE | E7: Se procede a realizar la verificación, en la lista de dispositivos adminitidos por Google sin encontrar el equipo ofertado. HUGE ROCK - SOTEN T71 - | F7: CUMPLE | H7: CUMPLE | J7: NO CUMPLE | K7: Se realiza la verificación sobre el listado de dispositivos admitidos por google, y no se encuentra el dispositivo en este listado. | L7: CUMPLE | N7: CUMPLE | P7: NO CUMPLE | Q7: Se realiza la verificacion sobre el listado de dispositivos admitidos por google, y no se encuentra el dispositivo en este listado.
A8: 4.1.3.4.3 GARANTIA Y/O CERTIFICACIONES.
A9: 1. Certificación expedida por el fabricante o distribuidor autorizado que acredite la cadena de distribución, en la cual se pueda verificar que el oferente está autorizado por el fabricante o distribuidor autorizado para la venta, distribución, soporte, mantenimiento y garantía de los equipos ofertados. La fecha de emisión de la certificación no deberá ser superior a los seis (6) meses anteriores a la fecha límite para presentar oferta. | B9: CUMPLE | D9: CUMPLE | F9: CUMPLE | H9: NO CUMPLE | I9: Se verifica los documentos asociados a la propuesta y no se evidencia la certificación expedida por el fabrciante o distribuidor autorizado que autorice al oferente a vender, distribuir, dar soporte, mantenimiento y garantía de los equipos ofertados. | J9: CUMPLE | L9: CUMPLE | N9: NO CUMPLE | O9: Una vez valorada la certificacion de distribuidor autorizado no se evidencia la cadena de distribucion por parte del fabricante correspondiente a la Tablet Samsung ofertada. | P9: CUMPLE
A10: 2. El proponente deberá aportar con su oferta, certificación expedida por el fabricante y/o desarrollador del software de seguridad ofertado, donde lo acredite como distribuidor o partner. | B10: NO CUMPLE | C10: En la certificacion, el fabricante no certifica al proponente como distribuidor o Partner. | D10: CUMPLE | F10: CUMPLE | H10: CUMPLE | J10: CUMPLE | L10: CUMPLE | N10: NO CUMPLE | O10: No se evidencia la Certificacion del fabricante y/o desarrollador del software que lo acredite como distribudor o Partner. | P10: CUMPLE
A11: 3. Certificación expedida por el fabricante o mayorista donde certifique que, de llegar a ser el ganador del presente proceso, otorgara Dos (2) años de garantía para los equipos ofertados incluida su batería, dicha garantía debe cubrir defectos de fabricación de los elementos asociados con el sistema y garantizar que los equipos soportan aplicaciones reconocidas por los estándares y futuras aplicaciones. | B11: CUMPLE | D11: NO CUMPLE | E11: La garantia aportada la suscribe Highton Electronic y el equipo aportado es del fabrciante SOTEN, por tal motivo la calificación. | F11: NO CUMPLE | G11: Dentro de toda la Oferta, el proponente UNPLES solo presenta y oferta una garantía otrorgada directemante por el fabricante del producto por un Año, y el proponente ofrece garantía por dos años adicionales. Sin embargo se solicita que la garantia sea ofrecida por el Fabricante por 2 años y no 1, y el proponente un año adicional, por tal motivo no se evidencia el cumplimiento de esta certificacion. | H11: NO CUMPLE | I11: En la propuesta se evidencia las políticas y condiciones de la garantía del equipos, sin embargo no se encuentra suscrita por el Fabricante que avale y certifique el documento. | J11: CUMPLE | L11: CUMPLE | N11: NO CUMPLE | O11: No se evidencia la certificacion expedida por el fabricante que de garantia por 2 años de los equipos ofertados. | P11: CUMPLE
A12: 4. Carta suscrita por el presentante legal del proponente, donde otorgue garantía adicional o extendida sobre los equipos adquiridos, por un (1) año más, contado a partir del vencimiento de la garantía de fabricante. | B12: CUMPLE | D12: CUMPLE | F12: CUMPLE | G12: El proponente Uniples Ofrece 2 años de Garantia sobre los productos ofrecidos. | H12: CUMPLE | J12: CUMPLE | L12: CUMPLE | N12: CUMPLE | P12: CUMPLE
K23: CUMPLE
K24: CUMPLE
K25: CUMPLE
K27: =+IF(AND(K23="CUMPLE",K24="CUMPLE",K25="CUMPLE"),"CUMPLE","NO CUMPLE") -> CUMPLE

Sheet LISTA DE PROPONENTES
A1: No. | B1: Proponente | C1: Empresa | D1: NIT
A2: 1 | B2: MENDOZA EQUIPOS | C2: MENDOZA EQUIPOS | D2: 900.374225-1
A3: 2 | B3: SERLECOM | C3: SERLECOM | D3: 800089897-4
A4: 3 | B4: UNIPLES | C4: UNIPLES | D4: 811021363-0
A5: 4 | B5: UT ELEMOVIL | C5: UT ELEMOVIL | D5: 800.229.279-4 Y 900.900.175-7
A6: 5 | B6: WM WIRELESS | C6: WM WIRELESS | D6: 800083486-3
A7: 6 | B7: XDC | C7: XORES DE COLOMBIA | D7: 830026811-0
A8: 7 | B8: YINA PAOLA LOMBANA | C8: YINA PAOLA LOMBANA | D8: 23216872-8
A9: 8 | B9: ISEC | C9: ISEC | D9: 860500630-6
