Workbook
Name \0: #REF!
Name \00: #REF!
Name \a: #REF!
Name \a: #REF!
Name \a: #REF!
Name \a: #REF!
Name \a: #REF!
Name \a: #REF!
Name \a: #REF!
Name \a: #REF!
Name \a: #REF!
Name \a: #REF!
Name \a: #REF!
Name \a: #REF!
Name \a: #REF!
Name \a: #REF!
Name \a: #REF!
Name \AA: [1]LIQUIDACION!#REF!
Name \b: [2]STRSUMM0!#REF!
Name \bb: [2]STRSUMM0!#REF!
Name \E: #REF!
Name \EE: #REF!
Name \G: #REF!
Name \k: '[3]7422CW00'!#REF!
Name \l: [4]STRSUMM0!#REF!
Name \M: #REF!
Name \ñ: '[5]7422CW00'!#REF!
Name \P: #REF!
Name \R: #REF!
Name \s: #REF!
Name \s: #REF!
Name \s: #REF!
Name \s: #REF!
Name \s: #REF!
Name \s: #REF!
Name \s: #REF!
Name \s: #REF!
Name \s: #REF!
Name \s: #REF!
Name \s: #REF!
Name \s: #REF!
Name \s: #REF!
Name \s: #REF!
Name \s: #REF!
Name \V: #REF!
Name \X: '14. P'!ERR
Name \X: '201.7'!ERR
Name \X: '211.1'!ERR
Name \X: '211.2P'!ERR
Name \X: '600.1.1'!ERR
Name \X: '610.1'!ERR
Name \X: '610.8'!ERR
Name \X: '630.1.4.1'!ERR
Name \X: '630.1.6'!ERR
Name \X: '640.1'!ERR
Name \X: '671.3'!ERR
Name \X: '673.1.1'!ERR
Name \X: '681.1'!ERR
Name \X: '900.3.1'!ERR
Name \X: [0]!ERR

Sheet PRESUPUESTO OFICIAL (Entidad)
C3: Formulario 1 - Propuesta económica - Documento tipo de mínima cuantía de obra pública de infraestructura de transporte - versión 2
C4: Código | D4: CCE-EICP-FM-32 | E4: Versión | F4: 2
C5: FORMULARIO 1
C6: PRESUPUESTO OFICIAL
C7: [La Entidad puede utilizar este formulario de detalle del presupuesto oficial para determinar las condiciones bajo las cuales los Proponentes analizarán y presentarán su propuesta económica de forma detallada, sin perjuicio que la Entidad pueda modificarlo o establecer la presentación de la oferta económica con un formulario distinto al indicado.] [El presente Formulario aplica para los Procesos de Contratación que tengan como forma de pago precios unitarios. Tratándose de otras modalidades de pago, la Entidad debe ajustarlo cuando corresponde a: precio global, llave en mano, administración delegada, reembolso de gastos o cualquier otra forma de pago.]
C9: Adicionalmente, cuando el proceso de contratación es estructurado por precios unitarios, la Entidad debe aplicar las notas 1, 2 y 3 del presente formulario y las casillas de "Descripción", "Porcentaje" de la Administración, Imprevisto, Utilidad y total A.I.U. resaltadas en color amarillo. Tratándose de otras modalidades de precio, la Entidad puede o no configurar los mismos aspectos.
C11: Nº | D11: ÍTEM DE PAGO | E11: ESPECIFICACIONES | G11: DESCRIPCIÓN | H11: UND. | I11: CANTIDAD | J11: VALOR UNITARIO (CON AIU Y SIN IVA SOBRE UTILIDAD DE LAS OBRAS) | K11: VALOR UNITARIO (CON AIU E INCLUYE IVA SOBRE UTILIDAD DE LAS OBRAS)
E12: GENERAL | F12: PARTICULAR
C14: 1 | D14: 201.7 | E14: 201-22 | G14: DEMOLICIÓN DE ESTRUCTURAS | H14: M3 | I14: 1 | J14: =+'201.7'!O69 -> 259945 | K14: =ROUND(J14+((J14/(1+$K$39))*$K$38*19%),0) -> 261845 | Q14: =+I14*J14 -> 259945
C15: 2 | D15: 211.1 | E15: 211-22 | G15: REMOCIÓN DE DERRUMBES | H15: M3 | I15: 1 | J15: =+'211.1'!O69 -> 21361 | K15: =ROUND(J15+((J15/(1+$K$39))*$K$38*19%),0) -> 21517 | Q15: =+I15*J15 -> 21361
C16: 3 | D16: 211.2P | E16: 211-22 | F16: 211.2P | G16: REMOCIÓN DE DERRUMBES-Con Retrocargador (Pajarita) | H16: M3 | I16: 1 | J16: =+'211.2P'!O74 -> 19153 | K16: =ROUND(J16+((J16/(1+$K$39))*$K$38*19%),0) -> 19293 | Q16: =+I16*J16 -> 19153
C17: 4 | D17: 600.1.1 | E17: 600-22 | G17: EXCAVACIONES VARIAS SIN CLASIFICAR | H17: M3 | I17: 1 | J17: =+'600.1.1'!O69 -> 77876 | K17: =ROUND(J17+((J17/(1+$K$39))*$K$38*19%),0) -> 78445 | Q17: =+I17*J17 -> 77876
C18: 5 | D18: 610.1 | E18: 610-22 | G18: RELLENOS PARA ESTRUCTURAS CON SUELO | H18: M3 | I18: 1 | J18: =+'610.1'!O74 -> 266167 | K18: =ROUND(J18+((J18/(1+$K$39))*$K$38*19%),0) -> 268112 | Q18: =+I18*J18 -> 266167
C19: 6 | D19: 610.8 | E19: 610-22 | G19: RELLENOS CON MATERIAL FILTRANTE | H19: M3 | I19: 1 | J19: =+'610.8'!O74 -> 312544 | K19: =ROUND(J19+((J19/(1+$K$39))*$K$38*19%),0) -> 314828 | Q19: =+I19*J19 -> 312544
C20: 7 | D20: 630.1.4.1 | E20: 630-22 | G20: CONCRETO REFORZADO RESISTENCIA 21MPA | H20: M3 | I20: 1 | J20: =+'630.1.4.1'!O74 -> 1097916 | K20: =ROUND(J20+((J20/(1+$K$39))*$K$38*19%),0) -> 1105939 | Q20: =+I20*J20 -> 1097916
C21: 8 | D21: 630.1.6 | E21: 630-22 | G21: CONCRETO REFORZADO RESISTENCIA 14 MPA | H21: M3 | I21: 1 | J21: =+'630.1.6'!O74 -> 797255 | K21: =ROUND(J21+((J21/(1+$K$39))*$K$38*19%),0) -> 803081 | Q21: =+I21*J21 -> 797255
C22: 9 | D22: 640.1 | E22: 640-22 | G22: ACERO DE REFUERZO fy = 420 Mpa | H22: KG | I22: 1 | J22: =+'640.1'!O70 -> 8854 | K22: =ROUND(J22+((J22/(1+$K$39))*$K$38*19%),0) -> 8919 | Q22: =+I22*J22 -> 8854
C23: 10 | D23: 671.3 | E23: 671-22 | G23: CUNETA DE CONCRETO VACIADA IN SITU; INCLUYE LA CONFORMACIÓN DE LA SUPERFICIE DE APOYO | H23: M3 | I23: 1 | J23: =+'671.3'!O75 -> 925830 | K23: =ROUND(J23+((J23/(1+$K$39))*$K$38*19%),0) -> 932596 | Q23: =+I23*J23 -> 925830
C24: 11 | D24: 673.1.1 | E24: 673-22 | G24: GEOTEXTIL TIPO NO TEJIDO CON RESISTENCIA A LA TENSION GRAB MINIMA DE 700N | H24: M2 | I24: 1 | J24: =+'673.1.1'!O75 -> 27680 | K24: =ROUND(J24+((J24/(1+$K$39))*$K$38*19%),0) -> 27882 | Q24: =+I24*J24 -> 27680
C25: 12 | D25: 681.1 | E25: 681-22 | G25: GAVIONES O COLCHOGAVIONES DE MALLA DE ALAMBRE DE ACERO ENTRELAZADO ESTILO 1: RECUBRIMIENTO DE ZINC (GALVANIZADO) | H25: M3 | I25: 1 | J25: =+'681.1'!O75 -> 502445 | K25: =ROUND(J25+((J25/(1+$K$39))*$K$38*19%),0) -> 506117 | Q25: =+I25*J25 -> 502445
C26: 13 | D26: 900.3 | E26: 900-22 | G26: TRANSPORTE DE MATERIALES PROVENIENTES DE DERRUMBES, MEDIDO A PARTIR DE CIEN METROS (100 m). | H26: M3-KM | I26: 1 | J26: =+'900.3.1'!O75 -> 1785 | K26: =ROUND(J26+((J26/(1+$K$39))*$K$38*19%),0) -> 1798 | Q26: =+I26*J26 -> 1785
C27: 14 | D27: P | G27: MEZCLA ASFALTICA FABRICADA EN CALIENTE Y APLICADA EN FRIO PARA BACHEO | H27: KG | I27: 1 | J27: =+'14. P'!O75 -> 9843 | K27: =ROUND(J27+((J27/(1+$K$39))*$K$38*19%),0) -> 9915 | Q27: =+I27*J27 -> 9843
C28: SUMATORIA DE PRECIOS UNITARIOS OFICIALES (CON AIU E INCLUYE IVA SOBRE LA UTILIDAD DE LAS OBRAS) Para comparación del total de precios unitarios ver Nota 4 del Formulario No. 1 | K28: =+SUM(K14:K27) -> 4360287 | Q28: =SUM(Q14:Q27) -> 4328654 | U28: 89347079 | V28: =+#REF!-U28 -> #REF!
G30: VALOR TOTAL BÁSICO "HABILITAR Y/O BRINDAR TRANSITABILIDAD EN LA RED VIAL A CARGO DEL INVIAS, A TRAVÉS DEL SISTEMA DE MONTO AGOTABLE, EN LAS VÍAS A CARGO DE LA DIRECCIÓN TERRITORIAL QUINDIO" (CON AIU Y SIN IVA SOBRE UTILIDAD DE LAS OBRAS) | J30: NO MODIFICAR | K30: 138984345
G31: VALOR IVA ("HABILITAR Y/O BRINDAR TRANSITABILIDAD EN LA RED VIAL A CARGO DEL INVIAS, A TRAVÉS DEL SISTEMA DE MONTO AGOTABLE, EN LAS VÍAS A CARGO DE LA DIRECCIÓN TERRITORIAL QUINDIO") (19% SOBRE UTILIDAD) | J31: NO MODIFICAR | K31: =ROUND((K30/1.3)*0.05*0.19,0) -> 1015655 | P31: 138984345
G32: VALOR TOTAL "HABILITAR Y/O BRINDAR TRANSITABILIDAD EN LA RED VIAL A CARGO DEL INVIAS, A TRAVÉS DEL SISTEMA DE MONTO AGOTABLE, EN LAS VÍAS A CARGO DE LA DIRECCIÓN TERRITORIAL QUINDIO" (CON AIU E INCLUYE IVA SOBRE UTILIDAD DE LAS OBRAS) | J32: NO MODIFICAR | K32: =+K30+K31 -> 140000000 | Q32: =+ROUND((K30/1.3)*0.05*0.19,0) -> 1015655
P33: =140000000-K32 -> 0
C35: NOTA 1: Se debe tener en cuenta que el PRECIO UNITARIO incluye el valor de AIU. | H35: DESCRIPCION | K35: PORCENTAJE
C36: NOTA 2: Cuando la fracción decimal del peso sea igual o superior a 5 se aproximará por exceso al número entero siguiente del peso y cuando la fracción decimal del peso sea inferior a 5 se aproximará por defecto al número entero del peso. | H36: ADMINISTRACIÓN | J36: A= | K36: 0.2
C37: NOTA 3: El AIU y su discriminación deben estar en porcentaje (%). | H37: IMPREVISTO | J37: I= | K37: 0.05
C38: NOTA 4: Para todos los efectos de la ponderación de las propuestas económicas a la que se refiere el pliego de condiciones se entenderá como “Valor Total de la Propuesta Económica” la sumatoria de todos los precios unitarios incluyendo el IVA sobre la utilidad de las obras ofertados por el proponente para cada una de las actividades descritas en el Formulario 1 – Propuesta económica. | H38: UTILIDAD | J38: U= | K38: 0.05
C39: NOTA 5: En ningún caso los valores unitarios ofertados incluyendo el IVA sobre la utilidad de las obras podrán superar el valor unitario oficial que incluye el IVA sobre la utilidad de las obras, so pena del rechazo de la oferta. | H39: TOTAL A.I.U | J39: A.I.U.= | K39: 0.3
C40: NOTA 6: Los valores que aparecen como "NO MODIFICAR" no podrán alterarse, de lo contrario, será causal de rechazo de la propuesta que hace parte integral del presente proceso, conforme al numeral 1.15 del pliego de condiciones.

Sheet PROPUESTA ECONOMICA(Proponente)
C3: Formulario 1 - Propuesta económica - Documento tipo de mínima cuantía de obra pública de infraestructura de transporte - versión 2
C4: Código | D4: CCE-EICP-FM-32 | E4: Versión | F4: 2
C5: FORMULARIO 1
C6: PROPUESTA ECONÓMICA
C7: [ El Proponente puede usar el presente formulario de presentación para determinar su propuesta económica conforme al Formulario 1 - Presupuesto Oficial por la Entidad]
C9: Cuando el proceso de contratación es estructurado por Precios Unitarios, la Entidad debe aplicar las notas 1, 2 y 3 del presente formato y las casillas de "Descripción", "Porcentaje" de la Administración, Imprevisto, Utilidad y total A.I.U. resaltadas en color amarillo.
C11: Nº | D11: ÍTEM DE PAGO | E11: ESPECIFICACIONES | G11: DESCRIPCIÓN | H11: UND. | I11: CANTIDAD | J11: VALOR UNITARIO (CON AIU Y SIN IVA SOBRE UTILIDAD DE LAS OBRAS) | K11: VALOR UNITARIO (CON AIU E INCLUYE IVA SOBRE UTILIDAD DE LAS OBRAS)
E12: GENERAL | F12: PARTICULAR
C14: 1 | D14: 201.7 | E14: 201-22 | G14: DEMOLICIÓN DE ESTRUCTURAS | H14: M3 | I14: 1
C15: 2 | D15: 211.1 | E15: 211-22 | G15: REMOCIÓN DE DERRUMBES | H15: M3 | I15: 1
C16: 3 | D16: 211.2P | E16: 211-22 | F16: 211.2P | G16: REMOCIÓN DE DERRUMBES-Con Retrocargador (Pajarita) | H16: M3 | I16: 1
C17: 4 | D17: 600.1.1 | E17: 600-22 | G17: EXCAVACIONES VARIAS SIN CLASIFICAR | H17: M3 | I17: 1
C18: 5 | D18: 610.1 | E18: 610-22 | G18: RELLENOS PARA ESTRUCTURAS CON SUELO | H18: M3 | I18: 1
C19: 6 | D19: 610.8 | E19: 610-22 | G19: RELLENOS CON MATERIAL FILTRANTE | H19: M3 | I19: 1
C20: 7 | D20: 630.1.4.1 | E20: 630-22 | G20: CONCRETO REFORZADO RESISTENCIA 21MPA | H20: M3 | I20: 1
C21: 8 | D21: 630.1.6 | E21: 630-22 | G21: CONCRETO REFORZADO RESISTENCIA 14 MPA | H21: M3 | I21: 1
C22: 9 | D22: 640.1 | E22: 640-22 | G22: ACERO DE REFUERZO fy = 4200 Mpa | H22: KG | I22: 1
C23: 10 | D23: 671.3 | E23: 671-22 | G23: CUNETA DE CONCRETO VACIADA IN SITU; INCLUYE LA CONFORMACIÓN DE LA SUPERFICIE DE APOYO | H23: M3 | I23: 1
C24: 11 | D24: 673.1.1 | E24: 673-22 | G24: GEOTEXTIL TIPO NO TEJIDO CON RESISTENCIA A LA TENSION GRAB MINIMA DE 700N | H24: M2 | I24: 1
C25: 12 | D25: 681.1 | E25: 681-22 | G25: GAVIONES O COLCHOGAVIONES DE MALLA DE ALAMBRE DE ACERO ENTRELAZADO ESTILO 1: RECUBRIMIENTO DE ZINC (GALVANIZADO) | H25: M3 | I25: 1
C26: 13 | D26: 900.3 | E26: 900-22 | G26: TRANSPORTE DE MATERIALES PROVENIENTES DE DERRUMBES, MEDIDO A PARTIR DE CIEN METROS (100 m). | H26: M3-KM | I26: 1
C27: 14 | D27: P | G27: MEZCLA ASFALTICA FABRICADA EN CALIENTE Y APLICADA EN FRIO PARA BACHEO | H27: KG | I27: 1
C28: SUMATORIA DE PRECIOS UNITARIOS OFICIALES (CON AIU E INCLUYE IVA SOBRE LA UTILIDAD DE LAS OBRAS) Para comparación del total de precios unitarios ver Nota 4 del Formulario No. 1
G30: VALOR TOTAL BÁSICO "HABILITAR Y/O BRINDAR TRANSITABILIDAD EN LA RED VIAL A CARGO DEL INVIAS, A TRAVÉS DEL SISTEMA DE MONTO AGOTABLE, EN LAS VÍAS A CARGO DE LA DIRECCIÓN TERRITORIAL QUINDIO" (CON AIU Y SIN IVA SOBRE UTILIDAD DE LAS OBRAS) | J30: NO MODIFICAR
G31: VALOR IVA ("HABILITAR Y/O BRINDAR TRANSITABILIDAD EN LA RED VIAL A CARGO DEL INVIAS, A TRAVÉS DEL SISTEMA DE MONTO AGOTABLE, EN LAS VÍAS A CARGO DE LA DIRECCIÓN TERRITORIAL QUINDIO") (19% SOBRE UTILIDAD) | J31: NO MODIFICAR
G32: VALOR TOTAL "HABILITAR Y/O BRINDAR TRANSITABILIDAD EN LA RED VIAL A CARGO DEL INVIAS, A TRAVÉS DEL SISTEMA DE MONTO AGOTABLE, EN LAS VÍAS A CARGO DE LA DIRECCIÓN TERRITORIAL QUINDIO" (CON AIU E INCLUYE IVA SOBRE UTILIDAD DE LAS OBRAS) | J32: NO MODIFICAR
C35: NOTA 1: Se debe tener en cuenta que el PRECIO UNITARIO incluye el valor de AIU. | H35: DESCRIPCIÓN | K35: PORCENTAJE
C36: NOTA 2: Cuando la fracción decimal del peso sea igual o superior a 5 se aproximara por exceso al número entero siguiente del peso y cuando la fracción decimal del peso sea inferior a 5 se aproximará por defecto al número entero del peso. | H36: ADMINISTRACIÓN | J36: A= | K36: [Ofrecimiento del Proponente]
C37: NOTA 3: El AIU y su discriminación deben estar en porcentaje (%). | H37: IMPREVISTO | J37: I= | K37: [Ofrecimiento del Proponente]
C38: NOTA 4: Para todos los efectos de la ponderación de las propuestas económicas a la que se refiere el pliego de condiciones se entenderá como “Valor Total de la Propuesta Económica” la sumatoria de todos los precios unitarios incluyendo el IVA sobre la utilidad de las obras ofertados por el proponente para cada una de las actividades descritas en el Formulario 1 – Propuesta económica. | H38: UTILIDAD | J38: U= | K38: [Ofrecimiento del Proponente]
C39: NOTA 5: En ningún caso los valores unitarios ofertados incluyendo el IVA sobre la utilidad de las obras podrán superar el valor unitario oficial que incluye el IVA sobre la utilidad de las obras, so pena del rechazo de la oferta. | H39: TOTAL A.I.U | J39: A.I.U.= | K39: [Ofrecimiento del Proponente]
C40: NOTA 6: Los valores que aparecen como "NO MODIFICAR" no podrán alterarse, de lo contrario, será causal de rechazo de la propuesta que hace parte integral del presente proceso, conforme al numeral 1.15 del pliego de condiciones.
G43: Firma del Proponente o de su Representante Legal

Sheet 201.7
C3: Formulario 1 - Propuesta económica - Documento tipo de mínima cuantía de obra pública de infraestructura de transporte - versión 2
C4: Código | D4: CCE-EICP-FM-32 | E4: Versión | F4: 2
C6: [La entidad podrá utilizar este formato para la presentación de los análisis de Precios Unitarios del Contratista en la oportunidad prevista en el numeral 8.2. de la invitación]
D9: INSTITUTO NACIONAL DE VÍAS – INVÍAS
L10: VERSIÓN
D11: IP-DT-QUI-003-2025
L12: PÁGINA | M12: 1 | N12: DE | O12: 1
D14: ANALISIS DE PRECIOS UNITARIOS
L16: FECHA | M16: DD | N16: MM | O16: AA
C18: ÍTEMS DE LA PROPUESTA ECONÓMICA | I18: ÍTEMS NO PREVISTOS
C22: DATOS ESPECÍFICOS
C24: ÍTEM | D24: DESCRIPCIÓN | M24: UNIDAD | O24: CANTIDAD
C25: 201.7 | D25: DEMOLICIÓN DE ESTRUCTURAS | M25: m3
C26: I. EQUIPO
C29: DESCRIPCIÓN | H29: MARCA | J29: TIPO | L29: TARIFA/HORA | M29: RENDIMIENTO | O29: Vr. UNITARIO
C30: Retroexcavadora sobre oruga, potencia 158 kw, balde de 1.5 m3 | L30: 260850 | M30: 0.4 | O30: =+L30*M30 -> 104340
C31: Compresor portátil de 70 a 120 HP, con martillo | L31: 47125 | M31: 0.4 | O31: =+L31*M31 -> 18850
C32: Equipo de oxicorte y soldadura, capacidad de corte 6"-14" | L32: 3462 | M32: 0.4 | O32: =+L32*M32 -> 1384.8
C33: HERRAMIENTA MENOR (%) | M33: 0.05 | O33: =+M33*O57 -> 741.54165
C34: SUBTOTAL $ | O34: =SUM(O30:O33) -> 125316.34
C35: II. MATERIALES
C38: DESCRIPCIÓN | K38: UNIDAD | L38: CANTIDAD | M38: PRECIO UNIT. | O38: Vr. UNITARIO
C39: Derechos de conformación y/o disposición de materiales sobrantes (Incluye todos los costos inherentes a las posibles obras requeridas en los sitios de disposición de sobrantes) | K39: m3 | L39: 1.4 | M39: 8106.44 | O39: =+L39*M39 -> 11349.016
C41: SUBTOTAL $ | O41: =SUM(O39:O40) -> 11349.016
C42: III. TRANSPORTES
C45: MATERIAL | J45: VOL. o PESO | K45: DISTANCIA | L45: M3 o Ton/Km | M45: TARIFA | O45: Vr. UNITARIO
C46: Transporte de material de demolición | J46: 1.4 | K46: 15 | L46: =+J46*K46 -> 21 | M46: 2307.69 | O46: =+L46*M46 -> 48461.49
C48: SUBTOTAL $ | O48: =SUM(O46:O47) -> 48461.49
C49: IV. MANO DE OBRA
C52: TRABAJADOR | J52: JORNAL | K52: PRESTACIONES | L52: JORNAL TOTAL | M52: RENDIMIENTO | O52: Vr. UNITARIO
C53: Obrero (2) | J53: =L53/K53*100 -> 86666.665 | K53: 185 | L53: 160333.33 | M53: 20 | O53: =L53/M53 -> 8016.6665
C54: Oficial | J54: =L54/K54*100 -> 73666.665 | K54: 185 | L54: 136283.33 | M54: 20 | O54: =L54/M54 -> 6814.1665
C57: SUBTOTAL $ | O57: =SUM(O53:O56) -> 14830.833
C59: TOTAL COSTO DIRECTO $ | O59: =+O57+O48+O41+O34 -> 199957.68
C60: V. COSTOS INDIRECTOS
C63: Descripción | L63: Porcentaje | M63: Valor Total
C64: ADMINISTRACION | L64: 0.2 | M64: =+L64*O59 -> 39991.536
C65: IMPREVISTOS | L65: 0.05 | M65: =+L65*O59 -> 9997.884
C66: UTILIDAD | L66: 0.05 | M66: =+L66*O59 -> 9997.884
C67: SUBTOTAL $ | O67: =+SUM(M64:N66) -> 59987.304
...

Sheet 211.1
C3: Formulario 1 - Propuesta económica - Documento tipo de mínima cuantía de obra pública de infraestructura de transporte - versión 2
C4: Código | D4: CCE-EICP-FM-32 | E4: Versión | F4: 2
C6: [La entidad podrá utilizar este formato para la presentación de los análisis de Precios Unitarios del Contratista en la oportunidad prevista en el numeral 8.2. de la invitación]
D9: INSTITUTO NACIONAL DE VÍAS – INVÍAS
L10: VERSIÓN
D11: IP-DT-QUI-003-2025
L12: PÁGINA | M12: 1 | N12: DE | O12: 1
D14: ANALISIS DE PRECIOS UNITARIOS
L16: FECHA | M16: DD | N16: MM | O16: AA
C18: ÍTEMS DE LA PROPUESTA ECONÓMICA | I18: ÍTEMS NO PREVISTOS
C22: DATOS ESPECÍFICOS
C24: ÍTEM | D24: DESCRIPCIÓN | M24: UNIDAD | O24: CANTIDAD
C25: 211.1 | D25: REMOCIÓN DE DERRUMBES | M25: m3
C26: I. EQUIPO
C29: DESCRIPCIÓN | H29: MARCA | J29: TIPO | L29: TARIFA/HORA | M29: RENDIMIENTO | O29: Vr. UNITARIO
C30: Cargador: potencia en el volante 110 hp, clasificación de rpm del motor 2300 | L30: 142800 | M30: 0.02312 | O30: =+L30*M30 -> 3301.536
C31: Retroexcavadora sobre oruga, potencia 158 kw, balde de 1.5 m3 | L31: 260850 | M31: 0.017393 | O31: =+L31*M31 -> 4536.964
O32: =+L32*M32 -> 0
C33: HERRAMIENTA MENOR (%) | M33: 0.05 | O33: =+M33*O57 -> 23.169556
C34: SUBTOTAL $ | O34: =SUM(O30:O33) -> 7861.6696
C35: II. MATERIALES
C38: DESCRIPCIÓN | K38: UNIDAD | L38: CANTIDAD | M38: PRECIO UNIT. | O38: Vr. UNITARIO
C39: Derechos de conformación y/o disposición de materiales sobrantes (Incluye todos los costos inherentes a las posibles obras requeridas en los sitios de disposición de sobrantes) | K39: m3 | L39: 1 | M39: 8106.44 | O39: =+L39*M39 -> 8106.44
C41: SUBTOTAL $ | O41: =SUM(O39:O40) -> 8106.44
C42: III. TRANSPORTES
C45: MATERIAL | J45: VOL. o PESO | K45: DISTANCIA | L45: M3 o Ton/Km | M45: TARIFA | O45: Vr. UNITARIO
O46: =+L46*M46 -> 0
C48: SUBTOTAL $ | O48: =SUM(O46:O47) -> 0
C49: IV. MANO DE OBRA
C52: TRABAJADOR | J52: JORNAL | K52: PRESTACIONES | L52: JORNAL TOTAL | M52: RENDIMIENTO | O52: Vr. UNITARIO
C53: Obrero (2) | J53: =L53/K53*100 -> 86666.665 | K53: 185 | L53: 160333.33 | M53: 346 | O53: =L53/M53 -> 463.39113
C57: SUBTOTAL $ | O57: =SUM(O53:O56) -> 463.39113
C59: TOTAL COSTO DIRECTO $ | O59: =+O57+O48+O41+O34 -> 16431.501
C60: V. COSTOS INDIRECTOS
C63: Descripción | L63: Porcentaje | M63: Valor Total
C64: ADMINISTRACION | L64: 0.2 | M64: =+L64*O59 -> 3286.3001
C65: IMPREVISTOS | L65: 0.05 | M65: =+L65*O59 -> 821.57504
C66: UTILIDAD | L66: 0.05 | M66: =+L66*O59 -> 821.57504
C67: SUBTOTAL $ | O67: =+SUM(M64:N66) -> 4929.4502
C69: Precio Unitario Total Aproximado al peso $ | O69: =ROUND(O59+O67,0) -> 21361
...

Sheet 211.2P
C3: Formulario 1 - Propuesta económica - Documento tipo de mínima cuantía de obra pública de infraestructura de transporte - versión 2
C4: Código | D4: CCE-EICP-FM-32 | E4: Versión | F4: 2
C6: [La entidad podrá utilizar este formato para la presentación de los análisis de Precios Unitarios del Contratista en la oportunidad prevista en el numeral 8.2. de la invitación]
D9: INSTITUTO NACIONAL DE VÍAS – INVÍAS
L10: VERSIÓN
D11: IP-DT-QUI-003-2025
L12: PÁGINA | M12: 1 | N12: DE | O12: 1
D14: ANALISIS DE PRECIOS UNITARIOS
L16: FECHA | M16: DD | N16: MM | O16: AA
C18: ÍTEMS DE LA PROPUESTA ECONÓMICA | I18: ÍTEMS NO PREVISTOS
C22: DATOS ESPECÍFICOS
C24: ÍTEM | D24: DESCRIPCIÓN | M24: UNIDAD | O24: CANTIDAD
C25: 211.2P | D25: REMOCIÓN DE DERRUMBES-Con Retrocargador (Pajarita) | M25: m3
C26: I. EQUIPO
C29: DESCRIPCIÓN | H29: MARCA | J29: TIPO | L29: TARIFA/HORA | M29: RENDIMIENTO | O29: Vr. UNITARIO
C30: Retroexcavadora sobre llantas cargadora similar al tipo CAT 416 (Pot. Bruta 88 hp/66 kw) o superior | L30: 157700 | M30: 0.034 | O30: =+L30*M30 -> 5361.8
O31: =+L31*M31 -> 0
O32: =+L32*M32 -> 0
C33: HERRAMIENTA MENOR (%) | M33: 0.01 | O33: =+M33*O62 -> 12.526041
C34: SUBTOTAL $ | O34: =SUM(O30:O33) -> 5374.326
C35: II. MATERIALES
C38: DESCRIPCIÓN | K38: UNIDAD | L38: CANTIDAD | M38: PRECIO UNIT. | O38: Vr. UNITARIO
C39: Derechos de conformación y/o disposición de materiales sobrantes (Incluye todos los costos inherentes a las posibles obras requeridas en los sitios de disposición de sobrantes) | K39: m3 | L39: 1 | M39: 8106.44 | O39: =+L39*M39 -> 8106.44
O40: =+L40*M40 -> 0
O41: =+L41*M41 -> 0
O42: =+L42*M42 -> 0
O43: =+L43*M43 -> 0
O44: =+L44*M44 -> 0
C46: SUBTOTAL $ | O46: =SUM(O39:O45) -> 8106.44
C47: III. TRANSPORTES
C50: MATERIAL | J50: VOL. o PESO | K50: DISTANCIA | L50: M3 o Ton/Km | M50: TARIFA | O50: Vr. UNITARIO
O51: =+L51*M51 -> 0
C53: SUBTOTAL $ | O53: =SUM(O51:O52) -> 0
C54: IV. MANO DE OBRA
C57: TRABAJADOR | J57: JORNAL | K57: PRESTACIONES | L57: JORNAL TOTAL | M57: RENDIMIENTO | O57: Vr. UNITARIO
C58: Obrero (2) | J58: =L58/K58*100 -> 86666.665 | K58: 185 | L58: 160333.33 | M58: 128 | O58: =L58/M58 -> 1252.6041
O59: 0
C62: SUBTOTAL $ | O62: =SUM(O58:O61) -> 1252.6041
C64: TOTAL COSTO DIRECTO $ | O64: =+O62+O53+O46+O34 -> 14733.37
C65: V. COSTOS INDIRECTOS
...

Sheet 600.1.1
C3: Formulario 1 - Propuesta económica - Documento tipo de mínima cuantía de obra pública de infraestructura de transporte - versión 2
C4: Código | D4: CCE-EICP-FM-32 | E4: Versión | F4: 2
C6: [La entidad podrá utilizar este formato para la presentación de los análisis de Precios Unitarios del Contratista en la oportunidad prevista en el numeral 8.2. de la invitación]
D9: INSTITUTO NACIONAL DE VÍAS – INVÍAS
L10: VERSIÓN
D11: IP-DT-QUI-003-2025
L12: PÁGINA | M12: 1 | N12: DE | O12: 1
D14: ANALISIS DE PRECIOS UNITARIOS
L16: FECHA | M16: DD | N16: MM | O16: AA
C18: ÍTEMS DE LA PROPUESTA ECONÓMICA | I18: ÍTEMS NO PREVISTOS
C22: DATOS ESPECÍFICOS
C24: ÍTEM | D24: DESCRIPCIÓN | M24: UNIDAD | O24: CANTIDAD
C25: 600.1.1 | D25: EXCAVACIONES VARIAS SIN CLASIFICAR | M25: m3
C26: I. EQUIPO
C29: DESCRIPCIÓN | H29: MARCA | J29: TIPO | L29: TARIFA/HORA | M29: RENDIMIENTO | O29: Vr. UNITARIO
C30: Compresor portátil de 70 a 120 HP, con martillo | L30: 47125 | M30: 0.04 | O30: =+L30*M30 -> 1885
C31: Retroexcavadora sobre oruga, potencia 158 kw, balde de 1.5 m3 | L31: 260850 | M31: 0.04 | O31: =+L31*M31 -> 10434
O32: =+L32*M32 -> 0
C33: HERRAMIENTA MENOR (%) | M33: 0.05 | O33: =+M33*O57 -> 74.154165
C34: SUBTOTAL $ | O34: =SUM(O30:O33) -> 12393.154
C35: II. MATERIALES
C38: DESCRIPCIÓN | K38: UNIDAD | L38: CANTIDAD | M38: PRECIO UNIT. | O38: Vr. UNITARIO
C39: Derecho de explotación y/o disposición de materiales | K39: m3 | L39: 1.3 | M39: 8106.44 | O39: =+L39*M39 -> 10538.372
C41: SUBTOTAL $ | O41: =SUM(O39:O40) -> 10538.372
C42: III. TRANSPORTES
C45: MATERIAL | J45: VOL. o PESO | K45: DISTANCIA | L45: M3 o Ton/Km | M45: TARIFA | O45: Vr. UNITARIO
C46: Transporte de material de excavación | J46: 1.3 | K46: 15 | L46: =+J46*K46 -> 19.5 | M46: 1820 | O46: =+L46*M46 -> 35490
C48: SUBTOTAL $ | O48: =SUM(O46:O47) -> 35490
C49: IV. MANO DE OBRA
C52: TRABAJADOR | J52: JORNAL | K52: PRESTACIONES | L52: JORNAL TOTAL | M52: RENDIMIENTO | O52: Vr. UNITARIO
C53: Obrero (2) | J53: =L53/K53*100 -> 86666.665 | K53: 185 | L53: 160333.33 | M53: 200 | O53: =L53/M53 -> 801.66665
C54: Oficial | J54: =L54/K54*100 -> 73666.665 | K54: 185 | L54: 136283.33 | M54: 200 | O54: =L54/M54 -> 681.41665
C57: SUBTOTAL $ | O57: =SUM(O53:O56) -> 1483.0833
C59: TOTAL COSTO DIRECTO $ | O59: =+O57+O48+O41+O34 -> 59904.609
C60: V. COSTOS INDIRECTOS
C63: Descripción | L63: Porcentaje | M63: Valor Total
C64: ADMINISTRACION | L64: 0.2 | M64: =+L64*O59 -> 11980.922
C65: IMPREVISTOS | L65: 0.05 | M65: =+L65*O59 -> 2995.2305
C66: UTILIDAD | L66: 0.05 | M66: =+L66*O59 -> 2995.2305
C67: SUBTOTAL $ | O67: =+SUM(M64:N66) -> 17971.383
...

Sheet 610.1
C3: Formulario 1 - Propuesta económica - Documento tipo de mínima cuantía de obra pública de infraestructura de transporte - versión 2
C4: Código | D4: CCE-EICP-FM-32 | E4: Versión | F4: 2
C6: [La entidad podrá utilizar este formato para la presentación de los análisis de Precios Unitarios del Contratista en la oportunidad prevista en el numeral 8.2. de la invitación]
D9: INSTITUTO NACIONAL DE VÍAS – INVÍAS
L10: VERSIÓN
D11: IP-DT-QUI-003-2025
L12: PÁGINA | M12: 1 | N12: DE | O12: 1
D14: ANALISIS DE PRECIOS UNITARIOS
L16: FECHA | M16: DD | N16: MM | O16: AA
C18: ÍTEMS DE LA PROPUESTA ECONÓMICA | I18: ÍTEMS NO PREVISTOS
C22: DATOS ESPECÍFICOS
C24: ÍTEM | D24: DESCRIPCIÓN | M24: UNIDAD | O24: CANTIDAD
C25: 610.1 | D25: RELLENOS PARA ESTRUCTURAS CON SUELO | M25: m3
C26: I. EQUIPO
C29: DESCRIPCIÓN | H29: MARCA | J29: TIPO | L29: TARIFA/HORA | M29: RENDIMIENTO | O29: Vr. UNITARIO
C30: Compactador manual (saltarín) peso de operación (kg.) 52, fuerza de impacto por golpe (KN) 12 | L30: 6700 | M30: 0.3745 | O30: =+L30*M30 -> 2509.15
O31: =+L31*M31 -> 0
O32: =+L32*M32 -> 0
C33: HERRAMIENTA MENOR (%) | M33: 0.05 | O33: =+M33*O62 -> 1087.9762
C34: SUBTOTAL $ | O34: =SUM(O30:O33) -> 3597.1262
C35: II. MATERIALES
C38: DESCRIPCIÓN | K38: UNIDAD | L38: CANTIDAD | M38: PRECIO UNIT. | O38: Vr. UNITARIO
C39: Material seleccionado para relleno | K39: m3 | L39: 1.3 | M39: 63070 | O39: =+L39*M39 -> 81991
C40: Agua | K40: L | L40: 30 | M40: 91.87 | O40: =+L40*M40 -> 2756.1
O41: =+L41*M41 -> 0
O42: =+L42*M42 -> 0
O43: =+L43*M43 -> 0
O44: =+L44*M44 -> 0
C46: SUBTOTAL $ | O46: =SUM(O39:O45) -> 84747.1
C47: III. TRANSPORTES
C50: MATERIAL | J50: VOL. o PESO | K50: DISTANCIA | L50: M3 o Ton/Km | M50: TARIFA | O50: Vr. UNITARIO
C51: Transporte de material de relleno | J51: 1.3 | K51: 40 | L51: =+J51*K51 -> 52 | M51: 1820 | O51: =+L51*M51 -> 94640
C53: SUBTOTAL $ | O53: =SUM(O51:O52) -> 94640
C54: IV. MANO DE OBRA
C57: TRABAJADOR | J57: JORNAL | K57: PRESTACIONES | L57: JORNAL TOTAL | M57: RENDIMIENTO | O57: Vr. UNITARIO
C58: Obrero (4) | J58: =L58/K58*100 -> 173333.34 | K58: 185 | L58: 320666.67 | M58: 21 | O58: =L58/M58 -> 15269.841
C59: Oficial | J59: =L59/K59*100 -> 73666.665 | K59: 185 | L59: 136283.33 | M59: 21 | O59: =L59/M59 -> 6489.6824
C62: SUBTOTAL $ | O62: =SUM(O58:O61) -> 21759.524
C64: TOTAL COSTO DIRECTO $ | O64: =+O62+O53+O46+O34 -> 204743.75
C65: V. COSTOS INDIRECTOS
...

Sheet 610.8
C3: Formulario 1 - Propuesta económica - Documento tipo de mínima cuantía de obra pública de infraestructura de transporte - versión 2
C4: Código | D4: CCE-EICP-FM-32 | E4: Versión | F4: 2
C6: [La entidad podrá utilizar este formato para la presentación de los análisis de Precios Unitarios del Contratista en la oportunidad prevista en el numeral 8.2. de la invitación]
D9: INSTITUTO NACIONAL DE VÍAS – INVÍAS
L10: VERSIÓN
D11: IP-DT-QUI-003-2025
L12: PÁGINA | M12: 1 | N12: DE | O12: 1
D14: ANALISIS DE PRECIOS UNITARIOS
L16: FECHA | M16: DD | N16: MM | O16: AA
C18: ÍTEMS DE LA PROPUESTA ECONÓMICA | I18: ÍTEMS NO PREVISTOS
C22: DATOS ESPECÍFICOS
C24: ÍTEM | D24: DESCRIPCIÓN | M24: UNIDAD | O24: CANTIDAD
C25: 610.8 | D25: RELLENOS CON MATERIAL FILTRANTE | M25: m3
C26: I. EQUIPO
C29: DESCRIPCIÓN | H29: MARCA | J29: TIPO | L29: TARIFA/HORA | M29: RENDIMIENTO | O29: Vr. UNITARIO
C30: Compactador manual vibratorio (rana) con motor de 6 hp | L30: 6532 | M30: 0.4 | O30: =+L30*M30 -> 2612.8
O31: =+L31*M31 -> 0
O32: =+L32*M32 -> 0
C33: HERRAMIENTA MENOR (%) | M33: 0.05 | O33: =+M33*O62 -> 601.25
C34: SUBTOTAL $ | O34: =SUM(O30:O33) -> 3214.05
C35: II. MATERIALES
C38: DESCRIPCIÓN | K38: UNIDAD | L38: CANTIDAD | M38: PRECIO UNIT. | O38: Vr. UNITARIO
C39: Material filtrante MF-150 de 6" | K39: m3 | L39: 1.3 | M39: 67015.134 | O39: =+L39*M39 -> 87119.674
O40: =+L40*M40 -> 0
O41: =+L41*M41 -> 0
O42: =+L42*M42 -> 0
O43: =+L43*M43 -> 0
O44: =+L44*M44 -> 0
C46: SUBTOTAL $ | O46: =SUM(O39:O45) -> 87119.674
C47: III. TRANSPORTES
C50: MATERIAL | J50: VOL. o PESO | K50: DISTANCIA | L50: M3 o Ton/Km | M50: TARIFA | O50: Vr. UNITARIO
C51: Transporte de material de relleno | J51: 1.3 | K51: 40 | L51: =+J51*K51 -> 52 | M51: 2655 | O51: =+L51*M51 -> 138060
C53: SUBTOTAL $ | O53: =SUM(O51:O52) -> 138060
C54: IV. MANO DE OBRA
C57: TRABAJADOR | J57: JORNAL | K57: PRESTACIONES | L57: JORNAL TOTAL | M57: RENDIMIENTO | O57: Vr. UNITARIO
C58: Obrero (3) | J58: =L58/K58*100 -> 130000 | K58: 185 | L58: 240500 | M58: 20 | O58: =L58/M58 -> 12025
C62: SUBTOTAL $ | O62: =SUM(O58:O61) -> 12025
C64: TOTAL COSTO DIRECTO $ | O64: =+O62+O53+O46+O34 -> 240418.72
C65: V. COSTOS INDIRECTOS
C68: Descripción | L68: Porcentaje | M68: Valor Total
...

Sheet 630.1.4.1
C3: Formulario 1 - Propuesta económica - Documento tipo de mínima cuantía de obra pública de infraestructura de transporte - versión 2
C4: Código | D4: CCE-EICP-FM-32 | E4: Versión | F4: 2
C6: [La entidad podrá utilizar este formato para la presentación de los análisis de Precios Unitarios del Contratista en la oportunidad prevista en el numeral 8.2. de la invitación]
D9: INSTITUTO NACIONAL DE VÍAS – INVÍAS
L10: VERSIÓN
D11: IP-DT-QUI-003-2025
L12: PÁGINA | M12: 1 | N12: DE | O12: 1
D14: ANALISIS DE PRECIOS UNITARIOS
L16: FECHA | M16: DD | N16: MM | O16: AA
C18: ÍTEMS DE LA PROPUESTA ECONÓMICA | I18: ÍTEMS NO PREVISTOS
C22: DATOS ESPECÍFICOS
C24: ÍTEM | D24: DESCRIPCIÓN | M24: UNIDAD | O24: CANTIDAD
C25: 630.1.4.1 | D25: CONCRETO REFORZADO RESISTENCIA 21MPA | M25: m3
C26: I. EQUIPO
C29: DESCRIPCIÓN | H29: MARCA | J29: TIPO | L29: TARIFA/HORA | M29: RENDIMIENTO | O29: Vr. UNITARIO
C30: Aspersor manual de 20 litros | L30: 2811.9172 | M30: 1 | O30: =+L30*M30 -> 2811.9172
C31: Vibrador de concreto, potencia aproximada de 3 hp, mangueras de 4 a 6 metros | L31: 6307 | M31: 1 | O31: =+L31*M31 -> 6307
C32: Mezcladora de concreto tipo trompo | L32: 6319 | M32: 1 | O32: =+L32*M32 -> 6319
C33: HERRAMIENTA MENOR (%) | M33: 0.05 | O33: =+M33*O62 -> 4860.1041
C34: SUBTOTAL $ | O34: =SUM(O30:O33) -> 20298.021
C35: II. MATERIALES
C38: DESCRIPCIÓN | K38: UNIDAD | L38: CANTIDAD | M38: PRECIO UNIT. | O38: Vr. UNITARIO
C39: Emulsion acuosa de parafina para curado de concreto, que evite la pérdida prematura de humedad de concretos y morteros | K39: kg | L39: 1 | M39: 9368 | O39: =+L39*M39 -> 9368
C40: Formaleta de madera para concreto | K40: m2 | L40: 6 | M40: 27133 | O40: =+L40*M40 -> 162798
C41: Agua | K41: L | L41: 200 | M41: 91.87 | O41: =+L41*M41 -> 18374
C42: Agregado grueso (grava, grava triturada y/o roca triturada) | K42: m3 | L42: 0.7 | M42: 80166.5 | O42: =+L42*M42 -> 56116.55
C43: Agregado fino para concreto (tamaño máximo 4,75mm - arena natural o trituración de roca, gravas, y/o escorias) | K43: m3 | L43: 0.6 | M43: 89763 | O43: =+L43*M43 -> 53857.8
C44: Cemento hidráulico NTC 121 tipo UG | K44: kg | L44: 400 | M44: 648 | O44: =+L44*M44 -> 259200
C46: SUBTOTAL $ | O46: =SUM(O39:O45) -> 559714.35
C47: III. TRANSPORTES
C50: MATERIAL | J50: VOL. o PESO | K50: DISTANCIA | L50: M3 o Ton/Km | M50: TARIFA | O50: Vr. UNITARIO
C51: Transporte de agregados | J51: 1.3 | K51: 40 | L51: =+J51*K51 -> 52 | M51: 3218 | O51: =+L51*M51 -> 167336
C53: SUBTOTAL $ | O53: =SUM(O51:O52) -> 167336
C54: IV. MANO DE OBRA
C57: TRABAJADOR | J57: JORNAL | K57: PRESTACIONES | L57: JORNAL TOTAL | M57: RENDIMIENTO | O57: Vr. UNITARIO
C58: Obrero (8) | J58: =L58/K58*100 -> 346666.66 | K58: 185 | L58: 641333.33 | M58: 8 | O58: =L58/M58 -> 80166.666
C59: Oficial | J59: =L59/K59*100 -> 73666.665 | K59: 185 | L59: 136283.33 | M59: 8 | O59: =L59/M59 -> 17035.416
C62: SUBTOTAL $ | O62: =SUM(O58:O61) -> 97202.082
C64: TOTAL COSTO DIRECTO $ | O64: =+O62+O53+O46+O34 -> 844550.45
C65: V. COSTOS INDIRECTOS
...

Sheet 630.1.6
C3: Formulario 1 - Propuesta económica - Documento tipo de mínima cuantía de obra pública de infraestructura de transporte - versión 2
C4: Código | D4: CCE-EICP-FM-32 | E4: Versión | F4: 2
C6: [La entidad podrá utilizar este formato para la presentación de los análisis de Precios Unitarios del Contratista en la oportunidad prevista en el numeral 8.2. de la invitación]
D9: INSTITUTO NACIONAL DE VÍAS – INVÍAS
L10: VERSIÓN
D11: IP-DT-QUI-003-2025
L12: PÁGINA | M12: 1 | N12: DE | O12: 1
D14: ANALISIS DE PRECIOS UNITARIOS
L16: FECHA | M16: DD | N16: MM | O16: AA
C18: ÍTEMS DE LA PROPUESTA ECONÓMICA | I18: ÍTEMS NO PREVISTOS
C22: DATOS ESPECÍFICOS
C24: ÍTEM | D24: DESCRIPCIÓN | M24: UNIDAD | O24: CANTIDAD
C25: 630.1.6 | D25: CONCRETO REFORZADO RESISTENCIA 14 MPA | M25: m3
C26: I. EQUIPO
C29: DESCRIPCIÓN | H29: MARCA | J29: TIPO | L29: TARIFA/HORA | M29: RENDIMIENTO | O29: Vr. UNITARIO
C30: Mezcladora de concreto tipo trompo | L30: 6319 | M30: 1 | O30: =+L30*M30 -> 6319
C31: Vibrador de concreto, potencia aproximada de 3 hp, mangueras de 4 a 6 metros | L31: 6307 | M31: 1 | O31: =+L31*M31 -> 6307
O32: =+L32*M32 -> 0
C33: HERRAMIENTA MENOR (%) | M33: 0.05 | O33: =+M33*O62 -> 4860.1041
C34: SUBTOTAL $ | O34: =SUM(O30:O33) -> 17486.104
C35: II. MATERIALES
C38: DESCRIPCIÓN | K38: UNIDAD | L38: CANTIDAD | M38: PRECIO UNIT. | O38: Vr. UNITARIO
C39: Agregado grueso (grava, grava triturada y/o roca triturada) | K39: m3 | L39: 0.84 | M39: 80166.5 | O39: =+L39*M39 -> 67339.86
C40: Agua | K40: L | L40: 185 | M40: 91.87 | O40: =+L40*M40 -> 16995.95
C41: Agregado fino para concreto (tamaño máximo 4,75mm - arena natural o trituración de roca, gravas, y/o escorias) | K41: m3 | L41: 0.63 | M41: 89763 | O41: =+L41*M41 -> 56550.69
C42: Cemento hidráulico NTC 121 tipo UG | K42: kg | L42: 260 | M42: 648 | O42: =+L42*M42 -> 168480
O43: =+L43*M43 -> 0
O44: =+L44*M44 -> 0
C46: SUBTOTAL $ | O46: =SUM(O39:O45) -> 309366.5
C47: III. TRANSPORTES
C50: MATERIAL | J50: VOL. o PESO | K50: DISTANCIA | L50: M3 o Ton/Km | M50: TARIFA | O50: Vr. UNITARIO
C51: Transporte de agregados | J51: 1.47 | K51: 40 | L51: =+J51*K51 -> 58.8 | M51: 3218 | O51: =+L51*M51 -> 189218.4
C53: SUBTOTAL $ | O53: =SUM(O51:O52) -> 189218.4
C54: IV. MANO DE OBRA
C57: TRABAJADOR | J57: JORNAL | K57: PRESTACIONES | L57: JORNAL TOTAL | M57: RENDIMIENTO | O57: Vr. UNITARIO
C58: Obrero (8) | J58: =L58/K58*100 -> 346666.66 | K58: 185 | L58: 641333.33 | M58: 8 | O58: =L58/M58 -> 80166.666
C59: Oficial | J59: =L59/K59*100 -> 73666.665 | K59: 185 | L59: 136283.33 | M59: 8 | O59: =L59/M59 -> 17035.416
C62: SUBTOTAL $ | O62: =SUM(O58:O61) -> 97202.082
C64: TOTAL COSTO DIRECTO $ | O64: =+O62+O53+O46+O34 -> 613273.09
C65: V. COSTOS INDIRECTOS
...

Sheet 640.1
C3: Formulario 1 - Propuesta económica - Documento tipo de mínima cuantía de obra pública de infraestructura de transporte - versión 2
C4: Código | D4: CCE-EICP-FM-32 | E4: Versión | F4: 2
C6: [La entidad podrá utilizar este formato para la presentación de los análisis de Precios Unitarios del Contratista en la oportunidad prevista en el numeral 8.2. de la invitación]
D9: INSTITUTO NACIONAL DE VÍAS – INVÍAS
L10: VERSIÓN
D11: IP-DT-QUI-003-2025
L12: PÁGINA | M12: 1 | N12: DE | O12: 1
D14: ANALISIS DE PRECIOS UNITARIOS
L16: FECHA | M16: DD | N16: MM | O16: AA
C18: ÍTEMS DE LA PROPUESTA ECONÓMICA | I18: ÍTEMS NO PREVISTOS
C22: DATOS ESPECÍFICOS
C24: ÍTEM | D24: DESCRIPCIÓN | M24: UNIDAD | O24: CANTIDAD
C25: 640.1 | D25: ACERO DE REFUERZO fy = 420 Mpa | M25: kg
C26: I. EQUIPO
C29: DESCRIPCIÓN | H29: MARCA | J29: TIPO | L29: TARIFA/HORA | M29: RENDIMIENTO | O29: Vr. UNITARIO
C30: Cizalla manual de 90 cm | L30: 4355.695 | M30: 0.02623 | O30: =+L30*M30 -> 114.24988
O31: =+L31*M31 -> 0
O32: =+L32*M32 -> 0
C33: HERRAMIENTA MENOR (%) | M33: 0.02 | O33: =+M33*O58 -> 14.19353
C34: SUBTOTAL $ | O34: =SUM(O30:O33) -> 128.44341
C35: II. MATERIALES
C38: DESCRIPCIÓN | K38: UNIDAD | L38: CANTIDAD | M38: PRECIO UNIT. | O38: Vr. UNITARIO
C39: Acero de refuerzo PDR-60, Fy: 4200 kg/cm2 | K39: kg | L39: 1.051 | M39: 4558 | O39: =+L39*M39 -> 4790.458 | U39: =+M39*1.19 -> 5424.02
C40: Alambre negro para amarre calibre 18 | K40: kg | L40: 0.0376 | M40: 6310 | O40: =+L40*M40 -> 237.256 | U40: =+M40*1.19 -> 7508.9
C42: SUBTOTAL $ | O42: =SUM(O39:O41) -> 5027.714
C43: III. TRANSPORTES
C46: MATERIAL | J46: VOL. o PESO | K46: DISTANCIA | L46: M3 o Ton/Km | M46: TARIFA | O46: Vr. UNITARIO
C47: Transporte de acero | J47: 1.05 | K47: 15 | L47: =+J47*K47 -> 15.75 | M47: 60 | O47: =+L47*M47 -> 945
C49: SUBTOTAL $ | O49: =SUM(O47:O48) -> 945
C50: IV. MANO DE OBRA
C53: TRABAJADOR | J53: JORNAL | K53: PRESTACIONES | L53: JORNAL TOTAL | M53: RENDIMIENTO | O53: Vr. UNITARIO
C54: Obrero | J54: =L54/K54*100 -> 43334.054 | K54: 185 | L54: 80168 | M54: 305 | O54: =L54/M54 -> 262.8459
C55: Oficial | J55: =L55/K55*100 -> 73666.665 | K55: 185 | L55: 136283.33 | M55: 305 | O55: =L55/M55 -> 446.83059
C58: SUBTOTAL $ | O58: =SUM(O54:O57) -> 709.67649
C60: TOTAL COSTO DIRECTO $ | O60: =+O58+O49+O42+O34 -> 6810.8339
C61: V. COSTOS INDIRECTOS
C64: Descripción | L64: Porcentaje | M64: Valor Total
C65: ADMINISTRACION | L65: 0.2 | M65: =+L65*O60 -> 1362.1668
C66: IMPREVISTOS | L66: 0.05 | M66: =+L66*O60 -> 340.5417
C67: UTILIDAD | L67: 0.05 | M67: =+L67*O60 -> 340.5417
...

Sheet 671.3
C3: Formulario 1 - Propuesta económica - Documento tipo de mínima cuantía de obra pública de infraestructura de transporte - versión 2
C4: Código | D4: CCE-EICP-FM-32 | E4: Versión | F4: 2
C6: [La entidad podrá utilizar este formato para la presentación de los análisis de Precios Unitarios del Contratista en la oportunidad prevista en el numeral 8.2. de la invitación]
D9: INSTITUTO NACIONAL DE VÍAS – INVÍAS
L10: VERSIÓN
D11: IP-DT-QUI-003-2025
L12: PÁGINA | M12: 1 | N12: DE | O12: 1
D14: ANALISIS DE PRECIOS UNITARIOS
L16: FECHA | M16: DD | N16: MM | O16: AA
C18: ÍTEMS DE LA PROPUESTA ECONÓMICA | I18: ÍTEMS NO PREVISTOS
C22: DATOS ESPECÍFICOS
C24: ÍTEM | D24: DESCRIPCIÓN | M24: UNIDAD | O24: CANTIDAD
C25: 671.3 | D25: CUNETA DE CONCRETO VACIADA IN SITU; INCLUYE LA CONFORMACIÓN DE LA SUPERFICIE DE APOYO | M25: m3
C26: I. EQUIPO
C29: DESCRIPCIÓN | H29: MARCA | J29: TIPO | L29: TARIFA/HORA | M29: RENDIMIENTO | O29: Vr. UNITARIO
C30: Compactador manual vibratorio (rana) con motor de 6 hp | L30: 6532 | M30: 0.8 | O30: =+L30*M30 -> 5225.6
C31: Vibrador de concreto, potencia aproximada de 3 hp, mangueras de 4 a 6 metros | L31: 6307 | M31: 1 | O31: =+L31*M31 -> 6307
O32: =+L32*M32 -> 0
C33: HERRAMIENTA MENOR (%) | M33: 0.05 | O33: =+M33*O63 -> 2284.75
C34: SUBTOTAL $ | O34: =SUM(O30:O33) -> 13817.35
C35: II. MATERIALES
C38: DESCRIPCIÓN | K38: UNIDAD | L38: CANTIDAD | M38: PRECIO UNIT. | O38: Vr. UNITARIO
C39: Material seleccionado para relleno | K39: m3 | L39: 0.5 | M39: 63070 | O39: =+L39*M39 -> 31535
C40: Concreto resistencia 21 MPa | K40: m3 | L40: 1.01 | M40: 491489 | O40: =+L40*M40 -> 496403.89
C41: Formaleta para cuneta y/o bordillo de concreto | K41: m2 | L41: 0.3 | M41: 19941.59 | O41: =+L41*M41 -> 5982.477
C42: Cemento Asfáltico de penetración 60-70 | K42: kg | L42: 0.5 | M42: 3622.96 | O42: =+L42*M42 -> 1811.48
O43: =+L43*M43 -> 0
O44: =+L44*M44 -> 0
C46: SUBTOTAL $ | O46: =SUM(O39:O45) -> 535732.85
C47: III. TRANSPORTES
C50: MATERIAL | J50: VOL. o PESO | K50: DISTANCIA | L50: M3 o Ton/Km | M50: TARIFA | O50: Vr. UNITARIO
C51: Transporte de concreto | J51: 1.01 | K51: 15 | L51: =+J51*K51 -> 15.15 | M51: 4213.33 | O51: =+L51*M51 -> 63831.95
C52: Transporte de material de relleno | J52: 0.5 | K52: 40 | L52: =+J52*K52 -> 20 | M52: 2655 | O52: =+L52*M52 -> 53100
C54: SUBTOTAL $ | O54: =SUM(O51:O53) -> 116931.95
C55: IV. MANO DE OBRA
C58: TRABAJADOR | J58: JORNAL | K58: PRESTACIONES | L58: JORNAL TOTAL | M58: RENDIMIENTO | O58: Vr. UNITARIO
C59: Obrero (4) | J59: =L59/K59*100 -> 173333.34 | K59: 185 | L59: 320666.67 | M59: 10 | O59: =L59/M59 -> 32066.667
C60: Oficial | J60: =L60/K60*100 -> 73666.665 | K60: 185 | L60: 136283.33 | M60: 10 | O60: =L60/M60 -> 13628.333
C63: SUBTOTAL $ | O63: =SUM(O59:O62) -> 45695
C65: TOTAL COSTO DIRECTO $ | O65: =+O63+O54+O46+O34 -> 712177.15
...

Sheet 673.1.1
C3: Formulario 1 - Propuesta económica - Documento tipo de mínima cuantía de obra pública de infraestructura de transporte - versión 2
C4: Código | D4: CCE-EICP-FM-32 | E4: Versión | F4: 2
C6: [La entidad podrá utilizar este formato para la presentación de los análisis de Precios Unitarios del Contratista en la oportunidad prevista en el numeral 8.2. de la invitación]
D9: INSTITUTO NACIONAL DE VÍAS – INVÍAS
L10: VERSIÓN
D11: IP-DT-QUI-003-2025
L12: PÁGINA | M12: 1 | N12: DE | O12: 1
D14: ANALISIS DE PRECIOS UNITARIOS
L16: FECHA | M16: DD | N16: MM | O16: AA
C18: ÍTEMS DE LA PROPUESTA ECONÓMICA | I18: ÍTEMS NO PREVISTOS
C22: DATOS ESPECÍFICOS
C24: ÍTEM | D24: DESCRIPCIÓN | M24: UNIDAD | O24: CANTIDAD
C25: 673.1.1 | D25: GEOTEXTIL TIPO NO TEJIDO CON RESISTENCIA A LA TENSION GRAB MINIMA DE 700N | M25: m2
C26: I. EQUIPO
C29: DESCRIPCIÓN | H29: MARCA | J29: TIPO | L29: TARIFA/HORA | M29: RENDIMIENTO | O29: Vr. UNITARIO
C30: Compactador manual vibratorio (rana) con motor de 6 hp | O30: =+L30*M30 -> 0
C31: Vibrador de concreto, potencia aproximada de 3 hp, mangueras de 4 a 6 metros | O31: =+L31*M31 -> 0
O32: =+L32*M32 -> 0
C33: HERRAMIENTA MENOR (%) | M33: 0.05 | O33: =+M33*O63 -> 33.402777
C34: SUBTOTAL $ | O34: =SUM(O30:O33) -> 33.402777
C35: II. MATERIALES
C38: DESCRIPCIÓN | K38: UNIDAD | L38: CANTIDAD | M38: PRECIO UNIT. | O38: Vr. UNITARIO
C39: Geotextil no tejido con resistencia a la tensión Grab de 700 N aproximadamente | K39: m2 | L39: 1.1 | M39: 18719 | O39: =+L39*M39 -> 20590.9
O40: =+L40*M40 -> 0
O41: =+L41*M41 -> 0
O42: =+L42*M42 -> 0
O43: =+L43*M43 -> 0
O44: =+L44*M44 -> 0
C46: SUBTOTAL $ | O46: =SUM(O39:O45) -> 20590.9
C47: III. TRANSPORTES
C50: MATERIAL | J50: VOL. o PESO | K50: DISTANCIA | L50: M3 o Ton/Km | M50: TARIFA | O50: Vr. UNITARIO
O51: =+L51*M51 -> 0
O52: =+L52*M52 -> 0
C54: SUBTOTAL $ | O54: =SUM(O51:O53) -> 0
C55: IV. MANO DE OBRA
C58: TRABAJADOR | J58: JORNAL | K58: PRESTACIONES | L58: JORNAL TOTAL | M58: RENDIMIENTO | O58: Vr. UNITARIO
C59: Obrero (2) | J59: =L59/K59*100 -> 86666.665 | K59: 185 | L59: 160333.33 | M59: 240 | O59: =L59/M59 -> 668.05554
C63: SUBTOTAL $ | O63: =SUM(O59:O62) -> 668.05554
C65: TOTAL COSTO DIRECTO $ | O65: =+O63+O54+O46+O34 -> 21292.358
C66: V. COSTOS INDIRECTOS
...

Sheet 681.1
C3: Formulario 1 - Propuesta económica - Documento tipo de mínima cuantía de obra pública de infraestructura de transporte - versión 2
C4: Código | D4: CCE-EICP-FM-32 | E4: Versión | F4: 2
C6: [La entidad podrá utilizar este formato para la presentación de los análisis de Precios Unitarios del Contratista en la oportunidad prevista en el numeral 8.2. de la invitación]
D9: INSTITUTO NACIONAL DE VÍAS – INVÍAS
L10: VERSIÓN
D11: IP-DT-QUI-003-2025
L12: PÁGINA | M12: 1 | N12: DE | O12: 1
D14: ANALISIS DE PRECIOS UNITARIOS
L16: FECHA | M16: DD | N16: MM | O16: AA
C18: ÍTEMS DE LA PROPUESTA ECONÓMICA | I18: ÍTEMS NO PREVISTOS
C22: DATOS ESPECÍFICOS
C24: ÍTEM | D24: DESCRIPCIÓN | M24: UNIDAD | O24: CANTIDAD
C25: 681.1 | D25: GAVIONES O COLCHOGAVIONES DE MALLA DE ALAMBRE DE ACERO ENTRELAZADO ESTILO 1: RECUBRIMIENTO DE ZINC (GALVANIZADO) (analizado para gavion de vol 2m3 (2 modulo de celda de 1 mt x 1mt x 1mt)) | M25: m3
C26: I. EQUIPO
C29: DESCRIPCIÓN | H29: MARCA | J29: TIPO | L29: TARIFA/HORA | M29: RENDIMIENTO | O29: Vr. UNITARIO
O30: =+L30*M30 -> 0
O31: =+L31*M31 -> 0
O32: =+L32*M32 -> 0
C33: HERRAMIENTA MENOR (%) | M33: 0.05 | O33: =+M33*O63 -> 1883.9167
C34: SUBTOTAL $ | O34: =SUM(O30:O33) -> 1883.9167
C35: II. MATERIALES
C38: DESCRIPCIÓN | K38: UNIDAD | L38: CANTIDAD | M38: PRECIO UNIT. | O38: Vr. UNITARIO
C39: Piedra para gaviónes (entre 80mm y 200mm) | K39: m3 | L39: 1.4 | M39: 80000 | O39: =+L39*M39 -> 112000
C40: Alambre galvanizado calibre 12 | K40: kg | L40: 1.337 | M40: 10760 | O40: =+L40*M40 -> 14386.12
C41: Formaleta para gaviones | K41: m2 | L41: 0.5 | M41: 26800 | O41: =+L41*M41 -> 13400
C42: Malla para gaviones clase 1 con zinc galvanizado (2m3) | K42: u | L42: 0.5 | M42: 237000 | O42: =+L42*M42 -> 118500
O43: =+L43*M43 -> 0
O44: =+L44*M44 -> 0
C46: SUBTOTAL $ | O46: =SUM(O39:O45) -> 258286.12
C47: III. TRANSPORTES
C50: MATERIAL | J50: VOL. o PESO | K50: DISTANCIA | L50: M3 o Ton/Km | M50: TARIFA | O50: Vr. UNITARIO
C51: Transporte de piedra para gaviones | J51: 1.4 | K51: 40 | L51: =+J51*K51 -> 56 | M51: 1583 | O51: =+L51*M51 -> 88648
O52: =+L52*M52 -> 0
C54: SUBTOTAL $ | O54: =SUM(O51:O53) -> 88648
C55: IV. MANO DE OBRA
C58: TRABAJADOR | J58: JORNAL | K58: PRESTACIONES | L58: JORNAL TOTAL | M58: RENDIMIENTO | O58: Vr. UNITARIO
C59: Obrero (3) | J59: =L59/K59*100 -> 130000 | K59: 185 | L59: 240500 | M59: 10 | O59: =L59/M59 -> 24050
C60: Oficial | J60: =L60/K60*100 -> 73666.665 | K60: 185 | L60: 136283.33 | M60: 10 | O60: =L60/M60 -> 13628.333
C63: SUBTOTAL $ | O63: =SUM(O59:O62) -> 37678.333
C65: TOTAL COSTO DIRECTO $ | O65: =+O63+O54+O46+O34 -> 386496.37
...

Sheet 900.3.1
C3: Formulario 1 - Propuesta económica - Documento tipo de mínima cuantía de obra pública de infraestructura de transporte - versión 2
C4: Código | D4: CCE-EICP-FM-32 | E4: Versión | F4: 2
C6: [La entidad podrá utilizar este formato para la presentación de los análisis de Precios Unitarios del Contratista en la oportunidad prevista en el numeral 8.2. de la invitación]
D9: INSTITUTO NACIONAL DE VÍAS – INVÍAS
L10: VERSIÓN
D11: IP-DT-QUI-003-2025
L12: PÁGINA | M12: 1 | N12: DE | O12: 1
D14: ANALISIS DE PRECIOS UNITARIOS
L16: FECHA | M16: DD | N16: MM | O16: AA
C18: ÍTEMS DE LA PROPUESTA ECONÓMICA | I18: ÍTEMS NO PREVISTOS
C22: DATOS ESPECÍFICOS
C24: ÍTEM | D24: DESCRIPCIÓN | M24: UNIDAD | O24: CANTIDAD
C25: 900.3.1 | D25: TRANSPORTE DE MATERIALES PROVENIENTES DE DERRUMBES, MEDIDO A PARTIR DE CIEN METROS (100 m) (Analizado con volqueta de 6m3) | M25: m3 - Km
C26: I. EQUIPO
C29: DESCRIPCIÓN | H29: MARCA | J29: TIPO | L29: TARIFA/HORA | M29: RENDIMIENTO | O29: Vr. UNITARIO
C30: Volqueta 6 m3 | L30: 98852.5 | M30: 0.01389 | O30: =+L30*M30 -> 1373.0612
O31: =+L31*M31 -> 0
O32: =+L32*M32 -> 0
O33: =+M33*O63 -> 0
C34: SUBTOTAL $ | O34: =SUM(O30:O33) -> 1373.0612
C35: II. MATERIALES
C38: DESCRIPCIÓN | K38: UNIDAD | L38: CANTIDAD | M38: PRECIO UNIT. | O38: Vr. UNITARIO
O39: =+L39*M39 -> 0
O40: =+L40*M40 -> 0
O41: =+L41*M41 -> 0
O42: =+L42*M42 -> 0
O43: =+L43*M43 -> 0
O44: =+L44*M44 -> 0
C46: SUBTOTAL $ | O46: =SUM(O39:O45) -> 0
C47: III. TRANSPORTES
C50: MATERIAL | J50: VOL. o PESO | K50: DISTANCIA | L50: M3 o Ton/Km | M50: TARIFA | O50: Vr. UNITARIO
O51: =+L51*M51 -> 0
O52: =+L52*M52 -> 0
C54: SUBTOTAL $ | O54: =SUM(O51:O53) -> 0
C55: IV. MANO DE OBRA
C58: TRABAJADOR | J58: JORNAL | K58: PRESTACIONES | L58: JORNAL TOTAL | M58: RENDIMIENTO | O58: Vr. UNITARIO
O59: 0
O60: 0
C63: SUBTOTAL $ | O63: =SUM(O59:O62) -> 0
C65: TOTAL COSTO DIRECTO $ | O65: =+O63+O54+O46+O34 -> 1373.0612
...

Sheet 14. P
C3: Formulario 1 - Propuesta económica - Documento tipo de mínima cuantía de obra pública de infraestructura de transporte - versión 2
C4: Código | D4: CCE-EICP-FM-32 | E4: Versión | F4: 2
C6: [La entidad podrá utilizar este formato para la presentación de los análisis de Precios Unitarios del Contratista en la oportunidad prevista en el numeral 8.2. de la invitación]
D9: INSTITUTO NACIONAL DE VÍAS – INVÍAS
L10: VERSIÓN
D11: IP-DT-QUI-003-2025
L12: PÁGINA | M12: 1 | N12: DE | O12: 1
D14: ANALISIS DE PRECIOS UNITARIOS
L16: FECHA | M16: DD | N16: MM | O16: AA
C18: ÍTEMS DE LA PROPUESTA ECONÓMICA | I18: ÍTEMS NO PREVISTOS
C22: DATOS ESPECÍFICOS
C24: ÍTEM | D24: DESCRIPCIÓN | M24: UNIDAD | O24: CANTIDAD
C25: 14.P | D25: MEZCLA ASFALTICA FABRICADA EN CALIENTE Y APLICADA EN FRIO PARA BACHEO | M25: kg
C26: I. EQUIPO
C29: DESCRIPCIÓN | H29: MARCA | J29: TIPO | L29: TARIFA/HORA | M29: RENDIMIENTO | O29: Vr. UNITARIO
O30: =+L30*M30 -> 0
C31: Compactador de rodillo - Tipo Benitin | L31: 249948.19 | M31: 0.003 | O31: =+L31*M31 -> 749.84457
O32: =+L32*M32 -> 0
C33: HERRAMIENTA MENOR (%) | M33: 0.02 | O33: =+M33*O63 -> 60.328609
C34: SUBTOTAL $ | O34: =SUM(O30:O33) -> 810.17318
C35: II. MATERIALES
C38: DESCRIPCIÓN | K38: UNIDAD | L38: CANTIDAD | M38: PRECIO UNIT. | O38: Vr. UNITARIO
C39: Mezcla asfáltica fabricada en caliente y aplicada en frio (incluye transporte) | K39: kg | L39: 1.25 | M39: 2996 | O39: =+L39*M39 -> 3745
O40: =+L40*M40 -> 0
O41: =+L41*M41 -> 0
O42: =+L42*M42 -> 0
O43: =+L43*M43 -> 0
O44: =+L44*M44 -> 0
C46: SUBTOTAL $ | O46: =SUM(O39:O45) -> 3745
C47: III. TRANSPORTES
C50: MATERIAL | J50: VOL. o PESO | K50: DISTANCIA | L50: M3 o Ton/Km | M50: TARIFA | O50: Vr. UNITARIO
O51: =+L51*M51 -> 0
O52: =+L52*M52 -> 0
C54: SUBTOTAL $ | O54: =SUM(O51:O53) -> 0
C55: IV. MANO DE OBRA
C58: TRABAJADOR | J58: JORNAL | K58: PRESTACIONES | L58: JORNAL TOTAL | M58: RENDIMIENTO | O58: Vr. UNITARIO
C59: Obrero (3) | J59: =L59/K59*100 -> 130000 | K59: 185 | L59: 240500 | M59: 79.73 | O59: =L59/M59 -> 3016.4305
O60: 0
O61: 0
C63: SUBTOTAL $ | O63: =SUM(O59:O62) -> 3016.4305
...
