Workbook

Sheet INSTRUCTIVO
A1: INSTRUCCIONES PARA CARGUE DE INFORMACIÓN EN ESTE ARCHIVO PRESUPUESTAL
A2: 1 | B2: El presente documento se ajusta al ANEXO TECNICO y se trata de actividades para el mantenimiento, adecuación y mejoramiento de bienes inmuebles a disposición de la UNP a nivel nacional.
A3: 2 | B3: La hoja denominada (ESPECIF) corresponde a la denominación y descripción de las especificaciones tecnicas de cada una de esas 146 actividades.
A4: 3 | B4: Las hojas cuya pestaña esta en color ROJO se encuentran BLOQUEADAS y por tanto son meramente informativas para el diligenciamiento del presupuesto.
A5: 4 | B5: Las hojas cuya pestaña esta en color VERDE se encuentran HABILITADAS para el diligenciamiento de los valores que corresponadan y sean incorporados a los A.P.U. formulados
A6: 5 | B6: Los insumos que forman parte de los APU (analisis de precios unitarios) se contemplan igualemnte en 4 grupos a saber
A7: 6 | B7: MATERIALES E INSUMOS: (MAT-INSM) 197 items, HERRAMIENTAS Y EQUIPOS: (HRR-EQP) 41 items, MANO DE OBRA: (MAN-OBR) 96 items, OTROS INSUMOS: (OTROS) 6 items.
A8: 7 | B8: Este formato es netamente presupuestal, por lo que debe ser diligenciado solamente de forma numerica, por lo que solicitamos abstenerse de modificar textos o incluir casillas nuevas
A9: 8 | B9: Los insumos que forman parte de los APU (analisis de precios unitarios) son un total de 340, que deban ser diligenciados en su totalidad en la columna (COSTO 2025) de cada hoja (HABILITADA)
A10: 9 | B10: Luego de llenado el valor de los insumos en las 4 hojas (MAT-INSM, HRR-EQP, MAN-OBR, OTROS) se debe verificar que todos los APU, tengan cargados todos los valores.
A11: 10 | B11: Al diligenciar los valores indicados, estos quedaran cargados en las hojas (APU-CP1 a APU-CP7) y a su vez seran en la hoja (RESUMEN) donde le permitira visualizar el valor de cada item.
A12: 11 | B12: Los rendimientos de insumos aplicados por parte de la entidad se ajustan a los observados en desarrollo de labores similares y para el caso de este proceso, son inmodificables.
A13: 12 | B13: La hoja denominada (AIU), debe ser diligenciada con los respectivos porcentajes de incidencia definidos según la estructura administrtiva y funcional de cada empresa.
A14: 13 | B14: Agradecemos no modificar textos, ni incluir casillas nuevas en cada uno de las hojas activas y para cualquier observacion debera ser incluido en la hoja de OBSERVACIONES (OBS)

Sheet ESPECIF
A1: ESPECIFICACIONES TECNICAS PARA MANTENIMIENTO, ADECUACION Y MEJORAMIENTO DE INFRAESTRUTURA FISICA DE LA UNP
A2: ITEM | B2: DEFINICION DEL ITEM | C2: UN. DE MEDIDA | D2: DESCRIPCIÓN TECNICA DE LA ACTIVIDAD
A3: 1 | B3: CAPITULO 1 ACTIVIDADES PRELIMINARES | C3: UNIDAD | D3: DESCRIPCIÓN TECNICA
A4: =A3+0.01 -> 1.01 | B4: Desmonte o desinstalación de puestos de trabajo, incluye trasiego. | C4: m2 | D4: Este ítem se refiere al desmonte de los puestos de trabajo que se encuentran instalados en los espacios a intervenir incluye el desmonte de paneles divisorios, herrajes, elementos de soporte y desinstalación de puntos eléctricos y datos; se debe tener especial cuidado con todos los elementos del puesto de trabajo; Aquellos elementos que no estén dentro de la reutilización se deben entregar al contratante para su almacenamiento. El trasiego interno va por cuenta del contratista y bajo las instrucciones del contratante para su disposición.
A5: =A4+0.01 -> 1.02 | B5: Desmonte de canaleta incluido cableado y aparatos eléctricos y de datos. | C5: ml | D5: Este ítem se refiere al retiro de las canaletas metalicas o plasticas instaladas para contener cableados electricos y de voz o datos, por lo tanto la actividad incluye el retiro de la totalidad de los elementos contenidos y anexos a la canaleta, como actividad integral. El retiro, transporte y disposcicón final de los elementos retirados como resultante de la actividad estarán a cargo del contratista, incluidos en el costo de esta.
A6: =A5+0.01 -> 1.03 | B6: Suspension de puntos electricos, incluye descableado. | C6: un | D6: Este ítem se refiere al retiro cableado, ducterias, aparatos de control y elementos de iluminación instalados, la actividad debe grantizar el corte total de fluido elctrico en redes desmontadas y la instalación de tapas ciegas sobre cajas de salidas; los residuos resultantes de la actividad, al desmonte los elementos posterior almacenamiento, transportándolas y disposición final en cumplimiento de las normas RETIE, RETILAP, NTC-4552 (1, 2, 3 Versión 2008), NTC–2050
A7: =A6+0.01 -> 1.04 | B7: Desmonte o desinstalación de puertas entamboradas en madera, incluido marco. | C7: un | D7: Este ítem se refiere a las actividades, equipos e insumos necesarios para desmontar y retirar las puertas de madera incluyendo el marco, según indicaciones del contratante. Comprende el trasiego interno si aplica su traslado.
A8: =A7+0.01 -> 1.05 | B8: Desmonte o desinstalación de puertas o ventanas en perfiles de acero o aluminio, incluidos marcos y vidrios. | C8: m2 | D8: Este ítem se refiere a los trabajos necesarios para desmontar y retirar las puertas en madera incluyendo el marco de las zonas de ejecución, previamente indicadas por el contratante.
A9: =A8+0.01 -> 1.06 | B9: Desmonte o desinstalación de divisiones de oficinas, metálicas o madera. | C9: m2 | D9: Este ítem se refiere a los trabajos necesarios para desmontar y retirar las divisiones de oficinas o puestos de trabajo en madera o metálica en las zonas de ejecución, previamente indicadas por el contratante. Comprende el trasiego interno si aplica su traslado.
A10: =A9+0.01 -> 1.07 | B10: Desmonte de mueble inferior o superior y superficies de cocina. | C10: un | D10: Este ítem se refiere a los trabajos necesarios para desmontar y retirar los mueble inferior o superiores de cocinas o bibliotecas fijas, previamente indicadas por el contratante. incluye el trasiego interno si aplica su traslado.
A11: =A10+0.01 -> 1.08 | B11: Desmonte de aparatos sanitarios, lavamanos y/o orinales, incluye trasiego interno. | C11: un | D11: Este ítem se refiere a los trabajos necesarios para desmontar y retirar los aparatos sanitarios de baños, previamente indicadas por el contratante. incluye el trasiego interno si aplica su traslado.
A12: =A11+0.01 -> 1.09 | B12: Reinstalación de aparatos sanitarios, lavamanos y/o orinales, incluye trasiego interno. | C12: un | D12: Este ítem se refiere a los trabajos necesarios para la instalación de los aparatos sanitarios reutilizados para baños, previamente indicadas por el contratante. Comprende el trasiego interno si aplica su traslado.
A13: =A12+0.01 -> 1.1 | B13: Desmonte cielo raso en drywall, duracustick o similar incluye retiro de estructura. | C13: m2 | D13: Este ítem se refiere a trabajos de demolición de cielos rasos de drywall, duracustick o similar, se realizará por medios manuales, demarcando de antemano la línea de corte con cortadora de disco, retirar, despejar y limpiar el área a trabajar, y todos los materiales extraños que obstaculicen las labores posteriores. Incluye cargue y retiro de escombros.
A14: =A13+0.01 -> 1.11 | B14: Desmonte o desinstalación de vidrio templado o puerta en vidrio de 6 a 10 mm división oficina piso techo. | C14: m2 | D14: Este ítem se refiere a los trabajos necesarios para desmontar paneles en vidrio o puertas de vidrio de oficinas o puestos de trabajo en las zonas de ejecución, previamente indicadas por el contratante. Comprende el trasiego interno si aplica su traslado.
A15: =A14+0.01 -> 1.12 | B15: Demolición muro en sistema stell framing o similar incluye retiro de estructura. | C15: m2 | D15: Este ítem se refiere a los trabajos de demolición o desmonte de muros en drywall, fibrocemento o similar, incluidos elementos de estructura metálica, se realizará por medios manuales, demarcando de antemano la línea de corte con cortadora de disco y se debe retirar, despejar y limpiar el área a intervenir y todos los materiales extraños que obstaculicen las labores posteriores. Incluye cargue, transporte y disposición de escombros.
... A21: =A20+0.01 -> 1.18 | B21: Montaje o armado de puestos de trabajo, incluye trasiego interno. | C21: m2 | D21: Este ítem se refiere al montaje de los puestos de trabajo que se reutilizaran en los espacios a intervenir. Incluye el montaje de paneles divisorios, herrajes, elementos de soporte e instalación de puntos eléctricos y datos. El trasiego interno va por cuenta del contratista y bajo las instrucciones del contratante para su disposición.
A22: 2 | B22: CAPITULO 2 BASES PISOS Y ACABADOS | C22: UNIDAD | D22: DESCRIPCIÓN TECNICA
A23: =A22+0.01 -> 2.01 | B23: Alistado de piso en mortero 1:3 afinado e=4cm. | C23: m2 | D23: Este ítem se refiere a la aplicación de mortero para la nivelación y preparación de superficies irregulares y bruscas de losas estructurales o placas de contra piso, con mortero e=4cm mezclados en proporción de una parte de cemento portland por 3 partes de arena lavada o semilavada de pozo o de cantera, el material extendido y afinado, deberá ofrecer una superficie nivelada, homogénea y sin resaltos que permita recibir la instalación de acabados de pisos tales como tablones de gres, tabletas cerámicas o porcelánicas, maderas naturales o contrachapadas, laminadas, PVC, spc o alfombras entre otros.
A24: =A23+0.01 -> 2.02 | B24: Alistado de piso en mortero impermeabilizado 1:3 afinado e=4cm. | C24: m2 | D24: Este ítem se refiere a la aplicación de mortero para la nivelación y preparación de superficies irregulares y bruscas de losas estructurales o placas de contra piso, con mortero e=4cm para recibir acabados de pisos tales como paquetón de madera, listón, tabletas cerámicas, tabletas vibro prensadas de granito, alfombras y vinisol.
A25: =A24+0.01 -> 2.03 | B25: Suministro e instalación de enchapes cerámicos para pisos y/o muros. | C25: m2 | D25: Este ítem se refiere a la instalación del revestimiento cerámico sobre el piso o pared previamente realistado y afinado a nivel, la instalación de esta cerámica permite la terminación del piso o pared obteniendo un excelente acabado con baldosas puestas según la forma que la interventoría requiera teniendo en cuenta la dilatación con la que serán insta ladas las baldosa. Se debe verificar que el piso o pared donde se va a instalar el revestimiento cerámico este nivelado, sin protuberancias y aseado, de no ser así limpiarlo y verificar lotes de fabricación de cerámica para garantizar texturas y colores uniformes, según el área y la forma como se instalará la cerámica, se define los despieces y orden de colocación de las baldosas, dejando las piezas cortadas (si se requieren) en el lugar menos visible. Preparar la pega es decir remojar el pegante cerámico con agua suficiente e indicada por el fabricante del material. Alinear las hiladas de baldosa con hilos transversales en el caso del piso. Extender la pega sobre la baldosa con llana metálica dentada para que forme ranuras horizontales y esta se adhiera mejor al piso y a la pared, esta pega debe tener un grosor mínimo de 5 mm. Colocar sobre el piso y la pared la baldosa dando golpes suaves sobre ella con el martillo de caucho, para que esta se adhiera mejor a la superficie. (Colocar las hiladas de baldosa transversales sucesivas, dejando un piso uniforme y continuo). Se debe tener cuidado con las juntas, estas deben estar hiladas y con igual espesor. Las juntas del enchape del muro deben coincidir con las juntas de la cerámica del piso. Una vez fraguado la pega se procede al sellado o emboquillado de las juntas con una lechada de boquilla con color según la baldosa, utilizando para ello un elemento no metálico para evitar ralladuras. (Con una espátula de caucho y boquilla se rellenan las juntas). Posteriormente se procederá a efectuar una primera limpieza en seco con esponja o tela para retirar sobrantes del material de emboquillado. Transcurridas 24 horas, la superficie enchapada se lavará con agua, retirándose todo sobrante de mezcla o pegante, debiéndose mantener protegida y limpia. En los remates, intersecciones de muros (filos) que indique la interventoría, se utilizarán esquineras de aluminio. Los extremos cortados de las piezas deberán pulirse.
A26: =A25+0.01 -> 2.04 | B26: Suministro e instalación de Guarda escoba en cerámica. | C26: ml | D26: Este ítem se refiere a la instalación del guarda escobas en cerámica, la instalación permite la terminación del piso obteniendo un excelente acabado según la forma que el contratante lo requiera teniendo en cuenta instalación de wines metálicos o plásticos, de acuerdo con las descripciones indicadas por el contratante contratante y/o interventoría
A27: =A26+0.01 -> 2.05 | B27: Suministro e instalación de piso vinílico SPC, incluye renivelación sobre piso existente. | C27: m2 | D27: Este ítem se refiere a la instalación de piso vinílico tipo SPC, texturas tipo madera o similares, sobre el piso previamente alistado y afinado a nivel, labor esta incluida y que se debe realizar con morteros listos o masillas acrílicas, dependiendo del estado y material existente sobre la superficie donde se vaya a instalar el piso, y previo tratamiento de limpieza que permita las mejores condiciones de adherencia del material nivelante que garantice la estabilidad de capas delgadas, es decir entre 1mm y 4 mm de espesor y luego del debido tiempo de secado se procederá a la instalación que permita la terminación homogénea y nivelada del piso, según la forma que el contratante lo requiera teniendo en cuenta instalación de pirlanes de remate, de acuerdo con las descripciones indicadas por el contratante contratante y/o interventoría. Se debe verificar lotes de fabricación de material para garantizar texturas y colores uniformes. Se debe verificar niveles y pendientes del piso, según el área y la forma como se instalará el insumo, se define los despieces y orden de colocación de los listones de PVC, dejando las piezas cortadas (si se requieren) en el lugar menos visible. Dejar sobre una superficie plana y seca el lote de PVC seis horas antes de su instalación, posteriormente se procederá a efectuar una primera limpieza en seco con esponja o tela para retirar material o polvo evitando los rayones.
A28: =A27+0.01 -> 2.06 | B28: Suministro e instalación de guarda escoba en madera. | C28: ml | D28: Este ítem se refiere a la instalación del guarda escobas en MDF tipo Madera, la instalación permite la terminación del piso obteniendo un excelente según la forma que el contratante lo requiera teniendo en cuenta instalación de pirlanes, de acuerdo con las descripciones indicadas por el contratante contratante.
A29: =A28+0.01 -> 2.07 | B29: Suministro e instalación de tablón de gres liso o rústico desde 11x11 hasta 33x 33 zonas exteriores e interiores. | C29: m2 | D29: Este ítem se refiere a la instalación de piso tipo tablón de gres sobre el piso que se debe verificar que el piso o pared donde se va a instalar el revestimiento de gres este nivelado, sin protuberancias y aseado, de no ser así limpiarlo y verificar lotes de fabricación de cerámica para garantizar texturas y colores uniformes, según el área y la forma como se instalará la cerámica, se define los despieces y orden de colocación de los tablones, dejando las piezas cortadas (si se requieren) en el lugar menos visible, preparar la pega es decir remojar el mortero 1:3 con agua suficiente e indicada por el fabricante del material. Alinear las hiladas de baldosa con hilos transversales en el caso del piso. Extender la pega sobre la baldosa con llana metálica dentada para que forme ranuras horizontales y esta se adhiera mejor al piso y a la pared, esta pega debe tener un grosor mínimo de 5 mm. Colocar sobre el piso y la pared la baldosa dando golpes suaves sobre ella con el martillo de caucho, para que esta se adhiera mejor a la superficie. (Colocar las hiladas de baldosa transversales sucesivas, dejando un piso uniforme y continuo). Se debe tener cuidado con las juntas, estas deben estar hiladas y con igual espesor. Las juntas del enchape del muro deben coincidir con las juntas del tablón de piso. Una vez fraguado la pega se procede al sellado o emboquillado de las juntas con una lechada de boquilla con color según la baldosa, utilizando para ello un elemento no metálico para evitar ralladuras. (Con una espátula de caucho y boquilla se rellenan las juntas). Posteriormente se procederá a efectuar una primera limpieza en seco con esponja o tela para retirar sobrantes del material de emboquillado. Transcurridas 24 horas, la superficie enchapada se lavará con agua, retirándose todo sobrante de mezcla o pegante, debiéndose mantener protegida y limpia. En los remates, intersecciones de muros (filos) que indique la interventoría, se utilizarán esquineras de aluminio. Los extremos cortados de las piezas deberán pulirse.
A30: =A29+0.01 -> 2.08 | B30: Construcción de rampa en concreto incluye demolición, relleno, placa de concreto y refuerzo, terminada en cemento escobillado. | C30: m2 | D30: Este ítem se refiere a la construcción de un elemento de piso inclinado para la circulación peatonal que conecta espacios dispuestos a dos diferentes niveles conservando la pendiente, ancho, textura adecuadas para la circulación segura para todas las personas, incluidos usuarios en condiciones de discapacidad o movilidad reducida y entre tanto se contemplan las actividades necesarias: Demoliciones de pisos o placas, rellenos en recebo compactado, placa en concreto de 3000 p.s.i, en espesor de 10 cm, terminada en textura escobillada, rematados filos y dilataciones, actividades estas que serán ejecutadas según especificaciones tecnicas de este anexo. pero el valor de este item sera el producto de la sumatoria de los costos de las diversas actividades y su prorrateo por m2 de esta actividad. Acorde a los planos presentados por el contratante para cada caso especifico, el presente item se trata de la
A31: =A30+0.01 -> 2.09 | B31: Suministro e instalación de piso en gravilla lavada. | C31: m2 | D31: Este ítem se refiere a la instalación de un mortero con alto contenido de gravilla fina (1/16") en el color que defina el contratante, sobre superfiies de concreto o mamposteria y que antes de terminar su fraguado total sea afinada y lavada con agua, retirando los excesos de cemento y dejando expuesta la gravilla limpia, la instalación de este material permite la terminación de superficies obteniendo un excelente acabado antidelslizante cpn una apriencia homogenea.
A32: =A31+0.01 -> 2.1 | B32: Suministro e instalación de cinta autoadhesiva antideslizante. | C32: ml | D32: Este ítem se refiere a la instalación de la cinta antideslizante sobre una superficie que debe estar limpia, libre de cualquier componente o material que dificulte la adherencia, tal es el caso de productos como aceites, ceras, grasas en general, restos de silicona y carburantes. Para superficies de madera se necesitará que estén muy pulidas o de textura fina, además de estar libre del todo de particulas de polvo propias de la madera. Las superficies metálicas deberán estar exentas de óxido y restos de pinturas que originen películas intermedias que impidan la completa adherencia. En otras superficies como piedras, cerámica y cemento, deben evitarse principalmente suciedades y partículas de polvo En el caso de las baldosas de cerámicas, no aplicar sobre las juntas, pues ello posibilitará el que por fricción y presión con la parte que no queda completamente adherida (circunstancia no apreciable a la visión del ojo humano), acabe fracturando la cinta y perdiendo sus propiedades adhesivas. Se recomienda usar el borde y utilizar “sellador de bordes”, que ayudará a la fijación de los extremos y laterales de la cinta evitando de esta manera el desprendimiento de bordes. Se recomienda hacer una prueba con una pequeña muestra de cinta para eliminar cualquier tipo de duda.
A33: =A32+0.01 -> 2.11 | B33: Suministro e instalación de cinta autoadhesiva antideslizante fotoluminiscente. | C33: ml | D33: Este ítem se refiere a la instalación de la cinta antideslizante sobre una superficie que debe estar limpia, libre de cualquier componente o material que dificulte la adherencia, tal es el caso de productos como aceites, ceras, grasas en general, restos de silicona y carburantes. Para superficies de madera se necesitará que estén muy pulidas o de textura fina, además de estar libre del todo de particulas de polvo propias de la madera. Las superficies metálicas deberán estar exentas de óxido y restos de pinturas que originen películas intermedias que impidan la completa adherencia. En otras superficies como piedras, cerámica y cemento, deben evitarse principalmente suciedades y partículas de polvo En el caso de las baldosas de cerámicas, no aplicar sobre las juntas, pues ello posibilitará el que por fricción y presión con la parte que no queda completamente adherida (circunstancia no apreciable a la visión del ojo humano), acabe fracturando la cinta y perdiendo sus propiedades adhesivas. Se recomienda usar el borde y utilizar “sellador de bordes”, que ayudará a la fijación de los extremos y laterales de la cinta evitando de esta manera el desprendimiento de bordes. Se recomienda hacer una prueba con una pequeña muestra de cinta para eliminar cualquier tipo de duda.
A34: =A33+0.01 -> 2.12 | B34: Lineas de demarcación en pintura tipo trafico pesado para pisos ancho 0,10 m. | C34: ml | D34: Este ítem se refiere a la demarcación con pintura en zonas de tráfico pesado, se debe usar pinturas de tráfico de alta resistencia, como las acrílicas o termoplásticas y en caso necesario con microesferas de vidrio para mayor reflectividad nocturna, por lo que estas pinturas deben ser duraderas, resistentes a la abrasión, a la intemperie y a la humedad. La superficie a pintar debe estar limpia, seca y libre de grasa y polvo. En el caso de concreto, puede ser necesario neutralizar la superficie. Se pueden aplicar con brochas, rodillos, o máquinas.
A35: 3 | B35: CAPITULO 3 MAMPOSTERIA REFUERZOS, PAÑETES, MUROS SECOS Y PINTURA | C35: UNIDAD | D35: DESCRIPCIÓN TECNICA
A36: =A35+0.01 -> 3.01 | B36: Suministro e instalación de concreto de 3000 PSI, incluye encofrados. | C36: m3 | D36: Este ítem se refiere a la preparación, suministro e instalación del concreto de esta especificación para lo cual estará constituido por una mezcla docificada en proporciones de cemento Portland, agua, agregados fino y grueso, y aditivos en algunos casos. El diseño de las mezclas de concreto se basará en la relación agua-cemento necesaria para obtener una mezcla plástica y manejable según las condiciones específicas de colocación de tal manera que se logre un concreto de durabilidad, impermeabilidad y resistencia de 210 Kg/cm2 o 3000 psi, que esté de acuerdo con los requisitos que se exigen para las diversas estructuras, según los planos. Cemento Portland. El diseño de las estructuras y estas especificaciones fueron ejecutadas para el uso de cemento Portland que se ajuste a las especificaciones C-150 tipo 1 de la ASTM y las normas ICONTEC 30, 33, 117, 121, 107, 108, 110, 184, 225, 297, 321. Si se utilizare otro tipo de cemento será necesario efectuar los cambios correspondientes, siempre que dicho tipo sea aceptado por el Interventor. Sólo se aceptará cemento de calidad y características uniformes y en caso de que se le transporte en sacos, éstos serán lo suficientemente herméticos y fuertes para que el cemento no sufra alteraciones durante el transporte, manejo y almacenamiento. El cemento utilizado en la obra corresponderá al que sirvió de base para el diseño de la mezcla. Los agregados finos y gruesos para fabricación de concreto cumplirán con las especificaciones de la designación C-33 de la ASTM y las normas ICONTEC 77, 78, 92, 93, 98, 126, 127, 129, 130, 174, 177, 589. El agregado fino que se utilice para la fabricación del concreto cumplirá con las siguientes condiciones: Módulo de finura entre 2.3 y 3.1, Pasa tamiz 200, no mayor del 3% para hormigón sujeto a desgaste y no mayor del 5% para cualquier otro caso, deberá estar libre de raíces, micas, limos o cualquier otro material que pueda afectar la resistencia del concreto.
A37: =A36+0.01 -> 3.02 | B37: Suministro figurada y amarre de acero 60000 PSI. | C37: kg | D37: Este ítem se refiere a la varillas corrugadas que se emplearán para refuerzo de concreto, deberán ser de acero grado 60 y deberán cumplir con los requisitos establecidos en la Norma ICONTEC 2289 o su equivalente ASTM A706. Malla Electro-soldada para refuerzo de concreto deberá cumplir con los requisitos establecidos en las normas ASTM A82 y A185. laminados en caliente y estirados en frío, con una resistencia garantizada a la rotura en ensayo de tracción de 5.250 kg/cm²; el espaciamiento entre varillas deberá ser de 15 cm y el diámetro el especificado en los planos de construcción.
A38: =A37+0.01 -> 3.03 | B38: Muro en bloque #5 e=12 cm. con mortero de pega 1:3. | C38: m2 | D38: Este ítem se refiere a la ejecución de muros interiores y exteriores especificados como bloque No. 5, en planos arquitectónicos. Los bloques serán de arcilla bien cocida, libre de grietas y roturas, diseñados con perforaciones horizontales, deben presentar una estructura uniforme, densa y de grano fino, libre de acumulaciones, sa las solubles o cualquier otro defecto que pueda afectar su resistencia, durabilidad, apariencia o posibilidad de uso. El mortero de pega se prepara en proporción de una parte de cemento por 3 partes de arena. La arena será de procedencia conocida, limpia, es decir, no deberá contener más de un 1% al peso de impurezas orgánicas y arcillas. la granulometría deberá ser tal que del 95 al 100% pase el cedazo No 8 y no más del 25 %, deberá ser retenida entre el cedazo No 50 y el No 100. Las paredes se levantarán a plomo y de los espesores que enseñen los planos. Los ladrillos deben ser saturados con agua antes de ser colocados. El contratista pegará la primera hilada perfectamente nivelada y a escuadra con los demás muros y la someterá a la aprobación de la supervisión, quién autorizará la continuación del muro u ordenará las correcciones del caso. Las juntas de los muros que van a recibir repello o enchapados deben terminarse a plomo junto con el ladrillo. En todos los empates entre cualquier adecuación de mampostería y la estructura de concreto, deben emplearse anclajes de varillas de 1/4" de 40 cms de largo libre, que penetren en la columna por lo menos 20 cms. Dichos anclajes se colocarán en las juntas horizontales, cada cincuenta (50) cms verticalmente.
A39: =A38+0.01 -> 3.04 | B39: Muro ladrillo estructural e=0.12 cm, debe incluir acero de refuerzo 60,000 PSI con anclaje mecanico al piso. | C39: m2 | D39: Este ítem se refiere a la ejecución de muros interiores o exteriores especificados como estructurales, en planos arquitectónicos. Los ladrillos que lo componen serán de arcilla bien cocida, libre de grietas, roturas, deben presentar una estructura uniforme, densa y de grano fino, libre de acumulaciones, sa las solubles o cualquier otro defecto que pueda afectar su resistencia, durabilidad, apariencia o posibilidad de uso y deben tener dos perforaciones verticales redondas, que permiten el vaciado de grouting. Es importante en estos muros su debido de anclaje a la viga o placa de cimentación, la cual debe asegurarse con el anclaje de barras de acero de 1/2" astm 60000, medidente perforación y anclaje epoxico en el caso de concretos que ya hayan obtenido su resistencia final o insta ladas con ganchos antes de fundirse el elemento, estos anclajes deben estar distanciados a cada 3 ladrillos, es decir una distancia promedio a ejes de perforaciones de 50 cm y en una altura minima de 1,00 mt que permitan hacer el traslape del refuerzo en acero. El mortero de pega se prepara en proporción de una parte de cemento por 3 partes de arena. La arena será de procedencia conocida, limpia, es decir, no deberá contener más de un 1% al peso de impurezas orgánicas y arcillas. La granulometría deberá ser tal que del 95 al 100% pase el cedazo No 8 y no más del 25 %, deberá ser retenida entre el cedazo No 50 y el No 100. Tanto el cemento como el agua deberán llenar los requisitos establecidos en estas especificaciones. El grout es un concreto fluido con agregado fino o sin agregado, es_x0002_pecialmente diseñado para ser utilizado como relleno de celdas en mampostería estructural. Para la aplicación de grout para llenado de muros, en este caso se hara para el 25% de las perforaciones verticaels es decir 1 de cada 4, donde haya varillas de refuerzo y se deben tener en cuenta las siguientes especificaciones técnicas: Ángulo de la caja de carga: Debe ser de 45° para darle cabeza de llenado al grout. Mezcla mecánica: Se recomienda realizar la mezcla de forma mecánica con equipo de bajas revoluciones para evitar segregación y bajas resistencias. Fluidez: La mezcla debe tener buena fluidez para facilitar la colocación y asegurar un llenado completo libre de retracciones: El grout debe ser libre de retracciones bajo placas o en las perforaciones. Exudación y expansión controladas: Esto asegura la adherencia y el traspaso de cargas. Baja inclusión de aire: Se debe evitar la inclusión de aire en la mezcla Las paredes se levantarán a plomo y de los espesores que enseñen los planos. Los ladrillos deben ser saturados con agua antes de ser colocados.El contratista pegará la primera hilada perfectamente nivelada y a escuadra con los demás muros y la someterá a la aprobación de la supervisión, quién autorizará la continuación del muro u ordenará las correcciones del caso. Las juntas de los muros que van a recibir repello o enchapados deben terminarse a plomo junto con el ladrillo.
A40: =A39+0.01 -> 3.05 | B40: Pañete 1:4 liso debe incluir filos y dilataciones. | C40: m2 | D40: Este ítem se refiere al recubrimiento de muros con capas de mortero 1:4 definiendo las superficies de los mismos, para ser acabadas con estuco, pintura o enchapes de cerámica de acuerdo a lo seña lado en los planos arquitectónicos, incluye filos y dilataciones. Previamente a la ejecución de los pañetes se debe dejar el muro libre de grasa, o residuos del mortero de pega y humedecerse para recibir el pañete. Posteriormente se realizará la nivelación y plomada de muros a pañetar para proceder a ejecutar guías maestras verticales a una distancia máxima de dos metros, con el fin de obtener pañetes perfectamente hilados, plomados y reglados. Preparar el pañete en proporciones indicadas – Mortero 1:4 de cemento y arena de Peña. Obteniendo el fraguado inicial de las guías maestras, el mortero se aplicará fuertemente contra el muro con un palustre y se esparcirá con una regla de madera o aluminio que se apoyará contra las guías maestras. Una vez iniciado el fraguado se deberán llenar las hendiduras o porosidades que resultaren hasta lograr una superficie completamente lisa y uniforme. Los pañetes deben rematarse contra el piso, cielorraso y ángulos con otros muros y dejar las aristas de columnas, ventanas, muros machones y demás filos, ligeramente redondeados. Todos los pañetes se medirán por metro cuadrado incluyendo filos y dilataciones y descontando vanos de puertas y ventanas.
A41: =A40+0.01 -> 3.06 | B41: Pañete 1:3 impermeabilizado debe incluir filos y dilataciones. | C41: m2 | D41: Este ítem se refiere al recubrimiento de muros con capas de mortero 1:3 impermeabilizado definiendo las superficies de los mismos, para ser acabadas con estucos plástico para exterior, pintura o enchapes de cerámica de acuerdo a lo seña lado en los Planos Arquitectónicos. Incluye filos y dilataciones. Previamente a la ejecución de los pañetes se debe dejar el muro libre de grasa, o residuos del mortero de pega y humedecerse para recibir el pañete. Posteriormente se realizará la nivelación y plomada de muros a pañetar para proceder a ejecutar guías maestras verticales a una distancia máxima de dos metros, con el fin de obtener pañetes perfectamente hilados, plomados y reglados. Preparar el pañete en proporciones indicadas – Mortero 1:3 de cemento y arena de Peña e Impermeabilizar la mezcla con un Impermeabilizante Integral para mortero (Sika-1, Masterseal 501, Toxement 1A, Omicron, Toxement Polvo) o equivalentes siguiendo las especificaciones del fabricante. Obteniendo el fraguado inicial de las guías maestras, el mortero se aplicará fuertemente contra el muro con un palustre y se esparcirá con una regla de madera o aluminio que se apoyará contra las guías maestras. Una vez iniciado el fraguado se deberán llenar las hendiduras o porosidades que resultaren hasta lograr una superficie completamente lisa y uniforme. Los pañetes deben rematarse contra el piso, cielorraso y ángulos con otros muros y dejar las aristas de columnas, ventanas, muros machones y demás filos, ligeramente redondeados. Todos los pañetes se medirán por metro cuadrado incluyendo filos y dilataciones y descontando vanos de puertas y ventanas.
A42: =A41+0.01 -> 3.07 | B42: Estuco y pintura vinilo tipo 1 sobre pañete tres manos, debe incluir filos y dilataciones. | C42: m2 | D42: Este ítem se refiere al recubrimiento sobre muros en mamposteria y previamente pañetados y luego que hayan obtenido el debido secado se aplicaran capas de estuco plastico en diferentes direcciones con el fin de regularizar la superficie y sellar la porosidad de las superficies. y luego de dejar secar cada capa se destroncara manualmente las irregularidades y lineas y se porcedera a lijar manualmente hasta obtener una superficie homojenea lisa y suave que permita dar acabado fnal a llos muros. El acabado final se da mediante la aplicación de pintura en vinilo tipo 1 a dos manos con rodillo de felpa procurando que no queden grumos en la pared y retirando los elementos extraños que se puedan adherir a la pared, de tal forma que la superficie terminada quede completamente lisa y de un color uniforme. Su cuantificación se realizará por metro cuadrado incluyendo filos y dilataciones, se descontarán vanos de ventanas y puertas.
A43: =A42+0.01 -> 3.08 | B43: Muro stell framing estructura metálica base 9 cal 26, a dos caras en fibrocemento de 8 mm, incluye cantos filos y dilataciones. | C43: m2 | D43: Este ítem se refiere al armado de muros a doble cara terminados de acuerdo a las dimesiones solicitadas en planos y acabados en vinilo tipo 1 o equivalente a 3 manos , con ancho final 0,105 m. ESTRUCTURA: Compuesta por canales tipo C dispuestos horizontalmente, y parales tipo U dispuestos verticalmente en acero galvanizados calibre 26, 3.5" de ancho atornilladas entre si y fijadas en modo debido al pisos y muros, cada paral metálico tendrá perforaciones para la colocación adecuada de insta laciones eléctricas, dichas perforaciones deben permitir el paso de ducterias y la distancia maxima entre parales sera de 0,407 mt a ejes, conservando la debida alineación plomado y nivel dentro de los espacios intervenidos SISTEMAS DE FIJACIÓN: Se utilizarán los siguientes elementos: Tornillo Framer: Este tornillo tiene una longitud de 1.1. cm. (7/16”) es el adecuado para unir perfil con perfil para formar estructuras de muros divisorios y dinteles. Tornillo Largo: Este tornillo tiene una longitud de 6*1” y se utilizara para fijar el panel de revestimiento a los perfiles de acero galvanizado, de muros divisorios y dinteles. Clavos o Chazos: Estos se utilizarán para fijar la canal superior e inferior de los muros, garantizando con esto la estabilidad de la estructura. LAMINA FIBROCEMENTO e=8mm: La estructura metalica sera recubierta en lámina de fibrocemento, presentara una superficie lisa, apta para recibir todo tipo de acabado, con una superficie plana en su parte posterior. El principal elemento que forma el cuerpo del panel es fibreocemento, 1,22X2,44 mt y espesor 8mm. Para aumentar la resistencia al impacto y la flexión, el panel de fibrocemente deberá contener fibra celulosa y/o fibra de vidrio en su cuerpo, cumpliendo con todas las normas internacionales (ASTM C36). CINTA DE SELLE: Cinta de malla o papel de 90 2" de ancho, este producto se utilizará en conjunto con la pasta siendo este elemento el que impide al momento de hacer el tratamiento de la junta, que en el futuro se llegue a fisura la junta. Dándole uniformidad a la superficie en los dos tableros que forman la junta. ESTUCO: Estuco plástico listo para usar, máxima blancura, alto rendimiento, lavable, óptimo para interior y exterior. Se usará para asentar la cinta, hacer el acabado de las capas, recubrir esquineros, rebordes y fijadores. PINTURA VINÍLICA TIPO 1: Se utilizará como base del acabado de muros en dry wall, a tres manos quedando listo el panel con el acabado final.
A44: =A43+0.01 -> 3.09 | B44: Muro stell framing estructura metálica base 9 cal 26, a dos caras en drywall de 1/2", incluye cantos filos y dilataciones. | C44: m2 | D44: Este ítem se refiere al armado de muros doble cara terminados de acuerdo a las dimesiones solicitadas en planos y acabados en vinilo tipo 1 a 3 manos o equivalente, con ancho final 0,115 m. ESTRUCTURA: Compuesta por canales tipo C dispuestos horizontalmente, y parales tipo U dispuestos verticalmente en acero galvanizados calibre 26, 3.5" de ancho atornilladas entre si y fijadas en modo debido al pisos y muros, cada paral metálico tendrá perforaciones para la colocación adecuada de insta laciones eléctricas, dichas perforaciones deben permitir el paso de ducterias y la distancia maxima entre parales sera de 0,407 mt a ejes. conservando la debida alineación plomado y nivel dentro de los espacios intervenidos SISTEMAS DE FIJACIÓN: Se utilizarán los siguientes elementos: Tornillo Framer: Este tornillo tiene una longitud de 1.1. cm. (7/16”) es el adecuado para unir perfil con perfil para formar estructuras de muros divisorios y dinteles. Tornillo Largo: Este tornillo tiene una longitud de 6*1” y se utilizara para fijar el panel de revestimiento a los perfiles de acero galvanizado, de muros divisorios y dinteles. Clavos o Chazos: Estos se utilizarán para fijar la canal superior e inferior de los muros, garantizando con esto la estabilidad de la estructura. LAMINA DE YESO ST 1/2": La estructura metalica sera recubierta en lámina de yeso carton, presentara una superficie lisa y clara, apta para recibir todo tipo de acabado, con una superficie plana en su parte posterior. El principal elemento que forma el cuerpo del panel es el yeso ST 1/2", 1,22X2,44 mt y espesor 12,7 mm. cumpliendo con todas las normas internacionales (ASTM C36). CINTA DE SELLE: Cinta de malla o papel de 90 2" de ancho, este producto se utilizará en conjunto con la pasta siendo este elemento el que impide al momento de hacer el tratamiento de la junta, que en el futuro se llegue a fisura la junta. Dándole uniformidad a la superficie en los dos tableros que forman la junta. ESTUCO: Estuco plástico listo para usar, máxima blancura, alto rendimiento, lavable, óptimo para interior y exterior. Se usará para asentar la cinta, hacer el acabado de las capas, recubrir esquineros, rebordes y fijadores. PINTURA VINÍLICA TIPO 1: Se utilizará como base del acabado de muros en dry wall, a tres manos quedando listo el panel con el acabado final.
A45: =A44+0.01 -> 3.1 | B45: Muro stell framing estructura metálica base 6 cal 26, a dos caras en drywall de 1/2", incluye cantos filos y dilataciones. | C45: m2 | D45: Este ítem se refiere al armado de muros doble cara terminados de acuerdo a las dimesiones solicitadas en planos y acabados en vinilo tipo 1 a 3 manos o equivalente, con ancho final 0,90 m. ESTRUCTURA: Compuesta por canales tipo C dispuestos horizontalmente, y parales tipo U dispuestos verticalmente en acero galvanizados calibre 26, 2.5" de ancho atornilladas entre si y fijadas en modo debido al pisos y muros, cada paral metálico tendrá perforaciones para la colocación adecuada de insta laciones eléctricas, dichas perforaciones deben permitir el paso de ducterias y la distancia maxima entre parales sera de 0,407 mt a ejes.conservando la debida alineación plomado y nivel dentro de los espacios intervenidos SISTEMAS DE FIJACIÓN: Se utilizarán los siguientes elementos: Tornillo Framer: Este tornillo tiene una longitud de 1.1. cm. (7/16”) es el adecuado para unir perfil con perfil para formar estructuras de muros divisorios y dinteles. Tornillo Largo: Este tornillo tiene una longitud de 6*1” y se utilizara para fijar el panel de revestimiento a los perfiles de acero galvanizado, de muros divisorios y dinteles. Clavos o Chazos: Estos se utilizarán para fijar la canal superior e inferior de los muros, garantizando con esto la estabilidad de la estructura. LAMINA DE YESO ST e=1/2": La estructura metalica sera recubierta en lámina de yeso carton, presentara una superficie lisa y clara, apta para recibir todo tipo de acabado, con una superficie plana en su parte posterior. El principal elemento que forma el cuerpo del panel es el yeso ST 1/2", 1,22X2,44 mt y espesor 12,7 mm, cumpliendo con todas las normas internacionales (ASTM C36). CINTA DE SELLE: Cinta de malla o papel de 90 2" de ancho, este producto se utilizará en conjunto con la pasta siendo este elemento el que impide al momento de hacer el tratamiento de la junta, que en el futuro se llegue a fisura la junta. Dándole uniformidad a la superficie en los dos tableros que forman la junta. ESTUCO: Estuco plástico listo para usar, máxima blancura, alto rendimiento, lavable, óptimo para interior y exterior. Se usará para asentar la cinta, hacer el acabado de las capas, recubrir esquineros, rebordes y fijadores. PINTURA VINÍLICA TIPO 1: Se utilizará como base del acabado de muros en dry wall, a tres manos quedando listo el panel con el acabado final.
...

Sheet MAT-INSM
A1: MATERIAL O INSUMO | B1: UN. | C1: COSTO 2025
A2: ABRAZADERA ACERO PARA TUBERIAS HASTA 2" | B2: UN
A3: ACOPLE SANITARIO ó LAVAMANOS. ½" | B3: UN
A4: ACUSTIFIBRA S/inst. Fiberglas | B4: M2
A5: ADAPTADOR PRESION Macho ½" PAVCO | B5: UN
A6: AGUA | B6: LT
A7: ALAMBRE Cu DESNUDO AWG 14 | B7: ML
A8: ALAMBRE DESNUDO #10 INTERM DI2.05 | B8: ML
A9: ALAMBRE NEGRO Cal. 18 | B9: KG
A10: ANTICORROSIVO GRIS PROTECC. ICO | B10: GLN
A11: ARENA DE PEÑA | B11: M3
A12: ARENA LAVADA DE PEÑA | B12: M3
A13: ARENA LAVADA DE RIO | B13: M3
... A198: WASH PRIMER A+B 0509 PINTUCO | B198: LT

Sheet HRR-EQP
A1: HERRAMIENTA O EQUIPO | B1: UN. | C1: COSTOS 2025
A2: ALICATE 2 POSICIONES DE 8" AISLADO | B2: UN
A3: ANDAMIO TUBULAR (SECC.) | B3: DIA
A4: BALDE DE CAUCHO PARA CONCRETO | B4: UN
A5: BROCHA DE CERDA 1" | B5: UN
A6: BROCHA DE CERDA 4" | B6: UN
A7: CARRETILLA "BUGUI" | B7: MES
A8: CIZALLA MANO 36" | B8: DIA
A9: COMPRESOR 1.5 HP CON TANQUE 2 GAL | B9: DIA
A10: CORTADORA CERAMICA KROM | B10: DIA
A11: DESTORNILLADOR DE PALA 1/4" X 6" | B11: UN
A12: DISCO DIAMANTADO 9" DIAMOND | B12: UN
A13: DISCO REFRACTARIO T-1 9"x 1/8" | B13: UN
... A42: TALADRO ROTOPERCUTOR HASTA 3/4" SIN | B42: DIA

Sheet MAN-OBR
A1: ACTIVIDAD O INSUMO | B1: UN. | C1: COSTOS 2025
A2: HORA AYUDANTE ALBA-IL + PREST | B2: HORA
A3: HORA/Cuad. ALBA-IL/Of+Ayu +PREST. 86.03% | B3: HORA
A4: HORA/Cuad. CARPINT/Of+Ayu +PREST.86.03% | B4: HORA
A5: MdeO ACOMETIDA GENERAL incl.ducto | B5: ML
A6: MdeO AFINADO Imperm. PISOS | B6: M2
A7: MdeO AFINADO PISO LISTON | B7: M2
A8: MdeO AFINADO PISOS | B8: M2
A9: MdeO AISLAPOR | B9: M3
A10: MdeO CABLEADO | B10: ML
A11: MdeO CAJA Insp.FIBRIT Traf.Pes | B11: UN
A12: MdeO CANALETA 10X40 | B12: UN
A13: MdeO CARPINTERIA METALICA | B13: M2
... A97: OFICIAL INST. SANITARIAS S/PREST. | B97: JORNAL

Sheet OTROS
A1: ACTIVIDAD O INSUMO | B1: UN. | C1: COSTO 2025
A2: BOMBA ALTA PRESION 3 HP | B2: DIA
A3: DISEÑO DE UNA MEZCLA DE HORMIGON | B3: UN
A4: ENSAYO DE CILINDRO DE 24 HORAS DE EDAD | B4: UN
A5: MANTENIMIENTO INTEGRAL PLANTA ELECT Y TRANSF. | B5: UN
A6: MANTENIMIENTO INTEGRAL UPS Y TRANSFERENCIA | B6: UN
A7: RETIRO DE ESCOMBROS | B7: M3

Sheet AIU
A1: OFRECIMIENTO DE AIU
A2: ITEM | B2: DESCRIPCION | C2: PORCENTAJE TECHO | D2: PORCENTAJE OFERTADO
A3: 1 | B3: ADMINISTRACION | C3: 0.15
A4: 2 | B4: IMPREVISTOS | C4: 0.02
A5: 3 | B5: UTILIDAD | C5: 0.09
B6: TOTAL A.I.U. | C6: =SUM(C3:C5) -> 0.26 | D6: =SUM(D3:D5) -> 0
B7: IVA SOBRE LA UTILIDAD | C7: 0.19 | D7: 0.19
B8: TOTAL A.I.U. MAS INVA SOBRE UTILIDAD | C8: =C3+C4+C5+(C5*C7) -> 0.2771 | D8: =D3+D4+D5+(D5*D7) -> 0

Sheet APU-CP1
A1: FORMATO DE ANÁLISIS DE PRECIOS UNITARIOS (APU)
A2: GRUPO DE GESTION ADMINISTRATIVA | B2: EQUIPO DE INFRAESTRUCTURA FISICA
A4: OBJETO DEL CONTRATO | D4: N° DEL CONTRATO
A5: CONTRATAR EL MANTENIMIENTO INTEGRAL, ADECUACIONES Y/O MEJORAS LOCATIVAS PARA LAS SEDES A NIVEL NACIONAL CARGO DE LA UNIDAD NACIONAL DE PROTECCIÓN | D5: FECHA DEL CONTRATO
A6: =RESUMEN!B3 -> CAPITULO 1 ACTIVIDADES PRELIMINARES | D6: NOMBRE DEL CONTRATISTA
A9: DESCRIPCIÓN DEL ITEM | C9: N° ITEM | D9: UNIDAD | E9: TOTAL COSTO DIRECTO
A10: =RESUMEN!B4 -> Desmonte o desinstalación de puestos de trabajo, incluye trasiego. | C10: =RESUMEN!A4 -> 1.01 | D10: =RESUMEN!C4 -> m2 | E10: =E19+E25+E30+E35 -> 0
A13: 1. DESCRIPCION DE MATERIALES E INSUMOS | B13: UNIDAD | C13: VR. UNIT. | D13: CANT/UND. | E13: VR. INSUMO
A14: ='MAT-INSM'!A40 -> CARTON CORRUGADO, ROLLO 1,2 M*10ML=48M2 | B14: ='MAT-INSM'!B40 -> M2 | C14: ='MAT-INSM'!C40 -> 0 | D14: 1 | E14: =ROUND(C14*D14,0) -> 0
C15: 0 | E15: =ROUND(C15*D15,0) -> 0
C16: 0 | E16: =ROUND(C16*D16,0) -> 0
C17: 0 | E17: =ROUND(C17*D17,0) -> 0
C18: 0 | E18: =ROUND(C18*D18,0) -> 0
D19: SUB-TOTAL | E19: =SUM(E14:E18) -> 0
A21: 2. DESCRIPCIÓN EQUIPOS Y HERRAMIENTAS | B21: UNIDAD | C21: VR. UNIT. | D21: CANT. | E21: VR. UNIT.
A22: ='HRR-EQP'!A11 -> DESTORNILLADOR DE PALA 1/4" X 6" | B22: ='HRR-EQP'!B11 -> UN | C22: ='HRR-EQP'!C11 -> 0 | D22: =1/30/8/2 -> 0.0020833333 | E22: =ROUND(C22*D22,0) -> 0
A23: ='HRR-EQP'!A24 -> LLAVES PARA TUBOS | B23: ='HRR-EQP'!B24 -> UN | C23: ='HRR-EQP'!C24 -> 0 | D23: =1/30/8/2 -> 0.0020833333 | E23: =ROUND(C23*D23,0) -> 0
C24: 0 | E24: =ROUND(C24*D24,0) -> 0
D25: SUB-TOTAL | E25: =SUM(E22:E24) -> 0
A27: 3. DESCRIPCIÓN MANO DE OBRA CUADRILLAS | B27: UNIDAD | C27: VR. UNIT. | D27: RENDIMIENTO | E27: VR. UNITARIO
A28: ='MAN-OBR'!A29 -> MdeO Desmonte MOBILIARIO | B28: ='MAN-OBR'!B29 -> M2 | C28: ='MAN-OBR'!C29 -> 0 | D28: 1 | E28: =ROUND(C28*D28,0) -> 0
C29: 0 | E29: =ROUND(C29*D29,0) -> 0
D30: SUB-TOTAL | E30: =SUM(E28:E29) -> 0
A32: 4. DESCRIPCIÓN OTROS COMPONENTES | B32: UNIDAD | C32: VR. UNIT. | D32: RENDIMIENTO | E32: VR. UNITARIO
A33: =OTROS!A7 -> RETIRO DE ESCOMBROS | B33: =OTROS!B7 -> M3 | C33: =OTROS!C7 -> 0 | D33: 0.2 | E33: =ROUND(C33*D33,0) -> 0
C34: 0 | E34: =ROUND(C34*D34,0) -> 0
D35: SUB-TOTAL | E35: =SUM(E33:E34) -> 0
A37: Elaboro | B37: Reviso | D37: Aprobo
A42: DESCRIPCIÓN DEL ITEM | C42: N° ITEM | D42: UNIDAD | E42: TOTAL COSTO DIRECTO
A43: =RESUMEN!B5 -> Desmonte de canaleta incluido cableado y aparatos eléctricos y de datos. | C43: =RESUMEN!A5 -> 1.02 | D43: =RESUMEN!C5 -> ml | E43: =E52+E58+E63+E68 -> 0
A46: 1. DESCRIPCION DE MATERIALES E INSUMOS | B46: UNIDAD | C46: VR. UNIT. | D46: CANT/UND. | E46: VR. INSUMO
A47: ='MAT-INSM'!A40 -> CARTON CORRUGADO, ROLLO 1,2 M*10ML=48M2 | B47: ='MAT-INSM'!B40 -> M2 | C47: ='MAT-INSM'!C40 -> 0 | D47: 1 | E47: =ROUND(C47*D47,0) -> 0
C48: 0 | E48: =ROUND(C48*D48,0) -> 0
C49: 0 | E49: =ROUND(C49*D49,0) -> 0
C50: 0 | E50: =ROUND(C50*D50,0) -> 0
C51: 0 | E51: =ROUND(C51*D51,0) -> 0
D52: SUB-TOTAL | E52: =SUM(E47:E51) -> 0
A54: 2. DESCRIPCIÓN EQUIPOS Y HERRAMIENTAS | B54: UNIDAD | C54: VR. UNIT. | D54: CANT. | E54: VR. UNIT.
A55: ='HRR-EQP'!A11 -> DESTORNILLADOR DE PALA 1/4" X 6" | B55: ='HRR-EQP'!B11 -> UN | C55: ='HRR-EQP'!C11 -> 0 | D55: =1/30/8/2 -> 0.0020833333 | E55: =ROUND(C55*D55,0) -> 0
A56: ='HRR-EQP'!A33 -> PULIDORA INDUSTRIAL DE 4 ½" MAKITA 10000 RPM | B56: ='HRR-EQP'!B33 -> DIA | C56: ='HRR-EQP'!C33 -> 0 | D56: =1/8/2 -> 0.0625 | E56: =ROUND(C56*D56,0) -> 0
...

Sheet APU-CP2
A1: FORMATO DE ANÁLISIS DE PRECIOS UNITARIOS (APU)
A2: GRUPO DE GESTION ADMINISTRATIVA | B2: EQUIPO DE INFRAESTRUCTURA FISICA
A4: OBJETO DEL CONTRATO | D4: N° DEL CONTRATO
A5: CONTRATAR EL MANTENIMIENTO INTEGRAL, ADECUACIONES Y/O MEJORAS LOCATIVAS PARA LAS SEDES A NIVEL NACIONAL CARGO DE LA UNIDAD NACIONAL DE PROTECCIÓN | D5: FECHA DEL CONTRATO
A6: =RESUMEN!B22 -> CAPITULO 2 BASES PISOS Y ACABADOS | D6: NOMBRE DEL CONTRATISTA
A9: DESCRIPCIÓN DEL ITEM | C9: N° ITEM | D9: UNIDAD | E9: TOTAL COSTO DIRECTO
A10: =RESUMEN!B23 -> Alistado de piso en mortero 1:3 afinado e=4cm. | C10: =RESUMEN!A23 -> 2.01 | D10: =RESUMEN!C23 -> m2 | E10: =E19+E25+E30+E35 -> 0
A13: 1. DESCRIPCION DE MATERIALES E INSUMOS | B13: UNIDAD | C13: VR. UNIT. | D13: CANT/UND. | E13: VR. INSUMO
A14: ='MAT-INSM'!A13 -> ARENA LAVADA DE RIO | B14: ='MAT-INSM'!B13 -> M3 | C14: ='MAT-INSM'!C13 -> 0 | D14: =1/144*9 -> 0.0625 | E14: =ROUND(C14*D14,0) -> 0
A15: ='MAT-INSM'!A42 -> CEMENTO GRIS (constructor) | B15: ='MAT-INSM'!B42 -> KG | C15: ='MAT-INSM'!C42 -> 0 | D15: 18 | E15: =ROUND(C15*D15,0) -> 0
A16: ='MAT-INSM'!A6 -> AGUA | B16: ='MAT-INSM'!B6 -> LT | C16: ='MAT-INSM'!C6 -> 0 | D16: 10 | E16: =ROUND(C16*D16,0) -> 0
C17: 0 | E17: =ROUND(C17*D17,0) -> 0
C18: 0 | E18: =ROUND(C18*D18,0) -> 0
D19: SUB-TOTAL | E19: =SUM(E14:E18) -> 0
A21: 2. DESCRIPCIÓN EQUIPOS Y HERRAMIENTAS | B21: UNIDAD | C21: VR. UNIT. | D21: CANT. | E21: VR. UNIT.
A22: ='HRR-EQP'!A7 -> CARRETILLA "BUGUI" | B22: ='HRR-EQP'!B7 -> MES | C22: ='HRR-EQP'!C7 -> 0 | D22: =1/30/8 -> 0.0041666667 | E22: =ROUND(C22*D22,0) -> 0
A23: ='HRR-EQP'!A28 -> PALA No.2 P/CUADRADA CON CABO HERRAGRO | B23: ='HRR-EQP'!B28 -> UN | C23: ='HRR-EQP'!C28 -> 0 | D23: =1/30/16 -> 0.0020833333 | E23: =ROUND(C23*D23,0) -> 0
A24: ='HRR-EQP'!A30 -> PALUSTRE MANGO PLASTICO DE 8" | B24: ='HRR-EQP'!B30 -> UN | C24: ='HRR-EQP'!C30 -> 0 | D24: =1/30/16 -> 0.0020833333 | E24: =ROUND(C24*D24,0) -> 0
D25: SUB-TOTAL | E25: =SUM(E22:E24) -> 0
A27: 3. DESCRIPCIÓN MANO DE OBRA CUADRILLAS | B27: UNIDAD | C27: VR. UNIT. | D27: RENDIMIENTO | E27: VR. UNITARIO
A28: ='MAN-OBR'!A8 -> MdeO AFINADO PISOS | B28: ='MAN-OBR'!B8 -> M2 | C28: ='MAN-OBR'!C8 -> 0 | D28: 1 | E28: =ROUND(C28*D28,0) -> 0
C29: 0 | E29: =ROUND(C29*D29,0) -> 0
D30: SUB-TOTAL | E30: =SUM(E28:E29) -> 0
A32: 4. DESCRIPCIÓN OTROS COMPONENTES | B32: UNIDAD | C32: VR. UNIT. | D32: RENDIMIENTO | E32: VR. UNITARIO
A33: =OTROS!A7 -> RETIRO DE ESCOMBROS | B33: =OTROS!B7 -> M3 | C33: =OTROS!C7 -> 0 | D33: 0.025 | E33: =ROUND(C33*D33,0) -> 0
C34: 0 | E34: =ROUND(C34*D34,0) -> 0
D35: SUB-TOTAL | E35: =SUM(E33:E34) -> 0
A37: Elaboro | B37: Reviso | D37: Aprobo
A42: DESCRIPCIÓN DEL ITEM | C42: N° ITEM | D42: UNIDAD | E42: TOTAL COSTO DIRECTO
A43: =RESUMEN!B24 -> Alistado de piso en mortero impermeabilizado 1:3 afinado e=4cm. | C43: =RESUMEN!A24 -> 2.02 | D43: =RESUMEN!C24 -> m2 | E43: =E52+E58+E63+E68 -> 0
A46: 1. DESCRIPCION DE MATERIALES E INSUMOS | B46: UNIDAD | C46: VR. UNIT. | D46: CANT/UND. | E46: VR. INSUMO
A47: ='MAT-INSM'!A13 -> ARENA LAVADA DE RIO | B47: ='MAT-INSM'!B13 -> M3 | C47: ='MAT-INSM'!C13 -> 0 | D47: =1/144*9 -> 0.0625 | E47: =ROUND(C47*D47,0) -> 0
A48: ='MAT-INSM'!A42 -> CEMENTO GRIS (constructor) | B48: ='MAT-INSM'!B42 -> KG | C48: ='MAT-INSM'!C42 -> 0 | D48: 18 | E48: =ROUND(C48*D48,0) -> 0
A49: ='MAT-INSM'!A6 -> AGUA | B49: ='MAT-INSM'!B6 -> LT | C49: ='MAT-INSM'!C6 -> 0 | D49: 10 | E49: =ROUND(C49*D49,0) -> 0
A50: ='MAT-INSM'!A143 -> SIKA 1 20 KILOS | B50: ='MAT-INSM'!B143 -> KG | C50: ='MAT-INSM'!C143 -> 0 | D50: 0.25 | E50: =ROUND(C50*D50,0) -> 0
C51: 0 | E51: =ROUND(C51*D51,0) -> 0
D52: SUB-TOTAL | E52: =SUM(E47:E51) -> 0
A54: 2. DESCRIPCIÓN EQUIPOS Y HERRAMIENTAS | B54: UNIDAD | C54: VR. UNIT. | D54: CANT. | E54: VR. UNIT.
A55: ='HRR-EQP'!A7 -> CARRETILLA "BUGUI" | B55: ='HRR-EQP'!B7 -> MES | C55: ='HRR-EQP'!C7 -> 0 | D55: =1/30/8 -> 0.0041666667 | E55: =ROUND(C55*D55,0) -> 0
A56: ='HRR-EQP'!A28 -> PALA No.2 P/CUADRADA CON CABO HERRAGRO | B56: ='HRR-EQP'!B28 -> UN | C56: ='HRR-EQP'!C28 -> 0 | D56: =1/30/16 -> 0.0020833333 | E56: =ROUND(C56*D56,0) -> 0
...

Sheet APU-CP3
A1: FORMATO DE ANÁLISIS DE PRECIOS UNITARIOS (APU)
A2: GRUPO DE GESTION ADMINISTRATIVA | B2: EQUIPO DE INFRAESTRUCTURA FISICA
A4: OBJETO DEL CONTRATO | D4: N° DEL CONTRATO
A5: CONTRATAR EL MANTENIMIENTO INTEGRAL, ADECUACIONES Y/O MEJORAS LOCATIVAS PARA LAS SEDES A NIVEL NACIONAL CARGO DE LA UNIDAD NACIONAL DE PROTECCIÓN | D5: FECHA DEL CONTRATO
A6: =RESUMEN!B35 -> CAPITULO 3 MAMPOSTERIA REFUERZOS, PAÑETES, MUROS SECOS Y PINTURA | D6: NOMBRE DEL CONTRATISTA
A9: DESCRIPCIÓN DEL ITEM | C9: N° ITEM | D9: UNIDAD | E9: TOTAL COSTO DIRECTO
A10: =RESUMEN!B36 -> Suministro e instalación de concreto de 3000 PSI, incluye encofrados. | C10: =RESUMEN!A36 -> 3.01 | D10: =RESUMEN!C36 -> m3 | E10: =E19+E25+E30+E35 -> 0
A13: 1. DESCRIPCION DE MATERIALES E INSUMOS | B13: UNIDAD | C13: VR. UNIT. | D13: CANT/UND. | E13: VR. INSUMO
A14: ='MAT-INSM'!A13 -> ARENA LAVADA DE RIO | B14: ='MAT-INSM'!B13 -> M3 | C14: ='MAT-INSM'!C13 -> 0 | D14: 0.66 | E14: =ROUND(C14*D14,0) -> 0
A15: ='MAT-INSM'!A74 -> GRAVILLA DE RIO M3 | B15: ='MAT-INSM'!B74 -> M3 | C15: ='MAT-INSM'!C74 -> 0 | D15: 0.8 | E15: =ROUND(C15*D15,0) -> 0
A16: ='MAT-INSM'!A42 -> CEMENTO GRIS (constructor) | B16: ='MAT-INSM'!B42 -> KG | C16: ='MAT-INSM'!C42 -> 0 | D16: 350 | E16: =ROUND(C16*D16,0) -> 0
A17: ='MAT-INSM'!A6 -> AGUA | B17: ='MAT-INSM'!B6 -> LT | C17: ='MAT-INSM'!C6 -> 0 | D17: 140 | E17: =ROUND(C17*D17,0) -> 0
A18: ='MAT-INSM'!A154 -> TABLA BURRA .30x.025x3 ORDINAR | B18: ='MAT-INSM'!B154 -> ML | C18: ='MAT-INSM'!C154 -> 0 | D18: 17 | E18: =ROUND(C18*D18,0) -> 0
D19: SUB-TOTAL | E19: =SUM(E14:E18) -> 0
A21: 2. DESCRIPCIÓN EQUIPOS Y HERRAMIENTAS | B21: UNIDAD | C21: VR. UNIT. | D21: CANT. | E21: VR. UNIT.
A22: ='HRR-EQP'!A7 -> CARRETILLA "BUGUI" | B22: ='HRR-EQP'!B7 -> MES | C22: ='HRR-EQP'!C7 -> 0 | D22: =1/30/8 -> 0.0041666667 | E22: =ROUND(C22*D22,0) -> 0
A23: ='HRR-EQP'!A27 -> MEZCLADORA DE CONCRETO | B23: ='HRR-EQP'!B27 -> DIA | C23: ='HRR-EQP'!C27 -> 0 | D23: =1/8 -> 0.125 | E23: =ROUND(C23*D23,0) -> 0
A24: ='HRR-EQP'!A28 -> PALA No.2 P/CUADRADA CON CABO HERRAGRO | B24: ='HRR-EQP'!B28 -> UN | C24: ='HRR-EQP'!C28 -> 0 | D24: 0.125 | E24: =ROUND(C24*D24,0) -> 0
D25: SUB-TOTAL | E25: =SUM(E22:E24) -> 0
A27: 3. DESCRIPCIÓN MANO DE OBRA CUADRILLAS | B27: UNIDAD | C27: VR. UNIT. | D27: RENDIMIENTO | E27: VR. UNITARIO
A28: ='MAN-OBR'!A18 -> MdeO CONCRETO ENCOFRADOS | B28: ='MAN-OBR'!B18 -> M3 | C28: ='MAN-OBR'!C18 -> 0 | D28: 1 | E28: =ROUND(C28*D28,0) -> 0
C29: 0 | E29: =ROUND(C29*D29,0) -> 0
D30: SUB-TOTAL | E30: =SUM(E28:E29) -> 0
A32: 4. DESCRIPCIÓN OTROS COMPONENTES | B32: UNIDAD | C32: VR. UNIT. | D32: RENDIMIENTO | E32: VR. UNITARIO
A33: =OTROS!A3 -> DISEÑO DE UNA MEZCLA DE HORMIGON | B33: =OTROS!B3 -> UN | C33: =OTROS!C3 -> 0 | D33: 0.1 | E33: =ROUND(C33*D33,0) -> 0
A34: =OTROS!A4 -> ENSAYO DE CILINDRO DE 24 HORAS DE EDAD | B34: =OTROS!B4 -> UN | C34: =OTROS!C4 -> 0 | D34: 0.1 | E34: =ROUND(C34*D34,0) -> 0
D35: SUB-TOTAL | E35: =SUM(E33:E34) -> 0
A37: Elaboro | B37: Reviso | D37: Aprobo
A42: DESCRIPCIÓN DEL ITEM | C42: N° ITEM | D42: UNIDAD | E42: TOTAL COSTO DIRECTO
A43: =RESUMEN!B37 -> Suministro figurada y amarre de acero 60000 PSI. | C43: =RESUMEN!A37 -> 3.02 | D43: =RESUMEN!C37 -> kg | E43: =E52+E58+E63+E68 -> 0
A46: 1. DESCRIPCION DE MATERIALES E INSUMOS | B46: UNIDAD | C46: VR. UNIT. | D46: CANT/UND. | E46: VR. INSUMO
A47: ='MAT-INSM'!A80 -> HIERRO PR-60 Corru/Fig ½" | B47: ='MAT-INSM'!B80 -> KG | C47: ='MAT-INSM'!C80 -> 0 | D47: 1.05 | E47: =ROUND(C47*D47,0) -> 0
A48: ='MAT-INSM'!A9 -> ALAMBRE NEGRO Cal. 18 | B48: ='MAT-INSM'!B9 -> KG | C48: ='MAT-INSM'!C9 -> 0 | D48: 0.025 | E48: =ROUND(C48*D48,0) -> 0
C49: 0 | E49: =ROUND(C49*D49,0) -> 0
C50: 0 | E50: =ROUND(C50*D50,0) -> 0
C51: 0 | E51: =ROUND(C51*D51,0) -> 0
D52: SUB-TOTAL | E52: =SUM(E47:E51) -> 0
A54: 2. DESCRIPCIÓN EQUIPOS Y HERRAMIENTAS | B54: UNIDAD | C54: VR. UNIT. | D54: CANT. | E54: VR. UNIT.
A55: ='HRR-EQP'!A33 -> PULIDORA INDUSTRIAL DE 4 ½" MAKITA 10000 RPM | B55: ='HRR-EQP'!B33 -> DIA | C55: ='HRR-EQP'!C33 -> 0 | D55: =1/8/2 -> 0.0625 | E55: =ROUND(C55*D55,0) -> 0
A56: ='HRR-EQP'!A8 -> CIZALLA MANO 36" | B56: ='HRR-EQP'!B8 -> DIA | C56: ='HRR-EQP'!C8 -> 0 | D56: =1/8/12 -> 0.010416667 | E56: =ROUND(C56*D56,0) -> 0
...

Sheet APU-CP4
A1: FORMATO DE ANÁLISIS DE PRECIOS UNITARIOS (APU)
A2: GRUPO DE GESTION ADMINISTRATIVA | B2: EQUIPO DE INFRAESTRUCTURA FISICA
A4: OBJETO DEL CONTRATO | D4: N° DEL CONTRATO
A5: CONTRATAR EL MANTENIMIENTO INTEGRAL, ADECUACIONES Y/O MEJORAS LOCATIVAS PARA LAS SEDES A NIVEL NACIONAL CARGO DE LA UNIDAD NACIONAL DE PROTECCIÓN | D5: FECHA DEL CONTRATO
A6: =RESUMEN!B52 -> CAPITULO 4 CUBIERTAS Y CIELORASOS | D6: NOMBRE DEL CONTRATISTA
A9: DESCRIPCIÓN DEL ITEM | C9: N° ITEM | D9: UNIDAD | E9: TOTAL COSTO DIRECTO
A10: =RESUMEN!B53 -> Desmonte o reinstalación de teja de fibrocemento, traslucida, acero pintado o similar, por cambio, reparación o refuerzo de estructura. | C10: =RESUMEN!A53 -> 4.01 | D10: =RESUMEN!C53 -> m2 | E10: =E19+E25+E30+E35 -> 0
A13: 1. DESCRIPCION DE MATERIALES E INSUMOS | B13: UNIDAD | C13: VR. UNIT. | D13: CANT/UND. | E13: VR. INSUMO
A14: ='MAT-INSM'!A96 -> LONA PLASTICA VERDE | B14: ='MAT-INSM'!B96 -> M2 | C14: ='MAT-INSM'!C96 -> 0 | D14: 1 | E14: =ROUND(C14*D14,0) -> 0
C15: 0 | E15: =ROUND(C15*D15,0) -> 0
C16: 0 | E16: =ROUND(C16*D16,0) -> 0
C17: 0 | E17: =ROUND(C17*D17,0) -> 0
C18: 0 | E18: =ROUND(C18*D18,0) -> 0
D19: SUB-TOTAL | E19: =SUM(E14:E18) -> 0
A21: 2. DESCRIPCIÓN EQUIPOS Y HERRAMIENTAS | B21: UNIDAD | C21: VR. UNIT. | D21: CANT. | E21: VR. UNIT.
A22: ='HRR-EQP'!A3 -> ANDAMIO TUBULAR (SECC.) | B22: ='HRR-EQP'!B3 -> DIA | C22: ='HRR-EQP'!C3 -> 0 | D22: =1/8 -> 0.125 | E22: =ROUND(C22*D22,0) -> 0
A23: ='HRR-EQP'!A29 -> PALUSTRE MANGO PLASTICO DE 5" | B23: ='HRR-EQP'!B29 -> UN | C23: ='HRR-EQP'!C29 -> 0 | D23: =1/8/6 -> 0.020833333 | E23: =ROUND(C23*D23,0) -> 0
C24: 0 | E24: =ROUND(C24*D24,0) -> 0
D25: SUB-TOTAL | E25: =SUM(E22:E24) -> 0
A27: 3. DESCRIPCIÓN MANO DE OBRA CUADRILLAS | B27: UNIDAD | C27: VR. UNIT. | D27: RENDIMIENTO | E27: VR. UNITARIO
A28: ='MAN-OBR'!A22 -> MdeO Demol CUBIERTA A.C. | B28: ='MAN-OBR'!B22 -> M2 | C28: ='MAN-OBR'!C22 -> 0 | D28: 1 | E28: =ROUND(C28*D28,0) -> 0
C29: 0 | E29: =ROUND(C29*D29,0) -> 0
D30: SUB-TOTAL | E30: =SUM(E28:E29) -> 0
A32: 4. DESCRIPCIÓN OTROS COMPONENTES | B32: UNIDAD | C32: VR. UNIT. | D32: RENDIMIENTO | E32: VR. UNITARIO
A33: =OTROS!A7 -> RETIRO DE ESCOMBROS | B33: =OTROS!B7 -> M3 | C33: =OTROS!C7 -> 0 | D33: 0.25 | E33: =ROUND(C33*D33,0) -> 0
C34: 0 | E34: =ROUND(C34*D34,0) -> 0
D35: SUB-TOTAL | E35: =SUM(E33:E34) -> 0
A37: Elaboro | B37: Reviso | D37: Aprobo
A42: DESCRIPCIÓN DEL ITEM | C42: N° ITEM | D42: UNIDAD | E42: TOTAL COSTO DIRECTO
A43: =RESUMEN!B54 -> Desmonte, suministro y reemplazo de teja de fibrocemento o similar. | C43: =RESUMEN!A54 -> 4.02 | D43: =RESUMEN!C54 -> m2 | E43: =E52+E58+E63+E68 -> 0
A46: 1. DESCRIPCION DE MATERIALES E INSUMOS | B46: UNIDAD | C46: VR. UNIT. | D46: CANT/UND. | E46: VR. INSUMO
A47: ='MAT-INSM'!A165 -> TEJA PLACA Ond. No. 4 ETERNIT | B47: ='MAT-INSM'!B165 -> UN | C47: ='MAT-INSM'!C165 -> 0 | D47: =1/0.79/1.22 -> 1.0375597 | E47: =ROUND(C47*D47,0) -> 0
A48: ='MAT-INSM'!A73 -> GANCHO PLACA Ond.150mm ETERNIT | B48: ='MAT-INSM'!B73 -> UN | C48: ='MAT-INSM'!C73 -> 0 | D48: 2 | E48: =ROUND(C48*D48,0) -> 0
A49: ='MAT-INSM'!A138 -> PUNTILLA 2" CON CABEZA | B49: ='MAT-INSM'!B138 -> LB | C49: ='MAT-INSM'!C138 -> 0 | D49: 0.025 | E49: =ROUND(C49*D49,0) -> 0
C50: 0 | E50: =ROUND(C50*D50,0) -> 0
C51: 0 | E51: =ROUND(C51*D51,0) -> 0
D52: SUB-TOTAL | E52: =SUM(E47:E51) -> 0
A54: 2. DESCRIPCIÓN EQUIPOS Y HERRAMIENTAS | B54: UNIDAD | C54: VR. UNIT. | D54: CANT. | E54: VR. UNIT.
A55: =A22 -> ANDAMIO TUBULAR (SECC.) | B55: =B22 -> DIA | C55: =C22 -> 0 | D55: =1/8 -> 0.125 | E55: =ROUND(C55*D55,0) -> 0
A56: =A23 -> PALUSTRE MANGO PLASTICO DE 5" | B56: =B23 -> UN | C56: =C23 -> 0 | D56: =1/8/6 -> 0.020833333 | E56: =ROUND(C56*D56,0) -> 0
...

Sheet APU-CP5
A1: FORMATO DE ANÁLISIS DE PRECIOS UNITARIOS (APU)
A2: GRUPO DE GESTION ADMINISTRATIVA | B2: EQUIPO DE INFRAESTRUCTURA FISICA
