Workbook

Sheet MOD-OP-1
C1: CONTRATO No : 096 DE 2015 | G1: VALOR INICIAL DEL CONTRATO: | J1: FECHA DE LA PRESENTE ACTA:
C2: OBJETO: | G2: 2128394192
C3: MEJORAMIENTO Y ADECUACION DE VIAS EN CONCRETO RIGIDO EN OBRAS COMPLEMENTARIAS PARA EL CENTRO POBLADO DE CHICHIMENE DEL MUNICIPIO DE ACACIAS. | G3: VALOR ANTICIPO: | J3: PORCENTAJE DE LA PRESENTE ACTA:
G5: VALOR ADICIONAL: | J5: VALOR PRESENTE ACTA:
G7: VALOR ANTICIPO ADICIONAL | J7: VALOR A AMORTIZAR PRESENTE ACTA
G9: VALOR ACTUAL DEL CONTRATO: | J9: PORCENTAJE TOTAL EJECUTADO:
A10: DEPARTAMENTO DEL META | C10: CONTRATISTA: CONSORCIO 2015 CHICHIMENE R/L ANA ELVIA CARRANZA ACOSTA | G10: =D115 -> 2160026919
A11: MUNICIPIO DE ACACIAS | G11: VALOR ACTA DE RECIBO PARCIAL | J11: ESTADO: EN EJECUCION
A12: SECRETARIA DE INFRAESTRUCTURA | C12: INTERVENTOR : B&C DISEÑOS Y CONSTRUCCIONES R/L RICARDO ANTONIO MEJIA OSORIO
A13: ACTA MODIFICATORIA No 01 | G13: VALOR AMORTIZADO PARCIAL
C14: SUPERVISOR: SECRETARIA DE INFRAESTRUCTURA
A16: En el Municipio de Acacias - Meta, a a los Cinco (05) dias del mes de JUNIO del año 2015, se reunieron: la Ingeniera Ana Elvia Carranza Acosta Representante legal de la Consorcio 2015 Chichimene, Contratista, el Ingeniero Jimmy Andres Torres Castro Secretario de Infraestructura, Ricardo Antonio Mejia Osorio como Representante legal de la Interventoria contratada, para dejar constancia de la presente Acta Modificatoria No. 1, para lo cual se hace necesario realizar el siguiente analisis:
A17: CONDICIONES CONTRACTUALES INICIALES | G17: MAYORES CANTIDADES | I17: MENORES CANTIDADES | K17: CANTIDADES ACTUALIZADAS
A18: ITEM | B18: DESCRIPCION | C18: UND | D18: CANT | E18: V.UNITARIO | F18: V.TOTAL | G18: CANT | H18: VALOR | I18: CANT. | J18: VALOR | K18: CANT | L18: VALOR
A19: MEJORAMIENTO DE VIAS CENTRO POBLADO DE CHICHIMENE
A20: 1 | B20: PRELIMINARES
A21: 1.1 | B21: TOPOGRAFIA DE VIAS. Incl. Localizacion y Replanteo | C21: ML | D21: 1294.5 | E21: 2970 | F21: =ROUND(D21*E21,0) -> 3844665 | G21: =IF(K21>D21,K21-D21,0) -> 0 | H21: =ROUND(E21*G21,0) -> 0 | I21: =IF(D21>K21,D21-K21,0) -> 66.03 | J21: =ROUND(I21*E21,0) -> 196109 | K21: 1228.47 | L21: =ROUND(E21*K21,0) -> 3648556
A22: 1.2 | B22: LOCALIZACION Y REPL. DE SARDINEL (Incl. Cartera y plano) | C22: ML | D22: 2589 | E22: 3057 | F22: =ROUND(D22*E22,0) -> 7914573 | G22: =IF(K22>D22,K22-D22,0) -> 0 | H22: =ROUND(E22*G22,0) -> 0 | I22: =IF(D22>K22,D22-K22,0) -> 222.24 | J22: =ROUND(I22*E22,0) -> 679388 | K22: 2366.76 | L22: =ROUND(E22*K22,0) -> 7235185
A23: 1.3 | B23: RENIVELACION Y COMPACTACION DE LA BANCA EXISTENTE DE 6 A 8 M INC TRANS | C23: KM | D23: 1.29 | E23: 1478476 | F23: =ROUND(D23*E23,0) -> 1907234 | G23: =IF(K23>D23,K23-D23,0) -> 0 | H23: =ROUND(E23*G23,0) -> 0 | I23: =IF(D23>K23,D23-K23,0) -> 0.07 | J23: =ROUND(I23*E23,0) -> 103493 | K23: 1.22 | L23: =ROUND(E23*K23,0) -> 1803741
F24: =SUM(F21:F23) -> 13666472 | H24: =SUM(H21:H23) -> 0 | J24: =SUM(J21:J23) -> 978990 | L24: =SUM(L21:L23) -> 12687482
A25: 2 | B25: DEMOLICION
B26: DEMOLICION CONCRETO SIMPLE INC. Cargue manual 5 km | C26: M3 | D26: 12 | E26: 209569 | F26: =ROUND(D26*E26,0) -> 2514828 | G26: =IF(K26>D26,K26-D26,0) -> 49.41 | H26: =ROUND(E26*G26,0) -> 10354804 | I26: =IF(D26>K26,D26-K26,0) -> 0 | J26: =ROUND(I26*E26,0) -> 0 | K26: 61.41 | L26: =ROUND(E26*K26,0) -> 12869632
F27: =ROUND(D27*E27,0) -> 0
F28: =SUM(F26:F27) -> 2514828 | H28: =SUM(H26:H27) -> 10354804 | J28: =SUM(J26:J27) -> 0 | L28: =SUM(L26:L27) -> 12869632
A29: 3 | B29: EXCAVACIONES
A30: 3.1 | B30: EXCAV. MECAN INC. RETIRO DE SOBRANTE (xa caja de via) | C30: M3 | D30: 4185.45 | E30: 19763 | F30: =ROUND(D30*E30,0) -> 82717048 | G30: =IF(K30>D30,K30-D30,0) -> 97.91 | H30: =ROUND(E30*G30,0) -> 1934995 | I30: =IF(D30>K30,D30-K30,0) -> 0 | J30: =ROUND(I30*E30,0) -> 0 | K30: 4283.36 | L30: =ROUND(E30*K30,0) -> 84652044
A31: 3.2 | B31: EXCAV. SECAS CONGLOMERADO MANUAL. Incl. Retiro 5 kms | C31: M3 | D31: 516.35 | E31: 52187 | F31: =ROUND(D31*E31,0) -> 26946757 | G31: =IF(K31>D31,K31-D31,0) -> 0 | H31: =ROUND(E31*G31,0) -> 0 | I31: =IF(D31>K31,D31-K31,0) -> 40.41 | J31: =ROUND(I31*E31,0) -> 2108877 | K31: 475.94 | L31: =ROUND(E31*K31,0) -> 24837881 | N31: 401.23 | O31: =N31-K31 -> -74.71 | P31: =O31*E30 -> -1476493.7
F32: =SUM(F30:F31) -> 109663805 | H32: =SUM(H30:H31) -> 1934995 | J32: =SUM(J30:J31) -> 2108877 | L32: =SUM(L30:L31) -> 109489925
A33: 4 | B33: RELLENOS
A34: 4.1 | B34: RELLENO MATERIAL T. MAX. 2" COMP. MECAN. Selecc rio | C34: M3 | D34: 211.74 | E34: 31353 | F34: =ROUND(D34*E34,0) -> 6638684 | G34: =IF(K34>D34,K34-D34,0) -> 1.49 | H34: =ROUND(E34*G34,0) -> 46716 | I34: =IF(D34>K34,D34-K34,0) -> 0 | J34: =ROUND(I34*E34,0) -> 0 | K34: 213.23 | L34: =ROUND(E34*K34,0) -> 6685400 | N34: 204.89 | O34: =N34-K34 -> -8.34 | P34: =O34*E34 -> -261484.02
A35: 4.2 | B35: SUB-BASE GRAN. RIO SELEC. T. MAX. 2" Inc. Transp 5 km | C35: M3 | D35: 1486.4 | E35: 59142 | F35: =ROUND(D35*E35,0) -> 87908669 | G35: =IF(K35>D35,K35-D35,0) -> 0 | H35: =ROUND(E35*G35,0) -> 0 | I35: =IF(D35>K35,D35-K35,0) -> 79.2 | J35: =ROUND(I35*E35,0) -> 4684046 | K35: 1407.2 | L35: =ROUND(E35*K35,0) -> 83224622
F36: =SUM(F34:F35) -> 94547353 | H36: =SUM(H34:H35) -> 46716 | J36: =SUM(J34:J35) -> 4684046 | L36: =SUM(L34:L35) -> 89910022
A37: 5 | B37: PAVIMENTOS RIGIDOS
A38: 5.1 | B38: PAVIMENTO CONCRETO MR= 3,8 Inc transporte 5 kms | C38: M3 | D38: 1486.4 | E38: 666008 | F38: =ROUND(D38*E38,0) -> 989954291 | G38: =IF(K38>D38,K38-D38,0) -> 0 | H38: =ROUND(E38*G38,0) -> 0 | I38: =IF(D38>K38,D38-K38,0) -> 97.16 | J38: =ROUND(I38*E38,0) -> 64709337 | K38: 1389.24 | L38: =ROUND(E38*K38,0) -> 925244954 | N38: 1402.8 | O38: =N38-K38 -> 13.56 | P38: =O38*E38 -> 9031068.5
A39: 5.2 | B39: ACERO REFUERZO FIGURADO 412Mpa, ( 4200 KG/CM2, G60) | C39: KG | D39: 10000 | E39: 4005 | F39: =ROUND(D39*E39,0) -> 40050000 | G39: =IF(K39>D39,K39-D39,0) -> 0 | H39: =ROUND(E39*G39,0) -> 0 | I39: =IF(D39>K39,D39-K39,0) -> 3624.33 | J39: =ROUND(I39*E39,0) -> 14515442 | K39: 6375.67 | L39: =ROUND(E39*K39,0) -> 25534558 | N39: 6123.52 | O39: =N39-K39 -> -252.15 | P39: =O39*E39 -> -1009860.7
A40: 5.3 | B40: SARDINEL PREFAB BLOQUE CEMENTO A-10 SENCILLO | C40: ML | D40: 2589 | E40: 56280 | F40: =ROUND(D40*E40,0) -> 145708920 | G40: =IF(K40>D40,K40-D40,0) -> 0 | H40: =ROUND(E40*G40,0) -> 0 | I40: =IF(D40>K40,D40-K40,0) -> 222.24 | J40: =ROUND(I40*E40,0) -> 12507667 | K40: 2366.76 | L40: =ROUND(E40*K40,0) -> 133201253 | N40: 133201253 | O40: 1183.4
F41: =SUM(F38:F40) -> 1175713211 | H41: =SUM(H38:H40) -> 0 | J41: =SUM(J38:J40) -> 91732446 | L41: =SUM(L38:L40) -> 1083980765
A42: 6 | B42: SEÑALIZACION
A43: 6.1 | B43: LINEA DEMAR. VIAL PINTURA FRIA, e= 0,12m, Inc Microesf | C43: ML | D43: 3883.5 | E43: 2973 | F43: =ROUND(D43*E43,0) -> 11545646 | G43: =IF(K43>D43,K43-D43,0) -> 0 | H43: =ROUND(E43*G43,0) -> 0 | I43: =IF(D43>K43,D43-K43,0) -> 1481.74 | J43: =ROUND(I43*E43,0) -> 4405213 | K43: 2401.76 | L43: =ROUND(E43*K43,0) -> 7140432
A44: 6.2 | B44: LINEA DEMAR. VIAL PINTURA FRIA, e= 0,4m, Inc Microesf | C44: ML | D44: 348 | E44: 8919 | F44: =ROUND(D44*E44,0) -> 3103812 | G44: =IF(K44>D44,K44-D44,0) -> 0 | H44: =ROUND(E44*G44,0) -> 0 | I44: =IF(D44>K44,D44-K44,0) -> 208.8 | J44: =ROUND(I44*E44,0) -> 1862287 | K44: 139.2 | L44: =ROUND(E44*K44,0) -> 1241525
...

Sheet MOD-OP-2
C1: CONTRATO No : 096 DE 2015 | G1: VALOR INICIAL DEL CONTRATO: | J1: FECHA DE LA PRESENTE ACTA:
C2: OBJETO: | G2: 2128394192 | J2: 09 DE JULIO DE 2015
C3: MEJORAMIENTO Y ADECUACION DE VIAS EN CONCRETO RIGIDO EN OBRAS COMPLEMENTARIAS PARA EL CENTRO POBLADO DE CHICHIMENE DEL MUNICIPIO DE ACACIAS. | G3: VALOR ANTICIPO: | J3: PORCENTAJE DE LA PRESENTE ACTA:
G5: VALOR ADICIONAL: | J5: VALOR PRESENTE ACTA:
G7: VALOR ANTICIPO ADICIONAL | J7: VALOR A AMORTIZAR PRESENTE ACTA
G9: VALOR ACTUAL DEL CONTRATO: | J9: PORCENTAJE TOTAL EJECUTADO:
A10: DEPARTAMENTO DEL META | C10: CONTRATISTA: CONSORCIO 2015 CHICHIMENE R/L ANA ELVIA CARRANZA ACOSTA | G10: =D117 -> 2128393951
A11: MUNICIPIO DE ACACIAS | G11: VALOR ACTA DE RECIBO PARCIAL | J11: ESTADO: EN EJECUCION
A12: SECRETARIA DE INFRAESTRUCTURA | C12: INTERVENTOR : B&C DISEÑOS Y CONSTRUCCIONES R/L RICARDO ANTONIO MEJIA OSORIO
A13: ACTA MODIFICATORIA No 01 | G13: VALOR AMORTIZADO PARCIAL
C14: SUPERVISOR: SECRETARIA DE INFRAESTRUCTURA
A16: En el Municipio de Acacias - Meta, a a los NUEVE (09) dias del mes de JULIO del año 2015, se reunieron: la Ingeniera Ana Elvia Carranza Acosta Representante legal de la Consorcio 2015 Chichimene, Contratista, el Ingeniero Jimmy Andres Torres Castro Secretario de Infraestructura, Ricardo Antonio Mejia Osorio como Representante legal de la Interventoria contratada, para dejar constancia de la presente Acta Modificatoria No. 1, para lo cual se hace necesario realizar el siguiente analisis:
A17: CONDICIONES CONTRACTUALES INICIALES | G17: MAYORES CANTIDADES | I17: MENORES CANTIDADES | K17: CANTIDADES ACTUALIZADAS
A18: ITEM | B18: DESCRIPCION | C18: UND | D18: CANT | E18: V.UNITARIO | F18: V.TOTAL | G18: CANT | H18: VALOR | I18: CANT. | J18: VALOR | K18: CANT | L18: VALOR
A19: MEJORAMIENTO DE VIAS CENTRO POBLADO DE CHICHIMENE
A20: 1 | B20: PRELIMINARES
A21: 1.1 | B21: TOPOGRAFIA DE VIAS. Incl. Localizacion y Replanteo | C21: ML | D21: 1294.5 | E21: 2970 | F21: =ROUND(D21*E21,0) -> 3844665 | G21: =IF(K21>D21,K21-D21,0) -> 0 | H21: =ROUND(E21*G21,0) -> 0 | I21: =IF(D21>K21,D21-K21,0) -> 66.03 | J21: =ROUND(I21*E21,0) -> 196109 | K21: 1228.47 | L21: =ROUND(E21*K21,0) -> 3648556
A22: 1.2 | B22: LOCALIZACION Y REPL. DE SARDINEL (Incl. Cartera y plano) | C22: ML | D22: 2589 | E22: 3057 | F22: =ROUND(D22*E22,0) -> 7914573 | G22: =IF(K22>D22,K22-D22,0) -> 0 | H22: =ROUND(E22*G22,0) -> 0 | I22: =IF(D22>K22,D22-K22,0) -> 222.24 | J22: =ROUND(I22*E22,0) -> 679388 | K22: 2366.76 | L22: =ROUND(E22*K22,0) -> 7235185
A23: 1.3 | B23: RENIVELACION Y COMPACTACION DE LA BANCA EXISTENTE DE 6 A 8 M INC TRANS | C23: KM | D23: 1.29 | E23: 1478476 | F23: =ROUND(D23*E23,0) -> 1907234 | G23: =IF(K23>D23,K23-D23,0) -> 0 | H23: =ROUND(E23*G23,0) -> 0 | I23: =IF(D23>K23,D23-K23,0) -> 1.29 | J23: =ROUND(I23*E23,0) -> 1907234 | K23: 0 | L23: =ROUND(E23*K23,0) -> 0
F24: =SUM(F21:F23) -> 13666472 | H24: =SUM(H21:H23) -> 0 | J24: =SUM(J21:J23) -> 2782731 | L24: =SUM(L21:L23) -> 10883741
A25: 2 | B25: DEMOLICION
B26: DEMOLICION CONCRETO SIMPLE INC. Cargue manual 5 km | C26: M3 | D26: 12 | E26: 209569 | F26: =ROUND(D26*E26,0) -> 2514828 | G26: =IF(K26>D26,K26-D26,0) -> 49.41 | H26: =ROUND(E26*G26,0) -> 10354804 | I26: =IF(D26>K26,D26-K26,0) -> 0 | J26: =ROUND(I26*E26,0) -> 0 | K26: 61.41 | L26: =ROUND(E26*K26,0) -> 12869632
F27: =ROUND(D27*E27,0) -> 0
F28: =SUM(F26:F27) -> 2514828 | H28: =SUM(H26:H27) -> 10354804 | J28: =SUM(J26:J27) -> 0 | L28: =SUM(L26:L27) -> 12869632
A29: 3 | B29: EXCAVACIONES
A30: 3.1 | B30: EXCAV. MECAN INC. RETIRO DE SOBRANTE (xa caja de via) | C30: M3 | D30: 4185.45 | E30: 19763 | F30: =ROUND(D30*E30,0) -> 82717048 | G30: =IF(K30>D30,K30-D30,0) -> 42.47 | H30: =ROUND(E30*G30,0) -> 839335 | I30: =IF(D30>K30,D30-K30,0) -> 0 | J30: =ROUND(I30*E30,0) -> 0 | K30: 4227.92 | L30: =ROUND(E30*K30,0) -> 83556383
A31: 3.2 | B31: EXCAV. SECAS CONGLOMERADO MANUAL. Incl. Retiro 5 kms | C31: M3 | D31: 516.35 | E31: 52187 | F31: =ROUND(D31*E31,0) -> 26946757 | G31: =IF(K31>D31,K31-D31,0) -> 0 | H31: =ROUND(E31*G31,0) -> 0 | I31: =IF(D31>K31,D31-K31,0) -> 40.41 | J31: =ROUND(I31*E31,0) -> 2108877 | K31: 475.94 | L31: =ROUND(E31*K31,0) -> 24837881 | N31: 401.23 | O31: =N31-K31 -> -74.71 | P31: =O31*E30 -> -1476493.7
F32: =SUM(F30:F31) -> 109663805 | H32: =SUM(H30:H31) -> 839335 | J32: =SUM(J30:J31) -> 2108877 | L32: =SUM(L30:L31) -> 108394264
A33: 4 | B33: RELLENOS
A34: 4.1 | B34: RELLENO MATERIAL T. MAX. 2" COMP. MECAN. Selecc rio | C34: M3 | D34: 211.74 | E34: 31353 | F34: =ROUND(D34*E34,0) -> 6638684 | G34: =IF(K34>D34,K34-D34,0) -> 0 | H34: =ROUND(E34*G34,0) -> 0 | I34: =IF(D34>K34,D34-K34,0) -> 6.89 | J34: =ROUND(I34*E34,0) -> 216022 | K34: 204.85 | L34: =ROUND(E34*K34,0) -> 6422662 | N34: 204.89 | O34: =N34-K34 -> 0.04 | P34: =O34*E34 -> 1254.12
A35: 4.2 | B35: SUB-BASE GRAN. RIO SELEC. T. MAX. 2" Inc. Transp 5 km | C35: M3 | D35: 1486.4 | E35: 59142 | F35: =ROUND(D35*E35,0) -> 87908669 | G35: =IF(K35>D35,K35-D35,0) -> 0 | H35: =ROUND(E35*G35,0) -> 0 | I35: =IF(D35>K35,D35-K35,0) -> 79.2 | J35: =ROUND(I35*E35,0) -> 4684046 | K35: 1407.2 | L35: =ROUND(E35*K35,0) -> 83224622
F36: =SUM(F34:F35) -> 94547353 | H36: =SUM(H34:H35) -> 0 | J36: =SUM(J34:J35) -> 4900068 | L36: =SUM(L34:L35) -> 89647284
A37: 5 | B37: PAVIMENTOS RIGIDOS
A38: 5.1 | B38: PAVIMENTO CONCRETO MR= 3,8 Inc transporte 5 kms | C38: M3 | D38: 1486.4 | E38: 666008 | F38: =ROUND(D38*E38,0) -> 989954291 | G38: =IF(K38>D38,K38-D38,0) -> 0 | H38: =ROUND(E38*G38,0) -> 0 | I38: =IF(D38>K38,D38-K38,0) -> 83.6 | J38: =ROUND(I38*E38,0) -> 55678269 | K38: 1402.8 | L38: =ROUND(E38*K38,0) -> 934276022 | N38: 1402.8 | O38: =N38-K38 -> 0 | P38: =O38*E38 -> 0
A39: 5.2 | B39: ACERO REFUERZO FIGURADO 412Mpa, ( 4200 KG/CM2, G60) | C39: KG | D39: 10000 | E39: 4005 | F39: =ROUND(D39*E39,0) -> 40050000 | G39: =IF(K39>D39,K39-D39,0) -> 0 | H39: =ROUND(E39*G39,0) -> 0 | I39: =IF(D39>K39,D39-K39,0) -> 3874.84 | J39: =ROUND(I39*E39,0) -> 15518734 | K39: 6125.16 | L39: =ROUND(E39*K39,0) -> 24531266 | N39: 6123.52 | O39: =N39-K39 -> -1.64 | P39: =O39*E39 -> -6568.2
A40: 5.3 | B40: SARDINEL PREFAB BLOQUE CEMENTO A-10 SENCILLO | C40: ML | D40: 2589 | E40: 56280 | F40: =ROUND(D40*E40,0) -> 145708920 | G40: =IF(K40>D40,K40-D40,0) -> 0 | H40: =ROUND(E40*G40,0) -> 0 | I40: =IF(D40>K40,D40-K40,0) -> 748.42 | J40: =ROUND(I40*E40,0) -> 42121078 | K40: 1840.58 | L40: =ROUND(E40*K40,0) -> 103587842 | N40: 133201253 | O40: 2366.76 | P40: =O40*0.6 -> 1420.056 | Q40: A-10 | R40: =O40-P40 -> 946.704 | S40: =R40/15 -> 63.1136
F41: =SUM(F38:F40) -> 1175713211 | H41: =SUM(H38:H40) -> 0 | J41: =SUM(J38:J40) -> 113318081 | L41: =SUM(L38:L40) -> 1062395130 | P41: =O40*0.25 -> 591.69 | Q41: A-85
A42: 6 | B42: SEÑALIZACION | P42: =O40*0.15 -> 355.014 | Q42: A-100
A43: 6.1 | B43: LINEA DEMAR. VIAL PINTURA FRIA, e= 0,12m, Inc Microesf | C43: ML | D43: 3883.5 | E43: 2973 | F43: =ROUND(D43*E43,0) -> 11545646 | G43: =IF(K43>D43,K43-D43,0) -> 0 | H43: =ROUND(E43*G43,0) -> 0 | I43: =IF(D43>K43,D43-K43,0) -> 1481.74 | J43: =ROUND(I43*E43,0) -> 4405213 | K43: 2401.76 | L43: =ROUND(E43*K43,0) -> 7140432
A44: 6.2 | B44: LINEA DEMAR. VIAL PINTURA FRIA, e= 0,4m, Inc Microesf | C44: ML | D44: 348 | E44: 8919 | F44: =ROUND(D44*E44,0) -> 3103812 | G44: =IF(K44>D44,K44-D44,0) -> 0 | H44: =ROUND(E44*G44,0) -> 0 | I44: =IF(D44>K44,D44-K44,0) -> 208.97 | J44: =ROUND(I44*E44,0) -> 1863803 | K44: 139.03 | L44: =ROUND(E44*K44,0) -> 1240009
...

Sheet MOD-OP-2 (PRIMERA PROYECCION)
C1: CONTRATO No : 096 DE 2015 | G1: VALOR INICIAL DEL CONTRATO: | J1: FECHA DE LA PRESENTE ACTA:
C2: OBJETO: | G2: 2128394192 | J2: 09 DE JULIO DE 2015
C3: MEJORAMIENTO Y ADECUACION DE VIAS EN CONCRETO RIGIDO EN OBRAS COMPLEMENTARIAS PARA EL CENTRO POBLADO DE CHICHIMENE DEL MUNICIPIO DE ACACIAS. | G3: VALOR ANTICIPO: | J3: PORCENTAJE DE LA PRESENTE ACTA:
G4: =G2/2 -> 1064197096
G5: VALOR ADICIONAL: | J5: VALOR PRESENTE ACTA:
G7: VALOR ANTICIPO ADICIONAL | J7: VALOR A AMORTIZAR PRESENTE ACTA
G9: VALOR ACTUAL DEL CONTRATO: | J9: PORCENTAJE TOTAL EJECUTADO:
A10: DEPARTAMENTO DEL META | C10: CONTRATISTA: CONSORCIO 2015 CHICHIMENE R/L ANA ELVIA CARRANZA ACOSTA | G10: =D117 -> 2129926301
A11: MUNICIPIO DE ACACIAS | G11: VALOR ACTA DE RECIBO PARCIAL | J11: ESTADO: EN EJECUCION
A12: SECRETARIA DE INFRAESTRUCTURA | C12: INTERVENTOR : B&C DISEÑOS Y CONSTRUCCIONES R/L RICARDO ANTONIO MEJIA OSORIO
A13: ACTA MODIFICATORIA No 01 | G13: VALOR AMORTIZADO PARCIAL
C14: SUPERVISOR: SECRETARIA DE INFRAESTRUCTURA
A16: En el Municipio de Acacias - Meta, a a los NUEVE (09) dias del mes de JULIO del año 2015, se reunieron: la Ingeniera Ana Elvia Carranza Acosta Representante legal de la Consorcio 2015 Chichimene, Contratista, el Ingeniero Jimmy Andres Torres Castro Secretario de Infraestructura, Ricardo Antonio Mejia Osorio como Representante legal de la Interventoria contratada, para dejar constancia de la presente Acta Modificatoria No. 1, para lo cual se hace necesario realizar el siguiente analisis:
A17: CONDICIONES CONTRACTUALES INICIALES | G17: MAYORES CANTIDADES | I17: MENORES CANTIDADES | K17: CANTIDADES ACTUALIZADAS
A18: ITEM | B18: DESCRIPCION | C18: UND | D18: CANT | E18: V.UNITARIO | F18: V.TOTAL | G18: CANT | H18: VALOR | I18: CANT. | J18: VALOR | K18: CANT | L18: VALOR
A19: MEJORAMIENTO DE VIAS CENTRO POBLADO DE CHICHIMENE
A20: 1 | B20: PRELIMINARES
A21: 1.1 | B21: TOPOGRAFIA DE VIAS. Incl. Localizacion y Replanteo | C21: ML | D21: 1294.5 | E21: 2970 | F21: =ROUND(D21*E21,0) -> 3844665 | G21: =IF(K21>D21,K21-D21,0) -> 0 | H21: =ROUND(E21*G21,0) -> 0 | I21: =IF(D21>K21,D21-K21,0) -> 13.6 | J21: =ROUND(I21*E21,0) -> 40392 | K21: 1280.9 | L21: =ROUND(E21*K21,0) -> 3804273
A22: 1.2 | B22: LOCALIZACION Y REPL. DE SARDINEL (Incl. Cartera y plano) | C22: ML | D22: 2589 | E22: 3057 | F22: =ROUND(D22*E22,0) -> 7914573 | G22: =IF(K22>D22,K22-D22,0) -> 0 | H22: =ROUND(E22*G22,0) -> 0 | I22: =IF(D22>K22,D22-K22,0) -> 154.7 | J22: =ROUND(I22*E22,0) -> 472918 | K22: 2434.3 | L22: =ROUND(E22*K22,0) -> 7441655
A23: 1.3 | B23: RENIVELACION Y COMPACTACION DE LA BANCA EXISTENTE DE 6 A 8 M INC TRANS | C23: KM | D23: 1.29 | E23: 1478476 | F23: =ROUND(D23*E23,0) -> 1907234 | G23: =IF(K23>D23,K23-D23,0) -> 0 | H23: =ROUND(E23*G23,0) -> 0 | I23: =IF(D23>K23,D23-K23,0) -> 1.29 | J23: =ROUND(I23*E23,0) -> 1907234 | K23: 0 | L23: =ROUND(E23*K23,0) -> 0
F24: =SUM(F21:F23) -> 13666472 | H24: =SUM(H21:H23) -> 0 | J24: =SUM(J21:J23) -> 2420544 | L24: =SUM(L21:L23) -> 11245928
A25: 2 | B25: DEMOLICION
B26: DEMOLICION CONCRETO SIMPLE INC. Cargue manual 5 km | C26: M3 | D26: 12 | E26: 209569 | F26: =ROUND(D26*E26,0) -> 2514828 | G26: =IF(K26>D26,K26-D26,0) -> 64.84 | H26: =ROUND(E26*G26,0) -> 13588454 | I26: =IF(D26>K26,D26-K26,0) -> 0 | J26: =ROUND(I26*E26,0) -> 0 | K26: 76.84 | L26: =ROUND(E26*K26,0) -> 16103282
F27: =ROUND(D27*E27,0) -> 0
F28: =SUM(F26:F27) -> 2514828 | H28: =SUM(H26:H27) -> 13588454 | J28: =SUM(J26:J27) -> 0 | L28: =SUM(L26:L27) -> 16103282
A29: 3 | B29: EXCAVACIONES
A30: 3.1 | B30: EXCAV. MECAN INC. RETIRO DE SOBRANTE (xa caja de via) | C30: M3 | D30: 4185.45 | E30: 19763 | F30: =ROUND(D30*E30,0) -> 82717048 | G30: =IF(K30>D30,K30-D30,0) -> 473.03 | H30: =ROUND(E30*G30,0) -> 9348492 | I30: =IF(D30>K30,D30-K30,0) -> 0 | J30: =ROUND(I30*E30,0) -> 0 | K30: 4658.48 | L30: =ROUND(E30*K30,0) -> 92065540
A31: 3.2 | B31: EXCAV. SECAS CONGLOMERADO MANUAL. Incl. Retiro 5 kms | C31: M3 | D31: 516.35 | E31: 52187 | F31: =ROUND(D31*E31,0) -> 26946757 | G31: =IF(K31>D31,K31-D31,0) -> 0 | H31: =ROUND(E31*G31,0) -> 0 | I31: =IF(D31>K31,D31-K31,0) -> 60.69 | J31: =ROUND(I31*E31,0) -> 3167229 | K31: 455.66 | L31: =ROUND(E31*K31,0) -> 23779528 | N31: 401.23 | O31: =N31-K31 -> -54.43 | P31: =O31*E30 -> -1075700.1
F32: =SUM(F30:F31) -> 109663805 | H32: =SUM(H30:H31) -> 9348492 | J32: =SUM(J30:J31) -> 3167229 | L32: =SUM(L30:L31) -> 115845068
A33: 4 | B33: RELLENOS
A34: 4.1 | B34: RELLENO MATERIAL T. MAX. 2" COMP. MECAN. Selecc rio | C34: M3 | D34: 211.74 | E34: 31353 | F34: =ROUND(D34*E34,0) -> 6638684 | G34: =IF(K34>D34,K34-D34,0) -> 0 | H34: =ROUND(E34*G34,0) -> 0 | I34: =IF(D34>K34,D34-K34,0) -> 66.84 | J34: =ROUND(I34*E34,0) -> 2095635 | K34: 144.9 | L34: =ROUND(E34*K34,0) -> 4543050 | N34: 204.89 | O34: =N34-K34 -> 59.99 | P34: =O34*E34 -> 1880866.5
A35: 4.2 | B35: SUB-BASE GRAN. RIO SELEC. T. MAX. 2" Inc. Transp 5 km | C35: M3 | D35: 1486.4 | E35: 59142 | F35: =ROUND(D35*E35,0) -> 87908669 | G35: =IF(K35>D35,K35-D35,0) -> 0 | H35: =ROUND(E35*G35,0) -> 0 | I35: =IF(D35>K35,D35-K35,0) -> 69.76 | J35: =ROUND(I35*E35,0) -> 4125746 | K35: 1416.64 | L35: =ROUND(E35*K35,0) -> 83782923
F36: =SUM(F34:F35) -> 94547353 | H36: =SUM(H34:H35) -> 0 | J36: =SUM(J34:J35) -> 6221381 | L36: =SUM(L34:L35) -> 88325973
A37: 5 | B37: PAVIMENTOS RIGIDOS
A38: 5.1 | B38: PAVIMENTO CONCRETO MR= 3,8 Inc transporte 5 kms | C38: M3 | D38: 1486.4 | E38: 666008 | F38: =ROUND(D38*E38,0) -> 989954291 | G38: =IF(K38>D38,K38-D38,0) -> 0 | H38: =ROUND(E38*G38,0) -> 0 | I38: =IF(D38>K38,D38-K38,0) -> 74.16 | J38: =ROUND(I38*E38,0) -> 49391153 | K38: 1412.24 | L38: =ROUND(E38*K38,0) -> 940563138 | N38: 1402.8 | O38: =N38-K38 -> -9.44 | P38: =O38*E38 -> -6287115.5
A39: 5.2 | B39: ACERO REFUERZO FIGURADO 412Mpa, ( 4200 KG/CM2, G60) | C39: KG | D39: 10000 | E39: 4005 | F39: =ROUND(D39*E39,0) -> 40050000 | G39: =IF(K39>D39,K39-D39,0) -> 0 | H39: =ROUND(E39*G39,0) -> 0 | I39: =IF(D39>K39,D39-K39,0) -> 1695.38 | J39: =ROUND(I39*E39,0) -> 6789997 | K39: 8304.62 | L39: =ROUND(E39*K39,0) -> 33260003 | N39: 6123.52 | O39: =N39-K39 -> -2181.1 | P39: =O39*E39 -> -8735305.5
A40: 5.3 | B40: SARDINEL PREFAB BLOQUE CEMENTO A-10 SENCILLO | C40: ML | D40: 2589 | E40: 56280 | F40: =ROUND(D40*E40,0) -> 145708920 | G40: =IF(K40>D40,K40-D40,0) -> 0 | H40: =ROUND(E40*G40,0) -> 0 | I40: =IF(D40>K40,D40-K40,0) -> 987.06 | J40: =ROUND(I40*E40,0) -> 55551737 | K40: 1601.94 | L40: =ROUND(E40*K40,0) -> 90157183 | N40: 133201253 | O40: 2366.76 | P40: =O40*0.6 -> 1420.056 | Q40: A-10 | R40: =O40-P40 -> 946.704 | S40: =R40/15 -> 63.1136
F41: =SUM(F38:F40) -> 1175713211 | H41: =SUM(H38:H40) -> 0 | J41: =SUM(J38:J40) -> 111732887 | L41: =SUM(L38:L40) -> 1063980324 | P41: =O40*0.25 -> 591.69 | Q41: A-85
A42: 6 | B42: SEÑALIZACION | P42: =O40*0.15 -> 355.014 | Q42: A-100
A43: 6.1 | B43: LINEA DEMAR. VIAL PINTURA FRIA, e= 0,12m, Inc Microesf | C43: ML | D43: 3883.5 | E43: 2973 | F43: =ROUND(D43*E43,0) -> 11545646 | G43: =IF(K43>D43,K43-D43,0) -> 0 | H43: =ROUND(E43*G43,0) -> 0 | I43: =IF(D43>K43,D43-K43,0) -> 1481.74 | J43: =ROUND(I43*E43,0) -> 4405213 | K43: 2401.76 | L43: =ROUND(E43*K43,0) -> 7140432
...

Sheet MOD-OP-2  (2)
C1: CONTRATO No : 096 DE 2015 | G1: VALOR INICIAL DEL CONTRATO: | J1: FECHA DE LA PRESENTE ACTA:
C2: OBJETO: | G2: 2128394192 | J2: 09 DE JULIO DE 2015
C3: MEJORAMIENTO Y ADECUACION DE VIAS EN CONCRETO RIGIDO EN OBRAS COMPLEMENTARIAS PARA EL CENTRO POBLADO DE CHICHIMENE DEL MUNICIPIO DE ACACIAS. | G3: VALOR ANTICIPO: | J3: PORCENTAJE DE LA PRESENTE ACTA:
G4: =G2/2 -> 1064197096 | J4: 1
G5: VALOR ADICIONAL: | J5: VALOR PRESENTE ACTA:
G6: N/A | J6: N/A
G7: VALOR ANTICIPO ADICIONAL | J7: VALOR A AMORTIZAR PRESENTE ACTA
G8: N/A | J8: N/A
G9: VALOR ACTUAL DEL CONTRATO: | J9: PORCENTAJE TOTAL EJECUTADO:
A10: DEPARTAMENTO DEL META | C10: CONTRATISTA: CONSORCIO 2015 CHICHIMENE R/L ANA ELVIA CARRANZA ACOSTA | G10: =D115 -> 2128388556 | J10: 0.8898
A11: MUNICIPIO DE ACACIAS | G11: VALOR ACTAS PARCIALES | J11: ESTADO: EN EJECUCION
A12: SECRETARIA DE INFRAESTRUCTURA | C12: INTERVENTOR : B&C DISEÑOS Y CONSTRUCCIONES R/L RICARDO ANTONIO MEJIA OSORIO | G12: 1701902047
A13: ACTA MODIFICATORIA No 01 | G13: VALOR AMORTIZADO PARCIALES
C14: SUPERVISOR: SECRETARIA DE INFRAESTRUCTURA | G14: 8.5095102e+08
A16: En el Municipio de Acacias - Meta, a a los NUEVE (09) dias del mes de JULIO del año 2015, se reunieron: la Ingeniera Ana Elvia Carranza Acosta Representante legal de la Consorcio 2015 Chichimene, Contratista, el Ingeniero Jimmy Andres Torres Castro Secretario de Infraestructura, Ricardo Antonio Mejia Osorio como Representante legal de la Interventoria contratada, para dejar constancia de la presente Acta Modificatoria No. 1, para lo cual se hace necesario realizar el siguiente analisis:
A17: CONDICIONES CONTRACTUALES INICIALES | G17: MAYORES CANTIDADES | I17: MENORES CANTIDADES | K17: CANTIDADES ACTUALIZADAS
A18: ITEM | B18: DESCRIPCION | C18: UND | D18: CANT | E18: V.UNITARIO | F18: V.TOTAL | G18: CANT | H18: VALOR | I18: CANT. | J18: VALOR | K18: CANT | L18: VALOR
A19: MEJORAMIENTO DE VIAS CENTRO POBLADO DE CHICHIMENE
A20: 1 | B20: PRELIMINARES
A21: 1.1 | B21: TOPOGRAFIA DE VIAS. Incl. Localizacion y Replanteo | C21: ML | D21: 1294.5 | E21: 2970 | F21: =ROUND(D21*E21,0) -> 3844665 | G21: =IF(K21>D21,K21-D21,0) -> 0 | H21: =ROUND(E21*G21,0) -> 0 | I21: =IF(D21>K21,D21-K21,0) -> 13.6 | J21: =ROUND(I21*E21,0) -> 40392 | K21: 1280.9 | L21: =ROUND(E21*K21,0) -> 3804273
A22: 1.2 | B22: LOCALIZACION Y REPL. DE SARDINEL (Incl. Cartera y plano) | C22: ML | D22: 2589 | E22: 3057 | F22: =ROUND(D22*E22,0) -> 7914573 | G22: =IF(K22>D22,K22-D22,0) -> 0 | H22: =ROUND(E22*G22,0) -> 0 | I22: =IF(D22>K22,D22-K22,0) -> 154.7 | J22: =ROUND(I22*E22,0) -> 472918 | K22: 2434.3 | L22: =ROUND(E22*K22,0) -> 7441655
A23: 1.3 | B23: RENIVELACION Y COMPACTACION DE LA BANCA EXISTENTE DE 6 A 8 M INC TRANS | C23: KM | D23: 1.29 | E23: 1478476 | F23: =ROUND(D23*E23,0) -> 1907234 | G23: =IF(K23>D23,K23-D23,0) -> 0 | H23: =ROUND(E23*G23,0) -> 0 | I23: =IF(D23>K23,D23-K23,0) -> 0.01 | J23: =ROUND(I23*E23,0) -> 14785 | K23: 1.28 | L23: =ROUND(E23*K23,0) -> 1892449
F24: =SUM(F21:F23) -> 13666472 | H24: =SUM(H21:H23) -> 0 | J24: =SUM(J21:J23) -> 528095 | L24: =SUM(L21:L23) -> 13138377
A25: 2 | B25: DEMOLICION
B26: DEMOLICION CONCRETO SIMPLE INC. Cargue manual 5 km | C26: M3 | D26: 12 | E26: 209569 | F26: =ROUND(D26*E26,0) -> 2514828 | G26: =IF(K26>D26,K26-D26,0) -> 64.84 | H26: =ROUND(E26*G26,0) -> 13588454 | I26: =IF(D26>K26,D26-K26,0) -> 0 | J26: =ROUND(I26*E26,0) -> 0 | K26: 76.84 | L26: =ROUND(E26*K26,0) -> 16103282
F27: =ROUND(D27*E27,0) -> 0
F28: =SUM(F26:F27) -> 2514828 | H28: =SUM(H26:H27) -> 13588454 | J28: =SUM(J26:J27) -> 0 | L28: =SUM(L26:L27) -> 16103282
A29: 3 | B29: EXCAVACIONES
A30: 3.1 | B30: EXCAV. MECAN INC. RETIRO DE SOBRANTE (xa caja de via) | C30: M3 | D30: 4185.45 | E30: 19763 | F30: =ROUND(D30*E30,0) -> 82717048 | G30: =IF(K30>D30,K30-D30,0) -> 473.03 | H30: =ROUND(E30*G30,0) -> 9348492 | I30: =IF(D30>K30,D30-K30,0) -> 0 | J30: =ROUND(I30*E30,0) -> 0 | K30: 4658.48 | L30: =ROUND(E30*K30,0) -> 92065540
A31: 3.2 | B31: EXCAV. SECAS CONGLOMERADO MANUAL. Incl. Retiro 5 kms | C31: M3 | D31: 516.35 | E31: 52187 | F31: =ROUND(D31*E31,0) -> 26946757 | G31: =IF(K31>D31,K31-D31,0) -> 0 | H31: =ROUND(E31*G31,0) -> 0 | I31: =IF(D31>K31,D31-K31,0) -> 60.69 | J31: =ROUND(I31*E31,0) -> 3167229 | K31: 455.66 | L31: =ROUND(E31*K31,0) -> 23779528 | N31: 401.23 | O31: =N31-K31 -> -54.43 | P31: =O31*E30 -> -1075700.1
F32: =SUM(F30:F31) -> 109663805 | H32: =SUM(H30:H31) -> 9348492 | J32: =SUM(J30:J31) -> 3167229 | L32: =SUM(L30:L31) -> 115845068
A33: 4 | B33: RELLENOS
A34: 4.1 | B34: RELLENO MATERIAL T. MAX. 2" COMP. MECAN. Selecc rio | C34: M3 | D34: 211.74 | E34: 31353 | F34: =ROUND(D34*E34,0) -> 6638684 | G34: =IF(K34>D34,K34-D34,0) -> 0 | H34: =ROUND(E34*G34,0) -> 0 | I34: =IF(D34>K34,D34-K34,0) -> 66.84 | J34: =ROUND(I34*E34,0) -> 2095635 | K34: 144.9 | L34: =ROUND(E34*K34,0) -> 4543050 | N34: 204.89 | O34: =N34-K34 -> 59.99 | P34: =O34*E34 -> 1880866.5
A35: 4.2 | B35: SUB-BASE GRAN. RIO SELEC. T. MAX. 2" Inc. Transp 5 km | C35: M3 | D35: 1486.4 | E35: 59142 | F35: =ROUND(D35*E35,0) -> 87908669 | G35: =IF(K35>D35,K35-D35,0) -> 0 | H35: =ROUND(E35*G35,0) -> 0 | I35: =IF(D35>K35,D35-K35,0) -> 69.76 | J35: =ROUND(I35*E35,0) -> 4125746 | K35: 1416.64 | L35: =ROUND(E35*K35,0) -> 83782923
F36: =SUM(F34:F35) -> 94547353 | H36: =SUM(H34:H35) -> 0 | J36: =SUM(J34:J35) -> 6221381 | L36: =SUM(L34:L35) -> 88325973
A37: 5 | B37: PAVIMENTOS RIGIDOS
A38: 5.1 | B38: PAVIMENTO CONCRETO MR= 3,8 Inc transporte 5 kms | C38: M3 | D38: 1486.4 | E38: 666008 | F38: =ROUND(D38*E38,0) -> 989954291 | G38: =IF(K38>D38,K38-D38,0) -> 0 | H38: =ROUND(E38*G38,0) -> 0 | I38: =IF(D38>K38,D38-K38,0) -> 74.16 | J38: =ROUND(I38*E38,0) -> 49391153 | K38: 1412.24 | L38: =ROUND(E38*K38,0) -> 940563138 | N38: 1402.8 | O38: =N38-K38 -> -9.44 | P38: =O38*E38 -> -6287115.5
A39: 5.2 | B39: ACERO REFUERZO FIGURADO 412Mpa, ( 4200 KG/CM2, G60) | C39: KG | D39: 10000 | E39: 4005 | F39: =ROUND(D39*E39,0) -> 40050000 | G39: =IF(K39>D39,K39-D39,0) -> 0 | H39: =ROUND(E39*G39,0) -> 0 | I39: =IF(D39>K39,D39-K39,0) -> 1695.38 | J39: =ROUND(I39*E39,0) -> 6789997 | K39: 8304.62 | L39: =ROUND(E39*K39,0) -> 33260003 | N39: 6123.52 | O39: =N39-K39 -> -2181.1 | P39: =O39*E39 -> -8735305.5
A40: 5.3 | B40: SARDINEL PREFAB BLOQUE CEMENTO A-10 SENCILLO | C40: ML | D40: 2589 | E40: 56280 | F40: =ROUND(D40*E40,0) -> 145708920 | G40: =IF(K40>D40,K40-D40,0) -> 0 | H40: =ROUND(E40*G40,0) -> 0 | I40: =IF(D40>K40,D40-K40,0) -> 988.92 | J40: =ROUND(I40*E40,0) -> 55656418 | K40: 1600.08 | L40: =ROUND(E40*K40,0) -> 90052502 | N40: 133201253 | O40: 2366.76 | P40: =O40*0.6 -> 1420.056 | Q40: A-10 | R40: =O40-P40 -> 946.704 | S40: =R40/15 -> 63.1136
F41: =SUM(F38:F40) -> 1175713211 | H41: =SUM(H38:H40) -> 0 | J41: =SUM(J38:J40) -> 111837568 | L41: =SUM(L38:L40) -> 1063875643 | P41: =O40*0.25 -> 591.69 | Q41: A-85
...

Sheet MOD-OP-2  (3)
C1: CONTRATO No : 096 DE 2015 | G1: VALOR INICIAL DEL CONTRATO: | J1: FECHA DE LA PRESENTE ACTA:
C2: OBJETO: | G2: 2128394192 | J2: 09 DE JULIO DE 2015
C3: MEJORAMIENTO Y ADECUACION DE VIAS EN CONCRETO RIGIDO EN OBRAS COMPLEMENTARIAS PARA EL CENTRO POBLADO DE CHICHIMENE DEL MUNICIPIO DE ACACIAS. | G3: VALOR ANTICIPO: | J3: PORCENTAJE DE LA PRESENTE ACTA:
G4: =G2/2 -> 1064197096 | J4: 1
G5: VALOR ADICIONAL: | J5: VALOR PRESENTE ACTA:
G6: N/A | J6: N/A
G7: VALOR ANTICIPO ADICIONAL | J7: VALOR A AMORTIZAR PRESENTE ACTA
G8: N/A | J8: N/A
G9: VALOR ACTUAL DEL CONTRATO: | J9: PORCENTAJE TOTAL EJECUTADO:
A10: DEPARTAMENTO DEL META | C10: CONTRATISTA: CONSORCIO 2015 CHICHIMENE R/L ANA ELVIA CARRANZA ACOSTA | G10: =D116 -> 2128393594 | J10: 0.8898
A11: MUNICIPIO DE ACACIAS | G11: VALOR ACTAS PARCIALES | J11: ESTADO: EN EJECUCION
A12: SECRETARIA DE INFRAESTRUCTURA | C12: INTERVENTOR : B&C DISEÑOS Y CONSTRUCCIONES R/L RICARDO ANTONIO MEJIA OSORIO | G12: 1701902047
A13: ACTA MODIFICATORIA No 01 | G13: VALOR AMORTIZADO PARCIALES
C14: SUPERVISOR: SECRETARIA DE INFRAESTRUCTURA | G14: 8.5095102e+08
A16: En el Municipio de Acacias - Meta, a a los NUEVE (09) dias del mes de JULIO del año 2015, se reunieron: la Ingeniera Ana Elvia Carranza Acosta Representante legal de la Consorcio 2015 Chichimene, Contratista, el Ingeniero Jimmy Andres Torres Castro Secretario de Infraestructura, Ricardo Antonio Mejia Osorio como Representante legal de la Interventoria contratada, para dejar constancia de la presente Acta Modificatoria No. 1, para lo cual se hace necesario realizar el siguiente analisis:
A17: CONDICIONES CONTRACTUALES INICIALES | G17: MAYORES CANTIDADES | I17: MENORES CANTIDADES | K17: CANTIDADES ACTUALIZADAS
A18: ITEM | B18: DESCRIPCION | C18: UND | D18: CANT | E18: V.UNITARIO | F18: V.TOTAL | G18: CANT | H18: VALOR | I18: CANT. | J18: VALOR | K18: CANT | L18: VALOR
A19: MEJORAMIENTO DE VIAS CENTRO POBLADO DE CHICHIMENE
A20: 1 | B20: PRELIMINARES
A21: 1.1 | B21: TOPOGRAFIA DE VIAS. Incl. Localizacion y Replanteo | C21: ML | D21: 1294.5 | E21: 2970 | F21: =ROUND(D21*E21,0) -> 3844665 | G21: =IF(K21>D21,K21-D21,0) -> 0 | H21: =ROUND(E21*G21,0) -> 0 | I21: =IF(D21>K21,D21-K21,0) -> 13.6 | J21: =ROUND(I21*E21,0) -> 40392 | K21: 1280.9 | L21: =ROUND(E21*K21,0) -> 3804273
A22: 1.2 | B22: LOCALIZACION Y REPL. DE SARDINEL (Incl. Cartera y plano) | C22: ML | D22: 2589 | E22: 3057 | F22: =ROUND(D22*E22,0) -> 7914573 | G22: =IF(K22>D22,K22-D22,0) -> 0 | H22: =ROUND(E22*G22,0) -> 0 | I22: =IF(D22>K22,D22-K22,0) -> 154.7 | J22: =ROUND(I22*E22,0) -> 472918 | K22: 2434.3 | L22: =ROUND(E22*K22,0) -> 7441655
A23: 1.3 | B23: RENIVELACION Y COMPACTACION DE LA BANCA EXISTENTE DE 6 A 8 M INC TRANS | C23: KM | D23: 1.29 | E23: 1478476 | F23: =ROUND(D23*E23,0) -> 1907234 | G23: =IF(K23>D23,K23-D23,0) -> 0 | H23: =ROUND(E23*G23,0) -> 0 | I23: =IF(D23>K23,D23-K23,0) -> 0.01 | J23: =ROUND(I23*E23,0) -> 14785 | K23: 1.28 | L23: =ROUND(E23*K23,0) -> 1892449
F24: =SUM(F21:F23) -> 13666472 | H24: =SUM(H21:H23) -> 0 | J24: =SUM(J21:J23) -> 528095 | L24: =SUM(L21:L23) -> 13138377
A25: 2 | B25: DEMOLICION
B26: DEMOLICION CONCRETO SIMPLE INC. Cargue manual 5 km | C26: M3 | D26: 12 | E26: 209569 | F26: =ROUND(D26*E26,0) -> 2514828 | G26: =IF(K26>D26,K26-D26,0) -> 64.84 | H26: =ROUND(E26*G26,0) -> 13588454 | I26: =IF(D26>K26,D26-K26,0) -> 0 | J26: =ROUND(I26*E26,0) -> 0 | K26: 76.84 | L26: =ROUND(E26*K26,0) -> 16103282
F27: =ROUND(D27*E27,0) -> 0
F28: =SUM(F26:F27) -> 2514828 | H28: =SUM(H26:H27) -> 13588454 | J28: =SUM(J26:J27) -> 0 | L28: =SUM(L26:L27) -> 16103282
A29: 3 | B29: EXCAVACIONES
A30: 3.1 | B30: EXCAV. MECAN INC. RETIRO DE SOBRANTE (xa caja de via) | C30: M3 | D30: 4185.45 | E30: 19763 | F30: =ROUND(D30*E30,0) -> 82717048 | G30: =IF(K30>D30,K30-D30,0) -> 473.03 | H30: =ROUND(E30*G30,0) -> 9348492 | I30: =IF(D30>K30,D30-K30,0) -> 0 | J30: =ROUND(I30*E30,0) -> 0 | K30: 4658.48 | L30: =ROUND(E30*K30,0) -> 92065540
A31: 3.2 | B31: EXCAV. SECAS CONGLOMERADO MANUAL. Incl. Retiro 5 kms | C31: M3 | D31: 516.35 | E31: 52187 | F31: =ROUND(D31*E31,0) -> 26946757 | G31: =IF(K31>D31,K31-D31,0) -> 0 | H31: =ROUND(E31*G31,0) -> 0 | I31: =IF(D31>K31,D31-K31,0) -> 60.69 | J31: =ROUND(I31*E31,0) -> 3167229 | K31: 455.66 | L31: =ROUND(E31*K31,0) -> 23779528 | N31: 401.23 | O31: =N31-K31 -> -54.43 | P31: =O31*E30 -> -1075700.1
F32: =SUM(F30:F31) -> 109663805 | H32: =SUM(H30:H31) -> 9348492 | J32: =SUM(J30:J31) -> 3167229 | L32: =SUM(L30:L31) -> 115845068
A33: 4 | B33: RELLENOS
A34: 4.1 | B34: RELLENO MATERIAL T. MAX. 2" COMP. MECAN. Selecc rio | C34: M3 | D34: 211.74 | E34: 31353 | F34: =ROUND(D34*E34,0) -> 6638684 | G34: =IF(K34>D34,K34-D34,0) -> 0 | H34: =ROUND(E34*G34,0) -> 0 | I34: =IF(D34>K34,D34-K34,0) -> 66.84 | J34: =ROUND(I34*E34,0) -> 2095635 | K34: 144.9 | L34: =ROUND(E34*K34,0) -> 4543050 | N34: 204.89 | O34: =N34-K34 -> 59.99 | P34: =O34*E34 -> 1880866.5
A35: 4.2 | B35: SUB-BASE GRAN. RIO SELEC. T. MAX. 2" Inc. Transp 5 km | C35: M3 | D35: 1486.4 | E35: 59142 | F35: =ROUND(D35*E35,0) -> 87908669 | G35: =IF(K35>D35,K35-D35,0) -> 0 | H35: =ROUND(E35*G35,0) -> 0 | I35: =IF(D35>K35,D35-K35,0) -> 69.76 | J35: =ROUND(I35*E35,0) -> 4125746 | K35: 1416.64 | L35: =ROUND(E35*K35,0) -> 83782923
F36: =SUM(F34:F35) -> 94547353 | H36: =SUM(H34:H35) -> 0 | J36: =SUM(J34:J35) -> 6221381 | L36: =SUM(L34:L35) -> 88325973
A37: 5 | B37: PAVIMENTOS RIGIDOS
A38: 5.1 | B38: PAVIMENTO CONCRETO MR= 3,8 Inc transporte 5 kms | C38: M3 | D38: 1486.4 | E38: 666008 | F38: =ROUND(D38*E38,0) -> 989954291 | G38: =IF(K38>D38,K38-D38,0) -> 0 | H38: =ROUND(E38*G38,0) -> 0 | I38: =IF(D38>K38,D38-K38,0) -> 74.16 | J38: =ROUND(I38*E38,0) -> 49391153 | K38: 1412.24 | L38: =ROUND(E38*K38,0) -> 940563138 | N38: 1402.8 | O38: =N38-K38 -> -9.44 | P38: =O38*E38 -> -6287115.5
A39: 5.2 | B39: ACERO REFUERZO FIGURADO 412Mpa, ( 4200 KG/CM2, G60) | C39: KG | D39: 10000 | E39: 4005 | F39: =ROUND(D39*E39,0) -> 40050000 | G39: =IF(K39>D39,K39-D39,0) -> 0 | H39: =ROUND(E39*G39,0) -> 0 | I39: =IF(D39>K39,D39-K39,0) -> 1695.38 | J39: =ROUND(I39*E39,0) -> 6789997 | K39: 8304.62 | L39: =ROUND(E39*K39,0) -> 33260003 | N39: 6123.52 | O39: =N39-K39 -> -2181.1 | P39: =O39*E39 -> -8735305.5
A40: 5.3 | B40: SARDINEL PREFAB BLOQUE CEMENTO A-10 SENCILLO | C40: ML | D40: 2589 | E40: 56280 | F40: =ROUND(D40*E40,0) -> 145708920 | G40: =IF(K40>D40,K40-D40,0) -> 0 | H40: =ROUND(E40*G40,0) -> 0 | I40: =IF(D40>K40,D40-K40,0) -> 988.92 | J40: =ROUND(I40*E40,0) -> 55656418 | K40: 1600.08 | L40: =ROUND(E40*K40,0) -> 90052502 | N40: 133201253 | O40: 2366.76 | P40: =O40*0.6 -> 1420.056 | Q40: A-10 | R40: =O40-P40 -> 946.704 | S40: =R40/15 -> 63.1136
F41: =SUM(F38:F40) -> 1175713211 | H41: =SUM(H38:H40) -> 0 | J41: =SUM(J38:J40) -> 111837568 | L41: =SUM(L38:L40) -> 1063875643 | P41: =O40*0.25 -> 591.69 | Q41: A-85
...

Sheet MOD-1
C1: CONTRATO No : 096 DE 2105 | G1: VALOR INICIAL DEL CONTRATO: | J1: FECHA DE LA PRESENTE ACTA:
C2: OBJETO: | G2: 2128394192
G3: VALOR ANTICIPO: | J3: PORCENTAJE DE LA PRESENTE ACTA:
G5: VALOR ADICIONAL: | J5: VALOR PRESENTE ACTA:
G7: VALOR ANTICIPO ADICIONAL | J7: VALOR A AMORTIZAR PRESENTE ACTA | M7: 180000000
G9: VALOR ACTUAL DEL CONTRATO: | J9: PORCENTAJE TOTAL EJECUTADO: | M9: =G2*30% -> 6.3851826e+08
A10: DEPARTAMENTO DEL META | C10: CONTRATISTA: R/L | G10: =G2 -> 2128394192 | M10: =M9-M7 -> 4.5851826e+08
A11: MUNICIPIO DE ACACIAS | G11: VALOR ACTA DE RECIBO PARCIAL | J11: ESTADO:
A12: SECRETARIA DE INFRAESTRUCTURA | C12: INTERVENTOR :
A13: ACTA MODIFICATORIA No 01 | G13: VALOR AMORTIZADO PARCIAL
C14: SUPERVISOR:
A16: En el Municipio de Acacias - Meta, a a los Diecinueve (19) dias del mes de Noviembre del año 2012, se reunieron el Ingeniero xxxxxxxxxxxxxxxxxxxxxxxxx Representante legal de la Union Temporal J.M., el Ingeniero xxxxxxxxxxxxxxxxx Secretario de Infraestructura, xxxxxxxxxxxxxxxxxxxxxxxxx , Supervisora del Municipio, Laxxxxxxxxxxxxxxxxxxxxx como Representante legal de, Interventoria contratada y el xxxxxxxxxxxxxxxxxxxxxxxxxxxxxx, como xxxxxxxxxxxxxxxxs, para dejar constancia de la presente Acta Modificatoria, para lo cual se hace necesario realizar el siguiente analisis:
A17: CONDICIONES CONTRACTUALES INICIALES | G17: MAYORES CANTIDADES | I17: MENORES CANTIDADES | K17: CANTIDADES ACTUALIZADAS
A18: ITEM | B18: DESCRIPCION | C18: UND | D18: CANT | E18: V.UNITARIO | F18: V.TOTAL | G18: CANT | H18: VALOR | I18: CANT. | J18: VALOR | K18: CANT | L18: VALOR
A19: VIA 1
A20: 1 | B20: PRELIMINARES
A21: 1.1 | B21: TOPOGRAFIA DE VIAS. Incl. Localizacion y Replanteo | C21: ML | D21: 127.59 | E21: 2970 | F21: =ROUND(D21*E21,0) -> 378942 | G21: =IF(K21>D21,K21-D21,0) -> 0 | H21: =ROUND(E21*G21,0) -> 0 | I21: =IF(D21>K21,D21-K21,0) -> 0 | J21: =ROUND(I21*E21,0) -> 0 | K21: 127.59 | L21: =ROUND(E21*K21,0) -> 378942
A22: 1.2 | B22: LOCALIZACION Y REPL. DE SARDINEL (Incl. Cartera y plano) | C22: ML | D22: 248.18 | E22: 3057 | F22: =ROUND(D22*E22,0) -> 758686 | G22: =IF(K22>D22,K22-D22,0) -> 0 | H22: =ROUND(E22*G22,0) -> 0 | I22: =IF(D22>K22,D22-K22,0) -> 0 | J22: =ROUND(I22*E22,0) -> 0 | K22: 248.18 | L22: =ROUND(E22*K22,0) -> 758686
A23: 1.3 | B23: RENIVELACION Y COMPACTACION DE LA BANCA EXISTENTE DE 6 A 8 M INC TRANS | C23: KM | D23: 0.13 | E23: 1478476 | F23: =ROUND(D23*E23,0) -> 192202 | G23: =IF(K23>D23,K23-D23,0) -> 0 | H23: =ROUND(E23*G23,0) -> 0 | I23: 0 | J23: =ROUND(I23*E23,0) -> 0 | K23: 0.13 | L23: =ROUND(E23*K23,0) -> 192202
F24: =SUM(F21:F23) -> 1329830 | H24: =SUM(H21:H23) -> 0 | J24: =SUM(J21:J23) -> 0 | L24: =SUM(L21:L23) -> 1329830
A25: 2 | B25: DEMOLICION
B26: DEMOLICION CONCRETO SIMPLE INC. Cargue manual 5 km | C26: M3 | D26: 10.89 | E26: 209569 | F26: =ROUND(D26*E26,0) -> 2282206 | G26: =IF(K26>D26,K26-D26,0) -> 0 | H26: =ROUND(E26*G26,0) -> 0 | I26: 0 | J26: =ROUND(I26*E26,0) -> 0 | L26: =ROUND(E26*K26,0) -> 0
F27: =SUM(F26:F26) -> 2282206 | H27: =SUM(H26:H26) -> 0 | J27: =SUM(J26:J26) -> 0 | L27: =SUM(L26:L26) -> 0
A29: 3 | B29: EXCAVACIONES
A30: 3.1 | B30: EXCAV. MECAN INC. RETIRO DE SOBRANTE (xa caja de via) | C30: M3 | D30: 491.22 | E30: 19763 | F30: =ROUND(D30*E30,0) -> 9707981 | G30: =IF(K30>D30,K30-D30,0) -> 0 | H30: =ROUND(E30*G30,0) -> 0 | I30: 0 | J30: =ROUND(I30*E30,0) -> 0 | L30: =ROUND(E30*K30,0) -> 0
A31: 3.2 | B31: EXCAV. SECAS CONGLOMERADO MANUAL. Incl. Retiro 5 kms | C31: M3 | D31: 39.23 | E31: 52187 | F31: =ROUND(D31*E31,0) -> 2047296 | G31: =IF(K31>D31,K31-D31,0) -> 0 | H31: =ROUND(E31*G31,0) -> 0 | I31: 0 | J31: =ROUND(I31*E31,0) -> 0 | L31: =ROUND(E31*K31,0) -> 0
F32: =SUM(F30:F31) -> 11755277 | H32: =SUM(H30:H31) -> 0 | J32: =SUM(J30:J31) -> 0 | L32: =SUM(L30:L31) -> 0
A34: 4 | B34: RELLENOS
A35: 4.1 | B35: RELLENO MATERIAL T. MAX. 2" COMP. MECAN. Selecc rio | C35: M3 | D35: 26.82 | E35: 31353 | F35: =ROUND(D35*E35,0) -> 840887 | G35: =IF(K35>D35,K35-D35,0) -> 0 | H35: =ROUND(E35*G35,0) -> 0 | I35: 0 | J35: =ROUND(I35*E35,0) -> 0 | L35: =ROUND(E35*K35,0) -> 0
A36: 4.2 | B36: SUB-BASE GRAN. RIO SELEC. T. MAX. 2" Inc. Transp 5 km | C36: M3 | D36: 178.62 | E36: 59142 | F36: =ROUND(D36*E36,0) -> 10563944 | G36: =IF(K36>D36,K36-D36,0) -> 0 | H36: =ROUND(E36*G36,0) -> 0 | I36: 0 | J36: =ROUND(I36*E36,0) -> 0 | L36: =ROUND(E36*K36,0) -> 0
F37: =SUM(F35:F36) -> 11404831 | H37: =SUM(H35:H36) -> 0 | J37: =SUM(J35:J36) -> 0 | L37: =SUM(L35:L36) -> 0
A38: 5 | B38: PAVIMENTOS RIGIDOS
A39: 5.1 | B39: PAVIMENTO CONCRETO MR= 3,8 Inc transporte 5 kms | C39: M3 | D39: 178.62 | E39: 666008 | F39: =ROUND(D39*E39,0) -> 118962349 | G39: =IF(K39>D39,K39-D39,0) -> 0 | H39: =ROUND(E39*G39,0) -> 0 | I39: 0 | J39: =ROUND(I39*E39,0) -> 0 | L39: =ROUND(E39*K39,0) -> 0
A40: 5.2 | B40: ACERO REFUERZO FIGURADO 412Mpa, ( 4200 KG/CM2, G60) | C40: KG | D40: 0 | E40: 4005 | F40: =ROUND(D40*E40,0) -> 0 | G40: =IF(K40>D40,K40-D40,0) -> 0 | H40: =ROUND(E40*G40,0) -> 0 | I40: 0 | J40: =ROUND(I40*E40,0) -> 0 | L40: =ROUND(E40*K40,0) -> 0
A41: 5.3 | B41: SARDINEL PREFAB BLOQUE CEMENTO A-10 SENCILLO | C41: ML | D41: 248.18 | E41: 56280 | F41: =ROUND(D41*E41,0) -> 13967570 | G41: =IF(K41>D41,K41-D41,0) -> 0 | H41: =ROUND(E41*G41,0) -> 0 | I41: 0 | J41: =ROUND(I41*E41,0) -> 0 | L41: =ROUND(E41*K41,0) -> 0
F42: =SUM(F39:F41) -> 132929919 | H42: =SUM(H39:H41) -> 0 | J42: =SUM(J39:J41) -> 0 | L42: =SUM(L39:L41) -> 0
A43: 6 | B43: SEÑALIZACION
A44: 6.1 | B44: LINEA DEMAR. VIAL PINTURA FRIA, e= 0,12m, Inc Microesf | C44: ML | D44: 375.77 | E44: 2973 | F44: =ROUND(D44*E44,0) -> 1117164 | G44: =IF(K44>D44,K44-D44,0) -> 0 | H44: =ROUND(E44*G44,0) -> 0 | I44: 0 | J44: =ROUND(I44*E44,0) -> 0 | L44: =ROUND(E44*K44,0) -> 0
A45: 6.2 | B45: LINEA DEMAR. VIAL PINTURA FRIA, e= 0,4m, Inc Microesf | C45: ML | D45: 49.2 | E45: 8919 | F45: =ROUND(D45*E45,0) -> 438815 | G45: =IF(K45>D45,K45-D45,0) -> 0 | H45: =ROUND(E45*G45,0) -> 0 | I45: 0 | J45: =ROUND(I45*E45,0) -> 0 | L45: =ROUND(E45*K45,0) -> 0
A46: 6.3 | B46: SEÑALIZACION VERTICAL. 0.60X0.60CM Inc post | C46: UND | D46: 3 | E46: 209715 | F46: =ROUND(D46*E46,0) -> 629145 | G46: =IF(K46>D46,K46-D46,0) -> 0 | H46: =ROUND(E46*G46,0) -> 0 | I46: 0 | J46: =ROUND(I46*E46,0) -> 0 | L46: =ROUND(E46*K46,0) -> 0
...

Sheet BALAN
C1: CONTRATO No : | G1: VALOR INICIAL DEL CONTRATO: | J1: FECHA DE LA PRESENTE ACTA:
C2: OBJETO: | G2: 2128394192 | J2: 23 DE NOVIEMBRE DE 2012
C3: MEJORAMIENTO Y ADECUACION DE VIAS EN CONCRETO RIGIDO EN OBRAS COMPLEMENTARIAS PARA EL CENTRO POBLADO DE CHICHIMENE DEL MUNICIPIO DE ACACIAS. | G3: VALOR ANTICIPO: | J3: PORCENTAJE DE LA PRESENTE ACTA:
G4: =G2/2 -> 1064197096 | J4: =D64 -> 0.083155331
G5: VALOR ADICIONAL: | J5: VALOR PRESENTE ACTA:
G6: N.A. | J6: =D62 -> 1.7048263e+08
G7: VALOR ANTICIPO ADICIONAL | J7: VALOR A AMORTIZAR PRESENTE ACTA
G8: N.A. | J8: N.A.
G9: VALOR ACTUAL DEL CONTRATO: | J9: PORCENTAJE TOTAL EJECUTADO:
A10: DEPARTAMENTO DEL META | C10: CONTRATISTA: CONSORCIO 2015 CHICHIMENE | G10: =G2 -> 2128394192 | J10: =D64 -> 0.083155331
A11: MUNICIPIO DE ACACIAS | G11: VALOR ACTA DE RECIBO PARCIAL | J11: ESTADO: EN EJECUCION
A12: SECRETARIA DE INFRAESTRUCTURA | C12: INTERVENTOR : B&C DISEÑOS Y CONSTRUCCIONES | G12: N.A.
A13: BALANCE DE OBRA | G13: VALOR AMORTIZADO PARCIAL
C14: SUPERVISOR: | G14: N.A.
A15: CONDICIONES ACTA BALANCE DE MAYORES Y MENORES CANTIDADES | G15: TOTAL EJECUTADO | I15: OBRA POR EJECUTAR | K15: % DE EJECUCION
A16: ITEM | B16: DESCRIPCION | C16: UND | D16: CANT | E16: V.UNITARIO | F16: V.TOTAL | G16: CANT | H16: VALOR | I16: CANT. | J16: VALOR | K16: % EJECUTADO | L16: % POR EJECUTAR
A17: VIA 1
A18: 1 | B18: PRELIMINARES | M18: CANT_ALCAL | N18: DIFER_JFMR | O18: V. UNIT | P18: TOTAL
A19: 1.1 | B19: TOPOGRAFIA DE VIAS. Incl. Localizacion y Replanteo | C19: ML | D19: 1289.35 | E19: 2970 | F19: =ROUND(D19*E19,0) -> 3829370 | G19: 434.84 | H19: =ROUND(E19*G19,0) -> 1291475 | I19: =D19-G19 -> 854.51 | J19: =ROUND(I19*E19,0) -> 2537895 | K19: 1 | L19: 0 | M19: 1294.5 | N19: =M19-D19 -> 5.15 | O19: =E19 -> 2970 | P19: =N19*O19 -> 15295.5
A20: 1.2 | B20: LOCALIZACION Y REPL. DE SARDINEL (Incl. Cartera y plano) | C20: ML | D20: 2492.78 | E20: 3057 | F20: =ROUND(D20*E20,0) -> 7620428 | G20: 869.68 | H20: =ROUND(E20*G20,0) -> 2658612 | I20: =D20-G20 -> 1623.1 | J20: =ROUND(I20*E20,0) -> 4961817 | K20: 1 | L20: 0 | M20: 2589 | N20: =M20-D20 -> 96.22 | O20: =E20 -> 3057 | P20: =N20*O20 -> 294144.54
A21: 1.3 | B21: RENIVELACION Y COMPACTACION DE LA BANCA EXISTENTE DE 6 A 8 M INC TRANS | C21: KM | D21: 1.28411 | E21: 1478476 | F21: =ROUND(D21*E21,0) -> 1898526 | G21: 0.43484 | H21: =ROUND(E21*G21,0) -> 642901 | I21: =D21-G21 -> 0.84927 | J21: =ROUND(E21*I21,0) -> 1255625 | K21: 1 | L21: 0 | M21: 1.29 | N21: =M21-D21 -> 0.00589 | O21: =E21 -> 1478476 | P21: =N21*O21 -> 8708.2236
F22: =SUM(F19:F21) -> 13348324 | G22: 0 | H22: =SUM(H19:H21) -> 4592988 | J22: =SUM(J19:J21) -> 8755337 | K22: =H22/F22 -> 0.34408724 | L22: =100%-K22 -> 0.65591276 | N22: =M22-D22 -> 0 | O22: =E22 -> 0 | P22: =N22*O22 -> 0
A23: 2 | B23: DEMOLICION | G23: 0 | N23: =M23-D23 -> 0 | O23: =E23 -> 0 | P23: =N23*O23 -> 0
B24: DEMOLICION CONCRETO SIMPLE INC. Cargue manual 5 km | C24: M3 | D24: 50.95 | E24: 209569 | F24: =ROUND(D24*E24,0) -> 10677541 | G24: 0 | H24: =ROUND(E24*G24,0) -> 0 | I24: =D24-G24 -> 50.95 | J24: =ROUND(E24*I24,0) -> 10677541 | K24: =G24/D24 -> 0 | L24: =100%-K24 -> 1 | M24: 12 | N24: =M24-D24 -> -38.95 | O24: =E24 -> 209569 | P24: =N24*O24 -> -8162712.6
F25: =ROUND(D25*E25,0) -> 0 | G25: 0 | H25: =ROUND(E25*G25,0) -> 0 | I25: =D25-G25 -> 0 | J25: =ROUND(E25*I25,0) -> 0 | L25: =100%-K25 -> 1 | N25: =M25-D25 -> 0 | O25: =E25 -> 0 | P25: =N25*O25 -> 0
F26: =SUM(F24:F25) -> 10677541 | G26: 0 | H26: =SUM(H24:H25) -> 0 | J26: =SUM(J24:J25) -> 10677541 | K26: =H26/F26 -> 0 | L26: =100%-K26 -> 1 | N26: =M26-D26 -> 0 | O26: =E26 -> 0 | P26: =N26*O26 -> 0
A27: 3 | B27: EXCAVACIONES | G27: 0 | N27: =M27-D27 -> 0 | O27: =E27 -> 0 | P27: =N27*O27 -> 0
A28: 3.1 | B28: EXCAV. MECAN INC. RETIRO DE SOBRANTE (xa caja de via) | C28: M3 | D28: 3325.9 | E28: 19763 | F28: =ROUND(D28*E28,0) -> 65729762 | G28: 1565.56 | H28: =ROUND(E28*G28,0) -> 30940162 | I28: =D28-G28 -> 1760.34 | J28: =ROUND(E28*I28,0) -> 34789599 | K28: =G28/D28 -> 0.4707177 | L28: =100%-K28 -> 0.5292823 | M28: 4185.45 | N28: =M28-D28 -> 859.55 | O28: =E28 -> 19763 | P28: =N28*O28 -> 16987287
A29: 3.2 | B29: EXCAV. SECAS CONGLOMERADO MANUAL. Incl. Retiro 5 kms | C29: M3 | D29: 340.71 | E29: 52187 | F29: =ROUND(D29*E29,0) -> 17780633 | G29: 0 | H29: =ROUND(E29*G29,0) -> 0 | I29: =D29-G29 -> 340.71 | J29: =ROUND(E29*I29,0) -> 17780633 | K29: =G29/D29 -> 0 | L29: =100%-K29 -> 1 | M29: 516.35 | N29: =M29-D29 -> 175.64 | O29: =E29 -> 52187 | P29: =N29*O29 -> 9166124.7
F30: =SUM(F28:F29) -> 83510395 | G30: 0 | H30: =SUM(H28:H29) -> 30940162 | J30: =SUM(J28:J29) -> 52570232 | K30: =H30/F30 -> 0.37049474 | L30: =100%-K30 -> 0.62950526 | N30: =M30-D30 -> 0 | O30: =E30 -> 0 | P30: =N30*O30 -> 0
G31: 0 | N31: =M31-D31 -> 0 | O31: =E31 -> 0 | P31: =N31*O31 -> 0
A32: 4 | B32: RELLENOS | G32: 0 | N32: =M32-D32 -> 0 | O32: =E32 -> 0 | P32: =N32*O32 -> 0
A33: 4.1 | B33: RELLENO MATERIAL T. MAX. 2" COMP. MECAN. Selecc rio | C33: M3 | D33: 253.27 | E33: 31353 | F33: =ROUND(D33*E33,0) -> 7940774 | G33: 0 | H33: =E33*G33 -> 0 | I33: =D33 -> 253.27 | J33: =E33*I33 -> 7940774.3 | K33: =G33/D33 -> 0 | L33: =100%-K33 -> 1 | M33: 211.74 | N33: =M33-D33 -> -41.53 | O33: =E33 -> 31353 | P33: =N33*O33 -> -1302090.1
A34: 4.2 | B34: SUB-BASE GRAN. RIO SELEC. T. MAX. 2" Inc. Transp 5 km | C34: M3 | D34: 1478.72 | E34: 59142 | F34: =ROUND(D34*E34,0) -> 87454458 | G34: 684.47 | H34: =E34*G34 -> 40480925 | I34: =D34 -> 1478.72 | J34: =E34*I34 -> 87454458 | K34: =G34/D34 -> 0.46288006 | L34: =100%-K34 -> 0.53711994 | M34: 1486.4 | N34: =M34-D34 -> 7.68 | O34: =E34 -> 59142 | P34: =N34*O34 -> 454210.56
F35: =SUM(F33:F34) -> 95395232 | G35: 0 | H35: =SUM(H33:H34) -> 40480925 | J35: =SUM(J33:J34) -> 95395233 | K35: =H35/F35 -> 0.42434956 | L35: =100%-K35 -> 0.57565044 | N35: =M35-D35 -> 0 | O35: =E35 -> 0 | P35: =N35*O35 -> 0
A36: 5 | B36: PAVIMENTOS RIGIDOS | G36: 0 | N36: =M36-D36 -> 0 | O36: =E36 -> 0 | P36: =N36*O36 -> 0
A37: 5.1 | B37: PAVIMENTO CONCRETO MR= 3,8 Inc transporte 5 kms | C37: M3 | D37: 1474.74 | E37: 666008 | F37: =ROUND(D37*E37,0) -> 982188638 | G37: 0 | H37: =ROUND(E37*G37,0) -> 0 | I37: =D37-G37 -> 1474.74 | J37: =ROUND(E37*I37,0) -> 982188638 | K37: =G37/D37 -> 0 | L37: =100%-K37 -> 1 | M37: 1486.4 | N37: =M37-D37 -> 11.66 | O37: =E37 -> 666008 | P37: =N37*O37 -> 7765653.3
A38: 5.2 | B38: ACERO REFUERZO FIGURADO 412Mpa, ( 4200 KG/CM2, G60) | C38: KG | D38: 0 | E38: 4005 | F38: =ROUND(D38*E38,0) -> 0 | G38: 0 | H38: =ROUND(E38*G38,0) -> 0 | I38: =D38-G38 -> 0 | J38: =ROUND(E38*I38,0) -> 0 | K38: =G38/D38 -> #DIV/0! | L38: =100%-K38 -> #DIV/0! | M38: 10000 | N38: =M38-D38 -> 10000 | O38: =E38 -> 4005 | P38: =N38*O38 -> 40050000
A39: 5.3 | B39: SARDINEL PREFAB BLOQUE CEMENTO A-10 SENCILLO | C39: ML | D39: 2492.78 | E39: 56280 | F39: =ROUND(D39*E39,0) -> 140293658 | G39: 869.68 | H39: =ROUND(E39*G39,0) -> 48945590 | I39: =D39-G39 -> 1623.1 | J39: =ROUND(E39*I39,0) -> 91348068 | K39: =G39/D39 -> 0.34887956 | L39: =100%-K39 -> 0.65112044 | M39: 2589 | N39: =M39-D39 -> 96.22 | O39: =E39 -> 56280 | P39: =N39*O39 -> 5415261.6
F40: =SUM(F37:F39) -> 1122482296 | G40: 0 | H40: =SUM(H37:H39) -> 48945590 | J40: =SUM(J37:J39) -> 1073536706 | K40: =H40/F40 -> 0.043604777 | L40: =100%-K40 -> 0.95639522 | N40: =M40-D40 -> 0 | O40: =E40 -> 0 | P40: =N40*O40 -> 0
...

Sheet 2022
A1: ESTUDIO DE MERCADO
A2: SUMINISTRO DE PAPELERÍA Y ÚTILES DE OFICINA PARA LAS DIFERENTES DEPENDENCIAS DE LA ADMINISTRACIÓN CENTRAL DE LA GOBERNACIÓN DEL META
A3: Para determinar los precios de mercado tanto unitarios como totales, El Departamento del Meta, tomo como base el promedio de las cotizaciones recibidas por 3 proveedores, que cuentan con la capacidad profesional de brindar los servicios requeridos por la entidad, las cuales incluyen todos los gastos inherentes por la adecuada ejecución del contrato, tales como impuestos y retenciones, tasas y contribuciones legales vigentes a que haya lugar
A4: El promedio de valores unitarios y/o totales obtenidos en el estudio de mercado, son tomados como precios máximos a cobrar por los posibles oferentes del presente proceso
A5: N° | B5: CPC | C5: DESCRIPCION | D5: MED. | E5: CANT | F5: JDM SOLUCIONES SAS | H5: TERMO ENERGIA LTDA | J5: ELECTRICOS.COM LTDA | L5: PROMEDIO
F6: V.UNITARIO CON IVA | G6: V.TOTAL | H6: V.UNITARIO CON IVA | I6: V.TOTAL | J6: V.UNITARIO CON IVA | K6: V.TOTAL | L6: V.UNITARIO CON IVA | M6: V.TOTAL
A7: 1 | C7: ALMOHADILLA PARA SELLO RECARGABLE. A MATERIAL: CASCARA EN POLIESTIRENO DE ALTO IMPACTO/ CAJA PLÁSTICA RÍGIDA. B CAPACIDAD DE ABSORCIÓN DEL FIELTRO: MÍNIMO 14 CC DE TINTA. C DIMENSIÓN: ANCHO 90 A 110 MM; LARGO/LONGITUD 125 A 135 MM. D COLOR DE TIN | D7: Unidad | E7: 9 | F7: 16260 | G7: 146340 | H7: 15854 | I7: 142682 | J7: 16960 | K7: 152640 | L7: 16358 | M7: 147221 | O7: =+M7*100%/289999667 -> 0.0005076592 | R7: 1400000 | T7: =+L7-R7 -> -1383642
A8: 2 | C8: BANDERITA TIPO FLECHA COLORES X100 UND, AUTO- ADHESIVAS, REMOVIBLES Y SEMI TRANSPARENTES, MEDIDAS 42 X 12MM | D8: Unidad | E8: 80 | F8: 2780 | G8: 222400 | H8: 2711 | I8: 216840 | J8: 2900 | K8: 232008 | L8: 2797 | M8: 223749 | O8: =+M8*100%/289999667 -> 0.00077154916 | R8: 724000 | T8: =+L8-R8 -> -721203
A9: 3 | C9: BISTURÍ ENCAUCHETADO, CORTADOR ESTANDAR METALICO MULTIUSOS PARA OFICINA CON REPUESTOS DE 19MM, CON UN SISTEMA DE CIERRE SEGURO. | D9: Unidad | E9: 20 | F9: 3970 | G9: 79400 | H9: 3871 | I9: 77415 | J9: 4140 | K9: 82800 | L9: 3994 | M9: 79872 | O9: =+M9*100%/289999667 -> 0.00027542101
A10: 4 | C10: BOLÍGRAFO ROJO. CUERPO PLÁSTICO O POLIETILENO TRANSLUCIDO O COLOR NEGRO; PUNTA METÁLICA, CON TAPA, REDONDO, RECTANGULAR O HEXAGONAL, CAJA X 12 UNIDADES | D10: Caja | E10: 13 | F10: 9760 | G10: 126880 | H10: 9516 | I10: 123708 | J10: 10180 | K10: 132340 | L10: 9819 | M10: 127643 | O10: =+M10*100%/289999667 -> 0.00044014878
A11: 5 | C11: BOLÍGRAFOS CLÁSICO, CAJA X 12 LAPICEROS NEGRO, TRAZO MEDIO | D11: Caja | E11: 20 | F11: 9760 | G11: 195200 | H11: 9516 | I11: 190320 | J11: 10180 | K11: 203600 | L11: 9819 | M11: 196373 | O11: =+M11*100%/289999667 -> 0.00067714905
A12: 6 | C12: ESFEROS ESPECIALES PARA FIRMAR SING PEN PILOT NEGRO CAJA X 10 UND | D12: Caja | E12: 20 | F12: 79330 | G12: 1586600 | H12: 77347 | I12: 1546935 | J12: 82000 | K12: 1640000 | L12: 79559 | M12: 1591178 | O12: =+M12*100%/289999667 -> 0.005486827
A13: 7 | C13: BORRADOR DE NATA X 20 UNIDADES PARA BORRAR LÁPIZ DE GRÁFITO Y LÁPIZ DE COLOR. PERFECTO BORRADO QUE NO MANCHA NI MALTRATA EL PAPEL. PARA USO ESCOLAR, DE OFICINA Y PROFESIONAL. ALTO: 4CM, ANCHO: 2CM | D13: Caja | E13: 8 | F13: 11500 | G13: 92000 | H13: 11213 | I13: 89700 | J13: 11990 | K13: 95920 | L13: 11568 | M13: 92540 | O13: =+M13*100%/289999667 -> 0.00031910381
A14: 8 | C14: CAJA DE ARCHIVO X 200 INACTIVO EN CARTON medida 40.5 cm x 20.8 cm x 26 cm contiene un producto impermeabilizante, incluye stickers de rotación y rotulacion Ref. 35-12 nvtip o nevera cierre horizontal | D14: Unidad | E14: 3800 | F14: 8330 | G14: 31654000 | H14: 8122 | I14: 30862650 | J14: 8590 | K14: 32642000 | L14: 8347 | M14: 31719550 | O14: =+M14*100%/289999667 -> 0.10937788
A15: 9 | C15: CAJA DE ARCHIVO X 300 INACTIVO EN CARTON LIBRE C720 CON TAPA Y SUJETADOR | D15: Unidad | E15: 1200 | F15: 10310 | G15: 12372000 | H15: 10052 | I15: 12062700 | J15: 10755 | K15: 12906470 | L15: 10372 | M15: 12447057 | O15: =+M15*100%/289999667 -> 0.042920935
A16: 10 | C16: CAJA DE LÁPICES DE MINA NEGRA HB 2 X 12 UNIDADES, LONGITUD 17.8 - 19.7 CMS Y DIÁMETRO DE MINIMO 7,2MM, FORMA REDONDA, TRIANGULAR O HEXAGONAL BORRADOR ASEGURADO EN CASQUILLO DE METAL O PLÁSTICO SIN BORDES AFILADOS NI CORTANTES. | D16: Caja | E16: 31 | F16: 13570 | G16: 420670 | H16: 13231 | I16: 410153 | J16: 14150 | K16: 438650 | L16: 13650 | M16: 423158 | O16: =+M16*100%/289999667 -> 0.0014591672
A17: 11 | C17: CAJA DE RESMA PAPEL BOND 75 GRS. TAMAÑO CARTA X 10 RESMA | D17: Caja | E17: 151 | F17: 273700 | G17: 41328700 | H17: 266858 | I17: 40295483 | J17: 284000 | K17: 42884000 | L17: 274853 | M17: 41502728 | O17: =+M17*100%/289999667 -> 0.14311302
C18: CAJA DE RESMA TAMAÑO OFICIO X 10 UNID | D18: Caja | E18: 10 | F18: 317330 | G18: 3173300 | H18: 309397 | I18: 3093968 | J18: 331039 | K18: 3310387 | L18: 319255 | M18: 3192552
C19: CAJA DE SACAPUNTAS METÁLICOS A 1002 X 24 TAJALAPIZ | D19: Caja | E19: 7 | F19: 4760 | G19: 33320 | H19: 4641 | I19: 32487 | J19: 4960 | K19: 34720 | L19: 4787 | M19: 33509
C20: CARPETA 2 TAPAS DESACIFICADAS No.13 OFICIO, 600 GRS, LIBRE DE ACIDOS medidas 24.5 cm x 35 cm, PH neutro con gancho plastico legajador | D20: Unidad | E20: 5750 | F20: 3570 | G20: 20527500 | H20: 3481 | I20: 20014313 | J20: 3650 | K20: 20987500 | L20: 3567 | M20: 20509771
C21: CARPETA DE ARCHIVO 4 ALETAS BLANCA PROPALCOTE DE 320 GRS LIBRE DE ACIDO Y PH NEUTRO, medidas 25 cm x 35 cm | D21: Unidad | E21: 5750 | F21: 4360 | G21: 25070000 | H21: 4251 | I21: 24443250 | J21: 4500 | K21: 25875000 | L21: 4370 | M21: 25129417
C22: CARPETA LEGAJADORA FOLDER AZ, 30 CM X 27.5 CM, ESPESOR 9CM, MATERIAL CARTÓN PLASTIFICADO | D22: Unidad | E22: 170 | F22: 10510 | G22: 1786700 | H22: 10247 | I22: 1742033 | J22: 10960 | K22: 1863200 | L22: 10572 | M22: 1797311
C23: CINTA RELOJ CONTROL DE CORRESPONDENCIA DL- 518 - COLOR NEGRO | D23: Unidad | E23: 5 | F23: 138830 | G23: 694150 | H23: 135359 | I23: 676796 | J23: 144820 | K23: 724100 | L23: 139670 | M23: 698349
C24: CINTA DE ENMASCARAR DE 24 MM X 40 MTS | D24: Rollo | E24: 20 | F24: 6150 | G24: 123000 | H24: 5996 | I24: 119925 | J24: 6400 | K24: 128000 | L24: 6182 | M24: 123642
C25: CINTA TRANSPARENTE DE 12 MM X 40 MTS | D25: Rollo | E25: 20 | F25: 990 | G25: 19800 | H25: 965 | I25: 19305 | J25: 1030 | K25: 20600 | L25: 995 | M25: 19902
C26: CINTA TRANSPARENTE DE 48 MM X 100 MTS | D26: Rollo | E26: 20 | F26: 8530 | G26: 170600 | H26: 8317 | I26: 166335 | J26: 8800 | K26: 176000 | L26: 8549 | M26: 170978
C27: CORRECTOR LIQUIDO TIPO LAPIZ DE 7 ML | D27: Unidad | E27: 12 | F27: 2380 | G27: 28560 | H27: 2321 | I27: 27846 | J27: 2480 | K27: 29760 | L27: 2394 | M27: 28722
C28: COSEDORA DE OFICINA 30 HOJAS. A MATERIAL: ESTRUCTURA METÁLICA DE ALTA RESISTENCIA. B DIMENSIÓN:MEDIDAS APROXIMADAS DE 186 MM LARGO X 64 MM. ALTO X 44 MM ANCHO. C CARACTERÍSTICAS FÍSICAS: BASE ANTIDESLIZANTE. DCAPACIDAD DE COCIDO: 30 HOJAS A LA VEZ | D28: Unidad | E28: 12 | F28: 43630 | G28: 523560 | H28: 42539 | I28: 510471 | J28: 45515 | K28: 546180 | L28: 43895 | M28: 526737
C29: GRAPADORA SEMI INDUSTRIAL TRABAJO PESADO HASTA 140 HOJAS,ESTRUCTURA METÁLICA, GUÍA INDICADORA | D29: Unidad | E29: 2 | F29: 128920 | G29: 257840 | H29: 125697 | I29: 251394 | J29: 134480 | K29: 268960 | L29: 129699 | M29: 259398
... C55: TINTA PARA IMPRESORSA EPSON REF 664 (AZUL, AMARILLA, NEGRA Y ROJA) | D55: Unidad | E55: 40 | F55: 47600 | G55: 1904000 | H55: 46410 | I55: 1856400 | J55: 49600 | K55: 1984000 | L55: 47870 | M55: 1914800
A56: fecha: 27 de septiembre de 2022 | G56: =SUM(G7:G55) -> 149524730 | I56: =SUM(I7:I55) -> 145845617 | K56: =SUM(K7:K55) -> 154570278 | M56: =SUM(M7:M55) -> 149980212
A57: SON: Doscientos ochenta y nueve millones novecientos noventa y nueve mil seiscientos sesenta y siete pesos M/cte
A58: 1. | B58: Los proveedores cuentan con la actividad economica inmersa para proporcionar los productos solicitados
A59: 2. | B59: Los proveedores cotizaron en su totalidad los productos solicitados por la entidad
A63: CARLOS FABIAN ROMERO AREVALO | G63: WILSON ENRIQUE CASTRILLON DUQUE
A64: Elaboró | G64: Revisó
A65: Asesor Externo (CPS) | G65: Gerente de Servicios Administrativos
A66: Secretaría Administrativa | G66: Secretaria Administrativa

Sheet propuesta
A1: ESTUDIO DE MERCADO
A2: SUMINISTRO DE PAPELERÍA Y ÚTILES DE OFICINA PARA LAS DIFERENTES DEPENDENCIAS DE LA ADMINISTRACIÓN CENTRAL DE LA GOBERNACIÓN DEL META
A3: Para determinar los precios de mercado tanto unitarios como totales, El Departamento del Meta, tomo como base el promedio de las cotizaciones recibidas por 3 proveedores, que cuentan con la capacidad profesional de brindar los servicios requeridos por la entidad, las cuales incluyen todos los gastos inherentes por la adecuada ejecución del contrato, tales como impuestos y retenciones, tasas y contribuciones legales vigentes a que haya lugar
A4: El promedio de valores unitarios y/o totales obtenidos en el estudio de mercado, son tomados como precios máximos a cobrar por los posibles oferentes del presente proceso y se encuentran ajustados al peso ya sea por defecto o por exceso.
A5: N° | B5: CPC | C5: DESCRIPCIÓN CPC | D5: DESCRIPCIÓN | E5: MED. | F5: CANT | G5: COTIZACIÓN 1 | I5: COTIZACIÓN 2 | K5: COTIZACIÓN 3 | M5: PROMEDIO
G6: V.UNITARIO CON IVA | H6: V.TOTAL | I6: V.UNITARIO CON IVA | J6: V.TOTAL | K6: V.UNITARIO CON IVA | L6: V.TOTAL | M6: V.UNITARIO CON IVA | N6: V.TOTAL
A7: 1 | B7: 3212901 | C7: PAPEL BOND | D7: CAJA DE RESMA PAPEL BOND 75GRS TAMAÑO OFICIO X 10 | E7: CAJA | F7: 15 | G7: 295520 | H7: =+G7*F7 -> 4432800 | I7: 304390 | J7: =+I7*F7 -> 4565850 | K7: 307341 | L7: =+K7*F7 -> 4610115 | M7: 302417 | N7: =+M7*F7 -> 4536255
A8: 2 | B8: 3212901 | C8: PAPEL BOND | D8: CAJA DE RESMA PAPEL BOND 75GRS TAMAÑO CARTA X 10 | E8: CAJA | F8: 1000 | G8: 210230 | H8: =+G8*F8 -> 210230000 | I8: 216532 | J8: =+I8*F8 -> 216532000 | K8: 218639 | L8: =+K8*F8 -> 218639000 | M8: 215134 | N8: =+M8*F8 -> 215134000
A9: 3 | B9: 3699010 | C9: TAPAS PARA AGENDAS, CARPETAS O SIMILARES EN VINILO | D9: CARPETA 2 TAPAS DESACIFICADAS NO.13 OFICIO, 600 GRS, LIBRE DE ACIDOS MEDIDAS 24.5 CM X 35 CM, PH NEUTRO CON GANCHO PLASTICO LEGAJADOR | E9: UNIDAD | F9: 2000 | G9: 7490 | H9: =+G9*F9 -> 14980000 | I9: 7711 | J9: =+I9*F9 -> 15422000 | K9: 7790 | L9: =+K9*F9 -> 15580000 | M9: 7664 | N9: =+M9*F9 -> 15328000
A10: 4 | B10: 3699010 | C10: TAPAS PARA AGENDAS, CARPETAS O SIMILARES EN VINILO | D10: CARPETA DE ARCHIVO 4 ALETAS BLANCA, LIBRE DE ACIDO Y PH NEUTRO, MEDIDAS 25 CM X 35 CM | E10: UNIDAD | F10: 7000 | G10: 4180 | H10: =+G10*F10 -> 29260000 | I10: 4308 | J10: =+I10*F10 -> 30156000 | K10: 4347 | L10: =+K10*F10 -> 30429000 | M10: 4278 | N10: =+M10*F10 -> 29946000
