Workbook
Name \c: #REF!
Name \c: #REF!
Name \c: #REF!
Name \c: #REF!
Name \c: #REF!
Name \c: #REF!
Name \PX: [1]!ERR
Name \PX: [1]!ERR
Name \X: 'A.I.U '!ERR
Name \X: [2]!ERR
Name \y: #N/A
Name \Z: 'A.I.U '!ERR
Name \Z: [2]!ERR
Name _: #REF!
Name _: #REF!
Name _: #REF!
Name _: #REF!
Name _____________________________________________________FS01: 'A.I.U '!ERR
Name _____________________________________________________FS01: 'INTERVENCION '!ERR
Name _____________________________________________________FS01: 'INTERVENCION '!ERR
Name _____________________________________________________FS01: [0]!ERR
Name _____________________________________________________FS01: [0]!ERR
Name _____________________________________________________FS01: [0]!ERR
Name ___________________________________________________FS01: 'A.I.U '!ERR
Name ___________________________________________________FS01: 'INTERVENCION '!ERR
Name ___________________________________________________FS01: 'INTERVENCION '!ERR
Name ___________________________________________________FS01: [0]!ERR
Name ___________________________________________________FS01: [0]!ERR
Name ___________________________________________________FS01: [0]!ERR
Name _________________________________________________FS01: 'A.I.U '!ERR
Name _________________________________________________FS01: 'INTERVENCION '!ERR
Name _________________________________________________FS01: 'INTERVENCION '!ERR
Name _________________________________________________FS01: [0]!ERR
Name _________________________________________________FS01: [0]!ERR
Name _________________________________________________FS01: [0]!ERR
Name _______________________________________________FS01: 'A.I.U '!ERR
Name _______________________________________________FS01: 'INTERVENCION '!ERR
Name _______________________________________________FS01: 'INTERVENCION '!ERR
Name _______________________________________________FS01: [0]!ERR
Name _______________________________________________FS01: [0]!ERR
Name _______________________________________________FS01: [0]!ERR
Name _____________________________________________FS01: 'A.I.U '!ERR
Name _____________________________________________FS01: 'INTERVENCION '!ERR
Name _____________________________________________FS01: 'INTERVENCION '!ERR
Name _____________________________________________FS01: [0]!ERR
Name _____________________________________________FS01: [0]!ERR
Name _____________________________________________FS01: [0]!ERR
Name ___________________________________________FS01: 'A.I.U '!ERR
Name ___________________________________________FS01: 'INTERVENCION '!ERR
Name ___________________________________________FS01: 'INTERVENCION '!ERR
Name ___________________________________________FS01: [0]!ERR
Name ___________________________________________FS01: [0]!ERR
Name ___________________________________________FS01: [0]!ERR
Name _________________________________________FS01: 'A.I.U '!ERR
Name _________________________________________FS01: 'INTERVENCION '!ERR
Name _________________________________________FS01: 'INTERVENCION '!ERR
Name _________________________________________FS01: [0]!ERR
Name _________________________________________FS01: [0]!ERR
Name _________________________________________FS01: [0]!ERR
Name _______________________________________FS01: 'A.I.U '!ERR

Sheet INTERVENCION 
B1: PRESUPUESTO | E1: FOR-GI-10
E2: Version: 01
E3: Vigente desde: Septiembre 02 de 2024
A4: MUNICIPIO DE NEIVA
F5: Fecha: enero de 2025
A6: OPTIMIZACION DEL COLECTOR DE ALCANTARILLADO SANITARIO SOBRE LA AVENIDA 26 ENTRE LA CARRERA 6 Y LA CARRERA 7, ENTRE LOS BARRIOS LAS GRANJAS Y AEROPUERTO, EN LA COMUNA 2 DE LA CIUDAD DE NEIVA | G6: JORNAL DÍA
A7: PRESUPUESTO GENERAL DE OBRA | G7: 56940
A8: ITEM | B8: DESCRIPCION | C8: UND | D8: CANT | E8: V. UNITARIO | F8: VALOR TOTAL | G8: =G7*3 -> 170820
A9: 1.0 | B9: Preliminares. | H9: RED PRINCIPAL
A10: 1.1 | B10: ='RED DE ALCANTARILLADO '!$B$8 -> Localizacion, replanteo y control en campo de los niveles de precision de la red de alcantarillado. Generacion del plano record de la obra en formato CAD, ARCMAP y ARCGIS. Referenciando cada uno de las redes y las estructuras construidas, al sistema de Coordenadas Planas Magna SIRGAS con la información de los GPS suministrados por las Ceibas Empresas Públicas de Neiva, ubicados en diversos sectores de la ciudad. | C10: ='RED DE ALCANTARILLADO '!$H$7 -> ML | D10: =ROUND('CANT OBRA'!E26,0) -> 191 | E10: ='RED DE ALCANTARILLADO '!$H$39 -> 6389 | F10: =E10*D10 -> 1220299 | G10: =+ROUND(F10*E10,2) -> 7796490311 | H10: Localización, replanteo y control en campo de los niveles de precisión de la red de alcantarillado. Generación del plano récord de la obra en formato CAD, ARCMAP y ARCGIS. Referenciando cada uno de las redes y las estructuras construidas, al sistema de Coordenadas Planas Magna SIRGAS con la información de los GPS suministrados por las Ceibas Empresas Públicas de Neiva, ubicados en diversos sectores de la ciudad. | I10: m | J10: 2151.31
A11: 1.2 | B11: ='RED DE ALCANTARILLADO '!$B$55 -> Señalizacion área de trabajo cumpliendo con el manual de señalizacion vial vigente. | C11: ='RED DE ALCANTARILLADO '!$H$54 -> ML | D11: =D10 -> 191 | E11: ='RED DE ALCANTARILLADO '!$H$85 -> 9858 | F11: =E11*D11 -> 1882878 | H11: Señalizacion área de trabajo cumpliendo con el manual de señalizacion vial vigente. | I11: m | J11: 1075.66
C12: Subtotal Preliminares | F12: =SUM(F10:F11) -> 3103177
A13: 2.0 | B13: Demoliciones | H13: Excavación manual en material conglomerado (h=0 a 2m) | I13: m3 | J13: 1897.46
A14: 2.1 | B14: ='RED DE ALCANTARILLADO '!$B$101 -> Demolicion pozo concreto 0-2.0 m. Incluye corte con martillo neumatico | C14: ='RED DE ALCANTARILLADO '!$H$100 -> UND | D14: ='CANT OBRA'!W32 -> 2 | E14: ='RED DE ALCANTARILLADO '!$H$132 -> 717231 | F14: =E14*D14 -> 1434462 | H14: Excavación Mecánica en Roca consolidada | I14: m3 | J14: 210.83
A15: 2.2 | B15: ='RED DE ALCANTARILLADO '!$B$148 -> Demolición pavimento flexible. Incluye corte de frontera con cortadora de disco y demolición con martillo neumático. | C15: ='RED DE ALCANTARILLADO '!$H$147 -> M2 | D15: =ROUND('CANT OBRA'!L33,0) -> 415 | E15: ='RED DE ALCANTARILLADO '!$H$179 -> 33585 | F15: =E15*D15 -> 13937775 | H15: Suministro e instalación de tubería pvc diámetro 3" rde 21 unión mecánica (uz). incluye: transporte al sitio de la obra, cama y relleno en arena hasta 10 cm por encima de cota clave y cinta de señalización sobre la tuberia a una altura de 10 cm. | I15: m | J15: 2151.31
C16: Subtotal Demoliciones | F16: =SUM(F14:F15) -> 15372237 | H16: Relleno de brecha con material seleccionado de la misma excavación, compactación mecánica tipo canguro, en capas máximo de 20 cms. ip< 13%, según norma invías 2012, dm = según pm.95% | I16: m3 | J16: 1656.51
A17: 3.0 | B17: Excavaciones | H17: Demolición pavimento flexible. incluye corte de frontera con cortadora de disco y demolición con martillo neumático. | I17: m2 | J17: 511.92
A18: 3.1 | B18: ='RED DE ALCANTARILLADO '!$B$198 -> Excavación mecánica en material conglomerado h=0-2 mts | C18: ='RED DE ALCANTARILLADO '!$H$197 -> M3 | D18: =ROUND('CANT OBRA'!O26,0) -> 829 | E18: ='RED DE ALCANTARILLADO '!$H$230 -> 18025 | F18: =E18*D18 -> 14942725 | H18: Restitución de pavimento flexible. contiene mezcla asfáltica tipo mdc ii, compactada con cilindro vibrocompactador. (e = 7cm). | I18: m2 | J18: 511.92
A19: 3.2 | B19: ='RED DE ALCANTARILLADO '!$B$246 -> Excavación mecánica en material conglomerado h>2m y h<4m | C19: ='RED DE ALCANTARILLADO '!$H$245 -> M3 | D19: =ROUND('CANT OBRA'!R26,0) -> 771 | E19: ='RED DE ALCANTARILLADO '!$H$276 -> 20309 | F19: =E19*D19 -> 15658239 | H19: Retiro de tuberia existente de acueducto PVC Ø 3" | I19: m | J19: 2151.31
A20: 3.3 | B20: ='RED DE ALCANTARILLADO '!$B$291 -> Excavación mecánica en material conglomerado h>4m y h<6m | C20: ='RED DE ALCANTARILLADO '!$H$290 -> M3 | D20: =ROUND('CANT OBRA'!U26,0) -> 171 | E20: ='RED DE ALCANTARILLADO '!$H$321 -> 30015 | F20: =E20*D20 -> 5132565 | H20: Retiro del material sobrante de excavación y disposicion al sitio autorizado. (Incl. Distancia hasta 15 KM) | I20: m³ | J20: 48.94
A21: 3.4 | B21: ='RED DE ALCANTARILLADO '!$B$337 -> Entibación cuajada para una protección del 100%, mediante módulos metálicos compuestos por paneles de lámina de acero y codales extensibles metálicos para zanja con H > 2,0 m. (Reutilizacion 1/10) | C21: ='RED DE ALCANTARILLADO '!$H$336 -> M2 | D21: =ROUND('CANT OBRA'!AK26,0) -> 159 | E21: ='RED DE ALCANTARILLADO '!$H$368 -> 27966 | F21: =E21*D21 -> 4446594 | H21: ACOMETIDA DOMICILIARIA ACUEDUCTO
C22: Subtotal Excavaciones | F22: =SUM(F18:F21) -> 40180123 | H22: Excavación manual en material conglomerado (h=0 a 2m) | I22: m3 | J22: 203.78
A23: 4.0 | B23: Suministro e Instalación de tubería y accesorios en PVC, sello hermético, NTC 3722.
A24: 4.1 | B24: ='RED DE ALCANTARILLADO '!$B$384 -> Suministro e InstalacionTubería PVC diámetro 54", de pared estructural y sello hermético. Incluye: Transporte al sitio de la obra, cama en material mixto de río de e=10 cm, hasta la Cota Clave del tubo | C24: ='RED DE ALCANTARILLADO '!$H$383 -> ML | D24: =ROUND('CANT OBRA'!E26,0) -> 191 | E24: ='RED DE ALCANTARILLADO '!$H$415 -> 5377115 | F24: =E24*D24 -> 1027028965 | H24: Suministro e instalación de domiciliarias (promedio de 0 a 5ml) en tubería pf +uad de 1/2" rde 9. incluye: tubería de 1/2", collar de derivación de 3" x 1/2", valvula anti fraude, valvulas de bola de 1/2", y accesorios necesarios para su correcta instalación y funcionamiento. | I24: und | J24: 209
C25: Subtotal Tuberia y Accesorios | F25: =SUM(F24) -> 1027028965 | H25: Relleno de brecha con material seleccionado de la misma excavación, compactación mecánica tipo canguro, en capas máximo de 20 cms. ip< 13%, según norma invías 2012, dm = según pm.95% | I25: m3 | J25: 93.74 | K25: 1427653760 | L25: =F25-K25 -> -400624795
A26: 5.0 | B26: Construcción de pozos de inspección | H26: Retiro del material sobrante de excavación y disposicion al sitio autorizado. (Incl. Distancia hasta 15 KM) | I26: m³ | J26: 143.05
A27: 5.1 | B27: ='RED DE ALCANTARILLADO '!$B$431 -> Construcción de pozos de inspección, en concreto de 3.000psi, según modelo de Empresas Públicas de Neiva. Incluye: excavación, Tapa camara hierro ductil incluye aro tipo trafico pesado de 70 cm, con anillo en concreto reforzado (e=20cm) y diámetro 1.60m, pasos en hierro de 5/8" (con anticorrosivo) y cañuela en tuberia de PVC. h=0 - 2.0m. | C27: ='RED DE ALCANTARILLADO '!$H$430 -> UND | D27: ='CANT OBRA'!W35 -> 2 | E27: ='RED DE ALCANTARILLADO '!$H$470 -> 3785813 | F27: =E27*D27 -> 7571626 | H27: Demolicion andenes, sardineles y cunetas (Incluye:Retiro) | I27: m3 | J27: 33.44
A28: 5.2 | B28: ='RED DE ALCANTARILLADO '!$B$485 -> Construcción de pozos de inspección, en concreto de 3.000 psi, según modelo de Empresas Públicas de Neiva. Incluye: excavación,Tapa camara hierro ductil incluye aro tipo trafico pesado de 70 cm, con anillo en concreto reforzado (e=20cm) y diámetro 1.6m, pasos en hierro de 5/8" (con anticorrosivo) y cañuela en tuberia de PVC. h=0 - 3.0m | C28: ='RED DE ALCANTARILLADO '!$H$484 -> UND | D28: ='CANT OBRA'!X35 -> 1 | E28: ='RED DE ALCANTARILLADO '!$H$524 -> 4377592 | F28: =E28*D28 -> 4377592 | H28: Reparación de anden placa en concreto e=0,8m 2500 psi, acabado en concreto afinado. Incluye todo lo necesario para que su terminado sea igual o similar al existente. | I28: m2 | J28: 418
A29: 5.3 | B29: ='RED DE ALCANTARILLADO '!$B$539 -> Construcción de pozos de inspección, en concreto de 3.000psi, según modelo de Empresas Públicas de Neiva. Incluye: excavación, Tapa camara hierro Ductil incluye aro tipo trafico pesado de 70 cm, con anillo en concreto reforzado (e=20cm) y diámetro 1.6m, pasos en hierro de 5/8" (con anticorrosivo) y cañuela en tuberia de PVC. h=0 - 4.0m. | C29: ='RED DE ALCANTARILLADO '!$H$538 -> UND | D29: ='CANT OBRA'!Y35 -> 1 | E29: ='RED DE ALCANTARILLADO '!$H$578 -> 4979522 | F29: =E29*D29 -> 4979522 | H29: VALVULA Y ACCESORIOS DE MONTAJE
A30: 5.4 | B30: ='RED DE ALCANTARILLADO '!$B$595 -> Construcción de pozos de inspección, en concreto de 3.000psi, según modelo de Empresas Públicas de Neiva. Incluye: excavación, Tapa camara hierro ductil incluye aro tipo trafico pesado de 70 cm, con anillo en concreto reforzado (e=20cm) y diámetro 1.6m, pasos en hierro de 5/8" (con anticorrosivo) y cañuela en tuberia de PVC. h=0 - 5.0m | C30: ='RED DE ALCANTARILLADO '!$H$594 -> UND | D30: ='CANT OBRA'!Z35 -> 4 | E30: ='RED DE ALCANTARILLADO '!$H$634 -> 5645724 | F30: =E30*D30 -> 22582896 | H30: Suministro e instalación Tee presión PVC 3"X3". | I30: und | J30: 26
C31: Subtotal Pozos de Inspeccion | F31: =SUM(F27:F30) -> 39511636 | H31: Suministro e instalación de Codo presion PVC 90° Ø 3. | I31: und | J31: 6
A32: 6.0 | B32: Relleno de brechas | H32: Suministro e instalación Codo presion PVC 45° Ø 3. | I32: und | J32: 1
A33: 6.1 | B33: ='RED DE ALCANTARILLADO '!$B$650 -> Relleno de brecha con material seleccionado de la misma excavación, compactación mecánica tipo canguro, en capas máximo de 20 cms. IP< 13%, según Norma Invías 2012, Dm = según PM.95% | C33: ='RED DE ALCANTARILLADO '!$H$649 -> M3 | D33: =ROUND('CANT OBRA'!AD26,0) -> 335 | E33: ='RED DE ALCANTARILLADO '!$H$689 -> 26704 | F33: =E33*D33 -> 8945840
A34: 6.2 | B34: ='RED DE ALCANTARILLADO '!$B$705 -> Relleno de brecha con material recebo granular compactación mecánica tipo canguro, capa máxima de 20cm. IP < 10%, según norma INVIAS 2012, Dm=95% según PM. | C34: ='RED DE ALCANTARILLADO '!$H$704 -> M3 | D34: =ROUND('CANT OBRA'!AE26,0) -> 595 | E34: ='RED DE ALCANTARILLADO '!$H$744 -> 167439 | F34: =E34*D34 -> 99626205 | H34: Concreto 3000 psi para anclajes | I34: m3 | J34: 0.75
A35: 6.3 | B35: ='RED DE ALCANTARILLADO '!$B$760 -> Relleno de brecha con material de subbase granular IP<6%, según norma de INVIAS 2012, compactación mecánica tipo canguro, capa máxima de 20cm, Dm= 95% según PM. | C35: ='RED DE ALCANTARILLADO '!$H$759 -> M3 | D35: =ROUND('CANT OBRA'!Z26,0) -> 104 | E35: ='RED DE ALCANTARILLADO '!$H$791 -> 191948 | F35: =E35*D35 -> 19962592 | H35: Suministro e instalación de Valvula ventosa 1/2" camara doble accion multiple rosca. | I35: und | J35: 2
A36: 6.4 | B36: ='RED DE ALCANTARILLADO '!$B$807 -> Relleno de brecha con material de base granular IP<3%, según norma de INVIAS 2012, compactación mecánica tipo canguro, capa máximo de 20cm, Dm=95% según PM. | C36: ='RED DE ALCANTARILLADO '!$H$806 -> M3 | D36: =ROUND('CANT OBRA'!AA26,0) -> 83 | E36: ='RED DE ALCANTARILLADO '!$H$838 -> 209218 | F36: =E36*D36 -> 17365094 | H36: Caja de inspeccion 70 x 70 con excavación, base recebo, marco y tapa de concreto reforzado | I36: und | J36: 7
C37: Subtotal Rellenos | F37: =SUM(F33:F36) -> 145899731
A38: 7.0 | B38: Restitucion de Pavimentos | H38: Registro globo en bronce tipo pesado Ø=1/2". Suministro e Instal. | I38: und | J38: 2
A39: 7.1 | B39: ='RED DE ALCANTARILLADO '!$B$854 -> Restitución de pavimento flexible. Contiene mezcla asfáltica tipo MDC II, compactada con cilindro vibrocompactador. (e = 7cm). | C39: ='RED DE ALCANTARILLADO '!$H$853 -> M2 | D39: =ROUND('CANT OBRA'!L33,0) -> 415 | E39: ='RED DE ALCANTARILLADO '!$H$886 -> 145758 | F39: =E39*D39 -> 60489570 | H39: RED DE ALCANTARILLADO SANITARIO
C40: Subtotal Restitucion | F40: =SUM(F39) -> 60489570 | H40: RED PRINCIPAL
...

Sheet CANT OBRA
A1: CANTIDADES DE OBRA DE LA RED DE ALCANTARILLADO DE AGUAS RESIDUALES SOBRE LA AVENIDA 26 ENTRE LA CARRERA 6 Y LA CARRERA 7 ENTRE LOS BARRIOS LAS GRANJAS Y AEROPUERTO, EN LA COMUNA 2 DE LA CIUDAD DE NEIVA.
A3: Fecha : | C3: JUNIO DE 2025
A4: Localizacion : | C4: AVENIDA 26 ENTRE CARRERAS 6 Y 7
A5: Direccion :
A6: Contratista :
A7: Interventor :
A8: Diametro : | C8: 42"
L13: COLECTOR PRINCIPAL AGUAS RESIDUALES
L14: Vol. Excav. Tuberia m3 | M14: CORTES DE 0 - 2.00 | P14: CORTES DE 2.00 - 4.00 | S14: CORTES DE 4.00 - 8.00
A15: No. TRAMO | B15: Direccion | C15: Abscisa Inicial | D15: h1 | E15: Abscisa Final | F15: h2 | H15: Ø Tuberia | I15: Radio en cm. | J15: Radio en mm. | K15: Ancho Prom. Excav. | M15: h1a | N15: h2a | O15: volumen Exc. 0 - 2 | P15: h1b | Q15: h2b | R15: volumen Exc. >2 < 4 | S15: h1c | T15: h2c | U15: volumen Exc. > 4 | V15: Retiro de Material m3 | W15: Area Arena | X15: Corte Concreto Asfaltico ml | Y15: Demolicion m2 | Z15: Subbase Granular | AA15: Base Granular | AB15: Construccion de Pozos Unid. | AC15: RELLENO TOTAL | AD15: Relleno Mat. Seleccionado de la Excav. | AE15: Relleno Recebo | AF15: RESTITUCION DE ASFALTO M2 | AG15: ANCHO EXCAVACION NORMA | AH15: Prom. Alturas | AI15: Ancho Superior | AJ15: Ancho Promedio | AK15: ENTIBADO
B16: AVEIDA 26
A17: 1 | B17: Entre Pozo 1 y Pozo 2 | C17: 0 | D17: 3.1 | E17: 70.76 | F17: 3.72 | G17: ASFALTO | H17: 54 | I17: =(H17*0.0254)*100 -> 137.16 | J17: =I17*10 -> 1371.6 | K17: =(H17*0.0254)+0.8 -> 2.1716 | L17: =((D17+F17)/2)*E17*K17 -> 523.98884 | M17: =IF(D17<=2,D17,2) -> 2 | N17: =IF(F17<=2,F17,2) -> 2 | O17: =E17*K17*((M17+N17)/2) -> 307.32483 | P17: =D17-(M17+S17) -> 1.1 | Q17: =F17-(N17+S17) -> 1.72 | R17: =E17*K17*((P17+Q17)/2) -> 216.66401 | S17: =IF(D17>=4,D17-4,0) -> 0 | T17: =IF(F17>=4,F17-4,0) -> 0 | U17: =E17*K17*((S17+T17)/2) -> 0 | V17: =(L17-AD17)*1.3 -> 565.02039 | W17: =((I17/100)+0.1)*K17 -> 3.1957266 | X17: =E17*2 -> 141.52 | Y17: =E17*K17 -> 153.66242 | Z17: =(E17*K17*0.25) -> 38.415604 | AA17: =E17*K17*0.2 -> 30.732483 | AC17: =L17-(W17*E17) -> 297.85923 | AD17: =AC17*0.3 -> 89.357768 | AE17: =AC17-(AD17+Z17+AA17) -> 139.35337 | AF17: =Y17 -> 153.66242 | AG17: =AI17 -> 4.2222 | AH17: =(D17+F17)/2 -> 3.41 | AI17: =((H17*0.0254)+0.6)+((AH17*0.33)*2) -> 4.2222 | AJ17: =(AI17+(H17*0.0254))/2 -> 2.7969 | AK17: =(((D17+F17)/2)*E17*2)/10 -> 48.25832
A18: 3 | B18: Entre Pozo 2 y Pozo 3 | C18: 0 | D18: 3.72 | E18: 36.56 | F18: 4.39 | G18: ASFALTO | H18: 54 | I18: =(H18*0.0254)*100 -> 137.16 | J18: =I18*10 -> 1371.6 | K18: =(H18*0.0254)+0.8 -> 2.1716 | L18: =((D18+F18)/2)*E18*K18 -> 321.94144 | M18: =IF(D18<=2,D18,2) -> 2 | N18: =IF(F18<=2,F18,2) -> 2 | O18: =E18*K18*((M18+N18)/2) -> 158.78739 | P18: =D18-(M18+S18) -> 1.72 | Q18: =F18-(N18+S18) -> 2.39 | R18: =E18*K18*((P18+Q18)/2) -> 163.15405 | S18: =IF(D18>=4,D18-4,0) -> 0 | T18: =IF(F18>=4,F18-4,0) -> 0.39 | U18: =E18*K18*((S18+T18)/2) -> 15.481771 | V18: =(L18-AD18)*1.3 -> 338.53266 | W18: =((I18/100)+0.1)*K18 -> 3.1957266 | X18: =E18*2 -> 73.12 | Y18: =E18*K18 -> 79.393696 | Z18: =(E18*K18*0.25) -> 19.848424 | AA18: =E18*K18*0.2 -> 15.878739 | AC18: =L18-(W18*E18) -> 205.10567 | AD18: =AC18*0.3 -> 61.531702 | AE18: =AC18-(AD18+Z18+AA18) -> 107.84681 | AF18: =Y18 -> 79.393696 | AK18: =(((D18+F18)/2)*E18*2)/10 -> 29.65016
A19: 4 | B19: Entre Pozo 3 y Pozo 4 | C19: 0 | D19: 4.39 | E19: 41.58 | F19: 5 | G19: ASFALTO | H19: 54 | I19: =(H19*0.0254)*100 -> 137.16 | J19: =I19*10 -> 1371.6 | K19: =(H19*0.0254)+0.8 -> 2.1716 | L19: =((D19+F19)/2)*E19*K19 -> 423.93563 | M19: =IF(D19<=2,D19,2) -> 2 | N19: =IF(F19<=2,F19,2) -> 2 | O19: =E19*K19*((M19+N19)/2) -> 180.59026 | P19: =D19-(M19+S19) -> 2 | Q19: =F19-(N19+S19) -> 2.61 | R19: =E19*K19*((P19+Q19)/2) -> 208.13027 | S19: =IF(D19>=4,D19-4,0) -> 0.39 | T19: =IF(F19>=4,F19-4,0) -> 1 | U19: =E19*K19*((S19+T19)/2) -> 62.755114 | V19: =(L19-AD19)*1.3 -> 437.60396 | W19: =((I19/100)+0.1)*K19 -> 3.1957266 | X19: =E19*2 -> 83.16 | Y19: =E19*K19 -> 90.295128 | Z19: =(E19*K19*0.25) -> 22.573782 | AA19: =E19*K19*0.2 -> 18.059026 | AC19: =L19-(W19*E19) -> 291.05732 | AD19: =AC19*0.3 -> 87.317195 | AE19: =AC19-(AD19+Z19+AA19) -> 163.10731 | AF19: =Y19 -> 90.295128 | AK19: =(((D19+F19)/2)*E19*2)/10 -> 39.04362
A20: 5 | B20: Entre Pozo 4 y Pozo 5 | C20: 0 | D20: 5 | E20: 28.5 | F20: 5.02 | G20: ASFALTO | H20: 54 | I20: =(H20*0.0254)*100 -> 137.16 | J20: =I20*10 -> 1371.6 | K20: =(H20*0.0254)+0.8 -> 2.1716 | L20: =((D20+F20)/2)*E20*K20 -> 310.07191 | M20: =IF(D20<=2,D20,2) -> 2 | N20: =IF(F20<=2,F20,2) -> 2 | O20: =E20*K20*((M20+N20)/2) -> 123.7812 | P20: =D20-(M20+S20) -> 2 | Q20: =F20-(N20+S20) -> 2.02 | R20: =E20*K20*((P20+Q20)/2) -> 124.40011 | S20: =IF(D20>=4,D20-4,0) -> 1 | T20: =IF(F20>=4,F20-4,0) -> 1.02 | U20: =E20*K20*((S20+T20)/2) -> 62.509506 | V20: =(L20-AD20)*1.3 -> 317.68594 | W20: =((I20/100)+0.1)*K20 -> 3.1957266 | X20: =E20*2 -> 57 | Y20: =E20*K20 -> 61.8906 | Z20: =(E20*K20*0.25) -> 15.47265 | AA20: =E20*K20*0.2 -> 12.37812 | AC20: =L20-(W20*E20) -> 218.9937 | AD20: =AC20*0.3 -> 65.69811 | AE20: =AC20-(AD20+Z20+AA20) -> 125.44482 | AF20: =Y20 -> 61.8906 | AK20: =(((D20+F20)/2)*E20*2)/10 -> 28.557
A21: 6 | B21: Entre Pozo 5 y Pozo 6 | C21: 0 | D21: 5.02 | E21: 13.52 | F21: 5.02 | G21: ASFALTO | H21: 54 | I21: =(H21*0.0254)*100 -> 137.16 | J21: =I21*10 -> 1371.6 | K21: =(H21*0.0254)+0.8 -> 2.1716 | L21: =((D21+F21)/2)*E21*K21 -> 147.38736 | M21: =IF(D21<=2,D21,2) -> 2 | N21: =IF(F21<=2,F21,2) -> 2 | O21: =E21*K21*((M21+N21)/2) -> 58.720064 | P21: =D21-(M21+S21) -> 2 | Q21: =F21-(N21+S21) -> 2 | R21: =E21*K21*((P21+Q21)/2) -> 58.720064 | S21: =IF(D21>=4,D21-4,0) -> 1.02 | T21: =IF(F21>=4,F21-4,0) -> 1.02 | U21: =E21*K21*((S21+T21)/2) -> 29.947233 | V21: =(L21-AD21)*1.3 -> 150.97293 | W21: =((I21/100)+0.1)*K21 -> 3.1957266 | X21: =E21*2 -> 27.04 | Y21: =E21*K21 -> 29.360032 | Z21: =(E21*K21*0.25) -> 7.340008 | AA21: =E21*K21*0.2 -> 5.8720064 | AC21: =L21-(W21*E21) -> 104.18114 | AD21: =AC21*0.3 -> 31.254341 | AE21: =AC21-(AD21+Z21+AA21) -> 59.714782 | AF21: =Y21 -> 29.360032 | AK21: =(((D21+F21)/2)*E21*2)/10 -> 13.57408
C26: TOTALES | E26: =SUM(E17:E25) -> 190.92 | L26: =SUM(L17:L25) -> 1727.3252 | O26: =SUM(O17:O25) -> 829.20374 | R26: =SUM(R17:R25) -> 771.06849 | U26: =SUM(U17:U25) -> 170.69362 | V26: =SUM(V16:V24) -> 1809.8159 | X26: =SUM(X16:X24) -> 381.84 | Y26: =SUM(Y16:Y24) -> 414.60187 | Z26: =SUM(Z17:Z24) -> 103.65047 | AA26: =SUM(AA17:AA24) -> 82.920374 | AB26: =SUM(AB16:AB24) -> 0 | AC26: =SUM(AC17:AC25) -> 1117.1971 | AD26: =SUM(AD17:AD24) -> 335.15912 | AE26: =SUM(AE16:AE25) -> 595.4671 | AF26: =SUM(AF16:AF24) -> 414.60187 | AG26: =AVERAGE(AG17:AG17) -> 4.2222 | AI26: =AVERAGE(AI17:AI24) -> 4.2222 | AK26: =SUM(AK16:AK25) -> 159.08318
E27: TOTAL | L27: VOL. TOTAL | V27: VOL. TOTAL | X27: LONG. TOTAL | Y27: AREA TOTAL | AB27: UNIDADES | AE27: VOL. TOTAL | AF27: AREA TOTAL
V30: DEMOLICION DE POZOS
O31: DOMICILIARIAS - SILLAS Y | P31: Ø | Q31: No. | V31: POZOS | W31: 0-2 | X31: 0-3 | Y31: 0-4 | Z31: 0-5
A32: DEMOLICION EN MATERIALES DIFERENTES - COLECTOR | B32: TIPO DE MATERIAL | C32: Abscisa Inicial | E32: Abscisa Final | G32: ANCHO | H32: AREA DEMOLICION | J32: AREA RESTITUCION | L32: TOTAL AREA DEMOLICION | P32: 10" | Q32: 0 | W32: 2 | X32: 0 | Y32: 0 | Z32: 0
A33: TRAMO | B33: ASFALTO | C33: 0 | E33: 0 | G33: 0 | H33: =SUMIF(G17:Y24,"ASFALTO",Y17:Y24) -> 414.60187 | J33: =H33 -> 414.60187 | L33: =SUM(H33:I35) -> 414.60187 | P33: 12" | Q33: 0 | V33: CONSTRUCCION DE POZOS
A34: 1 | B34: CONCRETO | C34: 0 | E34: 0 | G34: 0 | H34: =SUMIF(G17:Y24,"CONCRETO",Y17:Y24) -> 0 | J34: =H34 -> 0 | P34: 14" | Q34: 0 | V34: POZOS | W34: 0-2 | X34: 0-3 | Y34: 0-4 | Z34: 0-5
A35: 2 | B35: TERRENO NATURAL | C35: 0 | E35: 0 | G35: 0 | H35: =SUMIF(G17:Y24,"TERRENO NATURAL",Y17:Y24) -> 0 | J35: =H35 -> 0 | P35: 16" | Q35: 0 | W35: 2 | X35: 1 | Y35: 1 | Z35: 4
A36: 3 | P36: 18" | Q36: 0
P37: 20" | Q37: 0
P38: 24" | Q38: 0
P39: 27" | Q39: 0
P40: 30" | Q40: 0
O42: Longitud Domiciliaria | R42: 6

Sheet RED DE ALCANTARILLADO 
B2: OPTIMIZACION DEL COLECTOR DE ALCANTARILLADO SANITARIO SOBRE LA AVENIDA 26 ENTRE LA CARRERA 6 Y LA CARRERA 7, ENTRE LOS BARRIOS LAS GRANJAS Y AEROPUERTO, EN LA COMUNA 2 DE LA CIUDAD DE NEIVA | F2: DEPARTAMENTO DEL HUILA
F3: MUNICIPIO DE NEIVA
F4: ANALISIS DE PRECIOS UNITARIOS (APU)
A5: PRESUPUESTO GENERAL DE OBRA | F5: Fecha: Abril de 2025
A7: 1.0 | B7: ='INTERVENCION '!B9 -> Preliminares. | G7: Unidad | H7: ML
A8: 1.1 | B8: Localizacion, replanteo y control en campo de los niveles de precision de la red de alcantarillado. Generacion del plano record de la obra en formato CAD, ARCMAP y ARCGIS. Referenciando cada uno de las redes y las estructuras construidas, al sistema de Coordenadas Planas Magna SIRGAS con la información de los GPS suministrados por las Ceibas Empresas Públicas de Neiva, ubicados en diversos sectores de la ciudad.
A11: I. EQUIPO
A12: REF. | B12: DESCRIPCION | E12: UNIDAD | F12: RENDIM. | G12: VR/. UNITARIO | H12: VR/. PARCIAL.
A13: EH-MEN | B13: =VLOOKUP(A13,'PREC-BASE ALC'!A42:D68,2,0) -> Herramienta Menor | E13: =VLOOKUP(A13,'PREC-BASE ALC'!A42:D68,3,0) -> Dia | F13: 300 | G13: =ROUND(VLOOKUP(A13,'PREC-BASE ALC'!A42:D68,4,0),0) -> 36154 | H13: =ROUND((G13/F13),0) -> 121
A14: EH-TOP | B14: =VLOOKUP(A14,'PREC-BASE ALC'!A43:D69,2,0) -> Estacion Total y Nivel de Precision | E14: =VLOOKUP(A14,'PREC-BASE ALC'!A43:D69,3,0) -> Día | F14: 300 | G14: =ROUND(VLOOKUP(A14,'PREC-BASE ALC'!A43:D69,4,0),0) -> 238620 | H14: =ROUND((G14/F14),0) -> 795
G17: Sub-Total: | H17: =+SUM(H13:H16) -> 916
A19: II. MATERIALES EN LA OBRA
A20: REF. | B20: DESCRIPCION | E20: UNIDAD | F20: CANTIDAD | G20: VR/. UNITARIO | H20: VR/. PARCIAL.
G24: Sub-Total: | H24: =+SUM(H21:H23) -> 0
A26: III. TRANSPORTE
A27: REF. | B27: MATERIAL | D27: UND. (M3, Ton., Viaje) | E27: Dist. (Km) | F27: Cantidad | G27: TARIFA ($ -m3/Km) | H27: VR/. PARCIAL.
G30: Sub-Total: | H30: =+SUM(H28:H29) -> 0
A32: III. MANO DE OBRA
A33: REF. | B33: DESCRIPCIÓN | E33: UNIDAD | F33: RENDIMIENTO | G33: VR/. HC + P.S. | H33: VR/. PARCIAL.
A34: MO-TOP | B34: =VLOOKUP(A34,'PREC-BASE ALC'!A63:D89,2,0) -> Comisión de topografía (Top+Ofi+Obr)-Incluye Planos | E34: =VLOOKUP(A34,'PREC-BASE ALC'!A63:D89,3,0) -> Día | F34: 100 | G34: =ROUND((VLOOKUP(A34,'PREC-BASE ALC'!A74:F82,4,0))+(VLOOKUP(A34,'PREC-BASE ALC'!A74:F82,6,0)),0) -> 547312 | H34: =IF(A34="","",ROUND((G34/F34),0)) -> 5473
G37: Sub-Total: | H37: =+SUM(H34:H36) -> 5473
E39: TOTAL COSTO DIRECTO: | H39: =+H17+H24+H37 -> 6389
A44: _____________________________________________
A45: Nestor Ivan Otalvaro Peña
A46: Profesional Universitario
B49: =B2 -> OPTIMIZACION DEL COLECTOR DE ALCANTARILLADO SANITARIO SOBRE LA AVENIDA 26 ENTRE LA CARRERA 6 Y LA CARRERA 7, ENTRE LOS BARRIOS LAS GRANJAS Y AEROPUERTO, EN LA COMUNA 2 DE LA CIUDAD DE NEIVA | F49: DEPARTAMENTO DEL HUILA
F50: MUNICIPIO DE NEIVA
F51: ANALISIS DE PRECIOS UNITARIOS (APU)
A52: =A5 -> PRESUPUESTO GENERAL DE OBRA | F52: Fecha: Abril de 2025
A54: =A7 -> 1.0 | B54: =B7 -> Preliminares. | G54: UNIDAD: | H54: ML
A55: 1.2 | B55: Señalizacion área de trabajo cumpliendo con el manual de señalizacion vial vigente.
A58: I. EQUIPO
A59: REF. | B59: DESCRIPCION | E59: UNIDAD | F59: RENDIM. | G59: VR/. UNITARIO | H59: VR/. PARCIAL.
A60: EH-MEN | B60: =VLOOKUP(A60,'PREC-BASE ALC'!A42:D68,2,0) -> Herramienta Menor | E60: =VLOOKUP(A60,'PREC-BASE ALC'!A42:D68,3,0) -> Dia | F60: 50 | G60: =ROUND(VLOOKUP(A60,'PREC-BASE ALC'!A42:D68,4,0),0) -> 36154 | H60: =ROUND((G60/F60),) -> 723
G63: Sub-Total: | H63: =+SUM(H60:H62) -> 723
A65: II. MATERIALES EN LA OBRA
A66: REF. | B66: DESCRIPCION | E66: UNIDAD | F66: CANTIDAD | G66: VR/. UNITARIO | H66: VR/. PARCIAL.
A67: MT-012 | B67: =VLOOKUP(A67,'PREC-BASE ALC'!A89:D180,2,0) -> Cinta señalización (Rollo por 500ml) | E67: =VLOOKUP(A67,'PREC-BASE ALC'!A89:D180,3,0) -> UND | F67: 0.006 | G67: =ROUND(VLOOKUP(A67,'PREC-BASE ALC'!A89:E180,4,0),0) -> 34596 | H67: =ROUND((G67*F67),0) -> 208
A68: MT-037 | B68: =VLOOKUP(A68,'PREC-BASE ALC'!A90:D181,2,0) -> Colombinas para señalizacion (señalizador tubular- baliza vial). | E68: =VLOOKUP(A68,'PREC-BASE ALC'!A89:D180,3,0) -> UND | F68: 0.12 | G68: =ROUND(VLOOKUP(A68,'PREC-BASE ALC'!A89:E180,4,0),0) -> 63832 | H68: =ROUND((G68*F68),0) -> 7660
G70: Sub-Total: | H70: =ROUND(SUM(H67:H69),0) -> 7868
...

Sheet NEW GPE-FR-07 IDENTIF DE NECES
A1: IDENTIFICACIÓN DE NECESIDADES PARA LA ESTRUCTURACIÓN DE PROYECTOS
A2: Proceso: Gestión de Planeación Estratégica | E2: Vigente desde: 04/09/2024 | G2: Código: GPE-FR-07 | I2: Versión: 06
A4: Fecha | B4: JUNIO DE 2025
A6: Sector de Inversión: | E6: Acueducto | H6: Alcantarillado | I6: X
B8: Obra | C8: X | D8: Estudio y/o Diseño | H8: Interventoria
A10: 1. DESCRIPCIÓN GENERAL DEL PROYECTO
A12: Localización: (Describa dirección geográfica, barrio(s), comuna) | E12: AVENIDA 26 ENTRE CARRERA 6 Y CARRERA 7, ENTRE LOS BARRIOS LAS GRANJAS Y AEROPUERTO, COMUNA 2 DE LA CIUDAD DE NEIVA
A14: Población Beneficiada: (Población objetivo y población afectada) | E14: La Población beneficiada con la optimizacion del colector localizado sobre la Avenida 26 entre Carreras 6 y 7 en la comuna 2 de la ciudad, son principalmente los habitantes de los barrios Cambulos, Granjas, Aeropuerto, Gualanday, quienes vienen siendo afectados, desde hace muchos años, por los constantes rebosamientos, en tiempo de invierno, de las aguas residuales sobre la calle 27 entre el intercambiador de Luna Verde y la Carrera 7. En total serán aproximadamente 350 viviendas las que serán beneficiadas directamente, pero este número puede ser mucho mayor, si se tiene en cuenta que estas redes aportan caudales a otros sectores, que se veian afectados por vertimientos a cielo abierto debido a no contar con estas redes.
A16: Usuarios beneficiados: | E16: 1400
A18: Caracterización Poblacional | E18: a. 0-5 ____X____ | G18: e. 27-59 años __X___ d. Mayores de 60 años ___X____
E19: b. 06-11 ___X____ | G19: e. Discapacitados ____X_____
E20: c. 12-18 ___X____ d. 14-26 ___X_____ | G20: f. Víctimas de otros hechos diferente a desplazamiento _______
E21: ETARIA (Edad) | F21: GRUPOS ETNICOS
E22: 0-14 15-19 20-59 | F22: Grupos indigenas Comunidades Afrocolombianas Comunidades Raizales Pueblos Rrom Población Mestiza Comunidades Negras Palenqueras Genero Femenino Genero Masculino
E23: GENERO | F23: POBLACION VULNERABLE
E24: Masculino Femenino | F24: Personas en reincorporación "Acuerdo de paz" Personas en reintegración Ex integrante de grupos armados Desplazados Personas en discapacidad Victimas de otros hechos al desplazamiento
A25: No. De Metros Lineales a intervenir: | E25: 208 mts.
A27: Situación Actual: (Detalle el estado actual de la red en relación a la red de distribución y los problemas que técnicamente estan afectando a la población del sector) | C27: En este sector, sobre la Avenida 26 entre carreras 6 y 7, entre los barrios Las Granjas y Aeropuerto, en la comunas 2 de la ciudad de Neiva, se ha podido evidenciar, luego de innumerables revisiones técnicas de las redes y de las posibles causas generadoras de estos rebosamientos, que la red que se desea optimizar, se encuentra obstruida en un 60%, lo que genera, en tiempo de invierno, que ésta seccion hidráulica obstruida, no permita el paso de los caudales, ocasionando represamiento, aguas arriba y por ende su rebosamiento en varios puntos ubicados sobre la calle 27 y especialemente en el intercambiador de Luna Verde; perjudicando a una gran cantidad de usuarios de las vias, al punto de poner en riesgo sus vidas. Es importante resaltar que en un evento de lluvia de gran intensidad, los cuadales generados por escorrentia superficial, pueden llegar a incrementar un 300%, lo que hace imposible que la tuberia existente, pueda soportar dichos caudales, mas aun cuando las redes son combinadas.
A29: Identificación del Problema: (Detalle en este item causas que generan el problema) | C29: El problema que se ha podido identificar en este sector de la ciudad, consiste en el hecho de que la tuberia del colector ubicado sobre la Avenida 26 entre Carrera 6 y Carrera 7, presenta alto grado de obstrucción, debido a una invasion de raices provenientes de los arboles ubicados sobre el separador de la avenida 26.
A31: Registro Fotográfico:
A33: 2. OBJETIVOS DEL PROYECTO
A35: Objetivo General: | C35: OPTIMIZAR EL COLECTOR PRINCIPAL LOCALIZADO SOBRE LA AVENIDA 26 ENTRE CARRERAS 6 Y 7, ENTRE LOS BARRIOS LAS GRANJAS Y AEROPUERTO, EN LA COMUNA 2 DE LA CIUDAD DE NEIVA.
A37: Objetivos Específicos: | C37: * Mejorar la calidad del servicio de alcantarillado a los usuarios * Disminuir los costos de inversión en las reparaciones evitando daños en la Tubería * Continuar con la modernización de las redes de alcantarillado, através de la transición de materiales de cemento y gres a PVC * Evitar la afectación a la comunidad con respecto a rebosamientos de aguas residuales * Garantizar a la comunidad, un servicio que permita mejorar las condiciones de vida de los habitantes del sector.
A39: Cadena de Valor | C39: % Mano de obra Calificada 9.17 | F39: % Materiales y Equipos 70.45
C40: % Mano de Obra No Calificada 11.91 | F40: % Transporte 8.47
A42: 3. JUSTIFICACIÓN
A43: Describa el motivo por el cual el proyecto es necesario, y cite del Plan Institucional a que aporta (PUEAA - Acueducto, PSMV - Alcantarilla, PGIRS - Aseo, Plan de Desarrollo Institucional, POIR
A44: Existen varias razones técnicas y de salubridad, por las cuales se hace necesaria la optimización del colector principal de aguas residuales localizado sobre la AVENIDA 26 ENTRE CARRERA 6 Y CARRERA 7, ENTRE LOS BARRIOS LAS GRANJAS Y AEROPUERTO, COMUNA 2 DE LA CIUDAD DE NEIVA. Una de ellas, y tal vez la mas importante, tiene que ver con evitar el rebosamiento de las aguas residuales a cielo abierto en diferentes puntos de la calle 27, sector Cambulos, y sobre el deprimido de Luna Verde. Este proyecto, aporta al plan institucional POIR de Las Ceibas Empresas Públicas de Neiva E.S.P
A46: 4. ANÁLISIS TÉCNICO DE LA ALTERNATIVA
A47: Describa los aspectos técnicos que conlleva las alternativas de solución planteadas
A48: Para dar solución a la problemática presentada sobre el sector relacionado de los barrios Las Granjas y Aeropuerto, se ha proyectado la instalación de tubería PVC de 54", la cual será ubicada de manera paralela al colector existente, sobre el carril sur norte de la avenida 26, con el fin de aumentar la capacidad hidraulica. Es importante resaltar que, el colector antiguo no se sacará de servicio, puesto que a esta tuberia seguiran vertiendo las aguas residuales que actualmente se encuentran funcionales, sobre la calle 26A y 26A bis . Se construirán pozos de rangos entre 2 metros y 5 metros de profundidad, en concreto, con tapa metálica dotada de bisagra para evitar el hurto de la misma. Los rellenos serán realizados en diferentes materiales, la capa más profunda, tendrá un porcentaje de material proveniente de la misma excavación, posteriormente se utlizará recebo, subbase granular y base granular, como componentes de la estructura del pavimento. De la misma manera, se hará la correspondiente restitución del pavimento de acuerdo al material, es decir que en este caso se debera dejar la franja de via afectada, con pavimentacion en concreto asfaltico.
A50: 5. REQUISITOS DE ALTO NIVEL
A51: Describa las necesidades, expectativas, alcance del proyecto, tipo (obra, estudio, diseño o consultoría), sector de inversión (acueducto, alcantarillado, alumbrado público y/u otro)
A52: Es necesaria la optimización y mejoramiento del colector principal de alcantarillado sanitario, sobre la AVENIDA 26 ENTRE CARRERA 6 Y CARRERA 7, ENTRE LOS BARRIOS LAS GRANJAS Y AEROPUERTO, COMUNA 2 DE LA CIUDAD DE NEIVA, debido a que se ha pudido evidenciar que, en tiempo de invierno, el estado actual de este tramo de colector, es la causa por la cual se viene presentado reflujos de caudales de aguas residuales sobre la calle 27 del barrio los cambulos y sobre el intercambiador de Luna Verde. Con la ejecución de este proyecto, se pretende dar solución definitiva a esta situación que viene afectado a la comunidad y que viene siendo solicitada por diferentes sectores de la ciudad, desde hace ya bastante tiempo. Por otra parte, es pertinente indicar que, debido a que el proceso corresponde a una optimización de redes de alcantarillado sanitario, la elaboración de los trabajos de campo, como los levantamientos topograficos, catastro de las redes existentes y de las estructuras de conexion evidenciadas en terreno, determinación de cantidades de obra y elaboración de presupuestos, será realizada por personal adscrito a la Subgerencia Técnica y Operativa de Las Ceibas Empresas Públicas de Neiva E.S.P. Las obras que contemplen la utilizacion de concretos, serán controladas mediante la realización de los ensayos de laboratorio correspondientes como son las pruebas de resistencia a la compresion, con el fin de que cumplan con la normatividad vigente. La localización y replanteo de las diferentes estructuras y redes a construir, serán materializadas mediante la aplicación de procesos tecnicos profesionales, y mediante la utilización de equipos topográficos, los cuales garantizan las longitudes de los tramos, las profundidades, a que debe quedar instalada las tuberías y las pendientes necesarias, que permitan una correcta evancuación de los caudales y una perfecta remoción de los sedimentos depositados en la batea de las tuberías.
A54: 6. RIESGOS, EFECTOS Y CONTROLES DE MITIGACIÓN
A55: Identificar riesgos fundamentales, los efectos de que estos riesgos se materialicen y los controles que deben establecerse
A56: Riesgo | C56: Efecto | F56: Controles de Mitigación
A57: Las condiciones climáticas de lluvia generen retraso en las obras. | C57: Problema en entrega, programación y el normal desarrollo de las obras. | F57: Empresas publicas de Neiva como Ejecutor, seleccionaran la mejor oferta cumpliendo con el manual interno de contratación y exigirán las respectivas pólizas de calidad y cumplimiento de las obras.
A58: Exposición a agentes contaminantes | C58: Alta propagación de enfermedades | F58: Cumplimiento y entrega eficiente de las obras de optimización de alcantarillado
A59: Dificultad en transportar los suministros. | C59: Alta imposibilidad de atender a los usuarios | F59: Implementar un plan de logística y transporte
...

Sheet CRONOGRAMA
C1: CRONOGRAMA Y FLUJO DE INVERSIÓN DE OBRA
A3: PROYECTO: 'OPTIMIZACION DEL COLECTOR DE ALCANTARILLADO SANITARIO SOBRE LA AVENIDA 26 ENTRE LA CARRERA 6 Y LA CARRERA 7, ENTRE LOS BARRIOS LAS GRANJAS Y AEROPUERTO, EN LA COMUNA 2 DE LA CIUDAD DE NEIVA
A4: PLAZO DE EJECUCION: DOS MESES Y QUINCE DIAS
A6: ITEM | B6: DESCRIPCION | C6: DURACION MESES | D6: SEMANAS | BP6: VALOR TOTAL
D7: 1 | H7: 2 | L7: 3 | P7: 4 | T7: 5 | X7: 6 | AB7: 7 | AF7: 8 | AJ7: 9 | AN7: 10 | AR7: 11 | AV7: 12 | AZ7: 13 | BD7: 14 | BH7: 15 | BL7: 16
A8: ALCANTARILLADO
A9: 1 | B9: PRELIMINARES | C9: =2/5 -> 0.4
D10: =ROUND('INTERVENCION '!$F$12/2,0) -> 1551589 | H10: =+D10-1 -> 1551588 | BP10: =ROUND(SUM(D10:BO10),0) -> 3103177
A11: 2 | B11: DEMOLICIONES | C11: =5/5 -> 1
L12: =ROUND('INTERVENCION '!$F$16/3,0) -> 5124079 | P12: =+L12 -> 5124079 | T12: =+L12 -> 5124079 | BP12: =ROUND(SUM(D12:BO12),0) -> 15372237
A13: 3 | B13: EXCAVACIONES | C13: =6.5/5 -> 1.3
L14: =ROUND('INTERVENCION '!$F$22/6,0) -> 6696687 | P14: =+L14 -> 6696687 | T14: =+P14 -> 6696687 | X14: =+T14 -> 6696687 | AB14: =+X14 -> 6696687 | AF14: =+AB14+1 -> 6696688 | BP14: =ROUND(SUM(D14:BO14),0) -> 40180123
A15: 4 | B15: SUMINISTRO E INSTALACIÓN DE TUBERÍAS | C15: =8/5 -> 1.6
P16: =+ROUND('INTERVENCION '!$F$25/6,0) -> 171171494 | T16: =+P16 -> 171171494 | X16: =+T16 -> 171171494 | AB16: =+X16 -> 171171494 | AF16: =+AB16 -> 171171494 | AJ16: =+AF16+1 -> 171171495 | BP16: =ROUND(SUM(D16:BO16),0) -> 1027028965
A17: 5 | B17: CONSTRUCCION DE POZOS DE INSPECCION | C17: =5/5 -> 1
AB18: =ROUND('INTERVENCION '!$F$31/4,0) -> 9877909 | AF18: =+AB18 -> 9877909 | AJ18: =+AF18 -> 9877909 | AN18: =+AJ18 -> 9877909 | BP18: =ROUND(SUM(D18:BO18),0) -> 39511636
A19: 6 | B19: RELLENOS DE BRECHAS | C19: =8/5 -> 1.6
T20: =ROUND('INTERVENCION '!F37/6,0) -> 24316622 | X20: =+T20 -> 24316622 | AB20: =+X20 -> 24316622 | AF20: =+AB20 -> 24316622 | AJ20: =+AF20 -> 24316622 | AN20: =+AJ20-1 -> 24316621 | BP20: =ROUND(SUM(D20:BO20),0) -> 145899731
A21: 7 | B21: RESTITUCION DE PAVIMENTO | C21: =7.5/5 -> 1.5
AJ22: =+ROUND('INTERVENCION '!F40/2,0) -> 30244785 | AN22: =+AJ22 -> 30244785 | BP22: =ROUND(SUM(D22:BO22),0) -> 60489570
A23: 8 | B23: RETIRO DEL MATERIAL SOBRANTE DE LA EXCAVACION | C23: =6/5 -> 1.2
P24: =+ROUND('INTERVENCION '!F43/7,0) -> 14336234 | T24: =+P24 -> 14336234 | X24: =+T24 -> 14336234 | AB24: =+X24 -> 14336234 | AF24: =+AB24 -> 14336234 | AJ24: =+AF24+1 -> 14336235 | AN24: =+AJ24 -> 14336235 | BP24: =ROUND(SUM(D24:BO24),0) -> 100353640
A25: A.I.U.
D26: =ROUND(SUM(D10:G25)*0.3,0) -> 465477 | H26: =ROUND(SUM(H10:K25)*0.3,0) -> 465476 | L26: =ROUND(SUM(L10:O25)*0.3,0) -> 3546230 | P26: =ROUND(SUM(P10:S25)*0.3,0) -> 59198548 | T26: =ROUND(SUM(T10:W25)*0.3,0) -> 66493535 | X26: =ROUND(SUM(X10:AA25)*0.3,0) -> 64956311 | AB26: =ROUND(SUM(AB10:AE25)*0.3,0) -> 67919684 | AF26: =ROUND(SUM(AF10:AI25)*0.3,0) -> 67919684 | AJ26: =ROUND(SUM(AJ10:AM25)*0.3,0) -> 74984114 | AN26: =ROUND(SUM(AN10:AQ25)*0.3,0) -> 23632665 | AR26: =ROUND(SUM(AR10:AU25)*0.3,0) -> 0 | AV26: =ROUND(SUM(AV10:AY25)*0.3,0) -> 0 | AZ26: =ROUND(SUM(AZ10:BC25)*0.3,0) -> 0 | BD26: =ROUND(SUM(BD10:BG25)*0.3,0) -> 0 | BH26: =ROUND(SUM(BH10:BK25)*0.3,0) -> 0 | BL26: =ROUND(SUM(BL10:BO25)*0.3,0) -> 0 | BP26: =ROUND(SUM(D26:BO26),0) -> 429581724
A27: PGIO
D28: =ROUND('INTERVENCION '!$F$51/10,0) -> 1600000 | H28: =+D28 -> 1600000 | L28: =+H28 -> 1600000 | P28: =+L28 -> 1600000 | T28: =+P28 -> 1600000 | X28: =+T28 -> 1600000 | AB28: =+X28 -> 1600000 | AF28: =+AB28 -> 1600000 | AJ28: =+AF28 -> 1600000 | AN28: =+AJ28 -> 1600000 | BP28: =ROUND(SUM(D28:BO28),0) -> 16000000
A29: INVERSION SEMANAL PROGRAMADA | D29: =SUM(D9:G28) -> 3617066 | H29: =SUM(H9:K28) -> 3617064 | L29: =SUM(L9:O28) -> 16966996 | P29: =SUM(P9:S28) -> 258127042 | T29: =SUM(T9:W28) -> 289738651 | X29: =SUM(X9:AA28) -> 283077348 | AB29: =SUM(AB9:AE28) -> 295918630 | AF29: =SUM(AF9:AI28) -> 295918631 | AJ29: =SUM(AJ9:AM28) -> 326531160 | AN29: =SUM(AN9:AQ28) -> 104008215 | AR29: =SUM(AR9:AU28) -> 0 | AV29: =SUM(AV9:AY28) -> 0 | AZ29: =SUM(AZ9:BC28) -> 0 | BD29: =SUM(BD9:BG28) -> 0 | BH29: =SUM(BH9:BK28) -> 0 | BL29: =SUM(BL9:BO28) -> 0 | BP29: =SUM(BP10:BP28) -> 1877520803
A30: INVERSION SEMANAL PROGRAMADA ACUMULADA | D30: =D29 -> 3617066 | H30: =D30+H29 -> 7234130 | L30: =H30+L29 -> 24201126 | P30: =L30+P29 -> 282328168 | T30: =P30+T29 -> 572066819 | X30: =T30+X29 -> 855144167 | AB30: =X30+AB29 -> 1151062797 | AF30: =AB30+AF29 -> 1446981428 | AJ30: =AF30+AJ29 -> 1773512588 | AN30: =AJ30+AN29 -> 1877520803 | AR30: =AN30+AR29 -> 1877520803 | AV30: =AR30+AV29 -> 1877520803 | AZ30: =AV30+AZ29 -> 1877520803 | BD30: =AZ30+BD29 -> 1877520803 | BH30: =BD30+BH29 -> 1877520803 | BL30: =BH30+BL29 -> 1877520803
A31: TOTALES
D32: 1 | H32: 2 | L32: 3 | P32: 4 | T32: 5 | X32: 6 | AB32: 7 | AF32: 8 | AJ32: 9 | AN32: 10 | AR32: 11 | AV32: 12 | AZ32: 13 | BD32: 14 | BH32: 15 | BL32: 16 | BP32: TOTAL
A33: % Programado acumulado | D33: =+D30/$BP$29 -> 0.0019265118 | H33: =+H30/$BP$29 -> 0.0038530226 | L33: =+L30/$BP$29 -> 0.012889938 | P33: =+P30/$BP$29 -> 0.15037286 | T33: =+T30/$BP$29 -> 0.30469267 | X33: =+X30/$BP$29 -> 0.45546455 | AB33: =+AB30/$BP$29 -> 0.61307592 | AF33: =+AF30/$BP$29 -> 0.77068729 | AJ33: =+AJ30/$BP$29 -> 0.94460343 | AN33: =+AN30/$BP$29 -> 1 | AR33: =+AR30/$BP$29 -> 1 | AV33: =+AV30/$BP$29 -> 1 | AZ33: =+AZ30/$BP$29 -> 1 | BD33: =+BD30/$BP$29 -> 1 | BH33: =+BH30/$BP$29 -> 1 | BL33: =+BL30/$BP$29 -> 1 | BP33: =BP27+BP29+BP30 -> 1877520803
A36: elaboro
A39: _____________________________________________
A40: Nestor Ivan Otalvaro Peña
A41: Profesional Universitario

Sheet A.I.U 
C1: MATRIZ PARA CALCULO DE FACTOR DE AIU | F1: FOR-GDC-01
F2: Version: 01
F3: Vigente desde:
F4: Marzo 29 del 2021 | L4: =+J7+J9+#REF!+J15+#REF!+#REF!+#REF!+#REF! -> #REF!
A5: ANALISIS DE LOS COSTOS INDIRECTOS | K5: DURACION OBRA | L5: 1.5
A6: ITEM | B6: CANT. | C6: DESCRIPCION | D6: U.M. | E6: MESES | F6: DEDICACION | G6: VALOR UNITARIO | H6: FP | I6: % | J6: VALOR | K6: ='INTERVENCION '!F44 -> 1431939079 | L6: =K8-J8 -> #REF!
A7: 1 | B7: ADMINISTRACION | I7: =ROUND($I$8+$I$28,4) -> 0.24 | J7: =SUM(J9+J15+J28)+J25 -> 343665379 | K7: =$I$8+$I$28 -> 0.24 | L7: 1.1258728e+08
A8: 1.1 | B8: FIJOS | I8: =I9+I15+I25 -> 0.10822705 | K8: =#REF! -> #REF! | L8: =K6*24% -> 3.4366538e+08 | M8: =L8-J8 -> 3.4366538e+08 | N8: =M8/2 -> 1.7183269e+08
A9: 1.1.1 | B9: PERSONAL PROFESIONAL | I9: =SUM(I10:I14) -> 0.042442448 | J9: =ROUND(SUM(J10:J14),0) -> 60775000 | K9: smmlv
A10: 1.1.1.1 | B10: 1 | C10: Ingeniero Director | D10: MES | E10: 2.5 | F10: 1 | G10: 4000000 | H10: 1.7 | I10: =J10/$K$6 -> 0.011872013 | J10: =((E10*F10)*(G10*H10))*B10 -> 17000000 | K10: 7.0630882 | L10: =+G10/908526 -> 4.4027359
A11: 1.1.1.2 | B11: 1 | C11: Ingeniero Residente | D11: MES | E11: 2.5 | F11: 1 | G11: 3500000 | H11: 1.7 | I11: =J11/$K$6 -> 0.010388012 | J11: =((E11*F11)*(G11*H11))*B11 -> 14875000 | K11: 5.126435 | L11: =+G11/908526 -> 3.8523939
A12: 1.1.1.3 | B12: 1 | C12: Profesional HsQ | D12: MES | E12: 2.5 | F12: 1 | G12: 2500000 | H12: 1.7 | I12: =J12/$K$6 -> 0.0074200084 | J12: =((E12*F12)*(G12*H12))*B12 -> 10625000 | K12: 2.8480194 | L12: =+G12/908526 -> 2.7517099 | M12: =M8/2 -> 1.7183269e+08
A13: 1.1.1.4 | B13: 1 | C13: Secretaria | D13: MES | E13: 2.5 | F13: 1 | G13: 1800000 | H13: 1.7 | I13: =J13/$K$6 -> 0.0053424061 | J13: =((E13*F13)*(G13*H13))*B13 -> 7650000 | K13: 1.1392078 | L13: =+G13/908526 -> 1.9812311
A14: 1.1.1.5 | B14: 1 | C14: Inspector de Obra Redes | D14: MES | E14: 2.5 | F14: 1 | G14: 2500000 | H14: 1.7 | I14: =J14/$K$6 -> 0.0074200084 | J14: =((E14*F14)*(G14*H14))*B14 -> 10625000
A15: 1.1.2 | C15: GASTOS DE OFICINA | I15: =SUM(I16:I24) -> 0.049582792 | J15: =ROUND(SUM(J16:J24),0) -> 70999538 | K15: =+#REF!*#REF!*#REF! -> #REF!
A16: 1.1.2.1 | B16: 1 | C16: Gastos oficina principal | D16: MES | E16: 2.5 | F16: 1 | G16: 3000000 | I16: =J16/$K$6 -> 0.005237653 | J16: =((E16*F16)*(G16))*B16 -> 7500000 | K16: =+#REF!-K15 -> #REF!
A17: 1.1.2.2 | B17: 1 | C17: Arriendo de oficina | D17: MES | E17: 2.5 | F17: 1 | G17: 3000000 | I17: =J17/$K$6 -> 0.005237653 | J17: =((E17*F17)*(G17))*B17 -> 7500000 | K17: =+K16/6 -> #REF! | L17: =L7-J7 -> -2.310781e+08
A18: 1.1.2.3 | B18: 1 | C18: Servicios publicos de la obra | D18: MES | E18: 2.5 | F18: 1 | G18: 2599815 | I18: =J18/$K$6 -> 0.0045389763 | J18: =((E18*F18)*(G18))*B18 -> 6499537.5
A19: 1.1.2.4 | B19: 1 | C19: Arrendamiento almacen | D19: MES | E19: 2.5 | F19: 1 | G19: 2000000 | I19: =J19/$K$6 -> 0.0034917687 | J19: =((E19*F19)*(G19))*B19 -> 5000000
A20: 1.1.2.5 | B20: 1 | C20: Valla informativa general del proyecto | D20: UND | E20: 1 | F20: 1 | G20: 4000000 | I20: =J20/$K$6 -> 0.0027934149 | J20: =((E20*F20)*(G20))*B20 -> 4000000
A21: 1.1.2.6 | B21: 1 | C21: Campamento Redes | D21: UND | E21: 1 | F21: 1 | G21: 4000000 | I21: =J21/$K$6 -> 0.0027934149 | J21: =((E21*F21)*(G21))*B21 -> 4000000
A22: 1.1.2.7 | B22: 1 | C22: Vehiculo tipo campero pick up camioneta o similar, con cilindraje desde 2000 cc a 3000 cc incluyendo costos de mantenimiento, combustible y conductor Redes | D22: Und | E22: 2.5 | F22: 1 | G22: 5000000 | I22: =J22/$K$6 -> 0.0087294217 | J22: =((E22*F22)*(G22))*B22 -> 12500000 | K22: =G22*30% -> 1500000 | N22: =+I9+I15+I28 -> 0.22379819
A23: 1.1.2.8 | B23: 1 | C23: Control de calidad (laboratorios) | D23: Muestreo | E23: 3 | F23: 1 | G23: 4000000 | I23: =J23/$K$6 -> 0.0083802448 | J23: =((E23*F23)*(G23))*B23 -> 12000000 | N23: =+J7/K6 -> 0.24
A24: 1.1.2.9 | B24: 1 | C24: Ensayos de laboratorio para la verificación periódica de la calidad de capas de mezclas asfálticas en caliente de gradación continúa. (Por cada un 1 Km) | D24: Unidad | E24: 3 | F24: 1 | G24: 4000000 | I24: =J24/$K$6 -> 0.0083802448 | J24: =((E24*F24)*(G24))*B24 -> 12000000
A25: 1.1.3 | C25: SEGURIDAD INDUSTRIAL | I25: =SUM(I26:I27) -> 0.016201807 | J25: =ROUND(SUM(J26:J27),0) -> 23200000
A26: 1.1.3.1 | B26: 1 | C26: Implementacion Plan SG - SST | D26: MES | E26: 2.5 | F26: 1 | G26: 3500000 | I26: =J26/$K$6 -> 0.0061105952 | J26: =((E26*F26)*(G26))*B26 -> 8750000
A27: 1.1.3.2 | B27: 1 | C27: Profesional HSEQ Redes | D27: MES | E27: 2.5 | F27: 1 | G27: 3400000 | H27: 1.7 | I27: =J27/$K$6 -> 0.010091211 | J27: =((E27*F27)*(G27*H27))*B27 -> 14450000 | K27: =+G27/G17 -> 1.1333333
A28: 1.1.4 | C28: GASTOS DE LEGALIZACIÓN Y GARANTÍAS | I28: =+SUM(I29:I31) -> 0.13177295 | J28: =ROUND(SUM(J29:J31),0) -> 188690841 | L28: ='INTERVENCION '!F52 -> 1877520803
A29: 1.1.4.1 | B29: 1 | C29: Contribucion especial Contratos de Obra Publica (5% Vr Contrato Obra) | D29: Unidad | E29: 1 | I29: =J29/K6 -> 0.065558683 | J29: =+($L$28)*K29 -> 93876040 | K29: 0.05 | L29: 370864770 | M29: =+L29-J7 -> 27199391
A30: 1.1.4.2 | B30: 1 | C30: Polizas (0.05% vr contrato obra) | D30: Unidad | E30: 1 | I30: =J30/K6 -> 0.00065558683 | J30: =+($L$28)*K30 -> 938760.4 | K30: 0.0005 | L30: 15452699
A31: 1.1.4.3 | B31: 1 | C31: Impuestos de Guerra | D31: Unidad | E31: 1 | I31: =J31/K6 -> 0.065558683 | J31: =L28*K29 -> 93876040 | L31: 77263494
A32: 2 | C32: IMPREVISTOS | I32: 0.01 | J32: =ROUND(K6*I32,0) -> 14319391 | L32: =SUM(L29:L31) -> 463580963
A33: 3 | C33: UTILIDADES | I33: 0.05 | J33: =ROUND((K6*I33),0) -> 71596954
C34: TOTAL PORCENTAJE COSTOS INDIRECTOS AIU - OBRA | I34: =+I32+I7+I33 -> 0.3 | J34: =ROUNDDOWN(+J32+J7+J33,0) -> 429581724 | L34: =+'INTERVENCION '!F48 -> 429581724 | M34: =+L34-J34 -> 0
M35: =+M34/2.5 -> 0
C38: _____________________________________________
C39: Nestor Ivan Otalvaro Peña
C40: Profesional Universitario

Sheet Factor Multiplicador Obra
B1: OPTIMIZACION DEL COLECTOR DE ALCANTARILLADO SANITARIO SOBRE LA AVENIDA 26 ENTRE LA CARRERA 6 Y LA CARRERA 7, ENTRE LOS BARRIOS LAS GRANJAS Y AEROPUERTO, EN LA COMUNA 2 DE LA CIUDAD DE NEIVA | F1: 'OPTIMIZACIÓN DE LAS REDES DE ACUEDUCTO Y ALCANTARILLADO SANITARIO DEL BARRIO MANZANARES IV EN LA CIUDAD DE NEIVA, DEPARTAMENTO DEL HUILA-FASE I"
A2: CÁLCULO DEL FACTOR MULTIPLICADOR
A4: ÍTEM | B4: DESCRIPCIÓN | D4: % TOTAL
A5: A | B5: SALARIO BÁSICO (Nómina Total Mensual) | C5: 1 | D5: 1
A6: B | B6: PRESTACIONES SOCIALES (expresado como porcentaje de A)
B7: PRIMA ANUAL | C7: =D7 -> 0.0833 | D7: 0.0833
B8: CESANTÍAS ANUAL | C8: =D8 -> 0.0833 | D8: 0.0833
B9: INTERÉS SOBRE CESANTÍA (12% ANUAL) | C9: =D9 -> 0.01 | D9: 0.01
B10: VACACIONES | C10: =D10 -> 0.0417 | D10: 0.0417
A11: C | B11: SISTEMA DE SEGURIDAD SOCIAL INTEGRAL
B12: ARL | C12: =D12 -> 0.0696 | D12: 0.0696
B13: AFP | C13: =D13 -> 0.12 | D13: 0.12
B14: EPS | C14: =D14 -> 0.085 | D14: 0.085
B15: Caja de Compensación | C15: =D15 -> 0.04 | D15: 0.04
B16: SENA | C16: =D16 -> 0.02 | D16: 0.02
B17: ICBF | C17: =D17 -> 0.03 | D17: 0.03 | J17: 1300000
B18: Seguros de Ley | C18: =D18 -> 0.01 | D18: 0.01 | J18: 300000
A19: D | B19: OTROS | J19: =+J18/3 -> 100000
B20: Horas extras | C20: 0.03 | D20: 0.03 | J20: =+J19/J17 -> 0.076923077
B21: Dotaciones | C21: 0.0771 | D21: 0.0771
B22: SUBTOTAL (B+C) | C22: =+SUM(C7:C18) -> 0.5929 | D22: =+SUM(D7:D18) -> 0.5929
B23: SUBTOTAL (A+B+C+D) | C23: =+C5+C20+C21+C22 -> 1.7 | D23: =+D5+D22+D20+D21 -> 1.7
A26: _____________________________________________
A27: Nestor Ivan Otalvaro Peña
A28: Profesional Universitario

Sheet PREC-BASE ALC
A1: LISTADO DE PRECIOS BASICOS-ALCANTARILLADO
B4: PRESTACIONES LEGALES | C4: =ROUND(SUM(C5:C8),4) -> 0.2183 | E4: Salario Mínimo
B5: Cesantías | C5: =30/360 -> 0.083333333 | D5: AÑO | E5: VALOR | F5: SUB. TRANS
B6: Intereses de cesantías | C6: 0.01 | D6: 2008 | E6: 461500 | F6: 55000
B7: Vacaciones | C7: =15/360 -> 0.041666667 | D7: 2009 | E7: 497000 | F7: 59218
B8: Prima de servicios | C8: =30/360 -> 0.083333333 | D8: 2010 | E8: 515000 | F8: 61500
B9: OTROS COSTOS PRESTACIONALES | C9: =ROUND(SUM(C10:C11),4) -> 0.0805 | D9: 2011 | E9: 535600 | F9: 63600
B10: Dotación | C10: 0.0728 | D10: 2012 | E10: 566700 | F10: 67800
B11: Seguro colectivo | C11: 0.0077 | D11: 2013 | E11: 589500 | F11: 70500
B12: APORTES PATRONALES | C12: =ROUND(SUM(C13:C18),4) -> 0.3629 | D12: 2014 | E12: 616027 | F12: 73063
B13: Pensión | C13: 0.12 | D13: 2015 | E13: 644350 | F13: 73240
B14: Riesgos profesionales | C14: 0.0696 | D14: 2016 | E14: 689454 | F14: 77700
B15: Salud | C15: =+(12.5*0.666666666666667)% -> 0.083333333 | D15: 2017 | E15: 737700 | F15: 83140
B16: ICBF | C16: 0.03 | D16: 2018 | E16: 781242 | F16: 88211
B17: SENA | C17: 0.02 | D17: 2019 | E17: 828116 | F17: 97032
B18: SUBSIDIO FLIAR | C18: 0.04 | D18: 2020 | E18: 877803 | F18: 102854
B19: DIAS NO TRABAJADOS Y REMUNERADOS | C19: =ROUND(SUM(C20:C22),4) -> 0.2083 | D19: 2021 | E19: 908526 | F19: 106454
B20: Dominicales | C20: =52/360 -> 0.14444444 | D20: 2022 | E20: 1000000 | F20: 117172
B21: Festivos | C21: =18/360 -> 0.05 | D21: 2023 | E21: 1160000 | F21: 140606
B22: Calamidad Doméstica | C22: =5/360 -> 0.013888889 | D22: 2024 | E22: 1300000 | F22: 162000
B23: TOTAL | C23: =+C4+C9+C12+C19 -> 0.87
D24: 2025 | E24: 1423500 | F24: 200000
B25: DETERMINACIÓN DEL A.I.U
B26: ADMINISTRACIÓN (A) | C26: =SUM(C27:C32) -> 0.19
B27: PERSONAL TECNICO Y ADM: (Incl. Prest. Soc.). | C27: 0.0604
B28: Costos fijos (Transporte, Arrendamiento, papelería, equipos de topografia, PMT) | C28: 0.002
B29: Servicios públicos (Acueducto, energía, teléfono) | C29: 0.0036
B30: Costos de legalización (Polizas, impuestos municipales) | C30: 0.0683
B31: Impuesto Seguridad Democrática | C31: 0.05
B32: Impuestos sobre utilidad (19% IVA) | C32: 0.0057
B33: IMPREVISTOS (I) | C33: =SUM(C34:C35) -> 0.01
B34: Actividades impredecibles | C34: 0.005
B35: Accesorios no previstos | C35: 0.005
B36: UTILIDAD (U) | C36: =C37 -> 0.05 | E36: =C36*19% -> 0.0095
B37: Ganancias esperadas | C37: 0.05
B38: A.I.U. | C38: =+C26+C33+C36 -> 0.25
A40: EQUIPOS Y HERRAMIENTAS
A41: Código | B41: Descripción | C41: Unidad | D41: Vr. Unidad 2025 | E41: Vr. Unidad 2024 | F41: Vr. Unidad 2023 | G41: VR. Unitario 2022 | H41: INCREMENTO DEL IPC 2025 | I41: FECHA MODIF
A42: EH-CAN | B42: Apisonador tipo canguro | C42: Dia | D42: =E42+H42 -> 83982.502 | E42: 79831.276 | F42: 73052.046 | G42: 64579.248 | H42: =E42*5.2% -> 4151.2263
A43: EH-RAN | B43: Apisonador tipo rana | C43: Dia | D43: =E43+H43 -> 61954.305 | E43: 58891.925 | F43: 53890.853 | G43: 47640.429 | H43: =E43*5.2% -> 3062.3801
...

Sheet PMA 
B1: OPTIMIZACION DEL COLECTOR DE ALCANTARILLADO SANITARIO SOBRE LA AVENIDA 26 ENTRE LA CARRERA 6 Y LA CARRERA 7, ENTRE LOS BARRIOS LAS GRANJAS Y AEROPUERTO, EN LA COMUNA 2 DE LA CIUDAD DE NEIVA
B2: ALCALDIA DE NEIVA
B3: IMPLEMENTACION PLAN DE MANEJO TRAFICO PMA
B5: Duración Estimada del Proyecto en meses. | G5: 2.5
B7: ACTIVIDAD | C7: UNIDAD | D7: CANTIDAD | F7: VALOR UNITARIO | G7: DEDICACION | H7: VALOR TOTAL
B8: 1.PROFESIONALES
B9: Tecnico Profesional en Recursos Naturales | C9: mes | D9: 1 | F9: 2000000 | G9: 0.8 | H9: =+D9*F9*G9 -> 1600000
B10: Elaboración de informe | C10: global | D10: 1 | F10: 200000 | G10: 0.8 | H10: =+D10*F10*G10 -> 160000
B11: SUBTOTAL | H11: =+SUM(H9:H10) -> 1760000
B12: MANTENIMIENTO
B13: Operarios | C13: dia | D13: 1 | F13: 60000 | H13: =+D13*F13 -> 60000
B14: Materiales y equipos (formatos, cámara, machete etc) | C14: global dia | D14: 1 | F14: 80000 | H14: =+D14*F14 -> 80000
B15: SUBTOTAL | H15: =+SUM(H13:H14) -> 140000
B16: 2.DESARROLLO Y AMPLIACION DE LA GESTION AMBIENTAL
B17: 2.1.CAPACITACION AMBIENTAL AL PERSONAL DE LA OBRA | H17: =SUM(H18:H18) -> 500000
B18: Capacitaciones (Papeleria y Talleres ) | C18: mes | D18: 2.5 | F18: 200000 | G18: - | H18: =+D18*F18 -> 500000
B19: 3.PROGRAMA ACTIVIDADES CONSTRUCTIVAS
B20: 3.1.MANEJO DE RESIDUOS SÓLIDOS CONVENCIONALES Y ESPECIALES PAC-2.5-08 | H20: =SUM(H21:H22) -> 450000
B21: Recolecion de residos solidos | C21: mensual | D21: 2.5 | F21: 100000 | G21: - | H21: =F21*D21 -> 250000
B22: Demarcación zona de disposición | C22: un | D22: 1 | F22: 200000 | G22: - | H22: =+D22*F22 -> 200000
B23: 4.PROGRAMA DE MANEJO DE INSTALACIONES TEMPORALES DE MAQUINARIA Y EQUIPOS
B24: 4.1.INSTALACIÓN, FUNCIONAMIENTO Y DESMANTELAMIENTO DE CAMPAMENTOS Y SITIOS DE ACOPIO | H24: =SUM(H25:H25) -> 6000000
B25: Alquiler Baños portatiles | C25: un | D25: 2 | E25: 2.5 | F25: 1200000 | G25: - | H25: =D25*F25*E25 -> 6000000
B26: 5.0.Proyecto de Información y Divulgación. PGS-6.2-19 | H26: =SUM(H27:H27) -> 150000
B27: Reuniones de inicio y cierre del proyecto | C27: un | D27: 1 | F27: 150000 | G27: - | H27: =+D27*F27 -> 150000
B28: TOTAL BASICO PMA | H28: =+H26+H24+H20+H17+H11+H15 -> 9000000
B29: TOTAL PMA | H29: =ROUND(H28,2) -> 9000000
B35: _____________________________________________
B36: Nestor Ivan Otalvaro Peña
B37: Profesional Universitario

Sheet PMT 
B1: OPTIMIZACION DEL COLECTOR DE ALCANTARILLADO SANITARIO SOBRE LA AVENIDA 26 ENTRE LA CARRERA 6 Y LA CARRERA 7, ENTRE LOS BARRIOS LAS GRANJAS Y AEROPUERTO, EN LA COMUNA 2 DE LA CIUDAD DE NEIVA
B2: ALCALDIA DE NEIVA
B3: IMPLEMENTACION PLAN DE MANEJO TRAFICO PMT
B5: Duración Estimada del Proyecto en meses. | G5: 1.5
B6: ITEM | C6: DESCRIPCION | G6: UND | H6: CANT. | I6: VR. UNIT | J6: VR. TOTAL
B8: 1 | C8: PLAN DE MANEJO DE TRAFICO ( DISPOSITIVOS, SEÑALIZACION Y EQUIPOS) ( A )
B10: 1.1 | C10: DISPOSITIVOS DE CONTROL
B11: 1.2 | C11: BARRICADA METALICA TIPO IDU CON CERRADO REFLECTIVO NARANJA Y BLANCO GRADO INGENIERIA, MEDIDAS: 2.40m x 1.50m - 3 BANDEJAS DE 20cm x 2.40m. TABLERO DE DESVIO DE 60cm | G11: UND | H11: 1 | I11: 321800 | J11: =+H11*I11 -> 321800
B12: 1.3 | C12: PALETAS PARE SIGA 45 cm | G12: UND | H12: 2 | I12: 24232 | J12: =+H12*I12 -> 48464
B13: 1.4 | C13: COLOMBINA O BALIZA DE SEÑALIZACION H = 1.30 m | G13: UND | H13: 2 | I13: 31363 | J13: =+H13*I13 -> 62726
B14: 1.5 | C14: BARRERA O MALETIN PLASTICO RELLENABLE (TIPO NEW JERSEY) 2.0 x 1.0 x 0.50 | G14: UND | H14: 7 | I14: 241427 | J14: =+H14*I14 -> 1689989
B15: 1.6 | C15: CINTA DE SEÑALIZACION | G15: ML | H15: 5067 | I15: 55 | J15: =+H15*I15+42 -> 278727
B16: 2 | C16: SEÑALIZACION
B17: 2.1 | C17: SEÑALES MOVILES DE APROXIMACION, CON TRIPODE TIPO SIO, SP, SI, SR DE (100x50 - 75x75 - 80x50) LÁMINA GALVANIZADA CAL. 20 Y ÁNGULOS DE 1"x1/2"x1/8" | G17: UND | H17: 2 | I17: 132063 | J17: =+H17*I17 -> 264126
B18: 2.2 | C18: Pasacalles en lona, color blanco | G18: UND | H18: 2 | I18: 152000 | J18: =+H18*I18 -> 304000
B19: 3 | C19: EQUIPOS VARIOS
B20: 3.1 | C20: CHALECO REFLECTIVO | G20: UNID. | H20: 2 | I20: 13084 | J20: =+H20*I20 -> 26168
B21: 3.2 | C21: PITOS PARA AUXILIARES DE TRÁNSITO | G21: UNID. | H21: 2 | I21: 2000 | J21: =+H21*I21 -> 4000
C22: SUBTOTAL PLAN DE MANEJO DE TRAFICO ( DISPOSITIVOS, SEÑALIZACION Y EQUIPOS) | J22: =ROUND(SUM(J11:J21),0) -> 3000000
B25: ÍTEM | C25: DESCRIPCIÓN | D25: UNIDAD | E25: CANT. | F25: VR. UNITARIO | G25: MESES | H25: DEDICACIÓN | I25: FACTOR PRESTACIONAL | J25: VR. TOTAL
B26: 4 | C26: PERSONAL PROFESIONAL, AUXILIARES DE TRANSITO Y BRIGADAS ( B )
B27: 4.1 | C27: PALETEROS | D27: MES | E27: 1 | F27: 2000000 | G27: 2.5 | H27: 1 | I27: 0.8 | J27: =F27*E27*H27*I27*G27 -> 4000000
B28: SUBTOTAL PLAN DE MANEJO DE TRAFICO ( PERSONAL ) | J28: =ROUND(SUM(J27:J27),0) -> 4000000
B31: VALOR COSTOS DIRECTOS ( A ) + ( B ) | J31: =+J22+J28 -> 7000000
B32: ADMINISTRACION ( ) % | J32: 0
B33: IMPREVISTOS ( ) % | J33: 0
B34: UTILIDAD ( ) % | J34: 0
B35: VALOR TOTAL PMT INCLUIDO AIU | J35: =ROUND(J31+J32+J33+J34,0) -> 7000000
B37: NOTAS
B38: - Se aclara que el presente presupuesto se desarrolla de acuerdo a los procesos constructivos, donde laboraran dos frentes de trabajo
C42: _____________________________________________
C43: Nestor Ivan Otalvaro Peña
C44: Profesional Universitario
