Workbook

Sheet ESPECIFICACIONES TECNICAS
B2: LOTE 1
B4: ITEM | C4: ESPECIFICACIÓN TÉCNICA | J4: DIRECCIÓN REGIONAL BOGOTÁ | M4: TOTAL REGIONAL BOGOTÁ | N4: DIRECCIÓN REGIONAL NORORIENTE | P4: TOTAL REGIONAL NORORIENTE | Q4: DIRECCIÓN REGIONAL OCCIDENTE | S4: TOTAL REGIONAL OCCIDENTE | T4: DIRECCIÓN REGIONAL SUR | V4: TOTAL REGIONAL SUR | W4: GRUPO NACIONAL DE METROLOGIA | X4: CANTIDAD TOTAL
C5: Sustancia | D5: Concentración | E5: Referencia sugerida | F5: NÚMERO CAS | G5: PRESENTACIÓN | H5: CONDICIÓN DE ALMACENAMIENTO | I5: CLASIFICACIÓN | J5: EVIDENCIA TRAZA | K5: ESTUPEFACIENTES | L5: TOXICOLOGIA | N5: ESTUPEFACIENTES | O5: TOXICOLOGIA | Q5: ESTUPEFACIENTES | R5: TOXICOLOGIA | T5: ESTUPEFACIENTES | U5: TOXICOLOGIA
B6: 1 | C6: Control de rango completo CO-Oximeter (Full Range CO-Oximeter control), multi-rango, 3 niveles (10 ampollas por nivel) | D6: No aplica | E6: QC 253 | F6: No aplica | G6: 3 niveles (10 ampollas por nivel), 1,2 mL por ampolla | H6: REFRIGERACION / CONGELACION SEGÚN ESPECIFICACION DEL FABRICANTE | I6: MR | L6: 2 | M6: =+SUM(J6:L6) -> 2 | O6: 1 | P6: =+SUM(N6:O6) -> 1 | R6: 1 | S6: =+SUM(Q6:R6) -> 1 | U6: 1 | V6: =+SUM(T6:U6) -> 1 | X6: =M6+P6+S6+V6+W6 -> 5
B7: 2 | C7: CO-Oximeter Controles de verificación de calibración (CO-Oximeter calibration verification controls), 5 niveles (4 ampollas por nivel) | D7: No aplica | E7: CVC 223 | F7: No aplica | G7: 5 niveles (4 ampollas por nivel), 1,2 mL por ampolla | H7: REFRIGERACION / CONGELACION SEGÚN ESPECIFICACION DEL FABRICANTE | I7: MR | L7: 2 | M7: =+SUM(J7:L7) -> 2 | O7: 1 | P7: =+SUM(N7:O7) -> 1 | R7: 1 | S7: =+SUM(Q7:R7) -> 1 | U7: 1 | V7: =+SUM(T7:U7) -> 1 | X7: =M7+P7+S7+V7+W7 -> 5
B11: LOTE 2
B13: ITEM | C13: ESPECIFICACIÓN TÉCNICA | J13: DIRECCIÓN REGIONAL BOGOTÁ | M13: TOTAL REGIONAL BOGOTÁ | N13: DIRECCIÓN REGIONAL NORORIENTE | P13: TOTAL REGIONAL NORORIENTE | Q13: DIRECCIÓN REGIONAL OCCIDENTE | S13: TOTAL REGIONAL OCCIDENTE | T13: DIRECCIÓN REGIONAL SUR | V13: TOTAL REGIONAL SUR | W13: GRUPO NACIONAL DE METROLOGIA | X13: CANTIDAD TOTAL
C14: Sustancia | D14: Concentración | E14: Referencia sugerida | F14: NÚMERO CAS | G14: PRESENTACIÓN | H14: CONDICIÓN DE ALMACENAMIENTO | I14: CLASIFICACIÓN | J14: EVIDENCIA TRAZA | K14: ESTUPEFACIENTES | L14: TOXICOLOGIA | N14: ESTUPEFACIENTES | O14: TOXICOLOGIA | Q14: ESTUPEFACIENTES | R14: TOXICOLOGIA | T14: ESTUPEFACIENTES | U14: TOXICOLOGIA
B15: 3 | C15: Aromáticos Certificados en Gasolina (16 componentes) | D15: 5500 µg/mL en metanol P&T | E15: 30485 | F15: No aplica | G15: Ampolla x 1 mL | H15: REFRIGERACION / CONGELACION SEGÚN ESPECIFICACION DEL FABRICANTE | I15: MRC | J15: 2 | M15: =+SUM(J15:L15) -> 2 | P15: =+SUM(N15:O15) -> 0 | S15: =+SUM(Q15:R15) -> 0 | V15: =+SUM(T15:U15) -> 0 | X15: =W15+V15+S15+P15+M15 -> 2
B16: 5 | C16: Combustible Diesel # 2 (acelerante ASTM clase 5-Unweathered) | D16: 5,000 µg/mL en cloruro de metileno | E16: 31233 | F16: 68334-30-5 | G16: Ampolla x 1 mL | H16: REFRIGERACION / CONGELACION SEGÚN ESPECIFICACION DEL FABRICANTE | I16: MRC | J16: 1 | K16: 1 | M16: =+SUM(J16:L16) -> 2 | P16: =+SUM(N16:O16) -> 0 | S16: =+SUM(Q16:R16) -> 0 | V16: =+SUM(T16:U16) -> 0 | X16: =W16+V16+S16+P16+M16 -> 2
B17: 6 | C17: Estándar de mezcla de hidrocarburos alifáticos, MA EPH (14 componentes) | D17: 1,000 µg/mL en hexano | E17: 31459 | F17: No aplica | G17: Ampolla x 1 mL | H17: REFRIGERACION / CONGELACION SEGÚN ESPECIFICACION DEL FABRICANTE | I17: MRC | J17: 3 | K17: 1 | M17: =+SUM(J17:L17) -> 4 | P17: =+SUM(N17:O17) -> 0 | S17: =+SUM(Q17:R17) -> 0 | V17: =+SUM(T17:U17) -> 0 | X17: =W17+V17+S17+P17+M17 -> 4
B18: 7 | C18: Estándar de componentes de gasolina (10 componentes) | D18: 10,000 µg/mL en metanol P&T | E18: 30486 | F18: No aplica | G18: Ampolla x 1 mL | H18: REFRIGERACION / CONGELACION SEGÚN ESPECIFICACION DEL FABRICANTE | I18: MRC | J18: 3 | M18: =+SUM(J18:L18) -> 3 | P18: =+SUM(N18:O18) -> 0 | S18: =+SUM(Q18:R18) -> 0 | V18: =+SUM(T18:U18) -> 0 | X18: =W18+V18+S18+P18+M18 -> 3
B19: 8 | C19: Gasolina sin plomo (Unleaded), sin degradación (Unweathered) | D19: 5000 µg/mL en metanol | E19: 30096 | F19: 8006-61-9 | G19: Ampolla x 1 mL | H19: REFRIGERACION / CONGELACION SEGÚN ESPECIFICACION DEL FABRICANTE | I19: MRC | J19: 1 | M19: =+SUM(J19:L19) -> 1 | P19: =+SUM(N19:O19) -> 0 | S19: =+SUM(Q19:R19) -> 0 | V19: =+SUM(T19:U19) -> 0 | X19: =W19+V19+S19+P19+M19 -> 1
B20: 9 | C20: Gasolina sin plomo (Unleaded), 25% Weathered | D20: 5000 µg/mL en metanol | E20: 30097 | F20: 8006-61-9 | G20: Ampolla x 1 mL | H20: REFRIGERACION / CONGELACION SEGÚN ESPECIFICACION DEL FABRICANTE | I20: MR | J20: 1 | M20: =+SUM(J20:L20) -> 1 | P20: =+SUM(N20:O20) -> 0 | S20: =+SUM(Q20:R20) -> 0 | V20: =+SUM(T20:U20) -> 0 | X20: =W20+V20+S20+P20+M20 -> 1
B21: 10 | C21: Gasolina sin plomo (Unleaded), 50% Weathered, | D21: 5000 µg/mL en metanol | E21: 30098 | F21: 8006-61-9 | G21: Ampolla x 1 mL | H21: REFRIGERACION / CONGELACION SEGÚN ESPECIFICACION DEL FABRICANTE | I21: MR | J21: 1 | M21: =+SUM(J21:L21) -> 1 | P21: =+SUM(N21:O21) -> 0 | S21: =+SUM(Q21:R21) -> 0 | V21: =+SUM(T21:U21) -> 0 | X21: =W21+V21+S21+P21+M21 -> 1
B22: 11 | C22: Gasolina sin plomo (Unleaded), 75% Weathered, | D22: 5000 µg/mL en metanol | E22: 30099 | F22: 8006-61-9 | G22: Ampolla x 1 mL | H22: REFRIGERACION / CONGELACION SEGÚN ESPECIFICACION DEL FABRICANTE | I22: MR | J22: 1 | M22: =+SUM(J22:L22) -> 1 | P22: =+SUM(N22:O22) -> 0 | S22: =+SUM(Q22:R22) -> 0 | V22: =+SUM(T22:U22) -> 0 | X22: =W22+V22+S22+P22+M22 -> 1
B26: LOTE 3
B28: ITEM | C28: ESPECIFICACIÓN TÉCNICA | J28: DIRECCIÓN REGIONAL BOGOTÁ | M28: TOTAL REGIONAL BOGOTÁ | N28: DIRECCIÓN REGIONAL NORORIENTE | P28: TOTAL REGIONAL NORORIENTE | Q28: DIRECCIÓN REGIONAL OCCIDENTE | S28: TOTAL REGIONAL OCCIDENTE | T28: DIRECCIÓN REGIONAL SUR | V28: TOTAL REGIONAL SUR | W28: GRUPO NACIONAL DE METROLOGIA | X28: CANTIDAD TOTAL
C29: Sustancia | D29: Concentración | E29: Referencia sugerida | F29: NÚMERO CAS | G29: PRESENTACIÓN | H29: CONDICIÓN DE ALMACENAMIENTO | I29: CLASIFICACIÓN | J29: EVIDENCIA TRAZA | K29: ESTUPEFACIENTES | L29: TOXICOLOGIA | N29: ESTUPEFACIENTES | O29: TOXICOLOGIA | Q29: ESTUPEFACIENTES | R29: TOXICOLOGIA | T29: ESTUPEFACIENTES | U29: TOXICOLOGIA
B30: 12 | C30: Material de Referencia Certificado de pH se requiere que el valor nominal del material de referencia certificado esté entre 3,5 unidades de pH a 4,5 unidades de pH | D30: entre 3,5 unidades de pH a 4,5 unidades de pH | E30: N/A | F30: N/A | G30: Frasco de 500 mL | H30: REFRIGERACION / CONGELACION SEGÚN ESPECIFICACION DEL FABRICANTE | I30: MRC | W30: 2 | X30: =W30 -> 2
B31: 13 | C31: Material de Referencia Certificado de pH se requiere que el valor nominal del material de referencia certificado esté entre 6,5 unidades de pH a 7,5 unidades de pH | D31: entre 6,5 unidades de pH a 7,5 unidades de pH | E31: N/A | F31: N/A | G31: Frasco de 500 mL | H31: REFRIGERACION / CONGELACION SEGÚN ESPECIFICACION DEL FABRICANTE | I31: MRC | W31: 2 | X31: =W31 -> 2
B32: 14 | C32: Material de Referencia Certificado de pH se requiere que el valor nominal del material de referencia certificado esté entre 9,5 unidades de pH a 10,5 unidades de pH | D32: entre 9,5 unidades de pH a 10,5 unidades de pH | E32: N/A | F32: N/A | G32: Frasco de 500 mL | H32: REFRIGERACION / CONGELACION SEGÚN ESPECIFICACION DEL FABRICANTE | I32: MRC | W32: 2 | X32: =W32 -> 2
B36: LOTE 4
B38: ITEM | C38: ESPECIFICACIÓN TÉCNICA | J38: DIRECCIÓN REGIONAL BOGOTÁ | M38: TOTAL REGIONAL BOGOTÁ | N38: DIRECCIÓN REGIONAL NORORIENTE | P38: TOTAL REGIONAL NORORIENTE | Q38: DIRECCIÓN REGIONAL OCCIDENTE | S38: TOTAL REGIONAL OCCIDENTE | T38: DIRECCIÓN REGIONAL SUR | V38: TOTAL REGIONAL SUR | W38: GRUPO NACIONAL DE METROLOGIA | X38: CANTIDAD TOTAL
C39: Sustancia | D39: Concentración | E39: Referencia sugerida | F39: NÚMERO CAS | G39: PRESENTACIÓN | H39: CONDICIÓN DE ALMACENAMIENTO | I39: CLASIFICACIÓN | J39: EVIDENCIA TRAZA | K39: ESTUPEFACIENTES | L39: TOXICOLOGIA | N39: ESTUPEFACIENTES | O39: TOXICOLOGIA | Q39: ESTUPEFACIENTES | R39: TOXICOLOGIA | T39: ESTUPEFACIENTES | U39: TOXICOLOGIA
B40: 15 | C40: Material de Referencia Certificado de conductividad. Se requiere Solución estándar de conductividad aproximada de 5 µS/cm ± 1 µS/cm a 25 °C | D40: conductividad aproximada de 5 µS/cm ± 1 µS/cm a 25 °C | E40: N/A | F40: N/A | G40: Frasco de 500 mL | H40: REFRIGERACION / CONGELACION SEGÚN ESPECIFICACION DEL FABRICANTE | I40: MRC | W40: 2 | X40: =W40 -> 2
B44: LOTE 5
B46: ITEM | C46: ESPECIFICACIÓN TÉCNICA | J46: DIRECCIÓN REGIONAL BOGOTÁ | M46: TOTAL REGIONAL BOGOTÁ | N46: DIRECCIÓN REGIONAL NORORIENTE | P46: TOTAL REGIONAL NORORIENTE | Q46: DIRECCIÓN REGIONAL OCCIDENTE | S46: TOTAL REGIONAL OCCIDENTE | T46: DIRECCIÓN REGIONAL SUR | V46: TOTAL REGIONAL SUR | W46: GRUPO NACIONAL DE METROLOGIA | X46: CANTIDAD TOTAL
C47: Sustancia | D47: Concentración | E47: Referencia sugerida | F47: NÚMERO CAS | G47: PRESENTACIÓN | H47: CONDICIÓN DE ALMACENAMIENTO | I47: CLASIFICACIÓN | J47: EVIDENCIA TRAZA | K47: ESTUPEFACIENTES | L47: TOXICOLOGIA | N47: ESTUPEFACIENTES | O47: TOXICOLOGIA | Q47: ESTUPEFACIENTES | R47: TOXICOLOGIA | T47: ESTUPEFACIENTES | U47: TOXICOLOGIA
B48: 16 | C48: Material de Referencia Certificado de conductividad. Se requiere la certificación de la conductividad con conductividad aproximada de 10 µS/cm ± 1µS/cm a 25 °C | D48: conductividad aproximada de 10 µS/cm ± 1µS/cm a 25 °C | E48: N/A | F48: N/A | G48: Frasco de 500 mL | H48: REFRIGERACION / CONGELACION SEGÚN ESPECIFICACION DEL FABRICANTE | I48: MRC | W48: 2 | X48: =W48 -> 2

Sheet ESTUDIO DE MERCADO 
A2: 2 | B2: LOTE 1
B4: ITEM | C4: ESPECIFICACIÓN TÉCNICA | J4: DIRECCIÓN REGIONAL BOGOTÁ | M4: TOTAL REGIONAL BOGOTÁ | N4: DIRECCIÓN REGIONAL NORORIENTE | P4: TOTAL REGIONAL NORORIENTE | Q4: DIRECCIÓN REGIONAL OCCIDENTE | S4: TOTAL REGIONAL OCCIDENTE | T4: DIRECCIÓN REGIONAL SUR | V4: TOTAL REGIONAL SUR | W4: GRUPO NACIONAL DE METROLOGIA | X4: CANTIDAD TOTAL | Y4: AS ANALYTICAL VALOR INCLUIDO IVA | Z4: QUIMITRONICA VALOR INCLUIDO IVA | AA4: INNOVATEK VALOR INCLUIDO IVA | AB4: VALOR CONTRATOS 2024 | AC4: SASI-011-SG-2024 VALOR INDEXADO , MIC 0018-SG-2025 LOTE 2,MIC 026 SG-2024 Y COTIZACION METROLOGIA AÑO 2023 Y COTIZACIONES 2025 PRIMER SEMESTRE | AD4: DESVIACION ESTANDAR | AE4: PROMEDIO | AF4: COEFICIENTE VARIACION | AG4: MEDIA GEOMETRICA | AH4: MEDIA ARMONICA | AI4: VALOR UNITARIO ESTIMADO | AJ4: VALOR TOTAL | AK4: DIRECCIÓN REGIONAL BOGOTÁ | AN4: TOTAL REGIONAL BOGOTÁ | AO4: DIRECCIÓN REGIONAL NORORIENTE | AQ4: TOTAL REGIONAL NORORIENTE | AR4: DIRECCIÓN REGIONAL OCCIDENTE | AT4: TOTAL REGIONAL OCCIDENTE | AU4: DIRECCIÓN REGIONAL SUR | AW4: TOTAL REGIONAL SUR | AX4: GRUPO NACIONAL DE METROLOGIA | AY4: VALOR TOTAL POR ITEM | AZ4: VALOR TOTAL POR LOTE
C5: Sustancia | D5: Concentración | E5: Referencia sugerida | F5: NÚMERO CAS | G5: PRESENTACIÓN | H5: CONDICIÓN DE ALMACENAMIENTO | I5: CLASIFICACIÓN | J5: EVIDENCIA TRAZA | K5: ESTUPEFACIENTES | L5: TOXICOLOGIA | N5: ESTUPEFACIENTES | O5: TOXICOLOGIA | Q5: ESTUPEFACIENTES | R5: TOXICOLOGIA | T5: ESTUPEFACIENTES | U5: TOXICOLOGIA | AK5: EVIDENCIA TRAZA | AL5: ESTUPEFACIENTES | AM5: TOXICOLOGIA | AO5: ESTUPEFACIENTES | AP5: TOXICOLOGIA | AR5: ESTUPEFACIENTES | AS5: TOXICOLOGIA | AU5: ESTUPEFACIENTES | AV5: TOXICOLOGIA
A6: 14 | B6: 1 | C6: Control de rango completo CO-Oximeter (Full Range CO-Oximeter control), multi-rango, 3 niveles (10 ampollas por nivel) | D6: No aplica | E6: QC 253 | F6: No aplica | G6: 3 niveles (10 ampollas por nivel), 1,2 mL por ampolla | H6: REFRIGERACION / CONGELACION SEGÚN ESPECIFICACION DEL FABRICANTE | I6: MR | L6: 2 | M6: =+SUM(J6:L6) -> 2 | O6: 1 | P6: =+SUM(N6:O6) -> 1 | R6: 1 | S6: =+SUM(Q6:R6) -> 1 | U6: 1 | V6: =+SUM(T6:U6) -> 1 | X6: =M6+P6+S6+V6+W6 -> 5 | Y6: 0 | Z6: 0 | AA6: 0 | AB6: 3225400 | AC6: =AB6*(1+(5.2/100)) -> 3393120.8 | AD6: =+IF(AND(Y6=0,Z6=0,AA6=0),0,_xlfn.STDEV.S(Y6:AA6)) -> 0 | AE6: =+IF(AND(Y6=0,Z6=0,AA6=0),0,AVERAGE(Y6:AA6)) -> 0 | AF6: =+IF(AND(Y6=0,Z6=0,AA6=0),0,AD6/AE6) -> 0 | AG6: 0 | AH6: 0 | AI6: =ROUND((AC6),0) -> 3393121 | AJ6: =+AI6*X6 -> 16965605 | AK6: =AI6*J6 -> 0 | AL6: =AI6*K6 -> 0 | AM6: =AI6*L6 -> 6786242 | AN6: =SUM(AK6:AM6) -> 6786242 | AO6: =AI6*N6 -> 0 | AP6: =AI6*O6 -> 3393121 | AQ6: =SUM(AO6:AP6) -> 3393121 | AR6: =AI6*Q6 -> 0 | AS6: =AI6*R6 -> 3393121 | AT6: =SUM(AR6:AS6) -> 3393121 | AU6: =AI6*T6 -> 0 | AV6: =AI6*U6 -> 3393121 | AW6: =SUM(AU6:AV6) -> 3393121 | AX6: =AI6*W6 -> 0 | AY6: =AX6+AW6+AT6+AQ6+AN6 -> 16965605 | AZ6: =AY6+AY7 -> 40202180
A7: 15 | B7: 2 | C7: CO-Oximeter Controles de verificación de calibración (CO-Oximeter calibration verification controls), 5 niveles (4 ampollas por nivel) | D7: No aplica | E7: CVC 223 | F7: No aplica | G7: 5 niveles (4 ampollas por nivel), 1,2 mL por ampolla | H7: REFRIGERACION / CONGELACION SEGÚN ESPECIFICACION DEL FABRICANTE | I7: MR | L7: 2 | M7: =+SUM(J7:L7) -> 2 | O7: 1 | P7: =+SUM(N7:O7) -> 1 | R7: 1 | S7: =+SUM(Q7:R7) -> 1 | U7: 1 | V7: =+SUM(T7:U7) -> 1 | X7: =M7+P7+S7+V7+W7 -> 5 | Y7: 0 | Z7: 0 | AA7: 0 | AB7: 4417600 | AC7: =AB7*(1+(5.2/100)) -> 4647315.2 | AD7: =+IF(AND(Y7=0,Z7=0,AA7=0),0,_xlfn.STDEV.S(Y7:AA7)) -> 0 | AE7: =+IF(AND(Y7=0,Z7=0,AA7=0),0,AVERAGE(Y7:AA7)) -> 0 | AF7: =+IF(AND(Y7=0,Z7=0,AA7=0),0,AD7/AE7) -> 0 | AG7: 0 | AH7: 0 | AI7: =ROUND((AC7),0) -> 4647315 | AJ7: =+AI7*X7 -> 23236575 | AK7: =AI7*J7 -> 0 | AL7: =AI7*K7 -> 0 | AM7: =AI7*L7 -> 9294630 | AN7: =SUM(AK7:AM7) -> 9294630 | AO7: =AI7*N7 -> 0 | AP7: =AI7*O7 -> 4647315 | AQ7: =SUM(AO7:AP7) -> 4647315 | AR7: =AI7*Q7 -> 0 | AS7: =AI7*R7 -> 4647315 | AT7: =SUM(AR7:AS7) -> 4647315 | AU7: =AI7*T7 -> 0 | AV7: =AI7*U7 -> 4647315 | AW7: =SUM(AU7:AV7) -> 4647315 | AX7: =AI7*W7 -> 0 | AY7: =AX7+AW7+AT7+AQ7+AN7 -> 23236575
AI8: VALOR TOTAL SERVICIO | AK8: =SUM(AK6:AK7) -> 0 | AL8: =SUM(AL6:AL7) -> 0 | AM8: =SUM(AM6:AM7) -> 16080872 | AN8: =AK9 -> 16080872 | AO8: =SUM(AO6:AO7) -> 0 | AP8: =SUM(AP6:AP7) -> 8040436 | AQ8: =AO9 -> 8040436 | AR8: =SUM(AR6:AR7) -> 0 | AS8: =SUM(AS6:AS7) -> 8040436 | AT8: =AR9 -> 8040436 | AU8: =SUM(AU6:AU7) -> 0 | AV8: =SUM(AV6:AV7) -> 8040436 | AW8: =AU9 -> 8040436 | AX8: =SUM(AX6:AX7) -> 0 | AY8: =AX8+AW8+AT8+AQ8+AN8 -> 40202180
AI9: VALOR TOTAL REGIONAL | AK9: =SUM(AK8:AM8) -> 16080872 | AO9: =SUM(AO8:AP8) -> 8040436 | AR9: =SUM(AR8:AS8) -> 8040436 | AU9: =SUM(AU8:AV8) -> 8040436
A11: 4 | B11: LOTE 2
B13: ITEM | C13: ESPECIFICACIÓN TÉCNICA | J13: DIRECCIÓN REGIONAL BOGOTÁ | M13: TOTAL REGIONAL BOGOTÁ | N13: DIRECCIÓN REGIONAL NORORIENTE | P13: TOTAL REGIONAL NORORIENTE | Q13: DIRECCIÓN REGIONAL OCCIDENTE | S13: TOTAL REGIONAL OCCIDENTE | T13: DIRECCIÓN REGIONAL SUR | V13: TOTAL REGIONAL SUR | W13: GRUPO NACIONAL DE METROLOGIA | X13: CANTIDAD TOTAL | Y13: AS ANALYTICAL VALOR INCLUIDO IVA | Z13: QUIMITRONICA VALOR INCLUIDO IVA | AA13: INNOVATEK VALOR INCLUIDO IVA | AB13: VALOR CONTRATOS 2024 | AC13: SASI-011-SG-2024 VALOR INDEXADO , MIC 0018-SG-2025 LOTE 2,MIC 026 SG-2024 Y COTIZACION METROLOGIA AÑO 2023 Y COTIZACIONES 2025 PRIMER SEMESTRE | AD13: DESVIACION ESTANDAR | AE13: PROMEDIO | AF13: COEFICIENTE VARIACION | AG13: MEDIA GEOMETRICA | AH13: MEDIA ARMONICA | AI13: VALOR UNITARIO ESTIMADO | AJ13: VALOR TOTAL | AK13: DIRECCIÓN REGIONAL BOGOTÁ | AN13: TOTAL REGIONAL BOGOTÁ | AO13: DIRECCIÓN REGIONAL NORORIENTE | AQ13: TOTAL REGIONAL NORORIENTE | AR13: DIRECCIÓN REGIONAL OCCIDENTE | AT13: TOTAL REGIONAL OCCIDENTE | AU13: DIRECCIÓN REGIONAL SUR | AW13: TOTAL REGIONAL SUR | AX13: GRUPO NACIONAL DE METROLOGIA | AY13: VALOR TOTAL POR ITEM | AZ13: VALOR TOTAL POR LOTE
C14: Sustancia | D14: Concentración | E14: Referencia sugerida | F14: NÚMERO CAS | G14: PRESENTACIÓN | H14: CONDICIÓN DE ALMACENAMIENTO | I14: CLASIFICACIÓN | J14: EVIDENCIA TRAZA | K14: ESTUPEFACIENTES | L14: TOXICOLOGIA | N14: ESTUPEFACIENTES | O14: TOXICOLOGIA | Q14: ESTUPEFACIENTES | R14: TOXICOLOGIA | T14: ESTUPEFACIENTES | U14: TOXICOLOGIA | AK14: EVIDENCIA TRAZA | AL14: ESTUPEFACIENTES | AM14: TOXICOLOGIA | AO14: ESTUPEFACIENTES | AP14: TOXICOLOGIA | AR14: ESTUPEFACIENTES | AS14: TOXICOLOGIA | AU14: ESTUPEFACIENTES | AV14: TOXICOLOGIA
A15: 86 | B15: 3 | C15: Aromáticos Certificados en Gasolina (16 componentes) | D15: 5500 µg/mL en metanol P&T | E15: 30485 | F15: No aplica | G15: Ampolla x 1 mL | H15: REFRIGERACION / CONGELACION SEGÚN ESPECIFICACION DEL FABRICANTE | I15: MRC | J15: 2 | M15: =+SUM(J15:L15) -> 2 | P15: =+SUM(N15:O15) -> 0 | S15: =+SUM(Q15:R15) -> 0 | V15: =+SUM(T15:U15) -> 0 | X15: =W15+V15+S15+P15+M15 -> 2 | Y15: 0 | Z15: 0 | AA15: 0 | AB15: 693938 | AC15: =AB15*(1+(5.2/100)) -> 730022.78 | AD15: =+IF(AND(Y15=0,Z15=0,AA15=0),0,_xlfn.STDEV.S(Y15:AA15)) -> 0 | AE15: =+IF(AND(Y15=0,Z15=0,AA15=0),0,AVERAGE(Y15:AA15)) -> 0 | AF15: =+IF(AND(Y15=0,Z15=0,AA15=0),0,AD15/AE15) -> 0 | AG15: 0 | AH15: 0 | AI15: =ROUND((AC15),0) -> 730023 | AJ15: =+AI15*X15 -> 1460046 | AK15: =AI15*J15 -> 1460046 | AL15: =AI15*K15 -> 0 | AM15: =AI15*L15 -> 0 | AN15: =SUM(AK15:AM15) -> 1460046 | AO15: =AI15*N15 -> 0 | AP15: =AI15*O15 -> 0 | AQ15: =SUM(AO15:AP15) -> 0 | AR15: =AI15*Q15 -> 0 | AS15: =AI15*R15 -> 0 | AT15: =SUM(AR15:AS15) -> 0 | AU15: =AI15*T15 -> 0 | AV15: =AI15*U15 -> 0 | AW15: =SUM(AU15:AV15) -> 0 | AX15: =AI15*W15 -> 0 | AY15: =AX15+AW15+AT15+AQ15+AN15 -> 1460046 | AZ15: =SUM(AY15:AY22) -> 7413925
A16: 87 | B16: 4 | C16: Combustible Diesel # 2 (acelerante ASTM clase 5-Unweathered) | D16: 5,000 µg/mL en cloruro de metileno | E16: 31233 | F16: 68334-30-5 | G16: Ampolla x 1 mL | H16: REFRIGERACION / CONGELACION SEGÚN ESPECIFICACION DEL FABRICANTE | I16: MRC | J16: 1 | K16: 1 | M16: =+SUM(J16:L16) -> 2 | P16: =+SUM(N16:O16) -> 0 | S16: =+SUM(Q16:R16) -> 0 | V16: =+SUM(T16:U16) -> 0 | X16: =W16+V16+S16+P16+M16 -> 2 | Y16: 0 | Z16: 0 | AA16: 0 | AB16: 429685 | AC16: =AB16*(1+(5.2/100)) -> 452028.62 | AD16: =+IF(AND(Y16=0,Z16=0,AA16=0),0,_xlfn.STDEV.S(Y16:AA16)) -> 0 | AE16: =+IF(AND(Y16=0,Z16=0,AA16=0),0,AVERAGE(Y16:AA16)) -> 0 | AF16: =+IF(AND(Y16=0,Z16=0,AA16=0),0,AD16/AE16) -> 0 | AG16: 0 | AH16: 0 | AI16: =ROUND((AC16),0) -> 452029 | AJ16: =+AI16*X16 -> 904058 | AK16: =AI16*J16 -> 452029 | AL16: =AI16*K16 -> 452029 | AM16: =AI16*L16 -> 0 | AN16: =SUM(AK16:AM16) -> 904058 | AO16: =AI16*N16 -> 0 | AP16: =AI16*O16 -> 0 | AQ16: =SUM(AO16:AP16) -> 0 | AR16: =AI16*Q16 -> 0 | AS16: =AI16*R16 -> 0 | AT16: =SUM(AR16:AS16) -> 0 | AU16: =AI16*T16 -> 0 | AV16: =AI16*U16 -> 0 | AW16: =SUM(AU16:AV16) -> 0 | AX16: =AI16*W16 -> 0 | AY16: =AX16+AW16+AT16+AQ16+AN16 -> 904058
A17: 88 | B17: 5 | C17: Estándar de mezcla de hidrocarburos alifáticos, MA EPH (14 componentes) | D17: 1,000 µg/mL en hexano | E17: 31459 | F17: No aplica | G17: Ampolla x 1 mL | H17: REFRIGERACION / CONGELACION SEGÚN ESPECIFICACION DEL FABRICANTE | I17: MRC | J17: 3 | K17: 1 | M17: =+SUM(J17:L17) -> 4 | P17: =+SUM(N17:O17) -> 0 | S17: =+SUM(Q17:R17) -> 0 | V17: =+SUM(T17:U17) -> 0 | X17: =W17+V17+S17+P17+M17 -> 4 | Y17: 0 | Z17: 0 | AA17: 0 | AB17: 568561 | AC17: =AB17*(1+(5.2/100)) -> 598126.17 | AD17: =+IF(AND(Y17=0,Z17=0,AA17=0),0,_xlfn.STDEV.S(Y17:AA17)) -> 0 | AE17: =+IF(AND(Y17=0,Z17=0,AA17=0),0,AVERAGE(Y17:AA17)) -> 0 | AF17: =+IF(AND(Y17=0,Z17=0,AA17=0),0,AD17/AE17) -> 0 | AG17: 0 | AH17: 0 | AI17: =ROUND((AC17),0) -> 598126 | AJ17: =+AI17*X17 -> 2392504 | AK17: =AI17*J17 -> 1794378 | AL17: =AI17*K17 -> 598126 | AM17: =AI17*L17 -> 0 | AN17: =SUM(AK17:AM17) -> 2392504 | AO17: =AI17*N17 -> 0 | AP17: =AI17*O17 -> 0 | AQ17: =SUM(AO17:AP17) -> 0 | AR17: =AI17*Q17 -> 0 | AS17: =AI17*R17 -> 0 | AT17: =SUM(AR17:AS17) -> 0 | AU17: =AI17*T17 -> 0 | AV17: =AI17*U17 -> 0 | AW17: =SUM(AU17:AV17) -> 0 | AX17: =AI17*W17 -> 0 | AY17: =AX17+AW17+AT17+AQ17+AN17 -> 2392504
A18: 89 | B18: 6 | C18: Estándar de componentes de gasolina (10 componentes) | D18: 10,000 µg/mL en metanol P&T | E18: 30486 | F18: No aplica | G18: Ampolla x 1 mL | H18: REFRIGERACION / CONGELACION SEGÚN ESPECIFICACION DEL FABRICANTE | I18: MRC | J18: 3 | M18: =+SUM(J18:L18) -> 3 | P18: =+SUM(N18:O18) -> 0 | S18: =+SUM(Q18:R18) -> 0 | V18: =+SUM(T18:U18) -> 0 | X18: =W18+V18+S18+P18+M18 -> 3 | Y18: 0 | Z18: 0 | AA18: 0 | AB18: 295953 | AC18: =AB18*(1+(5.2/100)) -> 311342.56 | AD18: =+IF(AND(Y18=0,Z18=0,AA18=0),0,_xlfn.STDEV.S(Y18:AA18)) -> 0 | AE18: =+IF(AND(Y18=0,Z18=0,AA18=0),0,AVERAGE(Y18:AA18)) -> 0 | AF18: =+IF(AND(Y18=0,Z18=0,AA18=0),0,AD18/AE18) -> 0 | AG18: 0 | AH18: 0 | AI18: =ROUND((AC18),0) -> 311343 | AJ18: =+AI18*X18 -> 934029 | AK18: =AI18*J18 -> 934029 | AL18: =AI18*K18 -> 0 | AM18: =AI18*L18 -> 0 | AN18: =SUM(AK18:AM18) -> 934029 | AO18: =AI18*N18 -> 0 | AP18: =AI18*O18 -> 0 | AQ18: =SUM(AO18:AP18) -> 0 | AR18: =AI18*Q18 -> 0 | AS18: =AI18*R18 -> 0 | AT18: =SUM(AR18:AS18) -> 0 | AU18: =AI18*T18 -> 0 | AV18: =AI18*U18 -> 0 | AW18: =SUM(AU18:AV18) -> 0 | AX18: =AI18*W18 -> 0 | AY18: =AX18+AW18+AT18+AQ18+AN18 -> 934029
A19: 90 | B19: 7 | C19: Gasolina sin plomo (Unleaded), sin degradación (Unweathered) | D19: 5000 µg/mL en metanol | E19: 30096 | F19: 8006-61-9 | G19: Ampolla x 1 mL | H19: REFRIGERACION / CONGELACION SEGÚN ESPECIFICACION DEL FABRICANTE | I19: MRC | J19: 1 | M19: =+SUM(J19:L19) -> 1 | P19: =+SUM(N19:O19) -> 0 | S19: =+SUM(Q19:R19) -> 0 | V19: =+SUM(T19:U19) -> 0 | X19: =W19+V19+S19+P19+M19 -> 1 | Y19: 0 | Z19: 0 | AA19: 432000 | AB19: 0 | AC19: =AA19*(1+(2.03/100)) -> 440769.6 | AD19: 0 | AE19: 0 | AF19: 0 | AG19: 0 | AH19: 0 | AI19: =ROUND((AC19),0) -> 440770 | AJ19: =+AI19*X19 -> 440770 | AK19: =AI19*J19 -> 440770 | AL19: =AI19*K19 -> 0 | AM19: =AI19*L19 -> 0 | AN19: =SUM(AK19:AM19) -> 440770 | AO19: =AI19*N19 -> 0 | AP19: =AI19*O19 -> 0 | AQ19: =SUM(AO19:AP19) -> 0 | AR19: =AI19*Q19 -> 0 | AS19: =AI19*R19 -> 0 | AT19: =SUM(AR19:AS19) -> 0 | AU19: =AI19*T19 -> 0 | AV19: =AI19*U19 -> 0 | AW19: =SUM(AU19:AV19) -> 0 | AX19: =AI19*W19 -> 0 | AY19: =AX19+AW19+AT19+AQ19+AN19 -> 440770
A20: 91 | B20: 8 | C20: Gasolina sin plomo (Unleaded), 25% Weathered | D20: 5000 µg/mL en metanol | E20: 30097 | F20: 8006-61-9 | G20: Ampolla x 1 mL | H20: REFRIGERACION / CONGELACION SEGÚN ESPECIFICACION DEL FABRICANTE | I20: MR | J20: 1 | M20: =+SUM(J20:L20) -> 1 | P20: =+SUM(N20:O20) -> 0 | S20: =+SUM(Q20:R20) -> 0 | V20: =+SUM(T20:U20) -> 0 | X20: =W20+V20+S20+P20+M20 -> 1 | Y20: 0 | Z20: 0 | AA20: 406000 | AB20: 0 | AC20: =AA20*(1+(2.03/100)) -> 414241.8 | AD20: 0 | AE20: 0 | AF20: 0 | AG20: 0 | AH20: 0 | AI20: =ROUND((AC20),0) -> 414242 | AJ20: =+AI20*X20 -> 414242 | AK20: =AI20*J20 -> 414242 | AL20: =AI20*K20 -> 0 | AM20: =AI20*L20 -> 0 | AN20: =SUM(AK20:AM20) -> 414242 | AO20: =AI20*N20 -> 0 | AP20: =AI20*O20 -> 0 | AQ20: =SUM(AO20:AP20) -> 0 | AR20: =AI20*Q20 -> 0 | AS20: =AI20*R20 -> 0 | AT20: =SUM(AR20:AS20) -> 0 | AU20: =AI20*T20 -> 0 | AV20: =AI20*U20 -> 0 | AW20: =SUM(AU20:AV20) -> 0 | AX20: =AI20*W20 -> 0 | AY20: =AX20+AW20+AT20+AQ20+AN20 -> 414242
A21: 92 | B21: 9 | C21: Gasolina sin plomo (Unleaded), 50% Weathered, | D21: 5000 µg/mL en metanol | E21: 30098 | F21: 8006-61-9 | G21: Ampolla x 1 mL | H21: REFRIGERACION / CONGELACION SEGÚN ESPECIFICACION DEL FABRICANTE | I21: MR | J21: 1 | M21: =+SUM(J21:L21) -> 1 | P21: =+SUM(N21:O21) -> 0 | S21: =+SUM(Q21:R21) -> 0 | V21: =+SUM(T21:U21) -> 0 | X21: =W21+V21+S21+P21+M21 -> 1 | Y21: 0 | Z21: 0 | AA21: 432000 | AB21: 0 | AC21: =AA21*(1+(2.03/100)) -> 440769.6 | AD21: 0 | AE21: 0 | AF21: 0 | AG21: 0 | AH21: 0 | AI21: =ROUND((AC21),0) -> 440770 | AJ21: =+AI21*X21 -> 440770 | AK21: =AI21*J21 -> 440770 | AL21: =AI21*K21 -> 0 | AM21: =AI21*L21 -> 0 | AN21: =SUM(AK21:AM21) -> 440770 | AO21: =AI21*N21 -> 0 | AP21: =AI21*O21 -> 0 | AQ21: =SUM(AO21:AP21) -> 0 | AR21: =AI21*Q21 -> 0 | AS21: =AI21*R21 -> 0 | AT21: =SUM(AR21:AS21) -> 0 | AU21: =AI21*T21 -> 0 | AV21: =AI21*U21 -> 0 | AW21: =SUM(AU21:AV21) -> 0 | AX21: =AI21*W21 -> 0 | AY21: =AX21+AW21+AT21+AQ21+AN21 -> 440770
A22: 93 | B22: 10 | C22: Gasolina sin plomo (Unleaded), 75% Weathered, | D22: 5000 µg/mL en metanol | E22: 30099 | F22: 8006-61-9 | G22: Ampolla x 1 mL | H22: REFRIGERACION / CONGELACION SEGÚN ESPECIFICACION DEL FABRICANTE | I22: MR | J22: 1 | M22: =+SUM(J22:L22) -> 1 | P22: =+SUM(N22:O22) -> 0 | S22: =+SUM(Q22:R22) -> 0 | V22: =+SUM(T22:U22) -> 0 | X22: =W22+V22+S22+P22+M22 -> 1 | Y22: 0 | Z22: 0 | AA22: 419000 | AB22: 0 | AC22: =AA22*(1+(2.03/100)) -> 427505.7 | AD22: 0 | AE22: 0 | AF22: 0 | AG22: 0 | AH22: 0 | AI22: =ROUND((AC22),0) -> 427506 | AJ22: =+AI22*X22 -> 427506 | AK22: =AI22*J22 -> 427506 | AL22: =AI22*K22 -> 0 | AM22: =AI22*L22 -> 0 | AN22: =SUM(AK22:AM22) -> 427506 | AO22: =AI22*N22 -> 0 | AP22: =AI22*O22 -> 0 | AQ22: =SUM(AO22:AP22) -> 0 | AR22: =AI22*Q22 -> 0 | AS22: =AI22*R22 -> 0 | AT22: =SUM(AR22:AS22) -> 0 | AU22: =AI22*T22 -> 0 | AV22: =AI22*U22 -> 0 | AW22: =SUM(AU22:AV22) -> 0 | AX22: =AI22*W22 -> 0 | AY22: =AX22+AW22+AT22+AQ22+AN22 -> 427506
AI23: VALOR TOTAL SERVICIO | AK23: =SUM(AK15:AK22) -> 6363770 | AL23: =SUM(AL15:AL22) -> 1050155 | AM23: =SUM(AM15:AM22) -> 0 | AN23: =AK24 -> 7413925 | AO23: =SUM(AO15:AO22) -> 0 | AP23: =SUM(AP15:AP22) -> 0 | AQ23: =AO24 -> 0 | AR23: =SUM(AR15:AR22) -> 0 | AS23: =SUM(AS15:AS22) -> 0 | AT23: =SUM(AT15:AT22) -> 0 | AU23: =SUM(AU15:AU22) -> 0 | AV23: =SUM(AV15:AV22) -> 0 | AW23: =AU24 -> 0 | AX23: =SUM(AX15:AX22) -> 0 | AY23: =+AZ15 -> 7413925
AI24: VALOR TOTAL REGIONAL | AK24: =SUM(AK23:AM23) -> 7413925 | AO24: =SUM(AO23) -> 0 | AR24: =AR23+AS23 -> 0 | AU24: =SUM(AU23:AV23) -> 0
A26: 11 | B26: LOTE 3
B28: ITEM | C28: ESPECIFICACIÓN TÉCNICA | J28: DIRECCIÓN REGIONAL BOGOTÁ | M28: TOTAL REGIONAL BOGOTÁ | N28: DIRECCIÓN REGIONAL NORORIENTE | P28: TOTAL REGIONAL NORORIENTE | Q28: DIRECCIÓN REGIONAL OCCIDENTE | S28: TOTAL REGIONAL OCCIDENTE | T28: DIRECCIÓN REGIONAL SUR | V28: TOTAL REGIONAL SUR | W28: GRUPO NACIONAL DE METROLOGIA | X28: CANTIDAD TOTAL | Y28: AS ANALYTICAL VALOR INCLUIDO IVA | Z28: QUIMITRONICA VALOR INCLUIDO IVA | AA28: INNOVATEK VALOR INCLUIDO IVA | AB28: VALOR CONTRATOS 2024 | AC28: SASI-011-SG-2024 VALOR INDEXADO , MIC 0018-SG-2025 LOTE 2,MIC 026 SG-2024 Y COTIZACION METROLOGIA AÑO 2023 Y COTIZACIONES 2025 PRIMER SEMESTRE | AD28: DESVIACION ESTANDAR | AE28: PROMEDIO | AF28: COEFICIENTE VARIACION | AG28: MEDIA GEOMETRICA | AH28: MEDIA ARMONICA | AI28: VALOR UNITARIO ESTIMADO | AJ28: VALOR TOTAL | AK28: DIRECCIÓN REGIONAL BOGOTÁ | AN28: TOTAL REGIONAL BOGOTÁ | AO28: DIRECCIÓN REGIONAL NORORIENTE | AQ28: TOTAL REGIONAL NORORIENTE | AR28: DIRECCIÓN REGIONAL OCCIDENTE | AT28: TOTAL REGIONAL OCCIDENTE | AU28: DIRECCIÓN REGIONAL SUR | AW28: TOTAL REGIONAL SUR | AX28: GRUPO NACIONAL DE METROLOGIA | AY28: VALOR TOTAL POR ITEM | AZ28: VALOR TOTAL POR LOTE
C29: Sustancia | D29: Concentración | E29: Referencia sugerida | F29: NÚMERO CAS | G29: PRESENTACIÓN | H29: CONDICIÓN DE ALMACENAMIENTO | I29: CLASIFICACIÓN | J29: EVIDENCIA TRAZA | K29: ESTUPEFACIENTES | L29: TOXICOLOGIA | N29: ESTUPEFACIENTES | O29: TOXICOLOGIA | Q29: ESTUPEFACIENTES | R29: TOXICOLOGIA | T29: ESTUPEFACIENTES | U29: TOXICOLOGIA | AK29: EVIDENCIA TRAZA | AL29: ESTUPEFACIENTES | AM29: TOXICOLOGIA | AO29: ESTUPEFACIENTES | AP29: TOXICOLOGIA | AR29: ESTUPEFACIENTES | AS29: TOXICOLOGIA | AU29: ESTUPEFACIENTES | AV29: TOXICOLOGIA
A30: 298 | B30: 11 | C30: Material de Referencia Certificado de pH se requiere que el valor nominal del material de referencia certificado esté entre 3,5 unidades de pH a 4,5 unidades de pH | D30: entre 3,5 unidades de pH a 4,5 unidades de pH | E30: N/A | F30: N/A | G30: Frasco de 500 mL | H30: REFRIGERACION / CONGELACION SEGÚN ESPECIFICACION DEL FABRICANTE | I30: MRC | W30: 2 | X30: =W30 -> 2 | Y30: 0 | Z30: 0 | AA30: 0 | AB30: 218281.5 | AC30: =AB30*(1+(5.2/100)) -> 229632.14 | AD30: =+IF(AND(Y30=0,Z30=0,AA30=0),0,_xlfn.STDEV.S(Y30:AA30)) -> 0 | AE30: =+IF(AND(Y30=0,Z30=0,AA30=0),0,AVERAGE(Y30:AA30)) -> 0 | AF30: =+IF(AND(Y30=0,Z30=0,AA30=0),0,AD30/AE30) -> 0 | AG30: 0 | AH30: 0 | AI30: =ROUND((AC30),0) -> 229632 | AJ30: =+AI30*X30 -> 459264 | AK30: =AI30*J30 -> 0 | AL30: =AI30*K30 -> 0 | AM30: =AI30*L30 -> 0 | AN30: =SUM(AK30:AM30) -> 0 | AO30: =AI30*N30 -> 0 | AP30: =AI30*O30 -> 0 | AQ30: =SUM(AO30:AP30) -> 0 | AR30: =AI30*Q30 -> 0 | AS30: =AI30*R30 -> 0 | AT30: =SUM(AR30:AS30) -> 0 | AU30: =AI30*T30 -> 0 | AV30: =AI30*U30 -> 0 | AW30: =SUM(AU30:AV30) -> 0 | AX30: =AI30*W30 -> 459264 | AY30: =AX30+AW30+AT30+AQ30+AN30 -> 459264 | AZ30: =AY30+AY31+AY32 -> 1377792
A31: 299 | B31: 12 | C31: Material de Referencia Certificado de pH se requiere que el valor nominal del material de referencia certificado esté entre 6,5 unidades de pH a 7,5 unidades de pH | D31: entre 6,5 unidades de pH a 7,5 unidades de pH | E31: N/A | F31: N/A | G31: Frasco de 500 mL | H31: REFRIGERACION / CONGELACION SEGÚN ESPECIFICACION DEL FABRICANTE | I31: MRC | W31: 2 | X31: =W31 -> 2 | Y31: 0 | Z31: 0 | AA31: 0 | AB31: 218281.5 | AC31: =AB31*(1+(5.2/100)) -> 229632.14 | AD31: =+IF(AND(Y31=0,Z31=0,AA31=0),0,_xlfn.STDEV.S(Y31:AA31)) -> 0 | AE31: =+IF(AND(Y31=0,Z31=0,AA31=0),0,AVERAGE(Y31:AA31)) -> 0 | AF31: =+IF(AND(Y31=0,Z31=0,AA31=0),0,AD31/AE31) -> 0 | AG31: 0 | AH31: 0 | AI31: =ROUND((AC31),0) -> 229632 | AJ31: =+AI31*X31 -> 459264 | AK31: =AI31*J31 -> 0 | AL31: =AI31*K31 -> 0 | AM31: =AI31*L31 -> 0 | AN31: =SUM(AK31:AM31) -> 0 | AO31: =AI31*N31 -> 0 | AP31: =AI31*O31 -> 0 | AQ31: =SUM(AO31:AP31) -> 0 | AR31: =AI31*Q31 -> 0 | AS31: =AI31*R31 -> 0 | AT31: =SUM(AR31:AS31) -> 0 | AU31: =AI31*T31 -> 0 | AV31: =AI31*U31 -> 0 | AW31: =SUM(AU31:AV31) -> 0 | AX31: =AI31*W31 -> 459264 | AY31: =AX31+AW31+AT31+AQ31+AN31 -> 459264
A32: 300 | B32: 13 | C32: Material de Referencia Certificado de pH se requiere que el valor nominal del material de referencia certificado esté entre 9,5 unidades de pH a 10,5 unidades de pH | D32: entre 9,5 unidades de pH a 10,5 unidades de pH | E32: N/A | F32: N/A | G32: Frasco de 500 mL | H32: REFRIGERACION / CONGELACION SEGÚN ESPECIFICACION DEL FABRICANTE | I32: MRC | W32: 2 | X32: =W32 -> 2 | Y32: 0 | Z32: 0 | AA32: 0 | AB32: 218281.5 | AC32: =AB32*(1+(5.2/100)) -> 229632.14 | AD32: =+IF(AND(Y32=0,Z32=0,AA32=0),0,_xlfn.STDEV.S(Y32:AA32)) -> 0 | AE32: =+IF(AND(Y32=0,Z32=0,AA32=0),0,AVERAGE(Y32:AA32)) -> 0 | AF32: =+IF(AND(Y32=0,Z32=0,AA32=0),0,AD32/AE32) -> 0 | AG32: 0 | AH32: 0 | AI32: =ROUND((AC32),0) -> 229632 | AJ32: =+AI32*X32 -> 459264 | AK32: =AI32*J32 -> 0 | AL32: =AI32*K32 -> 0 | AM32: =AI32*L32 -> 0 | AN32: =SUM(AK32:AM32) -> 0 | AO32: =AI32*N32 -> 0 | AP32: =AI32*O32 -> 0 | AQ32: =SUM(AO32:AP32) -> 0 | AR32: =AI32*Q32 -> 0 | AS32: =AI32*R32 -> 0 | AT32: =SUM(AR32:AS32) -> 0 | AU32: =AI32*T32 -> 0 | AV32: =AI32*U32 -> 0 | AW32: =SUM(AU32:AV32) -> 0 | AX32: =AI32*W32 -> 459264 | AY32: =AX32+AW32+AT32+AQ32+AN32 -> 459264
AI33: VALOR TOTAL SERVICIO | AK33: =SUM(AK30:AK32) -> 0 | AL33: =SUM(AL30:AL32) -> 0 | AM33: =SUM(AM30:AM32) -> 0 | AN33: =AK34 -> 0 | AO33: =SUM(AO30:AO32) -> 0 | AP33: =SUM(AP30:AP32) -> 0 | AQ33: =SUM(AO34) -> 0 | AR33: =SUM(AR30:AR32) -> 0 | AS33: =SUM(AS30:AS32) -> 0 | AT33: =SUM(AR34) -> 0 | AU33: =SUM(AU30:AU32) -> 0 | AV33: =SUM(AV30:AV32) -> 0 | AW33: =SUM(AU34) -> 0 | AX33: =SUM(AX30:AX32) -> 1377792 | AY33: =AX34 -> 1377792
AI34: VALOR TOTAL REGIONAL | AK34: =SUM(AK33:AM33) -> 0 | AO34: =SUM(AO33:AP33) -> 0 | AR34: =SUM(AR33:AS33) -> 0 | AU34: =SUM(AU33:AV33) -> 0 | AX34: =AX33 -> 1377792
A36: 11 | B36: LOTE 4
B38: ITEM | C38: ESPECIFICACIÓN TÉCNICA | J38: DIRECCIÓN REGIONAL BOGOTÁ | M38: TOTAL REGIONAL BOGOTÁ | N38: DIRECCIÓN REGIONAL NORORIENTE | P38: TOTAL REGIONAL NORORIENTE | Q38: DIRECCIÓN REGIONAL OCCIDENTE | S38: TOTAL REGIONAL OCCIDENTE | T38: DIRECCIÓN REGIONAL SUR | V38: TOTAL REGIONAL SUR | W38: GRUPO NACIONAL DE METROLOGIA | X38: CANTIDAD TOTAL | Y38: AS ANALYTICAL VALOR INCLUIDO IVA | Z38: QUIMITRONICA VALOR INCLUIDO IVA | AA38: INNOVATEK VALOR INCLUIDO IVA | AB38: VALOR CONTRATOS 2024 | AC38: SASI-011-SG-2024 VALOR INDEXADO , MIC 0018-SG-2025 LOTE 2,MIC 026 SG-2024 Y COTIZACION METROLOGIA AÑO 2023 Y COTIZACIONES 2025 PRIMER SEMESTRE | AD38: DESVIACION ESTANDAR | AE38: PROMEDIO | AF38: COEFICIENTE VARIACION | AG38: MEDIA GEOMETRICA | AH38: MEDIA ARMONICA | AI38: VALOR UNITARIO ESTIMADO | AJ38: VALOR TOTAL | AK38: DIRECCIÓN REGIONAL BOGOTÁ | AN38: TOTAL REGIONAL BOGOTÁ | AO38: DIRECCIÓN REGIONAL NORORIENTE | AQ38: TOTAL REGIONAL NORORIENTE | AR38: DIRECCIÓN REGIONAL OCCIDENTE | AT38: TOTAL REGIONAL OCCIDENTE | AU38: DIRECCIÓN REGIONAL SUR | AW38: TOTAL REGIONAL SUR | AX38: GRUPO NACIONAL DE METROLOGIA | AY38: VALOR TOTAL POR ITEM | AZ38: VALOR TOTAL POR LOTE
C39: Sustancia | D39: Concentración | E39: Referencia sugerida | F39: NÚMERO CAS | G39: PRESENTACIÓN | H39: CONDICIÓN DE ALMACENAMIENTO | I39: CLASIFICACIÓN | J39: EVIDENCIA TRAZA | K39: ESTUPEFACIENTES | L39: TOXICOLOGIA | N39: ESTUPEFACIENTES | O39: TOXICOLOGIA | Q39: ESTUPEFACIENTES | R39: TOXICOLOGIA | T39: ESTUPEFACIENTES | U39: TOXICOLOGIA | AK39: EVIDENCIA TRAZA | AL39: ESTUPEFACIENTES | AM39: TOXICOLOGIA | AO39: ESTUPEFACIENTES | AP39: TOXICOLOGIA | AR39: ESTUPEFACIENTES | AS39: TOXICOLOGIA | AU39: ESTUPEFACIENTES | AV39: TOXICOLOGIA
A40: 301 | B40: 14 | C40: Material de Referencia Certificado de conductividad. Se requiere Solución estándar de conductividad aproximada de 5 µS/cm ± 1 µS/cm a 25 °C | D40: conductividad aproximada de 5 µS/cm ± 1 µS/cm a 25 °C | E40: N/A | F40: N/A | G40: Frasco de 500 mL | H40: REFRIGERACION / CONGELACION SEGÚN ESPECIFICACION DEL FABRICANTE | I40: MRC | W40: 2 | X40: =W40 -> 2 | Z40: 0 | AA40: 0 | AB40: 3300 | AC40: =ROUND(AB40*(1+(5.2/100)),0) -> 3472 | AD40: 0 | AE40: =+AVERAGEIF(Y40:Z40,"<>") -> 0 | AF40: 0 | AG40: 0 | AH40: 0 | AI40: 3472 | AJ40: =+AI40*X40 -> 6944 | AK40: =AI40*J40 -> 0 | AL40: =AI40*K40 -> 0 | AM40: =AI40*L40 -> 0 | AN40: =SUM(AK40:AM40) -> 0 | AO40: =AI40*N40 -> 0 | AP40: =AI40*O40 -> 0 | AQ40: =SUM(AO40:AP40) -> 0 | AR40: =AI40*Q40 -> 0 | AS40: =AI40*R40 -> 0 | AT40: =SUM(AR40:AS40) -> 0 | AU40: =AI40*T40 -> 0 | AV40: =AI40*U40 -> 0 | AW40: =SUM(AU40:AV40) -> 0 | AX40: =AI40*W40 -> 6944 | AY40: =AX40 -> 6944 | AZ40: =AY40 -> 6944
AI41: VALOR TOTAL SERVICIO | AK41: =SUM(AK38:AK40) -> 0 | AL41: =SUM(AL38:AL40) -> 0 | AM41: =SUM(AM38:AM40) -> 0 | AN41: =AK42 -> 0 | AO41: =SUM(AO38:AO40) -> 0 | AP41: =SUM(AP38:AP40) -> 0 | AQ41: =SUM(AO42) -> 0 | AR41: =SUM(AR38:AR40) -> 0 | AS41: =SUM(AS38:AS40) -> 0 | AT41: =SUM(AR42) -> 0 | AU41: =SUM(AU38:AU40) -> 0 | AV41: =SUM(AV38:AV40) -> 0 | AW41: =SUM(AU42) -> 0 | AX41: =AX40 -> 6944 | AY41: =AX42 -> 6944
AI42: VALOR TOTAL REGIONAL | AK42: =SUM(AK41:AM41) -> 0 | AO42: =SUM(AO41:AP41) -> 0 | AR42: =SUM(AR41:AS41) -> 0 | AU42: =SUM(AU41:AV41) -> 0 | AX42: =AX41 -> 6944
A44: 11 | B44: LOTE 5
B46: ITEM | C46: ESPECIFICACIÓN TÉCNICA | J46: DIRECCIÓN REGIONAL BOGOTÁ | M46: TOTAL REGIONAL BOGOTÁ | N46: DIRECCIÓN REGIONAL NORORIENTE | P46: TOTAL REGIONAL NORORIENTE | Q46: DIRECCIÓN REGIONAL OCCIDENTE | S46: TOTAL REGIONAL OCCIDENTE | T46: DIRECCIÓN REGIONAL SUR | V46: TOTAL REGIONAL SUR | W46: GRUPO NACIONAL DE METROLOGIA | X46: CANTIDAD TOTAL | Y46: AS ANALYTICAL VALOR INCLUIDO IVA | Z46: QUIMITRONICA VALOR INCLUIDO IVA | AA46: INNOVATEK VALOR INCLUIDO IVA | AB46: VALOR CONTRATOS 2024 | AC46: SASI-011-SG-2024 VALOR INDEXADO , MIC 0018-SG-2025 LOTE 2,MIC 026 SG-2024 Y COTIZACION METROLOGIA AÑO 2023 Y COTIZACIONES 2025 PRIMER SEMESTRE | AD46: DESVIACION ESTANDAR | AE46: PROMEDIO | AF46: COEFICIENTE VARIACION | AG46: MEDIA GEOMETRICA | AH46: MEDIA ARMONICA | AI46: VALOR UNITARIO ESTIMADO | AJ46: VALOR TOTAL | AK46: DIRECCIÓN REGIONAL BOGOTÁ | AN46: TOTAL REGIONAL BOGOTÁ | AO46: DIRECCIÓN REGIONAL NORORIENTE | AQ46: TOTAL REGIONAL NORORIENTE | AR46: DIRECCIÓN REGIONAL OCCIDENTE | AT46: TOTAL REGIONAL OCCIDENTE | AU46: DIRECCIÓN REGIONAL SUR | AW46: TOTAL REGIONAL SUR | AX46: GRUPO NACIONAL DE METROLOGIA | AY46: VALOR TOTAL POR ITEM | AZ46: VALOR TOTAL POR LOTE
C47: Sustancia | D47: Concentración | E47: Referencia sugerida | F47: NÚMERO CAS | G47: PRESENTACIÓN | H47: CONDICIÓN DE ALMACENAMIENTO | I47: CLASIFICACIÓN | J47: EVIDENCIA TRAZA | K47: ESTUPEFACIENTES | L47: TOXICOLOGIA | N47: ESTUPEFACIENTES | O47: TOXICOLOGIA | Q47: ESTUPEFACIENTES | R47: TOXICOLOGIA | T47: ESTUPEFACIENTES | U47: TOXICOLOGIA | AK47: EVIDENCIA TRAZA | AL47: ESTUPEFACIENTES | AM47: TOXICOLOGIA | AO47: ESTUPEFACIENTES | AP47: TOXICOLOGIA | AR47: ESTUPEFACIENTES | AS47: TOXICOLOGIA | AU47: ESTUPEFACIENTES | AV47: TOXICOLOGIA
A48: 302 | B48: 15 | C48: Material de Referencia Certificado de conductividad. Se requiere la certificación de la conductividad con conductividad aproximada de 10 µS/cm ± 1µS/cm a 25 °C | D48: conductividad aproximada de 10 µS/cm ± 1µS/cm a 25 °C | E48: N/A | F48: N/A | G48: Frasco de 500 mL | H48: REFRIGERACION / CONGELACION SEGÚN ESPECIFICACION DEL FABRICANTE | I48: MRC | W48: 2 | X48: =W48 -> 2 | Y48: =ROUND(856800*(1+(2.03/100)),0) -> 874193 | Z48: =ROUND(1118600*(1+(2.03/100)),0) -> 1141308 | AC48: =ROUND(AB48*(1+(5.2/100)),0) -> 0 | AD48: =+IF(AND(Y48=0,Z48=0,AA48=0),0,_xlfn.STDEV.S(Y48:AA48)) -> 188878.83 | AE48: =+IF(AND(Y48=0,Z48=0,AA48=0),0,AVERAGE(Y48:AA48)) -> 1007750.5 | AF48: =+IF(AND(Y48=0,Z48=0,AA48=0),0,AD48/AE48) -> 0.18742618 | AG48: =ROUND(GEOMEAN(Y48:AB48),0) -> 998861 | AH48: =ROUND(HARMEAN(Y48:AB48),0) -> 990050 | AI48: =AG48 -> 998861 | AJ48: =+AI48*X48 -> 1997722 | AK48: =AI48*J48 -> 0 | AL48: =AI48*K48 -> 0 | AM48: =AI48*L48 -> 0 | AN48: =SUM(AK48:AM48) -> 0 | AO48: =AI48*N48 -> 0 | AP48: =AI48*O48 -> 0 | AQ48: =SUM(AO48:AP48) -> 0 | AR48: =AI48*Q48 -> 0 | AS48: =AI48*R48 -> 0 | AT48: =SUM(AR48:AS48) -> 0 | AU48: =AI48*T48 -> 0 | AV48: =AI48*U48 -> 0 | AW48: =AV48+AU48 -> 0 | AX48: =AI48*W48 -> 1997722 | AY48: =AX48 -> 1997722 | AZ48: =AY48 -> 1997722
AI49: VALOR TOTAL SERVICIO | AK49: =SUM(AK46:AK48) -> 0 | AL49: =SUM(AL46:AL48) -> 0 | AM49: =SUM(AM46:AM48) -> 0 | AN49: =AK50 -> 0 | AO49: =SUM(AO46:AO48) -> 0 | AP49: =SUM(AP46:AP48) -> 0 | AQ49: =SUM(AO50) -> 0 | AR49: =SUM(AR46:AR48) -> 0 | AS49: =SUM(AS46:AS48) -> 0 | AT49: =SUM(AR50) -> 0 | AU49: =SUM(AU46:AU48) -> 0 | AV49: =SUM(AV46:AV48) -> 0 | AW49: =SUM(AU50) -> 0 | AX49: =AX48 -> 1997722 | AY49: =AX50 -> 1997722
AI50: VALOR TOTAL REGIONAL | AK50: =SUM(AK49:AM49) -> 0 | AO50: =SUM(AO49:AP49) -> 0 | AR50: =SUM(AR49:AS49) -> 0 | AU50: =SUM(AU49:AV49) -> 0 | AX50: =AX49 -> 1997722
...

Sheet REGIONALIZACIÓN
A1: LOTE 1 | D1: TOTAL REGIONALIZADO | E1: VALOR
A2: CENTRO DE COSTO | B2: VALOR | D2: =+A3 -> DIRECCIÓN REGIONAL BOGOTÁ | E2: =+B3+B11 -> 23494797
A3: =+'ESTUDIO DE MERCADO '!AK4 -> DIRECCIÓN REGIONAL BOGOTÁ | B3: =+'ESTUDIO DE MERCADO '!AN8 -> 16080872 | D3: =+A4 -> DIRECCIÓN REGIONAL NORORIENTE | E3: =+B4 -> 8040436
A4: =+'ESTUDIO DE MERCADO '!AO4 -> DIRECCIÓN REGIONAL NORORIENTE | B4: =+'ESTUDIO DE MERCADO '!AQ8 -> 8040436 | D4: =+A5 -> DIRECCIÓN REGIONAL OCCIDENTE | E4: =+B5 -> 8040436
A5: =+'ESTUDIO DE MERCADO '!AR4 -> DIRECCIÓN REGIONAL OCCIDENTE | B5: =+'ESTUDIO DE MERCADO '!AT8 -> 8040436 | D5: =+A6 -> DIRECCIÓN REGIONAL SUR | E5: =+B6 -> 8040436
A6: =+'ESTUDIO DE MERCADO '!AU4 -> DIRECCIÓN REGIONAL SUR | B6: =+'ESTUDIO DE MERCADO '!AW8 -> 8040436 | D6: =+A16 -> NIVEL CENTRAL | E6: =+B16+B21+B26 -> 3382458
A7: TOTAL LOTE 1 | B7: =SUM(B3:B6) -> 40202180 | D7: TOTAL PROCESO | E7: =SUM(E2:E6) -> 50998563
A9: LOTE 2
A10: CENTRO DE COSTO | B10: VALOR
A11: =+'ESTUDIO DE MERCADO '!AK13 -> DIRECCIÓN REGIONAL BOGOTÁ | B11: =+'ESTUDIO DE MERCADO '!AN23 -> 7413925
A12: TOTAL LOTE 2 | B12: =SUM(B11:B11) -> 7413925
A14: LOTE 3
A15: CENTRO DE COSTO | B15: VALOR
A16: NIVEL CENTRAL | B16: =+'ESTUDIO DE MERCADO '!AX34 -> 1377792
A17: TOTAL LOTE 3 | B17: =SUM(B16:B16) -> 1377792
A19: LOTE 4
A20: CENTRO DE COSTO | B20: VALOR
A21: NIVEL CENTRAL | B21: =+'ESTUDIO DE MERCADO '!AX42 -> 6944
A22: TOTAL LOTE 4 | B22: =SUM(B21:B21) -> 6944
A24: LOTE 5
A25: CENTRO DE COSTO | B25: VALOR
A26: NIVEL CENTRAL | B26: =+'ESTUDIO DE MERCADO '!AX50 -> 1997722
A27: TOTAL LOTE 5 | B27: =SUM(B26:B26) -> 1997722
A29: TOTAL PROCESO | B29: =+B27+B22+B17+B12+B7 -> 50998563
