Workbook

Sheet Cuadro Alimentacion
B3: CUADRO DE ALIMENTACIÓN ACTA DE INICIO
B4: MODALIDAD DE CONTRATACIÓN | C4: CONVENIO DE ASOCIACIÓN | G4: MAYÚSCULA
B5: TIPO DE CONTRATO O CONVENIO | C5: CONVENIO DE ASOCIACIÓN | G5: MAYÚSCULA | H5: =PROPER(C5) -> Convenio De Asociación
B6: NÙMERO INVITACIÒN PÙBLICA | C6: CONVAS-SD-005-2025 BIOFABRICAS
B7: CÓDIGO CONTRATO | C7: CONVAS-SD-005-2025 BIOFABRICAS | G7: MAYÚSCULA
B8: CDP | C8: 439
B9: RP
B10: VALOR PRESUPUESTO OFICIAL | C10: CIENTO DIECINUEVE MILLONES OCHOCIENTOS VEINTITRÉS MIL DOSCIENTOS SETENTA Y SIETE PESOS ($119.823.277)
B12: PROPUESTA MENOR VALOR
B13: VALOR TOTAL CONTRATO | G13: 18150918
B14: PLAZO DE EJECUCIÓN | C14: DOS (02) MESES Y VEINTE (20) DÍAS | G14: MAYÚSCULA
B15: OBJETO | C15: CONVENIO DE ASOCIACIÓN PARA LA EJECUCIÓN DE LA LÍNEA DE PROYECTOS PRODUCTIVOS, EN EL MARCO DEL CONVENIO NRO. CT-2024-001336, SUSCRITO ENTRE EL MUNICIPIO DE YARUMAL Y EPM, CUYO OBJETO ES: AUNAR ESFUERZOS PARA IMPLEMENTACIÓN DE LA ESTRATEGIA “ALIANZAS PARA EL DESARROLLO” | G15: MAYÚSCULA
B16: EVALUADOR | C16: CAROLINA SOSSA MESA | G16: MAYÚSCULA | AB16: =PROPER(C16) -> Carolina Sossa Mesa
B17: CARGO | C17: Contratista - Asesor Contratación
B18: SUPERVISOR | C18: GABRIEL JAIME RESTREPO OSORIO | G18: MAYÚSCULA | H18: =PROPER(C18) -> Gabriel Jaime Restrepo Osorio | AB18: =PROPER(C18) -> Gabriel Jaime Restrepo Osorio
B19: CARGO | C19: Secretario de Desarrollo Rural y Medio Ambiente | G19: MAYÚSCULA | H19: =PROPER(C19) -> Secretario De Desarrollo Rural Y Medio Ambiente | I19: =PROPER(#REF!) -> #REF! | AB19: =PROPER(C19) -> Secretario De Desarrollo Rural Y Medio Ambiente
B20: C.C. | C20: 1.037.630.032
B21: CORREO ELECTRÒNICO | C21: umata@yarumal.gov.co
B22: DIRECCIÒN SUPERVISOR | C22: Calle 20 Nº 20 - 01, piso 3, Alcaldía de Yarumal
B23: TELÈFONO | C23: 853 77 44
B24: CELULAR | C24: 322 535 5626
B27: PROYECTÓ | C27: Daniel Steven González
B28: CARGO | C28: Contratista - Apoyo Contratación
B29: APROBÓ | C29: Carolina Sossa Mesa
B30: CARGO | C30: Contratista - Asesor Contratación

Sheet AIE
A1: ="INVITACIÓN PÚBLICA "&'Cuadro Alimentacion'!C6&"" -> INVITACIÓN PÚBLICA CONVAS-SD-005-2025 BIOFABRICAS
A2: PROCESO DE MÍNIMA CUANTÍA INFERIOR AL 10% DE LA MENOR CUANTÍA, ARTÍCULO 94 DE LA LEY 1474 DE 2011 Y DECRETO 1082 DE 2015
A3: Mediante la suscripción de la presente acta las partes firmantes asumen plena responsabilidad por la veracidad de la información acá contenida.
A4: INFORME DE EVALUACIÓN PRELIMINAR
A5: 1. OBJETO DEL CONTRATO | E5: ='Cuadro Alimentacion'!C15 -> CONVENIO DE ASOCIACIÓN PARA LA EJECUCIÓN DE LA LÍNEA DE PROYECTOS PRODUCTIVOS, EN EL MARCO DEL CONVENIO NRO. CT-2024-001336, SUSCRITO ENTRE EL MUNICIPIO DE YARUMAL Y EPM, CUYO OBJETO ES: AUNAR ESFUERZOS PARA IMPLEMENTACIÓN DE LA ESTRATEGIA “ALIANZAS PARA EL DESARROLLO”
A6: Siendo las 10:00 horas del día 06/10/2025, en la Oficina de Contratación del municipio de Yarumal, Antioquia, se instala la audiencia para la verificaciòn de requisitos habilitantes y/o en el proceso competitivo de selección, guíado por el Decreto 092 de 2017 del proceso CONVAS-SD-005-2025 La trazabilidad de las propuestas recibidas son las siguientes:
A7: 2. PROPUESTAS PRESENTADAS AL MOMENTO DEL CIERRE DEL PROCESO
B8: NIT | D8: PROPONENTE (S) | F8: OFERTA ECONÓMICA | H8: FECHA ENTREGA | I8: HORA DE ENTREGA
A9: 1 | B9: 800023294-1 | D9: COOPERATIVA DE INGENIEROS AGRONOMOS DE ANTIOQUIA | F9: 119823277 | H9: 06/10/2025 | I9: 8:35 PM.
A10: as anteriores sumas se toman exactamente de la propuesta presentada por el proponente. De acuerdo a lo anterior, se inicia con la verificación de requisitos habilitantes y, de aplicar, de los requisitos ponderables.
A11: 3. LISTADO DE ELEGIBLES Y ORDEN DE ELEGIBILIDAD (Valor con AU incluido.)
A12: ORDEN ELEGIBILIDAD | B12: NIT | D12: PROPONENTE (S) | G12: OFERTA ECONÓMICA | H12: FECHA ENTREGA | I12: HORA DE ENTREGA
A13: 1 | B13: =B9 -> 800023294-1 | D13: =D9 -> COOPERATIVA DE INGENIEROS AGRONOMOS DE ANTIOQUIA | G13: =F9 -> 119823277 | H13: 06/10/2025 | I13: 8:35 PM.
A14: Por ser un proceso de contratación bajo la modalidad de Convenio de Asociación, reglado por el Decreto 092, la evaluación se llevará a cabo a través de la verificación de requisitos habilitantes y la ponderación de requisitos evaluables.
A15: 4. VERIFICACIÓN DE REQUISITOS HABILITANTES
A16: 4.1. Tabla de requisitos habilitantes
A17: =D9 -> COOPERATIVA DE INGENIEROS AGRONOMOS DE ANTIOQUIA
A18: # | B18: REQUISITO | F18: CUMPLE | G18: NO CUMPLE | H18: OBSERVACIONES
A19: 1 | B19: Carta de presentación de propuesta firmada por el representante legal. Debe contener el objeto del contrato. | F19: x
A20: 2 | B20: Objeto social conforme al objeto del presente proceso. | F20: x | H20: Acorde al contrato: Tiene como objetivo satisfacer las necesidades de asistencia técnica directa integral especializada directa rural y urbana a los asociados, particulares, población desplazada y en situación de vulnerabilidad y riesgo, municipios, asociaciones de municipios y a la comunidad en general y propender por el desarrollo económico, social y ambiental del departamento de Antioquia y del país en general.
A21: 3 | B21: Acta de conformación de la unión temporal o consorcio | F21: x | H21: NO APLICA
A22: 4 | B22: Que el representante legal esté facultado para celebrar el contrato y en caso de ser necesario la autorización de la junta, asamblea de socios o consejos de administración. | F22: x | H22: Se presenta certificación con facultad del Gerente Contratar 16.000 SMMLV
A23: 5 | B23: Certificado de pago de los aportes al sistema de seguridad social y parafiscales | F23: x | H23: Certificado firmado por el representante legal y contador.
A24: 6 | B24: Declaración de inhabilidades e incompatibilidades | F24: x | H24: Se anexa documento
A25: 7 | B25: Declaración de multas y/o sanciones (No objeto de multas y/o sanciones en los últimos 5 años) | F25: x | H25: Cumple, presenta certificación de no multas y sanciones y se presenta declaración
A26: 8 | B26: Certificado de existencia y representación legal o Matrícula mercantil de persona natural (para el caso de las actividades que la ley considere mercantiles) | F26: x | H26: Se anexa certificación expedido 01/10/2025
A27: 9 | B27: PARA ENTIDADES SIN ÁNIMO DE LUCRO: Copia de la inscripción ante la entidad territorial respectiva (gobernación, alcaldía, cámara de comercio, etc…) con la nota de vigencia | F27: x | H27: Se acredita inscripción ante la cámara de comercio
A28: 10 | B28: Certificado de antecedentes disciplinarios del proponente y el representante legal. | F28: x | H28: SE ANEXAO CERTIFICACION REPRESENTACIÓN LEGAL
A29: 11 | B29: Certificado de responsabilidad fiscal | F29: x | H29: SE ANEXAO CERTIFICACION REPRESENTACIÓN LEGAL
A30: 12 | B30: Fotocopia legible de la cédula de ciudadanía | F30: x | H30: CÉDULA DE CIUDADANIA CLAUDIA NANCY PARRA MARÍN
A31: 13 | B31: Fotocopia legible del registro único tributario RUT actualizado | F31: x | H31: SE ANEXA DOCUMENTO
... A43: 25 | B43: Formulario de propuesta económica | F43: X | H43: SE ANEXA PROPUESTA
A44: REQUISITOS PODERABLES:
A45: CONCLUSIÓN
A46: Teniendo en cuenta la verificación de requisitos habilitantes realizada a las propuestas presentadas por todos los proponentes, el evaluador del proceso manifiesta lo siguiente:
C47: COOPERATIVA DE INGENIEROS AGRONOMOS DE ANTIOQUIA | F47: HABILITADA El proponente cumple con todos los requisitos del proceso.
A48: De acuerdo a lo anterior, el orden de elegibilidad es el siguiente:
A49: # | B49: NIT | D49: PROPONENTE (S) | G49: OFERTA ECONÓMICA | H49: FECHA ENTREGA | I49: HORA DE ENTREGA
A51: De acuerdo a lo anterior,el proponente COOPERATIVA DE INGENIEROS AGRONOMOS DE ANTIOQUIA se encuentra HABILITADA, cumpliendo con todos los requisitos habilitantes de la invitación pública, el presente informe de evaluación tendrá un traslado de un (1) día hábil para que los interesados puedan formular observaciones.
A52: Para constancia de lo anterior, firman la presente acta los que en ella intervinieron:
...

Sheet AIE DEF
A1: ="INVITACIÓN PÚBLICA "&'Cuadro Alimentacion'!C6&"" -> INVITACIÓN PÚBLICA CONVAS-SD-005-2025 BIOFABRICAS
A2: PROCESO DE MÍNIMA CUANTÍA INFERIOR AL 10% DE LA MENOR CUANTÍA, ARTÍCULO 94 DE LA LEY 1474 DE 2011 Y DECRETO 1082 DE 2015
A3: Mediante la suscripción de la presente acta las partes firmantes asumen plena responsabilidad por la veracidad de la información acá contenida.
A4: INFORME DE EVALUACIÓN 2
A5: 1. OBJETO DEL CONTRATO | E5: ='Cuadro Alimentacion'!C15 -> CONVENIO DE ASOCIACIÓN PARA LA EJECUCIÓN DE LA LÍNEA DE PROYECTOS PRODUCTIVOS, EN EL MARCO DEL CONVENIO NRO. CT-2024-001336, SUSCRITO ENTRE EL MUNICIPIO DE YARUMAL Y EPM, CUYO OBJETO ES: AUNAR ESFUERZOS PARA IMPLEMENTACIÓN DE LA ESTRATEGIA “ALIANZAS PARA EL DESARROLLO”
A6: Siendo las 10:00 horas del día 29/04/2025, en la Oficina de Contratación del municipio de Yarumal, Antioquia, se instala la audiencia para la verificaciòn de requisitos habilitantes y/o informe de SELECCIÓN del proceso de Mínima Cuantía CMC-SD-034-2025 La trazabilidad de las propuestas recibidas son las siguientes:
A7: 2. PROPUESTAS PRESENTADAS AL MOMENTO DEL CIERRE DEL PROCESO
B8: NIT | D8: PROPONENTE (S) | F8: OFERTA ECONÓMICA | H8: FECHA ENTREGA | I8: HORA DE ENTREGA
A9: 1 | B9: 901323736-7 | D9: SOLUCIONES SCM SAS | F9: 34286994 | H9: 25/04/2025 | I9: 0.66597222
A10: 2 | B10: 901332033-6 | D10: ASKELLA SAS | F10: 38550000 | H10: 25/04/2025 | I10: 0.61527778
A12: 3. LISTADO DE ELEGIBLES Y ORDEN DE ELEGIBILIDAD (Valor con AU incluido.)
A13: ORDEN ELEGIBILIDAD | B13: NIT | D13: PROPONENTE (S) | G13: OFERTA ECONÓMICA | H13: FECHA ENTREGA | I13: HORA DE ENTREGA
A14: 1 | B14: =B9 -> 901323736-7 | D14: =D9 -> SOLUCIONES SCM SAS | G14: =F9 -> 34286994 | H14: 25/04/2025 | I14: 0.66597222
A15: 1 | B15: =B10 -> 901332033-6 | D15: =D10 -> ASKELLA SAS | G15: =F10 -> 38550000 | H15: 25/04/2025 | I15: 0.61527778
A16: Por ser un proceso de contratación bajo la modalidad de Mínima Cuantía, de acuerdo con lo establecido en el Artículo 94 de la Ley 1474 de 2011 el único criterio de calificación será el menor precio ofertado.
A17: 4. VERIFICACIÓN DE REQUISITOS HABILITANTES
A18: 4.1. Tabla de requisitos habilitantes
A19: =D9 -> SOLUCIONES SCM SAS
A20: # | B20: REQUISITO | F20: CUMPLE | G20: NO CUMPLE | H20: OBSERVACIONES
A21: 1 | B21: Anexo 1 - Pacto de Transparencia | F21: x
A22: 2 | B22: Formato 1 - Carta de Presentación de la Oferta | F22: x
A23: 3 | B23: Formato 2 - Conformación de Proponente Plural | F23: x | H23: NO APLICA
A24: 4 | B24: Formato 3- Experiencia | F24: x | H24: Requisito Subsanado
A25: 5 | B25: Formato 4 - Pago de Seguridad Social y Aportes Legales | F25: x
A26: 6 | B26: Formulario 1- Propuesta Económica | F26: x
A27: 7 | B27: Certificado de existencia y representación legal | F27: x
A28: 8 | B28: Registro Único Tributario - RUT | F28: x
A29: 9 | B29: Cédula de ciudadanía (Representante legal) | F29: x
A30: 10 | B30: Declaración de bienes y rentas en formato de la función pública (Solo personas naturales) | F30: x | H30: NO APLICA
A31: 11 | B31: Antecedentes Disciplinarios (Procuraduría) | F31: x
A32: 12 | B32: Antecedentes Fiscales (Contraloría) | F32: x
A33: 13 | B33: Antecedentes Penales y requerimientos Judiciales (Policía) | F33: x
A34: 14 | B34: Antecedentes de Medidas Correctivas | F34: x
A35: 15 | B35: Antecedentes Delitos Sexuales contra menores | F35: x
A36: 16 | B36: Certificado de Inhabilidades e Incompatibilidades | F36: x
A37: 17 | B37: Certificado de multas y sanciones | F37: x
A38: 18 | B38: Compromiso Anticorrupción | F38: x | H38: Requisito Subsanado
A39: 20 | B39: A. El oferente deberá acreditar la experiencia mínima requerida de ejecución de un contrato cuyo valor individual sea igual o superior a DOS VECES EL VALOR DEL PRESPUESTO OFICIAL expresado en salarios mínimos legales mensuales vigentes, cuyo objeto esté relacionado con el presente objeto a contratar. B. Estar relacionados en el Formato 3 – Experiencia de UN (01) contrato. Los proponentes plurales deben indicar qué integrante aporta cada uno de los contratos señalados en el Formato 3 - Experiencia. Este documento debe presentarlo el proponente plural y no cada integrante. C. El proponente deberá acreditar la experiencia específica del proponente a través de un (01) certificado de cumplimiento de contratos ejecutados y terminados a satisfacción y/o acta de terminación y/o liquidación, cuyo objeto esté relacionado con el presente objeto a contratar. Dichos contratos serán evaluados teniendo en cuenta el contenido establecido en la Matriz 1 – Experiencia. D. Deben haber terminado antes de la fecha de cierre del presente proceso de contratación. | F39: x | H39: Requisito Subsanado
A40: RECOMENDACIONES
A41: Teniendo en cuenta la verificación de requisitos habilitantes realizada a las propuestas presentadas por todos los proponentes, el evaluador del proceso manifiesta lo siguiente:
...

Sheet AI
B2: INVITACIÓN PÚBLICA | G2: ='Cuadro Alimentacion'!C6 -> CONVAS-SD-005-2025 BIOFABRICAS
B3: PROCESO DE MÍNIMA CUANTÍA INFERIOR AL 10% DE LA MENOR CUANTÍA, ARTÍCULO 94 DE LA LEY 1474 DE 2011 Y DECRETO 1082 DE 2015
B4: Mediante la suscripción de la presente acta las partes firmantes asumen plena responsabilidad por la veracidad de la información acá contenida.
B5: INFORMACIÓN GENERAL DEL CONTRATO
B6: FECHA CELEBRACIÒN | E6: TIPO DE CONTRATO | G6: CÓDIGO CONTRATO | I6: CDP
B7: 45782 | E7: ='Cuadro Alimentacion'!C5 -> CONVENIO DE ASOCIACIÓN | G7: ='Cuadro Alimentacion'!C7 -> CONVAS-SD-005-2025 BIOFABRICAS | I7: ='Cuadro Alimentacion'!C8 -> 439
B8: OBJETO
B9: ='Cuadro Alimentacion'!C15 -> CONVENIO DE ASOCIACIÓN PARA LA EJECUCIÓN DE LA LÍNEA DE PROYECTOS PRODUCTIVOS, EN EL MARCO DEL CONVENIO NRO. CT-2024-001336, SUSCRITO ENTRE EL MUNICIPIO DE YARUMAL Y EPM, CUYO OBJETO ES: AUNAR ESFUERZOS PARA IMPLEMENTACIÓN DE LA ESTRATEGIA “ALIANZAS PARA EL DESARROLLO”
B10: CONTRATISTA | H10: NIT
B11: SOLUCIONES SCM SAS | H11: 901323736-7
B12: REPRESENTANTE LEGAL | H12: CÉDULA
B13: SANDRA PATRICIA ORJUELA POTE | H13: 40.038.602
B14: SUPERVISOR | G14: CARGO
B15: ='Cuadro Alimentacion'!C18 -> GABRIEL JAIME RESTREPO OSORIO | G15: ='Cuadro Alimentacion'!C19 -> Secretario de Desarrollo Rural y Medio Ambiente
B16: CONSIDERANDO
B17: ="Que el MUNICIPIO DE YARUMAL – ANTIOQUIA y "&B11&", identificado con NIT "&H11&", han celebrado el "&E7&" "&G7&", el cual se encuentra debidamente legalizado y perfeccionado." -> Que el MUNICIPIO DE YARUMAL – ANTIOQUIA y SOLUCIONES SCM SAS, identificado con NIT 901323736-7, han celebrado el CONVENIO DE ASOCIACIÓN CONVAS-SD-005-2025 BIOFABRICAS, el cual se encuentra debidamente legalizado y perfeccionado.
B18: ACUERDAN
B19: ="Establecer como plazo de ejecuciòn, fecha de inicio y fecha de terminación del cumplimiento de actividades contractuales del "&'Cuadro Alimentacion'!H5&" "&'Cuadro Alimentacion'!C7&" las siguientes:" -> Establecer como plazo de ejecuciòn, fecha de inicio y fecha de terminación del cumplimiento de actividades contractuales del Convenio De Asociación CONVAS-SD-005-2025 BIOFABRICAS las siguientes:
B20: PLAZO DE EJECUCIÒN | F20: FECHA DE INICIO | H20: FECHA DE TERMINACIÓN
B21: ='Cuadro Alimentacion'!C14 -> DOS (02) MESES Y VEINTE (20) DÍAS | F21: 45782 | H21: 45873
B22: Para constancia de lo anterior, firman la presente acta los que en ella intervinieron:
B26: =E32 -> GABRIEL JAIME RESTREPO OSORIO | G26: =B13 -> SANDRA PATRICIA ORJUELA POTE
B27: Ordendor del gasto delegado | G27: Contratista
G28: =+B11 -> SOLUCIONES SCM SAS
E32: ='Cuadro Alimentacion'!C18 -> GABRIEL JAIME RESTREPO OSORIO
E33: ='Cuadro Alimentacion'!H19 -> Secretario De Desarrollo Rural Y Medio Ambiente
B36: ="Proyectó: "&'Cuadro Alimentacion'!C27&"." -> Proyectó: Daniel Steven González. | F36: ="Revisó: "&'Cuadro Alimentacion'!AB18&"." -> Revisó: Gabriel Jaime Restrepo Osorio. | H36: ="Aprobó: "&'Cuadro Alimentacion'!C29&"." -> Aprobó: Carolina Sossa Mesa.
B37: ="Cargo: "&'Cuadro Alimentacion'!C28&"." -> Cargo: Contratista - Apoyo Contratación. | F37: ="Cargo: "&'Cuadro Alimentacion'!AB19&"." -> Cargo: Secretario De Desarrollo Rural Y Medio Ambiente. | H37: ="Cargo: "&'Cuadro Alimentacion'!C30&"." -> Cargo: Contratista - Asesor Contratación.
B38: Quienes firman manifiestan haber constatado la legalidad del documento y la fidelidad de la información que en el se plasma y, consecuente con ello, dan traslado para firma del documento por parte de las partes involucradas.

Sheet CDS
A1: Yarumal, | C1: 45782
A2: Respetado Secretario
A3: ='Cuadro Alimentacion'!C18 -> GABRIEL JAIME RESTREPO OSORIO
A4: ='Cuadro Alimentacion'!H19 -> Secretario De Desarrollo Rural Y Medio Ambiente
A6: ="Asunto: Designación como supervisor contrato N° "&'Cuadro Alimentacion'!C7&"." -> Asunto: Designación como supervisor contrato N° CONVAS-SD-005-2025 BIOFABRICAS.
A8: ="De manera muy respetuosa me permito comunicarle que, de acuerdo a las condiciones de idoneidad, experiencia y perfil requerido y ostentado por usted, ha sido designado como supervisor del Contrato de Mínima Cuantía "&'Cuadro Alimentacion'!C7&"." -> De manera muy respetuosa me permito comunicarle que, de acuerdo a las condiciones de idoneidad, experiencia y perfil requerido y ostentado por usted, ha sido designado como supervisor del Contrato de Mínima Cuantía CONVAS-SD-005-2025 BIOFABRICAS.
A9: ="Dicho contrato fue celebrado entre el MUNICIPIO DE YARUMAL – ANTIOQUIA y "&AI!B11&", identificada con NIT "&AI!H11&" y cuyo objeto es: "&'Cuadro Alimentacion'!C15&"." -> Dicho contrato fue celebrado entre el MUNICIPIO DE YARUMAL – ANTIOQUIA y SOLUCIONES SCM SAS, identificada con NIT 901323736-7 y cuyo objeto es: CONVENIO DE ASOCIACIÓN PARA LA EJECUCIÓN DE LA LÍNEA DE PROYECTOS PRODUCTIVOS, EN EL MARCO DEL CONVENIO NRO. CT-2024-001336, SUSCRITO ENTRE EL MUNICIPIO DE YARUMAL Y EPM, CUYO OBJETO ES: AUNAR ESFUERZOS PARA IMPLEMENTACIÓN DE LA ESTRATEGIA “ALIANZAS PARA EL DESARROLLO” .
A10: ="El contrato en mención tiene un valor total de "&'Cuadro Alimentacion'!C12&" y un plazo de ejecución de "&'Cuadro Alimentacion'!C14&"." -> El contrato en mención tiene un valor total de y un plazo de ejecución de DOS (02) MESES Y VEINTE (20) DÍAS.
A11: Así mismo, me permito recordar las funciones que como supervisor le corresponden:
A12: FUNCIONES
A13: 1 | B13: Exigir al contratista la ejecución idónea y oportuna del objeto contractual.
A14: 2 | B14: Verificar que el contratista haya cumplido en su totalidad con los requisitos de perfeccionamiento y legalización, antes de la iniciación del contrato.
A15: 3 | B15: Buscar el cumplimiento de los fines del presente contrato y de los resultados esperados con la celebración del mismo.
A16: 4 | B16: Exigir al contratista junto con el informe de actividades, los soportes de pago correspondientes a los aportes a los sistemas de pensión, salud y ARL, de acuerdo con lo estipulado por las normas vigentes.
A17: 5 | B17: Elaborar y suscribir las actas de iniciación, actas parciales de avance, recibo a satisfacción y liquidación del contrato y aprobar los informes de actividades presentado por el contratista.
A18: 6 | B18: Vigilar el cumplimiento de los plazos, la vigencia del contrato y de los riegos amparados en la garantía única, en caso de constitución de la misma.
A19: 7 | B19: Estudiar las sugerencias, reclamaciones y consultas del contratista, sobre los aspectos relacionados con la ejecución del contrato, resolver las que sean de su competencia y dar traslado de las que no al funcionario competente.
A20: 8 | B20: Proteger los derechos del Municipio de Yarumal, del contratista y de los terceros que puedan verse afectados por la ejecución del mismo.
A21: 9 | B21: Remitir oportunamente a la oficina de Contratación y a la Secretaría de Hacienda, las actas e informes necesarios a satisfacción, junto con los soportes correspondientes, para efectos del pago respectivo y proceso de creación del expediente.
A22: 10 | B22: Informar oportunamente a la Oficina de Contratación y/o a las personas interesadas, sobre las irregularidades o incumplimientos del contratista en la ejecución del contrato.
A23: 11 | B23: Cumplir con las funciones señaladas en el inciso segundo del Artículo 83 de la Ley 1474 de 2011, rendir los informes de que trata el Artículo 72 de la Ley 1757 de 2015 y, en general, cumplir con todas las demás normas concordantes a la materia.
A25: Finalmente, se le recuerda que todas las órdenes o instrucciones que usted realice en su función de supervisor deben hacerse de forma escrita.
A27: ANA LUCÍA PÉREZ MEDINA
A28: Directora Departamento Administrativo General y de Gobierno
A30: ="Proyectó: "&'Cuadro Alimentacion'!C27&"." -> Proyectó: Daniel Steven González. | E30: ="Revisó: "&'Cuadro Alimentacion'!AB18&"." -> Revisó: Gabriel Jaime Restrepo Osorio. | G30: ="Aprobó: "&'Cuadro Alimentacion'!C29&"." -> Aprobó: Carolina Sossa Mesa.
A31: ="Cargo: "&'Cuadro Alimentacion'!C28&"." -> Cargo: Contratista - Apoyo Contratación. | E31: ="Cargo: "&'Cuadro Alimentacion'!AB19&"." -> Cargo: Secretario De Desarrollo Rural Y Medio Ambiente. | G31: ="Cargo: "&'Cuadro Alimentacion'!C30&"." -> Cargo: Contratista - Asesor Contratación.
A32: Quienes firman manifiestan haber constatado la legalidad del documento y la fidelidad de la información que en el se plasma y, consecuente con ello, dan traslado para firma del documento por parte de las partes involucradas.

Sheet DNP
A1: =CDS!$A$1 -> Yarumal, | C1: 05/05/2025
A2: =CDS!A2 -> Respetado Secretario
A3: ='Cuadro Alimentacion'!C18 -> GABRIEL JAIME RESTREPO OSORIO
A4: ='Cuadro Alimentacion'!H19 -> Secretario De Desarrollo Rural Y Medio Ambiente
A6: Asunto: DILIGENCIA DE NOTIFICACIÓN PERSONAL
A7: ="Mediante mi firma en el presente documento, yo, "&A3&", identificado con C.C. "&'Cuadro Alimentacion'!C20&", me doy por notificado en la fecha de mi designación como Supervisor del "&'Cuadro Alimentacion'!H5&" "&'Cuadro Alimentacion'!C7&"." -> Mediante mi firma en el presente documento, yo, GABRIEL JAIME RESTREPO OSORIO, identificado con C.C. 1.037.630.032, me doy por notificado en la fecha de mi designación como Supervisor del Convenio De Asociación CONVAS-SD-005-2025 BIOFABRICAS.
A8: En desarrollo de esta actividad cumpliré con las funciones señaladas en el inciso segundo del Artículo 83 de la Ley 1474 de 2011, rendiré los informes de que trata el Artículo 72 de la Ley 1757 de 2015 y en general cumpliré con todas las demás normas concordantes a la materia.
A9: Contra el presente acto administrativo no procede recurso alguno. Una vez notificado, se entrega copia íntegra, autentica y gratuita del oficio que se notifica.
A10: ="Se notifica el contenido en Yarumal - Antioquia, el día "&C1&"" -> Se notifica el contenido en Yarumal - Antioquia, el día 05/05/2025
A13: ANA LUCÍA PÉREZ MEDINA | F13: ='Cuadro Alimentacion'!C18 -> GABRIEL JAIME RESTREPO OSORIO
A14: Directora Departamento Administrativo General y de Gobierno | F14: ='Cuadro Alimentacion'!H19 -> Secretario De Desarrollo Rural Y Medio Ambiente
A15: QUIEN NOTIFICA | F15: ="Supervisor "&'Cuadro Alimentacion'!H5&" "&'Cuadro Alimentacion'!C7&"." -> Supervisor Convenio De Asociación CONVAS-SD-005-2025 BIOFABRICAS.
F16: NOTIFICADO
A18: ="Proyectó: "&'Cuadro Alimentacion'!C27&"." -> Proyectó: Daniel Steven González. | E18: ="Revisó: "&'Cuadro Alimentacion'!AB18&"." -> Revisó: Gabriel Jaime Restrepo Osorio. | G18: ="Aprobó: "&'Cuadro Alimentacion'!C29&"." -> Aprobó: Carolina Sossa Mesa.
A19: ="Cargo: "&'Cuadro Alimentacion'!C28&"." -> Cargo: Contratista - Apoyo Contratación. | E19: ="Cargo: "&'Cuadro Alimentacion'!AB19&"." -> Cargo: Secretario De Desarrollo Rural Y Medio Ambiente. | G19: ="Cargo: "&'Cuadro Alimentacion'!C30&"." -> Cargo: Contratista - Asesor Contratación.
A20: Quienes firman manifiestan haber constatado la legalidad del documento y la fidelidad de la información que en el se plasma y, consecuente con ello, dan traslado para firma del documento por parte de las partes involucradas.
